{"text_format":"1","workbook":"xlsx","n_sheets":22,"sheets":["a_Contents","b_Guidelines and conditions","A_MPversions","B_Operator&Inst.ID","C_InstallationDescription","D_CalculationBasedApproaches","E_SourceStreams","F_MeasurementBasedApproaches","G_Fall-backApproach","H_N2O","I_PFC","J_Transferred GHG","J2_PermCCU","K_ManagementControl","L_MS specific content","M_Accounting","UBA_Parameters","MSParameters","EUwideConstants","Translations","VersionDocumentation","empty"],"not_rendered":{"charts":0,"images":0,"macros":1,"external_links":0,"defined_names":207,"comments":2,"pivot_tables":0},"unopened":[],"bounds":{"document_bytes":16777216,"sheet_cells":100000,"rows_first":2000,"rows_last":500,"rows_between":2000,"halvings":0,"cell_chars":16384,"cell_head_chars":4096},"cells_cut":0,"cells_raw":0,"read":"whole","date_system":"1900"}

{"sheet":"a_Contents","index":0,"n_rows":73,"n_cols":6,"rows_kept":73,"cut":false,"hidden":false,"merged":[[48,1,48,8],[6,1,6,8],[7,1,7,8],[72,1,72,4],[56,1,57,8],[64,1,64,3],[69,1,69,4],[70,1,70,4],[71,1,71,4],[63,1,63,3],[8,1,8,8],[47,2,47,8],[34,2,34,8],[40,2,40,8],[41,2,41,8],[42,2,42,8],[9,2,9,8],[11,2,11,8],[12,2,12,8],[13,2,13,8],[10,1,10,8],[22,2,22,8],[26,2,26,8],[28,2,28,8],[30,2,30,8],[23,2,23,8],[24,2,24,8],[25,1,25,8],[27,1,27,8],[29,1,29,8],[14,1,14,8],[17,1,17,8],[19,1,19,8],[21,1,21,8],[15,2,15,8],[16,2,16,8],[18,2,18,8],[20,2,20,8],[46,1,46,8],[44,2,44,8],[45,2,45,8],[31,2,31,8],[32,2,32,8],[35,2,35,8],[36,2,36,8],[43,2,43,8],[37,1,37,8],[38,2,38,8],[33,1,33,8],[39,1,39,8]]}
[null,{"$f":"Translations!$B$2","v":"PLAN DE SURVEILLANCE DES ÉMISSIONS ANNUELLES"}]
[]
[null,{"$f":"Translations!$B$3","v":"SOMMAIRE"}]
[]
[null,{"$f":"Translations!$B$4","v":"Les noms des feuilles sont indiqués en caractères gras et les noms des rubriques en caractères normaux"}]
[]
[null,{"$f":"Translations!$B$5","v":"a_Sommaire"}]
[null,{"$f":"Translations!$B$6","v":"b­_Lignes directrices et conditions"}]
[null,{"$f":"Translations!$B$7","v":"A. Monitoring Plan versions (Versions du plan de surveillance)"}]
[null,1,{"$f":"Translations!$B$8","v":"Liste des versions du plan de surveillance"}]
[null,{"$f":"Translations!$B$9","v":"B. Operator & Installation Identification (Identification de l’exploitant et de l’installation)"}]
[null,2,{"$f":"Translations!$B$10","v":"Exploitant:"}]
[null,3,{"$f":"Translations!$B$11","v":"Installation"}]
[null,4,{"$f":"Translations!$B$12","v":"Coordonnées "}]
[null,{"$f":"Translations!$B$13","v":"C. Installation Description (Description de l’installation)"}]
[null,5,{"$f":"Translations!$B$14","v":"Activités menées dans l’installation"}]
[null,6,{"$f":"Translations!$B$15","v":"Émissions"}]
[null,{"$f":"Translations!$B$16","v":"D. Calculation Based Approaches (Méthodes fondées sur le calcul)"}]
[null,7,{"$f":"Translations!$B$17","v":"Calcul: Informations nécessaires pour les données à saisir dans la feuille suivante"}]
[null,{"$f":"Translations!$B$18","v":"E. SourceStreams (Flux)"}]
[null,8,{"$f":"Translations!$B$19","v":"Niveaux appliqués pour les données d’activité et les facteurs de calcul"}]
[null,{"$f":"Translations!$B$20","v":"F. Measurement Based Approaches (Méthodes fondées sur la mesure)"}]
[null,9,{"$f":"Translations!$B$21","v":"Mesure des émissions de CO2 et de N2O "}]
[null,10,{"$f":"Translations!$B$22","v":"Points de mesure"}]
[null,11,{"$f":"Translations!$B$23","v":"Organisation et procédures relatives aux méthodes fondées sur la mesure"}]
[null,{"$f":"Translations!$B$24","v":"G. Fall-back Approaches (Méthodes alternatives)"}]
[null,12,{"$f":"Translations!$B$25","v":"Description de la méthode alternative"}]
[null,{"$f":"Translations!$B$26","v":"H. N2O emissions (Émissions de N2O)"}]
[null,13,{"$f":"Translations!$B$27","v":"Organisation et procédures de surveillance des émissions de N2O"}]
[null,{"$f":"Translations!$B$28","v":"I. Determination of PFC emissions from production of primary aluminium (Détermination des émissions de PFC dues à la production d’aluminium primaire)"}]
[null,14,{"$f":"Translations!$B$29","v":"Détermination des émissions de PFC"}]
[null,15,{"$f":"Translations!$B$30","v":"Informations concernant la surveillance des flux d’émissions de PFC"}]
[null,16,{"$f":"Translations!$B$31","v":"Gestion et procédures écrites applicables à la surveillance des PFC"}]
[null,{"$f":"Translations!$B$32","v":"J. Determination of transferred or inherent CO2 (Détermination du CO2 intrinsèque ou du CO2 transféré)"}]
[null,17,{"$f":"Translations!$B$33","v":"Détermination du CO2 intrinsèque et du CO2 transféré"}]
[null,18,{"$f":"Translations!$B$34","v":"Informations concernant les pipelines utilisés pour le transport du CO2"}]
[null,19,{"$f":"Translations!$B$35","v":"Informations concernant les installations de stockage géologique du CO2"}]
[null,{"$f":"J2_PermCCU!C6","v":"J2. CO2 lié chimiquement de manière permanente à un produit"}]
[null,"19a",{"$f":"J2_PermCCU!D10","v":"Détermination des quantités de CO2 liées chimiquement de manière permanente à un produit"}]
[null,{"$f":"Translations!$B$36","v":"K. Management & Control (Gestion et contrôle)"}]
[null,20,{"$f":"Translations!$B$37","v":"Gestion "}]
[null,21,{"$f":"Translations!$B$38","v":"Activités de gestion du flux de données"}]
[null,22,{"$f":"Translations!$B$39","v":"Activités de contrôle"}]
[null,23,{"$f":"Translations!$B$40","v":"Liste des définitions et des abréviations employées"}]
[null,24,{"$f":"Translations!$B$41","v":"Informations supplémentaires"}]
[null,25,{"$f":"Translations!$B$1152","v":"Autres procédures"}]
[null,{"$f":"Translations!$B$43","v":"L. Member State specific further information (Informations complémentaires propres à l’État membre)"}]
[null,26,{"$f":"Translations!$B$44","v":"Remarques"}]
[null,{"$f":"Translations!$B$1153","v":"M. Accounting (Comptabilité)"}]
[]
[null,{"$f":"Translations!$B$45","v":"Informations concernant le présent fichier:"}]
[null,{"$f":"Translations!$B$46","v":"Plan de surveillance présenté par:"},null,null,null,{"$f":"IF(ISBLANK('B_Operator&Inst.ID'!I16),\"\",'B_Operator&Inst.ID'!I16)","v":""}]
[null,{"$f":"Translations!$B$47","v":"Dénomination de l'installation:"},null,null,null,{"$f":"IF(ISBLANK('B_Operator&Inst.ID'!I22),\"\",'B_Operator&Inst.ID'!I22)","v":""}]
[null,{"$f":"Translations!$B$48","v":"Identificateur unique de l'installation:"},null,null,null,{"$f":"IF(ISBLANK('B_Operator&Inst.ID'!I24),\"\",'B_Operator&Inst.ID'!I24)","v":""}]
[null,{"$f":"Translations!$B$49","v":"Numéro de version du plan de surveillance:"},null,null,null,{"$f":"IF(COUNTA(A_MPversions!E23:E48)=0,\"\",MAX(A_MPversions!E23:E48,1))","v":""}]
[]
[null,{"$f":"Translations!$B$50","v":"Si votre autorité compétente exige que vous remettiez un exemplaire papier signé du plan de surveillance, veuillez signer dans l'espace ci-dessous:"}]
[]
[]
[]
[]
[]
[]
[]
[null,{"$f":"Translations!$B$51","v":"Date"},null,null,null,{"$f":"Translations!$B$52","v":"Nom et signature du \nresponsable légal"}]
[]
[]
[]
[null,{"$f":"Translations!$B$53","v":"Informations relatives à la version du modèle:"}]
[null,{"$f":"Translations!$B$54","v":"Modèle fourni par:"},null,null,null,{"$f":"VersionDocumentation!B4","v":"European Commission"}]
[null,{"$f":"Translations!$B$55","v":"Date de publication:"},null,null,null,{"$f":"VersionDocumentation!B3","v":"2024-12-17"}]
[null,{"$f":"Translations!$B$56","v":"Version linguistique:"},null,null,null,{"$f":"VersionDocumentation!B5","v":"English"}]
[null,{"$f":"Translations!$B$57","v":"Nom du fichier de référence:"},null,null,null,{"$f":"VersionDocumentation!C3","v":"MP P4 Inst_COM_en_171224.xls"}]

{"sheet":"b_Guidelines and conditions","index":1,"n_rows":118,"n_cols":9,"rows_kept":118,"cut":false,"hidden":false,"merged":[[2,6,2,7],[22,1,22,11],[2,2,2,3],[4,1,4,9],[5,1,5,11],[7,1,7,11],[12,1,12,11],[6,1,6,11],[11,1,11,11],[8,1,8,11],[14,1,14,11],[18,1,18,11],[19,1,19,11],[15,1,15,11],[16,1,16,11],[20,1,20,11],[21,1,21,11],[117,3,117,9],[0,8,0,9],[0,10,0,11],[1,2,1,3],[1,4,1,5],[1,6,1,7],[1,8,1,9],[0,4,0,5],[0,6,0,7],[17,1,17,11],[1,10,1,11],[0,2,0,3],[23,1,23,11],[0,0,2,1],[2,8,2,9],[2,10,2,11],[2,4,2,5],[10,1,10,11],[13,1,13,11],[30,2,30,11],[31,2,31,11],[34,1,34,11],[26,1,26,11],[29,1,29,11],[25,1,25,11],[37,4,44,7],[46,1,46,11],[32,2,32,11],[33,2,33,11],[47,1,47,11],[35,1,35,11],[27,1,27,11],[60,1,60,11],[62,1,62,11],[63,1,63,11],[65,1,65,11],[70,2,70,3],[71,4,71,11],[73,2,73,3],[48,1,48,11],[49,1,49,11],[59,1,59,11],[66,1,66,11],[50,1,50,11],[52,1,52,11],[54,3,54,8],[57,3,57,8],[69,1,69,11],[72,2,72,3],[72,4,72,11],[75,2,75,3],[75,4,75,11],[81,1,81,11],[76,4,76,11],[79,1,79,11],[67,1,67,11],[68,1,68,11],[70,4,70,11],[71,2,71,3],[74,4,74,11],[80,1,80,11],[76,2,76,3],[73,4,73,11],[74,2,74,3],[96,1,96,11],[95,1,95,11],[93,1,93,11],[105,1,105,11],[87,1,87,11],[77,2,77,3],[77,4,77,11],[94,1,94,11],[86,1,86,11],[84,1,84,11],[82,1,82,11],[83,1,83,10],[88,1,88,11],[89,1,89,11],[92,1,92,11],[104,1,104,11],[100,1,100,11],[101,1,101,11],[98,1,98,11],[99,1,99,11],[102,1,102,11],[103,1,103,11],[97,1,97,11],[114,1,114,11],[106,1,106,11],[107,1,107,11],[108,1,108,11],[109,1,109,11],[110,1,110,11],[111,1,111,11],[112,1,112,11],[113,1,113,11]]}
[{"$f":"Translations!$B$58","v":"b.\nGuide-lines"},null,{"$f":"Translations!$B$59","v":"Zone de navigation:"},null,{"$f":"Translations!$B$60","v":"Sommaire"},null,{"$f":"Translations!$B$61","v":"Feuille précédente"},null,{"$f":"Translations!$B$62","v":"Feuille suivante"}]
[null,null,{"$f":"Translations!$B$63","v":"Début de feuille"}]
[null,null,{"$f":"Translations!$B$64","v":"Fin de feuille"}]
[]
[null,{"$f":"Translations!$B$65","v":"GUIDELINES AND CONDITIONS (LIGNES DIRECTRICES ET CONDITIONS)"}]
[]
[1,{"$f":"Translations!$B$66","v":"En vertu de la directive 2003/87/CE (ci-après «la directive SEQE UE»), les exploitants des installations faisant partie du système d’échange de quotas d’émission de gaz à effet de serre de l’Union européenne (SEQE de l’UE) sont tenus de détenir une autorisation d’émettre des gaz à effet de serre en cours de validité, délivrée par l’autorité compétente, de surveiller et de déclarer leurs émissions et de faire contrôler ces déclarations par un vérificateur indépendant accrédité. "}]
[null,{"$f":"Translations!$B$67","v":"Cette directive peut être téléchargée à partir de l'adresse suivante:"}]
[null,"https://eur-lex.europa.eu/eli/dir/2003/87/2024-03-01"]
[]
[2,{"$f":"Translations!$B$1155","v":"Le règlement relatif à la surveillance et à la déclaration [Règlement (UE) nº 2018/2066 de la Commission, tel que modifié, ci-après «MRR» (Monitoring and Reporting Regulation)] définit d’autres exigences applicables à la surveillance et à la déclaration. Le MRR peut être téléchargé à partir de l’adresse suivante:"}]
[null,"https://eur-lex.europa.eu/eli/reg_impl/2018/2066/2024-07-01"]
[null,{"$f":"Translations!$B$71","v":"L’article 12 du MRR définit des exigences spécifiques concernant le contenu et la soumission du plan de surveillance et de ses mises à jour. L’article 12 insiste sur l'importance du plan de surveillance:"}]
[null,{"$f":"Translations!$B$72","v":"Le plan de surveillance décrit de façon détaillée, exhaustive et transparente la méthode de surveillance appliquée par une installation spécifique ou par un exploitant d'aéronef donné, et contient au moins les éléments indiqués à l'annexe I."}]
[null,{"$f":"Translations!$B$73","v":"Par ailleurs, l’article 74, paragraphe 1, énonce ce qui suit:"}]
[null,{"$f":"Translations!$B$74","v":"Les États membres peuvent exiger que les exploitants ou les exploitants d'aéronefs utilisent des modèles électroniques ou des formats de fichiers spécifiques pour soumettre leurs plans de surveillance et les corrections apportées à ces plans, ainsi que pour remettre leurs déclarations annuelles d'émissions et de données relatives aux tonnes-kilomètres, leurs rapports de vérification et leurs rapports relatifs aux améliorations apportées. \nCes modèles ou spécifications de formats de fichiers établis par les États membres contiennent au minimum les informations contenues dans les modèles électroniques et les spécifications de formats de fichiers publiés par la Commission."}]
[3,{"$f":"Translations!$B$75","v":"Le présent fichier constitue ledit modèle, élaboré par les services de la Commission, pour la soumission des plans de surveillance des installations, et il contient les exigences définies à l’annexe I ainsi que les autres données requises pour aider l'exploitant à prouver qu’il respecte le MRR.  Dans certaines conditions définies ci-après, les autorités compétentes des États membres peuvent y apporter de légères modifications. "}]
[null,{"$f":"Translations!$B$1147","v":"Le présent modèle de plan de surveillance reflète le point de vue des services de la Commission au moment de sa publication. "}]
[null,{"$f":"Translations!$B$1335","v":"Il s'agit de la version mise à jour du modèle de plan de surveillance des installations, en date du 17 décembre 2024."}]
[]
[4,{"$f":"Translations!$B$76","v":"En outre, le MRR (article 13) autorise les États membres à établir des plans de surveillance normalisés et simplifiés pour les installations «simples». "}]
[null,{"$f":"Translations!$B$1336","v":"Les États membres peuvent autoriser les exploitants et les exploitants d'aéronefs à utiliser des plans de surveillance standardisés ou simplifiés, sans préjudice de l'article 12, paragraphe 3. À cette fin, les États membres peuvent publier des modèles pour ces plans de surveillance, y compris la description des procédures de flux de données et de contrôle visées aux articles 58 et 59, sur la base des modèles et des lignes directrices publiés par la Commission."}]
[null,{"$f":"Translations!$B$78","v":"D’après le document d'orientation n°1 de la Commission («Indications générales pour les installations»), ces modèles normalisés sont obtenus en ajoutant des textes standard au présent modèle, selon qu’il convient. "}]
[null,{"$f":"Translations!$B$79","v":"Si votre installation remplit les critères requis pour l'utilisation d'un plan de surveillance simplifié ou normalisé conformément aux indications figurant dans le document d'orientation n°1, veuillez vous adresser à votre autorité compétente ou consulter son site internet pour savoir si votre État membre propose des modèles simplifiés."}]
[]
[5,{"$f":"Translations!$B$80","v":"Tous les documents d’orientation de la Commission concernant le règlement relatif à la surveillance et à la déclaration peuvent être consultés à l’adresse suivante:"}]
[null,"https://climate.ec.europa.eu/eu-action/eu-emissions-trading-system-eu-ets/monitoring-reporting-and-verification-eu-ets-emissions_en"]
[null,{"$f":"Translations!$B$1159","v":"Il est recommandé de consulter le document «Quick guide for operators of stationary installations» et le document d’orientation «Guidance Document 1» avant de commencer."}]
[]
[6,{"$f":"Translations!$B$82","v":"Avant d'utiliser ce fichier, veuillez respecter les consignes suivantes:"}]
[null,"(a)",{"$f":"Translations!$B$83","v":"Lisez attentivement les instructions ci-après avant de remplir ce formulaire. "}]
[null,"(b)",{"$f":"Translations!$B$84","v":"Déterminez l'autorité compétente (AC) dont vous dépendez dans l’État membre où l’installation est située (il peut y avoir plusieurs autorités compétentes par État membre). Veuillez noter que «État membre» désigne ici tous les États qui participent au SEQE de l’UE et pas uniquement les États membres de l’UE."}]
[null,"(c)",{"$f":"Translations!$B$85","v":"Consultez la page internet de l’AC ou prenez directement contact avec elle pour vérifier que vous êtes en possession de la bonne version du modèle. La version du modèle (en particulier le nom du fichier de référence) est indiquée clairement sur la page de couverture du présent fichier."}]
[null,"(d)",{"$f":"Translations!$B$86","v":"Certains États membres peuvent vous demander d'utiliser un autre système, par exemple des formulaires en ligne au lieu d’un tableur. Vérifiez auprès de votre État membre. Dans ce cas, l'AC vous fournira de plus amples informations."}]
[]
[7,{"$f":"Translations!$B$87","v":"Le présent plan de surveillance doit être remis à votre autorité compétente, à l'adresse suivante:"}]
[]
[null,null,null,null,{"$f":"Translations!$B$88","v":"Adresse précise à fournir par l'État membre"}]
[]
[]
[]
[]
[]
[]
[]
[]
[8,{"$f":"Translations!$B$89","v":"L'autorité compétente prendra éventuellement contact avec vous pour suggérer des modifications de votre plan de surveillance afin de faire en sorte que la surveillance et la déclaration des émissions annuelles soient précises et vérifiables, conformément aux exigences générales et spécifiques du MRR. Nonobstant les dispositions de l’article 16, paragraphe 1, du MRR, lorsque l'autorité compétente aura notifié son approbation, vous devrez appliquer la méthode indiquée dans la dernière version approuvée du plan de surveillance pour déterminer les émissions annuelles et pour mettre en œuvre vos activités d'acquisition et de traitement de données et vos activités de contrôle.  Cette version servira également de référence pour la vérification de votre déclaration d'émissions annuelle."}]
[9,{"$f":"Translations!$B$90","v":"Vous devez notifier toute proposition de modification importante du plan de surveillance à l’autorité compétente dans les meilleurs délais. Toute modification importante de la méthode de surveillance est soumise à l’approbation de l’autorité compétente, conformément aux dispositions des articles 14 et 15 du MRR. Lorsque vous pouvez raisonnablement considérer (conformément à l’article 15) que les nécessaires mises à jour du plan de surveillance ne revêtent pas un caractère important, vous pouvez notifier conjointement ces mises à jour à l’autorité compétente une fois par an en respectant les délais précisés dans cet article (sous réserve de l’accord de l’autorité compétente)."}]
[10,{"$f":"Translations!$B$91","v":"Vous devez mettre en œuvre et consigner toutes les modifications du plan de surveillance conformément à l’article 16 du MRR."}]
[11,{"$f":"Translations!$B$92","v":"Adressez-vous à votre autorité compétente si vous avez besoin d'aide pour établir votre plan de surveillance. Certains États membres ont publié des guides qui pourraient vous être utiles."}]
[12,{"$f":"Translations!$B$93","v":"Déclaration de confidentialité - Les informations communiquées dans le cadre de la présente demande peuvent être soumises à certaines exigences concernant l'accès du public à l'information, notamment celles de la directive 2003/4/CE concernant l'accès du public à l'information en matière d'environnement. Si vous estimez que des renseignements que vous fournissez dans le cadre de votre demande doivent être traités comme des informations commerciales confidentielles, veuillez en informer votre autorité compétente. Nous vous rappelons qu'en vertu des dispositions de la directive 2003/4/CE, l'autorité compétente peut être tenue de divulguer des informations même si le demandeur souhaite qu'elles restent confidentielles."}]
[]
[13,{"$f":"Translations!$B$94","v":"Sources d'information:"}]
[null,{"$f":"Translations!$B$95","v":"Sites internet de l'UE:"}]
[null,{"$f":"Translations!$B$96","v":"Législation de l'UE:"},null,{"$f":"Translations!$B$97","v":"http://eur-lex.europa.eu/fr/index.htm "}]
[null,{"$f":"Translations!$B$98","v":"Généralités sur le SEQE de l'UE:"},null,{"$f":"Translations!$B$99","v":"http://ec.europa.eu/clima/policies/ets/index_en.htm"}]
[null,{"$f":"Translations!$B$100","v":"Surveillance et déclaration dans le SEQE de l’UE: "}]
[null,null,null,{"$f":"Translations!$B$81","v":"http://ec.europa.eu/clima/policies/ets/monitoring/index_en.htm"}]
[null,{"$f":"Translations!$B$101","v":"Autres sites internet:"}]
[null,{"$f":"Translations!$B$102","v":"<à fournir par l’État membre>"}]
[]
[null,{"$f":"Translations!$B$103","v":"Service d'assistance:"}]
[null,{"$f":"Translations!$B$104","v":"<à fournir par l’État membre, le cas échéant>"}]
[]
[]
[14,{"$f":"Translations!$B$105","v":"Comment utiliser ce fichier:"}]
[null,{"$f":"Translations!$B$106","v":"Le présent modèle a été élaboré pour contenir les informations minimales requises dans un plan de surveillance conformément au MRR.  Les exploitants sont donc invités à se reporter au MRR et aux exigences supplémentaires des États membres (le cas échéant) pour remplir le formulaire."}]
[null,{"$f":"Translations!$B$107","v":"Il est recommandé de progresser dans le fichier en commençant par le début. Vous serez guidé tout au long du formulaire par certaines fonctions qui dépendent de l'information saisie précédemment, telles que le changement de couleur des cellules lorsqu'une entrée n'est pas nécessaire (voir codes de couleur ci-après)."}]
[null,{"$f":"Translations!$B$108","v":"Dans plusieurs champs, vous pouvez choisir parmi des entrées prédéfinies. Pour effectuer votre choix à partir d'une telle «liste déroulante, cliquez avec la souris sur la petite flèche apparaissant sur le côté droit de la cellule ou appuyez simultanément sur les touches «Alt+Flèche vers le bas» après avoir sélectionné la cellule. Certains champs vous permettent de saisir votre propre texte, même s'il existe une liste déroulante. C'est le cas lorsque la liste déroulante contient des entrées vides."}]
[null,{"$f":"Translations!$B$109","v":"Codes de couleur et polices de caractères:"}]
[null,null,{"$f":"Translations!$B$110","v":"Texte noir en caractères gras:"},null,{"$f":"Translations!$B$111","v":"Il s'agit du texte figurant dans le modèle de la Commission. Il ne doit pas être modifié."}]
[null,null,{"$f":"Translations!$B$112","v":"Texte en italique en caractères plus petits:"},null,{"$f":"Translations!$B$113","v":"Ce texte fournit des explications complémentaires. Les États membres peuvent ajouter des explications supplémentaires dans les versions nationales du modèle."}]
[null,null,null,null,{"$f":"Translations!$B$114","v":"Les champs en jaune doivent être obligatoirement remplis. Cependant, si cela n'est pas pertinent pour l'installation, aucune donnée n'est requise."}]
[null,null,null,null,{"$f":"Translations!$B$115","v":"Les champs en jaune clair sont facultatifs."}]
[null,null,null,null,{"$f":"Translations!$B$116","v":"Dans les champs en vert figurent les résultats calculés automatiquement. Le texte en rouge est réservé aux messages d'erreur (données manquantes, etc.)."}]
[null,null,null,null,{"$f":"Translations!$B$117","v":"Un champ hachuré indique qu'il n'y a plus lieu de remplir ce champ en raison de l'information saisie dans un autre champ."}]
[null,null,null,null,{"$f":"Translations!$B$118","v":"Les zones grisées doivent être remplies par les États membres avant la publication de la version adaptée du modèle."}]
[null,null,null,null,{"$f":"Translations!$B$119","v":"Les zones en gris clair sont réservées à la navigation et aux hyperliens."}]
[]
[15,{"$f":"Translations!$B$120","v":"Les panneaux de navigation au début de chaque feuille contiennent des hyperliens permettant d'accéder rapidement aux différentes rubriques du document. La première ligne («Sommaire», «Feuille précédente», «Feuille suivante») et les points «Début de feuille» et «Fin de feuille» sont identiques sur toutes les feuilles. Selon la feuille, le menu comporte plus ou moins d'éléments."}]
[16,{"$f":"Translations!$B$121","v":"Ce modèle a été verrouillé pour empêcher la saisie de données en dehors des champs en jaune. Toutefois, pour des raisons de transparence, aucun mot de passe n'a été établi. Cela permet de voir toutes les formules. Lors de l'utilisation de ce fichier pour l'introduction des données, il est recommandé de maintenir la protection activée. La protection des feuilles ne devrait être désactivée que pour vérifier la validité des formules. Il est recommandé de procéder à cette opération dans un fichier à part."}]
[17,{"$f":"Translations!$B$122","v":"Afin de protéger les formules contre toute modification involontaire aboutissant généralement à des résultats erronés et trompeurs, \nil est extrêmement important de NE PAS UTILISER la fonction COUPER & COLLER.\nSi vous souhaitez déplacer des données, COPIEZ les et COLLEZ les d’abord, puis effacez les données non désirées de l'emplacement initial (erroné)."}]
[18,{"$f":"Translations!$B$123","v":"Les champs de données n'ont pas été optimisés pour certains formats numériques et autres. Cependant, la protection des feuilles a été limitée de manière à vous permettre d'utiliser vos propres formats. Vous pouvez notamment décider du nombre de décimales affichées. En principe, le nombre de décimales est indépendant du degré de précision du calcul. En principe, l'option «Precision as displayed» dans MS Excel devrait être désactivée. Pour de plus amples renseignements, consulter la fonction «Help» de MS Excel à ce sujet."}]
[]
[19,{"$f":"Translations!$B$124","v":"AVERTISSEMENT: Toutes les formules ont été soigneusement élaborées. Néanmoins, la possibilité qu'elles contiennent des erreurs ne peut être totalement exclue.\nComme indiqué précédemment, la transparence totale est assurée aux fins du contrôle de la validité des calculs. Ni les auteurs de ce fichier ni la Commission européenne ne peuvent être tenus pour responsables des éventuels dommages découlant de résultats erronés ou trompeurs obtenus à partir des calculs fournis. \nLa vérification de l'exactitude des données notifiées à l'autorité compétente relève entièrement de la responsabilité de l'utilisateur de ce fichier (c'est-à-dire l'exploitant de l'installation relevant du SEQE de l’UE)."}]
[]
[20,{"$f":"Translations!$B$125","v":"À de nombreuses occasions, le présent modèle vous invite à décrire l’installation, son fonctionnement et les méthodes spécifiques que vous appliquez pour la surveillance.  Des champs sont alors prévus pour la saisie des informations demandées, mais leur taille n’est parfois pas suffisante. "}]
[21,{"$f":"Translations!$B$126","v":" En pareil cas, veuillez joindre les informations (texte, formules, données de référence, diagrammes et schémas) sous la forme de fichiers séparés lors de l’envoi à l’autorité compétente.  Vous êtes alors invités à indiquer la référence de ces fichiers. Dans ce cas, veuillez indiquer le nom de fichier de la pièce jointe. Il est en outre recommandé d’ajouter à la référence la date de la dernière modification du document  et d’inclure un indicateur aisément lisible de cette date directement dans le fichier (imprimable)."}]
[22,{"$f":"Translations!$B$127","v":"L’autorité compétente peut limiter les formats de fichiers acceptables. Veuillez vous assurer que vous n’utilisez que des types de fichiers standard tels que .doc, .xls, .pdf. Pour connaître les autres types de fichiers acceptables, veuillez consulter votre autorité compétente ou son site internet."}]
[23,{"$f":"Translations!$B$128","v":"Le présent fichier contient des macros de certaines fonctions (ajout d’articles sur des listes, et afficher/masquer les exemples). Si les macros sont désactivées sur votre ordinateur, vous pourrez toujours utiliser le modèle, mais sans ces fonctions. \nPour vérifier que ces macros ne contiennent pas de virus, elles ont fait l’objet d’une signature électronique. Veuillez consulter les instructions concernant la vérification de l’authenticité du fichier modèle figurant sur la page internet de la Commission ou de l’autorité compétente."}]
[]
[]
[24,{"$f":"Translations!$B$129","v":"Des indications propres à l’État membre figurent ci-dessous: "}]
[]
[]
[]
[]
[]
[]
[]
[]
[]
[]
[]
[]
[]
[]
[]
[]
[]
[]
[]
[]
[]
[]
[]
[]
[null,null,null,{"$f":"EUconst_MsgNextSheet","v":"<<< Cliquer ici pour passer à la feuille suivante >>> "}]

{"sheet":"A_MPversions","index":2,"n_rows":54,"n_cols":16,"rows_kept":54,"cut":false,"hidden":false,"merged":[[7,3,7,13],[3,4,3,5],[3,8,3,9],[1,4,1,5],[1,6,1,7],[1,12,1,13],[2,12,2,13],[5,2,5,13],[3,10,3,11],[3,12,3,13],[1,8,1,9],[1,10,1,11],[3,6,3,7],[1,1,3,3],[2,6,2,7],[2,8,2,9],[2,4,2,5],[2,10,2,11],[53,5,53,11],[49,6,51,10],[9,4,9,13],[10,4,10,13],[11,4,11,13],[12,4,12,13],[14,4,14,13],[13,4,13,13],[16,9,16,13],[16,6,16,7],[28,6,28,7],[17,6,17,7],[18,6,18,7],[19,6,19,7],[20,6,20,7],[21,6,21,7],[22,6,22,7],[23,6,23,7],[24,6,24,7],[25,6,25,7],[26,6,26,7],[27,6,27,7],[40,6,40,7],[29,6,29,7],[30,6,30,7],[31,6,31,7],[32,6,32,7],[33,6,33,7],[34,6,34,7],[47,6,47,7],[17,9,17,13],[18,9,18,13],[19,9,19,13],[20,9,20,13],[41,6,41,7],[42,6,42,7],[43,6,43,7],[44,6,44,7],[45,6,45,7],[46,6,46,7],[35,6,35,7],[36,6,36,7],[37,6,37,7],[38,6,38,7],[39,6,39,7]]}
["ausblenden",null,null,null,null,null,null,null,null,null,null,null,null,null,null,"ausblenden"]
[null,{"$f":"Translations!$B$130","v":"A.\nMP Versions"},null,null,{"$f":"Translations!$B$59","v":"Zone de navigation:"},null,{"$f":"Translations!$B$60","v":"Sommaire"},null,{"$f":"Translations!$B$61","v":"Feuille précédente"},null,{"$f":"Translations!$B$62","v":"Feuille suivante"}]
[null,null,null,null,{"$f":"Translations!$B$63","v":"Début de feuille"}]
[null,null,null,null,{"$f":"Translations!$B$64","v":"Fin de feuille"}]
[]
[null,null,{"$f":"Translations!$B$7","v":"A. Monitoring Plan versions (Versions du plan de surveillance)"}]
[]
[null,null,1,{"$f":"Translations!$B$8","v":"Liste des versions du plan de surveillance"}]
[]
[null,null,null,null,{"$f":"Translations!$B$1160","v":"Cette feuille sert à déterminer la version du plan de surveillance. Chaque version du plan de surveillance doit disposer d’une date de référence et d’un numéro de version unique, qui ne doit pas correspondre à un numéro déjà attribué pour des plans de phases précédentes."}]
[null,null,null,null,{"$f":"Translations!$B$132","v":"En fonction des exigences de l’État membre, il se peut que l’autorité compétente et l'exploitant échangent différentes mises à jour du document, ou que l’exploitant seul conserve la trace des différentes versions. En tout état de cause, l’exploitant doit conserver dans ses archives un exemplaire de chaque version du plan de surveillance."}]
[null,null,null,null,{"$f":"Translations!$B$133","v":"L’état du plan de surveillance à la date de référence doit être décrit dans la colonne «État». Les types d'états possibles sont «soumis à l’autorité compétente (AC)», «approuvé par l’AC», «projet de travail», etc."}]
[null,null,null,null,{"$f":"Translations!$B$134","v":"Veuillez noter que la surveillance des émissions de votre installation doit toujours être effectuée conformément à la dernière version approuvée du plan de surveillance, sauf dans les cas où une mise à jour du plan de surveillance a déjà été soumise à l’AC et/ou est en cours d’approbation. Conformément à l’article 16, paragraphe 1, la surveillance doit dans ce cas être effectuée en parallèle suivant la dernière version approuvée du plan de surveillance et suivant la dernière version de ce plan soumise pour approbation."}]
[null,null,null,null,{"$f":"Translations!$B$1161","v":"Dans la colonne «date d'application», la date à partir de laquelle la méthode de surveillance décrite dans le plan s’applique, le cas échéant."}]
[null,null,null,null,{"$f":"Translations!$B$135","v":"Pour afficher/masquer les exemples, cliquez sur le bouton «Exemples» dans la zone de navigation."}]
[]
[null,null,null,null,{"$f":"Translations!$B$136","v":"N° de version"},{"$f":"Translations!$B$137","v":"Date de référence"},{"$f":"Translations!$B$138","v":"État à la date de référence"},null,{"$f":"Translations!$B$1162","v":"Date d'application"},{"$f":"Translations!$B$139","v":"Chapitres modifiés \nExplication succincte des modifications"}]
["HIDE_Example",null,null,null,1,"2020-06-30",{"$f":"Translations!$B$140","v":"soumis à l’autorité compétente"},null,"2021-01-01",{"$f":"Translations!$B$141","v":"Nouveau plan de surveillance pour répondre aux exigences du MRR."}]
["HIDE_Example",null,null,null,2,"2020-07-19",{"$f":"Translations!$B$142","v":"retourné avec remarques"},null,null,{"$f":"Translations!$B$143","v":"L’AC a introduit des corrections pour les flux 1 et 2. Il convient d’améliorer les procédures relatives aux flux avant le nouvel envoi."}]
["HIDE_Example",null,null,null,3,"2020-08-07",{"$f":"Translations!$B$140","v":"soumis à l’autorité compétente"},null,"2021-01-01",{"$f":"Translations!$B$144","v":"Plan de surveillance mis à jour conformément aux recommandations de l’AC.  En outre, ajout d’un nouveau flux n°4 (déchets de panneaux de bois, contaminés par environ 5 %  de fraction fossile)."}]
["HIDE_Example",null,null,null,4,"2020-09-07",{"$f":"Translations!$B$145","v":"approuvé par l 'autorité compétente"},null,"2021-01-01",{"$f":"Translations!$B$146","v":"Approuvé sans autre modification. L’exploitant a reçu un exemplaire papier en même temps que l’autorisation mise à jour afin de garantir l’authenticité du contenu du fichier Plan de surveillance renvoyé par voie électronique."}]
["ausblenden"]
[]
[]
[]
[]
[]
[]
[]
[]
[]
[]
[]
[]
[]
[]
[]
[]
[]
[]
[]
[]
[]
[]
[]
[]
[]
["ausblenden"]
["ADD_MPVersion"]
[null,null,null,null,null,null,{"$f":"Translations!$B$147","v":"Cliquez sur « + » pour ajouter d’autres versions du plan de surveillance."}]
[]
[]
[]
[null,null,null,null,null,{"$f":"EUconst_MsgNextSheet","v":"<<< Cliquer ici pour passer à la feuille suivante >>> "}]

{"sheet":"B_Operator&Inst.ID","index":3,"n_rows":65,"n_cols":16,"rows_kept":65,"cut":false,"hidden":false,"merged":[[1,1,3,3],[5,2,5,13],[31,4,31,6],[7,3,7,13],[13,8,13,9],[15,8,15,11],[21,4,21,6],[21,8,21,11],[17,3,17,13],[1,12,1,13],[3,6,3,7],[1,6,1,7],[1,10,1,11],[3,8,3,9],[30,4,30,6],[28,4,28,9],[2,12,2,13],[1,8,1,9],[3,10,3,11],[3,12,3,13],[1,4,1,5],[3,4,3,5],[2,8,2,9],[2,4,2,5],[2,10,2,11],[2,6,2,7],[24,4,24,6],[23,8,23,11],[9,8,9,11],[11,8,11,11],[13,10,13,11],[13,4,13,6],[24,8,24,11],[22,8,22,11],[23,4,23,6],[9,4,9,6],[11,4,11,6],[22,4,22,6],[64,5,64,11],[42,4,42,11],[45,8,45,11],[40,3,40,13],[43,4,43,11],[54,8,54,11],[60,8,60,11],[61,8,61,11],[48,8,48,11],[59,8,59,11],[51,8,51,11],[50,8,50,11],[57,8,57,11],[55,8,55,11],[52,8,52,11],[56,8,56,11],[46,8,46,11],[47,8,47,11],[30,8,30,11],[26,4,26,13],[37,4,37,6],[37,8,37,11],[31,8,31,11],[38,4,38,13],[35,4,35,6],[35,8,35,11],[34,4,34,6],[34,8,34,11],[32,4,32,6],[32,8,32,11],[33,4,33,6],[33,8,33,11]]}
["ausblenden",null,null,null,null,null,null,null,null,null,null,null,null,null,null,"ausblenden"]
[null,{"$f":"Translations!$B$148","v":"B.\nOperatorInst ID "},null,null,{"$f":"Translations!$B$59","v":"Zone de navigation:"},null,{"$f":"Translations!$B$60","v":"Sommaire"},null,{"$f":"Translations!$B$61","v":"Feuille précédente"},null,{"$f":"Translations!$B$62","v":"Feuille suivante"}]
[null,null,null,null,{"$f":"Translations!$B$63","v":"Début de feuille"},null,{"$f":"Translations!$B$149","v":"Exploitant"},null,{"$f":"Translations!$B$150","v":"Installation"},null,{"$f":"Translations!$B$151","v":"Coordonnées"}]
[null,null,null,null,{"$f":"Translations!$B$64","v":"Fin de feuille"}]
[]
[null,null,{"$f":"Translations!$B$9","v":"B. Operator & Installation Identification (Identification de l’exploitant et de l’installation)"}]
[]
[null,null,2,{"$f":"Translations!$B$10","v":"Exploitant:"}]
[]
[null,null,null,"(a)",{"$f":"Translations!$B$152","v":"Autorité compétente"}]
[]
[null,null,null,"(b)",{"$f":"Translations!$B$153","v":"État membre"}]
[]
[null,null,null,"(c) ",{"$f":"Translations!$B$154","v":"Numéro de l’autorisation d’émettre des gaz à effet de serre "},null,null,null,{"$f":"Translations!$B$155","v":"Préfixe de l’EM/AC"}]
[]
[null,null,null,"(d)",{"$f":"Translations!$B$156","v":"Nom de l’exploitant"}]
[]
[null,null,3,{"$f":"Translations!$B$11","v":"Installation"}]
[]
[null,null,null,"(a)",{"$f":"Translations!$B$159","v":"Nom de l’installation et du site sur lequel elle est située:"}]
[]
[null,null,null,"i.",{"$f":"Translations!$B$47","v":"Dénomination de l'installation:"}]
[null,null,null,"ii.",{"$f":"Translations!$B$160","v":"Nom du site:"}]
[null,null,null,"iii.",{"$f":"Translations!$B$1276","v":"Identifiant unique de l'installation (comme dans les NIM)"}]
[null,null,null,"iv.",{"$f":"Translations!$B$162","v":"EPRTR (facultatif):"}]
[]
[null,null,null,null,{"$f":"Translations!$B$163","v":"Ajouter toute indication propre à l'État membre concernant la dénomination des installations."}]
[]
[null,null,null,"(b)",{"$f":"Translations!$B$164","v":"Adresse/localisation du site de l’installation:"}]
[]
[null,null,null,"i.",{"$f":"Translations!$B$165","v":"Adresse ligne 1:"}]
[null,null,null,"ii.",{"$f":"Translations!$B$166","v":"Adresse ligne 2:"}]
[null,null,null,"iii.",{"$f":"Translations!$B$167","v":"Ville:"}]
[null,null,null,"iv.",{"$f":"Translations!$B$168","v":"État/Province/Région:"}]
[null,null,null,"v.",{"$f":"Translations!$B$169","v":"Code postal/ZIP:"}]
[null,null,null,"vi.",{"$f":"Translations!$B$170","v":"Pays:"}]
[]
[null,null,null,"vii.",{"$f":"Translations!$B$171","v":"Coordonnées de quadrillage (cartographiques) de l’entrée principale du site (facultatif):"}]
[null,null,null,null,{"$f":"Translations!$B$172","v":"Ajouter toute indication propre à l'État membre concernant les coordonnées de quadrillage."}]
[]
[null,null,4,{"$f":"Translations!$B$12","v":"Coordonnées "}]
[]
[null,null,null,null,{"$f":"Translations!$B$173","v":"Qui pouvons-nous contacter au sujet de votre plan de surveillance?"}]
[null,null,null,null,{"$f":"Translations!$B$174","v":"Il serait utile que vous nous indiquiez une personne à qui nous pourrions poser directement nos questions éventuelles concernant votre plan de surveillance. Cette personne devra être habilitée à agir au nom de l’exploitant. "}]
[]
[null,null,null,"(a)",{"$f":"Translations!$B$175","v":"Contact principal:"},null,{"$f":"Translations!$B$176","v":"Titre:"}]
[null,null,null,null,null,null,{"$f":"Translations!$B$177","v":"Prénom:"}]
[null,null,null,null,null,null,{"$f":"Translations!$B$178","v":"Nom:"}]
[null,null,null,null,null,null,{"$f":"Translations!$B$179","v":"Fonction:"}]
[null,null,null,null,null,null,{"$f":"Translations!$B$180","v":"Nom de l'organisme (si différent de l’exploitant):"}]
[]
[null,null,null,null,null,null,{"$f":"Translations!$B$181","v":"Numéro de téléphone:"}]
[null,null,null,null,null,null,{"$f":"Translations!$B$182","v":"Courrier électronique:"}]
[]
[null,null,null,"(b)",{"$f":"Translations!$B$183","v":"Autre contact:"},null,{"$f":"Translations!$B$176","v":"Titre:"}]
[null,null,null,null,null,null,{"$f":"Translations!$B$177","v":"Prénom:"}]
[null,null,null,null,null,null,{"$f":"Translations!$B$178","v":"Nom:"}]
[null,null,null,null,null,null,{"$f":"Translations!$B$179","v":"Fonction:"}]
[null,null,null,null,null,null,{"$f":"Translations!$B$180","v":"Nom de l'organisme (si différent de l’exploitant):"}]
[]
[null,null,null,null,null,null,{"$f":"Translations!$B$181","v":"Numéro de téléphone:"}]
[null,null,null,null,null,null,{"$f":"Translations!$B$182","v":"Courrier électronique:"}]
[]
[]
[null,null,null,null,null,{"$f":"EUconst_MsgNextSheet","v":"<<< Cliquer ici pour passer à la feuille suivante >>> "}]

{"sheet":"C_InstallationDescription","index":4,"n_rows":351,"n_cols":28,"rows_kept":351,"cut":false,"hidden":false,"merged":[[1,4,1,5],[1,6,1,7],[3,8,3,9],[2,4,2,5],[5,2,5,13],[1,10,1,11],[1,12,1,13],[1,1,3,3],[2,10,2,11],[1,8,1,9],[3,6,3,7],[2,8,2,9],[2,6,2,7],[3,4,3,5],[2,12,2,13],[3,12,3,13],[3,10,3,11],[27,4,27,13],[33,4,33,13],[35,4,35,13],[7,3,7,13],[13,4,13,13],[10,3,10,13],[31,4,31,13],[12,4,12,13],[18,4,18,13],[28,4,28,13],[9,3,9,13],[16,4,16,13],[17,4,17,13],[23,4,23,13],[25,4,25,13],[19,4,19,13],[20,4,20,13],[21,4,21,13],[22,4,22,13],[14,4,14,13],[57,5,57,9],[39,4,39,13],[38,4,38,13],[99,9,99,13],[77,4,77,13],[64,4,64,9],[91,4,91,13],[50,4,50,13],[26,4,26,13],[32,4,32,13],[34,4,34,13],[44,4,44,13],[30,4,30,13],[37,10,37,13],[37,4,37,9],[45,5,45,13],[73,4,73,13],[46,5,46,13],[47,4,47,13],[49,4,49,13],[54,5,54,9],[55,5,55,9],[56,5,56,9],[48,4,48,13],[65,4,65,13],[101,4,101,7],[98,9,98,13],[78,4,78,13],[59,5,59,9],[60,5,60,9],[83,4,83,13],[72,9,72,13],[82,4,82,13],[79,4,79,13],[62,5,62,9],[70,4,70,7],[67,4,67,13],[95,4,95,7],[74,4,74,13],[61,5,61,9],[84,4,84,13],[85,4,85,13],[134,4,134,13],[137,5,137,10],[124,5,124,12],[111,5,111,12],[100,4,100,7],[100,9,100,13],[115,5,115,12],[113,5,113,12],[108,4,108,13],[135,4,135,13],[107,4,107,13],[106,4,106,13],[103,4,103,13],[127,6,129,10],[112,5,112,12],[118,5,118,12],[120,5,120,12],[109,4,109,13],[101,9,101,13],[123,5,123,12],[267,4,267,8],[195,5,195,7],[174,5,174,9],[201,8,201,10],[194,5,194,7],[165,4,165,13],[190,5,190,7],[175,5,175,9],[182,10,182,13],[177,6,179,10],[181,11,181,13],[181,4,181,10],[265,5,265,11],[184,4,184,13],[200,8,200,10],[193,5,193,7],[192,5,192,7],[185,4,185,13],[199,8,199,10],[211,4,211,13],[172,5,172,9],[261,6,263,10],[252,11,252,13],[259,8,259,10],[41,4,41,13],[43,4,43,13],[133,4,133,13],[125,5,125,12],[98,4,98,7],[122,5,122,12],[53,5,53,9],[90,4,90,13],[92,4,92,13],[75,5,75,13],[95,9,95,13],[81,4,81,10],[121,5,121,12],[119,5,119,12],[117,5,117,12],[96,4,96,7],[97,9,97,13],[97,4,97,7],[99,4,99,7],[116,5,116,12],[114,5,114,12],[58,5,58,9],[76,5,76,13],[96,9,96,13],[157,10,157,13],[163,4,163,13],[164,4,164,13],[159,4,159,13],[170,5,170,9],[149,5,149,10],[138,5,138,10],[144,5,144,10],[161,4,161,13],[140,5,140,10],[139,5,139,10],[142,5,142,10],[147,5,147,10],[141,5,141,10],[150,5,150,10],[148,5,148,10],[258,11,258,13],[256,11,256,13],[255,11,255,13],[205,6,207,10],[233,5,233,10],[225,5,225,10],[259,11,259,13],[259,5,259,7],[257,5,257,7],[257,8,257,10],[258,8,258,10],[258,5,258,7],[257,11,257,13],[249,5,249,7],[250,5,250,7],[248,11,248,13],[250,11,250,13],[248,8,248,10],[239,10,239,13],[234,5,234,10],[210,4,210,13],[256,8,256,10],[255,8,255,10],[252,8,252,10],[253,5,253,7],[187,4,187,13],[248,5,248,7],[173,5,173,9],[188,4,188,13],[190,8,190,10],[256,5,256,7],[255,5,255,7],[252,5,252,7],[254,11,254,13],[253,11,253,13],[253,8,253,10],[254,8,254,10],[254,5,254,7],[230,5,230,10],[223,5,223,10],[249,11,249,13],[251,5,251,7],[251,11,251,13],[249,8,249,10],[186,4,186,13],[251,8,251,10],[218,4,218,13],[215,5,215,13],[220,4,220,13],[217,4,217,13],[216,5,216,13],[219,4,219,13],[231,5,231,10],[243,4,243,13],[237,10,237,13],[250,8,250,10],[227,5,227,10],[245,4,245,13],[246,4,246,13],[244,4,244,13],[241,10,241,13],[228,5,228,10],[232,5,232,10],[226,5,226,10],[192,8,192,10],[195,8,195,10],[193,8,193,10],[235,5,235,10],[198,5,198,7],[213,4,213,13],[212,4,212,13],[198,8,198,10],[197,5,197,7],[200,5,200,7],[224,5,224,10],[229,5,229,10],[222,5,222,10],[203,5,203,7],[203,8,203,10],[194,8,194,10],[199,5,199,7],[196,8,196,10],[196,5,196,7],[197,8,197,10],[214,5,214,13],[202,8,202,10],[202,5,202,7],[201,5,201,7],[191,5,191,7],[191,8,191,10],[156,4,156,10],[146,5,146,10],[143,5,143,10],[145,5,145,10],[42,4,42,13],[24,4,24,13],[29,4,29,13],[52,5,52,9],[69,4,69,7],[66,4,66,13],[132,4,132,13],[93,4,93,13],[87,3,87,13],[183,4,183,13],[162,4,162,13],[168,5,168,9],[152,6,154,10],[169,5,169,9],[171,5,171,9],[160,4,160,13],[156,11,156,13],[166,4,166,13]]}
["ausblenden",null,null,null,null,null,null,null,null,null,null,null,null,null,null,"ausblenden","ausblenden","ausblenden","ausblenden","ausblenden","ausblenden","ausblenden","ausblenden","ausblenden","ausblenden","ausblenden","ausblenden","ausblenden"]
[null,{"$f":"Translations!$B$184","v":"C.\nInstallation Description"},null,null,{"$f":"Translations!$B$59","v":"Zone de navigation:"},null,{"$f":"Translations!$B$60","v":"Sommaire"},null,{"$f":"Translations!$B$61","v":"Feuille précédente"},null,{"$f":"Translations!$B$62","v":"Feuille suivante"}]
[null,null,null,null,{"$f":"Translations!$B$63","v":"Début de feuille"},null,{"$f":"Translations!$B$185","v":"Activités menées dans l’installation"},null,{"$f":"Translations!$B$186","v":"Méthodes de surveillance"},null,{"$f":"Translations!$B$187","v":"Sources et points d’émission"}]
[null,null,null,null,{"$f":"Translations!$B$64","v":"Fin de feuille"},null,{"$f":"Translations!$B$188","v":"Point de mesure"},null,{"$f":"Translations!$B$189","v":"Flux"},null,{"$f":"Translations!$B$190","v":"Activités exclues"}]
[]
[null,null,{"$f":"Translations!$B$13","v":"C. Installation Description (Description de l’installation)"}]
[]
[null,null,5,{"$f":"Translations!$B$14","v":"Activités menées dans l’installation"}]
[]
[null,null,null,{"$f":"Translations!$B$191","v":"Veuillez utiliser cette feuille pour décrire votre installation. Les renseignements fournis ici préparent la saisie des informations détaillées qui seront nécessaires dans les feuilles suivantes."}]
[null,null,null,{"$f":"Translations!$B$192","v":"En particulier, les flux seront décrits plus en détail dans la feuille E-SourceStreams, et les points de mesure dans la feuille F_MeasurementBasedApproaches"}]
[]
[null,null,null,"(a)",{"$f":"Translations!$B$193","v":"Description de l’installation et des activités qui y sont menées:"}]
[null,null,null,null,{"$f":"Translations!$B$194","v":"Veuillez fournir ici une brève description du site et de l'installation, et décrire la localisation de l'installation sur le site.  Cette description doit également inclure un résumé non technique des activités menées dans l'installation, décrivant brièvement chaque activité réalisée et les unités techniques utilisées pour chacune.  Il convient en particulier de décrire également toute partie de l’installation qui n’est pas exploitée par le demandeur, ou les parties qui ne sont pas censées relever du SEQE de l’UE."}]
[null,null,null,null,{"$f":"Translations!$B$195","v":"La description doit contenir les liens qui sont nécessaires pour comprendre la manière dont les informations fournies dans les autres parties du présent modèle sont utilisées pour calculer les émissions. Ces données peuvent être aussi synthétiques que dans l’exemple donné dans la feuille D­_CalculationBasedApproaches, rubrique 7 a)."}]
[]
[]
[]
[]
[]
[]
[]
[]
[]
[]
[]
[]
[]
[]
[]
[]
[]
[]
[]
[]
[]
[]
[null,null,null,"(b) ",{"$f":"Translations!$B$196","v":"Titre et référence du document constituant le diagramme des flux: "}]
[null,null,null,null,{"$f":"Translations!$B$197","v":"Pour faciliter la description des activités, il peut s’avérer utile de fournir un diagramme simple indiquant les sources d'émission, les flux, les points d'échantillonnage et les équipements de mesure.  Le cas échéant, veuillez indiquer ici la référence du diagramme (nom de fichier, date) et joindre une copie de celui-ci lorsque vous soumettrez le présent plan de surveillance à votre autorité compétente."}]
[null,null,null,null,{"$f":"Translations!$B$198","v":"Dans certains cas, la fourniture du diagramme peut être exigée par l’autorité compétente."}]
[]
[null,null,null,"(c)",{"$f":"Translations!$B$199","v":"Liste des activités visées à l’annexe I de la directive SEQE UE menées dans l’installation:"}]
[null,null,null,null,{"$f":"Translations!$B$200","v":"Veuillez fournir les informations techniques ci-après pour chacune des activités visées à l’annexe I de la directive SEQE UE menée dans votre installation."}]
[null,null,null,null,{"$f":"Translations!$B$201","v":"Veuillez également préciser la capacité de chacune des activités visées à l’annexe I menée dans votre installation."}]
[null,null,null,null,{"$f":"Translations!$B$202","v":"Veuillez noter que, dans ce contexte, on entend par «capacité»:"}]
[null,null,null,null,"-",{"$f":"Translations!$B$203","v":"la puissance calorifique de combustion (pour les activités incluses dans le SEQE de l’UE à partir du seuil de 20 MW), c'est-à-dire la vitesse à laquelle le combustible peut être brûlé en régime maximal continu, multipliée par la valeur calorifique du combustible, et exprimée en mégawatts thermiques; "}]
[null,null,null,null,"-",{"$f":"Translations!$B$204","v":"la capacité de production dans le cas des activités visées à l’annexe I dont l’inclusion dans le SEQE de l’UE est déterminée par la capacité de production. "}]
[null,null,null,null,{"$f":"Translations!$B$205","v":"Veuillez vous assurer que les limites de l’installation sont correctes et conformes à l’annexe I de la directive SEQE UE. Pour de plus amples informations, veuillez consulter les sections pertinentes des orientations de la Commission sur l’interprétation de l’annexe I. Ce document se trouve sur la page suivante:"}]
[null,null,null,null,"https://climate.ec.europa.eu/document/download/edc93136-82a0-482c-bf47-39ecaf13b318_en?filename=policy_ets_gd0_annex_i_euets_directive_en.pdf"]
[null,null,null,null,{"$f":"Translations!$B$207","v":"La liste fournie ici sera proposée sous la forme d’une liste déroulante dans les tableaux ci-après lorsque la référence de l’activité sera demandée pour la description de l’installation. "}]
[null,null,null,null,{"$f":"Translations!$B$135","v":"Pour afficher/masquer les exemples, cliquez sur le bouton «Exemples» dans la zone de navigation."}]
[]
[null,null,null,null,{"$f":"Translations!$B$208","v":"Réf. de l’activité (A1, A2…)"},{"$f":"Translations!$B$209","v":"Activité de l'annexe I"},null,null,null,null,{"$f":"Translations!$B$210","v":"Capacité totale de l’activité "},{"$f":"Translations!$B$211","v":"Unités de capacité"},{"$f":"Translations!$B$1163","v":"Puissance calorifique de combustion en MW(th) (si capacité exprimée en tonnes)"},{"$f":"Translations!$B$212","v":"GES émis"},null,null,null,null,null,null,"Sorting","Sorting","Sorting","Sorting","Sorting"]
["HIDE_Example",null,null,null,"A01",{"$f":"Translations!$B$213","v":"Production de clinker"},null,null,null,null,1500,{"$f":"Translations!$B$214","v":"tonnes par jour"},230,{"$f":"IF(ISBLANK(F54),\"\",INDEX(EUConst_AnnexIListGHG,MATCH(F54,AnnexIActivities,0)))","v":"CO2"}]
["HIDE_Example",null,null,null,"A02",{"$f":"Translations!$B$215","v":"Combustion de combustibles"},null,null,null,null,120,{"$f":"Translations!$B$216","v":"MW(th)"},120,{"$f":"IF(ISBLANK(F55),\"\",INDEX(EUConst_AnnexIListGHG,MATCH(F55,AnnexIActivities,0)))","v":"CO2"}]
[null,null,null,null,"A1",null,null,null,null,null,null,null,null,"",null,null,null,null,null,1,{"$f":"IF(ISBLANK(F56),\"\",E56)","v":""},{"$f":"IF(ISBLANK(F56),\"\",F56)","v":""},{"$f":"IF(V56=\"\",\"\",MAX(W$55:W55)+1)","v":""},{"$f":"IF(COUNTIF($W$56:$W$60,T56)=1,INDEX($U$56:$U$60,MATCH(T56,$W$56:$W$60,0)) & \": \" & INDEX($V$56:$V$60,MATCH(T56,$W$56:$W$60,0)),EUconst_NA)","v":"s.o."},{"$f":"IF(COUNTIF($W$56:$W$60,T56)=1,INDEX($V$56:$V$60,MATCH(T56,$W$56:$W$60,0)),EUconst_NA)","v":"s.o."},{"$f":"IF(F56=\"\",\"\",MATCH(F56,AnnexIActivities,0))","v":""}]
[null,null,null,null,"A2",null,null,null,null,null,null,null,null,"",null,null,null,null,null,2,"","",{"$f":"IF(V57=\"\",\"\",MAX(W$55:W56)+1)","v":""},"s.o.","s.o.",""]
[null,null,null,null,"A3",null,null,null,null,null,null,null,null,"",null,null,null,null,null,3,"","",{"$f":"IF(V58=\"\",\"\",MAX(W$55:W57)+1)","v":""},"s.o.","s.o.",""]
[null,null,null,null,"A4",null,null,null,null,null,null,null,null,"",null,null,null,null,null,4,"","",{"$f":"IF(V59=\"\",\"\",MAX(W$55:W58)+1)","v":""},"s.o.","s.o.",""]
[null,null,null,null,"A5",null,null,null,null,null,null,null,null,"",null,null,null,null,null,5,"","",{"$f":"IF(V60=\"\",\"\",MAX(W$55:W59)+1)","v":""},"s.o.","s.o.",""]
[null,null,null,null,"A6",null,null,null,null,null,null,null,null,{"$f":"IF(ISBLANK(F61),\"\",INDEX(EUConst_AnnexIListGHG,MATCH(F61,AnnexIActivities,0)))","v":""},null,null,null,null,null,6,"","",{"$f":"IF(V61=\"\",\"\",MAX(W$55:W60)+1)","v":""},"s.o.","s.o.",""]
[null,null,null,null,"A7",null,null,null,null,null,null,null,null,{"$f":"IF(ISBLANK(F62),\"\",INDEX(EUConst_AnnexIListGHG,MATCH(F62,AnnexIActivities,0)))","v":""},null,null,null,null,null,7,"","",{"$f":"IF(V62=\"\",\"\",MAX(W$55:W61)+1)","v":""},"s.o.","s.o.",""]
["ausblenden",null,null,null,null,null,null,null,null,null,null,null,null,""]
[]
[null,null,null,"(d) ",{"$f":"Translations!$B$217","v":"Estimation des émissions annuelles:"}]
[null,null,null,null,{"$f":"Translations!$B$1337","v":"Veuillez saisir ici les émissions annuelles moyennes de votre installation. Ces informations sont nécessaires à la catégorisation de l'installation conformément à l'article 19 du MRR. Utilisez les émissions annuelles moyennes vérifiées de la période d'échange précédente OU, si ces données ne sont pas disponibles ou inappropriées, une estimation prudente des émissions annuelles moyennes, avant déduction du CO2 transféré hors de l'installation, mais à l'exclusion du CO2 dont le facteur d'émission est considéré comme égal à zéro (biomasse, RFNBO/RCF, SLCF)."}]
[null,null,null,null,{"$f":"Translations!$B$219","v":"La catégorie ainsi déterminée sert à définir les niveaux minimaux requis à la rubrique 8 (Flux). "}]
[null,null,null,null,{"$f":"Translations!$B$1338","v":"Remarque : il peut arriver que l'installation n'émette aucune émission (même pas d'unité d'alimentation de secours, de chaudières pour le chauffage des bureaux, etc.), et qu'elle ne produise aucune émission de biomasse, de combustibles non chauffés (FCR), de combustibles fossiles (FSC). Dans ce cas, les émissions estimées sont nulles et seules la section et la feuille « K_Management » du plan de surveillance doivent être complétées."}]
[]
[null,null,null,null,{"$f":"Translations!$B$220","v":"Estimation des émissions annuelles:"},null,null,null,null,"t CO2e"]
[null,null,null,null,{"$f":"Translations!$B$221","v":"Catégorie de l’installation conformément à l’article 19"},null,null,null,{"$f":"IF(ISBLANK(CNTR_TotalEmissions),\"\",IF(CNTR_TotalEmissions>500000,\"C\",IF(CNTR_TotalEmissions>50000,\"B\",\"A\")))","v":""}]
[null,null,null,null,null,null,null,null,null,null,null,null,null,null,null,null,null,null,null,null,null,null,null,null,null,null,null,"make grey?"]
[null,null,null,"(e)",{"$f":"Translations!$B$222","v":"Installation à faible niveau d'émission?"},null,null,null,null,{"$f":"IF(ISBLANK(CNTR_SmallEmitter),\"\",IF(S73,IF(CNTR_SmallEmitter=TRUE,EUconst_ERR_NoN2OSmallEmitters,\"\"),IF(S74,EUconst_MsgSmallEmitters,\"\")))","v":""},null,null,null,null,null,null,null,null,{"$f":"OR(COUNTIF(Z56:Z60,19),COUNTIF(Z56:Z60,20),COUNTIF(Z56:Z60,21))","v":false},"Check N2O",null,null,null,null,null,null,null,{"$f":"AND(CNTR_Category<>\"\",CNTR_Category<>\"A\")","v":false}]
[null,null,null,null,{"$f":"Translations!$B$223","v":"Si vous indiquez «VRAI» ici, cela signifie que l’installation remplit les critères correspondant à une installation à faible niveau d’émission qui sont définis à l’article 47."},null,null,null,null,null,null,null,null,null,null,null,null,null,{"$f":"AND(ISNUMBER(CNTR_TotalEmissions),OR(AND(CNTR_SmallEmitter=TRUE,CNTR_TotalEmissions>25000),AND(CNTR_SmallEmitter=FALSE,CNTR_TotalEmissions<=25000)))","v":false},"Check >=25000 / Contradiction"]
[null,null,null,null,{"$f":"Translations!$B$224","v":"En vertu de cet article, l’exploitant peut présenter un plan de surveillance simplifié pour une installation dans laquelle aucune activité émettant du protoxyde d’azote n’est menée, lorsqu’il peut être établi que:  "}]
[null,null,null,null,"-",{"$f":"Translations!$B$225","v":"les émissions annuelles moyennes vérifiées de l’installation au cours de la période d’échanges précédente étaient inférieures à 25 000 tonnes CO2(e) par an, ou"}]
[null,null,null,null,"-",{"$f":"Translations!$B$226","v":"dans le cas où les émissions vérifiées ne sont pas disponibles ou ne sont pas pertinentes, sur la base d’une estimation prudente, les émissions au cours  des cinq prochaines années seront inférieures à 25 000 tonnes CO2(e) par an."}]
[null,null,null,null,{"$f":"Translations!$B$1339","v":"Remarque : les données ci-dessus incluent le CO2 transféré, mais excluent le CO2 provenant du carbone dont le facteur d'émission est considéré comme égal à zéro (biomasse, RFNBO/RCF, SLCF)."}]
[null,null,null,null,{"$f":"Translations!$B$228","v":"Si le choix que vous avez fait ici est en contradiction avec la valeur que vous avez  indiquée au point d) ci-dessus pour l'estimation des émissions, vous serez averti par un message. Veuillez fournir une justification appropriée ci-après."}]
[null,null,null,null,{"$f":"Translations!$B$229","v":"Si votre installation est une installation à faible niveau d’émission au sens de l’article 47, plusieurs simplifications s'appliquent pour le plan de surveillance."}]
[]
[null,null,null,"(f) ",{"$f":"Translations!$B$1164","v":"Émissions estimées au point d) ou e) fondées sur des estimations prudentes?"}]
[null,null,null,null,{"$f":"Translations!$B$1165","v":"Si la réponse que vous avez donnée quant au statut d’installation à faible niveau d’émission est en contradiction avec la valeur que vous avez indiquée au point d) ou si la valeur indiquée au point d) n’est pas fondée sur les émissions vérifiées, mais est une estimation prudente, veuillez sélectionner «VRAI» et fournir une brève justification ci-dessous."},null,null,null,null,null,null,null,null,null,null,null,null,null,null,null,null,null,null,null,null,null,null,"make grey?"]
[null,null,null,null,null,null,null,null,null,null,null,null,null,null,null,null,null,null,null,null,null,null,null,null,null,null,null,{"$f":"AND(L82<>\"\",L82=FALSE)","v":false}]
[]
[]
[]
[null,null,6,{"$f":"Translations!$B$15","v":"Émissions"}]
[]
[null,null,null,"(a)",{"$f":"Translations!$B$232","v":"Méthodes de surveillance proposées:"}]
[null,null,null,null,{"$f":"Translations!$B$233","v":"Veuillez préciser lesquelles des méthodes de surveillance ci-après vous envisagez d'appliquer: "}]
[null,null,null,null,{"$f":"Translations!$B$234","v":"Conformément à l’article 21, les émissions peuvent être déterminées soit par une méthode fondée sur le calcul («calcul») soit par une méthode fondée sur la mesure («mesure»), sauf lorsque les dispositions du MRR exigent l'application d'une méthode spécifique."}]
[null,null,null,null,{"$f":"Translations!$B$235","v":"Remarque: L’exploitant peut, sous réserve de l'approbation de l'autorité compétente, l’exploitant peut combiner la méthode de mesure et la méthode de calcul pour différentes sources.   L’exploitant est tenu de s’assurer et de démontrer que toutes les émissions à déclarer sont prises en compte et qu’aucune n’est comptée deux fois.  "}]
[null,null,null,null,{"$f":"Translations!$B$236","v":"Veuillez vous assurer de ne pas laisser ces champs vides, car les informations saisies à ce niveau conditionnent le formatage qui vous guidera dans tout le document."}]
[]
[null,null,null,null,{"$f":"Translations!$B$237","v":"Méthode fondée sur le calcul pour le CO2 :"},null,null,null,null,{"$f":"IF(CNTR_InstHasCalculation=TRUE,EUConst_RelSectionCalc,\"\")","v":""}]
[null,null,null,null,{"$f":"Translations!$B$238","v":"Méthode fondée sur la mesure pour le CO2 :"},null,null,null,null,{"$f":"IF(CNTR_InstHasMeasurement=TRUE,EUConst_RelSectionMeasure,\"\")","v":""}]
[null,null,null,null,{"$f":"Translations!$B$239","v":"Méthode alternative (article 22) :"},null,null,null,null,{"$f":"IF(CNTR_InstHasFallBack=TRUE,EUConst_RelSectionFallback,\"\")","v":""}]
[null,null,null,null,{"$f":"Translations!$B$240","v":"Surveillance des émissions de N2O :"},null,null,null,null,{"$f":"IF(CNTR_InstHasN2O=TRUE,EUConst_RelSectionN2O,\"\")","v":""}]
[null,null,null,null,{"$f":"Translations!$B$241","v":"Surveillance des émissions de PFC :"},null,null,null,null,{"$f":"IF(CNTR_InstHasPFC=TRUE,EUConst_RelSectionPFC,\"\")","v":""}]
[null,null,null,null,{"$f":"Translations!$B$242","v":"Surveillance du CO2, du N2O transféré/intrinsèque et CCS :"},null,null,null,null,{"$f":"IF(CNTR_InstHasTransferredCO2=TRUE,EUConst_RelSectionCCS,\"\")","v":""}]
[null,null,null,null,{"$f":"Translations!$B$1340","v":"Surveillance du \"CCU permanent\""},null,null,null,null,{"$f":"IF(CNTR_InstHasCCU=TRUE,EUConst_RelSectionCCU,\"\")","v":""}]
[]
[null,null,null,null,{"$f":"Translations!$B$243","v":"Veuillez vous assurer de remplir le reste de cette feuille, les rubriques pertinentes pour chaque méthode sélectionnée ci-dessus, avant de passer à la feuille «K­­_ManagementControl» (rubriques 20 à 25), obligatoire pour toutes les installations."}]
[]
[null,null,null,"(b)",{"$f":"Translations!$B$244","v":"Sources d'émission:"}]
[null,null,null,null,{"$f":"Translations!$B$245","v":"En vertu de l’annexe I, les plans de surveillance doivent contenir une description de l’installation et des activités devant faire l’objet d’une surveillance qui sont réalisées dans cette installation, y compris une liste des sources d'émission et des flux.  Les informations que vous fournissez dans ce modèle doivent se rapporter aux activités visées à l’annexe I qui sont menées dans l’installation en question, et doivent concerner une seule installation à la fois. Incluez dans cette rubrique toutes les activités menées dans votre installation et excluez les activités connexes réalisées par d’autres exploitants."}]
[null,null,null,null,{"$f":"Translations!$B$246","v":"La référence de l’activité dans la dernière colonne renvoie à la référence de l’activité indiquée à la rubrique 5 c) ci-dessus. Lorsqu’une source d’émission correspond à plusieurs activités, veuillez indiquer «A1, A2» ou «A1 – A3» ou une indication similaire, suivant le cas."}]
[null,null,null,null,{"$f":"Translations!$B$247","v":"La liste ci-dessous sera proposée sous la forme d’une liste déroulante aux points c), d) et e) ci-dessous lorsque la référence de la source d’émission considérée sera demandée."}]
[null,null,null,null,{"$f":"Translations!$B$135","v":"Pour afficher/masquer les exemples, cliquez sur le bouton «Exemples» dans la zone de navigation."}]
[]
[null,null,null,null,{"$f":"Translations!$B$248","v":"Réf. de la source d’émission\nS1, S2,..."},{"$f":"Translations!$B$249","v":"Source d’émission (nom, description)"},null,null,null,null,null,null,null,{"$f":"Translations!$B$250","v":"Réf. de l’activité"},null,null,null,null,null,null,"Sorting","Sorting","Sorting"]
["HIDE_Example",null,null,null,"S01",{"$f":"Translations!$B$251","v":"Four à ciment (décarbonatation de la farine crue, combustion de combustibles)"},null,null,null,null,null,null,null,"A1"]
["HIDE_Example",null,null,null,"S02",{"$f":"Translations!$B$252","v":"Chaudière à charbon (combustion de combustibles)"},null,null,null,null,null,null,null,"A2"]
["HIDE_Example",null,null,null,"S03",{"$f":"Translations!$B$253","v":"Chaudière à charbon (décomposition du calcaire pour l’épuration des effluents gazeux)"},null,null,null,null,null,null,null,"A2"]
[null,null,null,null,"S1",null,null,null,null,null,null,null,null,null,null,null,null,null,null,1,{"$f":"IF(ISBLANK(F116),\"\",E116)","v":""},{"$f":"IF(U116=\"\",\"\",MAX(V$115:V115)+1)","v":""},{"$f":"IF(COUNTIF($V$116:$V$126,T116)=1,INDEX($U$116:$U$126,MATCH(T116,$V$116:$V$126,0)) & \": \" & INDEX($F$116:$F$126,MATCH(T116,$V$116:$V$126,0)),EUconst_NA)","v":"s.o."}]
[null,null,null,null,"S2",null,null,null,null,null,null,null,null,null,null,null,null,null,null,2,{"$f":"IF(ISBLANK(F117),\"\",E117)","v":""},{"$f":"IF(U117=\"\",\"\",MAX(V$115:V116)+1)","v":""},"s.o."]
[null,null,null,null,"S3",null,null,null,null,null,null,null,null,null,null,null,null,null,null,3,"",{"$f":"IF(U118=\"\",\"\",MAX(V$115:V117)+1)","v":""},"s.o."]
[null,null,null,null,"S4",null,null,null,null,null,null,null,null,null,null,null,null,null,null,4,"",{"$f":"IF(U119=\"\",\"\",MAX(V$115:V118)+1)","v":""},"s.o."]
[null,null,null,null,"S5",null,null,null,null,null,null,null,null,null,null,null,null,null,null,5,"",{"$f":"IF(U120=\"\",\"\",MAX(V$115:V119)+1)","v":""},"s.o."]
[null,null,null,null,"S6",null,null,null,null,null,null,null,null,null,null,null,null,null,null,6,"",{"$f":"IF(U121=\"\",\"\",MAX(V$115:V120)+1)","v":""},"s.o."]
[null,null,null,null,"S7",null,null,null,null,null,null,null,null,null,null,null,null,null,null,7,"",{"$f":"IF(U122=\"\",\"\",MAX(V$115:V121)+1)","v":""},"s.o."]
[null,null,null,null,"S8",null,null,null,null,null,null,null,null,null,null,null,null,null,null,8,"",{"$f":"IF(U123=\"\",\"\",MAX(V$115:V122)+1)","v":""},"s.o."]
[null,null,null,null,"S9",null,null,null,null,null,null,null,null,null,null,null,null,null,null,9,"",{"$f":"IF(U124=\"\",\"\",MAX(V$115:V123)+1)","v":""},"s.o."]
[null,null,null,null,"S10",null,null,null,null,null,null,null,null,null,null,null,null,null,null,10,"",{"$f":"IF(U125=\"\",\"\",MAX(V$115:V124)+1)","v":""},{"$f":"IF(COUNTIF($V$116:$V$126,T125)=1,INDEX($U$116:$U$126,MATCH(T125,$V$116:$V$126,0)) & \": \" & INDEX($F$116:$F$126,MATCH(T125,$V$116:$V$126,0)),EUconst_NA)","v":"s.o."}]
["ausblenden",null,null,null,null,null,null,null,null,null,null,null,null,null,null,null,null,null,null,null,"",{"$f":"IF(U126=\"\",\"\",MAX(V$115:V125)+1)","v":""}]
["ADD_EmissionSource"]
[null,null,null,null,null,null,{"$f":"Translations!$B$254","v":"Cliquez sur « + » pour ajouter d’autres sources d’émission"}]
[]
[]
[]
[null,null,null,"(c)",{"$f":"Translations!$B$255","v":"Points d’émission et GES émis:"}]
[null,null,null,null,{"$f":"Translations!$B$256","v":"Veuillez énumérer et décrire brièvement tous les points d’émission pertinents (y compris les sources d’émission diffuse)."}]
[null,null,null,null,{"$f":"Translations!$B$257","v":"Veuillez également sélectionner  les activités relevant de l’annexe I, les sources d’émission et les GES émis dans les listes déroulantes (en fonction des données saisies à la rubrique 5 c) ci-dessus). Si plusieurs activités ou sources d’émissions sont concernées, veuillez saisir, par exemple, «A1, A2»."}]
[null,null,null,null,{"$f":"Translations!$B$258","v":"La liste ci-dessous sera proposée sous la forme d’une liste déroulante aux points d) et e) ci-dessous lorsque la référence du point d’émission considéré sera demandée."}]
[null,null,null,null,{"$f":"Translations!$B$135","v":"Pour afficher/masquer les exemples, cliquez sur le bouton «Exemples» dans la zone de navigation."}]
[]
[null,null,null,null,{"$f":"Translations!$B$259","v":"Réf. du point d’émission:\nEP1, EP2, …."},{"$f":"Translations!$B$260","v":"Description du point d’émission"},null,null,null,null,null,{"$f":"Translations!$B$250","v":"Réf. de l’activité"},{"$f":"Translations!$B$261","v":"Réf. de la source d’émission"},{"$f":"Translations!$B$212","v":"GES émis"},null,null,null,null,null,null,"Sorting","Sorting","Sorting",null,null,null,null,"make grey?"]
["HIDE_Example",null,null,null,"EP01",{"$f":"Translations!$B$262","v":"Cheminée 1 (chaudière à charbon)"},null,null,null,null,null,"A02","S102, S03","CO2"]
["HIDE_Example",null,null,null,"EP02",{"$f":"Translations!$B$263","v":"Cheminée 2 (four à ciment)"},null,null,null,null,null,"A01","S01","CO2"]
[null,null,null,null,"EP1",null,null,null,null,null,null,null,null,null,null,null,null,null,null,1,{"$f":"IF(ISBLANK(F141),\"\",E141)","v":""},{"$f":"IF(U141=\"\",\"\",MAX(V$140:V140)+1)","v":""},{"$f":"IF(COUNTIF($V$141:$V$151,T141)=1,INDEX($U$141:$U$151,MATCH(T141,$V$141:$V$151,0)) & \": \" & INDEX($F$141:$F$151,MATCH(T141,$V$141:$V$151,0)),EUconst_NA)","v":"s.o."},null,null,null,null,{"$f":"IF(OR(CNTR_InstHasMeasurement=TRUE,CNTR_InstHasN2O=TRUE,CNTR_InstHasTransferredCO2=TRUE),FALSE,IF(COUNTA(CNTR_ListRelevantSections)>0,TRUE,FALSE))","v":false}]
[null,null,null,null,"EP2",null,null,null,null,null,null,null,null,null,null,null,null,null,null,2,{"$f":"IF(ISBLANK(F142),\"\",E142)","v":""},{"$f":"IF(U142=\"\",\"\",MAX(V$140:V141)+1)","v":""},{"$f":"IF(COUNTIF($V$141:$V$151,T142)=1,INDEX($U$141:$U$151,MATCH(T142,$V$141:$V$151,0)) & \": \" & INDEX($F$141:$F$151,MATCH(T142,$V$141:$V$151,0)),EUconst_NA)","v":"s.o."},null,null,null,null,false]
[null,null,null,null,"EP3",null,null,null,null,null,null,null,null,null,null,null,null,null,null,3,{"$f":"IF(ISBLANK(F143),\"\",E143)","v":""},{"$f":"IF(U143=\"\",\"\",MAX(V$140:V142)+1)","v":""},"s.o.",null,null,null,null,false]
[null,null,null,null,"EP4",null,null,null,null,null,null,null,null,null,null,null,null,null,null,4,"",{"$f":"IF(U144=\"\",\"\",MAX(V$140:V143)+1)","v":""},"s.o.",null,null,null,null,false]
[null,null,null,null,"EP5",null,null,null,null,null,null,null,null,null,null,null,null,null,null,5,"",{"$f":"IF(U145=\"\",\"\",MAX(V$140:V144)+1)","v":""},"s.o.",null,null,null,null,false]
[null,null,null,null,"EP6",null,null,null,null,null,null,null,null,null,null,null,null,null,null,6,"",{"$f":"IF(U146=\"\",\"\",MAX(V$140:V145)+1)","v":""},"s.o.",null,null,null,null,false]
[null,null,null,null,"EP7",null,null,null,null,null,null,null,null,null,null,null,null,null,null,7,"",{"$f":"IF(U147=\"\",\"\",MAX(V$140:V146)+1)","v":""},"s.o.",null,null,null,null,false]
[null,null,null,null,"EP8",null,null,null,null,null,null,null,null,null,null,null,null,null,null,8,"",{"$f":"IF(U148=\"\",\"\",MAX(V$140:V147)+1)","v":""},"s.o.",null,null,null,null,false]
[null,null,null,null,"EP9",null,null,null,null,null,null,null,null,null,null,null,null,null,null,9,"",{"$f":"IF(U149=\"\",\"\",MAX(V$140:V148)+1)","v":""},"s.o.",null,null,null,null,false]
[null,null,null,null,"EP10",null,null,null,null,null,null,null,null,null,null,null,null,null,null,10,"",{"$f":"IF(U150=\"\",\"\",MAX(V$140:V149)+1)","v":""},"s.o.",null,null,null,null,false]
["ausblenden",null,null,null,null,null,null,null,null,null,null,null,null,null,null,null,null,null,null,null,"",{"$f":"IF(U151=\"\",\"\",MAX(V$140:V150)+1)","v":""},null,null,null,null,null,false]
["ADD_EmissionPoint"]
[null,null,null,null,null,null,{"$f":"Translations!$B$264","v":"Cliquez sur « + » pour ajouter d’autres points d’émission"}]
[]
[]
[]
[null,null,null,"(d)",{"$f":"Translations!$B$265","v":"Points de mesure, lorsque des systèmes de mesure continue sont installés:"},null,null,null,null,null,null,{"$f":"IF(OR(CNTR_InstHasMeasurement=TRUE,CNTR_InstHasN2O=TRUE,CNTR_InstHasTransferredCO2=TRUE),EUconst_Relevant,IF(COUNTA(CNTR_ListRelevantSections)>0,EUconst_NotRelevant,EUconst_Relevant))","v":"pertinent"}]
[null,null,null,null,null,null,null,null,null,null,{"$f":"IF(L157=EUconst_NotRelevant,HYPERLINK(R158,EUconst_MsgGoOn),HYPERLINK(\"\",EUconst_MsgEnterThisSection))","v":"Veuillez saisir des données dans cette rubrique"},null,null,null,null,null,"Jump Address:",{"$f":"\"#\"&ADDRESS(ROW(D182),COLUMN(D182))","v":"#$D$182"}]
[]
[null,null,null,null,{"$f":"Translations!$B$266","v":"Pour que ce modèle propose automatiquement des catégories de sources d’émission, il est nécessaire de définir au préalable les sources d’émission pour lesquelles des méthodes fondées sur la mesure sont appliquées."}]
[null,null,null,null,{"$f":"Translations!$B$267","v":"Veuillez énumérer et décrire ici tous les points de mesure au niveau desquels les GES sont mesurés au moyen de systèmes de mesure continue des émissions (SMCE). Incluez les points de mesure dans les systèmes de pipeline qui sont utilisés pour le transfert du CO2 aux fins de son stockage géologique."}]
[null,null,null,null,{"$f":"Translations!$B$268","v":"Aucune donnée n’est requise si vous avez indiqué qu’aucune méthode fondée sur la mesure n’est appliquée à la rubrique 6 a) ci-dessus. "}]
[null,null,null,null,{"$f":"Translations!$B$269","v":"Pour chaque point de mesure, veuillez également donner une estimation des émissions annuelles correspondantes. Cette information est nécessaire pour déterminer le niveau applicable."}]
[null,null,null,null,{"$f":"Translations!B1273","v":"Conformément à l’article 19, paragraphe 4, l’application d’un niveau inférieur peut être autorisée pour chaque source d’émission émettant moins de 5 000 tonnes de CO2(e) par an ou représentant moins de 10 % des émissions annuelles totales de l’installation, avec un maximum de 100 000 tonnes de CO2(e) par an, la valeur la plus élevée en valeur absolue étant retenue (source d’émission «mineure»)."}]
[null,null,null,null,{"$f":"Translations!$B$271","v":"Toutes les autres sources d'émissions seront catégorisées en tant que sources d'émission «majeures»."}]
[null,null,null,null,{"$f":"Translations!$B$272","v":"Ces estimations des émissions permettent également de catégoriser les flux faisant l’objet de la méthode fondée sur le calcul au point f), lorsqu’une telle méthode est appliquée.  "}]
[null,null,null,null,{"$f":"Translations!$B$135","v":"Pour afficher/masquer les exemples, cliquez sur le bouton «Exemples» dans la zone de navigation."}]
[]
[null,null,null,null,{"$f":"Translations!$B$273","v":"Réf. du point de mesure M1, M2, …"},{"$f":"Translations!$B$274","v":"Description"},null,null,null,null,{"$f":"Translations!$B$275","v":"Réf. du point d’émission"},{"$f":"Translations!$B$276","v":"Estimation des émissions [t CO2e/an]"},{"$f":"Translations!$B$277","v":"Catégorie possible"},{"$f":"Translations!$B$278","v":"GES mesuré"},null,null,null,null,null,null,null,null,"ABS",null,"minor",null,null,"make grey?"]
["HIDE_Example",null,null,null,"M01",{"$f":"Translations!$B$279","v":"Cheminée de chaudière à charbon, plateforme de mesure A"},null,null,null,null,"EP01",150000,{"$f":"IF(ISBLANK(L170),\"\",IF(L170<$Y$171,INDEX(SourceCategoryCEMS,2),INDEX(SourceCategoryCEMS,1)))","v":"Flux majeur"},"CO2"]
[null,null,null,null,"M1",null,null,null,null,null,null,null,"",null,null,null,{"$f":"EUconst_CNTR_SourceCategory&E171","v":"SourceCategory_M1"},{"$f":"EUconst_CNTR_SourceCategory&M171","v":"SourceCategory_"},null,null,null,null,{"$f":"IF(ISBLANK(L171),\"\",ABS(L171))","v":""},"LIMIT",{"$f":"MAX(5000,MIN(0.1*$Y$242,100000))","v":5000},null,null,{"$f":"L157=EUconst_NotRelevant","v":false}]
[null,null,null,null,"M2",null,null,null,null,null,null,null,"",null,null,null,"SourceCategory_M2","SourceCategory_",null,null,null,null,"",null,null,null,null,{"$f":"AB171","v":false}]
[null,null,null,null,"M3",null,null,null,null,null,null,null,"",null,null,null,"SourceCategory_M3","SourceCategory_",null,null,null,null,"",null,null,null,null,{"$f":"AB172","v":false}]
[null,null,null,null,"M4",null,null,null,null,null,null,null,"",null,null,null,"SourceCategory_M4","SourceCategory_",null,null,null,null,"",null,null,null,null,{"$f":"AB173","v":false}]
[null,null,null,null,"M5",null,null,null,null,null,null,null,"",null,null,null,"SourceCategory_M5","SourceCategory_",null,null,null,null,"",null,null,null,null,{"$f":"AB174","v":false}]
["ausblenden",null,null,null,null,null,null,null,null,null,null,null,"",null,null,null,"SourceCategory_","SourceCategory_",null,null,null,null,"",null,null,null,null,{"$f":"AB175","v":false}]
["ADD_MeasurementPoint"]
[null,null,null,null,null,null,{"$f":"Translations!$B$280","v":"Cliquez sur « + » pour ajouter d’autres points de mesure"}]
[]
[]
[]
[null,null,null,"(e)",{"$f":"Translations!$B$281","v":"Flux à prendre en considération:"},null,null,null,null,null,null,{"$f":"IF(OR(CNTR_InstHasCalculation=TRUE,CNTR_InstHasPFC=TRUE),EUconst_Relevant,IF(COUNTA(CNTR_ListRelevantSections)>0,EUconst_NotRelevant,EUconst_Relevant))","v":"pertinent"}]
[null,null,null,null,null,null,null,null,null,null,{"$f":"IF(L182=EUconst_NotRelevant,HYPERLINK(R183,EUconst_MsgGoOn),HYPERLINK(\"\",EUconst_MsgEnterThisSection))","v":"Veuillez saisir des données dans cette rubrique"},null,null,null,null,null,"Jump Address:",{"$f":"\"#\"&ADDRESS(ROW(D244),COLUMN(D244))","v":"#$D$244"}]
[null,null,null,null,{"$f":"Translations!$B$282","v":"Veuillez énumérer ici tous les flux (combustibles, matières, produits,…) qui doivent faire l'objet d’une surveillance dans votre installation au moyen d’une méthode fondée sur le calcul (à savoir méthode standard ou bilan massique) Pour la définition du terme «flux», veuillez consulter le document d’orientation n°1 («General guidance for installations»).  Pour la définition des flux de PFC, veuillez vous reporter au point 14 c) de la feuille «I­_PFC»."}]
[null,null,null,null,{"$f":"Translations!$B$283","v":"Les flux peuvent être désignés comme suit «gaz naturel», «fioul lourd», «farine crue à ciment»,…"}]
[null,null,null,null,{"$f":"Translations!$B$284","v":"Le type de flux définit un ensemble de règles à appliquer conformément au MRR. Cette classification détermine d’autres obligations, par exemple les niveaux à appliquer."}]
[null,null,null,null,{"$f":"Translations!$B$285","v":"La liste déroulante permettant de sélectionner le type de flux est basée sur les activités sélectionnées à la rubrique 5 c) ci-dessus. La réponse donnée ici est nécessaire pour déterminer le niveau minimal applicable dans la feuille «E_SourceStreams». "}]
[null,null,null,null,{"$f":"Translations!$B$286","v":"Pour permettre à l’autorité compétente de bien comprendre le fonctionnement de votre installation, veuillez sélectionner dans chaque liste déroulante les activités relevant de l’annexe I, les sources d’émission et les points d’émission qui correspondent à chaque flux.  Si plusieurs activités ou sources d’émissions sont concernées, veuillez saisir, par exemple, «A1, A2»."}]
[null,null,null,null,{"$f":"Translations!$B$135","v":"Pour afficher/masquer les exemples, cliquez sur le bouton «Exemples» dans la zone de navigation."}]
[]
[null,null,null,null,{"$f":"Translations!$B$287","v":"Réf . du flux  F1, F2,…"},{"$f":"Translations!$B$288","v":"Nom du flux"},null,null,{"$f":"Translations!$B$289","v":"Type de flux"},null,null,{"$f":"Translations!$B$250","v":"Réf. de l’activité"},{"$f":"Translations!$B$261","v":"Réf. de la source d’émission"},{"$f":"Translations!$B$275","v":"Réf. du point d’émission"}]
["HIDE_Example",null,null,null,"F01",{"$f":"Translations!$B$290","v":"Farine crue"},null,null,{"$f":"Translations!$B$291","v":"Clinker: D'après la charge du four (méthode A)"},null,null,{"$f":"Translations!$B$292","v":"A1: Production de clinker"},{"$f":"Translations!$B$293","v":"S1: Four à ciment (décarbonatation de la farine crue, combustion de combustibles)"},{"$f":"Translations!$B$294","v":"EP2: Cheminée 2 (four à ciment)"}]
["HIDE_Example",null,null,null,"F02",{"$f":"Translations!$B$295","v":"Fioul lourd"},null,null,{"$f":"Translations!$B$296","v":"Combustion: Autres combustibles gazeux & liquides"},null,null,{"$f":"Translations!$B$292","v":"A1: Production de clinker"},{"$f":"Translations!$B$293","v":"S1: Four à ciment (décarbonatation de la farine crue, combustion de combustibles)"},{"$f":"Translations!$B$294","v":"EP2: Cheminée 2 (four à ciment)"},null,null,null,null,null,null,null,null,null,null,null,"CNTR_CheckPFC"]
[null,null,null,null,"F1",null,null,null,null,null,null,null,null,null,null,null,null,null,{"$f":"EUconst_CNTR_SourceStreamName&F194","v":"SourceStreamName_"},{"$f":"EUconst_CNTR_SourceStreamClass&I194","v":"SourceStreamClass_"},null,null,null,null,null,{"$f":"IF(I194=\"\",\"\",IF(COUNTIF(CNTR_PFCSourceStreams,I194)>0,MAX(Z$193:Z193)+1,\"\"))","v":""},null,{"$f":"L182=EUconst_NotRelevant","v":false}]
[null,null,null,null,"F2",null,null,null,null,null,null,null,null,null,null,null,null,null,"SourceStreamName_","SourceStreamClass_",null,null,null,null,null,{"$f":"IF(I195=\"\",\"\",IF(COUNTIF(CNTR_PFCSourceStreams,I195)>0,MAX(Z$193:Z194)+1,\"\"))","v":""},null,{"$f":"AB194","v":false}]
[null,null,null,null,"F3",null,null,null,null,null,null,null,null,null,null,null,null,null,"SourceStreamName_","SourceStreamClass_",null,null,null,null,null,{"$f":"IF(I196=\"\",\"\",IF(COUNTIF(CNTR_PFCSourceStreams,I196)>0,MAX(Z$193:Z195)+1,\"\"))","v":""},null,{"$f":"AB195","v":false}]
[null,null,null,null,"F4",null,null,null,null,null,null,null,null,null,null,null,null,null,"SourceStreamName_","SourceStreamClass_",null,null,null,null,null,{"$f":"IF(I197=\"\",\"\",IF(COUNTIF(CNTR_PFCSourceStreams,I197)>0,MAX(Z$193:Z196)+1,\"\"))","v":""},null,false]
[null,null,null,null,"F5",null,null,null,null,null,null,null,null,null,null,null,null,null,"SourceStreamName_","SourceStreamClass_",null,null,null,null,null,{"$f":"IF(I198=\"\",\"\",IF(COUNTIF(CNTR_PFCSourceStreams,I198)>0,MAX(Z$193:Z197)+1,\"\"))","v":""},null,false]
[null,null,null,null,"F6",null,null,null,null,null,null,null,null,null,null,null,null,null,"SourceStreamName_","SourceStreamClass_",null,null,null,null,null,{"$f":"IF(I199=\"\",\"\",IF(COUNTIF(CNTR_PFCSourceStreams,I199)>0,MAX(Z$193:Z198)+1,\"\"))","v":""},null,false]
[null,null,null,null,"F7",null,null,null,null,null,null,null,null,null,null,null,null,null,"SourceStreamName_","SourceStreamClass_",null,null,null,null,null,{"$f":"IF(I200=\"\",\"\",IF(COUNTIF(CNTR_PFCSourceStreams,I200)>0,MAX(Z$193:Z199)+1,\"\"))","v":""},null,false]
[null,null,null,null,"F8",null,null,null,null,null,null,null,null,null,null,null,null,null,"SourceStreamName_","SourceStreamClass_",null,null,null,null,null,{"$f":"IF(I201=\"\",\"\",IF(COUNTIF(CNTR_PFCSourceStreams,I201)>0,MAX(Z$193:Z200)+1,\"\"))","v":""},null,false]
[null,null,null,null,"F9",null,null,null,null,null,null,null,null,null,null,null,null,null,"SourceStreamName_","SourceStreamClass_",null,null,null,null,null,{"$f":"IF(I202=\"\",\"\",IF(COUNTIF(CNTR_PFCSourceStreams,I202)>0,MAX(Z$193:Z201)+1,\"\"))","v":""},null,false]
[null,null,null,null,"F10",null,null,null,null,null,null,null,null,null,null,null,null,null,"SourceStreamName_","SourceStreamClass_",null,null,null,null,null,{"$f":"IF(I203=\"\",\"\",IF(COUNTIF(CNTR_PFCSourceStreams,I203)>0,MAX(Z$193:Z202)+1,\"\"))","v":""},null,false]
["ausblenden",null,null,null,null,null,null,null,null,null,null,null,null,null,null,null,null,null,{"$f":"EUconst_CNTR_SourceStreamName&F204","v":"SourceStreamName_"},{"$f":"EUconst_CNTR_SourceStreamClass&I204","v":"SourceStreamClass_"},null,null,null,null,null,{"$f":"IF(I204=\"\",\"\",IF(COUNTIF(CNTR_PFCSourceStreams,I204)>0,MAX(Z$193:Z203)+1,\"\"))","v":""},null,{"$f":"AB203","v":false}]
["ADD_SourceStream"]
[null,null,null,null,null,null,{"$f":"Translations!$B$297","v":"Cliquez sur « + » pour ajouter d’autres flux"}]
[]
[]
[]
[null,null,null,"(f)",{"$f":"Translations!$B$298","v":"Estimation des émissions et catégories de flux:"}]
[null,null,null,null,{"$f":"Translations!$B$299","v":"Veuillez indiquer l’estimation des émissions pour chaque flux (méthode fondée sur le calcul, y compris PFC), et sélectionner une catégorie appropriée de flux."}]
[null,null,null,null,{"$f":"Translations!$B$300","v":"Les données correspondant aux références des flux et au nom complet des flux (nom du flux et type de flux) seront automatiquement reprises du point d) ci-dessus."}]
[null,null,null,null,{"$f":"Translations!$B$1341","v":"Dans le cas de flux sortant d'un bilan massique, les émissions doivent être saisies comme des valeurs négatives. Dans le cas de carbone dont le facteur d'émission est considéré comme égal à zéro impliqué dans le bilan massique, l'article 25, paragraphe 3 s'applique."}]
[null,null,null,null,{"$f":"Translations!$B$302","v":"Contexte: En application de l’article 19, paragraphe 3, vous pouvez catégoriser chaque flux dans en tant que flux «majeur», «mineur» ou «de minimis»."}]
[null,null,null,null,"-",{"$f":"Translations!$B$303","v":"Les flux «mineurs» sont des flux qui représentent au total moins de 5 000 tonnes de CO2 fossile par an ou moins de 10 %, à concurrence de 100 000 tonnes de CO2 fossile par an, la quantité la plus élevée en valeur absolue étant retenue;"}]
[null,null,null,null,"-",{"$f":"Translations!$B$304","v":"Les flux «de minimis» sont des flux qui représentent au total moins de 1 000 tonnes de CO2 fossile par an ou moins de 2 %, à concurrence de 20 000 tonnes de CO2 fossile par an, la quantité la plus élevée en valeur absolue étant retenue;"}]
[null,null,null,null,"-",{"$f":"Translations!$B$305","v":"Les flux «majeurs» sont les flux qui n’entrent ni dans la catégorie des flux «mineurs» ni dans celles des flux «de minimis»."}]
[null,null,null,null,{"$f":"Translations!$B$306","v":"Dans le cas des flux qui entrent dans un bilan massique,  ce sont les valeurs absolues qui sont prises en compte pour la classification. "}]
[null,null,null,null,{"$f":"Translations!$B$307","v":"Pour vous aider à sélectionner la catégorie appropriée, la catégorie possible s’affiche automatiquement, pour chaque flux, dans le champ vert."}]
[null,null,null,null,{"$f":"Translations!$B$308","v":"Veuillez noter que cet affichage automatique n’indique que la catégorie possible pour chaque flux pris séparément. En cas de dépassement d'un des seuils définis ci-dessus, les catégories possibles ne changeront pas, mais un message d'erreur s'affichera. Si tel est le cas, veuillez sélectionner au moins une catégorie d’un niveau supérieur."}]
[null,null,null,null,{"$f":"Translations!$B$309","v":"Lorsque vous aurez saisi les émissions estimées pour tous les flux, la somme sera comparée aux émissions annuelles totales indiquées au point 5 d) ci-dessus. Si la somme des émissions estimées s’écarte de plus de 5 % des émissions annuelles totales, un message d’erreur s’affichera automatiquement. "}]
[]
[null,null,null,null,{"$f":"Translations!$B$287","v":"Réf . du flux  F1, F2,…"},{"$f":"Translations!$B$310","v":"Nom complet du flux (nom + type)"},null,null,null,null,null,{"$f":"Translations!$B$276","v":"Estimation des émissions [t CO2e/an]"},{"$f":"Translations!$B$277","v":"Catégorie possible"},{"$f":"Translations!$B$311","v":"Catégorie sélectionnée"},null,null,null,null,"has entry?",null,null,null,"ABS",null,"minor","de-minimis"]
["HIDE_Example",null,null,null,"F01",{"$f":"Translations!$B$312","v":"Farine crue; Clinker: D'après la charge du four (méthode A)"},null,null,null,null,null,98000,{"$f":"Translations!$B$313","v":"Flux majeur"},{"$f":"Translations!$B$313","v":"Flux majeur"}]
["HIDE_Example",null,null,null,"F02",{"$f":"Translations!$B$314","v":"Fioul lourd; Combustion: Autres combustibles gazeux & liquides"},null,null,null,null,null,19300,{"$f":"Translations!$B$313","v":"Flux majeur"},{"$f":"Translations!$B$313","v":"Flux majeur"}]
[null,null,null,null,{"$f":"IF(ISBLANK(F194),\"\",E194)","v":""},{"$f":"IF(COUNTA(F194:I194)<2,\"\",F194 & \"; \" &I194)","v":""},null,null,null,null,null,null,{"$f":"IF(W226=\"\",\"\",IF(W226<$Z$226,INDEX(SourceCategory,3),IF(W226<$Y$226,INDEX(SourceCategory,2),INDEX(SourceCategory,1))))","v":""},null,null,null,{"$f":"EUconst_CNTR_SourceCategory&E194","v":"SourceCategory_F1"},null,{"$f":"(F226<>\"\")","v":false},{"$f":"EUconst_CNTR_SourceCategory&N226","v":"SourceCategory_"},null,{"$f":"IF(I194=\"\",\"\",IFERROR(IF(AND(SUM(L226)<0,INDEX(EUwideConstants!$W$265:$W$334,MATCH(I194,EUConst_TierActivityListNames,0))),ABS(L226),\"\"),\"\"))","v":""},{"$f":"IF(ISBLANK(L226),\"\",ABS(L226))","v":""},"LIMIT",{"$f":"MAX(5000,MIN(0.1*$Y$242,100000))","v":5000},{"$f":"MAX(1000,MIN(0.02*$Y$242,20000))","v":1000},null,{"$f":"IF(COUNTIF($S$226:$S$236,TRUE)>0,NOT(S226),$L$182=EUconst_NotRelevant)","v":false}]
[null,null,null,null,"","",null,null,null,null,null,null,"",null,null,null,"SourceCategory_F2",null,{"$f":"(F227<>\"\")","v":false},"SourceCategory_",null,{"$f":"IF(I195=\"\",\"\",IFERROR(IF(AND(SUM(L227)<0,INDEX(EUwideConstants!$W$265:$W$334,MATCH(I195,EUConst_TierActivityListNames,0))),ABS(L227),\"\"),\"\"))","v":""},{"$f":"IF(ISBLANK(L227),\"\",ABS(L227))","v":""},"SUM",{"$f":"SUMIF(T$226:T236,EUconst_CNTR_SourceCategory&INDEX(SourceCategory,2),W$226:W236)","v":0},{"$f":"SUMIF(T$226:T236,EUconst_CNTR_SourceCategory&INDEX(SourceCategory,3),W$226:W236)","v":0},null,false]
[null,null,null,null,"","",null,null,null,null,null,null,"",null,null,null,"SourceCategory_F3",null,false,"SourceCategory_",null,{"$f":"IF(I196=\"\",\"\",IFERROR(IF(AND(SUM(L228)<0,INDEX(EUwideConstants!$W$265:$W$334,MATCH(I196,EUConst_TierActivityListNames,0))),ABS(L228),\"\"),\"\"))","v":""},"",null,null,null,null,false]
[null,null,null,null,"","",null,null,null,null,null,null,"",null,null,null,"SourceCategory_F4",null,false,"SourceCategory_",null,{"$f":"IF(I197=\"\",\"\",IFERROR(IF(AND(SUM(L229)<0,INDEX(EUwideConstants!$W$265:$W$334,MATCH(I197,EUConst_TierActivityListNames,0))),ABS(L229),\"\"),\"\"))","v":""},"",null,null,null,null,false]
[null,null,null,null,"","",null,null,null,null,null,null,"",null,null,null,"SourceCategory_F5",null,false,"SourceCategory_",null,{"$f":"IF(I198=\"\",\"\",IFERROR(IF(AND(SUM(L230)<0,INDEX(EUwideConstants!$W$265:$W$334,MATCH(I198,EUConst_TierActivityListNames,0))),ABS(L230),\"\"),\"\"))","v":""},"",null,null,null,null,false]
[null,null,null,null,"","",null,null,null,null,null,null,"",null,null,null,"SourceCategory_F6",null,{"$f":"(F231<>\"\")","v":false},{"$f":"EUconst_CNTR_SourceCategory&N231","v":"SourceCategory_"},null,{"$f":"IF(I199=\"\",\"\",IFERROR(IF(AND(SUM(L231)<0,INDEX(EUwideConstants!$W$265:$W$334,MATCH(I199,EUConst_TierActivityListNames,0))),ABS(L231),\"\"),\"\"))","v":""},"",null,null,null,null,false]
[null,null,null,null,"","",null,null,null,null,null,null,"",null,null,null,"SourceCategory_F7",null,false,"SourceCategory_",null,{"$f":"IF(I200=\"\",\"\",IFERROR(IF(AND(SUM(L232)<0,INDEX(EUwideConstants!$W$265:$W$334,MATCH(I200,EUConst_TierActivityListNames,0))),ABS(L232),\"\"),\"\"))","v":""},"",null,null,null,null,false]
[null,null,null,null,"","",null,null,null,null,null,null,"",null,null,null,"SourceCategory_F8",null,false,"SourceCategory_",null,{"$f":"IF(I201=\"\",\"\",IFERROR(IF(AND(SUM(L233)<0,INDEX(EUwideConstants!$W$265:$W$334,MATCH(I201,EUConst_TierActivityListNames,0))),ABS(L233),\"\"),\"\"))","v":""},"",null,null,null,null,false]
[null,null,null,null,"","",null,null,null,null,null,null,"",null,null,null,"SourceCategory_F9",null,false,"SourceCategory_",null,{"$f":"IF(I202=\"\",\"\",IFERROR(IF(AND(SUM(L234)<0,INDEX(EUwideConstants!$W$265:$W$334,MATCH(I202,EUConst_TierActivityListNames,0))),ABS(L234),\"\"),\"\"))","v":""},"",null,null,null,null,false]
[null,null,null,null,"","",null,null,null,null,null,null,"",null,null,null,"SourceCategory_F10",null,false,"SourceCategory_",null,{"$f":"IF(I203=\"\",\"\",IFERROR(IF(AND(SUM(L235)<0,INDEX(EUwideConstants!$W$265:$W$334,MATCH(I203,EUConst_TierActivityListNames,0))),ABS(L235),\"\"),\"\"))","v":""},"",null,null,null,null,false]
["ausblenden",null,null,null,{"$f":"IF(ISBLANK(F205),\"\",E205)","v":""},{"$f":"IF(COUNTA(F204:I204)<2,\"\",F204 & \"; \" &I204)","v":""},null,null,null,null,null,null,{"$f":"IF(W236=\"\",\"\",IF(W236<$Z$226,INDEX(SourceCategory,3),IF(W236<$Y$226,INDEX(SourceCategory,2),INDEX(SourceCategory,1))))","v":""},null,null,null,{"$f":"EUconst_CNTR_SourceCategory&E204","v":"SourceCategory_"},null,{"$f":"(F236<>\"\")","v":false},{"$f":"EUconst_CNTR_SourceCategory&N236","v":"SourceCategory_"},null,{"$f":"IF(I204=\"\",\"\",IFERROR(IF(AND(SUM(L236)<0,INDEX(EUwideConstants!$W$265:$W$334,MATCH(I204,EUConst_TierActivityListNames,0))),ABS(L236),\"\"),\"\"))","v":""},{"$f":"IF(ISBLANK(L236),\"\",ABS(L236))","v":""},null,null,null,null,false]
["ADD_SourceStream"]
[null,null,null,null,null,{"$f":"Translations!$B$315","v":"Message d’erreur (somme des flux mineurs):"},null,null,null,null,{"$f":"IF(Y238=TRUE,EUconst_ERR_ThreshholdMinor,\"\")","v":""},null,null,null,null,null,null,null,null,null,null,null,null,"error?",{"$f":"Y227>Y226","v":false}]
[]
[null,null,null,null,null,{"$f":"Translations!$B$316","v":"Message d’erreur (somme des flux de minimis):"},null,null,null,null,{"$f":"IF(Y240=TRUE,EUconst_ERR_ThreshholdDeminimis,\"\")","v":""},null,null,null,null,null,null,null,null,null,null,null,null,"error?",{"$f":"Z227>Z226","v":false}]
[]
[null,null,null,null,null,{"$f":"Translations!$B$317","v":"Message d’erreur (Émissions totales, différence par rapport au point 5 d)):"},null,null,null,{"$f":"IF(ISBLANK(CNTR_TotalEmissions),\"\",IF(COUNTIF(S226:S236,TRUE)<>COUNT(W226:W236),\"\",SUM(L171:L176,L226:L236,V226:V236)/CNTR_TotalEmissions-1))","v":""},{"$f":"IF(ISBLANK(CNTR_TotalEmissions),\"\",IF(COUNTIF(S226:S236,TRUE)<>COUNT(W226:W236),\"\",IF(OR(SUM(L171:L176,L226:L236,V226:V236)/CNTR_TotalEmissions<0.95,SUM(L171:L176,L226:L236,V226:V236)/CNTR_TotalEmissions>1.05),EUconst_ERR_CheckEstimatedEmissions,\"\")))","v":""},null,null,null,null,null,null,null,null,null,null,null,null,"SUM",{"$f":"SUM(W171:W236)","v":0}]
[]
[null,null,null,"(g)",{"$f":"Translations!$B$318","v":"Parties d’installations et activités ne relevant pas du SEQE de l’UE, le cas échéant:"}]
[null,null,null,null,{"$f":"Translations!$B$319","v":"Veuillez fournir des précisions sur les parties d’installations ou les activités qui ne sont pas incluses dans le SEQE de l’UE lorsque des combustibles ou des matières utilisées par ces activités sont pris en compte par des dispositifs de mesure qui servent également à des activités visées à l’annexe I."}]
[null,null,null,null,{"$f":"Translations!$B$320","v":"Pour plus de précisions, veuillez consulter les points b), c) et c) ci-dessus. "}]
[null,null,null,null,{"$f":"Translations!$B$135","v":"Pour afficher/masquer les exemples, cliquez sur le bouton «Exemples» dans la zone de navigation."}]
[]
[null,null,null,null,{"$f":"Translations!$B$321","v":"Réf. de la source d’émission"},{"$f":"Translations!$B$322","v":"Flux (combustibles/matières)"},null,null,{"$f":"Translations!$B$323","v":"Sources d'émission"},null,null,{"$f":"Translations!$B$324","v":"Points d’émission"}]
["HIDE_Example",null,null,null,"S011",{"$f":"Translations!$B$325","v":"Gaz naturel (passant de l’installation au consommateur externe)"},null,null,{"$f":"Translations!$B$326","v":"Plusieurs chaudières (< 3MWth chacune)"},null,null,{"$f":"Translations!$B$327","v":"Cheminée d’installation raccordée (chauffage d'un hôpital adjacent)"}]
[]
[]
[]
[]
[]
[]
[]
[]
[]
["ausblenden"]
["ADD_ActivitiesExcluded"]
[null,null,null,null,null,null,{"$f":"Translations!$B$328","v":"Cliquez sur «+» pour ajouter d’autres activités exclues du SEQE de l’UE"}]
[]
[]
[]
[null,null,null,null,null,{"$f":"EUconst_MsgNextSheet","v":"<<< Cliquer ici pour passer à la feuille suivante >>> "}]
[]
[null,null,null,null,null,10]
["ausblenden","End","End","End","End","End","End","End","End","End","End","End","End","End","End","End","End","End","End","End","End","End","End","End","End","End","End","End"]
["ausblenden"]
["ausblenden",null,null,null,null,{"$f":"Translations!$B$956","v":"Activité"},"Source Stream Types"]
["ausblenden",null,null,null,"Act. 1",{"$f":"IF(ISBLANK(F56),\"\",F56)","v":""},{"$f":"IF($F272=\"\",\"\",INDEX(EUwideConstants!E$230:E$258,MATCH($F272,AnnexIActivities,0)))","v":""},{"$f":"IF($F272=\"\",\"\",INDEX(EUwideConstants!F$230:F$258,MATCH($F272,AnnexIActivities,0)))","v":""},{"$f":"IF($F272=\"\",\"\",INDEX(EUwideConstants!G$230:G$258,MATCH($F272,AnnexIActivities,0)))","v":""},{"$f":"IF($F272=\"\",\"\",INDEX(EUwideConstants!H$230:H$258,MATCH($F272,AnnexIActivities,0)))","v":""},{"$f":"IF($F272=\"\",\"\",INDEX(EUwideConstants!I$230:I$258,MATCH($F272,AnnexIActivities,0)))","v":""},{"$f":"IF($F272=\"\",\"\",INDEX(EUwideConstants!J$230:J$258,MATCH($F272,AnnexIActivities,0)))","v":""},{"$f":"IF($F272=\"\",\"\",INDEX(EUwideConstants!K$230:K$258,MATCH($F272,AnnexIActivities,0)))","v":""}]
["ausblenden",null,null,null,"Act. 2",{"$f":"IF(ISBLANK(F57),\"\",F57)","v":""},{"$f":"IF($F273=\"\",\"\",INDEX(EUwideConstants!E$230:E$258,MATCH($F273,AnnexIActivities,0)))","v":""},{"$f":"IF($F273=\"\",\"\",INDEX(EUwideConstants!F$230:F$258,MATCH($F273,AnnexIActivities,0)))","v":""},{"$f":"IF($F273=\"\",\"\",INDEX(EUwideConstants!G$230:G$258,MATCH($F273,AnnexIActivities,0)))","v":""},{"$f":"IF($F273=\"\",\"\",INDEX(EUwideConstants!H$230:H$258,MATCH($F273,AnnexIActivities,0)))","v":""},{"$f":"IF($F273=\"\",\"\",INDEX(EUwideConstants!I$230:I$258,MATCH($F273,AnnexIActivities,0)))","v":""},{"$f":"IF($F273=\"\",\"\",INDEX(EUwideConstants!J$230:J$258,MATCH($F273,AnnexIActivities,0)))","v":""},{"$f":"IF($F273=\"\",\"\",INDEX(EUwideConstants!K$230:K$258,MATCH($F273,AnnexIActivities,0)))","v":""}]
["ausblenden",null,null,null,"Act. 3",{"$f":"IF(ISBLANK(F58),\"\",F58)","v":""},{"$f":"IF($F274=\"\",\"\",INDEX(EUwideConstants!E$230:E$258,MATCH($F274,AnnexIActivities,0)))","v":""},{"$f":"IF($F274=\"\",\"\",INDEX(EUwideConstants!F$230:F$258,MATCH($F274,AnnexIActivities,0)))","v":""},{"$f":"IF($F274=\"\",\"\",INDEX(EUwideConstants!G$230:G$258,MATCH($F274,AnnexIActivities,0)))","v":""},{"$f":"IF($F274=\"\",\"\",INDEX(EUwideConstants!H$230:H$258,MATCH($F274,AnnexIActivities,0)))","v":""},{"$f":"IF($F274=\"\",\"\",INDEX(EUwideConstants!I$230:I$258,MATCH($F274,AnnexIActivities,0)))","v":""},{"$f":"IF($F274=\"\",\"\",INDEX(EUwideConstants!J$230:J$258,MATCH($F274,AnnexIActivities,0)))","v":""},{"$f":"IF($F274=\"\",\"\",INDEX(EUwideConstants!K$230:K$258,MATCH($F274,AnnexIActivities,0)))","v":""}]
["ausblenden",null,null,null,"Act. 4",{"$f":"IF(ISBLANK(F59),\"\",F59)","v":""},{"$f":"IF($F275=\"\",\"\",INDEX(EUwideConstants!E$230:E$258,MATCH($F275,AnnexIActivities,0)))","v":""},{"$f":"IF($F275=\"\",\"\",INDEX(EUwideConstants!F$230:F$258,MATCH($F275,AnnexIActivities,0)))","v":""},{"$f":"IF($F275=\"\",\"\",INDEX(EUwideConstants!G$230:G$258,MATCH($F275,AnnexIActivities,0)))","v":""},{"$f":"IF($F275=\"\",\"\",INDEX(EUwideConstants!H$230:H$258,MATCH($F275,AnnexIActivities,0)))","v":""},{"$f":"IF($F275=\"\",\"\",INDEX(EUwideConstants!I$230:I$258,MATCH($F275,AnnexIActivities,0)))","v":""},{"$f":"IF($F275=\"\",\"\",INDEX(EUwideConstants!J$230:J$258,MATCH($F275,AnnexIActivities,0)))","v":""},{"$f":"IF($F275=\"\",\"\",INDEX(EUwideConstants!K$230:K$258,MATCH($F275,AnnexIActivities,0)))","v":""}]
["ausblenden",null,null,null,"Act. 5",{"$f":"IF(ISBLANK(F60),\"\",F60)","v":""},{"$f":"IF($F276=\"\",\"\",INDEX(EUwideConstants!E$230:E$258,MATCH($F276,AnnexIActivities,0)))","v":""},{"$f":"IF($F276=\"\",\"\",INDEX(EUwideConstants!F$230:F$258,MATCH($F276,AnnexIActivities,0)))","v":""},{"$f":"IF($F276=\"\",\"\",INDEX(EUwideConstants!G$230:G$258,MATCH($F276,AnnexIActivities,0)))","v":""},{"$f":"IF($F276=\"\",\"\",INDEX(EUwideConstants!H$230:H$258,MATCH($F276,AnnexIActivities,0)))","v":""},{"$f":"IF($F276=\"\",\"\",INDEX(EUwideConstants!I$230:I$258,MATCH($F276,AnnexIActivities,0)))","v":""},{"$f":"IF($F276=\"\",\"\",INDEX(EUwideConstants!J$230:J$258,MATCH($F276,AnnexIActivities,0)))","v":""},{"$f":"IF($F276=\"\",\"\",INDEX(EUwideConstants!K$230:K$258,MATCH($F276,AnnexIActivities,0)))","v":""}]
["ausblenden",null,null,null,"Act. 6",{"$f":"IF(ISBLANK(F63),\"\",F63)","v":""},{"$f":"IF($F277=\"\",\"\",INDEX(EUwideConstants!E$230:E$258,MATCH($F277,AnnexIActivities,0)))","v":""},{"$f":"IF($F277=\"\",\"\",INDEX(EUwideConstants!F$230:F$258,MATCH($F277,AnnexIActivities,0)))","v":""},{"$f":"IF($F277=\"\",\"\",INDEX(EUwideConstants!G$230:G$258,MATCH($F277,AnnexIActivities,0)))","v":""},{"$f":"IF($F277=\"\",\"\",INDEX(EUwideConstants!H$230:H$258,MATCH($F277,AnnexIActivities,0)))","v":""},{"$f":"IF($F277=\"\",\"\",INDEX(EUwideConstants!I$230:I$258,MATCH($F277,AnnexIActivities,0)))","v":""},{"$f":"IF($F277=\"\",\"\",INDEX(EUwideConstants!J$230:J$258,MATCH($F277,AnnexIActivities,0)))","v":""},{"$f":"IF($F277=\"\",\"\",INDEX(EUwideConstants!K$230:K$258,MATCH($F277,AnnexIActivities,0)))","v":""}]
["ausblenden"]
["ausblenden",null,null,null,null,null,null,null,"source stream",null,"source stream name"]
["ausblenden",null,null,null,null,1,{"$f":"INDEX(EUConst_TierActivityListNames,F280)","v":"Combustion: Combustibles marchands ordinaires"},{"$f":"F280","v":1},{"$f":"IF(ISERROR(INDEX($G$280:$G$350,MATCH(F280,$H$280:$H$350,0))),\"\",INDEX($G$280:$G$350,MATCH(F280,$H$280:$H$350,0)))","v":"Combustion: Combustibles marchands ordinaires"}]
["ausblenden",null,null,null,null,{"$f":"F280+1","v":2},{"$f":"INDEX(EUConst_TierActivityListNames,F281)","v":"Combustion: Autres combustibles gazeux & liquides"},2,{"$f":"IF(ISERROR(INDEX($G$280:$G$350,MATCH(F281,$H$280:$H$350,0))),\"\",INDEX($G$280:$G$350,MATCH(F281,$H$280:$H$350,0)))","v":"Combustion: Autres combustibles gazeux & liquides"}]
["ausblenden",null,null,null,null,{"$f":"F281+1","v":3},"Combustion: Combustibles solides, hors déchets",3,"Combustion: Combustibles solides, hors déchets"]
["ausblenden",null,null,null,null,4,"Combustion: Déchets",4,"Combustion: Déchets"]
["ausblenden",null,null,null,null,5,"Combustion: Terminaux de traitement du gaz",5,"Combustion: Terminaux de traitement du gaz"]
["ausblenden",null,null,null,null,6,"Combustion: Torchères",6,"Combustion: Torchères"]
["ausblenden",null,null,null,null,7,"Combustion: Épuration (carbonate)",7,"Combustion: Épuration (carbonate)"]
["ausblenden",null,null,null,null,8,"Combustion: Épuration (gypse)",8,"Combustion: Épuration (gypse)"]
["ausblenden",null,null,null,null,9,"Combustion: Épuration (urée)",9,"Combustion: Épuration (urée)"]
["ausblenden",null,null,null,null,10,{"$f":"INDEX(EUConst_TierActivityListNames,F289)","v":"Raffineries: Bilan massique"},{"$f":"IF(COUNTIF($G$272:$M$277,G289)>0,MAX(H$288:H288)+1,\"\")","v":""},""]
["ausblenden",null,null,null,null,11,"Raffineries: Régénération des catalyseurs de craquage catalytique",{"$f":"IF(COUNTIF($G$272:$M$277,G290)>0,MAX(H$288:H289)+1,\"\")","v":""},""]
["ausblenden",null,null,null,null,12,"Raffineries: Production d'hydrogène",{"$f":"IF(COUNTIF($G$272:$M$277,G291)>0,MAX(H$288:H290)+1,\"\")","v":""},""]
["ausblenden",null,null,null,null,13,"Coke: Combustible employé pour alimenter le procédé",{"$f":"IF(COUNTIF($G$272:$M$277,G292)>0,MAX(H$288:H291)+1,\"\")","v":""},""]
["ausblenden",null,null,null,null,14,"Coke: Procédé (méthode A): uniquement carbonates",{"$f":"IF(COUNTIF($G$272:$M$277,G293)>0,MAX(H$288:H292)+1,\"\")","v":""},""]
["ausblenden",null,null,null,null,15,"Coke: Procédé (méthode A): mélange (carbonates + autres que carbonates)",{"$f":"IF(COUNTIF($G$272:$M$277,G294)>0,MAX(H$288:H293)+1,\"\")","v":""},""]
["ausblenden",null,null,null,null,16,"Coke: Procédé (méthode A): non issu de carbonate",{"$f":"IF(COUNTIF($G$272:$M$277,G295)>0,MAX(H$288:H294)+1,\"\")","v":""},""]
["ausblenden",null,null,null,null,17,"Coke: Procédé (méthode B): production d’oxydes",{"$f":"IF(COUNTIF($G$272:$M$277,G296)>0,MAX(H$288:H295)+1,\"\")","v":""},""]
["ausblenden",null,null,null,null,18,"Coke: Bilan massique",{"$f":"IF(COUNTIF($G$272:$M$277,G297)>0,MAX(H$288:H296)+1,\"\")","v":""},""]
["ausblenden",null,null,null,null,19,"Minerai de métaux: Procédé (méthode A): uniquement carbonates",{"$f":"IF(COUNTIF($G$272:$M$277,G298)>0,MAX(H$288:H297)+1,\"\")","v":""},""]
["ausblenden",null,null,null,null,20,"Minerai de métaux: Procédé (méthode A): mélange (carbonates + autres que carbonates)",{"$f":"IF(COUNTIF($G$272:$M$277,G299)>0,MAX(H$288:H298)+1,\"\")","v":""},""]
["ausblenden",null,null,null,null,21,"Minerai de métaux: Procédé (méthode A): non issu de carbonate",{"$f":"IF(COUNTIF($G$272:$M$277,G300)>0,MAX(H$288:H299)+1,\"\")","v":""},""]
["ausblenden",null,null,null,null,22,"Minerai de métaux: Procédé (méthode B): production d’oxydes",{"$f":"IF(COUNTIF($G$272:$M$277,G301)>0,MAX(H$288:H300)+1,\"\")","v":""},""]
["ausblenden",null,null,null,null,23,"Minerai de métaux: Bilan massique",{"$f":"IF(COUNTIF($G$272:$M$277,G302)>0,MAX(H$288:H301)+1,\"\")","v":""},""]
["ausblenden",null,null,null,null,24,"Sidérurgie: Combustible employé pour alimenter le procédé",{"$f":"IF(COUNTIF($G$272:$M$277,G303)>0,MAX(H$288:H302)+1,\"\")","v":""},""]
["ausblenden",null,null,null,null,25,"Sidérurgie: Procédé (méthode A): uniquement carbonates",{"$f":"IF(COUNTIF($G$272:$M$277,G304)>0,MAX(H$288:H303)+1,\"\")","v":""},""]
["ausblenden",null,null,null,null,26,"Sidérurgie: Procédé (méthode A): mélange (carbonates + autres que carbonates)",{"$f":"IF(COUNTIF($G$272:$M$277,G305)>0,MAX(H$288:H304)+1,\"\")","v":""},""]
["ausblenden",null,null,null,null,27,"Sidérurgie: Procédé (méthode A): non issu de carbonate",{"$f":"IF(COUNTIF($G$272:$M$277,G306)>0,MAX(H$288:H305)+1,\"\")","v":""},""]
["ausblenden",null,null,null,null,28,"Sidérurgie: Procédé (méthode B): production d’oxydes",{"$f":"IF(COUNTIF($G$272:$M$277,G307)>0,MAX(H$288:H306)+1,\"\")","v":""},""]
["ausblenden",null,null,null,null,29,"Sidérurgie: Bilan massique",{"$f":"IF(COUNTIF($G$272:$M$277,G308)>0,MAX(H$288:H307)+1,\"\")","v":""},""]
["ausblenden",null,null,null,null,30,"Clinker: D'après la charge du four (méthode A)",{"$f":"IF(COUNTIF($G$272:$M$277,G309)>0,MAX(H$288:H308)+1,\"\")","v":""},""]
["ausblenden",null,null,null,null,31,"Clinker: Quantité de clinker produite (méthode B)",{"$f":"IF(COUNTIF($G$272:$M$277,G310)>0,MAX(H$288:H309)+1,\"\")","v":""},""]
["ausblenden",null,null,null,null,32,"Clinker: Poussières des fours à ciment",{"$f":"IF(COUNTIF($G$272:$M$277,G311)>0,MAX(H$288:H310)+1,\"\")","v":""},""]
["ausblenden",null,null,null,null,33,"Clinker: Carbone non issu de carbonates",{"$f":"IF(COUNTIF($G$272:$M$277,G312)>0,MAX(H$288:H311)+1,\"\")","v":""},""]
["ausblenden",null,null,null,null,34,"Chaux / dolomite / magnésite: Procédé (méthode A): uniquement carbonates",{"$f":"IF(COUNTIF($G$272:$M$277,G313)>0,MAX(H$288:H312)+1,\"\")","v":""},""]
["ausblenden",null,null,null,null,35,"Chaux / dolomite / magnésite: Procédé (méthode A): mélange (carbonates + autres que carbonates)",{"$f":"IF(COUNTIF($G$272:$M$277,G314)>0,MAX(H$288:H313)+1,\"\")","v":""},""]
["ausblenden",null,null,null,null,36,"Chaux / dolomite / magnésite: Procédé (méthode A): non issu de carbonate",{"$f":"IF(COUNTIF($G$272:$M$277,G315)>0,MAX(H$288:H314)+1,\"\")","v":""},""]
["ausblenden",null,null,null,null,37,"Chaux / dolomite / magnésite: Procédé (méthode B): production d’oxydes",{"$f":"IF(COUNTIF($G$272:$M$277,G316)>0,MAX(H$288:H315)+1,\"\")","v":""},""]
["ausblenden",null,null,null,null,38,"Chaux / dolomite / magnésite: Poussières de four (méthode B)",{"$f":"IF(COUNTIF($G$272:$M$277,G317)>0,MAX(H$288:H316)+1,\"\")","v":""},""]
["ausblenden",null,null,null,null,39,"Verre et laine minérale: Procédé (méthode A): uniquement carbonates",{"$f":"IF(COUNTIF($G$272:$M$277,G318)>0,MAX(H$288:H317)+1,\"\")","v":""},""]
["ausblenden",null,null,null,null,40,"Verre et laine minérale: Procédé (méthode A): mélange (carbonates + autres que carbonates)",{"$f":"IF(COUNTIF($G$272:$M$277,G319)>0,MAX(H$288:H318)+1,\"\")","v":""},""]
["ausblenden",null,null,null,null,41,"Verre et laine minérale: Procédé (méthode A): non issu de carbonate",{"$f":"IF(COUNTIF($G$272:$M$277,G320)>0,MAX(H$288:H319)+1,\"\")","v":""},""]
["ausblenden",null,null,null,null,42,"Céramique: Procédé (méthode A): uniquement carbonates",{"$f":"IF(COUNTIF($G$272:$M$277,G321)>0,MAX(H$288:H320)+1,\"\")","v":""},""]
["ausblenden",null,null,null,null,43,"Céramique: Procédé (méthode A): mélange (carbonates + autres que carbonates)",{"$f":"IF(COUNTIF($G$272:$M$277,G322)>0,MAX(H$288:H321)+1,\"\")","v":""},""]
["ausblenden",null,null,null,null,44,"Céramique: Procédé (méthode A): non issu de carbonate",{"$f":"IF(COUNTIF($G$272:$M$277,G323)>0,MAX(H$288:H322)+1,\"\")","v":""},""]
["ausblenden",null,null,null,null,45,"Céramique: Procédé (méthode B): production d’oxydes",{"$f":"IF(COUNTIF($G$272:$M$277,G324)>0,MAX(H$288:H323)+1,\"\")","v":""},""]
["ausblenden",null,null,null,null,46,"Céramique: Épuration",{"$f":"IF(COUNTIF($G$272:$M$277,G325)>0,MAX(H$288:H324)+1,\"\")","v":""},""]
["ausblenden",null,null,null,null,47,"Papier et pâte à papier: Produits chimiques d'appoint",{"$f":"IF(COUNTIF($G$272:$M$277,G326)>0,MAX(H$288:H325)+1,\"\")","v":""},""]
["ausblenden",null,null,null,null,48,"Noir de carbone: Méthode du bilan massique",{"$f":"IF(COUNTIF($G$272:$M$277,G327)>0,MAX(H$288:H326)+1,\"\")","v":""},""]
["ausblenden",null,null,null,null,49,"Ammoniac: Combustible employé pour alimenter le procédé",{"$f":"IF(COUNTIF($G$272:$M$277,G328)>0,MAX(H$288:H327)+1,\"\")","v":""},""]
["ausblenden",null,null,null,null,50,"Hydrogène et gaz de synthèse: Combustible employé pour alimenter le procédé",{"$f":"IF(COUNTIF($G$272:$M$277,G329)>0,MAX(H$288:H328)+1,\"\")","v":""},""]
["ausblenden",null,null,null,null,51,"Hydrogène et gaz de synthèse: Méthode du bilan massique",{"$f":"IF(COUNTIF($G$272:$M$277,G330)>0,MAX(H$288:H329)+1,\"\")","v":""},""]
["ausblenden",null,null,null,null,52,"Produits chimiques organiques de base: Méthode du bilan massique",{"$f":"IF(COUNTIF($G$272:$M$277,G331)>0,MAX(H$288:H330)+1,\"\")","v":""},""]
["ausblenden",null,null,null,null,53,"Aluminium secondaire, (non) ferreux: Procédé (méthode A): uniquement carbonates",{"$f":"IF(COUNTIF($G$272:$M$277,G332)>0,MAX(H$288:H331)+1,\"\")","v":""},""]
["ausblenden",null,null,null,null,54,"Aluminium secondaire, (non) ferreux: Procédé (méthode A): mélange (carbonates + autres que carbonates)",{"$f":"IF(COUNTIF($G$272:$M$277,G333)>0,MAX(H$288:H332)+1,\"\")","v":""},""]
["ausblenden",null,null,null,null,55,"Aluminium secondaire, (non) ferreux: Procédé (méthode A): non issu de carbonate",{"$f":"IF(COUNTIF($G$272:$M$277,G334)>0,MAX(H$288:H333)+1,\"\")","v":""},""]
["ausblenden",null,null,null,null,56,"Aluminium secondaire, (non) ferreux: Procédé (méthode B): production d’oxydes",{"$f":"IF(COUNTIF($G$272:$M$277,G335)>0,MAX(H$288:H334)+1,\"\")","v":""},""]
["ausblenden",null,null,null,null,57,"Aluminium secondaire, (non) ferreux: Méthode du bilan massique",{"$f":"IF(COUNTIF($G$272:$M$277,G336)>0,MAX(H$288:H335)+1,\"\")","v":""},""]
["ausblenden",null,null,null,null,58,"Soude / bicarbonate de sodium: Méthode du bilan massique",{"$f":"IF(COUNTIF($G$272:$M$277,G337)>0,MAX(H$288:H336)+1,\"\")","v":""},""]
["ausblenden",null,null,null,null,59,"Aluminium primaire: Méthode du bilan massique",{"$f":"IF(COUNTIF($G$272:$M$277,G338)>0,MAX(H$288:H337)+1,\"\")","v":""},""]
["ausblenden",null,null,null,null,60,"Aluminium primaire: Émissions de PFC (méthode des pentes)",{"$f":"IF(COUNTIF($G$272:$M$277,G339)>0,MAX(H$288:H338)+1,\"\")","v":""},""]
["ausblenden",null,null,null,null,61,{"$f":"INDEX(EUConst_TierActivityListNames,F340)","v":"Aluminium primaire: Émissions de PFC (méthode de la surtension)"},{"$f":"IF(COUNTIF($G$272:$M$277,G340)>0,MAX(H$288:H339)+1,\"\")","v":""},""]
["ausblenden",null,null,null,null,62,"CCS: Capture: CO2 transferred",{"$f":"IF(COUNTIF($G$272:$M$277,G341)>0,MAX(H$288:H340)+1,\"\")","v":""},""]
["ausblenden",null,null,null,null,63,"CCS: Transport: CO2 transferred",{"$f":"IF(COUNTIF($G$272:$M$277,G342)>0,MAX(H$288:H341)+1,\"\")","v":""},""]
["ausblenden",null,null,null,null,64,"CCS: Transport: CO2 vented",{"$f":"IF(COUNTIF($G$272:$M$277,G343)>0,MAX(H$288:H342)+1,\"\")","v":""},""]
["ausblenden",null,null,null,null,65,"CCS: Transport: CO2 leaked",{"$f":"IF(COUNTIF($G$272:$M$277,G344)>0,MAX(H$288:H343)+1,\"\")","v":""},""]
["ausblenden",null,null,null,null,66,"CCS: Transport: CO2 fugitive",{"$f":"IF(COUNTIF($G$272:$M$277,G345)>0,MAX(H$288:H344)+1,\"\")","v":""},{"$f":"IF(ISERROR(INDEX($G$280:$G$350,MATCH(F345,$H$280:$H$350,0))),\"\",INDEX($G$280:$G$350,MATCH(F345,$H$280:$H$350,0)))","v":""}]
["ausblenden",null,null,null,null,{"$f":"F345+1","v":67},"CCS: Storage: CO2 transferred",{"$f":"IF(COUNTIF($G$272:$M$277,G346)>0,MAX(H$288:H345)+1,\"\")","v":""},""]
["ausblenden",null,null,null,null,{"$f":"F346+1","v":68},"CCS: Storage: CO2 vented",{"$f":"IF(COUNTIF($G$272:$M$277,G347)>0,MAX(H$288:H346)+1,\"\")","v":""},""]
["ausblenden",null,null,null,null,{"$f":"F347+1","v":69},"CCS: Storage: CO2 leaked",{"$f":"IF(COUNTIF($G$272:$M$277,G348)>0,MAX(H$288:H347)+1,\"\")","v":""},""]
["ausblenden",null,null,null,null,{"$f":"F348+1","v":70},{"$f":"INDEX(EUConst_TierActivityListNames,F349)","v":"CCS: Storage: CO2 fugitive"},{"$f":"IF(COUNTIF($G$272:$M$277,G349)>0,MAX(H$288:H348)+1,\"\")","v":""},""]
["ausblenden",null,null,null,"only for CCU:",{"$f":"F349+1","v":71},{"$f":"IF(CNTR_InstHasCCU=TRUE,EUwideConstants!$Q$769,\"\")","v":""},{"$f":"IF(G350<>\"\",MAX(H$288:H349)+1,\"\")","v":""},""]
["ausblenden"]

{"sheet":"D_CalculationBasedApproaches","index":5,"n_rows":318,"n_cols":23,"rows_kept":318,"cut":false,"hidden":false,"merged":[[292,6,292,13],[293,6,293,13],[297,4,297,5],[297,6,297,13],[294,4,294,5],[294,6,294,13],[295,4,295,5],[295,6,295,13],[296,4,296,5],[296,6,296,13],[285,4,285,13],[286,4,286,13],[288,4,288,5],[288,6,288,13],[289,4,289,5],[289,6,289,13],[290,4,290,5],[290,6,290,13],[291,4,291,5],[291,6,291,13],[268,6,268,13],[269,4,269,5],[269,6,269,13],[264,6,264,13],[265,6,265,13],[266,4,266,5],[266,6,266,13],[267,4,267,5],[267,6,267,13],[227,4,227,5],[162,4,162,13],[188,4,188,13],[189,4,189,13],[234,4,234,5],[247,6,247,13],[248,4,248,5],[248,6,248,13],[200,6,200,13],[202,4,202,13],[205,6,205,13],[234,6,234,13],[230,4,230,13],[213,6,213,13],[210,6,210,13],[213,4,213,5],[212,4,212,5],[211,4,211,5],[211,6,211,13],[227,6,227,13],[220,4,220,5],[222,6,222,13],[226,4,226,5],[226,6,226,13],[312,6,314,10],[299,4,299,13],[237,6,237,13],[238,6,238,13],[239,4,239,5],[239,6,239,13],[240,4,240,5],[240,6,240,13],[241,4,241,5],[244,4,244,13],[249,4,249,5],[249,6,249,13],[250,6,250,13],[251,6,251,13],[252,4,252,5],[252,6,252,13],[253,4,253,5],[253,6,253,13],[254,4,254,5],[254,6,254,13],[255,4,255,5],[255,6,255,13],[257,4,257,13],[258,4,258,13],[301,4,301,5],[235,4,235,5],[235,6,235,13],[301,6,301,13],[243,4,243,13],[236,6,236,13],[238,4,238,5],[246,4,246,5],[246,6,246,13],[247,4,247,5],[260,4,260,5],[260,6,260,13],[261,4,261,5],[261,6,261,13],[262,4,262,5],[262,6,262,13],[263,4,263,5],[263,6,263,13],[268,4,268,5],[271,4,271,13],[272,4,272,13],[274,4,274,5],[274,6,274,13],[275,4,275,5],[316,5,316,11],[5,2,5,10],[58,4,58,13],[102,4,102,13],[133,4,133,13],[2,6,2,7],[1,1,3,3],[1,4,1,5],[1,6,1,7],[84,12,85,12],[84,13,85,13],[241,6,241,13],[114,5,114,13],[121,5,121,13],[109,5,109,13],[110,5,110,13],[89,6,91,10],[229,4,229,13],[232,4,232,5],[232,6,232,13],[233,4,233,5],[233,6,233,13],[196,6,196,13],[224,6,224,13],[1,8,1,9],[3,10,3,11],[163,4,163,13],[1,10,1,11],[1,12,1,13],[2,12,2,13],[2,8,2,9],[3,12,3,13],[3,8,3,9],[43,4,43,13],[2,10,2,11],[86,12,87,12],[155,6,157,10],[108,5,108,13],[145,12,145,13],[95,4,95,13],[141,8,141,10],[139,5,139,6],[125,6,127,10],[86,5,87,6],[93,9,93,13],[142,12,142,13],[76,8,77,8],[66,7,67,7],[3,4,3,5],[3,6,3,7],[2,4,2,5],[82,13,83,13],[78,12,79,12],[82,12,83,12],[40,4,40,13],[41,4,41,13],[44,4,44,13],[42,4,42,13],[66,8,67,8],[68,7,69,7],[68,8,69,8],[70,7,71,7],[70,8,71,8],[78,8,79,8],[80,7,81,7],[80,8,81,8],[82,7,83,7],[82,8,83,8],[72,7,73,7],[72,8,73,8],[74,7,75,7],[74,8,75,8],[78,19,79,19],[78,20,79,20],[80,19,81,19],[74,18,75,18],[54,4,54,13],[50,4,50,13],[53,4,53,13],[72,12,73,12],[66,20,67,20],[68,20,69,20],[68,18,69,18],[66,18,67,18],[66,19,67,19],[68,19,69,19],[76,7,77,7],[66,5,67,6],[68,5,69,6],[70,5,71,6],[72,5,73,6],[74,5,75,6],[76,5,77,6],[78,7,79,7],[70,19,71,19],[72,20,73,20],[74,20,75,20],[72,19,73,19],[74,19,75,19],[70,20,71,20],[70,13,71,13],[72,13,73,13],[74,12,75,12],[76,20,77,20],[76,19,77,19],[76,18,77,18],[225,4,225,5],[221,6,221,13],[225,6,225,13],[224,4,224,5],[223,6,223,13],[221,4,221,5],[219,4,219,5],[183,6,183,13],[194,6,194,13],[197,4,197,5],[199,6,199,13],[197,6,197,13],[208,6,208,13],[218,4,218,5],[220,6,220,13],[219,6,219,13],[206,4,206,5],[198,6,198,13],[187,4,187,13],[218,6,218,13],[212,6,212,13],[215,4,215,13],[198,4,198,5],[207,4,207,5],[206,6,206,13],[216,4,216,13],[207,6,207,13],[210,4,210,5],[194,4,194,5],[191,4,191,5],[192,4,192,5],[209,6,209,13],[183,4,183,5],[204,6,204,13],[205,4,205,5],[204,4,204,5],[186,4,186,13],[184,6,184,13],[146,8,146,10],[167,6,167,13],[145,8,145,10],[147,12,147,13],[165,4,165,5],[159,4,159,13],[175,4,175,5],[174,4,174,5],[148,8,148,10],[153,8,153,10],[153,12,153,13],[148,5,148,6],[149,5,149,6],[168,6,168,13],[174,6,174,13],[144,12,144,13],[55,4,55,13],[60,12,60,13],[62,12,63,12],[68,13,69,13],[64,12,65,12],[70,12,71,12],[68,12,69,12],[56,4,56,13],[60,8,60,10],[60,11,61,11],[60,5,61,6],[60,7,61,7],[60,4,61,4],[80,5,81,6],[82,5,83,6],[84,5,85,6],[84,7,85,7],[104,5,104,13],[105,5,105,13],[101,4,101,13],[136,12,136,13],[138,5,138,6],[138,12,138,13],[78,18,79,18],[76,13,77,13],[80,13,81,13],[74,13,75,13],[78,13,79,13],[64,13,65,13],[72,18,73,18],[70,18,71,18],[76,12,77,12],[82,19,83,19],[82,20,83,20],[80,20,81,20],[82,18,83,18],[99,4,99,13],[100,4,100,13],[94,4,94,13],[97,4,97,13],[86,18,87,18],[86,13,87,13],[80,18,81,18],[98,4,98,13],[84,20,85,20],[84,18,85,18],[86,20,87,20],[84,8,85,8],[86,7,87,7],[86,8,87,8],[84,19,85,19],[136,8,136,10],[113,5,113,13],[112,5,112,13],[106,5,106,13],[107,5,107,13],[111,5,111,13],[93,4,93,8],[86,19,87,19],[117,5,117,13],[115,5,115,13],[130,4,130,13],[129,4,129,13],[116,5,116,13],[135,12,135,13],[38,4,38,13],[31,4,31,13],[36,4,36,13],[37,4,37,13],[35,4,35,13],[29,4,29,13],[144,5,144,6],[143,5,143,6],[147,5,147,6],[147,8,147,10],[135,5,135,6],[118,5,118,13],[123,5,123,13],[131,4,131,13],[122,5,122,13],[119,5,119,13],[120,5,120,13],[135,8,135,10],[132,4,132,13],[136,5,136,6],[142,5,142,6],[142,8,142,10],[141,12,141,13],[139,12,139,13],[5,11,5,13],[7,10,7,13],[9,3,9,13],[30,4,30,13],[11,3,11,13],[28,4,28,13],[24,4,24,13],[21,4,21,13],[22,4,22,13],[12,3,12,13],[18,4,18,13],[27,4,27,13],[26,4,26,13],[20,4,20,13],[23,4,23,13],[303,4,303,5],[14,4,14,13],[16,4,16,13],[32,4,32,13],[33,4,33,13],[34,4,34,13],[66,12,67,12],[66,13,67,13],[15,4,15,13],[17,4,17,13],[25,4,25,13],[80,12,81,12],[62,13,63,13],[39,4,39,13],[45,4,45,13],[49,4,49,13],[57,4,57,13],[46,4,46,13],[48,4,48,13],[52,4,52,13],[51,4,51,13],[149,8,149,10],[149,12,149,13],[138,8,138,10],[310,4,310,5],[310,6,310,13],[307,4,307,5],[307,6,307,13],[309,4,309,5],[306,6,306,13],[309,6,309,13],[308,4,308,5],[308,6,308,13],[302,6,302,13],[150,5,150,6],[150,8,150,10],[151,8,151,10],[78,5,79,6],[303,6,303,13],[305,6,305,13],[304,4,304,5],[304,6,304,13],[150,12,150,13],[167,4,167,5],[151,12,151,13],[302,4,302,5],[170,6,170,13],[152,5,152,6],[153,5,153,6],[166,4,166,5],[168,4,168,5],[275,6,275,13],[173,4,173,5],[151,5,151,6],[152,8,152,10],[160,4,160,13],[283,4,283,5],[283,6,283,13],[280,4,280,5],[280,6,280,13],[281,4,281,5],[281,6,281,13],[282,4,282,5],[282,6,282,13],[276,4,276,5],[276,6,276,13],[277,4,277,5],[277,6,277,13],[278,6,278,13],[279,6,279,13],[137,5,137,6],[171,4,171,5],[177,6,177,13],[137,12,137,13],[152,12,152,13],[148,12,148,13],[140,12,140,13],[137,8,137,10],[140,8,140,10],[169,6,169,13],[171,6,171,13],[161,4,161,13],[141,5,141,6],[146,12,146,13],[143,8,143,10],[144,8,144,10],[143,12,143,13],[145,5,145,6],[146,5,146,6],[140,5,140,6],[166,6,166,13],[176,6,176,13],[165,6,165,13],[139,8,139,10],[173,6,173,13],[172,6,172,13],[172,4,172,5],[184,4,184,5],[181,4,181,5],[182,4,182,5],[193,4,193,5],[180,6,180,13],[200,4,200,5],[191,6,191,13],[175,6,175,13],[177,4,177,5],[192,6,192,13],[195,6,195,13],[193,6,193,13],[178,6,178,13],[176,4,176,5],[199,4,199,5],[182,6,182,13],[178,4,178,5],[181,6,181,13],[179,6,179,13]]}
["ausblenden",null,null,null,null,null,null,null,null,null,null,null,null,null,null,"ausblenden","ausblenden","ausblenden","ausblenden","ausblenden","ausblenden","ausblenden","ausblenden"]
[null,{"$f":"Translations!$B$329","v":"D.\nCalculation Approach"},null,null,{"$f":"Translations!$B$59","v":"Zone de navigation:"},null,{"$f":"Translations!$B$60","v":"Sommaire"},null,{"$f":"Translations!$B$61","v":"Feuille précédente"},null,{"$f":"Translations!$B$62","v":"Feuille suivante"}]
[null,null,null,null,{"$f":"Translations!$B$63","v":"Début de feuille"},null,{"$f":"Translations!$B$274","v":"Description"},null,{"$f":"Translations!$B$330","v":"Instruments de mesure"},null,{"$f":"Translations!$B$331","v":"Sources d'information"}]
[null,null,null,null,{"$f":"Translations!$B$64","v":"Fin de feuille"},null,{"$f":"Translations!$B$332","v":"Laboratoires"},null,{"$f":"Translations!$B$333","v":"Procédures"}]
[]
[null,null,{"$f":"Translations!$B$16","v":"D. Calculation Based Approaches (Méthodes fondées sur le calcul)"},null,null,null,null,null,null,null,null,{"$f":"IF(OR(CNTR_InstHasCalculation=TRUE,CNTR_InstHasPFC=TRUE),EUconst_Relevant,IF(COUNTA(CNTR_ListRelevantSections)>0,EUconst_NotRelevant,EUconst_Relevant))","v":"pertinent"}]
[]
[null,null,null,null,null,null,null,null,null,null,{"$f":"IF(L6=EUconst_NotRelevant,HYPERLINK(\"#JUMP_E_Top\",EUconst_MsgNextSheet),HYPERLINK(\"\",EUconst_MsgEnterThisSection))","v":"Veuillez saisir des données dans cette rubrique"}]
[]
[null,null,7,{"$f":"Translations!$B$17","v":"Calcul: Informations nécessaires pour les données à saisir dans la feuille suivante"}]
[]
[null,null,null,{"$f":"Translations!$B$334","v":"Veuillez utiliser cette feuille pour fournir les informations nécessaires aux méthodes fondées sur le calcul. Les renseignements fournis ici servent de référence pour les informations détaillées qui seront demandées dans la feuille suivante (E_SourceStreams). "}]
[null,null,null,{"$f":"Translations!$B$335","v":"En particulier, la liste des instruments de mesure est nécessaire pour la surveillance des données d’activité, et la liste des sources d'informations pour les valeurs par défaut des facteurs de calcul conformément à l'article 31; les méthodes d’analyse seront citées dans des études de cas et sont nécessaires pour les facteurs de calcul."}]
[]
[null,null,null,"(a)",{"$f":"Translations!$B$336","v":"Description de la méthode fondée sur le calcul utilisée pour la surveillance des émissions de CO2 dans votre installation, le cas échéant:"}]
[null,null,null,null,{"$f":"Translations!$B$337","v":"Veuillez décrire de façon concise dans la zone de texte ci-dessous la méthode de calcul, formules comprises, utilisée pour déterminer les émissions annuelles de CO2 de votre installation."}]
[null,null,null,null,{"$f":"Translations!$B$338","v":"Si la description est trop complexe (utilisation de formules complexes, par exemple), vous pouvez fournir cette description dans un document séparé, dans un format de fichier acceptable par l’AC.    Veuillez dans ce cas fournir la référence de ce fichier en indiquant le nom de fichier et la date."}]
[null,null,null,null,{"$f":"Translations!$B$339","v":"La description doit contenir les liens qui sont nécessaires pour comprendre la manière dont les informations fournies dans les autres parties du présent modèle sont utilisées pour calculer les émissions. Elle peut être aussi synthétique que l'exemple donné."}]
[null,null,null,null,{"$f":"Translations!$B$1166","v":"En ce qui concerne les émissions de procédés, veuillez indiquer précisément, le cas échéant, si le calcul inclut le carbone inorganique (carbonates), le carbone organique, ou les deux, conformément à la section 4 de l’annexe II du MRR."},null,null,null,null,null,null,null,null,null,null,null,null,null,null,null,null,null,"Make grey?"]
[]
["HIDE_Example",null,null,null,{"$f":"Translations!$B$340","v":"En principe, la méthode de calcul utilisée dans cette installation est appliquée conformément à la séquence suivante:"}]
["HIDE_Example",null,null,null,{"$f":"Translations!$B$341","v":"a) pour chaque flux, lorsque des valeurs par défaut sont utilisées pour les facteurs de calcul (gaz naturel, fioul lourd et tous les flux mineurs), les données d’activité sont dans un premier temps additionnées, puis la formule de calcul indiquée à l’article 24, paragraphe 1, est appliquée. "}]
["HIDE_Example",null,null,null,{"$f":"Translations!$B$342","v":"b) pour chaque flux, lorsque des résultats d'analyse sont utilisés pour les facteurs de calcul (charbon, farine crue), les données d'activité et les facteurs de calcul de chaque lot auquel les analyses se rapportent sont utilisés en premier lieu dans la formule de calcul indiquée à l’article 24, paragraphe 1. Les émissions qui en résultent pour chaque lot sont ensuite ajoutées au chiffre des émissions annuelles du flux. "}]
["HIDE_Example",null,null,null,{"$f":"Translations!$B$343","v":"c) Dans la situation b), des facteurs de calcul en moyenne pondérée sont déterminés aux fins de la déclaration."}]
["HIDE_Example",null,null,null,{"$f":"Translations!$B$344","v":"d) les émissions de tous les flux sont additionnées pour obtenir les émissions annuelles de l’installation."}]
["HIDE_Example",null,null,null,{"$f":"Translations!$B$345","v":"Dans le cas des combustibles solides, le mesurage par lot est appliqué conformément à l’article 27, paragraphe 2.  Pour tous les autres flux, la surveillance est effectuée par mesure continue."}]
["HIDE_Example",null,null,null,{"$f":"Translations!$B$346","v":"Tous les détails relatifs aux flux (détermination des données d’activité, détermination des facteurs de calcul) figurent dans d’autres rubriques du présent plan de surveillance."}]
[null,null,null,null,null,null,null,null,null,null,null,null,null,null,null,null,null,null,null,null,null,null,{"$f":"IF(L6=EUconst_NotRelevant,TRUE,FALSE)","v":false}]
[]
[]
[]
[]
[]
[]
[]
[]
[]
[]
[]
[]
[]
[]
[]
[]
[]
[]
[]
[]
[null,null,null,"(b)",{"$f":"Translations!$B$347","v":"Caractéristiques et localisation des systèmes de mesure utilisés pour déterminer les données d’activité relatives aux flux:"}]
[null,null,null,null,{"$f":"Translations!$B$348","v":"Veuillez décrire les caractéristiques et la localisation des systèmes de mesure à utiliser pour chaque flux lorsque les émissions sont déterminées par calcul."}]
[null,null,null,null,{"$f":"Translations!$B$349","v":"Dans la colonne «Localisation», vous devez indiquer l’endroit où se trouve l’appareil de mesure dans l’installation, ainsi que la manière dont il est représenté sur le schéma de procédé. "}]
[null,null,null,null,{"$f":"Translations!$B$350","v":"Pour chaque instrument de mesure, veuillez indiquer l’incertitude spécifiée, ainsi que la plage de mesure à laquelle se rapporte cette incertitude, telle que communiquée par le fabricant. Dans certains cas, l’incertitude peut être spécifiée pour deux plages différentes.  Dans ce cas, veuillez indiquer les deux."}]
[null,null,null,null,{"$f":"Translations!$B$351","v":"La plage d’utilisation usuelle désigne la plage pour laquelle l’instrument de mesure est habituellement utilisé dans votre installation."}]
[null,null,null,null,{"$f":"Translations!$B$352","v":"Il convient de fournir une description pour tous les dispositifs de mesure servant à la surveillance des émissions, y compris les compteurs et les sous-compteurs utilisés pour déduire les quantités qui sont utilisées en dehors des limites de l’installation. Les instruments de mesure utilisés pour la mesure continue des émissions (SMCE) doivent être précisés dans la feuille F­_MeasurementBasedApproaches, rubrique 9.c."}]
[null,null,null,null,{"$f":"Translations!$B$353","v":"«Type d’instrument de mesure». Veuillez choisir le type correspondant dans la liste déroulante, ou saisir un type plus approprié."}]
[null,null,null,null,{"$f":"Translations!$B$354","v":"La liste des instruments fournie ici sera proposée sous la forme d’une liste déroulante pour chacun des flux dans la feuille E_SourceStreams (point b), lorsque les références des instruments de mesure utilisés sont demandées."}]
[null,null,null,null,{"$f":"Translations!$B$355","v":"Dans le cas des débitmètres de gaz, veuillez indiquer Nm3/h si la compensation p/T est intégrée dans l’instrument et m3 en mode de fonctionnement si la compensation p/T est réalisée par un instrument distinct.  Dans ce dernier cas, veuillez également énumérer ces instruments."}]
[null,null,null,null,{"$f":"Translations!$B$356","v":"Tous les instruments utilisés doivent être clairement répertoriés à l’aide d’un identificateur unique (tel que le numéro de série de l’instrument). Cependant, le remplacement d’un instrument (rendu nécessaire, par exemple, en cas d’avarie) ne constitue pas une modification importante du plan de surveillance au sens de l’article 15, paragraphe 3. L’identification unique doit donc être consignée ailleurs que dans le plan de surveillance. Veuillez vous assurer d’établir une procédure écrite appropriée à cet effet. "}]
[null,null,null,null,{"$f":"Translations!$B$135","v":"Pour afficher/masquer les exemples, cliquez sur le bouton «Exemples» dans la zone de navigation."}]
[]
[null,null,null,null,{"$f":"Translations!$B$357","v":"Réf."},{"$f":"Translations!$B$358","v":"Type d’instrument de mesure"},null,{"$f":"Translations!$B$359","v":"Localisation (ID interne)"},{"$f":"Translations!$B$360","v":"Plage de mesure"},null,null,{"$f":"Translations!$B$361","v":"Incertitude spécifiée\n(+/-%)"},{"$f":"Translations!$B$362","v":"Plage d’utilisation usuelle"}]
[null,null,null,null,null,null,null,null,{"$f":"Translations!$B$363","v":"unité"},{"$f":"Translations!$B$364","v":"extrémité inférieure"},{"$f":"Translations!$B$365","v":"extrémité supérieure"},null,{"$f":"Translations!$B$364","v":"extrémité inférieure"},{"$f":"Translations!$B$365","v":"extrémité supérieure"},null,null,null,null,"Sorting","Sorting","Sorting","Sorting"]
["HIDE_Example",null,null,null,"MI01",{"$f":"Translations!$B$366","v":"Compteur à pistons rotatifs"},null,"UBA RM-27","Nm³/h",0,250,3,500,750]
["HIDE_Example",null,null,null,null,null,null,null,null,250,1000,1.5]
["HIDE_Example",null,null,null,"MI02",{"$f":"Translations!$B$367","v":"Pont de pesage"},null,"WB-342","Kg",3000,40000,0.6,7500,40000]
["HIDE_Example"]
[null,null,null,null,"MI1",null,null,null,null,null,null,null,null,null,null,null,null,1,1,{"$f":"IF(ISBLANK(F67),\"\",MAX(T$66:T66)+1)","v":""},{"$f":"IF(ISBLANK(F67),\"\",E67 & \": \" &F67)","v":""},{"$f":"IF(COUNTIF($T$67:$T$88,R67)=1,INDEX($U$67:$U$88,MATCH(R67,$T$67:$T$88,0)),EUconst_NA)","v":"s.o."}]
[null,null,null,null,null,null,null,null,null,null,null,null,null,null,null,null,null,2,null,null,null,"s.o."]
[null,null,null,null,"MI2",null,null,null,null,null,null,null,null,null,null,null,null,3,2,{"$f":"IF(ISBLANK(F69),\"\",MAX(T$66:T68)+1)","v":""},{"$f":"IF(ISBLANK(F69),\"\",E69 & \": \" &F69)","v":""},"s.o."]
[null,null,null,null,null,null,null,null,null,null,null,null,null,null,null,null,null,4,null,null,null,"s.o."]
[null,null,null,null,"MI3",null,null,null,null,null,null,null,null,null,null,null,null,5,3,{"$f":"IF(ISBLANK(F71),\"\",MAX(T$66:T70)+1)","v":""},{"$f":"IF(ISBLANK(F71),\"\",E71 & \": \" &F71)","v":""},"s.o."]
[null,null,null,null,null,null,null,null,null,null,null,null,null,null,null,null,null,6,null,null,null,"s.o."]
[null,null,null,null,"MI4",null,null,null,null,null,null,null,null,null,null,null,null,7,4,{"$f":"IF(ISBLANK(F73),\"\",MAX(T$66:T72)+1)","v":""},{"$f":"IF(ISBLANK(F73),\"\",E73 & \": \" &F73)","v":""},"s.o."]
[null,null,null,null,null,null,null,null,null,null,null,null,null,null,null,null,null,8,null,null,null,"s.o."]
[null,null,null,null,"MI5",null,null,null,null,null,null,null,null,null,null,null,null,9,5,{"$f":"IF(ISBLANK(F75),\"\",MAX(T$66:T74)+1)","v":""},{"$f":"IF(ISBLANK(F75),\"\",E75 & \": \" &F75)","v":""},"s.o."]
[null,null,null,null,null,null,null,null,null,null,null,null,null,null,null,null,null,10,null,null,null,"s.o."]
[null,null,null,null,"MI6",null,null,null,null,null,null,null,null,null,null,null,null,11,6,{"$f":"IF(ISBLANK(F77),\"\",MAX(T$66:T76)+1)","v":""},{"$f":"IF(ISBLANK(F77),\"\",E77 & \": \" &F77)","v":""},"s.o."]
[null,null,null,null,null,null,null,null,null,null,null,null,null,null,null,null,null,12,null,null,null,"s.o."]
[null,null,null,null,"MI7",null,null,null,null,null,null,null,null,null,null,null,null,13,7,{"$f":"IF(ISBLANK(F79),\"\",MAX(T$66:T78)+1)","v":""},{"$f":"IF(ISBLANK(F79),\"\",E79 & \": \" &F79)","v":""},"s.o."]
[null,null,null,null,null,null,null,null,null,null,null,null,null,null,null,null,null,14,null,null,null,"s.o."]
[null,null,null,null,"MI8",null,null,null,null,null,null,null,null,null,null,null,null,15,8,{"$f":"IF(ISBLANK(F81),\"\",MAX(T$66:T80)+1)","v":""},{"$f":"IF(ISBLANK(F81),\"\",E81 & \": \" &F81)","v":""},"s.o."]
[null,null,null,null,null,null,null,null,null,null,null,null,null,null,null,null,null,16,null,null,null,"s.o."]
[null,null,null,null,"MI9",null,null,null,null,null,null,null,null,null,null,null,null,17,9,{"$f":"IF(ISBLANK(F83),\"\",MAX(T$66:T82)+1)","v":""},{"$f":"IF(ISBLANK(F83),\"\",E83 & \": \" &F83)","v":""},"s.o."]
[null,null,null,null,null,null,null,null,null,null,null,null,null,null,null,null,null,18,null,null,null,"s.o."]
[null,null,null,null,"MI10",null,null,null,null,null,null,null,null,null,null,null,null,19,10,{"$f":"IF(ISBLANK(F85),\"\",MAX(T$66:T84)+1)","v":""},{"$f":"IF(ISBLANK(F85),\"\",E85 & \": \" &F85)","v":""},"s.o."]
[null,null,null,null,null,null,null,null,null,null,null,null,null,null,null,null,null,20,null,null,null,"s.o."]
["ausblenden",null,null,null,null,null,null,null,null,null,null,null,null,null,null,null,null,null,null,{"$f":"IF(ISBLANK(F87),\"\",MAX(T$66:T86)+1)","v":""},{"$f":"IF(ISBLANK(F87),\"\",E87 & \": \" &F87)","v":""},"s.o."]
["ausblenden",null,null,null,null,null,null,null,null,null,null,null,null,null,null,null,null,null,null,null,null,"s.o."]
["ADD_MeasurementInstrument"]
[null,null,null,null,null,null,{"$f":"Translations!$B$368","v":"Cliquez sur « + » pour ajouter d’autres instruments de mesure"}]
[]
[]
[]
[null,null,null,"(c)",{"$f":"Translations!$B$369","v":"Titre et références du document d’évaluation des calculs d’incertitude"},null,null,null,null,null,null,null,null,null,null,null,null,null,null,null,null,null,{"$f":"CNTR_SmallEmitter=TRUE","v":false}]
[null,null,null,null,{"$f":"Translations!$B$370","v":"Vous devez présenter des éléments démontrant la conformité des niveaux appliqués, conformément à l’article 12.  Veuillez énumérer les références des calculs d’incertitude et/ou des schémas s'y rapportant dans l'encadré ci-dessus. "}]
[null,null,null,null,{"$f":"Translations!$B$371","v":"Veuillez noter que conformément à l’article 47, paragraphe 3, les installations à faible niveau d’émission ne sont pas tenues de remettre ce document à l’AC."}]
[]
[null,null,null,"(d)",{"$f":"Translations!$B$372","v":"Liste des sources d’information pour les valeurs par défaut des facteurs de calcul:"}]
[null,null,null,null,{"$f":"Translations!$B$373","v":"Veuillez énumérer toutes les sources d’information pertinentes pour la détermination des valeurs par défaut des facteurs de calcul conformément à l’article 31. "}]
[null,null,null,null,{"$f":"Translations!$B$374","v":"Il s’agit généralement de sources statiques telles que l’inventaire national, le GIEC, l’annexe IV du MRR, manuel de chimie et physique….)."}]
[null,null,null,null,{"$f":"Translations!$B$375","v":"Ce n’est qu’en cas de changement des valeurs par défaut d'une année sur l'autre que l'exploitant doit préciser la source autorisée applicable pour la valeur en question, à savoir une source dynamique telle que le site internet de l’AC."}]
[null,null,null,null,{"$f":"Translations!$B$376","v":"Cette liste sera proposée sous la forme d’une liste déroulante dans la feuille E_SourceStreams [tableau g)] pour indiquer les sources d'information correspondant aux facteurs de calcul pour chaque flux."}]
[null,null,null,null,{"$f":"Translations!$B$135","v":"Pour afficher/masquer les exemples, cliquez sur le bouton «Exemples» dans la zone de navigation."}]
[]
[null,null,null,null,{"$f":"Translations!$B$377","v":"Réf . de la source d’information"},{"$f":"Translations!$B$378","v":"Description de la source d’information "},null,null,null,null,null,null,null,null,null,null,null,null,null,"Sorting",null,"Sorting","Sorting"]
["HIDE_Example",null,null,null,"IS01",{"$f":"Translations!$B$379","v":"Inventaire national des GES, mis à jour annuellement (voir http:/Dummy.address.test).  La valeur la plus récente publiée en 2011 est utilisée."}]
["HIDE_Example",null,null,null,"IS02",{"$f":"Translations!$B$380","v":"Manuel de chimie et Physique, 92e édition, http://www.hbcpnetbase.com/ "}]
["HIDE_Example",null,null,null,"IS03",{"$f":"Translations!$B$381","v":"Analyse du PCI et du FE du flux «fioul lourd» réalisée en août 2011."}]
[null,null,null,null,"IS1",null,null,null,null,null,null,null,null,null,null,null,null,null,null,1,null,{"$f":"IF(ISBLANK(F109),\"\",MAX(V$107:V107)+1)","v":""},{"$f":"IF(COUNTIF($V$109:$V$124,T109)=1,INDEX($E$109:$E$124,MATCH(T109,$V$109:$V$124,0)) & \": \" & INDEX($F$109:$F$124,MATCH(T109,$V$109:$V$124,0)),EUconst_NA)","v":"s.o."}]
[null,null,null,null,"IS2",null,null,null,null,null,null,null,null,null,null,null,null,null,null,2,null,{"$f":"IF(ISBLANK(F110),\"\",MAX(V$107:V109)+1)","v":""},"s.o."]
[null,null,null,null,"IS3",null,null,null,null,null,null,null,null,null,null,null,null,null,null,3,null,{"$f":"IF(ISBLANK(F111),\"\",MAX(V$107:V110)+1)","v":""},"s.o."]
[null,null,null,null,"IS4",null,null,null,null,null,null,null,null,null,null,null,null,null,null,4,null,{"$f":"IF(ISBLANK(F112),\"\",MAX(V$107:V111)+1)","v":""},"s.o."]
[null,null,null,null,"IS5",null,null,null,null,null,null,null,null,null,null,null,null,null,null,5,null,{"$f":"IF(ISBLANK(F113),\"\",MAX(V$107:V112)+1)","v":""},"s.o."]
[null,null,null,null,"IS6",null,null,null,null,null,null,null,null,null,null,null,null,null,null,6,null,{"$f":"IF(ISBLANK(F114),\"\",MAX(V$107:V113)+1)","v":""},"s.o."]
[null,null,null,null,"IS7",null,null,null,null,null,null,null,null,null,null,null,null,null,null,7,null,{"$f":"IF(ISBLANK(F115),\"\",MAX(V$107:V114)+1)","v":""},"s.o."]
[null,null,null,null,"IS8",null,null,null,null,null,null,null,null,null,null,null,null,null,null,8,null,{"$f":"IF(ISBLANK(F116),\"\",MAX(V$107:V115)+1)","v":""},"s.o."]
[null,null,null,null,"IS9",null,null,null,null,null,null,null,null,null,null,null,null,null,null,9,null,{"$f":"IF(ISBLANK(F117),\"\",MAX(V$107:V116)+1)","v":""},"s.o."]
[null,null,null,null,"IS10",null,null,null,null,null,null,null,null,null,null,null,null,null,null,10,null,{"$f":"IF(ISBLANK(F118),\"\",MAX(V$107:V117)+1)","v":""},"s.o."]
[null,null,null,null,"IS11",null,null,null,null,null,null,null,null,null,null,null,null,null,null,11,null,{"$f":"IF(ISBLANK(F119),\"\",MAX(V$107:V118)+1)","v":""},"s.o."]
[null,null,null,null,"IS12",null,null,null,null,null,null,null,null,null,null,null,null,null,null,12,null,{"$f":"IF(ISBLANK(F120),\"\",MAX(V$107:V119)+1)","v":""},"s.o."]
[null,null,null,null,"IS13",null,null,null,null,null,null,null,null,null,null,null,null,null,null,13,null,{"$f":"IF(ISBLANK(F121),\"\",MAX(V$107:V120)+1)","v":""},"s.o."]
[null,null,null,null,"IS14",null,null,null,null,null,null,null,null,null,null,null,null,null,null,14,null,{"$f":"IF(ISBLANK(F122),\"\",MAX(V$107:V121)+1)","v":""},"s.o."]
[null,null,null,null,"IS15",null,null,null,null,null,null,null,null,null,null,null,null,null,null,15,null,{"$f":"IF(ISBLANK(F123),\"\",MAX(V$107:V122)+1)","v":""},"s.o."]
["ausblenden",null,null,null,null,null,null,null,null,null,null,null,null,null,null,null,null,null,null,null,null,{"$f":"IF(ISBLANK(F124),\"\",MAX(V$107:V123)+1)","v":""},"s.o."]
["ADD_InformationSources"]
[null,null,null,null,null,null,{"$f":"Translations!$B$382","v":"Cliquez sur « + » pour ajouter d’autres sources d’information"}]
[]
[]
[]
[null,null,null,"(e)",{"$f":"Translations!$B$383","v":"Méthodes et laboratoires utilisés pour les analyses relatives aux facteurs de calcul:"}]
[null,null,null,null,{"$f":"Translations!$B$384","v":"Veuillez énumérer les méthodes utilisées pour analyser les combustibles et les matières en vue de la détermination de tous les facteurs de calcul, en fonction du niveau sélectionné. Si le laboratoire n’est pas accrédité conformément à la norme EN ISO/IEC 17025, vous devez prouver que le laboratoire est techniquement compétent, conformément à l’article 34. À cet effet, veuillez indiquer la référence d’un document joint."}]
[null,null,null,null,{"$f":"Translations!$B$385","v":"En cas d’utilisation d’appareils de chromatographie en phase gazeuse en ligne ou d’analyseurs de gaz avec ou sans extraction, il y a lieu de respecter les dispositions de l’article 32."}]
[null,null,null,null,{"$f":"Translations!$B$386","v":"Cette liste sera proposée sous la forme d’une liste déroulante dans la feuille E_SourceStreams (tableau g) pour indiquer la référence des méthodes d’analyse utilisées pour les facteurs de calcul de chaque flux."}]
[null,null,null,null,{"$f":"Translations!$B$135","v":"Pour afficher/masquer les exemples, cliquez sur le bouton «Exemples» dans la zone de navigation."}]
[]
[null,null,null,null,{"$f":"Translations!$B$387","v":"Réf. du laboratoire"},{"$f":"Translations!$B$388","v":"Nom du laboratoire"},null,{"$f":"Translations!$B$389","v":"Paramètre"},{"$f":"Translations!$B$390","v":"Méthode d’analyse\n(indiquez la référence de la procédure et fournir une brève description de la méthode)"},null,null,{"$f":"Translations!$B$391","v":"Le laboratoire est-il accrédité EN ISO/IEC 17025 pour cette analyse ?"},{"$f":"Translations!$B$392","v":"Si la réponse est non, fournir la référence des justificatifs à produire "},null,null,null,null,null,null,"Sorting",null,"Sorting","Sorting"]
["HIDE_Example",null,null,null,"L01",{"$f":"Translations!$B$393","v":"Exemple de laboratoroire"},null,{"$f":"Translations!$B$394","v":"Teneur en C"},{"$f":"Translations!$B$395","v":"EN 15104:2011. Voir procédure ANA-1233/UBA"},null,null,true]
["HIDE_Example",null,null,null,"L02",{"$f":"Translations!$B$396","v":"Exemple laboratoroire 2"},null,{"$f":"Translations!$B$397","v":"Teneur en biomasse "},{"$f":"Translations!$B$398","v":"EN 15440:2011 – des différences en ce qui concerne la taille et le traitement des échantillons. Voir procédure ANA-1234/UBA"},null,null,false,{"$f":"Translations!$B$399","v":"Compétence_labo.pdf, 2/3/2012"}]
[null,null,null,null,"L1",null,null,null,null,null,null,null,null,null,null,null,null,null,null,1,null,{"$f":"IF(ISBLANK(F139),\"\",MAX(V$138:V138)+1)","v":""},{"$f":"IF(COUNTIF($V$139:$V$154,T139)=1,INDEX($E$139:$E$154,MATCH(T139,$V$139:$V$154,0))& \": \" &INDEX($F$139:$F$154,MATCH(T139,$V$139:$V$154,0)),EUconst_NA)","v":"s.o."}]
[null,null,null,null,"L2",null,null,null,null,null,null,null,null,null,null,null,null,null,null,2,null,{"$f":"IF(ISBLANK(F140),\"\",MAX(V$138:V139)+1)","v":""},"s.o."]
[null,null,null,null,"L3",null,null,null,null,null,null,null,null,null,null,null,null,null,null,3,null,{"$f":"IF(ISBLANK(F141),\"\",MAX(V$138:V140)+1)","v":""},"s.o."]
[null,null,null,null,"L4",null,null,null,null,null,null,null,null,null,null,null,null,null,null,4,null,{"$f":"IF(ISBLANK(F142),\"\",MAX(V$138:V141)+1)","v":""},"s.o."]
[null,null,null,null,"L5",null,null,null,null,null,null,null,null,null,null,null,null,null,null,5,null,{"$f":"IF(ISBLANK(F143),\"\",MAX(V$138:V142)+1)","v":""},"s.o."]
[null,null,null,null,"L6",null,null,null,null,null,null,null,null,null,null,null,null,null,null,6,null,{"$f":"IF(ISBLANK(F144),\"\",MAX(V$138:V143)+1)","v":""},"s.o."]
[null,null,null,null,"L7",null,null,null,null,null,null,null,null,null,null,null,null,null,null,7,null,{"$f":"IF(ISBLANK(F145),\"\",MAX(V$138:V144)+1)","v":""},"s.o."]
[null,null,null,null,"L8",null,null,null,null,null,null,null,null,null,null,null,null,null,null,8,null,{"$f":"IF(ISBLANK(F146),\"\",MAX(V$138:V145)+1)","v":""},"s.o."]
[null,null,null,null,"L9",null,null,null,null,null,null,null,null,null,null,null,null,null,null,9,null,{"$f":"IF(ISBLANK(F147),\"\",MAX(V$138:V146)+1)","v":""},"s.o."]
[null,null,null,null,"L10",null,null,null,null,null,null,null,null,null,null,null,null,null,null,10,null,{"$f":"IF(ISBLANK(F148),\"\",MAX(V$138:V147)+1)","v":""},"s.o."]
[null,null,null,null,"L11",null,null,null,null,null,null,null,null,null,null,null,null,null,null,11,null,{"$f":"IF(ISBLANK(F149),\"\",MAX(V$138:V148)+1)","v":""},"s.o."]
[null,null,null,null,"L12",null,null,null,null,null,null,null,null,null,null,null,null,null,null,12,null,{"$f":"IF(ISBLANK(F150),\"\",MAX(V$138:V149)+1)","v":""},"s.o."]
[null,null,null,null,"L13",null,null,null,null,null,null,null,null,null,null,null,null,null,null,13,null,{"$f":"IF(ISBLANK(F151),\"\",MAX(V$138:V150)+1)","v":""},"s.o."]
[null,null,null,null,"L14",null,null,null,null,null,null,null,null,null,null,null,null,null,null,14,null,{"$f":"IF(ISBLANK(F152),\"\",MAX(V$138:V151)+1)","v":""},"s.o."]
[null,null,null,null,"L15",null,null,null,null,null,null,null,null,null,null,null,null,null,null,15,null,{"$f":"IF(ISBLANK(F153),\"\",MAX(V$138:V152)+1)","v":""},"s.o."]
["ausblenden",null,null,null,null,null,null,null,null,null,null,null,null,null,null,null,null,null,null,null,null,{"$f":"IF(ISBLANK(F154),\"\",MAX(V$138:V153)+1)","v":""},"s.o."]
["ADD_Laboratories"]
[null,null,null,null,null,null,{"$f":"Translations!$B$400","v":"Cliquez sur « + » pour ajouter d’autres méthodes et laboratoires"}]
[]
[]
[]
[null,null,null,"(f)",{"$f":"Translations!$B$401","v":"Description des procédures écrites d’analyse:"}]
[null,null,null,null,{"$f":"Translations!$B$402","v":"Veuillez fournir des précisions sur les procédures écrites correspondant aux analyses énumérées dans le tableau 7 e).  La description doit couvrir les principaux paramètres et les principales opérations effectuées."}]
[null,null,null,null,{"$f":"Translations!$B$403","v":"Lorsque plusieurs procédures sont utilisées aux mêmes fins mais pour différents flux ou paramètres, veuillez préciser la procédure globale qui couvre les éléments communs et l’assurance qualité des méthodes appliquées."}]
[null,null,null,null,{"$f":"Translations!$B$404","v":"Vous pouvez donc soit indiquer les références des différentes «sous-procédures», soit fournir des détails sur chaque procédure séparément.  Dans ce dernier cas, veuillez utiliser le bouton «ajouter des procédures» à la fin de cette feuille. Veuillez toutefois vous assurer de pouvoir indiquer clairement la référence de la (sous-)procédure appropriée dans le tableau g de la rubrique 8. "}]
[null,null,null,null,{"$f":"Translations!$B$135","v":"Pour afficher/masquer les exemples, cliquez sur le bouton «Exemples» dans la zone de navigation."}]
[]
["HIDE_Example",null,null,null,{"$f":"Translations!$B$405","v":"Intitulé de la procédure"},null,{"$f":"Translations!$B$406","v":"Analyse du PCI des combustibles solides et liquides"}]
["HIDE_Example",null,null,null,{"$f":"Translations!$B$407","v":"Référence de la procédure"},null,{"$f":"Translations!$B$408","v":"Combustibles solides: ANA 1-1/UBA; Combustibles liquides: ANA 1-2/UBA;  Comparaison par laboratoire externe (accrédité): ANA 1-3/ext"}]
["HIDE_Example",null,null,null,{"$f":"Translations!$B$409","v":"Références du schéma (le cas échéant):"},null,{"$f":"Translations!$B$410","v":"S.O."}]
["HIDE_Example",null,null,null,{"$f":"Translations!$B$411","v":"Description succincte de la procédure    "},null,{"$f":"Translations!$B$412","v":"La méthode de la bombe calorimétrique est utilisée. La quantité appropriée d'échantillon est déterminée d'après l’expérience acquise par la réalisation de mesures antérieures sur des matières similaires.\nLes échantillons sont utilisés à l’état sec (dessiccation à 120 °C pendant au moins 6h). Le PCI est corrigé de la teneur en humidité au moyen d’un calcul."}]
["HIDE_Example",null,null,null,null,null,{"$f":"Translations!$B$413","v":"Combustibles solides: comme dans la norme. Combustibles liquides: légère adaptation de la norme;  Les échantillons ne sont pas déshydratés."}]
["HIDE_Example"]
["HIDE_Example",null,null,null,{"$f":"Translations!$B$414","v":"Poste ou service responsable de la procédure et de toute donnée générée."},null,{"$f":"Translations!$B$415","v":"Raison sociale du laboratoire - Chef de service Adjoint: Directeur HSEQ"}]
["HIDE_Example",null,null,null,{"$f":"Translations!$B$416","v":"Lieu d'archivage"},null,{"$f":"Translations!$B$417","v":"Copie papier: Salle du laboratoire, rayonnage 27/9, Classeur «ETS 01-ANA-yyyy» (où yyyy est l’année en cours)\nPar voie électronique: «P:\\ETS_MRV\\labs\\ETS_01-ANA-yyyy.xls»"}]
["HIDE_Example",null,null,null,{"$f":"Translations!$B$418","v":"Nom du système informatique utilisé (le cas échéant)."},null,{"$f":"Translations!$B$419","v":"Journal interne du laboratoire (Base de données accessibles aux EM): Le numéro des échantillons ainsi que leur origine et leur nom restent associés aux résultats. "}]
["HIDE_Example",null,null,null,{"$f":"Translations!$B$420","v":"Liste des normes EN ou autres appliquées (le cas échéant)"},null,{"$f":"Translations!$B$421","v":"EN 14918:2009 avec modifications pour pouvoir utiliser également des combustibles non issus de la biomasse et des combustibles liquides."}]
[null,null,null,null,{"$f":"Translations!$B$405","v":"Intitulé de la procédure"}]
[null,null,null,null,{"$f":"Translations!$B$407","v":"Référence de la procédure"}]
[null,null,null,null,{"$f":"Translations!$B$409","v":"Références du schéma (le cas échéant):"}]
[null,null,null,null,{"$f":"Translations!$B$411","v":"Description succincte de la procédure    "}]
[]
[]
[null,null,null,null,{"$f":"Translations!$B$414","v":"Poste ou service responsable de la procédure et de toute donnée générée."}]
[null,null,null,null,{"$f":"Translations!$B$416","v":"Lieu d'archivage"}]
[null,null,null,null,{"$f":"Translations!$B$418","v":"Nom du système informatique utilisé (le cas échéant)."}]
[null,null,null,null,{"$f":"Translations!$B$420","v":"Liste des normes EN ou autres appliquées (le cas échéant)"}]
[]
[null,null,null,"(g)",{"$f":"Translations!$B$422","v":"Description de la procédure d’établissement des plans d’échantillonnage en vue des analyses:"}]
[null,null,null,null,{"$f":"Translations!$B$423","v":"Les procédures ci-dessous doivent couvrir les éléments d’un plan d’échantillonnage, conformément aux dispositions de l’article 33.  Une copie de la procédure doit être remise à l’autorité compétente en même temps que le plan d’échantillonnage."}]
[null,null,null,null,{"$f":"Translations!$B$403","v":"Lorsque plusieurs procédures sont utilisées aux mêmes fins mais pour différents flux ou paramètres, veuillez préciser la procédure globale qui couvre les éléments communs et l’assurance qualité des méthodes appliquées."}]
[null,null,null,null,{"$f":"Translations!$B$404","v":"Vous pouvez donc soit indiquer les références des différentes «sous-procédures», soit fournir des détails sur chaque procédure séparément.  Dans ce dernier cas, veuillez utiliser le bouton «ajouter des procédures» à la fin de cette feuille. Veuillez toutefois vous assurer de pouvoir indiquer clairement la référence de la (sous-)procédure appropriée dans le tableau g de la rubrique 8. "}]
[]
[null,null,null,null,{"$f":"Translations!$B$405","v":"Intitulé de la procédure"}]
[null,null,null,null,{"$f":"Translations!$B$407","v":"Référence de la procédure"}]
[null,null,null,null,{"$f":"Translations!$B$409","v":"Références du schéma (le cas échéant):"}]
[null,null,null,null,{"$f":"Translations!$B$411","v":"Description succincte de la procédure    "}]
[]
[]
[null,null,null,null,{"$f":"Translations!$B$414","v":"Poste ou service responsable de la procédure et de toute donnée générée."}]
[null,null,null,null,{"$f":"Translations!$B$416","v":"Lieu d'archivage"}]
[null,null,null,null,{"$f":"Translations!$B$418","v":"Nom du système informatique utilisé (le cas échéant)."}]
[null,null,null,null,{"$f":"Translations!$B$420","v":"Liste des normes EN ou autres appliquées (le cas échéant)"}]
[]
[null,null,null,"(h)",{"$f":"Translations!$B$424","v":"Description de la procédure à utiliser pour évaluer la pertinence du plan d’échantillonnage"}]
[]
[null,null,null,null,{"$f":"Translations!$B$405","v":"Intitulé de la procédure"}]
[null,null,null,null,{"$f":"Translations!$B$407","v":"Référence de la procédure"}]
[null,null,null,null,{"$f":"Translations!$B$409","v":"Références du schéma (le cas échéant):"}]
[null,null,null,null,{"$f":"Translations!$B$411","v":"Description succincte de la procédure    "}]
[]
[]
[null,null,null,null,{"$f":"Translations!$B$414","v":"Poste ou service responsable de la procédure et de toute donnée générée."}]
[null,null,null,null,{"$f":"Translations!$B$416","v":"Lieu d'archivage"}]
[null,null,null,null,{"$f":"Translations!$B$418","v":"Nom du système informatique utilisé (le cas échéant)."}]
[null,null,null,null,{"$f":"Translations!$B$420","v":"Liste des normes EN ou autres appliquées (le cas échéant)"}]
[]
[null,null,null,"(i)",{"$f":"Translations!$B$425","v":"Description de la procédure à utiliser pour estimer les stocks au début et à la fin de l'année de déclaration (le cas échéant):"}]
[null,null,null,null,{"$f":"Translations!$B$426","v":"Veuillez décrire la procédure à utiliser pour estimer les variations des stocks de tout flux faisant l’objet d’une surveillance au moyen d’un mesurage par lots, par exemple sur la base de factures. "}]
[]
[null,null,null,null,{"$f":"Translations!$B$405","v":"Intitulé de la procédure"}]
[null,null,null,null,{"$f":"Translations!$B$407","v":"Référence de la procédure"}]
[null,null,null,null,{"$f":"Translations!$B$409","v":"Références du schéma (le cas échéant):"}]
[null,null,null,null,{"$f":"Translations!$B$411","v":"Description succincte de la procédure    "}]
[]
[]
[null,null,null,null,{"$f":"Translations!$B$414","v":"Poste ou service responsable de la procédure et de toute donnée générée."}]
[null,null,null,null,{"$f":"Translations!$B$416","v":"Lieu d'archivage"}]
[null,null,null,null,{"$f":"Translations!$B$418","v":"Nom du système informatique utilisé (le cas échéant)."}]
[null,null,null,null,{"$f":"Translations!$B$420","v":"Liste des normes EN ou autres appliquées (le cas échéant)"}]
[]
[null,null,null,"(j)",{"$f":"Translations!$B$427","v":"Description de la procédure à utiliser pour surveiller les instruments placés dans l’installation servant à déterminer les données d’activité."}]
[null,null,null,null,{"$f":"Translations!$B$428","v":"Cette procédure n’est applicable que lorsque l’exploitant utilise des instruments de mesure placés sous son propre contrôle."}]
[]
[null,null,null,null,{"$f":"Translations!$B$405","v":"Intitulé de la procédure"}]
[null,null,null,null,{"$f":"Translations!$B$407","v":"Référence de la procédure"}]
[null,null,null,null,{"$f":"Translations!$B$409","v":"Références du schéma (le cas échéant):"}]
[null,null,null,null,{"$f":"Translations!$B$411","v":"Description succincte de la procédure    "}]
[]
[]
[null,null,null,null,{"$f":"Translations!$B$414","v":"Poste ou service responsable de la procédure et de toute donnée générée."}]
[null,null,null,null,{"$f":"Translations!$B$416","v":"Lieu d'archivage"}]
[null,null,null,null,{"$f":"Translations!$B$418","v":"Nom du système informatique utilisé (le cas échéant)."}]
[null,null,null,null,{"$f":"Translations!$B$420","v":"Liste des normes EN ou autres appliquées (le cas échéant)"}]
[]
[null,null,null,"(k)",{"$f":"Translations!$B$1342","v":"Description de la procédure utilisée pour évaluer si la biomasse ou tout autre flux dont le facteur d'émission est considéré comme égal à zéro est conforme à l’article 38, pragraphe 5, l'article 39 bis, paragraphe 3 ou l'article 39 bis paragraphe 4, le cas échéant."}]
[null,null,null,null,{"$f":"Translations!$B$1343","v":"Cette procédure ne concerne que la biomasse, les RFNBO (carburants renouvelables d'origine non biologique), les RCF (carburants à base de carbone recyclé) et les SLCF (carburants synthétiques à faible teneur en carbone) qui sont soumis aux critères de durabilité et de réduction des émissions de GES applicables dans la directive sur les énergies renouvelables (2018/2001)."}]
[]
[null,null,null,null,{"$f":"Translations!$B$405","v":"Intitulé de la procédure"}]
[null,null,null,null,{"$f":"Translations!$B$407","v":"Référence de la procédure"}]
[null,null,null,null,{"$f":"Translations!$B$409","v":"Références du schéma (le cas échéant):"}]
[null,null,null,null,{"$f":"Translations!$B$411","v":"Description succincte de la procédure    "}]
[]
[]
[null,null,null,null,{"$f":"Translations!$B$414","v":"Poste ou service responsable de la procédure et de toute donnée générée."}]
[null,null,null,null,{"$f":"Translations!$B$416","v":"Lieu d'archivage"}]
[null,null,null,null,{"$f":"Translations!$B$418","v":"Nom du système informatique utilisé (le cas échéant)."}]
[null,null,null,null,{"$f":"Translations!$B$420","v":"Liste des normes EN ou autres appliquées (le cas échéant)"}]
[]
[null,null,null,"(l)",{"$f":"Translations!$B$1344","v":"Description de la procédure utilisée pour déterminer les quantités de biogaz dont le facteur d'émission est considéré comme égal à zéro sur la base des données d'achat conformément à l'article 39, paragraphe 4, ou les quantités RFNBO ou RCF dont le facteur d'émission est considéré comme égal à zéro conformément à l'article 39 bis, paragraphe 5, le cas échéant."}]
[null,null,null,null,{"$f":"Translations!$B$1345","v":"Cette procédure n'est pertinente que lorsque l'opérateur souhaite revendiquer l'utilisation de biogaz ou de RFNBO/RCF reçus d'un réseau de gaz (naturel)."}]
[]
[null,null,null,null,{"$f":"Translations!$B$405","v":"Intitulé de la procédure"}]
[null,null,null,null,{"$f":"Translations!$B$407","v":"Référence de la procédure"}]
[null,null,null,null,{"$f":"Translations!$B$409","v":"Références du schéma (le cas échéant):"}]
[null,null,null,null,{"$f":"Translations!$B$411","v":"Description succincte de la procédure    "}]
[]
[]
[null,null,null,null,{"$f":"Translations!$B$414","v":"Poste ou service responsable de la procédure et de toute donnée générée."}]
[null,null,null,null,{"$f":"Translations!$B$416","v":"Lieu d'archivage"}]
[null,null,null,null,{"$f":"Translations!$B$418","v":"Nom du système informatique utilisé (le cas échéant)."}]
[null,null,null,null,{"$f":"Translations!$B$420","v":"Liste des normes EN ou autres appliquées (le cas échéant)"}]
[]
[null,null,null,"(m)",{"$f":"Translations!$B$1346","v":"Description de la procédure utilisée pour déterminer les informations relatives à chaque achat, comme l'exigent l'article 75 tervicies, paragraphe 2 et l'annexe X bis."}]
[null,null,null,null,{"$f":"Translations!$B$1347","v":"Cette procédure doit décrire comment suivre chaque achat de carburant auprès de chaque fournisseur de carburant, les quantités consommées annuellement pour les activités couvertes par l'annexe I de la directive, les quantités prélevées/mises en stock et les quantités exportées."}]
[]
[null,null,null,null,{"$f":"Translations!$B$405","v":"Intitulé de la procédure"}]
[null,null,null,null,{"$f":"Translations!$B$407","v":"Référence de la procédure"}]
[null,null,null,null,{"$f":"Translations!$B$409","v":"Références du schéma (le cas échéant):"}]
[null,null,null,null,{"$f":"Translations!$B$411","v":"Description succincte de la procédure    "}]
[]
[]
[null,null,null,null,{"$f":"Translations!$B$414","v":"Poste ou service responsable de la procédure et de toute donnée générée."}]
[null,null,null,null,{"$f":"Translations!$B$416","v":"Lieu d'archivage"}]
[null,null,null,null,{"$f":"Translations!$B$418","v":"Nom du système informatique utilisé (le cas échéant)."}]
[null,null,null,null,{"$f":"Translations!$B$420","v":"Liste des normes EN ou autres appliquées (le cas échéant)"}]
[]
[null,null,null,"(n)",{"$f":"Translations!$B$1348","v":"Le cas échéant, une description de la procédure utilisée pour déterminer si les émissions de procédé d'une matière peuvent être considérées comme nulles, lorsque le CO2 correspondant a été déclaré par l'installation produisant cette matière."}]
[null,null,null,null,{"$f":"Translations!$B$1349","v":"Lorsque cela est pertinent (par exemple, le carbonate de sodium utilisé dans les industries du verre, l'urée utilisée pour DeNOx), cette procédure doit décrire comment vous garantissez que cette matière répond aux conditions énumérées au dernier alinéa de l'annexe II, section 4."}]
[]
[null,null,null,null,{"$f":"Translations!$B$405","v":"Intitulé de la procédure"}]
[null,null,null,null,{"$f":"Translations!$B$407","v":"Référence de la procédure"}]
[null,null,null,null,{"$f":"Translations!$B$409","v":"Références du schéma (le cas échéant):"}]
[null,null,null,null,{"$f":"Translations!$B$411","v":"Description succincte de la procédure    "}]
[]
[]
[null,null,null,null,{"$f":"Translations!$B$414","v":"Poste ou service responsable de la procédure et de toute donnée générée."}]
[null,null,null,null,{"$f":"Translations!$B$416","v":"Lieu d'archivage"}]
[null,null,null,null,{"$f":"Translations!$B$418","v":"Nom du système informatique utilisé (le cas échéant)."}]
[null,null,null,null,{"$f":"Translations!$B$420","v":"Liste des normes EN ou autres appliquées (le cas échéant)"}]
["ausblenden"]
["ausblenden",null,null,null,{"$f":"Translations!$B$1150","v":"Further procedure added by the operator"}]
["ausblenden"]
["ausblenden",null,null,null,{"$f":"Translations!$B$405","v":"Intitulé de la procédure"}]
["ausblenden",null,null,null,{"$f":"Translations!$B$407","v":"Référence de la procédure"}]
["ausblenden",null,null,null,{"$f":"Translations!$B$409","v":"Références du schéma (le cas échéant):"}]
["ausblenden",null,null,null,{"$f":"Translations!$B$411","v":"Description succincte de la procédure    "}]
["ausblenden"]
["ausblenden"]
["ausblenden",null,null,null,{"$f":"Translations!$B$414","v":"Poste ou service responsable de la procédure et de toute donnée générée."}]
["ausblenden",null,null,null,{"$f":"Translations!$B$416","v":"Lieu d'archivage"}]
["ausblenden",null,null,null,{"$f":"Translations!$B$418","v":"Nom du système informatique utilisé (le cas échéant)."}]
["ausblenden",null,null,null,{"$f":"Translations!$B$420","v":"Liste des normes EN ou autres appliquées (le cas échéant)"}]
["ADD_Procedure"]
[null,null,null,null,null,null,{"$f":"Translations!$B$429","v":"Cliquez sur « + » pour ajouter d’autres procédures"}]
[]
[]
[]
[null,null,null,null,null,{"$f":"EUconst_MsgNextSheet","v":"<<< Cliquer ici pour passer à la feuille suivante >>> "}]
["ausblenden",null,"end","end","end","end","end","end","end","end","end","end","end","end","end",null,"end","end","end","end","end","end","end"]

{"sheet":"E_SourceStreams","index":6,"n_rows":784,"n_cols":23,"rows_kept":784,"cut":false,"hidden":false,"merged":[[781,5,781,11],[138,4,138,6],[163,4,163,6],[171,4,171,6],[166,4,166,6],[164,4,164,6],[150,4,150,6],[170,4,170,6],[174,3,174,13],[169,4,169,6],[172,4,172,6],[179,4,179,13],[177,4,177,13],[176,4,176,13],[178,4,178,13],[182,4,182,13],[181,4,181,13],[167,4,167,6],[168,4,168,6],[139,9,139,13],[145,9,145,13],[190,4,190,6],[190,7,190,11],[379,4,379,13],[34,3,34,13],[37,5,37,13],[56,5,56,9],[15,3,15,13],[71,5,71,10],[1,10,1,11],[2,10,2,11],[3,6,3,7],[2,12,2,13],[5,11,5,13],[7,10,7,13],[14,3,14,13],[11,3,11,13],[12,3,12,13],[24,12,24,13],[62,4,62,13],[13,3,13,13],[9,3,9,13],[3,8,3,9],[1,1,3,3],[1,6,1,7],[1,8,1,9],[5,2,5,10],[3,4,3,5],[2,4,2,5],[2,6,2,7],[3,10,3,11],[3,12,3,13],[1,4,1,5],[1,12,1,13],[72,5,72,13],[85,4,85,13],[75,5,75,10],[74,5,74,10],[20,4,20,6],[24,3,24,6],[24,7,24,11],[26,4,26,6],[26,7,26,11],[28,7,28,11],[18,3,18,6],[18,7,18,11],[30,4,30,13],[21,4,21,6],[22,7,22,11],[21,7,21,11],[22,4,22,6],[28,4,28,6],[88,4,88,13],[162,4,162,6],[153,4,153,13],[147,9,147,13],[142,4,142,6],[104,3,104,13],[124,6,124,13],[146,4,146,6],[115,5,115,13],[144,4,144,6],[141,4,141,6],[140,9,140,13],[140,4,140,6],[161,4,161,6],[141,9,141,13],[160,4,160,6],[144,9,144,13],[111,4,114,4],[139,4,139,6],[106,4,106,13],[98,4,98,13],[97,4,97,13],[142,9,142,13],[149,9,149,13],[116,6,116,13],[122,6,122,13],[136,4,136,6],[107,4,107,13],[159,4,159,6],[145,4,145,6],[152,4,152,13],[150,9,150,13],[147,4,147,6],[149,4,149,6],[158,4,158,6],[148,4,148,6],[110,6,110,13],[109,6,109,13],[121,4,125,4],[127,5,127,13],[125,6,125,13],[20,7,20,11],[27,4,27,6],[51,7,51,8],[2,8,2,9],[68,5,68,13],[67,5,67,13],[56,10,56,11],[61,7,61,8],[66,5,66,10],[57,5,57,13],[65,5,65,10],[55,5,55,9],[53,4,53,13],[32,4,32,13],[40,4,40,13],[38,5,38,13],[42,4,42,13],[36,4,36,13],[47,3,47,13],[39,5,39,13],[45,4,45,13],[52,7,52,8],[31,4,31,13],[18,12,18,13],[27,7,27,11],[49,4,49,13],[55,10,55,11],[58,5,58,13],[111,5,111,13],[82,4,82,13],[115,4,117,4],[117,6,117,13],[108,4,110,4],[70,5,70,10],[108,5,108,13],[60,7,60,8],[76,5,76,13],[81,4,81,13],[87,4,87,13],[77,5,77,13],[86,4,86,13],[100,5,100,13],[99,5,99,13],[101,4,101,13],[112,6,112,13],[113,6,113,13],[114,6,114,13],[102,4,102,13],[63,4,63,13],[121,5,121,13],[188,4,188,6],[188,7,188,11],[189,4,189,6],[189,7,189,11],[186,3,186,6],[186,7,186,11],[118,5,118,13],[120,5,120,13],[128,5,128,13],[123,6,123,13],[186,12,186,13],[137,9,137,13],[119,5,119,13],[126,5,126,13],[136,9,136,13],[137,4,137,6],[119,4,120,4],[132,4,132,13],[154,4,154,13],[131,4,131,13],[148,9,148,13],[146,9,146,13],[192,4,192,13],[363,4,363,6],[363,9,363,13],[138,9,138,13],[183,4,183,13],[380,4,380,13],[381,4,381,13],[384,3,384,6],[384,7,384,11],[384,12,384,13],[370,4,370,6],[371,4,371,6],[372,4,372,6],[373,4,373,6],[375,3,375,13],[367,4,367,6],[368,4,368,6],[369,4,369,6],[194,3,194,13],[196,4,196,13],[198,7,198,8],[361,4,361,6],[361,9,361,13],[200,5,200,9],[200,10,200,11],[359,4,359,6],[359,9,359,13],[360,4,360,6],[360,9,360,13],[202,7,202,8],[204,5,204,10],[357,4,357,6],[357,9,357,13],[358,4,358,6],[358,9,358,13],[206,5,206,10],[208,5,208,10],[345,4,345,13],[346,4,346,13],[347,4,347,13],[353,3,353,13],[332,5,332,9],[332,10,332,11],[334,7,334,8],[336,5,336,10],[213,4,213,13],[214,4,214,13],[215,4,215,13],[221,3,221,13],[321,4,321,6],[321,7,321,11],[322,4,322,6],[322,7,322,11],[324,4,324,13],[314,4,314,13],[315,4,315,13],[318,3,318,6],[318,7,318,11],[318,12,318,13],[320,4,320,6],[320,7,320,11],[305,4,305,6],[306,4,306,6],[307,4,307,6],[228,4,228,6],[228,9,228,13],[229,4,229,6],[229,9,229,13],[230,4,230,6],[230,9,230,13],[225,4,225,6],[225,9,225,13],[226,4,226,6],[226,9,226,13],[227,4,227,6],[227,9,227,13],[231,4,231,6],[231,9,231,13],[235,4,235,6],[236,4,236,6],[237,4,237,6],[238,4,238,6],[239,4,239,6],[292,4,292,6],[292,9,292,13],[274,5,274,10],[279,4,279,13],[280,4,280,13],[281,4,281,13],[255,7,255,11],[247,4,247,13],[248,4,248,13],[249,4,249,13],[252,3,252,6],[252,7,252,11],[252,12,252,13],[262,4,262,13],[240,4,240,6],[241,4,241,6],[256,4,256,6],[256,7,256,11],[243,3,243,13],[245,4,245,13],[254,4,254,6],[254,7,254,11],[255,4,255,6],[387,4,387,6],[387,7,387,11],[388,4,388,6],[388,7,388,11],[309,3,309,13],[311,4,311,13],[313,4,313,13],[295,9,295,13],[296,4,296,6],[296,9,296,13],[297,4,297,6],[297,9,297,13],[301,4,301,6],[302,4,302,6],[303,4,303,6],[304,4,304,6],[338,5,338,10],[340,5,340,10],[326,3,326,13],[328,4,328,13],[390,4,390,13],[392,3,392,13],[386,4,386,6],[386,7,386,11],[258,4,258,13],[260,3,260,13],[287,3,287,13],[291,4,291,6],[291,9,291,13],[264,7,264,8],[266,5,266,9],[266,10,266,11],[268,7,268,8],[270,5,270,10],[272,5,272,10],[293,4,293,6],[293,9,293,13],[294,4,294,6],[294,9,294,13],[295,4,295,6],[362,4,362,6],[362,9,362,13],[377,4,377,13],[330,7,330,8],[404,5,404,10],[406,5,406,10],[411,4,411,13],[412,4,412,13],[413,4,413,13],[419,3,419,13],[394,4,394,13],[396,7,396,8],[398,5,398,9],[398,10,398,11],[400,7,400,8],[402,5,402,10],[426,4,426,6],[426,9,426,13],[427,4,427,6],[427,9,427,13],[428,4,428,6],[428,9,428,13],[423,4,423,6],[423,9,423,13],[424,4,424,6],[424,9,424,13],[425,4,425,6],[425,9,425,13],[437,4,437,6],[438,4,438,6],[439,4,439,6],[441,3,441,13],[443,4,443,13],[445,4,445,13],[429,4,429,6],[429,9,429,13],[433,4,433,6],[434,4,434,6],[435,4,435,6],[436,4,436,6],[453,4,453,6],[453,7,453,11],[454,4,454,6],[454,7,454,11],[456,4,456,13],[458,3,458,13],[446,4,446,13],[447,4,447,13],[450,3,450,6],[450,7,450,11],[450,12,450,13],[452,4,452,6],[452,7,452,11],[470,5,470,10],[472,5,472,10],[477,4,477,13],[478,4,478,13],[479,4,479,13],[485,3,485,13],[460,4,460,13],[462,7,462,8],[464,5,464,9],[464,10,464,11],[466,7,466,8],[468,5,468,10],[492,4,492,6],[492,9,492,13],[493,4,493,6],[493,9,493,13],[494,4,494,6],[494,9,494,13],[489,4,489,6],[489,9,489,13],[490,4,490,6],[490,9,490,13],[491,4,491,6],[491,9,491,13],[503,4,503,6],[504,4,504,6],[505,4,505,6],[507,3,507,13],[509,4,509,13],[511,4,511,13],[495,4,495,6],[495,9,495,13],[499,4,499,6],[500,4,500,6],[501,4,501,6],[502,4,502,6],[519,4,519,6],[519,7,519,11],[520,4,520,6],[520,7,520,11],[522,4,522,13],[524,3,524,13],[512,4,512,13],[513,4,513,13],[516,3,516,6],[516,7,516,11],[516,12,516,13],[518,4,518,6],[518,7,518,11],[536,5,536,10],[538,5,538,10],[543,4,543,13],[544,4,544,13],[545,4,545,13],[551,3,551,13],[526,4,526,13],[528,7,528,8],[530,5,530,9],[530,10,530,11],[532,7,532,8],[534,5,534,10],[558,4,558,6],[558,9,558,13],[559,4,559,6],[559,9,559,13],[560,4,560,6],[560,9,560,13],[555,4,555,6],[555,9,555,13],[556,4,556,6],[556,9,556,13],[557,4,557,6],[557,9,557,13],[569,4,569,6],[570,4,570,6],[571,4,571,6],[573,3,573,13],[575,4,575,13],[577,4,577,13],[561,4,561,6],[561,9,561,13],[565,4,565,6],[566,4,566,6],[567,4,567,6],[568,4,568,6],[585,4,585,6],[585,7,585,11],[586,4,586,6],[586,7,586,11],[588,4,588,13],[590,3,590,13],[578,4,578,13],[579,4,579,13],[582,3,582,6],[582,7,582,11],[582,12,582,13],[584,4,584,6],[584,7,584,11],[602,5,602,10],[604,5,604,10],[609,4,609,13],[610,4,610,13],[611,4,611,13],[617,3,617,13],[592,4,592,13],[594,7,594,8],[596,5,596,9],[596,10,596,11],[598,7,598,8],[600,5,600,10],[624,4,624,6],[624,9,624,13],[625,4,625,6],[625,9,625,13],[626,4,626,6],[626,9,626,13],[621,4,621,6],[621,9,621,13],[622,4,622,6],[622,9,622,13],[623,4,623,6],[623,9,623,13],[635,4,635,6],[636,4,636,6],[637,4,637,6],[639,3,639,13],[641,4,641,13],[643,4,643,13],[627,4,627,6],[627,9,627,13],[631,4,631,6],[632,4,632,6],[633,4,633,6],[634,4,634,6],[651,4,651,6],[651,7,651,11],[652,4,652,6],[652,7,652,11],[654,4,654,13],[656,3,656,13],[644,4,644,13],[645,4,645,13],[648,3,648,6],[648,7,648,11],[648,12,648,13],[650,4,650,6],[650,7,650,11],[668,5,668,10],[670,5,670,10],[675,4,675,13],[676,4,676,13],[677,4,677,13],[683,3,683,13],[658,4,658,13],[660,7,660,8],[662,5,662,9],[662,10,662,11],[664,7,664,8],[666,5,666,10],[690,4,690,6],[690,9,690,13],[691,4,691,6],[691,9,691,13],[692,4,692,6],[692,9,692,13],[687,4,687,6],[687,9,687,13],[688,4,688,6],[688,9,688,13],[689,4,689,6],[689,9,689,13],[701,4,701,6],[702,4,702,6],[703,4,703,6],[705,3,705,13],[707,4,707,13],[709,4,709,13],[693,4,693,6],[693,9,693,13],[697,4,697,6],[698,4,698,6],[699,4,699,6],[700,4,700,6],[717,4,717,6],[717,7,717,11],[718,4,718,6],[718,7,718,11],[720,4,720,13],[722,3,722,13],[710,4,710,13],[711,4,711,13],[714,3,714,6],[714,7,714,11],[714,12,714,13],[716,4,716,6],[716,7,716,11],[734,5,734,10],[736,5,736,10],[741,4,741,13],[742,4,742,13],[743,4,743,13],[749,3,749,13],[724,4,724,13],[726,7,726,8],[728,5,728,9],[728,10,728,11],[730,7,730,8],[732,5,732,10],[756,4,756,6],[756,9,756,13],[757,4,757,6],[757,9,757,13],[758,4,758,6],[758,9,758,13],[753,4,753,6],[753,9,753,13],[754,4,754,6],[754,9,754,13],[755,4,755,6],[755,9,755,13],[776,4,776,13],[777,4,777,13],[765,4,765,6],[766,4,766,6],[767,4,767,6],[768,4,768,6],[769,4,769,6],[771,3,771,13],[759,4,759,6],[759,9,759,13],[763,4,763,6],[764,4,764,6],[773,4,773,13],[775,4,775,13]]}
["ausblenden",null,null,null,null,null,null,null,null,null,null,null,null,null,null,"ausblenden","ausblenden","ausblenden","ausblenden","ausblenden","ausblenden","ausblenden","ausblenden"]
[null,{"$f":"Translations!$B$430","v":"E.\nSource streams"},null,null,{"$f":"Translations!$B$59","v":"Zone de navigation:"},null,{"$f":"Translations!$B$60","v":"Sommaire"},null,{"$f":"Translations!$B$61","v":"Feuille précédente"},null,{"$f":"Translations!$B$62","v":"Feuille suivante"}]
[null,null,null,null,{"$f":"Translations!$B$63","v":"Début de feuille"},null,1,null,2,null,3]
[null,null,null,null,{"$f":"Translations!$B$64","v":"Fin de feuille"},null,4,null,5,null,{"$f":"Translations!$B$431","v":"6 à 10"}]
[]
[null,null,{"$f":"Translations!$B$432","v":"E. Source Streams (Flux)"},null,null,null,null,null,null,null,null,{"$f":"IF(AND(NOT(ISBLANK(CNTR_InstHasCalculation)), CNTR_InstHasCalculation=FALSE),EUconst_NotRelevant,EUconst_Relevant)","v":"pertinent"}]
[]
[null,null,null,null,null,null,null,null,null,null,{"$f":"IF(L6=EUconst_NotRelevant,HYPERLINK(\"#JUMP_F_Top\",EUconst_MsgNextSheet),HYPERLINK(\"\",EUconst_MsgEnterThisSection))","v":"Veuillez saisir des données dans cette rubrique"}]
[]
[null,null,8,{"$f":"Translations!$B$19","v":"Niveaux appliqués pour les données d’activité et les facteurs de calcul"}]
[]
[null,null,null,{"$f":"Translations!$B$433","v":"Veuillez noter que le texte explicatif ne s’affiche que pour le premier flux. "}]
[null,null,null,{"$f":"Translations!$B$434","v":"Si vous souhaitez afficher les données pour d’autres flux, veuillez cliquer sur les signes «+» à gauche (fonction de groupement de données)."}]
[null,null,null,{"$f":"Translations!$B$435","v":"Pour ajouter d’autres flux, veuillez passer à la rubrique 6 e) sur la feuille C­­_InstallationDescription, et utiliser la macro qui s'y trouve."}]
[null,null,null,{"$f":"Translations!$B$135","v":"Pour afficher/masquer les exemples, cliquez sur le bouton «Exemples» dans la zone de navigation."}]
[null,null,null,{"$f":"Translations!$B$436","v":"L’exemple est intégré dans le premier flux."},null,null,null,null,null,null,null,null,null,null,null,null,null,null,"Check source stream category","auto","manual"]
[]
[null,null,null,null,null,null,null,null,null,null,null,null,null,null,null,null,null,null,"Check source stream category","auto","manual"]
[null,null,{"$f":"\"F\"&Q19","v":"F1"},{"$f":"CONCATENATE(Euconst_SourceStream,\" \", Q19,\":\")","v":"Flux 1:"},null,null,null,{"$f":"IF(INDEX(C_InstallationDescription!$F$194:$F$204,MATCH(C19,C_InstallationDescription!$E$194:$E$204,0))>0,INDEX(C_InstallationDescription!$F$194:$F$204,MATCH(C19,C_InstallationDescription!$E$194:$E$204,0)),\"\")","v":""},null,null,null,null,{"$f":"IF(S19=TRUE,IF(U19=\"\",T19,U19),\"\")","v":""},null,null,null,1,null,{"$f":"IF(INDEX(C_InstallationDescription!$M:$M,MATCH(Q21,C_InstallationDescription!$Q:$Q,0))=\"\",FALSE,TRUE)","v":false},{"$f":"IF(S19=TRUE,INDEX(C_InstallationDescription!$M:$M,MATCH(Q21,C_InstallationDescription!$Q:$Q,0)),\"\")","v":""},{"$f":"IF(S19=TRUE,IF(ISBLANK(INDEX(C_InstallationDescription!$N:$N,MATCH(Q21,C_InstallationDescription!$Q:$Q,0))),\"\",INDEX(C_InstallationDescription!$N:$N,MATCH(Q21,C_InstallationDescription!$Q:$Q,0))),\"\")","v":""}]
[]
[null,null,null,null,{"$f":"Translations!$B$437","v":"Type de flux:"},null,null,{"$f":"IF(INDEX(C_InstallationDescription!$I$194:$I$204,MATCH(C19,C_InstallationDescription!$E$194:$E$204,0))>0,INDEX(C_InstallationDescription!$I$194:$I$204,MATCH(C19,C_InstallationDescription!$E$194:$E$204,0)),\"\")","v":""},null,null,null,null,null,null,null,null,{"$f":"EUconst_CNTR_SourceCategory&C19","v":"SourceCategory_F1"}]
[null,null,null,null,{"$f":"Translations!$B$438","v":"Méthode applicable en vertu du MRR:"},null,null,{"$f":"IF(H21=\"\",\"\",INDEX(EUwideConstants!F:F,MATCH(H21,EUwideConstants!Q:Q,0)))","v":""}]
[null,null,null,null,{"$f":"Translations!$B$439","v":"Paramètre auquel s’applique l’incertitude:"},null,null,{"$f":"IF(H21=\"\",\"\",INDEX(EUwideConstants!E:E,MATCH(H21,EUwideConstants!Q:Q,0)))","v":""}]
[]
["HIDE_Example",null,null,{"$f":"Translations!$B$440","v":"Exemple de flux:"},null,null,null,{"$f":"Translations!$B$295","v":"Fioul lourd"},null,null,null,null,{"$f":"Translations!$B$313","v":"Flux majeur"},null,null,null,1,null,{"$f":"IF(INDEX(C_InstallationDescription!$M:$M,MATCH(Q27,C_InstallationDescription!$Q:$Q,0))=\"\",FALSE,TRUE)","v":false},{"$f":"IF(S25=TRUE,INDEX(C_InstallationDescription!$M:$M,MATCH(Q27,C_InstallationDescription!$Q:$Q,0)),\"\")","v":""},{"$f":"IF(S25=TRUE,IF(ISBLANK(INDEX(C_InstallationDescription!$N:$N,MATCH(Q27,C_InstallationDescription!$Q:$Q,0))),\"\",INDEX(C_InstallationDescription!$N:$N,MATCH(Q27,C_InstallationDescription!$Q:$Q,0))),\"\")","v":""}]
["HIDE_Example"]
["HIDE_Example",null,null,null,{"$f":"Translations!$B$437","v":"Type de flux:"},null,null,{"$f":"Translations!$B$296","v":"Combustion: Autres combustibles gazeux & liquides"},null,null,null,null,null,null,null,null,{"$f":"EUconst_CNTR_SourceCategory&C25","v":"SourceCategory_"}]
["HIDE_Example",null,null,null,{"$f":"Translations!$B$438","v":"Méthode applicable en vertu du MRR:"},null,null,{"$f":"Translations!$B$441","v":"Méthode standard: Combustible, article 24, paragraphe 1"}]
["HIDE_Example",null,null,null,{"$f":"Translations!$B$439","v":"Paramètre auquel s’applique l’incertitude:"},null,null,{"$f":"Translations!$B$442","v":"Quantité de combustible [t] ou [Nm3]"}]
["HIDE_Example"]
[null,null,null,null,{"$f":"Translations!$B$443","v":"Le nom du flux, le type de flux et la catégorie s’afficheront automatiquement en fonction des données que vous avez saisies à la rubrique 6 e) de la feuille C_InstallationDescription"}]
[null,null,null,null,{"$f":"Translations!$B$444","v":"Si vous n’avez pas classé le flux dans une catégorie (majeur, mineur, de minimis) à ce moment-là, veuillez utiliser la catégorie qui s'affiche automatiquement dans la présente rubrique.  En pareil cas, le modèle ne peut pas indiquer correctement ci-dessous quels sont les niveaux à appliquer. Par conséquent, veuillez vous assurer de bien choisir une catégorie dans la rubrique susmentionnée. "}]
[null,null,null,null,{"$f":"Translations!$B$445","v":"Étant donné que le type de flux peut être clairement attribué à une méthode de surveillance applicable conformément au MRR (article 24 et 25) et aux paramètres auxquels s’applique  l’incertitude des données d’activité (Annexe II), cette information est fournie automatiquement, sur la base du MRR. "}]
[]
[null,null,null,{"$f":"Translations!$B$446","v":"Assistance automatique pour les niveaux applicables:"}]
[]
[null,null,null,null,{"$f":"Translations!$B$447","v":"Dans les rubriques c) et f), ci-après, les niveaux requis pour les données d'activité et les facteurs de calcul s'affichent dans les champs verts en fonction des données que vous avez saisies aux rubriques 5 d), 5 e), 6 e) et 6 f). Il s’agit des niveaux minimaux pour des flux majeurs dans des installations de catégorie C. Toutefois, des niveaux plus bas peuvent être admis.  Des conseils appropriés s’affichent dans l’encadré vert ci-dessous, en fonction des points suivants:"}]
[null,null,null,null,"-",{"$f":"Translations!$B$448","v":"des exigences allégées s’appliquent aux installations à faible niveau d’émission, conformément à l’article 47, paragraphe 2;"}]
[null,null,null,null,"-",{"$f":"Translations!$B$449","v":"catégorie de l’installation (A, B ou C) conformément à l’article 19;"}]
[null,null,null,null,"-",{"$f":"Translations!$B$450","v":"des exigences allégées s'appliquent aux flux mineurs et aux flux de minimis, conformément à la classification établie à l'article 19, paragraphe 3."}]
[null,null,null,null,{"$f":"Translations!$B$451","v":"Le présent message concernant les niveaux applicables vaut pour les données d'activité et pour tous les facteurs de calcul."}]
[]
[null,null,null,null,{"$f":"IF(H19=\"\",\"\",INDEX(EUconst_SmallEmiSouStreamMsg,MATCH(Q43,EUconst_SmallEmiSouStream,0)))","v":""},null,null,null,null,null,null,null,null,null,null,null,{"$f":"IF(CNTR_SmallEmitter=TRUE,EUconst_CNTR_SmallEmitter,EUconst_CNTR_NoSmallEmitter) & IF((CNTR_Category)=\"\",\"C\",CNTR_Category) & \"_\" & IF(M19=\"\",1,MATCH(M19,SourceCategory,0))","v":"NoSmallEmitter_C_1"}]
["HIDE_Example"]
["HIDE_Example",null,null,{"$f":"Translations!$B$452","v":"Exemple de données:"}]
["HIDE_Example",null,null,null,{"$f":"Translations!$B$453","v":"Article 26, paragraphe 1: Les niveaux minimaux affichés ci-dessous sont applicables au minimum.\nVous pouvez toutefois descendre jusqu'à deux niveaux en dessous (le niveau 1 étant un minimum) si vous parvenez à démontrer de manière concluante à l’autorité compétente que le niveau prescrit conformément au premier alinéa n’est pas techniquement réalisable ou risque d’entraîner des coûts excessifs. "}]
[]
[null,null,null,{"$f":"Translations!$B$454","v":"Données d'activité:"}]
[]
[null,null,null,"(a)",{"$f":"Translations!$B$455","v":"Méthode de détermination des données d’activité:"}]
[]
[null,null,null,"i.",{"$f":"Translations!$B$456","v":"Méthode de détermination:"},null,null,null,null,null,null,null,null,null,null,null,null,null,null,null,null,null,{"$f":"IF(M19=\"\",\"\",IF(M19=INDEX(SourceCategory,3),1,IF(CNTR_InstHasCalculation=FALSE,0,2)))","v":""}]
["HIDE_Example",null,null,null,null,null,null,{"$f":"Translations!$B$457","v":"continue"},null,null,null,null,null,null,null,null,null,null,null,null,null,null,{"$f":"IF(M28=\"\",\"\",IF(M28=INDEX(SourceCategory,3),1,IF(CNTR_InstHasCalculation=FALSE,0,2)))","v":""}]
[null,null,null,null,{"$f":"Translations!$B$458","v":"Conformément à l’article 27, paragraphe 1, les données d’activité d’un flux peuvent être déterminées a) par mesurage en continu au niveau du procédé responsable des émissions, ou b) par cumul des quantités livrées séparément, compte tenu des variations des stocks (mesurage par lot)."}]
[]
[null,null,null,null,null,{"$f":"Translations!$B$459","v":"Référence de la procédure utilisée pour déterminer les stocks à la fin de l'année:"},null,null,null,null,null,null,null,null,null,null,null,null,null,null,null,{"$f":"IF(OR(H19=\"\",ISBLANK(H52)),FALSE,IF(MATCH(H52,EUconst_ActivityDeterminationMethod,0)=2,TRUE,FALSE))","v":false},{"$f":"IF(V56=TRUE,0,W52)","v":""}]
["HIDE_Example",null,null,null,null,null,null,null,null,null,null,null,null,null,null,null,null,null,null,null,null,{"$f":"IF(OR(H29=\"\",ISBLANK(H54)),FALSE,IF(MATCH(H54,EUconst_ActivityDeterminationMethod,0)=2,TRUE,FALSE))","v":false},{"$f":"IF(V57=TRUE,0,W54)","v":0}]
[null,null,null,null,null,{"$f":"Translations!$B$460","v":"Cette rubrique n’est pertinente que si vous avez choisi «Lot» comme méthode de détermination  Veuillez indiquer la référence de la procédure décrite à la rubrique 7 i) "}]
[null,null,null,null,null,{"$f":"Translations!$B$461","v":"Les exploitants d’installations à faible niveau d’émission [rubrique 5 e)] ne sont pas tenus d'inclure la détermination des stocks dans leur évaluation de l'incertitude (article 47, paragraphe 5)."}]
[]
[null,null,null,"ii.",{"$f":"Translations!$B$462","v":"Instrument contrôlé par:"},null,null,null,null,null,null,null,null,null,null,null,null,null,null,null,null,null,{"$f":"W52","v":""}]
["HIDE_Example",null,null,null,null,null,null,{"$f":"Translations!$B$149","v":"Exploitant"},null,null,null,null,null,null,null,null,null,null,null,null,null,null,{"$f":"W55","v":0}]
[null,null,null,null,{"$f":"Translations!$B$463","v":"Veuillez choisir «Exploitant» si l’instrument de mesure se trouve sous votre propre contrôle et «Partenaire commercial» s’il n’est pas sous votre contrôle.. "}]
[null,null,null,null,{"$f":"Translations!$B$464","v":"Si plusieurs instruments sont concernés, veuillez choisir «Partenaire commercial» si tel est le cas pour au moins un des instruments utilisés pour ce flux. Dans ce cas, utiliser la zone de texte au point b) ci-dessous pour indiquer quels instruments sont sous le contrôle de l’exploitant et lesquels sont sous le contrôle du partenaire commercial."}]
[]
[null,null,null,null,"a.",{"$f":"Translations!$B$465","v":"Veuillez confirmer que les conditions énoncées à l’article 29, paragraphe 1 sont satisfaites:"},null,null,null,null,null,null,null,null,null,null,null,null,null,null,null,{"$f":"IF(OR(H19=\"\",ISBLANK(H61)),FALSE,IF(MATCH(H61,EUconst_OwnerInstrument,0)=1,TRUE,FALSE))","v":false},{"$f":"IF(V66=TRUE,0,W52)","v":""}]
["HIDE_Example",null,null,null,null,null,null,null,null,null,null,null,null,null,null,null,null,null,null,null,null,{"$f":"IF(OR(H31=\"\",ISBLANK(H63)),FALSE,IF(MATCH(H63,EUconst_OwnerInstrument,0)=1,TRUE,FALSE))","v":false},{"$f":"IF(V67=TRUE,0,W56)","v":""}]
[null,null,null,null,null,{"$f":"Translations!$B$466","v":"Ce point n’est pertinent que si vous n'êtes pas le propriétaire de l'instrument de mesure."}]
[null,null,null,null,null,{"$f":"Translations!$B$467","v":"Conformément à l’article 29, paragraphe 1, vous n’êtes autorisés à recourir à des instruments qui ne sont pas placés sous votre contrôle que si ces instruments permettent d’appliquer un niveau au moins aussi élevé que vos propres instruments, qu'ils donnent des résultats plus fiables et qu’ils présentent un moindre risque de carence de contrôle."}]
[]
[null,null,null,null,"b.",{"$f":"Translations!$B$468","v":"Utilisez-vous des factures pour déterminer la quantité de ce combustible ou de cette matière ?"},null,null,null,null,null,null,null,null,null,null,null,null,null,null,null,{"$f":"IF(OR(H19=\"\",ISBLANK(H61)),FALSE,IF(MATCH(H61,EUconst_OwnerInstrument,0)=1,TRUE,FALSE))","v":false},{"$f":"IF(V71=TRUE,0,W52)","v":""}]
["HIDE_Example",null,null,null,null,null,null,null,null,null,null,null,null,null,null,null,null,null,null,null,null,{"$f":"IF(OR(H36=\"\",ISBLANK(H68)),FALSE,IF(MATCH(H68,EUconst_OwnerInstrument,0)=1,TRUE,FALSE))","v":false},{"$f":"IF(V72=TRUE,0,W61)","v":""}]
[null,null,null,null,null,{"$f":"Translations!$B$466","v":"Ce point n’est pertinent que si vous n'êtes pas le propriétaire de l'instrument de mesure."}]
[]
[null,null,null,null,"c.",{"$f":"Translations!$B$469","v":"Veuillez confirmer que le partenaire commercial et l’exploitant sont indépendants:"},null,null,null,null,null,null,null,null,null,null,null,null,null,null,null,{"$f":"IF(OR(H19=\"\",ISBLANK(H61)),FALSE,IF(MATCH(H61,EUconst_OwnerInstrument,0)=1,TRUE,FALSE))","v":false},{"$f":"IF(V75=TRUE,0,W52)","v":""}]
["HIDE_Example",null,null,null,null,null,null,null,null,null,null,null,null,null,null,null,null,null,null,null,null,{"$f":"IF(OR(H40=\"\",ISBLANK(H72)),FALSE,IF(MATCH(H72,EUconst_OwnerInstrument,0)=1,TRUE,FALSE))","v":false},{"$f":"IF(V76=TRUE,0,W65)","v":0}]
[null,null,null,null,null,{"$f":"Translations!$B$470","v":"Ce point n’est pertinent que si vous n'êtes pas le propriétaire de l'instrument de mesure. "}]
[null,null,null,null,null,{"$f":"Translations!$B$471","v":"Conformément à l’article 29, paragraphe 1, point a), vous ne pouvez recourir aux factures que si les partenaires commerciaux sont indépendants."}]
[]
[null,null,null,"(b)",{"$f":"Translations!$B$472","v":"Instruments de mesure utilisés:"}]
["HIDE_Example",null,null,null,null,null,null,"MI01","MI03"]
[null,null,null,null,{"$f":"Translations!$B$473","v":"Veuillez sélectionner ici un ou plusieurs des instruments que vous avez définis à la rubrique 7 b). "}]
[null,null,null,null,{"$f":"Translations!$B$474","v":"Si plus de 5 instruments de mesure sont utilisés pour ce flux, par exemple si la compensation p/T est réalisée à l’aide d’un instrument distinct, veuillez utiliser la zone de texte ci-dessous pour compléter la description."}]
[]
[null,null,null,null,{"$f":"Translations!$B$475","v":"Commentaire/Description de la méthode, lorsque plusieurs instruments sont utilisés:"}]
[null,null,null,null,{"$f":"Translations!$B$476","v":"Veuillez expliquer pourquoi et comment plusieurs instruments sont nécessaires, le cas échéant. Par exemple, il se peut qu’un instrument soit nécessaire pour soustraire une partie du combustible qui ne relève pas du SEQE. Des instruments de pesage peuvent être utilisés en remplacement, ou à des fins de corroboration, etc."}]
[]
[]
[]
[]
[null,null,null,"(c)",{"$f":"Translations!$B$477","v":"Niveaux requis pour les données d’activité:"},null,null,{"$f":"IF(H21=\"\",\"\",IF(CNTR_Category=\"A\",INDEX(EUwideConstants!$G:$G,MATCH(Q91,EUwideConstants!$S:$S,0)),INDEX(EUwideConstants!$P:$P,MATCH(Q91,EUwideConstants!$S:$S,0))))","v":""},{"$f":"IF(H91=\"\",\"\",IF(S91=0,EUconst_NA,IF(ISERROR(S91),\"\",EUconst_MsgTierActivityLevel & \" \" &S91)))","v":""},null,null,null,null,null,null,null,{"$f":"EUconst_CNTR_ActivityData&H21","v":"ActivityData_"},null,{"$f":"IF(H91=\"\",\"\",IF(H91=EUconst_NA,\"\",INDEX(EUwideConstants!$H:$O,MATCH(Q91,EUwideConstants!$S:$S,0),MATCH(H91,CNTR_TierList,0))))","v":""}]
[null,null,null,"(d)",{"$f":"Translations!$B$478","v":"Niveau utilisé pour les données d’activité:"},null,null,null,{"$f":"IF(OR(ISBLANK(H92),H92=EUconst_NoTier),\"\",IF(S92=0,EUconst_NA,IF(ISERROR(S92),\"\",EUconst_MsgTierActivityLevel & \" \" &S92)))","v":""},null,null,null,null,null,null,null,{"$f":"EUconst_CNTR_ActivityData&H21","v":"ActivityData_"},null,{"$f":"IF(ISBLANK(H92),\"\",IF(H92=EUconst_NA,\"\",INDEX(EUwideConstants!$H:$O,MATCH(Q92,EUwideConstants!$S:$S,0),MATCH(H92,CNTR_TierList,0))))","v":""}]
[null,null,null,"(e)",{"$f":"Translations!$B$479","v":"Incertitude constatée:  "},null,null,null,{"$f":"Translations!$B$480","v":"Remarque:"}]
["HIDE_Example",null,null,{"$f":"Translations!$B$452","v":"Exemple de données:"}]
["HIDE_Example",null,null,"(c)",{"$f":"Translations!$B$477","v":"Niveaux requis pour les données d’activité:"},null,null,2,{"$f":"Translations!$B$481","v":"L’incertitude ne doit pas dépasser + 5,0% "}]
["HIDE_Example",null,null,"(d)",{"$f":"Translations!$B$478","v":"Niveau utilisé pour les données d’activité:"},null,null,3,{"$f":"Translations!$B$482","v":"L’incertitude ne doit pas dépasser + 2,5% "}]
["HIDE_Example",null,null,"(e)",{"$f":"Translations!$B$479","v":"Incertitude constatée:  "},null,null,2.2499999999999999E-2,{"$f":"Translations!$B$480","v":"Remarque:"},{"$f":"Translations!$B$483","v":"Couvert par le contrôle métrologique légal national --> MPE (erreur maximale tolérée) en service"}]
[null,null,null,null,{"$f":"Translations!$B$484","v":"En ce qui concerne le niveau requis et le niveau utilisé, veuillez indiquer ici l’incertitude constatée en service sur l’ensemble de la période de déclaration."}]
[null,null,null,null,{"$f":"Translations!$B$485","v":"En général, cette valeur doit résulter d’une évaluation de l’incertitude [voir rubrique 7 c)]. Toutefois, l’article 28, paragraphes 2 et 3, et l’article 29, paragraphe 2, autorisent plusieurs simplifications:"}]
[null,null,null,null,"-",{"$f":"Translations!$B$486","v":"vous pouvez utiliser l’erreur maximale tolérée spécifiée pour l’instrument de mesure en service ou, si elle est inférieure, l'incertitude associée à l'étalonnage multipliée par un facteur de correction prudent pour tenir compte de l'effet de l'incertitude en service, pour autant que les instruments de mesure soient installés dans un environnement adapté à leurs caractéristiques de fonctionnement, ou "}]
[null,null,null,null,"-",{"$f":"Translations!$B$487","v":"vous pouvez utiliser l’erreur maximale tolérée en service en tant qu’incertitude constatée pour autant que l’instrument de mesure soit soumis au contrôle métrologique légal national. "}]
[null,null,null,null,{"$f":"Translations!$B$488","v":"Veuillez utiliser la zone de texte [point h) ci-dessous] pour décrire la manière dont est déterminée l’incertitude sur l’ensemble de la période."}]
[null,null,null,null,{"$f":"Translations!$B$1171","v":"Pour de plus amples indications, veuillez consulter les articles 28 et 29 du MRR et le document d’orientation «Guidance Document 4» et utiliser l’outil «Tool for uncertainty assessment», destiné à l’évaluation de l’incertitude."}]
[]
[null,null,null,{"$f":"Translations!$B$490","v":"Facteurs de calcul:"}]
[]
[null,null,null,null,{"$f":"Translations!$B$491","v":"Conformément à l’article 30, paragraphe 1, les facteurs de calcul peuvent être déterminés soit sous la forme de valeurs par défaut soit sur la base d'analyse de laboratoire. Ce choix est déterminé par le niveau applicable."}]
[null,null,null,null,{"$f":"Translations!$B$492","v":"Les catégories de niveaux suivantes sont utilisées à titre indicatif (conformément au document d’orientation n°1):"}]
[null,null,null,null,{"$f":"Translations!$B$1172","v":"Valeurs par défaut de type I (niveau 1):"},{"$f":"Translations!$B$1173","v":"Les valeurs par défaut de type I sont fondées sur l’une des méthodes suivantes:"}]
[null,null,null,null,null,"-",{"$f":"Translations!$B$1174","v":"utilisation des facteurs standard énumérés à l’annexe VI (en principe les valeurs du GIEC); ou "}]
[null,null,null,null,null,"-",{"$f":"Translations!$B$1175","v":"en l'absence de facteurs standard, utilisation d’autres constantes conformément à l’article 31, paragraphe 1, point e), par exemple des résultats d’analyses effectuées antérieurement mais toujours valables."}]
[null,null,null,null,{"$f":"Translations!$B$1176","v":"Valeurs par défaut de type II (niveau 2):"},{"$f":"Translations!$B$1177","v":"Les valeurs par défaut de type II sont fondées sur l’une des méthodes suivantes, considérées comme équivalentes:"}]
[null,null,null,null,null,"-",{"$f":"Translations!$B$1178","v":"utilisation des facteurs d’émission spécifiques par pays conformément à l’article 31, paragraphe 1, point b), à savoir des valeurs utilisées pour l’inventaire national de GES; ou "}]
[null,null,null,null,null,"-",{"$f":"Translations!$B$1179","v":"utilisation d’autres valeurs publiées par l’AC pour les types de combustibles plus spécifiques conformément à l’article 31, paragraphe 1, point c), ou d’autres valeurs de la littérature approuvées par l’AC; ou "}]
[null,null,null,null,null,"-",{"$f":"Translations!$B$1180","v":"utilisation d’autres constantes conformément à l’article 31, paragraphe 1, point d), à savoir des valeurs garanties par le fournisseur d’un combustible ou d’une matière ayant une teneur en carbone qui n’excède pas 1 %."}]
[null,null,null,null,{"$f":"Translations!$B$1181","v":"Variables représentatives (niveau 2b): "},{"$f":"Translations!$B$498","v":"Il s’agit de méthodes basées sur des corrélations empiriques établies au moins une fois par an conformément aux exigences applicables pour les analyses de laboratoire. Toutefois, ces analyses n’étant effectuées qu’une fois par an, ce niveau correspond donc à un niveau inférieur aux analyses complètes. Les corrélations avec variables représentatives peuvent reposer sur:"}]
[null,null,null,null,null,"-",{"$f":"Translations!$B$499","v":"la mesure de la densité de certaines huiles ou de certains gaz, notamment ceux couramment utilisés dans l'industrie du raffinage ou la sidérurgie, ou "}]
[null,null,null,null,null,"-",{"$f":"Translations!$B$500","v":"le pouvoir calorifique inférieur de certains types de charbons."}]
[null,null,null,null,{"$f":"Translations!$B$1182","v":"Données d’achat (niveau 2b): "},{"$f":"Translations!$B$502","v":"Le pouvoir calorifique inférieur peut être déterminé d'après les données d'achat communiquées par le fournisseur de combustible, à condition que cette détermination ait été réalisée conformément  aux normes nationales ou internationales reconnues  (applicable uniquement dans le cas des combustibles marchands)."}]
[null,null,null,null,{"$f":"Translations!$B$1183","v":"Analyses de laboratoire (niveau le plus élevé): "},{"$f":"Translations!$B$1184","v":"Dans ce cas, les dispositions des articles 32 à 35 relatives aux analyses sont intégralement applicables, y compris l’utilisation de «variables représentatives», le cas échéant et lorsque l’incertitude de la corrélation empirique n’excède pas un tiers de la valeur d’incertitude associée au niveau applicable pour les données d’activité. "}]
[null,null,null,null,null,{"$f":"Translations!$B$1185","v":"Pour les substances chimiques pures, l’autorité compétente peut accepter que la teneur stœchiométrique en carbone soit considérée comme respectant un niveau qui nécessiterait normalement des analyses de laboratoire, si l’exploitant démontre que de telles analyses risqueraient d’entraîner des coûts excessifs et que la valeur stœchiométrique ne conduirait pas à une sous-estimation des émissions."}]
[null,null,null,null,{"$f":"Translations!$B$1186","v":"Fraction issue de la biomasse de type I (niveau 1):"},{"$f":"Translations!$B$1187","v":"Une des méthodes suivantes, considérées comme équivalentes, doit être appliquée:"}]
[null,null,null,null,null,"-",{"$f":"Translations!$B$1188","v":"utilisation de valeurs parmi celles publiées par l’autorité compétente ou par la Commission pour ce type de combustible ou de matière; ou"}]
[null,null,null,null,null,"-",{"$f":"Translations!$B$1189","v":"utilisation de valeurs conformément à l’article 31, paragraphe 1, à savoir une «valeur par défaut de type I»;"}]
[null,null,null,null,null,"-",{"$f":"Translations!$B$1190","v":"l’exploitant peut aussi partir du principe que la fraction fossile représente 100 %. On considère alors qu’il ne s'agit pas d'une méthode par niveaux, et une valeur par défaut de 0 % est appliquée pour la fraction issue de la biomasse; "}]
[null,null,null,null,null,"-",{"$f":"Translations!$B$1350","v":"Application des articles 39, paragraphes 3 et 4 et 39 bis, paragraphe 5, dans le cas des réseaux de gaz naturel dans lesquels du biogaz ou du RFNBO/RCF est injecté, c'est-à-dire lorsque l'autorité compétente autorise la détermination de la fraction à taux zéro à l'aide des registres d'achat de contenu énergétique équivalent."}]
[null,null,null,null,{"$f":"Translations!$B$1192","v":"Fraction issue de la biomasse de type II (niveau 2):"},{"$f":"Translations!$B$1351","v":"La fraction de biomasse est déterminée sur la base d'une méthode d'estimation conformément au deuxième alinéa de l'article 39, paragraphe 2, soumise à l'autorité compétente pour approbation, en tenant compte de toute ligne directrice relative à d'autres méthodes d'estimation applicables publiées par la Commission (voir le document d'orientation 3)."}]
[null,null,null,null,{"$f":"Translations!$B$1352","v":"Analyse de la fraction issue de la biomasse (niveau 3a) :"},{"$f":"Translations!$B$1197","v":"Dans ce cas, des analyses de laboratoire doivent être effectuées, conformément à l’article 39, paragraphe 2, premier alinéa; et aux articles 32 à 35."}]
[null,null,null,null,{"$f":"Translations!$B$1353","v":"Bilan massique de la fraction issue de la biomasse (niveau 3b) :"},{"$f":"Translations!$B$1354","v":"Biomasse : Pour les combustibles provenant d'un processus de production avec des flux d'entrée définis et traçables, l'exploitant peut fonder l'estimation sur un bilan matière du carbone fossile et de la biomasse entrant et sortant du processus, tel que le système de bilan massique conformément à l'article 30, paragraphe 1 de la directive (UE) 2018/2001."}]
[]
[null,null,null,null,{"$f":"Translations!$B$512","v":"Remarque:"}]
[null,null,null,null,{"$f":"Translations!$B$513","v":"Les niveaux requis dans le tableau ci-dessous correspondent toujours à des flux majeurs. Veuillez vous reporter aux informations figurant dans la zone de texte de l’en-tête de ce flux si des niveaux inférieurs sont autorisés."}]
[null,null,null,null,{"$f":"Translations!$B$514","v":"Conformément à l’article 26, paragraphe 4, pour le facteur d'oxydation et le facteur de conversion, l'exploitant applique, au minimum, les niveaux les plus bas indiqués à l'annexe II."}]
[]
[null,null,null,"(f)",{"$f":"Translations!$B$515","v":"Niveaux appliqués pour les facteurs de calcul:"}]
[]
[null,null,null,null,{"$f":"Translations!$B$516","v":"Facteur de calcul"},null,null,{"$f":"Translations!$B$517","v":"niveau requis"},{"$f":"Translations!$B$518","v":"niveau appliqué"},{"$f":"Translations!$B$519","v":"texte intégral pour le niveau appliqué"},null,null,null,null,null,null,null,null,"full text tier",null,null,null,"cond. form."]
[null,null,null,"i.",{"$f":"Translations!$B$520","v":"Pouvoir calorifique inférieur (PCI)"},null,null,{"$f":"IF(H21=\"\",\"\",IF(CNTR_Category=\"A\",INDEX(EUwideConstants!$G:$G,MATCH(Q138,EUwideConstants!$S:$S,0)),INDEX(EUwideConstants!$P:$P,MATCH(Q138,EUwideConstants!$S:$S,0))))","v":""},null,{"$f":"IF(OR(ISBLANK(I138),I138=EUconst_NoTier),\"\",IF(S138=0,EUconst_NotApplicable,IF(ISERROR(S138),\"\",S138)))","v":""},null,null,null,null,null,null,{"$f":"EUconst_CNTR_NCV&H21","v":"NCV_"},null,{"$f":"IF(ISBLANK(I138),\"\",IF(I138=EUconst_NA,\"\",INDEX(EUwideConstants!$H:$O,MATCH(Q138,EUwideConstants!$S:$S,0),MATCH(I138,CNTR_TierList,0))))","v":""},null,null,null,{"$f":"(H138=EUconst_NA)","v":false}]
[null,null,null,"ii.",{"$f":"Translations!$B$521","v":"Facteur d’émission (préliminaire)"},null,null,{"$f":"IF(H21=\"\",\"\",IF(CNTR_Category=\"A\",INDEX(EUwideConstants!$G:$G,MATCH(Q139,EUwideConstants!$S:$S,0)),INDEX(EUwideConstants!$P:$P,MATCH(Q139,EUwideConstants!$S:$S,0))))","v":""},null,"",null,null,null,null,null,null,{"$f":"EUconst_CNTR_EF&H21","v":"EF_"},null,{"$f":"IF(ISBLANK(I139),\"\",IF(I139=EUconst_NA,\"\",INDEX(EUwideConstants!$H:$O,MATCH(Q139,EUwideConstants!$S:$S,0),MATCH(I139,CNTR_TierList,0))))","v":""},null,null,null,false]
[null,null,null,"iii.",{"$f":"Translations!$B$522","v":"Facteur d'oxydation"},null,null,{"$f":"IF(H21=\"\",\"\",IF(CNTR_Category=\"A\",INDEX(EUwideConstants!$G:$G,MATCH(Q140,EUwideConstants!$S:$S,0)),INDEX(EUwideConstants!$P:$P,MATCH(Q140,EUwideConstants!$S:$S,0))))","v":""},null,"",null,null,null,null,null,null,{"$f":"EUconst_CNTR_OxidationFactor&H21","v":"OxF_"},null,{"$f":"IF(ISBLANK(I140),\"\",IF(I140=EUconst_NA,\"\",INDEX(EUwideConstants!$H:$O,MATCH(Q140,EUwideConstants!$S:$S,0),MATCH(I140,CNTR_TierList,0))))","v":""},null,null,null,false]
[null,null,null,"iv.",{"$f":"Translations!$B$523","v":"Facteur de conversion"},null,null,{"$f":"IF(H21=\"\",\"\",IF(CNTR_Category=\"A\",INDEX(EUwideConstants!$G:$G,MATCH(Q141,EUwideConstants!$S:$S,0)),INDEX(EUwideConstants!$P:$P,MATCH(Q141,EUwideConstants!$S:$S,0))))","v":""},null,"",null,null,null,null,null,null,{"$f":"EUconst_CNTR_ConversionFactor&H21","v":"ConvF_"},null,{"$f":"IF(ISBLANK(I141),\"\",IF(I141=EUconst_NA,\"\",INDEX(EUwideConstants!$H:$O,MATCH(Q141,EUwideConstants!$S:$S,0),MATCH(I141,CNTR_TierList,0))))","v":""},null,null,null,false]
[null,null,null,"v.",{"$f":"Translations!$B$524","v":"Teneur en carbone"},null,null,{"$f":"IF(H21=\"\",\"\",IF(CNTR_Category=\"A\",INDEX(EUwideConstants!$G:$G,MATCH(Q142,EUwideConstants!$S:$S,0)),INDEX(EUwideConstants!$P:$P,MATCH(Q142,EUwideConstants!$S:$S,0))))","v":""},null,"",null,null,null,null,null,null,{"$f":"EUconst_CNTR_CarbonContent&H21","v":"CarbC_"},null,{"$f":"IF(ISBLANK(I142),\"\",IF(I142=EUconst_NA,\"\",INDEX(EUwideConstants!$H:$O,MATCH(Q142,EUwideConstants!$S:$S,0),MATCH(I142,CNTR_TierList,0))))","v":""},null,null,null,false]
[null,null,null,"vi.",{"$f":"Translations!$B$525","v":"Fraction issue de la biomasse (le cas échéant)"},null,null,{"$f":"IF(H21=\"\",\"\",IF(CNTR_Category=\"A\",INDEX(EUwideConstants!$G:$G,MATCH(Q143,EUwideConstants!$S:$S,0)),INDEX(EUwideConstants!$P:$P,MATCH(Q143,EUwideConstants!$S:$S,0))))","v":""},null,"",null,null,null,null,null,null,{"$f":"EUconst_CNTR_BiomassContent&H21","v":"BioC_"},null,{"$f":"IF(ISBLANK(I143),\"\",IF(I143=EUconst_NA,\"\",INDEX(EUwideConstants!$H:$O,MATCH(Q143,EUwideConstants!$S:$S,0),MATCH(I143,CNTR_TierList,0))))","v":""},null,null,null,false]
["HIDE_Example",null,null,{"$f":"Translations!$B$452","v":"Exemple de données:"}]
["HIDE_Example",null,null,null,{"$f":"Translations!$B$516","v":"Facteur de calcul"},null,null,{"$f":"Translations!$B$517","v":"niveau requis"},{"$f":"Translations!$B$518","v":"niveau appliqué"},{"$f":"Translations!$B$526","v":"texte intégral pour le niveau appliqué"},null,null,null,null,null,null,null,null,"full text tier",null,null,null,"cond. form."]
["HIDE_Example",null,null,"i.",{"$f":"Translations!$B$520","v":"Pouvoir calorifique inférieur (PCI)"},null,null,"2a/2b",3,{"$f":"Translations!$B$527","v":"Analyses de laboratoire"},null,null,null,null,null,null,null,null,null,null,null,null,{"$f":"(H146=EUconst_NA)","v":false}]
["HIDE_Example",null,null,"ii.",{"$f":"Translations!$B$521","v":"Facteur d’émission (préliminaire)"},null,null,"2a/2b",3,{"$f":"Translations!$B$527","v":"Analyses de laboratoire"},null,null,null,null,null,null,null,null,null,null,null,null,false]
["HIDE_Example",null,null,"iii.",{"$f":"Translations!$B$522","v":"Facteur d'oxydation"},null,null,1,1,{"$f":"Translations!$B$529","v":"Valeur par défaut OF=1 "},null,null,null,null,null,null,null,null,null,null,null,null,false]
["HIDE_Example",null,null,"iv.",{"$f":"Translations!$B$523","v":"Facteur de conversion"},null,null,{"$f":"Translations!$B$530","v":"s.o."},null,"",null,null,null,null,null,null,null,null,null,null,null,null,true]
["HIDE_Example",null,null,"v.",{"$f":"Translations!$B$524","v":"Teneur en carbone"},null,null,{"$f":"Translations!$B$530","v":"s.o."},null,"",null,null,null,null,null,null,null,null,null,null,null,null,true]
["HIDE_Example",null,null,"vi.",{"$f":"Translations!$B$525","v":"Fraction issue de la biomasse (le cas échéant)"},null,null,"",{"$f":"Translations!$B$530","v":"s.o."},"",null,null,null,null,null,null,null,null,null,null,null,null,false]
[]
[null,null,null,null,{"$f":"Translations!$B$531","v":"En fonction du niveau choisi (valeurs par défaut ou analyse de laboratoire), vous êtes invités à fournir les informations suivantes pour chaque facteur de calcul, suivant le cas: "}]
[null,null,null,null,{"$f":"Translations!$B$532","v":"Dans le cas d’une valeur par défaut, veuillez indiquer la valeur, l’unité et la source de la littérature au moyen d’une référence au tableau 7 d) de la feuille précédente.  Cette valeur doit rendre compte de la valeur constante au moment de la notification du plan de surveillance."}]
[null,null,null,null,{"$f":"Translations!$B$533","v":"Dans le cas d’une analyse de laboratoire, veuillez indiquer la méthode/le laboratoire d’analyse au moyen d’une référence au tableau 7 e) de la feuille précédente, la référence de votre plan d’échantillonnage et la fréquence d’analyse à appliquer. "}]
[]
[null,null,null,"(g)",{"$f":"Translations!$B$534","v":"Précisions sur les facteurs de calcul:"}]
[]
[null,null,null,null,{"$f":"E137","v":"Facteur de calcul"},null,null,{"$f":"I137","v":"niveau appliqué"},{"$f":"Translations!$B$535","v":"valeur par défaut"},{"$f":"Translations!$B$536","v":"Unité"},{"$f":"Translations!$B$537","v":"Réf. la source"},{"$f":"Translations!$B$538","v":"Réf. de l’analyse"},{"$f":"Translations!$B$539","v":"Réf. de l’échantillonnage"},{"$f":"Translations!$B$540","v":"Fréquence d’analyse"},null,null,null,null,"default value or lab",null,null,null,"cond. form."]
[null,null,null,"i.","Pouvoir calorifique inférieur (PCI)",null,null,{"$f":"IF(OR(ISBLANK(I138),I138=EUconst_NA),\"\",I138)","v":""},null,null,null,null,null,null,null,null,null,null,{"$f":"IF(H160=\"\",\"\",IF(I138=EUconst_NA,\"\",INDEX(EUwideConstants!$AL:$AR,MATCH(Q138,EUwideConstants!$S:$S,0),MATCH(I138,CNTR_TierList,0))))","v":""},null,null,null,{"$f":"OR(H160=\"\",H160=EUconst_NA,J138=EUconst_NotApplicable)","v":true}]
[null,null,null,"ii.","Facteur d’émission (préliminaire)",null,null,"",null,null,null,null,null,null,null,null,null,null,{"$f":"IF(H161=\"\",\"\",IF(I139=EUconst_NA,\"\",INDEX(EUwideConstants!$AL:$AR,MATCH(Q139,EUwideConstants!$S:$S,0),MATCH(I139,CNTR_TierList,0))))","v":""},null,null,null,true]
[null,null,null,"iii.","Facteur d'oxydation",null,null,"",null,null,null,null,null,null,null,null,null,null,{"$f":"IF(H162=\"\",\"\",IF(I140=EUconst_NA,\"\",INDEX(EUwideConstants!$AL:$AR,MATCH(Q140,EUwideConstants!$S:$S,0),MATCH(I140,CNTR_TierList,0))))","v":""},null,null,null,true]
[null,null,null,"iv.","Facteur de conversion",null,null,"",null,null,null,null,null,null,null,null,null,null,{"$f":"IF(H163=\"\",\"\",IF(I141=EUconst_NA,\"\",INDEX(EUwideConstants!$AL:$AR,MATCH(Q141,EUwideConstants!$S:$S,0),MATCH(I141,CNTR_TierList,0))))","v":""},null,null,null,true]
[null,null,null,"v.","Teneur en carbone",null,null,"",null,null,null,null,null,null,null,null,null,null,{"$f":"IF(H164=\"\",\"\",IF(I142=EUconst_NA,\"\",INDEX(EUwideConstants!$AL:$AR,MATCH(Q142,EUwideConstants!$S:$S,0),MATCH(I142,CNTR_TierList,0))))","v":""},null,null,null,true]
[null,null,null,"vi.","Fraction issue de la biomasse (le cas échéant)",null,null,"",null,null,null,null,null,null,null,null,null,null,{"$f":"IF(H165=\"\",\"\",IF(I143=EUconst_NA,\"\",INDEX(EUwideConstants!$AL:$AR,MATCH(Q143,EUwideConstants!$S:$S,0),MATCH(I143,CNTR_TierList,0))))","v":""},null,null,null,true]
["HIDE_Example",null,null,{"$f":"Translations!$B$452","v":"Exemple de données:"}]
["HIDE_Example",null,null,null,{"$f":"E153","v":"En fonction du niveau choisi (valeurs par défaut ou analyse de laboratoire), vous êtes invités à fournir les informations suivantes pour chaque facteur de calcul, suivant le cas: "},null,null,{"$f":"H159","v":"niveau appliqué"},{"$f":"I159","v":"valeur par défaut"},"Unité","Réf. la source","Réf. de l’analyse","Réf. de l’échantillonnage","Fréquence d’analyse",null,null,null,null,null,null,null,null,"cond. form."]
["HIDE_Example",null,null,"i.",{"$f":"E160","v":"Pouvoir calorifique inférieur (PCI)"},null,null,3,null,null,null,"L1, L3",{"$f":"Translations!$B$541","v":"NCV_Sample"},{"$f":"Translations!$B$542","v":"Toutes les semaines"},null,null,null,null,null,null,null,null,{"$f":"OR(H168=\"\",H168=EUconst_NA,J154=EUconst_NotApplicable)","v":false}]
["HIDE_Example",null,null,"ii.","Facteur d’émission (préliminaire)",null,null,"2a","74.1","t CO2 / TJ",{"$f":"Translations!$B$543","v":"IS5: IPCC"},null,null,null,null,null,null,null,null,null,null,null,false]
["HIDE_Example",null,null,"iii.","Facteur d'oxydation",null,null,1,100,"%",{"$f":"Translations!$B$544","v":"IS1: MRR"},null,null,null,null,null,null,null,null,null,null,null,false]
["HIDE_Example",null,null,"iv.","Facteur de conversion",null,null,null,null,null,null,null,null,null,null,null,null,null,null,null,null,null,true]
["HIDE_Example",null,null,"v.","Teneur en carbone",null,null,null,null,null,null,null,null,null,null,null,null,null,null,null,null,null,true]
["HIDE_Example",null,null,"vi.","Fraction issue de la biomasse (le cas échéant)",null,null,null,null,null,null,null,null,null,null,null,null,null,null,null,null,null,true]
[]
[null,null,null,{"$f":"Translations!$B$545","v":"Remarques et explications:"}]
[]
[null,null,null,"(h)",{"$f":"Translations!$B$1198","v":"Remarques et justification lorsque les niveaux requis ne sont pas appliqués:"}]
[null,null,null,null,{"$f":"Translations!$B$1199","v":"Veuillez faire part de vos remarques éventuelles ci-dessous. Des explications peuvent s’avérer nécessaires, par exemple pour la méthode d’estimation de la biomasse, la méthode des variables représentatives (corrélation), l’application de l’article 31, paragraphe 4, de l’article 37, paragraphe 2, etc."}]
[null,null,null,null,{"$f":"Translations!$B$549","v":"Si un des niveaux requis conformément à l’article 26 n'est pas appliqué pour les données d’activité ou pour un des facteurs de calcul, veuillez fournir une justification ci-dessous."}]
[null,null,null,null,{"$f":"Translations!$B$550","v":"Lorsqu’un plan d’amélioration est requis conformément à l’article 26, il doit être soumis avec le présent plan de surveillance et sa référence communiquée ci-dessous. Lorsque la justification s’appuie sur des coûts excessifs conformément à l'article 18, le calcul doit être communiqué avec le présent plan de surveillance et ses références doivent figurer dans la justification ci-dessous."}]
[]
[]
[]
[]
[]
[null,null,null,null,null,null,null,null,null,null,null,null,null,null,null,null,null,null,"Check source stream category","auto","manual"]
[null,null,{"$f":"\"F\"&Q187","v":"F2"},{"$f":"CONCATENATE(Euconst_SourceStream,\" \", Q187,\":\")","v":"Flux 2:"},null,null,null,{"$f":"IF(INDEX(C_InstallationDescription!$F$194:$F$204,MATCH(C187,C_InstallationDescription!$E$194:$E$204,0))>0,INDEX(C_InstallationDescription!$F$194:$F$204,MATCH(C187,C_InstallationDescription!$E$194:$E$204,0)),\"\")","v":""},null,null,null,null,{"$f":"IF(S187=TRUE,IF(U187=\"\",T187,U187),\"\")","v":""},null,null,null,{"$f":"Q19+1","v":2},null,{"$f":"IF(INDEX(C_InstallationDescription!$M:$M,MATCH(Q189,C_InstallationDescription!$Q:$Q,0))=\"\",FALSE,TRUE)","v":false},{"$f":"IF(S187=TRUE,INDEX(C_InstallationDescription!$M:$M,MATCH(Q189,C_InstallationDescription!$Q:$Q,0)),\"\")","v":""},{"$f":"IF(S187=TRUE,IF(ISBLANK(INDEX(C_InstallationDescription!$N:$N,MATCH(Q189,C_InstallationDescription!$Q:$Q,0))),\"\",INDEX(C_InstallationDescription!$N:$N,MATCH(Q189,C_InstallationDescription!$Q:$Q,0))),\"\")","v":""}]
[]
[null,null,null,null,{"$f":"Translations!$B$437","v":"Type de flux:"},null,null,{"$f":"IF(INDEX(C_InstallationDescription!$I$194:$I$204,MATCH(C187,C_InstallationDescription!$E$194:$E$204,0))>0,INDEX(C_InstallationDescription!$I$194:$I$204,MATCH(C187,C_InstallationDescription!$E$194:$E$204,0)),\"\")","v":""},null,null,null,null,null,null,null,null,{"$f":"EUconst_CNTR_SourceCategory&C187","v":"SourceCategory_F2"}]
[null,null,null,null,{"$f":"Translations!$B$438","v":"Méthode applicable en vertu du MRR:"},null,null,{"$f":"IF(H189=\"\",\"\",INDEX(EUwideConstants!F:F,MATCH(H189,EUwideConstants!Q:Q,0)))","v":""}]
[null,null,null,null,{"$f":"Translations!$B$439","v":"Paramètre auquel s’applique l’incertitude:"},null,null,{"$f":"IF(H189=\"\",\"\",INDEX(EUwideConstants!E:E,MATCH(H189,EUwideConstants!Q:Q,0)))","v":""}]
[]
[null,null,null,null,{"$f":"IF(H187=\"\",\"\",INDEX(EUconst_SmallEmiSouStreamMsg,MATCH(Q193,EUconst_SmallEmiSouStream,0)))","v":""},null,null,null,null,null,null,null,null,null,null,null,{"$f":"IF(CNTR_SmallEmitter=TRUE,EUconst_CNTR_SmallEmitter,EUconst_CNTR_NoSmallEmitter) & IF((CNTR_Category)=\"\",\"C\",CNTR_Category) & \"_\" & IF(M187=\"\",1,MATCH(M187,SourceCategory,0))","v":"NoSmallEmitter_C_1"}]
[]
[null,null,null,{"$f":"Translations!$B$454","v":"Données d'activité:"}]
[]
[null,null,null,"(a)",{"$f":"Translations!$B$455","v":"Méthode de détermination des données d’activité:"}]
[]
[null,null,null,"i.",{"$f":"Translations!$B$456","v":"Méthode de détermination:"},null,null,null,null,null,null,null,null,null,null,null,null,null,null,null,null,null,{"$f":"IF(M187=\"\",\"\",IF(M187=INDEX(SourceCategory,3),1,IF(CNTR_InstHasCalculation=FALSE,0,2)))","v":""}]
[]
[null,null,null,null,null,{"$f":"Translations!$B$459","v":"Référence de la procédure utilisée pour déterminer les stocks à la fin de l'année:"},null,null,null,null,null,null,null,null,null,null,null,null,null,null,null,{"$f":"IF(OR(H187=\"\",ISBLANK(H199)),FALSE,IF(MATCH(H199,EUconst_ActivityDeterminationMethod,0)=2,TRUE,FALSE))","v":false},{"$f":"IF(V201=TRUE,0,W199)","v":""}]
[]
[null,null,null,"ii.",{"$f":"Translations!$B$462","v":"Instrument contrôlé par:"},null,null,null,null,null,null,null,null,null,null,null,null,null,null,null,null,null,{"$f":"W199","v":""}]
[]
[null,null,null,null,"a.",{"$f":"Translations!$B$465","v":"Veuillez confirmer que les conditions énoncées à l’article 29, paragraphe 1 sont satisfaites:"},null,null,null,null,null,null,null,null,null,null,null,null,null,null,null,{"$f":"IF(OR(H187=\"\",ISBLANK(H203)),FALSE,IF(MATCH(H203,EUconst_OwnerInstrument,0)=1,TRUE,FALSE))","v":false},{"$f":"IF(V205=TRUE,0,W199)","v":""}]
[]
[null,null,null,null,"b.",{"$f":"Translations!$B$468","v":"Utilisez-vous des factures pour déterminer la quantité de ce combustible ou de cette matière ?"},null,null,null,null,null,null,null,null,null,null,null,null,null,null,null,{"$f":"IF(OR(H187=\"\",ISBLANK(H203)),FALSE,IF(MATCH(H203,EUconst_OwnerInstrument,0)=1,TRUE,FALSE))","v":false},{"$f":"IF(V207=TRUE,0,W199)","v":""}]
[]
[null,null,null,null,"c.",{"$f":"Translations!$B$469","v":"Veuillez confirmer que le partenaire commercial et l’exploitant sont indépendants:"},null,null,null,null,null,null,null,null,null,null,null,null,null,null,null,{"$f":"IF(OR(H187=\"\",ISBLANK(H203)),FALSE,IF(MATCH(H203,EUconst_OwnerInstrument,0)=1,TRUE,FALSE))","v":false},{"$f":"IF(V209=TRUE,0,W199)","v":""}]
[]
[null,null,null,"(b)",{"$f":"Translations!$B$472","v":"Instruments de mesure utilisés:"}]
[]
[null,null,null,null,{"$f":"Translations!$B$475","v":"Commentaire/Description de la méthode, lorsque plusieurs instruments sont utilisés:"}]
[]
[]
[]
[]
[null,null,null,"(c)",{"$f":"Translations!$B$477","v":"Niveaux requis pour les données d’activité:"},null,null,{"$f":"IF(H189=\"\",\"\",IF(CNTR_Category=\"A\",INDEX(EUwideConstants!$G:$G,MATCH(Q218,EUwideConstants!$S:$S,0)),INDEX(EUwideConstants!$P:$P,MATCH(Q218,EUwideConstants!$S:$S,0))))","v":""},{"$f":"IF(H218=\"\",\"\",IF(S218=0,EUconst_NA,IF(ISERROR(S218),\"\",EUconst_MsgTierActivityLevel & \" \" &S218)))","v":""},null,null,null,null,null,null,null,{"$f":"EUconst_CNTR_ActivityData&H189","v":"ActivityData_"},null,{"$f":"IF(H218=\"\",\"\",IF(H218=EUconst_NA,\"\",INDEX(EUwideConstants!$H:$O,MATCH(Q218,EUwideConstants!$S:$S,0),MATCH(H218,CNTR_TierList,0))))","v":""}]
[null,null,null,"(d)",{"$f":"Translations!$B$478","v":"Niveau utilisé pour les données d’activité:"},null,null,null,{"$f":"IF(OR(ISBLANK(H219),H219=EUconst_NoTier),\"\",IF(S219=0,EUconst_NA,IF(ISERROR(S219),\"\",EUconst_MsgTierActivityLevel & \" \" &S219)))","v":""},null,null,null,null,null,null,null,{"$f":"EUconst_CNTR_ActivityData&H189","v":"ActivityData_"},null,{"$f":"IF(ISBLANK(H219),\"\",IF(H219=EUconst_NA,\"\",INDEX(EUwideConstants!$H:$O,MATCH(Q219,EUwideConstants!$S:$S,0),MATCH(H219,CNTR_TierList,0))))","v":""}]
[null,null,null,"(e)",{"$f":"Translations!$B$479","v":"Incertitude constatée:  "},null,null,null,{"$f":"Translations!$B$480","v":"Remarque:"}]
[]
[null,null,null,{"$f":"Translations!$B$490","v":"Facteurs de calcul:"}]
[]
[null,null,null,"(f)",{"$f":"Translations!$B$515","v":"Niveaux appliqués pour les facteurs de calcul:"}]
[]
[null,null,null,null,{"$f":"Translations!$B$516","v":"Facteur de calcul"},null,null,{"$f":"Translations!$B$517","v":"niveau requis"},{"$f":"Translations!$B$518","v":"niveau appliqué"},{"$f":"Translations!$B$519","v":"texte intégral pour le niveau appliqué"},null,null,null,null,null,null,null,null,"full text tier",null,null,null,"cond. form."]
[null,null,null,"i.",{"$f":"Translations!$B$520","v":"Pouvoir calorifique inférieur (PCI)"},null,null,{"$f":"IF(H189=\"\",\"\",IF(CNTR_Category=\"A\",INDEX(EUwideConstants!$G:$G,MATCH(Q227,EUwideConstants!$S:$S,0)),INDEX(EUwideConstants!$P:$P,MATCH(Q227,EUwideConstants!$S:$S,0))))","v":""},null,{"$f":"IF(OR(ISBLANK(I227),I227=EUconst_NoTier),\"\",IF(S227=0,EUconst_NotApplicable,IF(ISERROR(S227),\"\",S227)))","v":""},null,null,null,null,null,null,{"$f":"EUconst_CNTR_NCV&H189","v":"NCV_"},null,{"$f":"IF(ISBLANK(I227),\"\",IF(I227=EUconst_NA,\"\",INDEX(EUwideConstants!$H:$O,MATCH(Q227,EUwideConstants!$S:$S,0),MATCH(I227,CNTR_TierList,0))))","v":""},null,null,null,{"$f":"(H227=EUconst_NA)","v":false}]
[null,null,null,"ii.",{"$f":"Translations!$B$521","v":"Facteur d’émission (préliminaire)"},null,null,{"$f":"IF(H189=\"\",\"\",IF(CNTR_Category=\"A\",INDEX(EUwideConstants!$G:$G,MATCH(Q228,EUwideConstants!$S:$S,0)),INDEX(EUwideConstants!$P:$P,MATCH(Q228,EUwideConstants!$S:$S,0))))","v":""},null,"",null,null,null,null,null,null,{"$f":"EUconst_CNTR_EF&H189","v":"EF_"},null,{"$f":"IF(ISBLANK(I228),\"\",IF(I228=EUconst_NA,\"\",INDEX(EUwideConstants!$H:$O,MATCH(Q228,EUwideConstants!$S:$S,0),MATCH(I228,CNTR_TierList,0))))","v":""},null,null,null,false]
[null,null,null,"iii.",{"$f":"Translations!$B$522","v":"Facteur d'oxydation"},null,null,{"$f":"IF(H189=\"\",\"\",IF(CNTR_Category=\"A\",INDEX(EUwideConstants!$G:$G,MATCH(Q229,EUwideConstants!$S:$S,0)),INDEX(EUwideConstants!$P:$P,MATCH(Q229,EUwideConstants!$S:$S,0))))","v":""},null,"",null,null,null,null,null,null,{"$f":"EUconst_CNTR_OxidationFactor&H189","v":"OxF_"},null,{"$f":"IF(ISBLANK(I229),\"\",IF(I229=EUconst_NA,\"\",INDEX(EUwideConstants!$H:$O,MATCH(Q229,EUwideConstants!$S:$S,0),MATCH(I229,CNTR_TierList,0))))","v":""},null,null,null,false]
[null,null,null,"iv.",{"$f":"Translations!$B$523","v":"Facteur de conversion"},null,null,{"$f":"IF(H189=\"\",\"\",IF(CNTR_Category=\"A\",INDEX(EUwideConstants!$G:$G,MATCH(Q230,EUwideConstants!$S:$S,0)),INDEX(EUwideConstants!$P:$P,MATCH(Q230,EUwideConstants!$S:$S,0))))","v":""},null,"",null,null,null,null,null,null,{"$f":"EUconst_CNTR_ConversionFactor&H189","v":"ConvF_"},null,{"$f":"IF(ISBLANK(I230),\"\",IF(I230=EUconst_NA,\"\",INDEX(EUwideConstants!$H:$O,MATCH(Q230,EUwideConstants!$S:$S,0),MATCH(I230,CNTR_TierList,0))))","v":""},null,null,null,false]
[null,null,null,"v.",{"$f":"Translations!$B$524","v":"Teneur en carbone"},null,null,{"$f":"IF(H189=\"\",\"\",IF(CNTR_Category=\"A\",INDEX(EUwideConstants!$G:$G,MATCH(Q231,EUwideConstants!$S:$S,0)),INDEX(EUwideConstants!$P:$P,MATCH(Q231,EUwideConstants!$S:$S,0))))","v":""},null,"",null,null,null,null,null,null,{"$f":"EUconst_CNTR_CarbonContent&H189","v":"CarbC_"},null,{"$f":"IF(ISBLANK(I231),\"\",IF(I231=EUconst_NA,\"\",INDEX(EUwideConstants!$H:$O,MATCH(Q231,EUwideConstants!$S:$S,0),MATCH(I231,CNTR_TierList,0))))","v":""},null,null,null,false]
[null,null,null,"vi.",{"$f":"Translations!$B$525","v":"Fraction issue de la biomasse (le cas échéant)"},null,null,{"$f":"IF(H189=\"\",\"\",IF(CNTR_Category=\"A\",INDEX(EUwideConstants!$G:$G,MATCH(Q232,EUwideConstants!$S:$S,0)),INDEX(EUwideConstants!$P:$P,MATCH(Q232,EUwideConstants!$S:$S,0))))","v":""},null,"",null,null,null,null,null,null,{"$f":"EUconst_CNTR_BiomassContent&H189","v":"BioC_"},null,{"$f":"IF(ISBLANK(I232),\"\",IF(I232=EUconst_NA,\"\",INDEX(EUwideConstants!$H:$O,MATCH(Q232,EUwideConstants!$S:$S,0),MATCH(I232,CNTR_TierList,0))))","v":""},null,null,null,false]
[]
[null,null,null,"(g)",{"$f":"Translations!$B$534","v":"Précisions sur les facteurs de calcul:"}]
[]
[null,null,null,null,{"$f":"E226","v":"Facteur de calcul"},null,null,{"$f":"I226","v":"niveau appliqué"},{"$f":"Translations!$B$535","v":"valeur par défaut"},{"$f":"Translations!$B$536","v":"Unité"},{"$f":"Translations!$B$537","v":"Réf. la source"},{"$f":"Translations!$B$538","v":"Réf. de l’analyse"},{"$f":"Translations!$B$539","v":"Réf. de l’échantillonnage"},{"$f":"Translations!$B$540","v":"Fréquence d’analyse"},null,null,null,null,"default value or lab",null,null,null,"cond. form."]
[null,null,null,"i.","Pouvoir calorifique inférieur (PCI)",null,null,{"$f":"IF(OR(ISBLANK(I227),I227=EUconst_NA),\"\",I227)","v":""},null,null,null,null,null,null,null,null,null,null,{"$f":"IF(H237=\"\",\"\",IF(I227=EUconst_NA,\"\",INDEX(EUwideConstants!$AL:$AR,MATCH(Q227,EUwideConstants!$S:$S,0),MATCH(I227,CNTR_TierList,0))))","v":""},null,null,null,{"$f":"OR(H237=\"\",H237=EUconst_NA,J227=EUconst_NotApplicable)","v":true}]
[null,null,null,"ii.","Facteur d’émission (préliminaire)",null,null,"",null,null,null,null,null,null,null,null,null,null,{"$f":"IF(H238=\"\",\"\",IF(I228=EUconst_NA,\"\",INDEX(EUwideConstants!$AL:$AR,MATCH(Q228,EUwideConstants!$S:$S,0),MATCH(I228,CNTR_TierList,0))))","v":""},null,null,null,true]
[null,null,null,"iii.","Facteur d'oxydation",null,null,"",null,null,null,null,null,null,null,null,null,null,{"$f":"IF(H239=\"\",\"\",IF(I229=EUconst_NA,\"\",INDEX(EUwideConstants!$AL:$AR,MATCH(Q229,EUwideConstants!$S:$S,0),MATCH(I229,CNTR_TierList,0))))","v":""},null,null,null,true]
[null,null,null,"iv.","Facteur de conversion",null,null,"",null,null,null,null,null,null,null,null,null,null,{"$f":"IF(H240=\"\",\"\",IF(I230=EUconst_NA,\"\",INDEX(EUwideConstants!$AL:$AR,MATCH(Q230,EUwideConstants!$S:$S,0),MATCH(I230,CNTR_TierList,0))))","v":""},null,null,null,true]
[null,null,null,"v.","Teneur en carbone",null,null,"",null,null,null,null,null,null,null,null,null,null,{"$f":"IF(H241=\"\",\"\",IF(I231=EUconst_NA,\"\",INDEX(EUwideConstants!$AL:$AR,MATCH(Q231,EUwideConstants!$S:$S,0),MATCH(I231,CNTR_TierList,0))))","v":""},null,null,null,true]
[null,null,null,"vi.","Fraction issue de la biomasse (le cas échéant)",null,null,"",null,null,null,null,null,null,null,null,null,null,{"$f":"IF(H242=\"\",\"\",IF(I232=EUconst_NA,\"\",INDEX(EUwideConstants!$AL:$AR,MATCH(Q232,EUwideConstants!$S:$S,0),MATCH(I232,CNTR_TierList,0))))","v":""},null,null,null,true]
[]
[null,null,null,{"$f":"Translations!$B$545","v":"Remarques et explications:"}]
[]
[null,null,null,"(h)",{"$f":"Translations!$B$1198","v":"Remarques et justification lorsque les niveaux requis ne sont pas appliqués:"}]
[]
[]
[]
[]
[]
[null,null,null,null,null,null,null,null,null,null,null,null,null,null,null,null,null,null,"Check source stream category","auto","manual"]
[null,null,{"$f":"\"F\"&Q253","v":"F3"},{"$f":"CONCATENATE(Euconst_SourceStream,\" \", Q253,\":\")","v":"Flux 3:"},null,null,null,{"$f":"IF(INDEX(C_InstallationDescription!$F$194:$F$204,MATCH(C253,C_InstallationDescription!$E$194:$E$204,0))>0,INDEX(C_InstallationDescription!$F$194:$F$204,MATCH(C253,C_InstallationDescription!$E$194:$E$204,0)),\"\")","v":""},null,null,null,null,{"$f":"IF(S253=TRUE,IF(U253=\"\",T253,U253),\"\")","v":""},null,null,null,{"$f":"Q187+1","v":3},null,{"$f":"IF(INDEX(C_InstallationDescription!$M:$M,MATCH(Q255,C_InstallationDescription!$Q:$Q,0))=\"\",FALSE,TRUE)","v":false},{"$f":"IF(S253=TRUE,INDEX(C_InstallationDescription!$M:$M,MATCH(Q255,C_InstallationDescription!$Q:$Q,0)),\"\")","v":""},{"$f":"IF(S253=TRUE,IF(ISBLANK(INDEX(C_InstallationDescription!$N:$N,MATCH(Q255,C_InstallationDescription!$Q:$Q,0))),\"\",INDEX(C_InstallationDescription!$N:$N,MATCH(Q255,C_InstallationDescription!$Q:$Q,0))),\"\")","v":""}]
[]
[null,null,null,null,{"$f":"Translations!$B$437","v":"Type de flux:"},null,null,{"$f":"IF(INDEX(C_InstallationDescription!$I$194:$I$204,MATCH(C253,C_InstallationDescription!$E$194:$E$204,0))>0,INDEX(C_InstallationDescription!$I$194:$I$204,MATCH(C253,C_InstallationDescription!$E$194:$E$204,0)),\"\")","v":""},null,null,null,null,null,null,null,null,{"$f":"EUconst_CNTR_SourceCategory&C253","v":"SourceCategory_F3"}]
[null,null,null,null,{"$f":"Translations!$B$438","v":"Méthode applicable en vertu du MRR:"},null,null,{"$f":"IF(H255=\"\",\"\",INDEX(EUwideConstants!F:F,MATCH(H255,EUwideConstants!Q:Q,0)))","v":""}]
[null,null,null,null,{"$f":"Translations!$B$439","v":"Paramètre auquel s’applique l’incertitude:"},null,null,{"$f":"IF(H255=\"\",\"\",INDEX(EUwideConstants!E:E,MATCH(H255,EUwideConstants!Q:Q,0)))","v":""}]
[]
[null,null,null,null,{"$f":"IF(H253=\"\",\"\",INDEX(EUconst_SmallEmiSouStreamMsg,MATCH(Q259,EUconst_SmallEmiSouStream,0)))","v":""},null,null,null,null,null,null,null,null,null,null,null,{"$f":"IF(CNTR_SmallEmitter=TRUE,EUconst_CNTR_SmallEmitter,EUconst_CNTR_NoSmallEmitter) & IF((CNTR_Category)=\"\",\"C\",CNTR_Category) & \"_\" & IF(M253=\"\",1,MATCH(M253,SourceCategory,0))","v":"NoSmallEmitter_C_1"}]
[]
[null,null,null,{"$f":"Translations!$B$454","v":"Données d'activité:"}]
[]
[null,null,null,"(a)",{"$f":"Translations!$B$455","v":"Méthode de détermination des données d’activité:"}]
[]
[null,null,null,"i.",{"$f":"Translations!$B$456","v":"Méthode de détermination:"},null,null,null,null,null,null,null,null,null,null,null,null,null,null,null,null,null,{"$f":"IF(M253=\"\",\"\",IF(M253=INDEX(SourceCategory,3),1,IF(CNTR_InstHasCalculation=FALSE,0,2)))","v":""}]
[]
[null,null,null,null,null,{"$f":"Translations!$B$459","v":"Référence de la procédure utilisée pour déterminer les stocks à la fin de l'année:"},null,null,null,null,null,null,null,null,null,null,null,null,null,null,null,{"$f":"IF(OR(H253=\"\",ISBLANK(H265)),FALSE,IF(MATCH(H265,EUconst_ActivityDeterminationMethod,0)=2,TRUE,FALSE))","v":false},{"$f":"IF(V267=TRUE,0,W265)","v":""}]
[]
[null,null,null,"ii.",{"$f":"Translations!$B$462","v":"Instrument contrôlé par:"},null,null,null,null,null,null,null,null,null,null,null,null,null,null,null,null,null,{"$f":"W265","v":""}]
[]
[null,null,null,null,"a.",{"$f":"Translations!$B$465","v":"Veuillez confirmer que les conditions énoncées à l’article 29, paragraphe 1 sont satisfaites:"},null,null,null,null,null,null,null,null,null,null,null,null,null,null,null,{"$f":"IF(OR(H253=\"\",ISBLANK(H269)),FALSE,IF(MATCH(H269,EUconst_OwnerInstrument,0)=1,TRUE,FALSE))","v":false},{"$f":"IF(V271=TRUE,0,W265)","v":""}]
[]
[null,null,null,null,"b.",{"$f":"Translations!$B$468","v":"Utilisez-vous des factures pour déterminer la quantité de ce combustible ou de cette matière ?"},null,null,null,null,null,null,null,null,null,null,null,null,null,null,null,{"$f":"IF(OR(H253=\"\",ISBLANK(H269)),FALSE,IF(MATCH(H269,EUconst_OwnerInstrument,0)=1,TRUE,FALSE))","v":false},{"$f":"IF(V273=TRUE,0,W265)","v":""}]
[]
[null,null,null,null,"c.",{"$f":"Translations!$B$469","v":"Veuillez confirmer que le partenaire commercial et l’exploitant sont indépendants:"},null,null,null,null,null,null,null,null,null,null,null,null,null,null,null,{"$f":"IF(OR(H253=\"\",ISBLANK(H269)),FALSE,IF(MATCH(H269,EUconst_OwnerInstrument,0)=1,TRUE,FALSE))","v":false},{"$f":"IF(V275=TRUE,0,W265)","v":""}]
[]
[null,null,null,"(b)",{"$f":"Translations!$B$472","v":"Instruments de mesure utilisés:"}]
[]
[null,null,null,null,{"$f":"Translations!$B$475","v":"Commentaire/Description de la méthode, lorsque plusieurs instruments sont utilisés:"}]
[]
[]
[]
[]
[null,null,null,"(c)",{"$f":"Translations!$B$477","v":"Niveaux requis pour les données d’activité:"},null,null,{"$f":"IF(H255=\"\",\"\",IF(CNTR_Category=\"A\",INDEX(EUwideConstants!$G:$G,MATCH(Q284,EUwideConstants!$S:$S,0)),INDEX(EUwideConstants!$P:$P,MATCH(Q284,EUwideConstants!$S:$S,0))))","v":""},{"$f":"IF(H284=\"\",\"\",IF(S284=0,EUconst_NA,IF(ISERROR(S284),\"\",EUconst_MsgTierActivityLevel & \" \" &S284)))","v":""},null,null,null,null,null,null,null,{"$f":"EUconst_CNTR_ActivityData&H255","v":"ActivityData_"},null,{"$f":"IF(H284=\"\",\"\",IF(H284=EUconst_NA,\"\",INDEX(EUwideConstants!$H:$O,MATCH(Q284,EUwideConstants!$S:$S,0),MATCH(H284,CNTR_TierList,0))))","v":""}]
[null,null,null,"(d)",{"$f":"Translations!$B$478","v":"Niveau utilisé pour les données d’activité:"},null,null,null,{"$f":"IF(OR(ISBLANK(H285),H285=EUconst_NoTier),\"\",IF(S285=0,EUconst_NA,IF(ISERROR(S285),\"\",EUconst_MsgTierActivityLevel & \" \" &S285)))","v":""},null,null,null,null,null,null,null,{"$f":"EUconst_CNTR_ActivityData&H255","v":"ActivityData_"},null,{"$f":"IF(ISBLANK(H285),\"\",IF(H285=EUconst_NA,\"\",INDEX(EUwideConstants!$H:$O,MATCH(Q285,EUwideConstants!$S:$S,0),MATCH(H285,CNTR_TierList,0))))","v":""}]
[null,null,null,"(e)",{"$f":"Translations!$B$479","v":"Incertitude constatée:  "},null,null,null,{"$f":"Translations!$B$480","v":"Remarque:"}]
[]
[null,null,null,{"$f":"Translations!$B$490","v":"Facteurs de calcul:"}]
[]
[null,null,null,"(f)",{"$f":"Translations!$B$515","v":"Niveaux appliqués pour les facteurs de calcul:"}]
[]
[null,null,null,null,{"$f":"Translations!$B$516","v":"Facteur de calcul"},null,null,{"$f":"Translations!$B$517","v":"niveau requis"},{"$f":"Translations!$B$518","v":"niveau appliqué"},{"$f":"Translations!$B$519","v":"texte intégral pour le niveau appliqué"},null,null,null,null,null,null,null,null,"full text tier",null,null,null,"cond. form."]
[null,null,null,"i.",{"$f":"Translations!$B$520","v":"Pouvoir calorifique inférieur (PCI)"},null,null,{"$f":"IF(H255=\"\",\"\",IF(CNTR_Category=\"A\",INDEX(EUwideConstants!$G:$G,MATCH(Q293,EUwideConstants!$S:$S,0)),INDEX(EUwideConstants!$P:$P,MATCH(Q293,EUwideConstants!$S:$S,0))))","v":""},null,{"$f":"IF(OR(ISBLANK(I293),I293=EUconst_NoTier),\"\",IF(S293=0,EUconst_NotApplicable,IF(ISERROR(S293),\"\",S293)))","v":""},null,null,null,null,null,null,{"$f":"EUconst_CNTR_NCV&H255","v":"NCV_"},null,{"$f":"IF(ISBLANK(I293),\"\",IF(I293=EUconst_NA,\"\",INDEX(EUwideConstants!$H:$O,MATCH(Q293,EUwideConstants!$S:$S,0),MATCH(I293,CNTR_TierList,0))))","v":""},null,null,null,{"$f":"(H293=EUconst_NA)","v":false}]
[null,null,null,"ii.",{"$f":"Translations!$B$521","v":"Facteur d’émission (préliminaire)"},null,null,{"$f":"IF(H255=\"\",\"\",IF(CNTR_Category=\"A\",INDEX(EUwideConstants!$G:$G,MATCH(Q294,EUwideConstants!$S:$S,0)),INDEX(EUwideConstants!$P:$P,MATCH(Q294,EUwideConstants!$S:$S,0))))","v":""},null,"",null,null,null,null,null,null,{"$f":"EUconst_CNTR_EF&H255","v":"EF_"},null,{"$f":"IF(ISBLANK(I294),\"\",IF(I294=EUconst_NA,\"\",INDEX(EUwideConstants!$H:$O,MATCH(Q294,EUwideConstants!$S:$S,0),MATCH(I294,CNTR_TierList,0))))","v":""},null,null,null,false]
[null,null,null,"iii.",{"$f":"Translations!$B$522","v":"Facteur d'oxydation"},null,null,{"$f":"IF(H255=\"\",\"\",IF(CNTR_Category=\"A\",INDEX(EUwideConstants!$G:$G,MATCH(Q295,EUwideConstants!$S:$S,0)),INDEX(EUwideConstants!$P:$P,MATCH(Q295,EUwideConstants!$S:$S,0))))","v":""},null,"",null,null,null,null,null,null,{"$f":"EUconst_CNTR_OxidationFactor&H255","v":"OxF_"},null,{"$f":"IF(ISBLANK(I295),\"\",IF(I295=EUconst_NA,\"\",INDEX(EUwideConstants!$H:$O,MATCH(Q295,EUwideConstants!$S:$S,0),MATCH(I295,CNTR_TierList,0))))","v":""},null,null,null,false]
[null,null,null,"iv.",{"$f":"Translations!$B$523","v":"Facteur de conversion"},null,null,{"$f":"IF(H255=\"\",\"\",IF(CNTR_Category=\"A\",INDEX(EUwideConstants!$G:$G,MATCH(Q296,EUwideConstants!$S:$S,0)),INDEX(EUwideConstants!$P:$P,MATCH(Q296,EUwideConstants!$S:$S,0))))","v":""},null,"",null,null,null,null,null,null,{"$f":"EUconst_CNTR_ConversionFactor&H255","v":"ConvF_"},null,{"$f":"IF(ISBLANK(I296),\"\",IF(I296=EUconst_NA,\"\",INDEX(EUwideConstants!$H:$O,MATCH(Q296,EUwideConstants!$S:$S,0),MATCH(I296,CNTR_TierList,0))))","v":""},null,null,null,false]
[null,null,null,"v.",{"$f":"Translations!$B$524","v":"Teneur en carbone"},null,null,{"$f":"IF(H255=\"\",\"\",IF(CNTR_Category=\"A\",INDEX(EUwideConstants!$G:$G,MATCH(Q297,EUwideConstants!$S:$S,0)),INDEX(EUwideConstants!$P:$P,MATCH(Q297,EUwideConstants!$S:$S,0))))","v":""},null,"",null,null,null,null,null,null,{"$f":"EUconst_CNTR_CarbonContent&H255","v":"CarbC_"},null,{"$f":"IF(ISBLANK(I297),\"\",IF(I297=EUconst_NA,\"\",INDEX(EUwideConstants!$H:$O,MATCH(Q297,EUwideConstants!$S:$S,0),MATCH(I297,CNTR_TierList,0))))","v":""},null,null,null,false]
[null,null,null,"vi.",{"$f":"Translations!$B$525","v":"Fraction issue de la biomasse (le cas échéant)"},null,null,{"$f":"IF(H255=\"\",\"\",IF(CNTR_Category=\"A\",INDEX(EUwideConstants!$G:$G,MATCH(Q298,EUwideConstants!$S:$S,0)),INDEX(EUwideConstants!$P:$P,MATCH(Q298,EUwideConstants!$S:$S,0))))","v":""},null,"",null,null,null,null,null,null,{"$f":"EUconst_CNTR_BiomassContent&H255","v":"BioC_"},null,{"$f":"IF(ISBLANK(I298),\"\",IF(I298=EUconst_NA,\"\",INDEX(EUwideConstants!$H:$O,MATCH(Q298,EUwideConstants!$S:$S,0),MATCH(I298,CNTR_TierList,0))))","v":""},null,null,null,false]
[]
[null,null,null,"(g)",{"$f":"Translations!$B$534","v":"Précisions sur les facteurs de calcul:"}]
[]
[null,null,null,null,{"$f":"E292","v":"Facteur de calcul"},null,null,{"$f":"I292","v":"niveau appliqué"},{"$f":"Translations!$B$535","v":"valeur par défaut"},{"$f":"Translations!$B$536","v":"Unité"},{"$f":"Translations!$B$537","v":"Réf. la source"},{"$f":"Translations!$B$538","v":"Réf. de l’analyse"},{"$f":"Translations!$B$539","v":"Réf. de l’échantillonnage"},{"$f":"Translations!$B$540","v":"Fréquence d’analyse"},null,null,null,null,"default value or lab",null,null,null,"cond. form."]
[null,null,null,"i.","Pouvoir calorifique inférieur (PCI)",null,null,{"$f":"IF(OR(ISBLANK(I293),I293=EUconst_NA),\"\",I293)","v":""},null,null,null,null,null,null,null,null,null,null,{"$f":"IF(H303=\"\",\"\",IF(I293=EUconst_NA,\"\",INDEX(EUwideConstants!$AL:$AR,MATCH(Q293,EUwideConstants!$S:$S,0),MATCH(I293,CNTR_TierList,0))))","v":""},null,null,null,{"$f":"OR(H303=\"\",H303=EUconst_NA,J293=EUconst_NotApplicable)","v":true}]
[null,null,null,"ii.","Facteur d’émission (préliminaire)",null,null,"",null,null,null,null,null,null,null,null,null,null,{"$f":"IF(H304=\"\",\"\",IF(I294=EUconst_NA,\"\",INDEX(EUwideConstants!$AL:$AR,MATCH(Q294,EUwideConstants!$S:$S,0),MATCH(I294,CNTR_TierList,0))))","v":""},null,null,null,true]
[null,null,null,"iii.","Facteur d'oxydation",null,null,"",null,null,null,null,null,null,null,null,null,null,{"$f":"IF(H305=\"\",\"\",IF(I295=EUconst_NA,\"\",INDEX(EUwideConstants!$AL:$AR,MATCH(Q295,EUwideConstants!$S:$S,0),MATCH(I295,CNTR_TierList,0))))","v":""},null,null,null,true]
[null,null,null,"iv.","Facteur de conversion",null,null,"",null,null,null,null,null,null,null,null,null,null,{"$f":"IF(H306=\"\",\"\",IF(I296=EUconst_NA,\"\",INDEX(EUwideConstants!$AL:$AR,MATCH(Q296,EUwideConstants!$S:$S,0),MATCH(I296,CNTR_TierList,0))))","v":""},null,null,null,true]
[null,null,null,"v.","Teneur en carbone",null,null,"",null,null,null,null,null,null,null,null,null,null,{"$f":"IF(H307=\"\",\"\",IF(I297=EUconst_NA,\"\",INDEX(EUwideConstants!$AL:$AR,MATCH(Q297,EUwideConstants!$S:$S,0),MATCH(I297,CNTR_TierList,0))))","v":""},null,null,null,true]
[null,null,null,"vi.","Fraction issue de la biomasse (le cas échéant)",null,null,"",null,null,null,null,null,null,null,null,null,null,{"$f":"IF(H308=\"\",\"\",IF(I298=EUconst_NA,\"\",INDEX(EUwideConstants!$AL:$AR,MATCH(Q298,EUwideConstants!$S:$S,0),MATCH(I298,CNTR_TierList,0))))","v":""},null,null,null,true]
[]
[null,null,null,{"$f":"Translations!$B$545","v":"Remarques et explications:"}]
[]
[null,null,null,"(h)",{"$f":"Translations!$B$1198","v":"Remarques et justification lorsque les niveaux requis ne sont pas appliqués:"}]
[]
[]
[]
[]
[]
[null,null,null,null,null,null,null,null,null,null,null,null,null,null,null,null,null,null,"Check source stream category","auto","manual"]
[null,null,{"$f":"\"F\"&Q319","v":"F4"},{"$f":"CONCATENATE(Euconst_SourceStream,\" \", Q319,\":\")","v":"Flux 4:"},null,null,null,{"$f":"IF(INDEX(C_InstallationDescription!$F$194:$F$204,MATCH(C319,C_InstallationDescription!$E$194:$E$204,0))>0,INDEX(C_InstallationDescription!$F$194:$F$204,MATCH(C319,C_InstallationDescription!$E$194:$E$204,0)),\"\")","v":""},null,null,null,null,{"$f":"IF(S319=TRUE,IF(U319=\"\",T319,U319),\"\")","v":""},null,null,null,{"$f":"Q253+1","v":4},null,{"$f":"IF(INDEX(C_InstallationDescription!$M:$M,MATCH(Q321,C_InstallationDescription!$Q:$Q,0))=\"\",FALSE,TRUE)","v":false},{"$f":"IF(S319=TRUE,INDEX(C_InstallationDescription!$M:$M,MATCH(Q321,C_InstallationDescription!$Q:$Q,0)),\"\")","v":""},{"$f":"IF(S319=TRUE,IF(ISBLANK(INDEX(C_InstallationDescription!$N:$N,MATCH(Q321,C_InstallationDescription!$Q:$Q,0))),\"\",INDEX(C_InstallationDescription!$N:$N,MATCH(Q321,C_InstallationDescription!$Q:$Q,0))),\"\")","v":""}]
[]
[null,null,null,null,{"$f":"Translations!$B$437","v":"Type de flux:"},null,null,{"$f":"IF(INDEX(C_InstallationDescription!$I$194:$I$204,MATCH(C319,C_InstallationDescription!$E$194:$E$204,0))>0,INDEX(C_InstallationDescription!$I$194:$I$204,MATCH(C319,C_InstallationDescription!$E$194:$E$204,0)),\"\")","v":""},null,null,null,null,null,null,null,null,{"$f":"EUconst_CNTR_SourceCategory&C319","v":"SourceCategory_F4"}]
[null,null,null,null,{"$f":"Translations!$B$438","v":"Méthode applicable en vertu du MRR:"},null,null,{"$f":"IF(H321=\"\",\"\",INDEX(EUwideConstants!F:F,MATCH(H321,EUwideConstants!Q:Q,0)))","v":""}]
[null,null,null,null,{"$f":"Translations!$B$439","v":"Paramètre auquel s’applique l’incertitude:"},null,null,{"$f":"IF(H321=\"\",\"\",INDEX(EUwideConstants!E:E,MATCH(H321,EUwideConstants!Q:Q,0)))","v":""}]
[]
[null,null,null,null,{"$f":"IF(H319=\"\",\"\",INDEX(EUconst_SmallEmiSouStreamMsg,MATCH(Q325,EUconst_SmallEmiSouStream,0)))","v":""},null,null,null,null,null,null,null,null,null,null,null,{"$f":"IF(CNTR_SmallEmitter=TRUE,EUconst_CNTR_SmallEmitter,EUconst_CNTR_NoSmallEmitter) & IF((CNTR_Category)=\"\",\"C\",CNTR_Category) & \"_\" & IF(M319=\"\",1,MATCH(M319,SourceCategory,0))","v":"NoSmallEmitter_C_1"}]
[]
[null,null,null,{"$f":"Translations!$B$454","v":"Données d'activité:"}]
[]
[null,null,null,"(a)",{"$f":"Translations!$B$455","v":"Méthode de détermination des données d’activité:"}]
[]
[null,null,null,"i.",{"$f":"Translations!$B$456","v":"Méthode de détermination:"},null,null,null,null,null,null,null,null,null,null,null,null,null,null,null,null,null,{"$f":"IF(M319=\"\",\"\",IF(M319=INDEX(SourceCategory,3),1,IF(CNTR_InstHasCalculation=FALSE,0,2)))","v":""}]
[]
[null,null,null,null,null,{"$f":"Translations!$B$459","v":"Référence de la procédure utilisée pour déterminer les stocks à la fin de l'année:"},null,null,null,null,null,null,null,null,null,null,null,null,null,null,null,{"$f":"IF(OR(H319=\"\",ISBLANK(H331)),FALSE,IF(MATCH(H331,EUconst_ActivityDeterminationMethod,0)=2,TRUE,FALSE))","v":false},{"$f":"IF(V333=TRUE,0,W331)","v":""}]
[]
[null,null,null,"ii.",{"$f":"Translations!$B$462","v":"Instrument contrôlé par:"},null,null,null,null,null,null,null,null,null,null,null,null,null,null,null,null,null,{"$f":"W331","v":""}]
[]
[null,null,null,null,"a.",{"$f":"Translations!$B$465","v":"Veuillez confirmer que les conditions énoncées à l’article 29, paragraphe 1 sont satisfaites:"},null,null,null,null,null,null,null,null,null,null,null,null,null,null,null,{"$f":"IF(OR(H319=\"\",ISBLANK(H335)),FALSE,IF(MATCH(H335,EUconst_OwnerInstrument,0)=1,TRUE,FALSE))","v":false},{"$f":"IF(V337=TRUE,0,W331)","v":""}]
[]
[null,null,null,null,"b.",{"$f":"Translations!$B$468","v":"Utilisez-vous des factures pour déterminer la quantité de ce combustible ou de cette matière ?"},null,null,null,null,null,null,null,null,null,null,null,null,null,null,null,{"$f":"IF(OR(H319=\"\",ISBLANK(H335)),FALSE,IF(MATCH(H335,EUconst_OwnerInstrument,0)=1,TRUE,FALSE))","v":false},{"$f":"IF(V339=TRUE,0,W331)","v":""}]
[]
[null,null,null,null,"c.",{"$f":"Translations!$B$469","v":"Veuillez confirmer que le partenaire commercial et l’exploitant sont indépendants:"},null,null,null,null,null,null,null,null,null,null,null,null,null,null,null,{"$f":"IF(OR(H319=\"\",ISBLANK(H335)),FALSE,IF(MATCH(H335,EUconst_OwnerInstrument,0)=1,TRUE,FALSE))","v":false},{"$f":"IF(V341=TRUE,0,W331)","v":""}]
[]
[null,null,null,"(b)",{"$f":"Translations!$B$472","v":"Instruments de mesure utilisés:"}]
[]
[null,null,null,null,{"$f":"Translations!$B$475","v":"Commentaire/Description de la méthode, lorsque plusieurs instruments sont utilisés:"}]
[]
[]
[]
[]
[null,null,null,"(c)",{"$f":"Translations!$B$477","v":"Niveaux requis pour les données d’activité:"},null,null,{"$f":"IF(H321=\"\",\"\",IF(CNTR_Category=\"A\",INDEX(EUwideConstants!$G:$G,MATCH(Q350,EUwideConstants!$S:$S,0)),INDEX(EUwideConstants!$P:$P,MATCH(Q350,EUwideConstants!$S:$S,0))))","v":""},{"$f":"IF(H350=\"\",\"\",IF(S350=0,EUconst_NA,IF(ISERROR(S350),\"\",EUconst_MsgTierActivityLevel & \" \" &S350)))","v":""},null,null,null,null,null,null,null,{"$f":"EUconst_CNTR_ActivityData&H321","v":"ActivityData_"},null,{"$f":"IF(H350=\"\",\"\",IF(H350=EUconst_NA,\"\",INDEX(EUwideConstants!$H:$O,MATCH(Q350,EUwideConstants!$S:$S,0),MATCH(H350,CNTR_TierList,0))))","v":""}]
[null,null,null,"(d)",{"$f":"Translations!$B$478","v":"Niveau utilisé pour les données d’activité:"},null,null,null,{"$f":"IF(OR(ISBLANK(H351),H351=EUconst_NoTier),\"\",IF(S351=0,EUconst_NA,IF(ISERROR(S351),\"\",EUconst_MsgTierActivityLevel & \" \" &S351)))","v":""},null,null,null,null,null,null,null,{"$f":"EUconst_CNTR_ActivityData&H321","v":"ActivityData_"},null,{"$f":"IF(ISBLANK(H351),\"\",IF(H351=EUconst_NA,\"\",INDEX(EUwideConstants!$H:$O,MATCH(Q351,EUwideConstants!$S:$S,0),MATCH(H351,CNTR_TierList,0))))","v":""}]
[null,null,null,"(e)",{"$f":"Translations!$B$479","v":"Incertitude constatée:  "},null,null,null,{"$f":"Translations!$B$480","v":"Remarque:"}]
[]
[null,null,null,{"$f":"Translations!$B$490","v":"Facteurs de calcul:"}]
[]
[null,null,null,"(f)",{"$f":"Translations!$B$515","v":"Niveaux appliqués pour les facteurs de calcul:"}]
[]
[null,null,null,null,{"$f":"Translations!$B$516","v":"Facteur de calcul"},null,null,{"$f":"Translations!$B$517","v":"niveau requis"},{"$f":"Translations!$B$518","v":"niveau appliqué"},{"$f":"Translations!$B$519","v":"texte intégral pour le niveau appliqué"},null,null,null,null,null,null,null,null,"full text tier",null,null,null,"cond. form."]
[null,null,null,"i.",{"$f":"Translations!$B$520","v":"Pouvoir calorifique inférieur (PCI)"},null,null,{"$f":"IF(H321=\"\",\"\",IF(CNTR_Category=\"A\",INDEX(EUwideConstants!$G:$G,MATCH(Q359,EUwideConstants!$S:$S,0)),INDEX(EUwideConstants!$P:$P,MATCH(Q359,EUwideConstants!$S:$S,0))))","v":""},null,{"$f":"IF(OR(ISBLANK(I359),I359=EUconst_NoTier),\"\",IF(S359=0,EUconst_NotApplicable,IF(ISERROR(S359),\"\",S359)))","v":""},null,null,null,null,null,null,{"$f":"EUconst_CNTR_NCV&H321","v":"NCV_"},null,{"$f":"IF(ISBLANK(I359),\"\",IF(I359=EUconst_NA,\"\",INDEX(EUwideConstants!$H:$O,MATCH(Q359,EUwideConstants!$S:$S,0),MATCH(I359,CNTR_TierList,0))))","v":""},null,null,null,{"$f":"(H359=EUconst_NA)","v":false}]
[null,null,null,"ii.",{"$f":"Translations!$B$521","v":"Facteur d’émission (préliminaire)"},null,null,{"$f":"IF(H321=\"\",\"\",IF(CNTR_Category=\"A\",INDEX(EUwideConstants!$G:$G,MATCH(Q360,EUwideConstants!$S:$S,0)),INDEX(EUwideConstants!$P:$P,MATCH(Q360,EUwideConstants!$S:$S,0))))","v":""},null,"",null,null,null,null,null,null,{"$f":"EUconst_CNTR_EF&H321","v":"EF_"},null,{"$f":"IF(ISBLANK(I360),\"\",IF(I360=EUconst_NA,\"\",INDEX(EUwideConstants!$H:$O,MATCH(Q360,EUwideConstants!$S:$S,0),MATCH(I360,CNTR_TierList,0))))","v":""},null,null,null,false]
[null,null,null,"iii.",{"$f":"Translations!$B$522","v":"Facteur d'oxydation"},null,null,{"$f":"IF(H321=\"\",\"\",IF(CNTR_Category=\"A\",INDEX(EUwideConstants!$G:$G,MATCH(Q361,EUwideConstants!$S:$S,0)),INDEX(EUwideConstants!$P:$P,MATCH(Q361,EUwideConstants!$S:$S,0))))","v":""},null,"",null,null,null,null,null,null,{"$f":"EUconst_CNTR_OxidationFactor&H321","v":"OxF_"},null,{"$f":"IF(ISBLANK(I361),\"\",IF(I361=EUconst_NA,\"\",INDEX(EUwideConstants!$H:$O,MATCH(Q361,EUwideConstants!$S:$S,0),MATCH(I361,CNTR_TierList,0))))","v":""},null,null,null,false]
[null,null,null,"iv.",{"$f":"Translations!$B$523","v":"Facteur de conversion"},null,null,{"$f":"IF(H321=\"\",\"\",IF(CNTR_Category=\"A\",INDEX(EUwideConstants!$G:$G,MATCH(Q362,EUwideConstants!$S:$S,0)),INDEX(EUwideConstants!$P:$P,MATCH(Q362,EUwideConstants!$S:$S,0))))","v":""},null,"",null,null,null,null,null,null,{"$f":"EUconst_CNTR_ConversionFactor&H321","v":"ConvF_"},null,{"$f":"IF(ISBLANK(I362),\"\",IF(I362=EUconst_NA,\"\",INDEX(EUwideConstants!$H:$O,MATCH(Q362,EUwideConstants!$S:$S,0),MATCH(I362,CNTR_TierList,0))))","v":""},null,null,null,false]
[null,null,null,"v.",{"$f":"Translations!$B$524","v":"Teneur en carbone"},null,null,{"$f":"IF(H321=\"\",\"\",IF(CNTR_Category=\"A\",INDEX(EUwideConstants!$G:$G,MATCH(Q363,EUwideConstants!$S:$S,0)),INDEX(EUwideConstants!$P:$P,MATCH(Q363,EUwideConstants!$S:$S,0))))","v":""},null,"",null,null,null,null,null,null,{"$f":"EUconst_CNTR_CarbonContent&H321","v":"CarbC_"},null,{"$f":"IF(ISBLANK(I363),\"\",IF(I363=EUconst_NA,\"\",INDEX(EUwideConstants!$H:$O,MATCH(Q363,EUwideConstants!$S:$S,0),MATCH(I363,CNTR_TierList,0))))","v":""},null,null,null,false]
[null,null,null,"vi.",{"$f":"Translations!$B$525","v":"Fraction issue de la biomasse (le cas échéant)"},null,null,{"$f":"IF(H321=\"\",\"\",IF(CNTR_Category=\"A\",INDEX(EUwideConstants!$G:$G,MATCH(Q364,EUwideConstants!$S:$S,0)),INDEX(EUwideConstants!$P:$P,MATCH(Q364,EUwideConstants!$S:$S,0))))","v":""},null,"",null,null,null,null,null,null,{"$f":"EUconst_CNTR_BiomassContent&H321","v":"BioC_"},null,{"$f":"IF(ISBLANK(I364),\"\",IF(I364=EUconst_NA,\"\",INDEX(EUwideConstants!$H:$O,MATCH(Q364,EUwideConstants!$S:$S,0),MATCH(I364,CNTR_TierList,0))))","v":""},null,null,null,false]
[]
[null,null,null,"(g)",{"$f":"Translations!$B$534","v":"Précisions sur les facteurs de calcul:"}]
[]
[null,null,null,null,{"$f":"E358","v":"Facteur de calcul"},null,null,{"$f":"I358","v":"niveau appliqué"},{"$f":"Translations!$B$535","v":"valeur par défaut"},{"$f":"Translations!$B$536","v":"Unité"},{"$f":"Translations!$B$537","v":"Réf. la source"},{"$f":"Translations!$B$538","v":"Réf. de l’analyse"},{"$f":"Translations!$B$539","v":"Réf. de l’échantillonnage"},{"$f":"Translations!$B$540","v":"Fréquence d’analyse"},null,null,null,null,"default value or lab",null,null,null,"cond. form."]
[null,null,null,"i.","Pouvoir calorifique inférieur (PCI)",null,null,{"$f":"IF(OR(ISBLANK(I359),I359=EUconst_NA),\"\",I359)","v":""},null,null,null,null,null,null,null,null,null,null,{"$f":"IF(H369=\"\",\"\",IF(I359=EUconst_NA,\"\",INDEX(EUwideConstants!$AL:$AR,MATCH(Q359,EUwideConstants!$S:$S,0),MATCH(I359,CNTR_TierList,0))))","v":""},null,null,null,{"$f":"OR(H369=\"\",H369=EUconst_NA,J359=EUconst_NotApplicable)","v":true}]
[null,null,null,"ii.","Facteur d’émission (préliminaire)",null,null,"",null,null,null,null,null,null,null,null,null,null,{"$f":"IF(H370=\"\",\"\",IF(I360=EUconst_NA,\"\",INDEX(EUwideConstants!$AL:$AR,MATCH(Q360,EUwideConstants!$S:$S,0),MATCH(I360,CNTR_TierList,0))))","v":""},null,null,null,true]
[null,null,null,"iii.","Facteur d'oxydation",null,null,"",null,null,null,null,null,null,null,null,null,null,{"$f":"IF(H371=\"\",\"\",IF(I361=EUconst_NA,\"\",INDEX(EUwideConstants!$AL:$AR,MATCH(Q361,EUwideConstants!$S:$S,0),MATCH(I361,CNTR_TierList,0))))","v":""},null,null,null,true]
[null,null,null,"iv.","Facteur de conversion",null,null,"",null,null,null,null,null,null,null,null,null,null,{"$f":"IF(H372=\"\",\"\",IF(I362=EUconst_NA,\"\",INDEX(EUwideConstants!$AL:$AR,MATCH(Q362,EUwideConstants!$S:$S,0),MATCH(I362,CNTR_TierList,0))))","v":""},null,null,null,true]
[null,null,null,"v.","Teneur en carbone",null,null,"",null,null,null,null,null,null,null,null,null,null,{"$f":"IF(H373=\"\",\"\",IF(I363=EUconst_NA,\"\",INDEX(EUwideConstants!$AL:$AR,MATCH(Q363,EUwideConstants!$S:$S,0),MATCH(I363,CNTR_TierList,0))))","v":""},null,null,null,true]
[null,null,null,"vi.","Fraction issue de la biomasse (le cas échéant)",null,null,"",null,null,null,null,null,null,null,null,null,null,{"$f":"IF(H374=\"\",\"\",IF(I364=EUconst_NA,\"\",INDEX(EUwideConstants!$AL:$AR,MATCH(Q364,EUwideConstants!$S:$S,0),MATCH(I364,CNTR_TierList,0))))","v":""},null,null,null,true]
[]
[null,null,null,{"$f":"Translations!$B$545","v":"Remarques et explications:"}]
[]
[null,null,null,"(h)",{"$f":"Translations!$B$1198","v":"Remarques et justification lorsque les niveaux requis ne sont pas appliqués:"}]
[]
[]
[]
[]
[]
[null,null,null,null,null,null,null,null,null,null,null,null,null,null,null,null,null,null,"Check source stream category","auto","manual"]
[null,null,{"$f":"\"F\"&Q385","v":"F5"},{"$f":"CONCATENATE(Euconst_SourceStream,\" \", Q385,\":\")","v":"Flux 5:"},null,null,null,{"$f":"IF(INDEX(C_InstallationDescription!$F$194:$F$204,MATCH(C385,C_InstallationDescription!$E$194:$E$204,0))>0,INDEX(C_InstallationDescription!$F$194:$F$204,MATCH(C385,C_InstallationDescription!$E$194:$E$204,0)),\"\")","v":""},null,null,null,null,{"$f":"IF(S385=TRUE,IF(U385=\"\",T385,U385),\"\")","v":""},null,null,null,{"$f":"Q319+1","v":5},null,{"$f":"IF(INDEX(C_InstallationDescription!$M:$M,MATCH(Q387,C_InstallationDescription!$Q:$Q,0))=\"\",FALSE,TRUE)","v":false},{"$f":"IF(S385=TRUE,INDEX(C_InstallationDescription!$M:$M,MATCH(Q387,C_InstallationDescription!$Q:$Q,0)),\"\")","v":""},{"$f":"IF(S385=TRUE,IF(ISBLANK(INDEX(C_InstallationDescription!$N:$N,MATCH(Q387,C_InstallationDescription!$Q:$Q,0))),\"\",INDEX(C_InstallationDescription!$N:$N,MATCH(Q387,C_InstallationDescription!$Q:$Q,0))),\"\")","v":""}]
[]
[null,null,null,null,{"$f":"Translations!$B$437","v":"Type de flux:"},null,null,{"$f":"IF(INDEX(C_InstallationDescription!$I$194:$I$204,MATCH(C385,C_InstallationDescription!$E$194:$E$204,0))>0,INDEX(C_InstallationDescription!$I$194:$I$204,MATCH(C385,C_InstallationDescription!$E$194:$E$204,0)),\"\")","v":""},null,null,null,null,null,null,null,null,{"$f":"EUconst_CNTR_SourceCategory&C385","v":"SourceCategory_F5"}]
[null,null,null,null,{"$f":"Translations!$B$438","v":"Méthode applicable en vertu du MRR:"},null,null,{"$f":"IF(H387=\"\",\"\",INDEX(EUwideConstants!F:F,MATCH(H387,EUwideConstants!Q:Q,0)))","v":""}]
[null,null,null,null,{"$f":"Translations!$B$439","v":"Paramètre auquel s’applique l’incertitude:"},null,null,{"$f":"IF(H387=\"\",\"\",INDEX(EUwideConstants!E:E,MATCH(H387,EUwideConstants!Q:Q,0)))","v":""}]
[]
[null,null,null,null,{"$f":"IF(H385=\"\",\"\",INDEX(EUconst_SmallEmiSouStreamMsg,MATCH(Q391,EUconst_SmallEmiSouStream,0)))","v":""},null,null,null,null,null,null,null,null,null,null,null,{"$f":"IF(CNTR_SmallEmitter=TRUE,EUconst_CNTR_SmallEmitter,EUconst_CNTR_NoSmallEmitter) & IF((CNTR_Category)=\"\",\"C\",CNTR_Category) & \"_\" & IF(M385=\"\",1,MATCH(M385,SourceCategory,0))","v":"NoSmallEmitter_C_1"}]
[]
[null,null,null,{"$f":"Translations!$B$454","v":"Données d'activité:"}]
[]
[null,null,null,"(a)",{"$f":"Translations!$B$455","v":"Méthode de détermination des données d’activité:"}]
[]
[null,null,null,"i.",{"$f":"Translations!$B$456","v":"Méthode de détermination:"},null,null,null,null,null,null,null,null,null,null,null,null,null,null,null,null,null,{"$f":"IF(M385=\"\",\"\",IF(M385=INDEX(SourceCategory,3),1,IF(CNTR_InstHasCalculation=FALSE,0,2)))","v":""}]
[]
[null,null,null,null,null,{"$f":"Translations!$B$459","v":"Référence de la procédure utilisée pour déterminer les stocks à la fin de l'année:"},null,null,null,null,null,null,null,null,null,null,null,null,null,null,null,{"$f":"IF(OR(H385=\"\",ISBLANK(H397)),FALSE,IF(MATCH(H397,EUconst_ActivityDeterminationMethod,0)=2,TRUE,FALSE))","v":false},{"$f":"IF(V399=TRUE,0,W397)","v":""}]
[]
[null,null,null,"ii.",{"$f":"Translations!$B$462","v":"Instrument contrôlé par:"},null,null,null,null,null,null,null,null,null,null,null,null,null,null,null,null,null,{"$f":"W397","v":""}]
[]
[null,null,null,null,"a.",{"$f":"Translations!$B$465","v":"Veuillez confirmer que les conditions énoncées à l’article 29, paragraphe 1 sont satisfaites:"},null,null,null,null,null,null,null,null,null,null,null,null,null,null,null,{"$f":"IF(OR(H385=\"\",ISBLANK(H401)),FALSE,IF(MATCH(H401,EUconst_OwnerInstrument,0)=1,TRUE,FALSE))","v":false},{"$f":"IF(V403=TRUE,0,W397)","v":""}]
[]
[null,null,null,null,"b.",{"$f":"Translations!$B$468","v":"Utilisez-vous des factures pour déterminer la quantité de ce combustible ou de cette matière ?"},null,null,null,null,null,null,null,null,null,null,null,null,null,null,null,{"$f":"IF(OR(H385=\"\",ISBLANK(H401)),FALSE,IF(MATCH(H401,EUconst_OwnerInstrument,0)=1,TRUE,FALSE))","v":false},{"$f":"IF(V405=TRUE,0,W397)","v":""}]
[]
[null,null,null,null,"c.",{"$f":"Translations!$B$469","v":"Veuillez confirmer que le partenaire commercial et l’exploitant sont indépendants:"},null,null,null,null,null,null,null,null,null,null,null,null,null,null,null,{"$f":"IF(OR(H385=\"\",ISBLANK(H401)),FALSE,IF(MATCH(H401,EUconst_OwnerInstrument,0)=1,TRUE,FALSE))","v":false},{"$f":"IF(V407=TRUE,0,W397)","v":""}]
[]
[null,null,null,"(b)",{"$f":"Translations!$B$472","v":"Instruments de mesure utilisés:"}]
[]
[null,null,null,null,{"$f":"Translations!$B$475","v":"Commentaire/Description de la méthode, lorsque plusieurs instruments sont utilisés:"}]
[]
[]
[]
[]
[null,null,null,"(c)",{"$f":"Translations!$B$477","v":"Niveaux requis pour les données d’activité:"},null,null,{"$f":"IF(H387=\"\",\"\",IF(CNTR_Category=\"A\",INDEX(EUwideConstants!$G:$G,MATCH(Q416,EUwideConstants!$S:$S,0)),INDEX(EUwideConstants!$P:$P,MATCH(Q416,EUwideConstants!$S:$S,0))))","v":""},{"$f":"IF(H416=\"\",\"\",IF(S416=0,EUconst_NA,IF(ISERROR(S416),\"\",EUconst_MsgTierActivityLevel & \" \" &S416)))","v":""},null,null,null,null,null,null,null,{"$f":"EUconst_CNTR_ActivityData&H387","v":"ActivityData_"},null,{"$f":"IF(H416=\"\",\"\",IF(H416=EUconst_NA,\"\",INDEX(EUwideConstants!$H:$O,MATCH(Q416,EUwideConstants!$S:$S,0),MATCH(H416,CNTR_TierList,0))))","v":""}]
[null,null,null,"(d)",{"$f":"Translations!$B$478","v":"Niveau utilisé pour les données d’activité:"},null,null,null,{"$f":"IF(OR(ISBLANK(H417),H417=EUconst_NoTier),\"\",IF(S417=0,EUconst_NA,IF(ISERROR(S417),\"\",EUconst_MsgTierActivityLevel & \" \" &S417)))","v":""},null,null,null,null,null,null,null,{"$f":"EUconst_CNTR_ActivityData&H387","v":"ActivityData_"},null,{"$f":"IF(ISBLANK(H417),\"\",IF(H417=EUconst_NA,\"\",INDEX(EUwideConstants!$H:$O,MATCH(Q417,EUwideConstants!$S:$S,0),MATCH(H417,CNTR_TierList,0))))","v":""}]
[null,null,null,"(e)",{"$f":"Translations!$B$479","v":"Incertitude constatée:  "},null,null,null,{"$f":"Translations!$B$480","v":"Remarque:"}]
[]
[null,null,null,{"$f":"Translations!$B$490","v":"Facteurs de calcul:"}]
[]
[null,null,null,"(f)",{"$f":"Translations!$B$515","v":"Niveaux appliqués pour les facteurs de calcul:"}]
[]
[null,null,null,null,{"$f":"Translations!$B$516","v":"Facteur de calcul"},null,null,{"$f":"Translations!$B$517","v":"niveau requis"},{"$f":"Translations!$B$518","v":"niveau appliqué"},{"$f":"Translations!$B$519","v":"texte intégral pour le niveau appliqué"},null,null,null,null,null,null,null,null,"full text tier",null,null,null,"cond. form."]
[null,null,null,"i.",{"$f":"Translations!$B$520","v":"Pouvoir calorifique inférieur (PCI)"},null,null,{"$f":"IF(H387=\"\",\"\",IF(CNTR_Category=\"A\",INDEX(EUwideConstants!$G:$G,MATCH(Q425,EUwideConstants!$S:$S,0)),INDEX(EUwideConstants!$P:$P,MATCH(Q425,EUwideConstants!$S:$S,0))))","v":""},null,{"$f":"IF(OR(ISBLANK(I425),I425=EUconst_NoTier),\"\",IF(S425=0,EUconst_NotApplicable,IF(ISERROR(S425),\"\",S425)))","v":""},null,null,null,null,null,null,{"$f":"EUconst_CNTR_NCV&H387","v":"NCV_"},null,{"$f":"IF(ISBLANK(I425),\"\",IF(I425=EUconst_NA,\"\",INDEX(EUwideConstants!$H:$O,MATCH(Q425,EUwideConstants!$S:$S,0),MATCH(I425,CNTR_TierList,0))))","v":""},null,null,null,{"$f":"(H425=EUconst_NA)","v":false}]
[null,null,null,"ii.",{"$f":"Translations!$B$521","v":"Facteur d’émission (préliminaire)"},null,null,{"$f":"IF(H387=\"\",\"\",IF(CNTR_Category=\"A\",INDEX(EUwideConstants!$G:$G,MATCH(Q426,EUwideConstants!$S:$S,0)),INDEX(EUwideConstants!$P:$P,MATCH(Q426,EUwideConstants!$S:$S,0))))","v":""},null,"",null,null,null,null,null,null,{"$f":"EUconst_CNTR_EF&H387","v":"EF_"},null,{"$f":"IF(ISBLANK(I426),\"\",IF(I426=EUconst_NA,\"\",INDEX(EUwideConstants!$H:$O,MATCH(Q426,EUwideConstants!$S:$S,0),MATCH(I426,CNTR_TierList,0))))","v":""},null,null,null,false]
[null,null,null,"iii.",{"$f":"Translations!$B$522","v":"Facteur d'oxydation"},null,null,{"$f":"IF(H387=\"\",\"\",IF(CNTR_Category=\"A\",INDEX(EUwideConstants!$G:$G,MATCH(Q427,EUwideConstants!$S:$S,0)),INDEX(EUwideConstants!$P:$P,MATCH(Q427,EUwideConstants!$S:$S,0))))","v":""},null,"",null,null,null,null,null,null,{"$f":"EUconst_CNTR_OxidationFactor&H387","v":"OxF_"},null,{"$f":"IF(ISBLANK(I427),\"\",IF(I427=EUconst_NA,\"\",INDEX(EUwideConstants!$H:$O,MATCH(Q427,EUwideConstants!$S:$S,0),MATCH(I427,CNTR_TierList,0))))","v":""},null,null,null,false]
[null,null,null,"iv.",{"$f":"Translations!$B$523","v":"Facteur de conversion"},null,null,{"$f":"IF(H387=\"\",\"\",IF(CNTR_Category=\"A\",INDEX(EUwideConstants!$G:$G,MATCH(Q428,EUwideConstants!$S:$S,0)),INDEX(EUwideConstants!$P:$P,MATCH(Q428,EUwideConstants!$S:$S,0))))","v":""},null,"",null,null,null,null,null,null,{"$f":"EUconst_CNTR_ConversionFactor&H387","v":"ConvF_"},null,{"$f":"IF(ISBLANK(I428),\"\",IF(I428=EUconst_NA,\"\",INDEX(EUwideConstants!$H:$O,MATCH(Q428,EUwideConstants!$S:$S,0),MATCH(I428,CNTR_TierList,0))))","v":""},null,null,null,false]
[null,null,null,"v.",{"$f":"Translations!$B$524","v":"Teneur en carbone"},null,null,{"$f":"IF(H387=\"\",\"\",IF(CNTR_Category=\"A\",INDEX(EUwideConstants!$G:$G,MATCH(Q429,EUwideConstants!$S:$S,0)),INDEX(EUwideConstants!$P:$P,MATCH(Q429,EUwideConstants!$S:$S,0))))","v":""},null,"",null,null,null,null,null,null,{"$f":"EUconst_CNTR_CarbonContent&H387","v":"CarbC_"},null,{"$f":"IF(ISBLANK(I429),\"\",IF(I429=EUconst_NA,\"\",INDEX(EUwideConstants!$H:$O,MATCH(Q429,EUwideConstants!$S:$S,0),MATCH(I429,CNTR_TierList,0))))","v":""},null,null,null,false]
[null,null,null,"vi.",{"$f":"Translations!$B$525","v":"Fraction issue de la biomasse (le cas échéant)"},null,null,{"$f":"IF(H387=\"\",\"\",IF(CNTR_Category=\"A\",INDEX(EUwideConstants!$G:$G,MATCH(Q430,EUwideConstants!$S:$S,0)),INDEX(EUwideConstants!$P:$P,MATCH(Q430,EUwideConstants!$S:$S,0))))","v":""},null,"",null,null,null,null,null,null,{"$f":"EUconst_CNTR_BiomassContent&H387","v":"BioC_"},null,{"$f":"IF(ISBLANK(I430),\"\",IF(I430=EUconst_NA,\"\",INDEX(EUwideConstants!$H:$O,MATCH(Q430,EUwideConstants!$S:$S,0),MATCH(I430,CNTR_TierList,0))))","v":""},null,null,null,false]
[]
[null,null,null,"(g)",{"$f":"Translations!$B$534","v":"Précisions sur les facteurs de calcul:"}]
[]
[null,null,null,null,{"$f":"E424","v":"Facteur de calcul"},null,null,{"$f":"I424","v":"niveau appliqué"},{"$f":"Translations!$B$535","v":"valeur par défaut"},{"$f":"Translations!$B$536","v":"Unité"},{"$f":"Translations!$B$537","v":"Réf. la source"},{"$f":"Translations!$B$538","v":"Réf. de l’analyse"},{"$f":"Translations!$B$539","v":"Réf. de l’échantillonnage"},{"$f":"Translations!$B$540","v":"Fréquence d’analyse"},null,null,null,null,"default value or lab",null,null,null,"cond. form."]
[null,null,null,"i.","Pouvoir calorifique inférieur (PCI)",null,null,{"$f":"IF(OR(ISBLANK(I425),I425=EUconst_NA),\"\",I425)","v":""},null,null,null,null,null,null,null,null,null,null,{"$f":"IF(H435=\"\",\"\",IF(I425=EUconst_NA,\"\",INDEX(EUwideConstants!$AL:$AR,MATCH(Q425,EUwideConstants!$S:$S,0),MATCH(I425,CNTR_TierList,0))))","v":""},null,null,null,{"$f":"OR(H435=\"\",H435=EUconst_NA,J425=EUconst_NotApplicable)","v":true}]
[null,null,null,"ii.","Facteur d’émission (préliminaire)",null,null,"",null,null,null,null,null,null,null,null,null,null,{"$f":"IF(H436=\"\",\"\",IF(I426=EUconst_NA,\"\",INDEX(EUwideConstants!$AL:$AR,MATCH(Q426,EUwideConstants!$S:$S,0),MATCH(I426,CNTR_TierList,0))))","v":""},null,null,null,true]
[null,null,null,"iii.","Facteur d'oxydation",null,null,"",null,null,null,null,null,null,null,null,null,null,{"$f":"IF(H437=\"\",\"\",IF(I427=EUconst_NA,\"\",INDEX(EUwideConstants!$AL:$AR,MATCH(Q427,EUwideConstants!$S:$S,0),MATCH(I427,CNTR_TierList,0))))","v":""},null,null,null,true]
[null,null,null,"iv.","Facteur de conversion",null,null,"",null,null,null,null,null,null,null,null,null,null,{"$f":"IF(H438=\"\",\"\",IF(I428=EUconst_NA,\"\",INDEX(EUwideConstants!$AL:$AR,MATCH(Q428,EUwideConstants!$S:$S,0),MATCH(I428,CNTR_TierList,0))))","v":""},null,null,null,true]
[null,null,null,"v.","Teneur en carbone",null,null,"",null,null,null,null,null,null,null,null,null,null,{"$f":"IF(H439=\"\",\"\",IF(I429=EUconst_NA,\"\",INDEX(EUwideConstants!$AL:$AR,MATCH(Q429,EUwideConstants!$S:$S,0),MATCH(I429,CNTR_TierList,0))))","v":""},null,null,null,true]
[null,null,null,"vi.","Fraction issue de la biomasse (le cas échéant)",null,null,"",null,null,null,null,null,null,null,null,null,null,{"$f":"IF(H440=\"\",\"\",IF(I430=EUconst_NA,\"\",INDEX(EUwideConstants!$AL:$AR,MATCH(Q430,EUwideConstants!$S:$S,0),MATCH(I430,CNTR_TierList,0))))","v":""},null,null,null,true]
[]
[null,null,null,{"$f":"Translations!$B$545","v":"Remarques et explications:"}]
[]
[null,null,null,"(h)",{"$f":"Translations!$B$1198","v":"Remarques et justification lorsque les niveaux requis ne sont pas appliqués:"}]
[]
[]
[]
[]
[]
[null,null,null,null,null,null,null,null,null,null,null,null,null,null,null,null,null,null,"Check source stream category","auto","manual"]
[null,null,{"$f":"\"F\"&Q451","v":"F6"},{"$f":"CONCATENATE(Euconst_SourceStream,\" \", Q451,\":\")","v":"Flux 6:"},null,null,null,{"$f":"IF(INDEX(C_InstallationDescription!$F$194:$F$204,MATCH(C451,C_InstallationDescription!$E$194:$E$204,0))>0,INDEX(C_InstallationDescription!$F$194:$F$204,MATCH(C451,C_InstallationDescription!$E$194:$E$204,0)),\"\")","v":""},null,null,null,null,{"$f":"IF(S451=TRUE,IF(U451=\"\",T451,U451),\"\")","v":""},null,null,null,{"$f":"Q385+1","v":6},null,{"$f":"IF(INDEX(C_InstallationDescription!$M:$M,MATCH(Q453,C_InstallationDescription!$Q:$Q,0))=\"\",FALSE,TRUE)","v":false},{"$f":"IF(S451=TRUE,INDEX(C_InstallationDescription!$M:$M,MATCH(Q453,C_InstallationDescription!$Q:$Q,0)),\"\")","v":""},{"$f":"IF(S451=TRUE,IF(ISBLANK(INDEX(C_InstallationDescription!$N:$N,MATCH(Q453,C_InstallationDescription!$Q:$Q,0))),\"\",INDEX(C_InstallationDescription!$N:$N,MATCH(Q453,C_InstallationDescription!$Q:$Q,0))),\"\")","v":""}]
[]
[null,null,null,null,{"$f":"Translations!$B$437","v":"Type de flux:"},null,null,{"$f":"IF(INDEX(C_InstallationDescription!$I$194:$I$204,MATCH(C451,C_InstallationDescription!$E$194:$E$204,0))>0,INDEX(C_InstallationDescription!$I$194:$I$204,MATCH(C451,C_InstallationDescription!$E$194:$E$204,0)),\"\")","v":""},null,null,null,null,null,null,null,null,{"$f":"EUconst_CNTR_SourceCategory&C451","v":"SourceCategory_F6"}]
[null,null,null,null,{"$f":"Translations!$B$438","v":"Méthode applicable en vertu du MRR:"},null,null,{"$f":"IF(H453=\"\",\"\",INDEX(EUwideConstants!F:F,MATCH(H453,EUwideConstants!Q:Q,0)))","v":""}]
[null,null,null,null,{"$f":"Translations!$B$439","v":"Paramètre auquel s’applique l’incertitude:"},null,null,{"$f":"IF(H453=\"\",\"\",INDEX(EUwideConstants!E:E,MATCH(H453,EUwideConstants!Q:Q,0)))","v":""}]
[]
[null,null,null,null,{"$f":"IF(H451=\"\",\"\",INDEX(EUconst_SmallEmiSouStreamMsg,MATCH(Q457,EUconst_SmallEmiSouStream,0)))","v":""},null,null,null,null,null,null,null,null,null,null,null,{"$f":"IF(CNTR_SmallEmitter=TRUE,EUconst_CNTR_SmallEmitter,EUconst_CNTR_NoSmallEmitter) & IF((CNTR_Category)=\"\",\"C\",CNTR_Category) & \"_\" & IF(M451=\"\",1,MATCH(M451,SourceCategory,0))","v":"NoSmallEmitter_C_1"}]
[]
[null,null,null,{"$f":"Translations!$B$454","v":"Données d'activité:"}]
[]
[null,null,null,"(a)",{"$f":"Translations!$B$455","v":"Méthode de détermination des données d’activité:"}]
[]
[null,null,null,"i.",{"$f":"Translations!$B$456","v":"Méthode de détermination:"},null,null,null,null,null,null,null,null,null,null,null,null,null,null,null,null,null,{"$f":"IF(M451=\"\",\"\",IF(M451=INDEX(SourceCategory,3),1,IF(CNTR_InstHasCalculation=FALSE,0,2)))","v":""}]
[]
[null,null,null,null,null,{"$f":"Translations!$B$459","v":"Référence de la procédure utilisée pour déterminer les stocks à la fin de l'année:"},null,null,null,null,null,null,null,null,null,null,null,null,null,null,null,{"$f":"IF(OR(H451=\"\",ISBLANK(H463)),FALSE,IF(MATCH(H463,EUconst_ActivityDeterminationMethod,0)=2,TRUE,FALSE))","v":false},{"$f":"IF(V465=TRUE,0,W463)","v":""}]
[]
[null,null,null,"ii.",{"$f":"Translations!$B$462","v":"Instrument contrôlé par:"},null,null,null,null,null,null,null,null,null,null,null,null,null,null,null,null,null,{"$f":"W463","v":""}]
[]
[null,null,null,null,"a.",{"$f":"Translations!$B$465","v":"Veuillez confirmer que les conditions énoncées à l’article 29, paragraphe 1 sont satisfaites:"},null,null,null,null,null,null,null,null,null,null,null,null,null,null,null,{"$f":"IF(OR(H451=\"\",ISBLANK(H467)),FALSE,IF(MATCH(H467,EUconst_OwnerInstrument,0)=1,TRUE,FALSE))","v":false},{"$f":"IF(V469=TRUE,0,W463)","v":""}]
[]
[null,null,null,null,"b.",{"$f":"Translations!$B$468","v":"Utilisez-vous des factures pour déterminer la quantité de ce combustible ou de cette matière ?"},null,null,null,null,null,null,null,null,null,null,null,null,null,null,null,{"$f":"IF(OR(H451=\"\",ISBLANK(H467)),FALSE,IF(MATCH(H467,EUconst_OwnerInstrument,0)=1,TRUE,FALSE))","v":false},{"$f":"IF(V471=TRUE,0,W463)","v":""}]
[]
[null,null,null,null,"c.",{"$f":"Translations!$B$469","v":"Veuillez confirmer que le partenaire commercial et l’exploitant sont indépendants:"},null,null,null,null,null,null,null,null,null,null,null,null,null,null,null,{"$f":"IF(OR(H451=\"\",ISBLANK(H467)),FALSE,IF(MATCH(H467,EUconst_OwnerInstrument,0)=1,TRUE,FALSE))","v":false},{"$f":"IF(V473=TRUE,0,W463)","v":""}]
[]
[null,null,null,"(b)",{"$f":"Translations!$B$472","v":"Instruments de mesure utilisés:"}]
[]
[null,null,null,null,{"$f":"Translations!$B$475","v":"Commentaire/Description de la méthode, lorsque plusieurs instruments sont utilisés:"}]
[]
[]
[]
[]
[null,null,null,"(c)",{"$f":"Translations!$B$477","v":"Niveaux requis pour les données d’activité:"},null,null,{"$f":"IF(H453=\"\",\"\",IF(CNTR_Category=\"A\",INDEX(EUwideConstants!$G:$G,MATCH(Q482,EUwideConstants!$S:$S,0)),INDEX(EUwideConstants!$P:$P,MATCH(Q482,EUwideConstants!$S:$S,0))))","v":""},{"$f":"IF(H482=\"\",\"\",IF(S482=0,EUconst_NA,IF(ISERROR(S482),\"\",EUconst_MsgTierActivityLevel & \" \" &S482)))","v":""},null,null,null,null,null,null,null,{"$f":"EUconst_CNTR_ActivityData&H453","v":"ActivityData_"},null,{"$f":"IF(H482=\"\",\"\",IF(H482=EUconst_NA,\"\",INDEX(EUwideConstants!$H:$O,MATCH(Q482,EUwideConstants!$S:$S,0),MATCH(H482,CNTR_TierList,0))))","v":""}]
[null,null,null,"(d)",{"$f":"Translations!$B$478","v":"Niveau utilisé pour les données d’activité:"},null,null,null,{"$f":"IF(OR(ISBLANK(H483),H483=EUconst_NoTier),\"\",IF(S483=0,EUconst_NA,IF(ISERROR(S483),\"\",EUconst_MsgTierActivityLevel & \" \" &S483)))","v":""},null,null,null,null,null,null,null,{"$f":"EUconst_CNTR_ActivityData&H453","v":"ActivityData_"},null,{"$f":"IF(ISBLANK(H483),\"\",IF(H483=EUconst_NA,\"\",INDEX(EUwideConstants!$H:$O,MATCH(Q483,EUwideConstants!$S:$S,0),MATCH(H483,CNTR_TierList,0))))","v":""}]
[null,null,null,"(e)",{"$f":"Translations!$B$479","v":"Incertitude constatée:  "},null,null,null,{"$f":"Translations!$B$480","v":"Remarque:"}]
[]
[null,null,null,{"$f":"Translations!$B$490","v":"Facteurs de calcul:"}]
[]
[null,null,null,"(f)",{"$f":"Translations!$B$515","v":"Niveaux appliqués pour les facteurs de calcul:"}]
[]
[null,null,null,null,{"$f":"Translations!$B$516","v":"Facteur de calcul"},null,null,{"$f":"Translations!$B$517","v":"niveau requis"},{"$f":"Translations!$B$518","v":"niveau appliqué"},{"$f":"Translations!$B$519","v":"texte intégral pour le niveau appliqué"},null,null,null,null,null,null,null,null,"full text tier",null,null,null,"cond. form."]
[null,null,null,"i.",{"$f":"Translations!$B$520","v":"Pouvoir calorifique inférieur (PCI)"},null,null,{"$f":"IF(H453=\"\",\"\",IF(CNTR_Category=\"A\",INDEX(EUwideConstants!$G:$G,MATCH(Q491,EUwideConstants!$S:$S,0)),INDEX(EUwideConstants!$P:$P,MATCH(Q491,EUwideConstants!$S:$S,0))))","v":""},null,{"$f":"IF(OR(ISBLANK(I491),I491=EUconst_NoTier),\"\",IF(S491=0,EUconst_NotApplicable,IF(ISERROR(S491),\"\",S491)))","v":""},null,null,null,null,null,null,{"$f":"EUconst_CNTR_NCV&H453","v":"NCV_"},null,{"$f":"IF(ISBLANK(I491),\"\",IF(I491=EUconst_NA,\"\",INDEX(EUwideConstants!$H:$O,MATCH(Q491,EUwideConstants!$S:$S,0),MATCH(I491,CNTR_TierList,0))))","v":""},null,null,null,{"$f":"(H491=EUconst_NA)","v":false}]
[null,null,null,"ii.",{"$f":"Translations!$B$521","v":"Facteur d’émission (préliminaire)"},null,null,{"$f":"IF(H453=\"\",\"\",IF(CNTR_Category=\"A\",INDEX(EUwideConstants!$G:$G,MATCH(Q492,EUwideConstants!$S:$S,0)),INDEX(EUwideConstants!$P:$P,MATCH(Q492,EUwideConstants!$S:$S,0))))","v":""},null,"",null,null,null,null,null,null,{"$f":"EUconst_CNTR_EF&H453","v":"EF_"},null,{"$f":"IF(ISBLANK(I492),\"\",IF(I492=EUconst_NA,\"\",INDEX(EUwideConstants!$H:$O,MATCH(Q492,EUwideConstants!$S:$S,0),MATCH(I492,CNTR_TierList,0))))","v":""},null,null,null,false]
[null,null,null,"iii.",{"$f":"Translations!$B$522","v":"Facteur d'oxydation"},null,null,{"$f":"IF(H453=\"\",\"\",IF(CNTR_Category=\"A\",INDEX(EUwideConstants!$G:$G,MATCH(Q493,EUwideConstants!$S:$S,0)),INDEX(EUwideConstants!$P:$P,MATCH(Q493,EUwideConstants!$S:$S,0))))","v":""},null,"",null,null,null,null,null,null,{"$f":"EUconst_CNTR_OxidationFactor&H453","v":"OxF_"},null,{"$f":"IF(ISBLANK(I493),\"\",IF(I493=EUconst_NA,\"\",INDEX(EUwideConstants!$H:$O,MATCH(Q493,EUwideConstants!$S:$S,0),MATCH(I493,CNTR_TierList,0))))","v":""},null,null,null,false]
[null,null,null,"iv.",{"$f":"Translations!$B$523","v":"Facteur de conversion"},null,null,{"$f":"IF(H453=\"\",\"\",IF(CNTR_Category=\"A\",INDEX(EUwideConstants!$G:$G,MATCH(Q494,EUwideConstants!$S:$S,0)),INDEX(EUwideConstants!$P:$P,MATCH(Q494,EUwideConstants!$S:$S,0))))","v":""},null,"",null,null,null,null,null,null,{"$f":"EUconst_CNTR_ConversionFactor&H453","v":"ConvF_"},null,{"$f":"IF(ISBLANK(I494),\"\",IF(I494=EUconst_NA,\"\",INDEX(EUwideConstants!$H:$O,MATCH(Q494,EUwideConstants!$S:$S,0),MATCH(I494,CNTR_TierList,0))))","v":""},null,null,null,false]
[null,null,null,"v.",{"$f":"Translations!$B$524","v":"Teneur en carbone"},null,null,{"$f":"IF(H453=\"\",\"\",IF(CNTR_Category=\"A\",INDEX(EUwideConstants!$G:$G,MATCH(Q495,EUwideConstants!$S:$S,0)),INDEX(EUwideConstants!$P:$P,MATCH(Q495,EUwideConstants!$S:$S,0))))","v":""},null,"",null,null,null,null,null,null,{"$f":"EUconst_CNTR_CarbonContent&H453","v":"CarbC_"},null,{"$f":"IF(ISBLANK(I495),\"\",IF(I495=EUconst_NA,\"\",INDEX(EUwideConstants!$H:$O,MATCH(Q495,EUwideConstants!$S:$S,0),MATCH(I495,CNTR_TierList,0))))","v":""},null,null,null,false]
[null,null,null,"vi.",{"$f":"Translations!$B$525","v":"Fraction issue de la biomasse (le cas échéant)"},null,null,{"$f":"IF(H453=\"\",\"\",IF(CNTR_Category=\"A\",INDEX(EUwideConstants!$G:$G,MATCH(Q496,EUwideConstants!$S:$S,0)),INDEX(EUwideConstants!$P:$P,MATCH(Q496,EUwideConstants!$S:$S,0))))","v":""},null,"",null,null,null,null,null,null,{"$f":"EUconst_CNTR_BiomassContent&H453","v":"BioC_"},null,{"$f":"IF(ISBLANK(I496),\"\",IF(I496=EUconst_NA,\"\",INDEX(EUwideConstants!$H:$O,MATCH(Q496,EUwideConstants!$S:$S,0),MATCH(I496,CNTR_TierList,0))))","v":""},null,null,null,false]
[]
[null,null,null,"(g)",{"$f":"Translations!$B$534","v":"Précisions sur les facteurs de calcul:"}]
[]
[null,null,null,null,{"$f":"E490","v":"Facteur de calcul"},null,null,{"$f":"I490","v":"niveau appliqué"},{"$f":"Translations!$B$535","v":"valeur par défaut"},{"$f":"Translations!$B$536","v":"Unité"},{"$f":"Translations!$B$537","v":"Réf. la source"},{"$f":"Translations!$B$538","v":"Réf. de l’analyse"},{"$f":"Translations!$B$539","v":"Réf. de l’échantillonnage"},{"$f":"Translations!$B$540","v":"Fréquence d’analyse"},null,null,null,null,"default value or lab",null,null,null,"cond. form."]
[null,null,null,"i.","Pouvoir calorifique inférieur (PCI)",null,null,{"$f":"IF(OR(ISBLANK(I491),I491=EUconst_NA),\"\",I491)","v":""},null,null,null,null,null,null,null,null,null,null,{"$f":"IF(H501=\"\",\"\",IF(I491=EUconst_NA,\"\",INDEX(EUwideConstants!$AL:$AR,MATCH(Q491,EUwideConstants!$S:$S,0),MATCH(I491,CNTR_TierList,0))))","v":""},null,null,null,{"$f":"OR(H501=\"\",H501=EUconst_NA,J491=EUconst_NotApplicable)","v":true}]
[null,null,null,"ii.","Facteur d’émission (préliminaire)",null,null,"",null,null,null,null,null,null,null,null,null,null,{"$f":"IF(H502=\"\",\"\",IF(I492=EUconst_NA,\"\",INDEX(EUwideConstants!$AL:$AR,MATCH(Q492,EUwideConstants!$S:$S,0),MATCH(I492,CNTR_TierList,0))))","v":""},null,null,null,true]
[null,null,null,"iii.","Facteur d'oxydation",null,null,"",null,null,null,null,null,null,null,null,null,null,{"$f":"IF(H503=\"\",\"\",IF(I493=EUconst_NA,\"\",INDEX(EUwideConstants!$AL:$AR,MATCH(Q493,EUwideConstants!$S:$S,0),MATCH(I493,CNTR_TierList,0))))","v":""},null,null,null,true]
[null,null,null,"iv.","Facteur de conversion",null,null,"",null,null,null,null,null,null,null,null,null,null,{"$f":"IF(H504=\"\",\"\",IF(I494=EUconst_NA,\"\",INDEX(EUwideConstants!$AL:$AR,MATCH(Q494,EUwideConstants!$S:$S,0),MATCH(I494,CNTR_TierList,0))))","v":""},null,null,null,true]
[null,null,null,"v.","Teneur en carbone",null,null,"",null,null,null,null,null,null,null,null,null,null,{"$f":"IF(H505=\"\",\"\",IF(I495=EUconst_NA,\"\",INDEX(EUwideConstants!$AL:$AR,MATCH(Q495,EUwideConstants!$S:$S,0),MATCH(I495,CNTR_TierList,0))))","v":""},null,null,null,true]
[null,null,null,"vi.","Fraction issue de la biomasse (le cas échéant)",null,null,"",null,null,null,null,null,null,null,null,null,null,{"$f":"IF(H506=\"\",\"\",IF(I496=EUconst_NA,\"\",INDEX(EUwideConstants!$AL:$AR,MATCH(Q496,EUwideConstants!$S:$S,0),MATCH(I496,CNTR_TierList,0))))","v":""},null,null,null,true]
[]
[null,null,null,{"$f":"Translations!$B$545","v":"Remarques et explications:"}]
[]
[null,null,null,"(h)",{"$f":"Translations!$B$1198","v":"Remarques et justification lorsque les niveaux requis ne sont pas appliqués:"}]
[]
[]
[]
[]
[]
[null,null,null,null,null,null,null,null,null,null,null,null,null,null,null,null,null,null,"Check source stream category","auto","manual"]
[null,null,{"$f":"\"F\"&Q517","v":"F7"},{"$f":"CONCATENATE(Euconst_SourceStream,\" \", Q517,\":\")","v":"Flux 7:"},null,null,null,{"$f":"IF(INDEX(C_InstallationDescription!$F$194:$F$204,MATCH(C517,C_InstallationDescription!$E$194:$E$204,0))>0,INDEX(C_InstallationDescription!$F$194:$F$204,MATCH(C517,C_InstallationDescription!$E$194:$E$204,0)),\"\")","v":""},null,null,null,null,{"$f":"IF(S517=TRUE,IF(U517=\"\",T517,U517),\"\")","v":""},null,null,null,{"$f":"Q451+1","v":7},null,{"$f":"IF(INDEX(C_InstallationDescription!$M:$M,MATCH(Q519,C_InstallationDescription!$Q:$Q,0))=\"\",FALSE,TRUE)","v":false},{"$f":"IF(S517=TRUE,INDEX(C_InstallationDescription!$M:$M,MATCH(Q519,C_InstallationDescription!$Q:$Q,0)),\"\")","v":""},{"$f":"IF(S517=TRUE,IF(ISBLANK(INDEX(C_InstallationDescription!$N:$N,MATCH(Q519,C_InstallationDescription!$Q:$Q,0))),\"\",INDEX(C_InstallationDescription!$N:$N,MATCH(Q519,C_InstallationDescription!$Q:$Q,0))),\"\")","v":""}]
[]
[null,null,null,null,{"$f":"Translations!$B$437","v":"Type de flux:"},null,null,{"$f":"IF(INDEX(C_InstallationDescription!$I$194:$I$204,MATCH(C517,C_InstallationDescription!$E$194:$E$204,0))>0,INDEX(C_InstallationDescription!$I$194:$I$204,MATCH(C517,C_InstallationDescription!$E$194:$E$204,0)),\"\")","v":""},null,null,null,null,null,null,null,null,{"$f":"EUconst_CNTR_SourceCategory&C517","v":"SourceCategory_F7"}]
[null,null,null,null,{"$f":"Translations!$B$438","v":"Méthode applicable en vertu du MRR:"},null,null,{"$f":"IF(H519=\"\",\"\",INDEX(EUwideConstants!F:F,MATCH(H519,EUwideConstants!Q:Q,0)))","v":""}]
[null,null,null,null,{"$f":"Translations!$B$439","v":"Paramètre auquel s’applique l’incertitude:"},null,null,{"$f":"IF(H519=\"\",\"\",INDEX(EUwideConstants!E:E,MATCH(H519,EUwideConstants!Q:Q,0)))","v":""}]
[]
[null,null,null,null,{"$f":"IF(H517=\"\",\"\",INDEX(EUconst_SmallEmiSouStreamMsg,MATCH(Q523,EUconst_SmallEmiSouStream,0)))","v":""},null,null,null,null,null,null,null,null,null,null,null,{"$f":"IF(CNTR_SmallEmitter=TRUE,EUconst_CNTR_SmallEmitter,EUconst_CNTR_NoSmallEmitter) & IF((CNTR_Category)=\"\",\"C\",CNTR_Category) & \"_\" & IF(M517=\"\",1,MATCH(M517,SourceCategory,0))","v":"NoSmallEmitter_C_1"}]
[]
[null,null,null,{"$f":"Translations!$B$454","v":"Données d'activité:"}]
[]
[null,null,null,"(a)",{"$f":"Translations!$B$455","v":"Méthode de détermination des données d’activité:"}]
[]
[null,null,null,"i.",{"$f":"Translations!$B$456","v":"Méthode de détermination:"},null,null,null,null,null,null,null,null,null,null,null,null,null,null,null,null,null,{"$f":"IF(M517=\"\",\"\",IF(M517=INDEX(SourceCategory,3),1,IF(CNTR_InstHasCalculation=FALSE,0,2)))","v":""}]
[]
[null,null,null,null,null,{"$f":"Translations!$B$459","v":"Référence de la procédure utilisée pour déterminer les stocks à la fin de l'année:"},null,null,null,null,null,null,null,null,null,null,null,null,null,null,null,{"$f":"IF(OR(H517=\"\",ISBLANK(H529)),FALSE,IF(MATCH(H529,EUconst_ActivityDeterminationMethod,0)=2,TRUE,FALSE))","v":false},{"$f":"IF(V531=TRUE,0,W529)","v":""}]
[]
[null,null,null,"ii.",{"$f":"Translations!$B$462","v":"Instrument contrôlé par:"},null,null,null,null,null,null,null,null,null,null,null,null,null,null,null,null,null,{"$f":"W529","v":""}]
[]
[null,null,null,null,"a.",{"$f":"Translations!$B$465","v":"Veuillez confirmer que les conditions énoncées à l’article 29, paragraphe 1 sont satisfaites:"},null,null,null,null,null,null,null,null,null,null,null,null,null,null,null,{"$f":"IF(OR(H517=\"\",ISBLANK(H533)),FALSE,IF(MATCH(H533,EUconst_OwnerInstrument,0)=1,TRUE,FALSE))","v":false},{"$f":"IF(V535=TRUE,0,W529)","v":""}]
[]
[null,null,null,null,"b.",{"$f":"Translations!$B$468","v":"Utilisez-vous des factures pour déterminer la quantité de ce combustible ou de cette matière ?"},null,null,null,null,null,null,null,null,null,null,null,null,null,null,null,{"$f":"IF(OR(H517=\"\",ISBLANK(H533)),FALSE,IF(MATCH(H533,EUconst_OwnerInstrument,0)=1,TRUE,FALSE))","v":false},{"$f":"IF(V537=TRUE,0,W529)","v":""}]
[]
[null,null,null,null,"c.",{"$f":"Translations!$B$469","v":"Veuillez confirmer que le partenaire commercial et l’exploitant sont indépendants:"},null,null,null,null,null,null,null,null,null,null,null,null,null,null,null,{"$f":"IF(OR(H517=\"\",ISBLANK(H533)),FALSE,IF(MATCH(H533,EUconst_OwnerInstrument,0)=1,TRUE,FALSE))","v":false},{"$f":"IF(V539=TRUE,0,W529)","v":""}]
[]
[null,null,null,"(b)",{"$f":"Translations!$B$472","v":"Instruments de mesure utilisés:"}]
[]
[null,null,null,null,{"$f":"Translations!$B$475","v":"Commentaire/Description de la méthode, lorsque plusieurs instruments sont utilisés:"}]
[]
[]
[]
[]
[null,null,null,"(c)",{"$f":"Translations!$B$477","v":"Niveaux requis pour les données d’activité:"},null,null,{"$f":"IF(H519=\"\",\"\",IF(CNTR_Category=\"A\",INDEX(EUwideConstants!$G:$G,MATCH(Q548,EUwideConstants!$S:$S,0)),INDEX(EUwideConstants!$P:$P,MATCH(Q548,EUwideConstants!$S:$S,0))))","v":""},{"$f":"IF(H548=\"\",\"\",IF(S548=0,EUconst_NA,IF(ISERROR(S548),\"\",EUconst_MsgTierActivityLevel & \" \" &S548)))","v":""},null,null,null,null,null,null,null,{"$f":"EUconst_CNTR_ActivityData&H519","v":"ActivityData_"},null,{"$f":"IF(H548=\"\",\"\",IF(H548=EUconst_NA,\"\",INDEX(EUwideConstants!$H:$O,MATCH(Q548,EUwideConstants!$S:$S,0),MATCH(H548,CNTR_TierList,0))))","v":""}]
[null,null,null,"(d)",{"$f":"Translations!$B$478","v":"Niveau utilisé pour les données d’activité:"},null,null,null,{"$f":"IF(OR(ISBLANK(H549),H549=EUconst_NoTier),\"\",IF(S549=0,EUconst_NA,IF(ISERROR(S549),\"\",EUconst_MsgTierActivityLevel & \" \" &S549)))","v":""},null,null,null,null,null,null,null,{"$f":"EUconst_CNTR_ActivityData&H519","v":"ActivityData_"},null,{"$f":"IF(ISBLANK(H549),\"\",IF(H549=EUconst_NA,\"\",INDEX(EUwideConstants!$H:$O,MATCH(Q549,EUwideConstants!$S:$S,0),MATCH(H549,CNTR_TierList,0))))","v":""}]
[null,null,null,"(e)",{"$f":"Translations!$B$479","v":"Incertitude constatée:  "},null,null,null,{"$f":"Translations!$B$480","v":"Remarque:"}]
[]
[null,null,null,{"$f":"Translations!$B$490","v":"Facteurs de calcul:"}]
[]
[null,null,null,"(f)",{"$f":"Translations!$B$515","v":"Niveaux appliqués pour les facteurs de calcul:"}]
[]
[null,null,null,null,{"$f":"Translations!$B$516","v":"Facteur de calcul"},null,null,{"$f":"Translations!$B$517","v":"niveau requis"},{"$f":"Translations!$B$518","v":"niveau appliqué"},{"$f":"Translations!$B$519","v":"texte intégral pour le niveau appliqué"},null,null,null,null,null,null,null,null,"full text tier",null,null,null,"cond. form."]
[null,null,null,"i.",{"$f":"Translations!$B$520","v":"Pouvoir calorifique inférieur (PCI)"},null,null,{"$f":"IF(H519=\"\",\"\",IF(CNTR_Category=\"A\",INDEX(EUwideConstants!$G:$G,MATCH(Q557,EUwideConstants!$S:$S,0)),INDEX(EUwideConstants!$P:$P,MATCH(Q557,EUwideConstants!$S:$S,0))))","v":""},null,{"$f":"IF(OR(ISBLANK(I557),I557=EUconst_NoTier),\"\",IF(S557=0,EUconst_NotApplicable,IF(ISERROR(S557),\"\",S557)))","v":""},null,null,null,null,null,null,{"$f":"EUconst_CNTR_NCV&H519","v":"NCV_"},null,{"$f":"IF(ISBLANK(I557),\"\",IF(I557=EUconst_NA,\"\",INDEX(EUwideConstants!$H:$O,MATCH(Q557,EUwideConstants!$S:$S,0),MATCH(I557,CNTR_TierList,0))))","v":""},null,null,null,{"$f":"(H557=EUconst_NA)","v":false}]
[null,null,null,"ii.",{"$f":"Translations!$B$521","v":"Facteur d’émission (préliminaire)"},null,null,{"$f":"IF(H519=\"\",\"\",IF(CNTR_Category=\"A\",INDEX(EUwideConstants!$G:$G,MATCH(Q558,EUwideConstants!$S:$S,0)),INDEX(EUwideConstants!$P:$P,MATCH(Q558,EUwideConstants!$S:$S,0))))","v":""},null,"",null,null,null,null,null,null,{"$f":"EUconst_CNTR_EF&H519","v":"EF_"},null,{"$f":"IF(ISBLANK(I558),\"\",IF(I558=EUconst_NA,\"\",INDEX(EUwideConstants!$H:$O,MATCH(Q558,EUwideConstants!$S:$S,0),MATCH(I558,CNTR_TierList,0))))","v":""},null,null,null,false]
[null,null,null,"iii.",{"$f":"Translations!$B$522","v":"Facteur d'oxydation"},null,null,{"$f":"IF(H519=\"\",\"\",IF(CNTR_Category=\"A\",INDEX(EUwideConstants!$G:$G,MATCH(Q559,EUwideConstants!$S:$S,0)),INDEX(EUwideConstants!$P:$P,MATCH(Q559,EUwideConstants!$S:$S,0))))","v":""},null,"",null,null,null,null,null,null,{"$f":"EUconst_CNTR_OxidationFactor&H519","v":"OxF_"},null,{"$f":"IF(ISBLANK(I559),\"\",IF(I559=EUconst_NA,\"\",INDEX(EUwideConstants!$H:$O,MATCH(Q559,EUwideConstants!$S:$S,0),MATCH(I559,CNTR_TierList,0))))","v":""},null,null,null,false]
[null,null,null,"iv.",{"$f":"Translations!$B$523","v":"Facteur de conversion"},null,null,{"$f":"IF(H519=\"\",\"\",IF(CNTR_Category=\"A\",INDEX(EUwideConstants!$G:$G,MATCH(Q560,EUwideConstants!$S:$S,0)),INDEX(EUwideConstants!$P:$P,MATCH(Q560,EUwideConstants!$S:$S,0))))","v":""},null,"",null,null,null,null,null,null,{"$f":"EUconst_CNTR_ConversionFactor&H519","v":"ConvF_"},null,{"$f":"IF(ISBLANK(I560),\"\",IF(I560=EUconst_NA,\"\",INDEX(EUwideConstants!$H:$O,MATCH(Q560,EUwideConstants!$S:$S,0),MATCH(I560,CNTR_TierList,0))))","v":""},null,null,null,false]
[null,null,null,"v.",{"$f":"Translations!$B$524","v":"Teneur en carbone"},null,null,{"$f":"IF(H519=\"\",\"\",IF(CNTR_Category=\"A\",INDEX(EUwideConstants!$G:$G,MATCH(Q561,EUwideConstants!$S:$S,0)),INDEX(EUwideConstants!$P:$P,MATCH(Q561,EUwideConstants!$S:$S,0))))","v":""},null,"",null,null,null,null,null,null,{"$f":"EUconst_CNTR_CarbonContent&H519","v":"CarbC_"},null,{"$f":"IF(ISBLANK(I561),\"\",IF(I561=EUconst_NA,\"\",INDEX(EUwideConstants!$H:$O,MATCH(Q561,EUwideConstants!$S:$S,0),MATCH(I561,CNTR_TierList,0))))","v":""},null,null,null,false]
[null,null,null,"vi.",{"$f":"Translations!$B$525","v":"Fraction issue de la biomasse (le cas échéant)"},null,null,{"$f":"IF(H519=\"\",\"\",IF(CNTR_Category=\"A\",INDEX(EUwideConstants!$G:$G,MATCH(Q562,EUwideConstants!$S:$S,0)),INDEX(EUwideConstants!$P:$P,MATCH(Q562,EUwideConstants!$S:$S,0))))","v":""},null,"",null,null,null,null,null,null,{"$f":"EUconst_CNTR_BiomassContent&H519","v":"BioC_"},null,{"$f":"IF(ISBLANK(I562),\"\",IF(I562=EUconst_NA,\"\",INDEX(EUwideConstants!$H:$O,MATCH(Q562,EUwideConstants!$S:$S,0),MATCH(I562,CNTR_TierList,0))))","v":""},null,null,null,false]
[]
[null,null,null,"(g)",{"$f":"Translations!$B$534","v":"Précisions sur les facteurs de calcul:"}]
[]
[null,null,null,null,{"$f":"E556","v":"Facteur de calcul"},null,null,{"$f":"I556","v":"niveau appliqué"},{"$f":"Translations!$B$535","v":"valeur par défaut"},{"$f":"Translations!$B$536","v":"Unité"},{"$f":"Translations!$B$537","v":"Réf. la source"},{"$f":"Translations!$B$538","v":"Réf. de l’analyse"},{"$f":"Translations!$B$539","v":"Réf. de l’échantillonnage"},{"$f":"Translations!$B$540","v":"Fréquence d’analyse"},null,null,null,null,"default value or lab",null,null,null,"cond. form."]
[null,null,null,"i.","Pouvoir calorifique inférieur (PCI)",null,null,{"$f":"IF(OR(ISBLANK(I557),I557=EUconst_NA),\"\",I557)","v":""},null,null,null,null,null,null,null,null,null,null,{"$f":"IF(H567=\"\",\"\",IF(I557=EUconst_NA,\"\",INDEX(EUwideConstants!$AL:$AR,MATCH(Q557,EUwideConstants!$S:$S,0),MATCH(I557,CNTR_TierList,0))))","v":""},null,null,null,{"$f":"OR(H567=\"\",H567=EUconst_NA,J557=EUconst_NotApplicable)","v":true}]
[null,null,null,"ii.","Facteur d’émission (préliminaire)",null,null,"",null,null,null,null,null,null,null,null,null,null,{"$f":"IF(H568=\"\",\"\",IF(I558=EUconst_NA,\"\",INDEX(EUwideConstants!$AL:$AR,MATCH(Q558,EUwideConstants!$S:$S,0),MATCH(I558,CNTR_TierList,0))))","v":""},null,null,null,true]
[null,null,null,"iii.","Facteur d'oxydation",null,null,"",null,null,null,null,null,null,null,null,null,null,{"$f":"IF(H569=\"\",\"\",IF(I559=EUconst_NA,\"\",INDEX(EUwideConstants!$AL:$AR,MATCH(Q559,EUwideConstants!$S:$S,0),MATCH(I559,CNTR_TierList,0))))","v":""},null,null,null,true]
[null,null,null,"iv.","Facteur de conversion",null,null,"",null,null,null,null,null,null,null,null,null,null,{"$f":"IF(H570=\"\",\"\",IF(I560=EUconst_NA,\"\",INDEX(EUwideConstants!$AL:$AR,MATCH(Q560,EUwideConstants!$S:$S,0),MATCH(I560,CNTR_TierList,0))))","v":""},null,null,null,true]
[null,null,null,"v.","Teneur en carbone",null,null,"",null,null,null,null,null,null,null,null,null,null,{"$f":"IF(H571=\"\",\"\",IF(I561=EUconst_NA,\"\",INDEX(EUwideConstants!$AL:$AR,MATCH(Q561,EUwideConstants!$S:$S,0),MATCH(I561,CNTR_TierList,0))))","v":""},null,null,null,true]
[null,null,null,"vi.","Fraction issue de la biomasse (le cas échéant)",null,null,"",null,null,null,null,null,null,null,null,null,null,{"$f":"IF(H572=\"\",\"\",IF(I562=EUconst_NA,\"\",INDEX(EUwideConstants!$AL:$AR,MATCH(Q562,EUwideConstants!$S:$S,0),MATCH(I562,CNTR_TierList,0))))","v":""},null,null,null,true]
[]
[null,null,null,{"$f":"Translations!$B$545","v":"Remarques et explications:"}]
[]
[null,null,null,"(h)",{"$f":"Translations!$B$1198","v":"Remarques et justification lorsque les niveaux requis ne sont pas appliqués:"}]
[]
[]
[]
[]
[]
[null,null,null,null,null,null,null,null,null,null,null,null,null,null,null,null,null,null,"Check source stream category","auto","manual"]
[null,null,{"$f":"\"F\"&Q583","v":"F8"},{"$f":"CONCATENATE(Euconst_SourceStream,\" \", Q583,\":\")","v":"Flux 8:"},null,null,null,{"$f":"IF(INDEX(C_InstallationDescription!$F$194:$F$204,MATCH(C583,C_InstallationDescription!$E$194:$E$204,0))>0,INDEX(C_InstallationDescription!$F$194:$F$204,MATCH(C583,C_InstallationDescription!$E$194:$E$204,0)),\"\")","v":""},null,null,null,null,{"$f":"IF(S583=TRUE,IF(U583=\"\",T583,U583),\"\")","v":""},null,null,null,{"$f":"Q517+1","v":8},null,{"$f":"IF(INDEX(C_InstallationDescription!$M:$M,MATCH(Q585,C_InstallationDescription!$Q:$Q,0))=\"\",FALSE,TRUE)","v":false},{"$f":"IF(S583=TRUE,INDEX(C_InstallationDescription!$M:$M,MATCH(Q585,C_InstallationDescription!$Q:$Q,0)),\"\")","v":""},{"$f":"IF(S583=TRUE,IF(ISBLANK(INDEX(C_InstallationDescription!$N:$N,MATCH(Q585,C_InstallationDescription!$Q:$Q,0))),\"\",INDEX(C_InstallationDescription!$N:$N,MATCH(Q585,C_InstallationDescription!$Q:$Q,0))),\"\")","v":""}]
[]
[null,null,null,null,{"$f":"Translations!$B$437","v":"Type de flux:"},null,null,{"$f":"IF(INDEX(C_InstallationDescription!$I$194:$I$204,MATCH(C583,C_InstallationDescription!$E$194:$E$204,0))>0,INDEX(C_InstallationDescription!$I$194:$I$204,MATCH(C583,C_InstallationDescription!$E$194:$E$204,0)),\"\")","v":""},null,null,null,null,null,null,null,null,{"$f":"EUconst_CNTR_SourceCategory&C583","v":"SourceCategory_F8"}]
[null,null,null,null,{"$f":"Translations!$B$438","v":"Méthode applicable en vertu du MRR:"},null,null,{"$f":"IF(H585=\"\",\"\",INDEX(EUwideConstants!F:F,MATCH(H585,EUwideConstants!Q:Q,0)))","v":""}]
[null,null,null,null,{"$f":"Translations!$B$439","v":"Paramètre auquel s’applique l’incertitude:"},null,null,{"$f":"IF(H585=\"\",\"\",INDEX(EUwideConstants!E:E,MATCH(H585,EUwideConstants!Q:Q,0)))","v":""}]
[]
[null,null,null,null,{"$f":"IF(H583=\"\",\"\",INDEX(EUconst_SmallEmiSouStreamMsg,MATCH(Q589,EUconst_SmallEmiSouStream,0)))","v":""},null,null,null,null,null,null,null,null,null,null,null,{"$f":"IF(CNTR_SmallEmitter=TRUE,EUconst_CNTR_SmallEmitter,EUconst_CNTR_NoSmallEmitter) & IF((CNTR_Category)=\"\",\"C\",CNTR_Category) & \"_\" & IF(M583=\"\",1,MATCH(M583,SourceCategory,0))","v":"NoSmallEmitter_C_1"}]
[]
[null,null,null,{"$f":"Translations!$B$454","v":"Données d'activité:"}]
[]
[null,null,null,"(a)",{"$f":"Translations!$B$455","v":"Méthode de détermination des données d’activité:"}]
[]
[null,null,null,"i.",{"$f":"Translations!$B$456","v":"Méthode de détermination:"},null,null,null,null,null,null,null,null,null,null,null,null,null,null,null,null,null,{"$f":"IF(M583=\"\",\"\",IF(M583=INDEX(SourceCategory,3),1,IF(CNTR_InstHasCalculation=FALSE,0,2)))","v":""}]
[]
[null,null,null,null,null,{"$f":"Translations!$B$459","v":"Référence de la procédure utilisée pour déterminer les stocks à la fin de l'année:"},null,null,null,null,null,null,null,null,null,null,null,null,null,null,null,{"$f":"IF(OR(H583=\"\",ISBLANK(H595)),FALSE,IF(MATCH(H595,EUconst_ActivityDeterminationMethod,0)=2,TRUE,FALSE))","v":false},{"$f":"IF(V597=TRUE,0,W595)","v":""}]
[]
[null,null,null,"ii.",{"$f":"Translations!$B$462","v":"Instrument contrôlé par:"},null,null,null,null,null,null,null,null,null,null,null,null,null,null,null,null,null,{"$f":"W595","v":""}]
[]
[null,null,null,null,"a.",{"$f":"Translations!$B$465","v":"Veuillez confirmer que les conditions énoncées à l’article 29, paragraphe 1 sont satisfaites:"},null,null,null,null,null,null,null,null,null,null,null,null,null,null,null,{"$f":"IF(OR(H583=\"\",ISBLANK(H599)),FALSE,IF(MATCH(H599,EUconst_OwnerInstrument,0)=1,TRUE,FALSE))","v":false},{"$f":"IF(V601=TRUE,0,W595)","v":""}]
[]
[null,null,null,null,"b.",{"$f":"Translations!$B$468","v":"Utilisez-vous des factures pour déterminer la quantité de ce combustible ou de cette matière ?"},null,null,null,null,null,null,null,null,null,null,null,null,null,null,null,{"$f":"IF(OR(H583=\"\",ISBLANK(H599)),FALSE,IF(MATCH(H599,EUconst_OwnerInstrument,0)=1,TRUE,FALSE))","v":false},{"$f":"IF(V603=TRUE,0,W595)","v":""}]
[]
[null,null,null,null,"c.",{"$f":"Translations!$B$469","v":"Veuillez confirmer que le partenaire commercial et l’exploitant sont indépendants:"},null,null,null,null,null,null,null,null,null,null,null,null,null,null,null,{"$f":"IF(OR(H583=\"\",ISBLANK(H599)),FALSE,IF(MATCH(H599,EUconst_OwnerInstrument,0)=1,TRUE,FALSE))","v":false},{"$f":"IF(V605=TRUE,0,W595)","v":""}]
[]
[null,null,null,"(b)",{"$f":"Translations!$B$472","v":"Instruments de mesure utilisés:"}]
[]
[null,null,null,null,{"$f":"Translations!$B$475","v":"Commentaire/Description de la méthode, lorsque plusieurs instruments sont utilisés:"}]
[]
[]
[]
[]
[null,null,null,"(c)",{"$f":"Translations!$B$477","v":"Niveaux requis pour les données d’activité:"},null,null,{"$f":"IF(H585=\"\",\"\",IF(CNTR_Category=\"A\",INDEX(EUwideConstants!$G:$G,MATCH(Q614,EUwideConstants!$S:$S,0)),INDEX(EUwideConstants!$P:$P,MATCH(Q614,EUwideConstants!$S:$S,0))))","v":""},{"$f":"IF(H614=\"\",\"\",IF(S614=0,EUconst_NA,IF(ISERROR(S614),\"\",EUconst_MsgTierActivityLevel & \" \" &S614)))","v":""},null,null,null,null,null,null,null,{"$f":"EUconst_CNTR_ActivityData&H585","v":"ActivityData_"},null,{"$f":"IF(H614=\"\",\"\",IF(H614=EUconst_NA,\"\",INDEX(EUwideConstants!$H:$O,MATCH(Q614,EUwideConstants!$S:$S,0),MATCH(H614,CNTR_TierList,0))))","v":""}]
[null,null,null,"(d)",{"$f":"Translations!$B$478","v":"Niveau utilisé pour les données d’activité:"},null,null,null,{"$f":"IF(OR(ISBLANK(H615),H615=EUconst_NoTier),\"\",IF(S615=0,EUconst_NA,IF(ISERROR(S615),\"\",EUconst_MsgTierActivityLevel & \" \" &S615)))","v":""},null,null,null,null,null,null,null,{"$f":"EUconst_CNTR_ActivityData&H585","v":"ActivityData_"},null,{"$f":"IF(ISBLANK(H615),\"\",IF(H615=EUconst_NA,\"\",INDEX(EUwideConstants!$H:$O,MATCH(Q615,EUwideConstants!$S:$S,0),MATCH(H615,CNTR_TierList,0))))","v":""}]
[null,null,null,"(e)",{"$f":"Translations!$B$479","v":"Incertitude constatée:  "},null,null,null,{"$f":"Translations!$B$480","v":"Remarque:"}]
[]
[null,null,null,{"$f":"Translations!$B$490","v":"Facteurs de calcul:"}]
[]
[null,null,null,"(f)",{"$f":"Translations!$B$515","v":"Niveaux appliqués pour les facteurs de calcul:"}]
[]
[null,null,null,null,{"$f":"Translations!$B$516","v":"Facteur de calcul"},null,null,{"$f":"Translations!$B$517","v":"niveau requis"},{"$f":"Translations!$B$518","v":"niveau appliqué"},{"$f":"Translations!$B$519","v":"texte intégral pour le niveau appliqué"},null,null,null,null,null,null,null,null,"full text tier",null,null,null,"cond. form."]
[null,null,null,"i.",{"$f":"Translations!$B$520","v":"Pouvoir calorifique inférieur (PCI)"},null,null,{"$f":"IF(H585=\"\",\"\",IF(CNTR_Category=\"A\",INDEX(EUwideConstants!$G:$G,MATCH(Q623,EUwideConstants!$S:$S,0)),INDEX(EUwideConstants!$P:$P,MATCH(Q623,EUwideConstants!$S:$S,0))))","v":""},null,{"$f":"IF(OR(ISBLANK(I623),I623=EUconst_NoTier),\"\",IF(S623=0,EUconst_NotApplicable,IF(ISERROR(S623),\"\",S623)))","v":""},null,null,null,null,null,null,{"$f":"EUconst_CNTR_NCV&H585","v":"NCV_"},null,{"$f":"IF(ISBLANK(I623),\"\",IF(I623=EUconst_NA,\"\",INDEX(EUwideConstants!$H:$O,MATCH(Q623,EUwideConstants!$S:$S,0),MATCH(I623,CNTR_TierList,0))))","v":""},null,null,null,{"$f":"(H623=EUconst_NA)","v":false}]
[null,null,null,"ii.",{"$f":"Translations!$B$521","v":"Facteur d’émission (préliminaire)"},null,null,{"$f":"IF(H585=\"\",\"\",IF(CNTR_Category=\"A\",INDEX(EUwideConstants!$G:$G,MATCH(Q624,EUwideConstants!$S:$S,0)),INDEX(EUwideConstants!$P:$P,MATCH(Q624,EUwideConstants!$S:$S,0))))","v":""},null,"",null,null,null,null,null,null,{"$f":"EUconst_CNTR_EF&H585","v":"EF_"},null,{"$f":"IF(ISBLANK(I624),\"\",IF(I624=EUconst_NA,\"\",INDEX(EUwideConstants!$H:$O,MATCH(Q624,EUwideConstants!$S:$S,0),MATCH(I624,CNTR_TierList,0))))","v":""},null,null,null,false]
[null,null,null,"iii.",{"$f":"Translations!$B$522","v":"Facteur d'oxydation"},null,null,{"$f":"IF(H585=\"\",\"\",IF(CNTR_Category=\"A\",INDEX(EUwideConstants!$G:$G,MATCH(Q625,EUwideConstants!$S:$S,0)),INDEX(EUwideConstants!$P:$P,MATCH(Q625,EUwideConstants!$S:$S,0))))","v":""},null,"",null,null,null,null,null,null,{"$f":"EUconst_CNTR_OxidationFactor&H585","v":"OxF_"},null,{"$f":"IF(ISBLANK(I625),\"\",IF(I625=EUconst_NA,\"\",INDEX(EUwideConstants!$H:$O,MATCH(Q625,EUwideConstants!$S:$S,0),MATCH(I625,CNTR_TierList,0))))","v":""},null,null,null,false]
[null,null,null,"iv.",{"$f":"Translations!$B$523","v":"Facteur de conversion"},null,null,{"$f":"IF(H585=\"\",\"\",IF(CNTR_Category=\"A\",INDEX(EUwideConstants!$G:$G,MATCH(Q626,EUwideConstants!$S:$S,0)),INDEX(EUwideConstants!$P:$P,MATCH(Q626,EUwideConstants!$S:$S,0))))","v":""},null,"",null,null,null,null,null,null,{"$f":"EUconst_CNTR_ConversionFactor&H585","v":"ConvF_"},null,{"$f":"IF(ISBLANK(I626),\"\",IF(I626=EUconst_NA,\"\",INDEX(EUwideConstants!$H:$O,MATCH(Q626,EUwideConstants!$S:$S,0),MATCH(I626,CNTR_TierList,0))))","v":""},null,null,null,false]
[null,null,null,"v.",{"$f":"Translations!$B$524","v":"Teneur en carbone"},null,null,{"$f":"IF(H585=\"\",\"\",IF(CNTR_Category=\"A\",INDEX(EUwideConstants!$G:$G,MATCH(Q627,EUwideConstants!$S:$S,0)),INDEX(EUwideConstants!$P:$P,MATCH(Q627,EUwideConstants!$S:$S,0))))","v":""},null,"",null,null,null,null,null,null,{"$f":"EUconst_CNTR_CarbonContent&H585","v":"CarbC_"},null,{"$f":"IF(ISBLANK(I627),\"\",IF(I627=EUconst_NA,\"\",INDEX(EUwideConstants!$H:$O,MATCH(Q627,EUwideConstants!$S:$S,0),MATCH(I627,CNTR_TierList,0))))","v":""},null,null,null,false]
[null,null,null,"vi.",{"$f":"Translations!$B$525","v":"Fraction issue de la biomasse (le cas échéant)"},null,null,{"$f":"IF(H585=\"\",\"\",IF(CNTR_Category=\"A\",INDEX(EUwideConstants!$G:$G,MATCH(Q628,EUwideConstants!$S:$S,0)),INDEX(EUwideConstants!$P:$P,MATCH(Q628,EUwideConstants!$S:$S,0))))","v":""},null,"",null,null,null,null,null,null,{"$f":"EUconst_CNTR_BiomassContent&H585","v":"BioC_"},null,{"$f":"IF(ISBLANK(I628),\"\",IF(I628=EUconst_NA,\"\",INDEX(EUwideConstants!$H:$O,MATCH(Q628,EUwideConstants!$S:$S,0),MATCH(I628,CNTR_TierList,0))))","v":""},null,null,null,false]
[]
[null,null,null,"(g)",{"$f":"Translations!$B$534","v":"Précisions sur les facteurs de calcul:"}]
[]
[null,null,null,null,{"$f":"E622","v":"Facteur de calcul"},null,null,{"$f":"I622","v":"niveau appliqué"},{"$f":"Translations!$B$535","v":"valeur par défaut"},{"$f":"Translations!$B$536","v":"Unité"},{"$f":"Translations!$B$537","v":"Réf. la source"},{"$f":"Translations!$B$538","v":"Réf. de l’analyse"},{"$f":"Translations!$B$539","v":"Réf. de l’échantillonnage"},{"$f":"Translations!$B$540","v":"Fréquence d’analyse"},null,null,null,null,"default value or lab",null,null,null,"cond. form."]
[null,null,null,"i.","Pouvoir calorifique inférieur (PCI)",null,null,{"$f":"IF(OR(ISBLANK(I623),I623=EUconst_NA),\"\",I623)","v":""},null,null,null,null,null,null,null,null,null,null,{"$f":"IF(H633=\"\",\"\",IF(I623=EUconst_NA,\"\",INDEX(EUwideConstants!$AL:$AR,MATCH(Q623,EUwideConstants!$S:$S,0),MATCH(I623,CNTR_TierList,0))))","v":""},null,null,null,{"$f":"OR(H633=\"\",H633=EUconst_NA,J623=EUconst_NotApplicable)","v":true}]
[null,null,null,"ii.","Facteur d’émission (préliminaire)",null,null,"",null,null,null,null,null,null,null,null,null,null,{"$f":"IF(H634=\"\",\"\",IF(I624=EUconst_NA,\"\",INDEX(EUwideConstants!$AL:$AR,MATCH(Q624,EUwideConstants!$S:$S,0),MATCH(I624,CNTR_TierList,0))))","v":""},null,null,null,true]
[null,null,null,"iii.","Facteur d'oxydation",null,null,"",null,null,null,null,null,null,null,null,null,null,{"$f":"IF(H635=\"\",\"\",IF(I625=EUconst_NA,\"\",INDEX(EUwideConstants!$AL:$AR,MATCH(Q625,EUwideConstants!$S:$S,0),MATCH(I625,CNTR_TierList,0))))","v":""},null,null,null,true]
[null,null,null,"iv.","Facteur de conversion",null,null,"",null,null,null,null,null,null,null,null,null,null,{"$f":"IF(H636=\"\",\"\",IF(I626=EUconst_NA,\"\",INDEX(EUwideConstants!$AL:$AR,MATCH(Q626,EUwideConstants!$S:$S,0),MATCH(I626,CNTR_TierList,0))))","v":""},null,null,null,true]
[null,null,null,"v.","Teneur en carbone",null,null,"",null,null,null,null,null,null,null,null,null,null,{"$f":"IF(H637=\"\",\"\",IF(I627=EUconst_NA,\"\",INDEX(EUwideConstants!$AL:$AR,MATCH(Q627,EUwideConstants!$S:$S,0),MATCH(I627,CNTR_TierList,0))))","v":""},null,null,null,true]
[null,null,null,"vi.","Fraction issue de la biomasse (le cas échéant)",null,null,"",null,null,null,null,null,null,null,null,null,null,{"$f":"IF(H638=\"\",\"\",IF(I628=EUconst_NA,\"\",INDEX(EUwideConstants!$AL:$AR,MATCH(Q628,EUwideConstants!$S:$S,0),MATCH(I628,CNTR_TierList,0))))","v":""},null,null,null,true]
[]
[null,null,null,{"$f":"Translations!$B$545","v":"Remarques et explications:"}]
[]
[null,null,null,"(h)",{"$f":"Translations!$B$1198","v":"Remarques et justification lorsque les niveaux requis ne sont pas appliqués:"}]
[]
[]
[]
[]
[]
[null,null,null,null,null,null,null,null,null,null,null,null,null,null,null,null,null,null,"Check source stream category","auto","manual"]
[null,null,{"$f":"\"F\"&Q649","v":"F9"},{"$f":"CONCATENATE(Euconst_SourceStream,\" \", Q649,\":\")","v":"Flux 9:"},null,null,null,{"$f":"IF(INDEX(C_InstallationDescription!$F$194:$F$204,MATCH(C649,C_InstallationDescription!$E$194:$E$204,0))>0,INDEX(C_InstallationDescription!$F$194:$F$204,MATCH(C649,C_InstallationDescription!$E$194:$E$204,0)),\"\")","v":""},null,null,null,null,{"$f":"IF(S649=TRUE,IF(U649=\"\",T649,U649),\"\")","v":""},null,null,null,{"$f":"Q583+1","v":9},null,{"$f":"IF(INDEX(C_InstallationDescription!$M:$M,MATCH(Q651,C_InstallationDescription!$Q:$Q,0))=\"\",FALSE,TRUE)","v":false},{"$f":"IF(S649=TRUE,INDEX(C_InstallationDescription!$M:$M,MATCH(Q651,C_InstallationDescription!$Q:$Q,0)),\"\")","v":""},{"$f":"IF(S649=TRUE,IF(ISBLANK(INDEX(C_InstallationDescription!$N:$N,MATCH(Q651,C_InstallationDescription!$Q:$Q,0))),\"\",INDEX(C_InstallationDescription!$N:$N,MATCH(Q651,C_InstallationDescription!$Q:$Q,0))),\"\")","v":""}]
[]
[null,null,null,null,{"$f":"Translations!$B$437","v":"Type de flux:"},null,null,{"$f":"IF(INDEX(C_InstallationDescription!$I$194:$I$204,MATCH(C649,C_InstallationDescription!$E$194:$E$204,0))>0,INDEX(C_InstallationDescription!$I$194:$I$204,MATCH(C649,C_InstallationDescription!$E$194:$E$204,0)),\"\")","v":""},null,null,null,null,null,null,null,null,{"$f":"EUconst_CNTR_SourceCategory&C649","v":"SourceCategory_F9"}]
[null,null,null,null,{"$f":"Translations!$B$438","v":"Méthode applicable en vertu du MRR:"},null,null,{"$f":"IF(H651=\"\",\"\",INDEX(EUwideConstants!F:F,MATCH(H651,EUwideConstants!Q:Q,0)))","v":""}]
[null,null,null,null,{"$f":"Translations!$B$439","v":"Paramètre auquel s’applique l’incertitude:"},null,null,{"$f":"IF(H651=\"\",\"\",INDEX(EUwideConstants!E:E,MATCH(H651,EUwideConstants!Q:Q,0)))","v":""}]
[]
[null,null,null,null,{"$f":"IF(H649=\"\",\"\",INDEX(EUconst_SmallEmiSouStreamMsg,MATCH(Q655,EUconst_SmallEmiSouStream,0)))","v":""},null,null,null,null,null,null,null,null,null,null,null,{"$f":"IF(CNTR_SmallEmitter=TRUE,EUconst_CNTR_SmallEmitter,EUconst_CNTR_NoSmallEmitter) & IF((CNTR_Category)=\"\",\"C\",CNTR_Category) & \"_\" & IF(M649=\"\",1,MATCH(M649,SourceCategory,0))","v":"NoSmallEmitter_C_1"}]
[]
[null,null,null,{"$f":"Translations!$B$454","v":"Données d'activité:"}]
[]
[null,null,null,"(a)",{"$f":"Translations!$B$455","v":"Méthode de détermination des données d’activité:"}]
[]
[null,null,null,"i.",{"$f":"Translations!$B$456","v":"Méthode de détermination:"},null,null,null,null,null,null,null,null,null,null,null,null,null,null,null,null,null,{"$f":"IF(M649=\"\",\"\",IF(M649=INDEX(SourceCategory,3),1,IF(CNTR_InstHasCalculation=FALSE,0,2)))","v":""}]
[]
[null,null,null,null,null,{"$f":"Translations!$B$459","v":"Référence de la procédure utilisée pour déterminer les stocks à la fin de l'année:"},null,null,null,null,null,null,null,null,null,null,null,null,null,null,null,{"$f":"IF(OR(H649=\"\",ISBLANK(H661)),FALSE,IF(MATCH(H661,EUconst_ActivityDeterminationMethod,0)=2,TRUE,FALSE))","v":false},{"$f":"IF(V663=TRUE,0,W661)","v":""}]
[]
[null,null,null,"ii.",{"$f":"Translations!$B$462","v":"Instrument contrôlé par:"},null,null,null,null,null,null,null,null,null,null,null,null,null,null,null,null,null,{"$f":"W661","v":""}]
[]
[null,null,null,null,"a.",{"$f":"Translations!$B$465","v":"Veuillez confirmer que les conditions énoncées à l’article 29, paragraphe 1 sont satisfaites:"},null,null,null,null,null,null,null,null,null,null,null,null,null,null,null,{"$f":"IF(OR(H649=\"\",ISBLANK(H665)),FALSE,IF(MATCH(H665,EUconst_OwnerInstrument,0)=1,TRUE,FALSE))","v":false},{"$f":"IF(V667=TRUE,0,W661)","v":""}]
[]
[null,null,null,null,"b.",{"$f":"Translations!$B$468","v":"Utilisez-vous des factures pour déterminer la quantité de ce combustible ou de cette matière ?"},null,null,null,null,null,null,null,null,null,null,null,null,null,null,null,{"$f":"IF(OR(H649=\"\",ISBLANK(H665)),FALSE,IF(MATCH(H665,EUconst_OwnerInstrument,0)=1,TRUE,FALSE))","v":false},{"$f":"IF(V669=TRUE,0,W661)","v":""}]
[]
[null,null,null,null,"c.",{"$f":"Translations!$B$469","v":"Veuillez confirmer que le partenaire commercial et l’exploitant sont indépendants:"},null,null,null,null,null,null,null,null,null,null,null,null,null,null,null,{"$f":"IF(OR(H649=\"\",ISBLANK(H665)),FALSE,IF(MATCH(H665,EUconst_OwnerInstrument,0)=1,TRUE,FALSE))","v":false},{"$f":"IF(V671=TRUE,0,W661)","v":""}]
[]
[null,null,null,"(b)",{"$f":"Translations!$B$472","v":"Instruments de mesure utilisés:"}]
[]
[null,null,null,null,{"$f":"Translations!$B$475","v":"Commentaire/Description de la méthode, lorsque plusieurs instruments sont utilisés:"}]
[]
[]
[]
[]
[null,null,null,"(c)",{"$f":"Translations!$B$477","v":"Niveaux requis pour les données d’activité:"},null,null,{"$f":"IF(H651=\"\",\"\",IF(CNTR_Category=\"A\",INDEX(EUwideConstants!$G:$G,MATCH(Q680,EUwideConstants!$S:$S,0)),INDEX(EUwideConstants!$P:$P,MATCH(Q680,EUwideConstants!$S:$S,0))))","v":""},{"$f":"IF(H680=\"\",\"\",IF(S680=0,EUconst_NA,IF(ISERROR(S680),\"\",EUconst_MsgTierActivityLevel & \" \" &S680)))","v":""},null,null,null,null,null,null,null,{"$f":"EUconst_CNTR_ActivityData&H651","v":"ActivityData_"},null,{"$f":"IF(H680=\"\",\"\",IF(H680=EUconst_NA,\"\",INDEX(EUwideConstants!$H:$O,MATCH(Q680,EUwideConstants!$S:$S,0),MATCH(H680,CNTR_TierList,0))))","v":""}]
[null,null,null,"(d)",{"$f":"Translations!$B$478","v":"Niveau utilisé pour les données d’activité:"},null,null,null,{"$f":"IF(OR(ISBLANK(H681),H681=EUconst_NoTier),\"\",IF(S681=0,EUconst_NA,IF(ISERROR(S681),\"\",EUconst_MsgTierActivityLevel & \" \" &S681)))","v":""},null,null,null,null,null,null,null,{"$f":"EUconst_CNTR_ActivityData&H651","v":"ActivityData_"},null,{"$f":"IF(ISBLANK(H681),\"\",IF(H681=EUconst_NA,\"\",INDEX(EUwideConstants!$H:$O,MATCH(Q681,EUwideConstants!$S:$S,0),MATCH(H681,CNTR_TierList,0))))","v":""}]
[null,null,null,"(e)",{"$f":"Translations!$B$479","v":"Incertitude constatée:  "},null,null,null,{"$f":"Translations!$B$480","v":"Remarque:"}]
[]
[null,null,null,{"$f":"Translations!$B$490","v":"Facteurs de calcul:"}]
[]
[null,null,null,"(f)",{"$f":"Translations!$B$515","v":"Niveaux appliqués pour les facteurs de calcul:"}]
[]
[null,null,null,null,{"$f":"Translations!$B$516","v":"Facteur de calcul"},null,null,{"$f":"Translations!$B$517","v":"niveau requis"},{"$f":"Translations!$B$518","v":"niveau appliqué"},{"$f":"Translations!$B$519","v":"texte intégral pour le niveau appliqué"},null,null,null,null,null,null,null,null,"full text tier",null,null,null,"cond. form."]
[null,null,null,"i.",{"$f":"Translations!$B$520","v":"Pouvoir calorifique inférieur (PCI)"},null,null,{"$f":"IF(H651=\"\",\"\",IF(CNTR_Category=\"A\",INDEX(EUwideConstants!$G:$G,MATCH(Q689,EUwideConstants!$S:$S,0)),INDEX(EUwideConstants!$P:$P,MATCH(Q689,EUwideConstants!$S:$S,0))))","v":""},null,{"$f":"IF(OR(ISBLANK(I689),I689=EUconst_NoTier),\"\",IF(S689=0,EUconst_NotApplicable,IF(ISERROR(S689),\"\",S689)))","v":""},null,null,null,null,null,null,{"$f":"EUconst_CNTR_NCV&H651","v":"NCV_"},null,{"$f":"IF(ISBLANK(I689),\"\",IF(I689=EUconst_NA,\"\",INDEX(EUwideConstants!$H:$O,MATCH(Q689,EUwideConstants!$S:$S,0),MATCH(I689,CNTR_TierList,0))))","v":""},null,null,null,{"$f":"(H689=EUconst_NA)","v":false}]
[null,null,null,"ii.",{"$f":"Translations!$B$521","v":"Facteur d’émission (préliminaire)"},null,null,{"$f":"IF(H651=\"\",\"\",IF(CNTR_Category=\"A\",INDEX(EUwideConstants!$G:$G,MATCH(Q690,EUwideConstants!$S:$S,0)),INDEX(EUwideConstants!$P:$P,MATCH(Q690,EUwideConstants!$S:$S,0))))","v":""},null,"",null,null,null,null,null,null,{"$f":"EUconst_CNTR_EF&H651","v":"EF_"},null,{"$f":"IF(ISBLANK(I690),\"\",IF(I690=EUconst_NA,\"\",INDEX(EUwideConstants!$H:$O,MATCH(Q690,EUwideConstants!$S:$S,0),MATCH(I690,CNTR_TierList,0))))","v":""},null,null,null,false]
[null,null,null,"iii.",{"$f":"Translations!$B$522","v":"Facteur d'oxydation"},null,null,{"$f":"IF(H651=\"\",\"\",IF(CNTR_Category=\"A\",INDEX(EUwideConstants!$G:$G,MATCH(Q691,EUwideConstants!$S:$S,0)),INDEX(EUwideConstants!$P:$P,MATCH(Q691,EUwideConstants!$S:$S,0))))","v":""},null,"",null,null,null,null,null,null,{"$f":"EUconst_CNTR_OxidationFactor&H651","v":"OxF_"},null,{"$f":"IF(ISBLANK(I691),\"\",IF(I691=EUconst_NA,\"\",INDEX(EUwideConstants!$H:$O,MATCH(Q691,EUwideConstants!$S:$S,0),MATCH(I691,CNTR_TierList,0))))","v":""},null,null,null,false]
[null,null,null,"iv.",{"$f":"Translations!$B$523","v":"Facteur de conversion"},null,null,{"$f":"IF(H651=\"\",\"\",IF(CNTR_Category=\"A\",INDEX(EUwideConstants!$G:$G,MATCH(Q692,EUwideConstants!$S:$S,0)),INDEX(EUwideConstants!$P:$P,MATCH(Q692,EUwideConstants!$S:$S,0))))","v":""},null,"",null,null,null,null,null,null,{"$f":"EUconst_CNTR_ConversionFactor&H651","v":"ConvF_"},null,{"$f":"IF(ISBLANK(I692),\"\",IF(I692=EUconst_NA,\"\",INDEX(EUwideConstants!$H:$O,MATCH(Q692,EUwideConstants!$S:$S,0),MATCH(I692,CNTR_TierList,0))))","v":""},null,null,null,false]
[null,null,null,"v.",{"$f":"Translations!$B$524","v":"Teneur en carbone"},null,null,{"$f":"IF(H651=\"\",\"\",IF(CNTR_Category=\"A\",INDEX(EUwideConstants!$G:$G,MATCH(Q693,EUwideConstants!$S:$S,0)),INDEX(EUwideConstants!$P:$P,MATCH(Q693,EUwideConstants!$S:$S,0))))","v":""},null,"",null,null,null,null,null,null,{"$f":"EUconst_CNTR_CarbonContent&H651","v":"CarbC_"},null,{"$f":"IF(ISBLANK(I693),\"\",IF(I693=EUconst_NA,\"\",INDEX(EUwideConstants!$H:$O,MATCH(Q693,EUwideConstants!$S:$S,0),MATCH(I693,CNTR_TierList,0))))","v":""},null,null,null,false]
[null,null,null,"vi.",{"$f":"Translations!$B$525","v":"Fraction issue de la biomasse (le cas échéant)"},null,null,{"$f":"IF(H651=\"\",\"\",IF(CNTR_Category=\"A\",INDEX(EUwideConstants!$G:$G,MATCH(Q694,EUwideConstants!$S:$S,0)),INDEX(EUwideConstants!$P:$P,MATCH(Q694,EUwideConstants!$S:$S,0))))","v":""},null,"",null,null,null,null,null,null,{"$f":"EUconst_CNTR_BiomassContent&H651","v":"BioC_"},null,{"$f":"IF(ISBLANK(I694),\"\",IF(I694=EUconst_NA,\"\",INDEX(EUwideConstants!$H:$O,MATCH(Q694,EUwideConstants!$S:$S,0),MATCH(I694,CNTR_TierList,0))))","v":""},null,null,null,false]
[]
[null,null,null,"(g)",{"$f":"Translations!$B$534","v":"Précisions sur les facteurs de calcul:"}]
[]
[null,null,null,null,{"$f":"E688","v":"Facteur de calcul"},null,null,{"$f":"I688","v":"niveau appliqué"},{"$f":"Translations!$B$535","v":"valeur par défaut"},{"$f":"Translations!$B$536","v":"Unité"},{"$f":"Translations!$B$537","v":"Réf. la source"},{"$f":"Translations!$B$538","v":"Réf. de l’analyse"},{"$f":"Translations!$B$539","v":"Réf. de l’échantillonnage"},{"$f":"Translations!$B$540","v":"Fréquence d’analyse"},null,null,null,null,"default value or lab",null,null,null,"cond. form."]
[null,null,null,"i.","Pouvoir calorifique inférieur (PCI)",null,null,{"$f":"IF(OR(ISBLANK(I689),I689=EUconst_NA),\"\",I689)","v":""},null,null,null,null,null,null,null,null,null,null,{"$f":"IF(H699=\"\",\"\",IF(I689=EUconst_NA,\"\",INDEX(EUwideConstants!$AL:$AR,MATCH(Q689,EUwideConstants!$S:$S,0),MATCH(I689,CNTR_TierList,0))))","v":""},null,null,null,{"$f":"OR(H699=\"\",H699=EUconst_NA,J689=EUconst_NotApplicable)","v":true}]
[null,null,null,"ii.","Facteur d’émission (préliminaire)",null,null,"",null,null,null,null,null,null,null,null,null,null,{"$f":"IF(H700=\"\",\"\",IF(I690=EUconst_NA,\"\",INDEX(EUwideConstants!$AL:$AR,MATCH(Q690,EUwideConstants!$S:$S,0),MATCH(I690,CNTR_TierList,0))))","v":""},null,null,null,true]
[null,null,null,"iii.","Facteur d'oxydation",null,null,"",null,null,null,null,null,null,null,null,null,null,{"$f":"IF(H701=\"\",\"\",IF(I691=EUconst_NA,\"\",INDEX(EUwideConstants!$AL:$AR,MATCH(Q691,EUwideConstants!$S:$S,0),MATCH(I691,CNTR_TierList,0))))","v":""},null,null,null,true]
[null,null,null,"iv.","Facteur de conversion",null,null,"",null,null,null,null,null,null,null,null,null,null,{"$f":"IF(H702=\"\",\"\",IF(I692=EUconst_NA,\"\",INDEX(EUwideConstants!$AL:$AR,MATCH(Q692,EUwideConstants!$S:$S,0),MATCH(I692,CNTR_TierList,0))))","v":""},null,null,null,true]
[null,null,null,"v.","Teneur en carbone",null,null,"",null,null,null,null,null,null,null,null,null,null,{"$f":"IF(H703=\"\",\"\",IF(I693=EUconst_NA,\"\",INDEX(EUwideConstants!$AL:$AR,MATCH(Q693,EUwideConstants!$S:$S,0),MATCH(I693,CNTR_TierList,0))))","v":""},null,null,null,true]
[null,null,null,"vi.","Fraction issue de la biomasse (le cas échéant)",null,null,"",null,null,null,null,null,null,null,null,null,null,{"$f":"IF(H704=\"\",\"\",IF(I694=EUconst_NA,\"\",INDEX(EUwideConstants!$AL:$AR,MATCH(Q694,EUwideConstants!$S:$S,0),MATCH(I694,CNTR_TierList,0))))","v":""},null,null,null,true]
[]
[null,null,null,{"$f":"Translations!$B$545","v":"Remarques et explications:"}]
[]
[null,null,null,"(h)",{"$f":"Translations!$B$1198","v":"Remarques et justification lorsque les niveaux requis ne sont pas appliqués:"}]
[]
[]
[]
[]
[]
["ADD_CompleteSourceStream",null,null,null,null,null,null,null,null,null,null,null,null,null,null,null,null,null,"Check source stream category","auto","manual"]
[null,null,{"$f":"\"F\"&Q715","v":"F10"},{"$f":"CONCATENATE(Euconst_SourceStream,\" \", Q715,\":\")","v":"Flux 10:"},null,null,null,{"$f":"IF(INDEX(C_InstallationDescription!$F$194:$F$204,MATCH(C715,C_InstallationDescription!$E$194:$E$204,0))>0,INDEX(C_InstallationDescription!$F$194:$F$204,MATCH(C715,C_InstallationDescription!$E$194:$E$204,0)),\"\")","v":""},null,null,null,null,{"$f":"IF(S715=TRUE,IF(U715=\"\",T715,U715),\"\")","v":""},null,null,null,{"$f":"Q649+1","v":10},null,{"$f":"IF(INDEX(C_InstallationDescription!$M:$M,MATCH(Q717,C_InstallationDescription!$Q:$Q,0))=\"\",FALSE,TRUE)","v":false},{"$f":"IF(S715=TRUE,INDEX(C_InstallationDescription!$M:$M,MATCH(Q717,C_InstallationDescription!$Q:$Q,0)),\"\")","v":""},{"$f":"IF(S715=TRUE,IF(ISBLANK(INDEX(C_InstallationDescription!$N:$N,MATCH(Q717,C_InstallationDescription!$Q:$Q,0))),\"\",INDEX(C_InstallationDescription!$N:$N,MATCH(Q717,C_InstallationDescription!$Q:$Q,0))),\"\")","v":""}]
[]
[null,null,null,null,{"$f":"Translations!$B$437","v":"Type de flux:"},null,null,{"$f":"IF(INDEX(C_InstallationDescription!$I$194:$I$204,MATCH(C715,C_InstallationDescription!$E$194:$E$204,0))>0,INDEX(C_InstallationDescription!$I$194:$I$204,MATCH(C715,C_InstallationDescription!$E$194:$E$204,0)),\"\")","v":""},null,null,null,null,null,null,null,null,{"$f":"EUconst_CNTR_SourceCategory&C715","v":"SourceCategory_F10"}]
[null,null,null,null,{"$f":"Translations!$B$438","v":"Méthode applicable en vertu du MRR:"},null,null,{"$f":"IF(H717=\"\",\"\",INDEX(EUwideConstants!$F$265:$F$335,MATCH(H717,EUConst_TierActivityListNames,0)))","v":""}]
[null,null,null,null,{"$f":"Translations!$B$439","v":"Paramètre auquel s’applique l’incertitude:"},null,null,{"$f":"IF(H717=\"\",\"\",INDEX(EUwideConstants!$E$265:$E$335,MATCH(H717,EUConst_TierActivityListNames,0)))","v":""}]
[]
[null,null,null,null,{"$f":"IF(H715=\"\",\"\",INDEX(EUconst_SmallEmiSouStreamMsg,MATCH(Q721,EUconst_SmallEmiSouStream,0)))","v":""},null,null,null,null,null,null,null,null,null,null,null,{"$f":"IF(CNTR_SmallEmitter=TRUE,EUconst_CNTR_SmallEmitter,EUconst_CNTR_NoSmallEmitter) & IF((CNTR_Category)=\"\",\"C\",CNTR_Category) & \"_\" & IF(M715=\"\",1,MATCH(M715,SourceCategory,0))","v":"NoSmallEmitter_C_1"}]
[]
[null,null,null,{"$f":"Translations!$B$454","v":"Données d'activité:"}]
[]
[null,null,null,"(a)",{"$f":"Translations!$B$455","v":"Méthode de détermination des données d’activité:"}]
[]
[null,null,null,"i.",{"$f":"Translations!$B$456","v":"Méthode de détermination:"},null,null,null,null,null,null,null,null,null,null,null,null,null,null,null,null,null,{"$f":"IF(M715=\"\",\"\",IF(M715=INDEX(SourceCategory,3),1,IF(CNTR_InstHasCalculation=FALSE,0,2)))","v":""}]
[]
[null,null,null,null,null,{"$f":"Translations!$B$459","v":"Référence de la procédure utilisée pour déterminer les stocks à la fin de l'année:"},null,null,null,null,null,null,null,null,null,null,null,null,null,null,null,{"$f":"IF(OR(H715=\"\",ISBLANK(H727)),FALSE,IF(MATCH(H727,EUconst_ActivityDeterminationMethod,0)=2,TRUE,FALSE))","v":false},{"$f":"IF(V729=TRUE,0,W727)","v":""}]
[]
[null,null,null,"ii.",{"$f":"Translations!$B$462","v":"Instrument contrôlé par:"},null,null,null,null,null,null,null,null,null,null,null,null,null,null,null,null,null,{"$f":"W727","v":""}]
[]
[null,null,null,null,"a.",{"$f":"Translations!$B$465","v":"Veuillez confirmer que les conditions énoncées à l’article 29, paragraphe 1 sont satisfaites:"},null,null,null,null,null,null,null,null,null,null,null,null,null,null,null,{"$f":"IF(OR(H715=\"\",ISBLANK(H731)),FALSE,IF(MATCH(H731,EUconst_OwnerInstrument,0)=1,TRUE,FALSE))","v":false},{"$f":"IF(V733=TRUE,0,W727)","v":""}]
[]
[null,null,null,null,"b.",{"$f":"Translations!$B$468","v":"Utilisez-vous des factures pour déterminer la quantité de ce combustible ou de cette matière ?"},null,null,null,null,null,null,null,null,null,null,null,null,null,null,null,{"$f":"IF(OR(H715=\"\",ISBLANK(H731)),FALSE,IF(MATCH(H731,EUconst_OwnerInstrument,0)=1,TRUE,FALSE))","v":false},{"$f":"IF(V735=TRUE,0,W727)","v":""}]
[]
[null,null,null,null,"c.",{"$f":"Translations!$B$469","v":"Veuillez confirmer que le partenaire commercial et l’exploitant sont indépendants:"},null,null,null,null,null,null,null,null,null,null,null,null,null,null,null,{"$f":"IF(OR(H715=\"\",ISBLANK(H731)),FALSE,IF(MATCH(H731,EUconst_OwnerInstrument,0)=1,TRUE,FALSE))","v":false},{"$f":"IF(V737=TRUE,0,W727)","v":""}]
[]
[null,null,null,"(b)",{"$f":"Translations!$B$472","v":"Instruments de mesure utilisés:"}]
[]
[null,null,null,null,{"$f":"Translations!$B$475","v":"Commentaire/Description de la méthode, lorsque plusieurs instruments sont utilisés:"}]
[]
[]
[]
[]
[null,null,null,"(c)",{"$f":"Translations!$B$477","v":"Niveaux requis pour les données d’activité:"},null,null,{"$f":"IF(H717=\"\",\"\",IF(CNTR_Category=\"A\",INDEX(EUwideConstants!$G:$G,MATCH(Q746,EUwideConstants!$S:$S,0)),INDEX(EUwideConstants!$P:$P,MATCH(Q746,EUwideConstants!$S:$S,0))))","v":""},{"$f":"IF(H746=\"\",\"\",IF(S746=0,EUconst_NA,IF(ISERROR(S746),\"\",EUconst_MsgTierActivityLevel & \" \" &S746)))","v":""},null,null,null,null,null,null,null,{"$f":"EUconst_CNTR_ActivityData&H717","v":"ActivityData_"},null,{"$f":"IF(H746=\"\",\"\",IF(H746=EUconst_NA,\"\",INDEX(EUwideConstants!$H:$O,MATCH(Q746,EUwideConstants!$S:$S,0),MATCH(H746,CNTR_TierList,0))))","v":""}]
[null,null,null,"(d)",{"$f":"Translations!$B$478","v":"Niveau utilisé pour les données d’activité:"},null,null,null,{"$f":"IF(OR(ISBLANK(H747),H747=EUconst_NoTier),\"\",IF(S747=0,EUconst_NA,IF(ISERROR(S747),\"\",EUconst_MsgTierActivityLevel & \" \" &S747)))","v":""},null,null,null,null,null,null,null,{"$f":"EUconst_CNTR_ActivityData&H717","v":"ActivityData_"},null,{"$f":"IF(ISBLANK(H747),\"\",IF(H747=EUconst_NA,\"\",INDEX(EUwideConstants!$H:$O,MATCH(Q747,EUwideConstants!$S:$S,0),MATCH(H747,CNTR_TierList,0))))","v":""}]
[null,null,null,"(e)",{"$f":"Translations!$B$479","v":"Incertitude constatée:  "},null,null,null,{"$f":"Translations!$B$480","v":"Remarque:"}]
[]
[null,null,null,{"$f":"Translations!$B$490","v":"Facteurs de calcul:"}]
[]
[null,null,null,"(f)",{"$f":"Translations!$B$515","v":"Niveaux appliqués pour les facteurs de calcul:"}]
[]
[null,null,null,null,{"$f":"Translations!$B$516","v":"Facteur de calcul"},null,null,{"$f":"Translations!$B$517","v":"niveau requis"},{"$f":"Translations!$B$518","v":"niveau appliqué"},{"$f":"Translations!$B$519","v":"texte intégral pour le niveau appliqué"},null,null,null,null,null,null,null,null,"full text tier",null,null,null,"cond. form."]
[null,null,null,"i.",{"$f":"Translations!$B$520","v":"Pouvoir calorifique inférieur (PCI)"},null,null,{"$f":"IF(H717=\"\",\"\",IF(CNTR_Category=\"A\",INDEX(EUwideConstants!$G:$G,MATCH(Q755,EUwideConstants!$S:$S,0)),INDEX(EUwideConstants!$P:$P,MATCH(Q755,EUwideConstants!$S:$S,0))))","v":""},null,{"$f":"IF(OR(ISBLANK(I755),I755=EUconst_NoTier),\"\",IF(S755=0,EUconst_NotApplicable,IF(ISERROR(S755),\"\",S755)))","v":""},null,null,null,null,null,null,{"$f":"EUconst_CNTR_NCV&H717","v":"NCV_"},null,{"$f":"IF(ISBLANK(I755),\"\",IF(I755=EUconst_NA,\"\",INDEX(EUwideConstants!$H:$O,MATCH(Q755,EUwideConstants!$S:$S,0),MATCH(I755,CNTR_TierList,0))))","v":""},null,null,null,{"$f":"(H755=EUconst_NA)","v":false}]
[null,null,null,"ii.",{"$f":"Translations!$B$521","v":"Facteur d’émission (préliminaire)"},null,null,{"$f":"IF(H717=\"\",\"\",IF(CNTR_Category=\"A\",INDEX(EUwideConstants!$G:$G,MATCH(Q756,EUwideConstants!$S:$S,0)),INDEX(EUwideConstants!$P:$P,MATCH(Q756,EUwideConstants!$S:$S,0))))","v":""},null,"",null,null,null,null,null,null,{"$f":"EUconst_CNTR_EF&H717","v":"EF_"},null,{"$f":"IF(ISBLANK(I756),\"\",IF(I756=EUconst_NA,\"\",INDEX(EUwideConstants!$H:$O,MATCH(Q756,EUwideConstants!$S:$S,0),MATCH(I756,CNTR_TierList,0))))","v":""},null,null,null,false]
[null,null,null,"iii.",{"$f":"Translations!$B$522","v":"Facteur d'oxydation"},null,null,{"$f":"IF(H717=\"\",\"\",IF(CNTR_Category=\"A\",INDEX(EUwideConstants!$G:$G,MATCH(Q757,EUwideConstants!$S:$S,0)),INDEX(EUwideConstants!$P:$P,MATCH(Q757,EUwideConstants!$S:$S,0))))","v":""},null,"",null,null,null,null,null,null,{"$f":"EUconst_CNTR_OxidationFactor&H717","v":"OxF_"},null,{"$f":"IF(ISBLANK(I757),\"\",IF(I757=EUconst_NA,\"\",INDEX(EUwideConstants!$H:$O,MATCH(Q757,EUwideConstants!$S:$S,0),MATCH(I757,CNTR_TierList,0))))","v":""},null,null,null,false]
[null,null,null,"iv.",{"$f":"Translations!$B$523","v":"Facteur de conversion"},null,null,{"$f":"IF(H717=\"\",\"\",IF(CNTR_Category=\"A\",INDEX(EUwideConstants!$G:$G,MATCH(Q758,EUwideConstants!$S:$S,0)),INDEX(EUwideConstants!$P:$P,MATCH(Q758,EUwideConstants!$S:$S,0))))","v":""},null,"",null,null,null,null,null,null,{"$f":"EUconst_CNTR_ConversionFactor&H717","v":"ConvF_"},null,{"$f":"IF(ISBLANK(I758),\"\",IF(I758=EUconst_NA,\"\",INDEX(EUwideConstants!$H:$O,MATCH(Q758,EUwideConstants!$S:$S,0),MATCH(I758,CNTR_TierList,0))))","v":""},null,null,null,false]
[null,null,null,"v.",{"$f":"Translations!$B$524","v":"Teneur en carbone"},null,null,{"$f":"IF(H717=\"\",\"\",IF(CNTR_Category=\"A\",INDEX(EUwideConstants!$G:$G,MATCH(Q759,EUwideConstants!$S:$S,0)),INDEX(EUwideConstants!$P:$P,MATCH(Q759,EUwideConstants!$S:$S,0))))","v":""},null,"",null,null,null,null,null,null,{"$f":"EUconst_CNTR_CarbonContent&H717","v":"CarbC_"},null,{"$f":"IF(ISBLANK(I759),\"\",IF(I759=EUconst_NA,\"\",INDEX(EUwideConstants!$H:$O,MATCH(Q759,EUwideConstants!$S:$S,0),MATCH(I759,CNTR_TierList,0))))","v":""},null,null,null,false]
[null,null,null,"vi.",{"$f":"Translations!$B$525","v":"Fraction issue de la biomasse (le cas échéant)"},null,null,{"$f":"IF(H717=\"\",\"\",IF(CNTR_Category=\"A\",INDEX(EUwideConstants!$G:$G,MATCH(Q760,EUwideConstants!$S:$S,0)),INDEX(EUwideConstants!$P:$P,MATCH(Q760,EUwideConstants!$S:$S,0))))","v":""},null,"",null,null,null,null,null,null,{"$f":"EUconst_CNTR_BiomassContent&H717","v":"BioC_"},null,{"$f":"IF(ISBLANK(I760),\"\",IF(I760=EUconst_NA,\"\",INDEX(EUwideConstants!$H:$O,MATCH(Q760,EUwideConstants!$S:$S,0),MATCH(I760,CNTR_TierList,0))))","v":""},null,null,null,false]
[]
[null,null,null,"(g)",{"$f":"Translations!$B$534","v":"Précisions sur les facteurs de calcul:"}]
[]
[null,null,null,null,{"$f":"E754","v":"Facteur de calcul"},null,null,{"$f":"I754","v":"niveau appliqué"},{"$f":"Translations!$B$535","v":"valeur par défaut"},{"$f":"Translations!$B$536","v":"Unité"},{"$f":"Translations!$B$537","v":"Réf. la source"},{"$f":"Translations!$B$538","v":"Réf. de l’analyse"},{"$f":"Translations!$B$539","v":"Réf. de l’échantillonnage"},{"$f":"Translations!$B$540","v":"Fréquence d’analyse"},null,null,null,null,"default value or lab",null,null,null,"cond. form."]
[null,null,null,"i.","Pouvoir calorifique inférieur (PCI)",null,null,{"$f":"IF(OR(ISBLANK(I755),I755=EUconst_NA),\"\",I755)","v":""},null,null,null,null,null,null,null,null,null,null,{"$f":"IF(H765=\"\",\"\",IF(I755=EUconst_NA,\"\",INDEX(EUwideConstants!$AL:$AR,MATCH(Q755,EUwideConstants!$S:$S,0),MATCH(I755,CNTR_TierList,0))))","v":""},null,null,null,{"$f":"OR(H765=\"\",H765=EUconst_NA,J755=EUconst_NotApplicable)","v":true}]
[null,null,null,"ii.","Facteur d’émission (préliminaire)",null,null,"",null,null,null,null,null,null,null,null,null,null,{"$f":"IF(H766=\"\",\"\",IF(I756=EUconst_NA,\"\",INDEX(EUwideConstants!$AL:$AR,MATCH(Q756,EUwideConstants!$S:$S,0),MATCH(I756,CNTR_TierList,0))))","v":""},null,null,null,true]
[null,null,null,"iii.","Facteur d'oxydation",null,null,"",null,null,null,null,null,null,null,null,null,null,{"$f":"IF(H767=\"\",\"\",IF(I757=EUconst_NA,\"\",INDEX(EUwideConstants!$AL:$AR,MATCH(Q757,EUwideConstants!$S:$S,0),MATCH(I757,CNTR_TierList,0))))","v":""},null,null,null,true]
[null,null,null,"iv.","Facteur de conversion",null,null,"",null,null,null,null,null,null,null,null,null,null,{"$f":"IF(H768=\"\",\"\",IF(I758=EUconst_NA,\"\",INDEX(EUwideConstants!$AL:$AR,MATCH(Q758,EUwideConstants!$S:$S,0),MATCH(I758,CNTR_TierList,0))))","v":""},null,null,null,true]
[null,null,null,"v.","Teneur en carbone",null,null,"",null,null,null,null,null,null,null,null,null,null,{"$f":"IF(H769=\"\",\"\",IF(I759=EUconst_NA,\"\",INDEX(EUwideConstants!$AL:$AR,MATCH(Q759,EUwideConstants!$S:$S,0),MATCH(I759,CNTR_TierList,0))))","v":""},null,null,null,true]
[null,null,null,"vi.","Fraction issue de la biomasse (le cas échéant)",null,null,"",null,null,null,null,null,null,null,null,null,null,{"$f":"IF(H770=\"\",\"\",IF(I760=EUconst_NA,\"\",INDEX(EUwideConstants!$AL:$AR,MATCH(Q760,EUwideConstants!$S:$S,0),MATCH(I760,CNTR_TierList,0))))","v":""},null,null,null,true]
[]
[null,null,null,{"$f":"Translations!$B$545","v":"Remarques et explications:"}]
[]
[null,null,null,"(h)",{"$f":"Translations!$B$1198","v":"Remarques et justification lorsque les niveaux requis ne sont pas appliqués:"}]
[]
[]
[]
[]
[]
["ADD_CompleteSourceStream"]
[]
[null,null,null,null,null,{"$f":"EUconst_MsgNextSheet","v":"<<< Cliquer ici pour passer à la feuille suivante >>> "}]
[]
["ausblenden","End","End","End","End","End","End","End","End","End","End","End","End","End","End",null,"End","End","End","End","End","End","End"]

{"sheet":"F_MeasurementBasedApproaches","index":7,"n_rows":526,"n_cols":25,"rows_kept":526,"cut":false,"hidden":false,"merged":[[452,4,452,13],[485,4,485,5],[480,6,480,13],[450,3,450,13],[481,6,481,13],[469,6,469,13],[469,4,469,5],[466,4,466,13],[461,4,461,5],[455,4,455,13],[457,6,457,13],[459,4,459,5],[474,4,474,5],[459,6,459,13],[464,6,464,13],[460,6,460,13],[462,6,462,13],[462,4,462,5],[474,6,474,13],[471,4,471,5],[458,4,458,5],[461,6,461,13],[464,4,464,5],[463,6,463,13],[472,4,472,5],[463,4,463,5],[458,6,458,13],[482,6,482,13],[472,6,472,13],[483,6,483,13],[475,4,475,5],[473,4,473,5],[479,6,479,13],[473,6,473,13],[479,4,479,5],[476,4,476,5],[475,6,475,13],[478,4,478,13],[476,6,476,13],[214,4,214,13],[185,4,185,13],[198,5,198,13],[186,4,186,13],[194,5,194,13],[188,4,188,13],[206,3,206,13],[209,4,209,13],[197,5,197,13],[213,4,213,13],[81,6,82,6],[103,5,103,6],[165,4,165,13],[153,3,153,13],[129,3,129,13],[124,3,124,13],[158,4,158,13],[150,4,150,13],[136,7,136,9],[138,12,138,13],[134,12,134,13],[163,4,163,13],[136,12,136,13],[143,4,143,13],[142,4,142,13],[145,3,145,13],[117,8,117,10],[117,12,117,13],[130,3,130,13],[138,3,138,6],[138,7,138,11],[147,4,147,13],[151,4,151,13],[156,3,156,6],[81,20,82,20],[81,7,82,7],[92,4,92,13],[73,20,74,20],[75,20,76,20],[77,19,78,19],[77,20,78,20],[79,11,80,11],[81,18,82,18],[79,19,80,19],[79,20,80,20],[77,18,78,18],[79,18,80,18],[77,4,78,5],[77,6,78,6],[73,6,74,6],[79,4,80,5],[79,6,80,6],[81,19,82,19],[83,7,84,7],[83,12,84,12],[81,11,82,11],[81,12,82,12],[81,13,82,13],[83,20,84,20],[83,11,84,11],[90,4,90,8],[90,9,90,13],[83,18,84,18],[86,6,88,10],[470,4,470,5],[126,3,126,13],[116,8,116,10],[83,19,84,19],[91,4,91,13],[83,13,84,13],[83,6,84,6],[83,4,84,5],[454,4,454,13],[83,2,84,3],[170,3,170,6],[203,5,203,13],[176,4,176,13],[195,5,195,13],[181,4,181,13],[175,4,175,13],[184,4,184,13],[201,5,201,13],[57,2,58,3],[59,13,60,13],[57,6,58,6],[112,5,112,6],[112,8,112,10],[112,12,112,13],[104,12,104,13],[63,2,64,3],[65,2,66,3],[71,2,72,3],[59,2,60,3],[105,5,105,6],[75,2,76,3],[61,2,62,3],[71,6,72,6],[75,6,76,6],[79,2,80,3],[63,4,64,5],[67,2,68,3],[69,2,70,3],[71,4,72,5],[77,2,78,3],[81,4,82,5],[81,2,82,3],[2,4,2,5],[2,8,2,9],[1,1,3,3],[1,10,1,11],[3,10,3,11],[1,12,1,13],[1,8,1,9],[3,12,3,13],[3,4,3,5],[1,4,1,5],[1,6,1,7],[2,6,2,7],[2,10,2,11],[2,12,2,13],[7,10,7,13],[12,4,12,13],[11,4,11,13],[24,4,24,13],[3,6,3,7],[3,8,3,9],[14,4,14,13],[23,4,23,13],[19,4,19,13],[15,4,15,13],[21,4,21,13],[22,4,22,13],[5,2,5,10],[5,11,5,13],[9,3,9,13],[16,4,16,13],[17,4,17,13],[18,4,18,13],[43,4,43,13],[46,4,46,13],[51,4,51,13],[52,4,52,13],[53,4,53,13],[55,4,55,13],[25,4,25,13],[77,13,78,13],[28,4,28,13],[26,4,26,13],[40,4,40,13],[50,4,50,13],[47,4,47,13],[45,4,45,13],[42,9,42,13],[39,4,39,13],[36,4,36,13],[27,4,27,13],[42,4,42,8],[35,4,35,13],[29,4,29,13],[34,4,34,13],[38,4,38,13],[37,4,37,13],[79,12,80,12],[79,13,80,13],[79,7,80,7],[77,11,78,11],[77,12,78,12],[77,7,78,7],[65,7,66,7],[65,6,66,6],[67,11,68,11],[69,6,70,6],[69,7,70,7],[65,11,66,11],[75,7,76,7],[75,11,76,11],[73,7,74,7],[73,11,74,11],[31,4,31,13],[33,4,33,13],[30,4,30,13],[32,4,32,13],[54,4,54,13],[48,4,48,13],[49,4,49,13],[67,20,68,20],[63,19,64,19],[63,13,64,13],[63,18,64,18],[65,18,66,18],[67,18,68,18],[65,13,66,13],[57,7,57,9],[57,13,58,13],[63,7,64,7],[67,6,68,6],[63,6,64,6],[63,11,64,11],[63,20,64,20],[57,4,58,5],[61,7,62,7],[57,10,58,10],[57,11,57,12],[61,4,62,5],[71,20,72,20],[69,19,70,19],[71,18,72,18],[69,18,70,18],[69,20,70,20],[69,12,70,12],[67,13,68,13],[67,19,68,19],[65,12,66,12],[65,20,66,20],[65,19,66,19],[67,12,68,12],[71,7,72,7],[71,11,72,11],[59,12,60,12],[65,4,66,5],[67,4,68,5],[61,13,62,13],[59,6,60,6],[59,4,60,5],[63,12,64,12],[67,7,68,7],[61,12,62,12],[69,4,70,5],[73,4,74,5],[75,4,76,5],[69,13,70,13],[69,11,70,11],[61,6,62,6],[61,11,62,11],[59,7,60,7],[59,11,60,11],[71,19,72,19],[75,13,76,13],[71,12,72,12],[71,13,72,13],[75,12,76,12],[75,18,76,18],[75,19,76,19],[73,13,74,13],[136,4,136,6],[119,6,121,10],[73,18,74,18],[73,19,74,19],[127,3,127,13],[113,8,113,10],[106,12,106,13],[100,8,100,10],[100,12,100,13],[95,4,95,13],[101,5,101,6],[101,8,101,10],[101,12,101,13],[103,8,103,10],[103,12,103,13],[102,5,102,6],[73,2,74,3],[73,12,74,12],[108,12,108,13],[117,5,117,6],[105,12,105,13],[107,12,107,13],[108,5,108,6],[94,4,94,13],[114,5,114,6],[114,8,114,10],[114,12,114,13],[115,8,115,10],[102,8,102,10],[99,12,99,13],[100,5,100,6],[97,4,97,13],[99,8,99,10],[96,4,96,13],[99,5,99,6],[104,5,104,6],[113,12,113,13],[115,12,115,13],[106,5,106,6],[113,5,113,6],[102,12,102,13],[116,12,116,13],[106,8,106,10],[115,5,115,6],[104,8,104,10],[105,8,105,10],[110,12,110,13],[109,8,109,10],[134,3,134,6],[110,5,110,6],[107,8,107,10],[111,5,111,6],[109,12,109,13],[111,12,111,13],[111,8,111,10],[108,8,108,10],[109,5,109,6],[128,3,128,13],[134,7,134,11],[110,8,110,10],[116,5,116,6],[107,5,107,6],[140,12,140,13],[159,4,159,13],[164,4,164,13],[140,7,140,9],[148,5,148,13],[191,5,191,13],[179,3,179,13],[208,4,208,13],[212,4,212,13],[140,4,140,6],[189,4,189,13],[200,5,200,13],[182,4,182,13],[192,5,192,13],[177,4,177,13],[204,5,204,13],[210,4,210,13],[453,4,453,13],[525,5,525,11],[467,4,467,13],[471,6,471,13],[470,6,470,13],[485,6,485,13],[460,4,460,5],[492,6,492,13],[482,4,482,5],[457,4,457,5],[491,4,491,5],[491,6,491,13],[490,6,490,13],[489,4,489,5],[489,6,489,13],[483,4,483,5],[480,4,480,5],[484,4,484,5],[481,4,481,5],[486,4,486,5],[494,6,494,13],[499,4,499,5],[484,6,484,13],[498,4,498,13],[502,4,502,5],[501,4,501,5],[496,4,496,5],[494,4,494,5],[486,6,486,13],[495,4,495,5],[493,4,493,5],[490,4,490,5],[492,4,492,5],[488,4,488,13],[493,6,493,13],[500,4,500,5],[495,6,495,13],[496,6,496,13],[500,6,500,13],[509,4,509,13],[508,4,508,13],[512,4,512,5],[504,6,504,13],[521,6,523,10],[499,6,499,13],[518,4,518,5],[518,6,518,13],[502,6,502,13],[513,4,513,5],[512,6,512,13],[515,6,515,13],[503,4,503,5],[504,4,504,5],[516,4,516,5],[505,4,505,5],[511,4,511,5],[513,6,513,13],[506,6,506,13],[514,6,514,13],[510,4,510,5],[517,6,517,13],[501,6,501,13],[503,6,503,13],[505,6,505,13],[516,6,516,13],[506,4,506,5],[519,4,519,5],[519,6,519,13],[511,6,511,13],[517,4,517,5],[510,6,510,13],[356,3,356,13],[379,5,379,13],[380,5,380,13],[393,4,393,6],[393,7,393,9],[393,12,393,13],[395,3,395,13],[398,4,398,13],[400,3,400,13],[382,3,382,13],[384,4,384,13],[386,4,386,13],[387,4,387,13],[388,4,388,13],[391,3,391,6],[391,7,391,11],[233,4,233,13],[234,4,234,13],[340,4,340,13],[342,3,342,13],[348,4,348,13],[349,4,349,13],[217,3,217,6],[217,7,217,11],[217,12,217,13],[219,4,219,6],[219,7,219,9],[219,12,219,13],[221,3,221,13],[224,4,224,13],[240,3,240,13],[242,4,242,13],[243,4,243,13],[245,4,245,13],[246,4,246,13],[247,4,247,13],[226,3,226,13],[232,4,232,13],[279,3,279,13],[282,4,282,13],[249,4,249,13],[251,5,251,13],[252,5,252,13],[254,5,254,13],[255,5,255,13],[337,3,337,13],[257,5,257,13],[258,5,258,13],[260,5,260,13],[261,5,261,13],[272,4,272,13],[275,3,275,6],[275,7,275,11],[275,12,275,13],[277,4,277,6],[277,7,277,9],[277,12,277,13],[263,5,263,13],[264,5,264,13],[266,3,266,13],[268,4,268,13],[270,4,270,13],[271,4,271,13],[284,3,284,13],[290,4,290,13],[291,4,291,13],[292,4,292,13],[335,4,335,6],[335,7,335,9],[335,12,335,13],[307,4,307,13],[309,5,309,13],[310,5,310,13],[312,5,312,13],[313,5,313,13],[315,5,315,13],[298,3,298,13],[300,4,300,13],[301,4,301,13],[303,4,303,13],[304,4,304,13],[305,4,305,13],[326,4,326,13],[328,4,328,13],[329,4,329,13],[330,4,330,13],[333,3,333,6],[333,7,333,11],[333,12,333,13],[316,5,316,13],[318,5,318,13],[319,5,319,13],[321,5,321,13],[322,5,322,13],[324,3,324,13],[377,5,377,13],[365,4,365,13],[373,5,373,13],[374,5,374,13],[376,5,376,13],[358,4,358,13],[359,4,359,13],[367,5,367,13],[368,5,368,13],[370,5,370,13],[371,5,371,13],[361,4,361,13],[362,4,362,13],[363,4,363,13],[350,4,350,13],[391,12,391,13],[419,4,419,13],[420,4,420,13],[421,4,421,13],[423,4,423,13],[425,5,425,13],[426,5,426,13],[406,4,406,13],[407,4,407,13],[408,4,408,13],[414,3,414,13],[416,4,416,13],[417,4,417,13],[446,4,446,13],[437,5,437,13],[438,5,438,13],[440,3,440,13],[442,4,442,13],[444,4,444,13],[445,4,445,13],[428,5,428,13],[429,5,429,13],[431,5,431,13],[432,5,432,13],[434,5,434,13],[435,5,435,13]]}
["ausblenden",null,null,null,null,null,null,null,null,null,null,null,null,null,null,"ausblenden","ausblenden","ausblenden","ausblenden","ausblenden","ausblenden","ausblenden","ausblenden","ausblenden","ausblenden"]
[null,{"$f":"Translations!$B$551","v":"F.\nMeasurement Approach"},null,null,{"$f":"Translations!$B$59","v":"Zone de navigation:"},null,{"$f":"Translations!$B$60","v":"Sommaire"},null,{"$f":"Translations!$B$61","v":"Feuille précédente"},null,{"$f":"Translations!$B$62","v":"Feuille suivante"}]
[null,null,null,null,{"$f":"Translations!$B$63","v":"Début de feuille"},null,{"$f":"Translations!$B$552","v":"Mesure des émissions"},null,{"$f":"Translations!$B$188","v":"Point de mesure"}]
[null,null,null,null,{"$f":"Translations!$B$64","v":"Fin de feuille"},null,{"$f":"Translations!$B$553","v":"Gestion et Procédures "}]
[null,null,null,null,null,null,null,null,null,null,null,null,null,null,null,null,null,null,null,null,null,null,null,null,"Make grey?"]
[null,null,{"$f":"Translations!$B$20","v":"F. Measurement Based Approaches (Méthodes fondées sur la mesure)"},null,null,null,null,null,null,null,null,{"$f":"IF(OR(CNTR_InstHasMeasurement=TRUE,CNTR_InstHasN2O=TRUE,CNTR_InstHasTransferredCO2=TRUE),EUconst_Relevant,IF(COUNTA(CNTR_ListRelevantSections)>0,EUconst_NotRelevant,EUconst_Relevant))","v":"pertinent"},null,null,null,null,null,null,null,null,null,null,null,null,{"$f":"IF(L6=EUconst_NotRelevant,TRUE,FALSE)","v":false}]
[]
[null,null,null,null,null,null,null,null,null,null,{"$f":"IF(L6=EUconst_NotRelevant,HYPERLINK(\"#JUMP_G_Top\",EUconst_MsgNextSheet),HYPERLINK(\"\",EUconst_MsgEnterThisSection))","v":"Veuillez saisir des données dans cette rubrique"}]
[]
[null,null,9,{"$f":"Translations!$B$21","v":"Mesure des émissions de CO2 et de N2O "}]
[]
[null,null,null,null,{"$f":"Translations!$B$554","v":"Remarque: Cette rubrique doit être remplie pour la mesure continue des émissions de CO2 et de N2O."}]
[null,null,null,null,{"$f":"Translations!$B$1200","v":"Il convient en outre de fournir ici les informations requises pour la surveillance du CO2 et du N2O transférés ainsi que du CO2 intrinsèque."}]
[]
[null,null,null,"(a)",{"$f":"Translations!$B$556","v":"Description de la méthode fondée sur la mesure"}]
[null,null,null,null,{"$f":"Translations!$B$557","v":"Veuillez décrire de façon concise dans la zone de texte ci-dessous la méthode de mesure utilisée pour déterminer les émissions annuelles de CO2 ou de N2O de votre installation. Si les émissions de N2O sont mesurées, veuillez préciser la méthode utilisée pour convertir ces émissions sous forme de CO2(e)."}]
[null,null,null,null,{"$f":"Translations!$B$558","v":"Votre description doit mentionner le type d’instrument(s) utilisé(s) et préciser si les mesures sont effectuées en conditions humides ou à sec. Il convient également de fournir les formules pour l’application des facteurs de corrections (p, T, O2 et H2O).  Si la norme EN 14181 est appliquée, il y a lieu d'indiquer les facteurs d'étalonnage requis pour les procédures QAL2.  Si le volume des effluents gazeux est calculé, veuillez décrire brièvement la méthode utiliser pour déterminer ce volume. "}]
[null,null,null,null,{"$f":"Translations!$B$559","v":"Veuillez décrire la manière dont les émissions annuelles sont déterminées à partir des données relatives à la concentration et au débit des effluents gazeux, compte tenu de la fréquence de détermination de la concentration et du débit des effluents gazeux.  Veuillez également préciser comment les données sont substituées lorsqu’il n’est pas possible de déterminer des heures de données valides."}]
[null,null,null,null,{"$f":"Translations!$B$1355","v":"Le cas échéant, veuillez également décrire la méthodologie pour la détermination des émissions provenant de la biomasse ou d'un carburant dont le facteur d'émission est considéré comme égal à zéro (article 43 paragraphes 4 à 4 quater) pour être soustraites des émissions totales."}]
[null,null,null,null,{"$f":"Translations!$B$195","v":"La description doit contenir les liens qui sont nécessaires pour comprendre la manière dont les informations fournies dans les autres parties du présent modèle sont utilisées pour calculer les émissions. Ces données peuvent être aussi synthétiques que dans l’exemple donné dans la feuille D­_CalculationBasedApproaches, rubrique 7 a)."}]
[]
[]
[]
[]
[]
[]
[]
[]
[]
[]
[]
[]
[]
[]
[]
[]
[]
[]
[]
[]
[]
[]
[null,null,null,"(b)",{"$f":"Translations!$B$561","v":"Schéma de procédé si l’autorité compétente le demande: "},null,null,null,null,null,null,null,null,null,null,null,null,null,null,null,null,null,null,null,{"$f":"CNTR_SmallEmitter=TRUE","v":false}]
[null,null,null,null,{"$f":"Translations!$B$562","v":"Veuillez fournir un schéma de procédé contenant tous les points d'émission à prendre en considération pendant le fonctionnement normal et lors d'activités « non classiques », c.-à-d. pendant les phases de fonctionnement restreint et de transition, ainsi que lors des pannes ou des phases de mise en service."}]
[]
[null,null,null,"(c)",{"$f":"Translations!$B$563","v":"Spécification et localisation des systèmes de mesure au niveau des points de mesure:"}]
[null,null,null,null,{"$f":"Translations!$B$564","v":"Veuillez décrire les caractéristiques et la localisation des systèmes de mesure à utiliser pour chaque source d’émission lorsque les émissions sont déterminées par mesure et pour les points d’émission dans le cas du transfert de CO2."}]
[null,null,null,null,{"$f":"Translations!$B$565","v":"Indiquez également les instruments utilisés pour les paramètres auxiliaires tels que la teneur en O2 et le taux d’humidité et, en cas de mesures indirectes, également les instruments de mesure de la concentration des constituants gazeux autres que le CO2. "}]
[null,null,null,null,{"$f":"Translations!$B$349","v":"Dans la colonne «Localisation», vous devez indiquer l’endroit où se trouve l’appareil de mesure dans l’installation, ainsi que la manière dont il est représenté sur le schéma de procédé. "}]
[null,null,null,null,{"$f":"Translations!$B$356","v":"Tous les instruments utilisés doivent être clairement répertoriés à l’aide d’un identificateur unique (tel que le numéro de série de l’instrument). Cependant, le remplacement d’un instrument (rendu nécessaire, par exemple, en cas d’avarie) ne constitue pas une modification importante du plan de surveillance au sens de l’article 15, paragraphe 3. L’identification unique doit donc être consignée ailleurs que dans le plan de surveillance. Veuillez vous assurer d’établir une procédure écrite appropriée à cet effet. "}]
[null,null,null,null,{"$f":"Translations!$B$350","v":"Pour chaque instrument de mesure, veuillez indiquer l’incertitude spécifiée, ainsi que la plage de mesure à laquelle se rapporte cette incertitude, telle que communiquée par le fabricant. Dans certains cas, l’incertitude peut être spécifiée pour deux plages différentes.  Dans ce cas, veuillez indiquer les deux."}]
[null,null,null,null,{"$f":"Translations!$B$351","v":"La plage d’utilisation usuelle désigne la plage pour laquelle l’instrument de mesure est habituellement utilisé dans votre installation."}]
[null,null,null,null,{"$f":"Translations!$B$353","v":"«Type d’instrument de mesure». Veuillez choisir le type correspondant dans la liste déroulante, ou saisir un type plus approprié."}]
[null,null,null,null,{"$f":"Translations!$B$566","v":"La liste des instruments fournie ici sera proposée sous la forme d’une liste déroulante pour chaque source d’émission à la rubrique 10 ci-dessous où les références des instruments de mesure utilisés sont demandées."}]
[null,null,null,null,{"$f":"Translations!$B$355","v":"Dans le cas des débitmètres de gaz, veuillez indiquer Nm3/h si la compensation p/T est intégrée dans l’instrument et m3 en mode de fonctionnement si la compensation p/T est réalisée par un instrument distinct.  Dans ce dernier cas, veuillez également énumérer ces instruments."}]
[null,null,null,null,{"$f":"Translations!$B$567","v":"La fréquence de mesure doit indiquer la fréquence des relevés réalisés à l’aide de l’instrument avant que les données soient agrégées pour obtenir des moyennes horaires ou des moyennes sur des périodes plus courtes. "}]
[]
[null,null,{"$f":"Translations!$B$357","v":"Réf."},null,{"$f":"Translations!$B$358","v":"Type d’instrument de mesure"},null,{"$f":"Translations!$B$359","v":"Localisation (ID interne)"},{"$f":"Translations!$B$360","v":"Plage de mesure"},null,null,{"$f":"Translations!$B$361","v":"Incertitude spécifiée\n(+/-%)"},{"$f":"Translations!$B$362","v":"Plage d’utilisation usuelle"},null,{"$f":"Translations!$B$568","v":"Fréquence de mesure"}]
[null,null,null,null,null,null,null,{"$f":"Translations!$B$363","v":"unité"},{"$f":"Translations!$B$364","v":"extrémité inférieure"},{"$f":"Translations!$B$365","v":"extrémité supérieure"},null,{"$f":"Translations!$B$364","v":"extrémité inférieure"},{"$f":"Translations!$B$365","v":"extrémité supérieure"},null,null,null,null,null,"Sorting","Sorting","Sorting","Sorting"]
["HIDE_Example",null,"MM01",null,{"$f":"Translations!$B$569","v":"Concentration de CO2 (NDIR) "},null,{"$f":"Translations!$B$570","v":"Cheminée 1 plateforme A (diagramme: St. 1-A)"},{"$f":"Translations!$B$1201","v":"g CO2/Nm³"},0,250,5.5,25,200,{"$f":"Translations!$B$571","v":"1 par seconde"}]
["HIDE_Example"]
["HIDE_Example",null,"MM02",null,{"$f":"Translations!$B$572","v":"Mesure du débit (tube de Pitot moyenné)"},null,{"$f":"Translations!$B$570","v":"Cheminée 1 plateforme A (diagramme: St. 1-A)"},"Nm³/h",10,10000,4,1000,8000,{"$f":"Translations!$B$571","v":"1 par seconde"}]
["HIDE_Example"]
[null,null,"MM1",null,null,null,null,null,null,null,null,null,null,null,null,null,null,1,1,{"$f":"IF(ISBLANK(E64),\"\",MAX(T$60:T63)+1)","v":""},{"$f":"IF(ISBLANK(E64),\"\",C64 & \": \" &E64)","v":""},{"$f":"IF(COUNTIF($T$61:$T$85,R64)=1,INDEX($U$61:$U$85,MATCH(R64,$T$61:$T$85,0)),EUconst_NA)","v":"s.o."}]
[null,null,null,null,null,null,null,null,null,null,null,null,null,null,null,null,null,2,null,null,null,"s.o."]
[null,null,"MM2",null,null,null,null,null,null,null,null,null,null,null,null,null,null,3,2,{"$f":"IF(ISBLANK(E66),\"\",MAX(T$60:T65)+1)","v":""},{"$f":"IF(ISBLANK(E66),\"\",C66 & \": \" &E66)","v":""},"s.o."]
[null,null,null,null,null,null,null,null,null,null,null,null,null,null,null,null,null,4,null,null,null,"s.o."]
[null,null,"MM3",null,null,null,null,null,null,null,null,null,null,null,null,null,null,5,3,{"$f":"IF(ISBLANK(E68),\"\",MAX(T$60:T67)+1)","v":""},{"$f":"IF(ISBLANK(E68),\"\",C68 & \": \" &E68)","v":""},"s.o."]
[null,null,null,null,null,null,null,null,null,null,null,null,null,null,null,null,null,6,null,null,null,"s.o."]
[null,null,"MM4",null,null,null,null,null,null,null,null,null,null,null,null,null,null,7,4,{"$f":"IF(ISBLANK(E70),\"\",MAX(T$60:T69)+1)","v":""},{"$f":"IF(ISBLANK(E70),\"\",C70 & \": \" &E70)","v":""},"s.o."]
[null,null,null,null,null,null,null,null,null,null,null,null,null,null,null,null,null,8,null,null,null,"s.o."]
[null,null,"MM5",null,null,null,null,null,null,null,null,null,null,null,null,null,null,9,5,{"$f":"IF(ISBLANK(E72),\"\",MAX(T$60:T71)+1)","v":""},{"$f":"IF(ISBLANK(E72),\"\",C72 & \": \" &E72)","v":""},"s.o."]
[null,null,null,null,null,null,null,null,null,null,null,null,null,null,null,null,null,10,null,null,null,"s.o."]
[null,null,"MM6",null,null,null,null,null,null,null,null,null,null,null,null,null,null,11,6,{"$f":"IF(ISBLANK(E74),\"\",MAX(T$60:T73)+1)","v":""},{"$f":"IF(ISBLANK(E74),\"\",C74 & \": \" &E74)","v":""},"s.o."]
[null,null,null,null,null,null,null,null,null,null,null,null,null,null,null,null,null,12,null,null,null,"s.o."]
[null,null,"MM7",null,null,null,null,null,null,null,null,null,null,null,null,null,null,13,7,{"$f":"IF(ISBLANK(E76),\"\",MAX(T$60:T75)+1)","v":""},{"$f":"IF(ISBLANK(E76),\"\",C76 & \": \" &E76)","v":""},"s.o."]
[null,null,null,null,null,null,null,null,null,null,null,null,null,null,null,null,null,14,null,null,null,"s.o."]
[null,null,"MM8",null,null,null,null,null,null,null,null,null,null,null,null,null,null,15,8,{"$f":"IF(ISBLANK(E78),\"\",MAX(T$60:T77)+1)","v":""},{"$f":"IF(ISBLANK(E78),\"\",C78 & \": \" &E78)","v":""},"s.o."]
[null,null,null,null,null,null,null,null,null,null,null,null,null,null,null,null,null,16,null,null,null,"s.o."]
[null,null,"MM9",null,null,null,null,null,null,null,null,null,null,null,null,null,null,17,9,{"$f":"IF(ISBLANK(E80),\"\",MAX(T$60:T79)+1)","v":""},{"$f":"IF(ISBLANK(E80),\"\",C80 & \": \" &E80)","v":""},"s.o."]
[null,null,null,null,null,null,null,null,null,null,null,null,null,null,null,null,null,18,null,null,null,"s.o."]
[null,null,"MM10",null,null,null,null,null,null,null,null,null,null,null,null,null,null,19,10,{"$f":"IF(ISBLANK(E82),\"\",MAX(T$60:T81)+1)","v":""},{"$f":"IF(ISBLANK(E82),\"\",C82 & \": \" &E82)","v":""},"s.o."]
[null,null,null,null,null,null,null,null,null,null,null,null,null,null,null,null,null,20,null,null,null,"s.o."]
["ausblenden",null,null,null,null,null,null,null,null,null,null,null,null,null,null,null,null,null,null,{"$f":"IF(ISBLANK(E84),\"\",MAX(T$60:T83)+1)","v":""},{"$f":"IF(ISBLANK(E84),\"\",C84 & \": \" &E84)","v":""},"s.o."]
["ausblenden",null,null,null,null,null,null,null,null,null,null,null,null,null,null,null,null,null,null,null,null,"s.o."]
["ADD_MeasurementInstrument"]
[null,null,null,null,null,null,{"$f":"Translations!$B$368","v":"Cliquez sur « + » pour ajouter d’autres instruments de mesure"}]
[]
[]
[]
[null,null,null,"(d)",{"$f":"Translations!$B$369","v":"Titre et références du document d’évaluation des calculs d’incertitude"},null,null,null,null,null,null,null,null,null,null,null,null,null,null,null,null,null,{"$f":"CNTR_SmallEmitter=TRUE","v":false}]
[null,null,null,null,{"$f":"Translations!$B$370","v":"Vous devez présenter des éléments démontrant la conformité des niveaux appliqués, conformément à l’article 12.  Veuillez énumérer les références des calculs d’incertitude et/ou des schémas s'y rapportant dans l'encadré ci-dessus. "}]
[null,null,null,null,{"$f":"Translations!$B$371","v":"Veuillez noter que conformément à l’article 47, paragraphe 3, les installations à faible niveau d’émission ne sont pas tenues de remettre ce document à l’AC."}]
[]
[null,null,null,"(e)",{"$f":"Translations!$B$573","v":"Méthodes et laboratoires utilisés pour l’application de méthodes de mesure continue: "}]
[null,null,null,null,{"$f":"Translations!$B$384","v":"Veuillez énumérer les méthodes utilisées pour analyser les combustibles et les matières en vue de la détermination de tous les facteurs de calcul, en fonction du niveau sélectionné. Si le laboratoire n’est pas accrédité conformément à la norme EN ISO/IEC 17025, vous devez prouver que le laboratoire est techniquement compétent, conformément à l’article 34. À cet effet, veuillez indiquer la référence d’un document joint."}]
[null,null,null,null,{"$f":"Translations!$B$574","v":"Cette liste sera proposée sous la forme d’une liste déroulante à la rubrique 10 ci-dessous afin d’indiquer les méthodes d’analyse correspondant aux points de mesure."}]
[null,null,null,null,{"$f":"Translations!$B$135","v":"Pour afficher/masquer les exemples, cliquez sur le bouton «Exemples» dans la zone de navigation."}]
[]
[null,null,null,null,{"$f":"Translations!$B$387","v":"Réf. du laboratoire"},{"$f":"Translations!$B$388","v":"Nom du laboratoire"},null,{"$f":"Translations!$B$389","v":"Paramètre"},{"$f":"Translations!$B$390","v":"Méthode d’analyse\n(indiquez la référence de la procédure et fournir une brève description de la méthode)"},null,null,{"$f":"Translations!$B$391","v":"Le laboratoire est-il accrédité EN ISO/IEC 17025 pour cette analyse ?"},{"$f":"Translations!$B$392","v":"Si la réponse est non, fournir la référence des justificatifs à produire "},null,null,null,null,null,null,"Sorting",null,"Sorting","Sorting"]
["HIDE_Example",null,null,null,"LC01",{"$f":"Translations!$B$393","v":"Exemple de laboratoroire"},null,{"$f":"Translations!$B$575","v":"Procédures QAL"},{"$f":"Translations!$B$576","v":"EN 14181"},null,null,true]
["HIDE_Example",null,null,null,"LC02",{"$f":"Translations!$B$396","v":"Exemple laboratoroire 2"},null,{"$f":"Translations!$B$577","v":"Concentration de CO2"},{"$f":"Translations!$B$578","v":"ISO 12039"},null,null,false,{"$f":"Translations!$B$399","v":"Compétence_labo.pdf, 2/3/2012"}]
[null,null,null,null,"LC1",null,null,null,null,null,null,null,null,null,null,null,null,null,null,1,null,{"$f":"IF(ISBLANK(F103),\"\",MAX(V$102:V102)+1)","v":""},{"$f":"IF(COUNTIF($V$103:$V$118,T103)=1,INDEX($E$103:$E$118,MATCH(T103,$V$103:$V$118,0))& \": \" &INDEX($F$103:$F$118,MATCH(T103,$V$103:$V$118,0)),EUconst_NA)","v":"s.o."}]
[null,null,null,null,"LC2",null,null,null,null,null,null,null,null,null,null,null,null,null,null,2,null,{"$f":"IF(ISBLANK(F104),\"\",MAX(V$102:V103)+1)","v":""},"s.o."]
[null,null,null,null,"LC3",null,null,null,null,null,null,null,null,null,null,null,null,null,null,3,null,{"$f":"IF(ISBLANK(F105),\"\",MAX(V$102:V104)+1)","v":""},"s.o."]
[null,null,null,null,"LC4",null,null,null,null,null,null,null,null,null,null,null,null,null,null,4,null,{"$f":"IF(ISBLANK(F106),\"\",MAX(V$102:V105)+1)","v":""},"s.o."]
[null,null,null,null,"LC5",null,null,null,null,null,null,null,null,null,null,null,null,null,null,5,null,{"$f":"IF(ISBLANK(F107),\"\",MAX(V$102:V106)+1)","v":""},"s.o."]
[null,null,null,null,"LC6",null,null,null,null,null,null,null,null,null,null,null,null,null,null,6,null,{"$f":"IF(ISBLANK(F108),\"\",MAX(V$102:V107)+1)","v":""},"s.o."]
[null,null,null,null,"LC7",null,null,null,null,null,null,null,null,null,null,null,null,null,null,7,null,{"$f":"IF(ISBLANK(F109),\"\",MAX(V$102:V108)+1)","v":""},"s.o."]
[null,null,null,null,"LC8",null,null,null,null,null,null,null,null,null,null,null,null,null,null,8,null,{"$f":"IF(ISBLANK(F110),\"\",MAX(V$102:V109)+1)","v":""},"s.o."]
[null,null,null,null,"LC9",null,null,null,null,null,null,null,null,null,null,null,null,null,null,9,null,{"$f":"IF(ISBLANK(F111),\"\",MAX(V$102:V110)+1)","v":""},"s.o."]
[null,null,null,null,"LC10",null,null,null,null,null,null,null,null,null,null,null,null,null,null,10,null,{"$f":"IF(ISBLANK(F112),\"\",MAX(V$102:V111)+1)","v":""},"s.o."]
[null,null,null,null,"LC11",null,null,null,null,null,null,null,null,null,null,null,null,null,null,11,null,{"$f":"IF(ISBLANK(F113),\"\",MAX(V$102:V112)+1)","v":""},"s.o."]
[null,null,null,null,"LC12",null,null,null,null,null,null,null,null,null,null,null,null,null,null,12,null,{"$f":"IF(ISBLANK(F114),\"\",MAX(V$102:V113)+1)","v":""},"s.o."]
[null,null,null,null,"LC13",null,null,null,null,null,null,null,null,null,null,null,null,null,null,13,null,{"$f":"IF(ISBLANK(F115),\"\",MAX(V$102:V114)+1)","v":""},"s.o."]
[null,null,null,null,"LC14",null,null,null,null,null,null,null,null,null,null,null,null,null,null,14,null,{"$f":"IF(ISBLANK(F116),\"\",MAX(V$102:V115)+1)","v":""},"s.o."]
[null,null,null,null,"LC15",null,null,null,null,null,null,null,null,null,null,null,null,null,null,15,null,{"$f":"IF(ISBLANK(F117),\"\",MAX(V$102:V116)+1)","v":""},"s.o."]
["ausblenden",null,null,null,null,null,null,null,null,null,null,null,null,null,null,null,null,null,null,null,null,{"$f":"IF(ISBLANK(F118),\"\",MAX(V$102:V117)+1)","v":""},"s.o."]
["ADD_Laboratories"]
[null,null,null,null,null,null,{"$f":"Translations!$B$400","v":"Cliquez sur « + » pour ajouter d’autres méthodes et laboratoires"}]
[]
[]
[]
[]
[null,null,10,{"$f":"Translations!$B$22","v":"Points de mesure"}]
[]
[null,null,null,{"$f":"Translations!$B$579","v":"Veuillez noter que le texte explicatif ne s’affiche que pour le premier point de mesure. "}]
[null,null,null,{"$f":"Translations!$B$580","v":"Si vous souhaitez afficher les données pour d’autres points de mesure, veuillez cliquer sur les signes «+» à gauche (fonction de groupement de données)."}]
[null,null,null,{"$f":"Translations!$B$581","v":"Pour ajouter d’autres points de mesure, veuillez passer à la rubrique 6 d) sur la feuille C_InstallationDescription, et utiliser la macro qui s'y trouve."}]
[null,null,null,{"$f":"Translations!$B$135","v":"Pour afficher/masquer les exemples, cliquez sur le bouton «Exemples» dans la zone de navigation."}]
[null,null,null,{"$f":"Translations!$B$582","v":"L’exemple est intégré dans le premier point de mesure."}]
[]
[]
[null,null,null,null,null,null,null,null,null,null,null,null,null,null,null,null,null,null,null,null,null,null,null,null,"make grey?"]
[null,null,{"$f":"\"M\"&Q135","v":"M1"},{"$f":"CONCATENATE(EUconst_MeasurementPoint,\" \",Q135,\":\")","v":"Point de mesure 1:"},null,null,null,{"$f":"IF(INDEX(C_InstallationDescription!$F$171:$F$176,MATCH(C135,C_InstallationDescription!$E$171:$E$176,0))>0,INDEX(C_InstallationDescription!$F$171:$F$176,MATCH(C135,C_InstallationDescription!$E$171:$E$176,0)),\"\")","v":""},null,null,null,null,{"$f":"IF(U135=TRUE,V135,\"\")","v":""},null,null,null,1,null,{"$f":"IF(INDEX(C_InstallationDescription!$M:$M,MATCH(Q137,C_InstallationDescription!$Q:$Q,0))=\"\",FALSE,TRUE)","v":false},{"$f":"IF(S135=TRUE,INDEX(C_InstallationDescription!$M:$M,MATCH(Q137,C_InstallationDescription!$Q:$Q,0)),\"\")","v":""},{"$f":"IF(INDEX(C_InstallationDescription!$N:$N,MATCH(Q137,C_InstallationDescription!$Q:$Q,0))=\"\",FALSE,TRUE)","v":false},{"$f":"IF(U135=TRUE,INDEX(C_InstallationDescription!$N:$N,MATCH(Q137,C_InstallationDescription!$Q:$Q,0)),\"\")","v":""},null,null,"xxx"]
[]
[null,null,null,"(a)",{"$f":"Translations!$B$583","v":"Type de fonctionnement:"},null,null,null,null,null,null,null,{"$f":"IF(S135=TRUE,T135,\"\")","v":""},null,null,null,{"$f":"EUconst_CNTR_SourceCategory&C135","v":"SourceCategory_M1"}]
["HIDE_Example"]
["HIDE_Example",null,null,{"$f":"Translations!$B$452","v":"Exemple de données:"},null,null,null,{"$f":"Translations!$B$279","v":"Cheminée de chaudière à charbon, plateforme de mesure A"},null,null,null,null,"CO2"]
["HIDE_Example"]
["HIDE_Example",null,null,null,null,null,null,{"$f":"Translations!$B$584","v":"Exploitation normale et fonctionnement non classique"},null,null,null,null,{"$f":"Translations!$B$313","v":"Flux majeur"}]
["HIDE_Example"]
[null,null,null,null,{"$f":"Translations!$B$585","v":"Veuillez préciser ici si ce point de mesure est un point d’émission/de mesure lors de l’exploitation normale ou pendant un fonctionnement non classique (phases de fonctionnement restreint et de transition, y compris pannes ou phases de mise en service). "},null,null,null,null,null,null,null,null,null,null,null,null,null,null,null,null,null,"cond. Format?"]
[null,null,null,null,{"$f":"Translations!$B$586","v":"Les informations qui apparaissant dans les champs verts sont automatiquement reprises du point 6 d) de la feuille C_InstallationDescription."}]
[]
[null,null,null,{"$f":"Translations!$B$446","v":"Assistance automatique pour les niveaux applicables:"}]
[]
[null,null,null,null,{"$f":"Translations!$B$587","v":"Dans les champs verts ci-dessous s’affichent les niveaux requis pour les méthodes fondées sur la mesure, en fonction des données que vous avez saisies aux rubriques 5 d) et 6 d). Il s’agit des niveaux minimaux pour des sources d’émission majeures. Toutefois, des niveaux plus bas peuvent être admis.  Des conseils appropriés s’affichent dans l’encadré vert ci-dessous, en fonction des points suivants:"}]
[null,null,null,null,"-",{"$f":"Translations!$B$588","v":"Des exigences allégées s’appliquent aux sources d’émission émettant moins de 5 000 tonnes de CO2(e) par an ou qui représentent moins de 10 % des émissions annuelles totales de l’installation, la quantité la plus élevée étant retenue, conformément à l’article 41, paragraphe 1."}]
[]
[null,null,null,null,{"$f":"IF(H135=\"\",\"\",INDEX(EUconst_CEMSTiersMsg,MATCH(Q151,EUconst_CEMSTiers,0)))","v":""},null,null,null,null,null,null,null,null,null,null,null,{"$f":"IF(CNTR_SmallEmitter=TRUE,EUconst_CNTR_SmallEmitter,EUconst_CNTR_NoSmallEmitter) & \"_\" & IF(M137=\"\",1,MATCH(M137,SourceCategoryCEMS,0))","v":"NoSmallEmitter__1"}]
["HIDE_Example",null,null,null,{"$f":"Translations!$B$589","v":"Article 41: Le niveau minimal affiché ci-dessous s’applique.\nVous ne pouvez appliquer un niveau encore plus bas (le niveau 1 étant un minimum) que si vous parvenez à démontrer de manière concluante à l'autorité compétente que l'application du niveau requis, de même que l'application d'une méthode de calcul avec les niveaux requis à l'article 26, n'est pas techniquement réalisable ou risque d'entraîner des coûts excessifs."}]
[]
[null,null,null,{"$f":"Translations!$B$590","v":"Instruments et niveaux:"}]
[]
[null,null,null,"(b)",{"$f":"Translations!$B$472","v":"Instruments de mesure utilisés:"}]
["HIDE_Example",null,null,null,null,null,null,{"$f":"Translations!$B$591","v":"MM1: CO2"},{"$f":"Translations!$B$592","v":"MM2: Débit"}]
[]
[null,null,null,null,{"$f":"Translations!$B$593","v":"Veuillez sélectionner ici un ou plusieurs des instruments que vous avez définis à la rubrique 9 c)."}]
[null,null,null,null,{"$f":"Translations!$B$594","v":"Si plus de 5 instruments de mesure sont utilisés pour ce point de mesure, veuillez utiliser la zone de texte ci-dessous pour compléter la description."}]
[]
[null,null,null,null,{"$f":"Translations!$B$475","v":"Commentaire/Description de la méthode, lorsque plusieurs instruments sont utilisés:"}]
[]
[]
[]
[]
[null,null,null,null,null,null,null,null,null,null,null,null,null,null,null,null,null,null,"Tier def."]
[null,null,null,"(c)",{"$f":"Translations!$B$595","v":"Niveau requis:"},null,null,{"$f":"IF(H135=\"\",\"\",IF(CNTR_Category=\"A\",INDEX(EUconst_CEMSMinimumTiers,MATCH(M135,EUconst_CEMSTypes,0)),INDEX(EUconst_CEMSHighestTiers,MATCH(M135,EUconst_CEMSTypes,0))))","v":""},{"$f":"IF(H168=\"\",\"\",IF(S168=0,EUconst_NA,IF(ISERROR(S168),\"\",EUconst_MsgTierActivityLevel & \" \" &S168)))","v":""},null,null,null,null,null,null,null,null,null,{"$f":"IF(H168=\"\",\"\",IF(H168=EUconst_NA,\"\",INDEX(EUwideConstants!$H$778:$O$781,MATCH(M135,EUconst_CEMSTypes,0),MATCH(H168,CNTR_TierList,0))))","v":""}]
[null,null,null,"(d)",{"$f":"Translations!$B$596","v":"Niveau utilisé:"},null,null,null,{"$f":"IF(OR(ISBLANK(H169),H169=EUconst_NoTier),\"\",IF(S169=EUconst_NA,EUconst_NA,IF(ISERROR(S169),\"\",EUconst_MsgTierActivityLevel & \" \" &S169)))","v":""},null,null,null,null,null,null,null,null,null,{"$f":"IF(H169=\"\",\"\",IF(H169=EUconst_NA,\"\",INDEX(EUwideConstants!$H$778:$O$781,MATCH(M135,EUconst_CEMSTypes,0),MATCH(H169,CNTR_TierList,0))))","v":""}]
[null,null,null,"(e)",{"$f":"Translations!$B$479","v":"Incertitude constatée:  "},null,null,null,{"$f":"Translations!$B$480","v":"Remarque:"}]
["HIDE_Example",null,null,{"$f":"Translations!$B$452","v":"Exemple de données:"}]
["HIDE_Example",null,null,"(c)",{"$f":"Translations!$B$595","v":"Niveau requis:"},null,null,4,{"$f":"Translations!$B$482","v":"L’incertitude ne doit pas dépasser + 2,5% "}]
["HIDE_Example",null,null,"(d)",{"$f":"Translations!$B$596","v":"Niveau utilisé:"},null,null,3,{"$f":"Translations!$B$481","v":"L’incertitude ne doit pas dépasser + 5,0% "}]
["HIDE_Example",null,null,"(e)",{"$f":"Translations!$B$479","v":"Incertitude constatée:  "},null,null,3.5999999999999997E-2,{"$f":"Translations!$B$480","v":"Remarque:"}]
["HIDE_Example"]
[null,null,null,null,{"$f":"Translations!$B$597","v":"En ce qui concerne le niveau requis et le niveau utilisé, veuillez indiquer ici l’incertitude globale sur l’ensemble de la période de déclaration."}]
[null,null,null,null,{"$f":"Translations!$B$598","v":"En général, cette valeur doit résulter d’une évaluation de l’incertitude [voir rubrique 7 c)]. "}]
[null,null,null,null,{"$f":"Translations!$B$488","v":"Veuillez utiliser la zone de texte [point h) ci-dessous] pour décrire la manière dont est déterminée l’incertitude sur l’ensemble de la période."}]
[]
[null,null,null,{"$f":"Translations!$B$599","v":"Normes et procédures:"}]
[]
[null,null,null,"(f)",{"$f":"Translations!$B$600","v":"Normes appliquées et divergences éventuelles par rapport à ces normes"}]
[null,null,null,null,{"$f":"Translations!$B$601","v":"Veuillez utiliser les références figurant dans le tableau 9 e) ci-dessus, suivant le cas."}]
[]
[]
[]
[]
[]
[null,null,null,"(g)",{"$f":"Translations!$B$602","v":"Références des procédures"}]
[null,null,null,null,{"$f":"Translations!$B$603","v":"Afin de décrire de manière exhaustive les méthodes appliquées, il convient de fournir les informations suivantes. Veuillez indiquer les références des procédures écrites appropriées. Ces procédures seront décrites à la rubrique 11 de la présente feuille, ci-après."}]
[]
[null,null,null,null,"i.",{"$f":"Translations!$B$604","v":"Formules de calcul utilisées pour l'agrégation de données et pour déterminer les émissions annuelles"}]
[]
[]
[null,null,null,null,"ii.",{"$f":"Translations!$B$605","v":"Méthode utilisée pour déterminer s'il est possible de calculer des heures de données valides ou des périodes de référence plus courtes pour chaque paramètre (à l’aide du seuil indiqué à l’article 44, paragraphe 2), ainsi que pour la substitution des données manquantes conformément à l'article 45"}]
[]
[]
[null,null,null,null,"iii.",{"$f":"Translations!$B$606","v":"Calcul du débit des effluents gazeux, le cas échéant"}]
[]
[]
[null,null,null,null,"iv.",{"$f":"Translations!$B$1356","v":"Détermination du CO2 issu de la biomasse ou de toute autre fraction dont le facteur d'émission est considéré comme égal à zéro, le cas échéant"}]
[]
[]
[null,null,null,null,"v.",{"$f":"Translations!$B$608","v":"Calculs de corroboration effectués, le cas échéant, conformément à l’article 46"}]
[]
[]
[null,null,null,{"$f":"Translations!$B$545","v":"Remarques et explications:"}]
[]
[null,null,null,"(h)",{"$f":"Translations!$B$1202","v":"Remarques et justification lorsque le niveau requis n’est pas appliqué:"}]
[null,null,null,null,{"$f":"Translations!$B$609","v":"Veuillez faire part de vos remarques éventuelles ci-dessous. Des explications peuvent s’avérer nécessaires, par exemple pour la méthode d’estimation de la biomasse, pour d’autres mesures QA/QC, etc."}]
[null,null,null,null,{"$f":"Translations!$B$610","v":"Si le niveau requis conformément à l’article 41 n’est pas appliqué pour ce point de mesure, veuillez fournir une justification ici."}]
[]
[]
[]
[]
[]
[null,null,null,null,null,null,null,null,null,null,null,null,null,null,null,null,null,null,null,null,null,null,null,null,"make grey?"]
[null,null,{"$f":"\"M\"&Q218","v":"M2"},{"$f":"CONCATENATE(EUconst_MeasurementPoint,\" \",Q218,\":\")","v":"Point de mesure 2:"},null,null,null,{"$f":"IF(INDEX(C_InstallationDescription!$F$171:$F$176,MATCH(C218,C_InstallationDescription!$E$171:$E$176,0))>0,INDEX(C_InstallationDescription!$F$171:$F$176,MATCH(C218,C_InstallationDescription!$E$171:$E$176,0)),\"\")","v":""},null,null,null,null,{"$f":"IF(U218=TRUE,V218,\"\")","v":""},null,null,null,2,null,{"$f":"IF(INDEX(C_InstallationDescription!$M:$M,MATCH(Q220,C_InstallationDescription!$Q:$Q,0))=\"\",FALSE,TRUE)","v":false},{"$f":"IF(S218=TRUE,INDEX(C_InstallationDescription!$M:$M,MATCH(Q220,C_InstallationDescription!$Q:$Q,0)),\"\")","v":""},{"$f":"IF(INDEX(C_InstallationDescription!$N:$N,MATCH(Q220,C_InstallationDescription!$Q:$Q,0))=\"\",FALSE,TRUE)","v":false},{"$f":"IF(U218=TRUE,INDEX(C_InstallationDescription!$N:$N,MATCH(Q220,C_InstallationDescription!$Q:$Q,0)),\"\")","v":""},null,null,"xxx"]
[]
[null,null,null,"(a)",{"$f":"Translations!$B$583","v":"Type de fonctionnement:"},null,null,null,null,null,null,null,{"$f":"IF(S218=TRUE,T218,\"\")","v":""},null,null,null,{"$f":"EUconst_CNTR_SourceCategory&C218","v":"SourceCategory_M2"}]
[]
[null,null,null,{"$f":"Translations!$B$446","v":"Assistance automatique pour les niveaux applicables:"}]
[]
[]
[null,null,null,null,{"$f":"IF(H218=\"\",\"\",INDEX(EUconst_CEMSTiersMsg,MATCH(Q225,EUconst_CEMSTiers,0)))","v":""},null,null,null,null,null,null,null,null,null,null,null,{"$f":"IF(CNTR_SmallEmitter=TRUE,EUconst_CNTR_SmallEmitter,EUconst_CNTR_NoSmallEmitter) & \"_\" & IF(M220=\"\",1,MATCH(M220,SourceCategoryCEMS,0))","v":"NoSmallEmitter__1"}]
[]
[null,null,null,{"$f":"Translations!$B$590","v":"Instruments et niveaux:"}]
[]
[null,null,null,"(b)",{"$f":"Translations!$B$472","v":"Instruments de mesure utilisés:"}]
[]
[null,null,null,null,{"$f":"Translations!$B$475","v":"Commentaire/Description de la méthode, lorsque plusieurs instruments sont utilisés:"}]
[]
[]
[]
[]
[null,null,null,null,null,null,null,null,null,null,null,null,null,null,null,null,null,null,"Tier def."]
[null,null,null,"(c)",{"$f":"Translations!$B$595","v":"Niveau requis:"},null,null,{"$f":"IF(H218=\"\",\"\",IF(CNTR_Category=\"A\",INDEX(EUconst_CEMSMinimumTiers,MATCH(M218,EUconst_CEMSTypes,0)),INDEX(EUconst_CEMSHighestTiers,MATCH(M218,EUconst_CEMSTypes,0))))","v":""},{"$f":"IF(H237=\"\",\"\",IF(S237=0,EUconst_NA,IF(ISERROR(S237),\"\",EUconst_MsgTierActivityLevel & \" \" &S237)))","v":""},null,null,null,null,null,null,null,null,null,{"$f":"IF(H237=\"\",\"\",IF(H237=EUconst_NA,\"\",INDEX(EUwideConstants!$H$778:$O$781,MATCH(M218,EUconst_CEMSTypes,0),MATCH(H237,CNTR_TierList,0))))","v":""}]
[null,null,null,"(d)",{"$f":"Translations!$B$596","v":"Niveau utilisé:"},null,null,null,{"$f":"IF(OR(ISBLANK(H238),H238=EUconst_NoTier),\"\",IF(S238=EUconst_NA,EUconst_NA,IF(ISERROR(S238),\"\",EUconst_MsgTierActivityLevel & \" \" &S238)))","v":""},null,null,null,null,null,null,null,null,null,{"$f":"IF(H238=\"\",\"\",IF(H238=EUconst_NA,\"\",INDEX(EUwideConstants!$H$778:$O$781,MATCH(M218,EUconst_CEMSTypes,0),MATCH(H238,CNTR_TierList,0))))","v":""}]
[null,null,null,"(e)",{"$f":"Translations!$B$479","v":"Incertitude constatée:  "},null,null,null,{"$f":"Translations!$B$480","v":"Remarque:"}]
[]
[null,null,null,{"$f":"Translations!$B$599","v":"Normes et procédures:"}]
[]
[null,null,null,"(f)",{"$f":"Translations!$B$600","v":"Normes appliquées et divergences éventuelles par rapport à ces normes"}]
[null,null,null,null,{"$f":"Translations!$B$601","v":"Veuillez utiliser les références figurant dans le tableau 9 e) ci-dessus, suivant le cas."}]
[]
[]
[]
[]
[]
[null,null,null,"(g)",{"$f":"Translations!$B$602","v":"Références des procédures"}]
[]
[null,null,null,null,"i.",{"$f":"Translations!$B$604","v":"Formules de calcul utilisées pour l'agrégation de données et pour déterminer les émissions annuelles"}]
[]
[]
[null,null,null,null,"ii.",{"$f":"Translations!$B$605","v":"Méthode utilisée pour déterminer s'il est possible de calculer des heures de données valides ou des périodes de référence plus courtes pour chaque paramètre (à l’aide du seuil indiqué à l’article 44, paragraphe 2), ainsi que pour la substitution des données manquantes conformément à l'article 45"}]
[]
[]
[null,null,null,null,"iii.",{"$f":"Translations!$B$606","v":"Calcul du débit des effluents gazeux, le cas échéant"}]
[]
[]
[null,null,null,null,"iv.",{"$f":"Translations!$B$1356","v":"Détermination du CO2 issu de la biomasse ou de toute autre fraction dont le facteur d'émission est considéré comme égal à zéro, le cas échéant"}]
[]
[]
[null,null,null,null,"v.",{"$f":"Translations!$B$608","v":"Calculs de corroboration effectués, le cas échéant, conformément à l’article 46"}]
[]
[]
[null,null,null,{"$f":"Translations!$B$545","v":"Remarques et explications:"}]
[]
[null,null,null,"(h)",{"$f":"Translations!$B$1202","v":"Remarques et justification lorsque le niveau requis n’est pas appliqué:"}]
[]
[]
[]
[]
[]
[null,null,null,null,null,null,null,null,null,null,null,null,null,null,null,null,null,null,null,null,null,null,null,null,"make grey?"]
[null,null,{"$f":"\"M\"&Q276","v":"M3"},{"$f":"CONCATENATE(EUconst_MeasurementPoint,\" \",Q276,\":\")","v":"Point de mesure 3:"},null,null,null,{"$f":"IF(INDEX(C_InstallationDescription!$F$171:$F$176,MATCH(C276,C_InstallationDescription!$E$171:$E$176,0))>0,INDEX(C_InstallationDescription!$F$171:$F$176,MATCH(C276,C_InstallationDescription!$E$171:$E$176,0)),\"\")","v":""},null,null,null,null,{"$f":"IF(U276=TRUE,V276,\"\")","v":""},null,null,null,{"$f":"Q218+1","v":3},null,{"$f":"IF(INDEX(C_InstallationDescription!$M:$M,MATCH(Q278,C_InstallationDescription!$Q:$Q,0))=\"\",FALSE,TRUE)","v":false},{"$f":"IF(S276=TRUE,INDEX(C_InstallationDescription!$M:$M,MATCH(Q278,C_InstallationDescription!$Q:$Q,0)),\"\")","v":""},{"$f":"IF(INDEX(C_InstallationDescription!$N:$N,MATCH(Q278,C_InstallationDescription!$Q:$Q,0))=\"\",FALSE,TRUE)","v":false},{"$f":"IF(U276=TRUE,INDEX(C_InstallationDescription!$N:$N,MATCH(Q278,C_InstallationDescription!$Q:$Q,0)),\"\")","v":""},null,null,"xxx"]
[]
[null,null,null,"(a)",{"$f":"Translations!$B$583","v":"Type de fonctionnement:"},null,null,null,null,null,null,null,{"$f":"IF(S276=TRUE,T276,\"\")","v":""},null,null,null,{"$f":"EUconst_CNTR_SourceCategory&C276","v":"SourceCategory_M3"}]
[]
[null,null,null,{"$f":"Translations!$B$446","v":"Assistance automatique pour les niveaux applicables:"}]
[]
[]
[null,null,null,null,{"$f":"IF(H276=\"\",\"\",INDEX(EUconst_CEMSTiersMsg,MATCH(Q283,EUconst_CEMSTiers,0)))","v":""},null,null,null,null,null,null,null,null,null,null,null,{"$f":"IF(CNTR_SmallEmitter=TRUE,EUconst_CNTR_SmallEmitter,EUconst_CNTR_NoSmallEmitter) & \"_\" & IF(M278=\"\",1,MATCH(M278,SourceCategoryCEMS,0))","v":"NoSmallEmitter__1"}]
[]
[null,null,null,{"$f":"Translations!$B$590","v":"Instruments et niveaux:"}]
[]
[null,null,null,"(b)",{"$f":"Translations!$B$472","v":"Instruments de mesure utilisés:"}]
[]
[null,null,null,null,{"$f":"Translations!$B$475","v":"Commentaire/Description de la méthode, lorsque plusieurs instruments sont utilisés:"}]
[]
[]
[]
[]
[null,null,null,null,null,null,null,null,null,null,null,null,null,null,null,null,null,null,"Tier def."]
[null,null,null,"(c)",{"$f":"Translations!$B$595","v":"Niveau requis:"},null,null,{"$f":"IF(H276=\"\",\"\",IF(CNTR_Category=\"A\",INDEX(EUconst_CEMSMinimumTiers,MATCH(M276,EUconst_CEMSTypes,0)),INDEX(EUconst_CEMSHighestTiers,MATCH(M276,EUconst_CEMSTypes,0))))","v":""},{"$f":"IF(H295=\"\",\"\",IF(S295=0,EUconst_NA,IF(ISERROR(S295),\"\",EUconst_MsgTierActivityLevel & \" \" &S295)))","v":""},null,null,null,null,null,null,null,null,null,{"$f":"IF(H295=\"\",\"\",IF(H295=EUconst_NA,\"\",INDEX(EUwideConstants!$H$778:$O$781,MATCH(M276,EUconst_CEMSTypes,0),MATCH(H295,CNTR_TierList,0))))","v":""}]
[null,null,null,"(d)",{"$f":"Translations!$B$596","v":"Niveau utilisé:"},null,null,null,{"$f":"IF(OR(ISBLANK(H296),H296=EUconst_NoTier),\"\",IF(S296=EUconst_NA,EUconst_NA,IF(ISERROR(S296),\"\",EUconst_MsgTierActivityLevel & \" \" &S296)))","v":""},null,null,null,null,null,null,null,null,null,{"$f":"IF(H296=\"\",\"\",IF(H296=EUconst_NA,\"\",INDEX(EUwideConstants!$H$778:$O$781,MATCH(M276,EUconst_CEMSTypes,0),MATCH(H296,CNTR_TierList,0))))","v":""}]
[null,null,null,"(e)",{"$f":"Translations!$B$479","v":"Incertitude constatée:  "},null,null,null,{"$f":"Translations!$B$480","v":"Remarque:"}]
[]
[null,null,null,{"$f":"Translations!$B$599","v":"Normes et procédures:"}]
[]
[null,null,null,"(f)",{"$f":"Translations!$B$600","v":"Normes appliquées et divergences éventuelles par rapport à ces normes"}]
[null,null,null,null,{"$f":"Translations!$B$601","v":"Veuillez utiliser les références figurant dans le tableau 9 e) ci-dessus, suivant le cas."}]
[]
[]
[]
[]
[]
[null,null,null,"(g)",{"$f":"Translations!$B$602","v":"Références des procédures"}]
[]
[null,null,null,null,"i.",{"$f":"Translations!$B$604","v":"Formules de calcul utilisées pour l'agrégation de données et pour déterminer les émissions annuelles"}]
[]
[]
[null,null,null,null,"ii.",{"$f":"Translations!$B$605","v":"Méthode utilisée pour déterminer s'il est possible de calculer des heures de données valides ou des périodes de référence plus courtes pour chaque paramètre (à l’aide du seuil indiqué à l’article 44, paragraphe 2), ainsi que pour la substitution des données manquantes conformément à l'article 45"}]
[]
[]
[null,null,null,null,"iii.",{"$f":"Translations!$B$606","v":"Calcul du débit des effluents gazeux, le cas échéant"}]
[]
[]
[null,null,null,null,"iv.",{"$f":"Translations!$B$1356","v":"Détermination du CO2 issu de la biomasse ou de toute autre fraction dont le facteur d'émission est considéré comme égal à zéro, le cas échéant"}]
[]
[]
[null,null,null,null,"v.",{"$f":"Translations!$B$608","v":"Calculs de corroboration effectués, le cas échéant, conformément à l’article 46"}]
[]
[]
[null,null,null,{"$f":"Translations!$B$545","v":"Remarques et explications:"}]
[]
[null,null,null,"(h)",{"$f":"Translations!$B$1202","v":"Remarques et justification lorsque le niveau requis n’est pas appliqué:"}]
[]
[]
[]
[]
[]
[null,null,null,null,null,null,null,null,null,null,null,null,null,null,null,null,null,null,null,null,null,null,null,null,"make grey?"]
[null,null,{"$f":"\"M\"&Q334","v":"M4"},{"$f":"CONCATENATE(EUconst_MeasurementPoint,\" \",Q334,\":\")","v":"Point de mesure 4:"},null,null,null,{"$f":"IF(INDEX(C_InstallationDescription!$F$171:$F$176,MATCH(C334,C_InstallationDescription!$E$171:$E$176,0))>0,INDEX(C_InstallationDescription!$F$171:$F$176,MATCH(C334,C_InstallationDescription!$E$171:$E$176,0)),\"\")","v":""},null,null,null,null,{"$f":"IF(U334=TRUE,V334,\"\")","v":""},null,null,null,{"$f":"Q276+1","v":4},null,{"$f":"IF(INDEX(C_InstallationDescription!$M:$M,MATCH(Q336,C_InstallationDescription!$Q:$Q,0))=\"\",FALSE,TRUE)","v":false},{"$f":"IF(S334=TRUE,INDEX(C_InstallationDescription!$M:$M,MATCH(Q336,C_InstallationDescription!$Q:$Q,0)),\"\")","v":""},{"$f":"IF(INDEX(C_InstallationDescription!$N:$N,MATCH(Q336,C_InstallationDescription!$Q:$Q,0))=\"\",FALSE,TRUE)","v":false},{"$f":"IF(U334=TRUE,INDEX(C_InstallationDescription!$N:$N,MATCH(Q336,C_InstallationDescription!$Q:$Q,0)),\"\")","v":""},null,null,"xxx"]
[]
[null,null,null,"(a)",{"$f":"Translations!$B$583","v":"Type de fonctionnement:"},null,null,null,null,null,null,null,{"$f":"IF(S334=TRUE,T334,\"\")","v":""},null,null,null,{"$f":"EUconst_CNTR_SourceCategory&C334","v":"SourceCategory_M4"}]
[]
[null,null,null,{"$f":"Translations!$B$446","v":"Assistance automatique pour les niveaux applicables:"}]
[]
[]
[null,null,null,null,{"$f":"IF(H334=\"\",\"\",INDEX(EUconst_CEMSTiersMsg,MATCH(Q341,EUconst_CEMSTiers,0)))","v":""},null,null,null,null,null,null,null,null,null,null,null,{"$f":"IF(CNTR_SmallEmitter=TRUE,EUconst_CNTR_SmallEmitter,EUconst_CNTR_NoSmallEmitter) & \"_\" & IF(M336=\"\",1,MATCH(M336,SourceCategoryCEMS,0))","v":"NoSmallEmitter__1"}]
[]
[null,null,null,{"$f":"Translations!$B$590","v":"Instruments et niveaux:"}]
[]
[null,null,null,"(b)",{"$f":"Translations!$B$472","v":"Instruments de mesure utilisés:"}]
[]
[null,null,null,null,{"$f":"Translations!$B$475","v":"Commentaire/Description de la méthode, lorsque plusieurs instruments sont utilisés:"}]
[]
[]
[]
[]
[null,null,null,null,null,null,null,null,null,null,null,null,null,null,null,null,null,null,"Tier def."]
[null,null,null,"(c)",{"$f":"Translations!$B$595","v":"Niveau requis:"},null,null,{"$f":"IF(H334=\"\",\"\",IF(CNTR_Category=\"A\",INDEX(EUconst_CEMSMinimumTiers,MATCH(M334,EUconst_CEMSTypes,0)),INDEX(EUconst_CEMSHighestTiers,MATCH(M334,EUconst_CEMSTypes,0))))","v":""},{"$f":"IF(H353=\"\",\"\",IF(S353=0,EUconst_NA,IF(ISERROR(S353),\"\",EUconst_MsgTierActivityLevel & \" \" &S353)))","v":""},null,null,null,null,null,null,null,null,null,{"$f":"IF(H353=\"\",\"\",IF(H353=EUconst_NA,\"\",INDEX(EUwideConstants!$H$778:$O$781,MATCH(M334,EUconst_CEMSTypes,0),MATCH(H353,CNTR_TierList,0))))","v":""}]
[null,null,null,"(d)",{"$f":"Translations!$B$596","v":"Niveau utilisé:"},null,null,null,{"$f":"IF(OR(ISBLANK(H354),H354=EUconst_NoTier),\"\",IF(S354=EUconst_NA,EUconst_NA,IF(ISERROR(S354),\"\",EUconst_MsgTierActivityLevel & \" \" &S354)))","v":""},null,null,null,null,null,null,null,null,null,{"$f":"IF(H354=\"\",\"\",IF(H354=EUconst_NA,\"\",INDEX(EUwideConstants!$H$778:$O$781,MATCH(M334,EUconst_CEMSTypes,0),MATCH(H354,CNTR_TierList,0))))","v":""}]
[null,null,null,"(e)",{"$f":"Translations!$B$479","v":"Incertitude constatée:  "},null,null,null,{"$f":"Translations!$B$480","v":"Remarque:"}]
[]
[null,null,null,{"$f":"Translations!$B$599","v":"Normes et procédures:"}]
[]
[null,null,null,"(f)",{"$f":"Translations!$B$600","v":"Normes appliquées et divergences éventuelles par rapport à ces normes"}]
[null,null,null,null,{"$f":"Translations!$B$601","v":"Veuillez utiliser les références figurant dans le tableau 9 e) ci-dessus, suivant le cas."}]
[]
[]
[]
[]
[]
[null,null,null,"(g)",{"$f":"Translations!$B$602","v":"Références des procédures"}]
[]
[null,null,null,null,"i.",{"$f":"Translations!$B$604","v":"Formules de calcul utilisées pour l'agrégation de données et pour déterminer les émissions annuelles"}]
[]
[]
[null,null,null,null,"ii.",{"$f":"Translations!$B$605","v":"Méthode utilisée pour déterminer s'il est possible de calculer des heures de données valides ou des périodes de référence plus courtes pour chaque paramètre (à l’aide du seuil indiqué à l’article 44, paragraphe 2), ainsi que pour la substitution des données manquantes conformément à l'article 45"}]
[]
[]
[null,null,null,null,"iii.",{"$f":"Translations!$B$606","v":"Calcul du débit des effluents gazeux, le cas échéant"}]
[]
[]
[null,null,null,null,"iv.",{"$f":"Translations!$B$1356","v":"Détermination du CO2 issu de la biomasse ou de toute autre fraction dont le facteur d'émission est considéré comme égal à zéro, le cas échéant"}]
[]
[]
[null,null,null,null,"v.",{"$f":"Translations!$B$608","v":"Calculs de corroboration effectués, le cas échéant, conformément à l’article 46"}]
[]
[]
[null,null,null,{"$f":"Translations!$B$545","v":"Remarques et explications:"}]
[]
[null,null,null,"(h)",{"$f":"Translations!$B$1202","v":"Remarques et justification lorsque le niveau requis n’est pas appliqué:"}]
[]
[]
[]
[]
[]
["ADD_CompleteMeasurementPoint",null,null,null,null,null,null,null,null,null,null,null,null,null,null,null,null,null,null,null,null,null,null,null,"make grey?"]
[null,null,{"$f":"\"M\"&Q392","v":"M5"},{"$f":"CONCATENATE(EUconst_MeasurementPoint,\" \",Q392,\":\")","v":"Point de mesure 5:"},null,null,null,{"$f":"IF(INDEX(C_InstallationDescription!$F$171:$F$176,MATCH(C392,C_InstallationDescription!$E$171:$E$176,0))>0,INDEX(C_InstallationDescription!$F$171:$F$176,MATCH(C392,C_InstallationDescription!$E$171:$E$176,0)),\"\")","v":""},null,null,null,null,{"$f":"IF(U392=TRUE,V392,\"\")","v":""},null,null,null,{"$f":"Q334+1","v":5},null,{"$f":"IF(INDEX(C_InstallationDescription!$M:$M,MATCH(Q394,C_InstallationDescription!$Q:$Q,0))=\"\",FALSE,TRUE)","v":false},{"$f":"IF(S392=TRUE,INDEX(C_InstallationDescription!$M:$M,MATCH(Q394,C_InstallationDescription!$Q:$Q,0)),\"\")","v":""},{"$f":"IF(INDEX(C_InstallationDescription!$N:$N,MATCH(Q394,C_InstallationDescription!$Q:$Q,0))=\"\",FALSE,TRUE)","v":false},{"$f":"IF(U392=TRUE,INDEX(C_InstallationDescription!$N:$N,MATCH(Q394,C_InstallationDescription!$Q:$Q,0)),\"\")","v":""},null,null,"xxx"]
[]
[null,null,null,"(a)",{"$f":"Translations!$B$583","v":"Type de fonctionnement:"},null,null,null,null,null,null,null,{"$f":"IF(S392=TRUE,T392,\"\")","v":""},null,null,null,{"$f":"EUconst_CNTR_SourceCategory&C392","v":"SourceCategory_M5"}]
[]
[null,null,null,{"$f":"Translations!$B$446","v":"Assistance automatique pour les niveaux applicables:"}]
[]
[]
[null,null,null,null,{"$f":"IF(H392=\"\",\"\",INDEX(EUconst_CEMSTiersMsg,MATCH(Q399,EUconst_CEMSTiers,0)))","v":""},null,null,null,null,null,null,null,null,null,null,null,{"$f":"IF(CNTR_SmallEmitter=TRUE,EUconst_CNTR_SmallEmitter,EUconst_CNTR_NoSmallEmitter) & \"_\" & IF(M394=\"\",1,MATCH(M394,SourceCategoryCEMS,0))","v":"NoSmallEmitter__1"}]
[]
[null,null,null,{"$f":"Translations!$B$590","v":"Instruments et niveaux:"}]
[]
[null,null,null,"(b)",{"$f":"Translations!$B$472","v":"Instruments de mesure utilisés:"}]
[]
[null,null,null,null,{"$f":"Translations!$B$475","v":"Commentaire/Description de la méthode, lorsque plusieurs instruments sont utilisés:"}]
[]
[]
[]
[]
[null,null,null,null,null,null,null,null,null,null,null,null,null,null,null,null,null,null,"Tier def."]
[null,null,null,"(c)",{"$f":"Translations!$B$595","v":"Niveau requis:"},null,null,{"$f":"IF(H392=\"\",\"\",IF(CNTR_Category=\"A\",INDEX(EUconst_CEMSMinimumTiers,MATCH(M392,EUconst_CEMSTypes,0)),INDEX(EUconst_CEMSHighestTiers,MATCH(M392,EUconst_CEMSTypes,0))))","v":""},{"$f":"IF(H411=\"\",\"\",IF(S411=0,EUconst_NA,IF(ISERROR(S411),\"\",EUconst_MsgTierActivityLevel & \" \" &S411)))","v":""},null,null,null,null,null,null,null,null,null,{"$f":"IF(H411=\"\",\"\",IF(H411=EUconst_NA,\"\",INDEX(EUwideConstants!$H$778:$O$781,MATCH(M392,EUconst_CEMSTypes,0),MATCH(H411,CNTR_TierList,0))))","v":""}]
[null,null,null,"(d)",{"$f":"Translations!$B$596","v":"Niveau utilisé:"},null,null,null,{"$f":"IF(OR(ISBLANK(H412),H412=EUconst_NoTier),\"\",IF(S412=EUconst_NA,EUconst_NA,IF(ISERROR(S412),\"\",EUconst_MsgTierActivityLevel & \" \" &S412)))","v":""},null,null,null,null,null,null,null,null,null,{"$f":"IF(H412=\"\",\"\",IF(H412=EUconst_NA,\"\",INDEX(EUwideConstants!$H$778:$O$781,MATCH(M392,EUconst_CEMSTypes,0),MATCH(H412,CNTR_TierList,0))))","v":""}]
[null,null,null,"(e)",{"$f":"Translations!$B$479","v":"Incertitude constatée:  "},null,null,null,{"$f":"Translations!$B$480","v":"Remarque:"}]
[]
[null,null,null,{"$f":"Translations!$B$599","v":"Normes et procédures:"}]
[]
[null,null,null,"(f)",{"$f":"Translations!$B$600","v":"Normes appliquées et divergences éventuelles par rapport à ces normes"}]
[null,null,null,null,{"$f":"Translations!$B$601","v":"Veuillez utiliser les références figurant dans le tableau 9 e) ci-dessus, suivant le cas."}]
[]
[]
[]
[]
[]
[null,null,null,"(g)",{"$f":"Translations!$B$602","v":"Références des procédures"}]
[]
[null,null,null,null,"i.",{"$f":"Translations!$B$604","v":"Formules de calcul utilisées pour l'agrégation de données et pour déterminer les émissions annuelles"}]
[]
[]
[null,null,null,null,"ii.",{"$f":"Translations!$B$605","v":"Méthode utilisée pour déterminer s'il est possible de calculer des heures de données valides ou des périodes de référence plus courtes pour chaque paramètre (à l’aide du seuil indiqué à l’article 44, paragraphe 2), ainsi que pour la substitution des données manquantes conformément à l'article 45"}]
[]
[]
[null,null,null,null,"iii.",{"$f":"Translations!$B$606","v":"Calcul du débit des effluents gazeux, le cas échéant"}]
[]
[]
[null,null,null,null,"iv.",{"$f":"Translations!$B$1356","v":"Détermination du CO2 issu de la biomasse ou de toute autre fraction dont le facteur d'émission est considéré comme égal à zéro, le cas échéant"}]
[]
[]
[null,null,null,null,"v.",{"$f":"Translations!$B$608","v":"Calculs de corroboration effectués, le cas échéant, conformément à l’article 46"}]
[]
[]
[null,null,null,{"$f":"Translations!$B$545","v":"Remarques et explications:"}]
[]
[null,null,null,"(h)",{"$f":"Translations!$B$1202","v":"Remarques et justification lorsque le niveau requis n’est pas appliqué:"}]
[]
[]
[]
[]
[]
["ADD_CompleteMeasurementPoint"]
[]
[null,null,11,{"$f":"Translations!$B$23","v":"Organisation et procédures relatives aux méthodes fondées sur la mesure"}]
[]
[null,null,null,"(a)",{"$f":"Translations!$B$611","v":"Veuillez détailler les procédures écrites et notamment les méthodes et les formules de calcul utilisées pour l’agrégation des données et pour la détermination des émissions annuelles de CO2 lorsque des méthodes fondées sur la mesure sont appliquées."}]
[null,null,null,null,{"$f":"Translations!$B$612","v":"Veuillez fournir des précisions sur les procédures écrites conformément à l’article 44 du MRR."}]
[null,null,null,null,{"$f":"Translations!$B$613","v":"Lorsque plusieurs procédures sont utilisées aux mêmes fins mais pour des sources d’émission ou des points de mesure différents,  veuillez préciser la procédure globale qui couvre les éléments communs et l’assurance qualité des méthodes appliquées."}]
[null,null,null,null,{"$f":"Translations!$B$614","v":"Vous pouvez donc soit indiquer les références des différentes «sous-procédures», soit fournir des détails sur chaque procédure séparément.  Dans ce dernier cas, veuillez utiliser le bouton «ajouter des procédures» à la fin de cette feuille. Veuillez toutefois vous assurer de pouvoir indiquer clairement la référence de la (sous-)procédure appropriée. "}]
[]
[null,null,null,null,{"$f":"Translations!$B$405","v":"Intitulé de la procédure"}]
[null,null,null,null,{"$f":"Translations!$B$407","v":"Référence de la procédure"}]
[null,null,null,null,{"$f":"Translations!$B$409","v":"Références du schéma (le cas échéant):"}]
[null,null,null,null,{"$f":"Translations!$B$615","v":"Brève description de la procédure. La description doit couvrir les principaux paramètres et les principales opérations effectuées."}]
[null,null,null,null,{"$f":"Translations!$B$414","v":"Poste ou service responsable de la procédure et de toute donnée générée."}]
[null,null,null,null,{"$f":"Translations!$B$416","v":"Lieu d'archivage"}]
[null,null,null,null,{"$f":"Translations!$B$418","v":"Nom du système informatique utilisé (le cas échéant)."}]
[null,null,null,null,{"$f":"Translations!$B$420","v":"Liste des normes EN ou autres appliquées (le cas échéant)"}]
[]
[null,null,null,"(b)",{"$f":"Translations!$B$616","v":"Veuillez fournir des précisions sur les procédures écrites qui décrivent les méthodes utilisées pour déterminer les heures valides (ou les périodes de référence plus courtes) pour chaque paramètre et pour la substitution des données manquantes."}]
[null,null,null,null,{"$f":"Translations!$B$617","v":"Veuillez fournir des précisions sur les procédures écrites qui décrivent les méthodes utilisées pour déterminer s’il est possible de calculer des heures de données valides ou des périodes de référence plus courtes pour chaque paramètre,  ainsi que pour la substitution des données manquantes conformément à l'article 45."}]
[]
[null,null,null,null,{"$f":"Translations!$B$405","v":"Intitulé de la procédure"}]
[null,null,null,null,{"$f":"Translations!$B$407","v":"Référence de la procédure"}]
[null,null,null,null,{"$f":"Translations!$B$409","v":"Références du schéma (le cas échéant):"}]
[null,null,null,null,{"$f":"Translations!$B$615","v":"Brève description de la procédure. La description doit couvrir les principaux paramètres et les principales opérations effectuées."}]
[null,null,null,null,{"$f":"Translations!$B$414","v":"Poste ou service responsable de la procédure et de toute donnée générée."}]
[null,null,null,null,{"$f":"Translations!$B$416","v":"Lieu d'archivage"}]
[null,null,null,null,{"$f":"Translations!$B$418","v":"Nom du système informatique utilisé (le cas échéant)."}]
[null,null,null,null,{"$f":"Translations!$B$420","v":"Liste des normes EN ou autres appliquées (le cas échéant)"}]
[]
[null,null,null,"(c)",{"$f":"Translations!$B$618","v":"Si le débit des effluents gazeux est déterminé par calcul, veuillez fournir des précisions sur la procédure écrite correspondant à ce calcul, pour chaque source d’émission concernée, conformément à l’article 43, paragraphe 5, point a), du MRR."}]
[null,null,null,null,{"$f":"Translations!$B$405","v":"Intitulé de la procédure"}]
[null,null,null,null,{"$f":"Translations!$B$407","v":"Référence de la procédure"}]
[null,null,null,null,{"$f":"Translations!$B$409","v":"Références du schéma (le cas échéant):"}]
[null,null,null,null,{"$f":"Translations!$B$615","v":"Brève description de la procédure. La description doit couvrir les principaux paramètres et les principales opérations effectuées."}]
[null,null,null,null,{"$f":"Translations!$B$414","v":"Poste ou service responsable de la procédure et de toute donnée générée."}]
[null,null,null,null,{"$f":"Translations!$B$416","v":"Lieu d'archivage"}]
[null,null,null,null,{"$f":"Translations!$B$418","v":"Nom du système informatique utilisé (le cas échéant)."}]
[null,null,null,null,{"$f":"Translations!$B$420","v":"Liste des normes EN ou autres appliquées (le cas échéant)"}]
[]
[null,null,null,"(d)",{"$f":"Translations!$B$1203","v":"Si le CO2 issu de la biomasse est inclus dans la mesure des émissions, veuillez fournir des précisions sur la procédure écrite détaillant la méthode à appliquer pour déterminer ce CO2 et le déduire des émissions mesurées de CO2, le cas échéant, conformément à l’article 43, paragraphe 4 et paragraphe 4, point a), du MRR."}]
[null,null,null,null,{"$f":"Translations!$B$405","v":"Intitulé de la procédure"}]
[null,null,null,null,{"$f":"Translations!$B$407","v":"Référence de la procédure"}]
[null,null,null,null,{"$f":"Translations!$B$409","v":"Références du schéma (le cas échéant):"}]
[null,null,null,null,{"$f":"Translations!$B$615","v":"Brève description de la procédure. La description doit couvrir les principaux paramètres et les principales opérations effectuées."}]
[null,null,null,null,{"$f":"Translations!$B$414","v":"Poste ou service responsable de la procédure et de toute donnée générée."}]
[null,null,null,null,{"$f":"Translations!$B$416","v":"Lieu d'archivage"}]
[null,null,null,null,{"$f":"Translations!$B$418","v":"Nom du système informatique utilisé (le cas échéant)."}]
[null,null,null,null,{"$f":"Translations!$B$420","v":"Liste des normes EN ou autres appliquées (le cas échéant)"}]
[]
[null,null,null,"(e)",{"$f":"Translations!$B$620","v":"Veuillez fournir des précisions sur la procédure écrite relative à l’exécution des calculs de corroboration, le cas échéant, conformément à l'article 46 du MRR."}]
[null,null,null,null,{"$f":"Translations!$B$405","v":"Intitulé de la procédure"}]
[null,null,null,null,{"$f":"Translations!$B$407","v":"Référence de la procédure"}]
[null,null,null,null,{"$f":"Translations!$B$409","v":"Références du schéma (le cas échéant):"}]
[null,null,null,null,{"$f":"Translations!$B$615","v":"Brève description de la procédure. La description doit couvrir les principaux paramètres et les principales opérations effectuées."}]
[null,null,null,null,{"$f":"Translations!$B$414","v":"Poste ou service responsable de la procédure et de toute donnée générée."}]
[null,null,null,null,{"$f":"Translations!$B$416","v":"Lieu d'archivage"}]
[null,null,null,null,{"$f":"Translations!$B$418","v":"Nom du système informatique utilisé (le cas échéant)."}]
[null,null,null,null,{"$f":"Translations!$B$420","v":"Liste des normes EN ou autres appliquées (le cas échéant)"}]
["ausblenden"]
["ausblenden",null,null,null,{"$f":"Translations!$B$1150","v":"Further procedure added by the operator"}]
["ausblenden"]
["ausblenden",null,null,null,{"$f":"Translations!$B$405","v":"Intitulé de la procédure"}]
["ausblenden",null,null,null,{"$f":"Translations!$B$407","v":"Référence de la procédure"}]
["ausblenden",null,null,null,{"$f":"Translations!$B$409","v":"Références du schéma (le cas échéant):"}]
["ausblenden",null,null,null,{"$f":"Translations!$B$615","v":"Brève description de la procédure. La description doit couvrir les principaux paramètres et les principales opérations effectuées."}]
["ausblenden"]
["ausblenden"]
["ausblenden",null,null,null,{"$f":"Translations!$B$414","v":"Poste ou service responsable de la procédure et de toute donnée générée."}]
["ausblenden",null,null,null,{"$f":"Translations!$B$416","v":"Lieu d'archivage"}]
["ausblenden",null,null,null,{"$f":"Translations!$B$418","v":"Nom du système informatique utilisé (le cas échéant)."}]
["ausblenden",null,null,null,{"$f":"Translations!$B$420","v":"Liste des normes EN ou autres appliquées (le cas échéant)"}]
["ADD_Procedure"]
[null,null,null,null,null,null,{"$f":"Translations!$B$429","v":"Cliquez sur « + » pour ajouter d’autres procédures"}]
[]
[]
[]
[null,null,null,null,null,{"$f":"EUconst_MsgNextSheet","v":"<<< Cliquer ici pour passer à la feuille suivante >>> "}]

{"sheet":"G_Fall-backApproach","index":8,"n_rows":86,"n_cols":12,"rows_kept":86,"cut":false,"hidden":false,"merged":[[77,4,77,5],[73,4,73,5],[63,6,63,13],[65,6,65,13],[75,6,75,13],[73,6,73,13],[70,6,70,13],[64,6,64,13],[66,4,66,5],[70,4,70,5],[62,6,62,13],[85,5,85,11],[81,6,83,10],[76,6,76,13],[72,4,72,5],[79,6,79,13],[72,6,72,13],[78,4,78,5],[79,4,79,5],[78,6,78,13],[74,6,74,13],[77,6,77,13],[71,6,71,13],[76,4,76,5],[71,4,71,5],[68,4,68,13],[55,4,55,13],[45,4,45,13],[66,6,66,13],[62,4,62,5],[59,4,59,5],[59,6,59,13],[64,4,64,5],[63,4,63,5],[65,4,65,5],[60,4,60,5],[61,4,61,5],[61,6,61,13],[60,6,60,13],[50,4,50,13],[51,4,51,13],[57,4,57,13],[52,4,52,13],[53,4,53,13],[54,4,54,13],[43,4,43,13],[41,4,41,13],[44,4,44,13],[49,4,49,13],[48,4,48,13],[46,4,46,13],[47,4,47,13],[40,4,40,13],[14,4,14,13],[11,2,11,13],[13,4,13,13],[12,4,12,13],[39,4,39,13],[37,4,37,13],[36,4,36,13],[28,4,28,13],[29,4,29,13],[33,4,33,13],[34,4,34,13],[30,4,30,13],[31,4,31,13],[32,4,32,13],[35,4,35,13],[26,4,26,13],[27,4,27,13],[3,8,3,9],[3,4,3,5],[25,4,25,13],[16,4,16,13],[23,4,23,13],[24,4,24,13],[21,4,21,13],[3,6,3,7],[20,4,20,13],[22,4,22,13],[18,4,18,13],[19,4,19,13],[7,10,7,13],[15,4,15,13],[2,4,2,5],[2,6,2,7],[2,8,2,9],[2,12,2,13],[9,3,9,13],[1,1,3,3],[1,10,1,11],[5,2,5,10],[1,6,1,7],[1,8,1,9],[2,10,2,11],[1,4,1,5],[5,11,5,13],[3,10,3,11],[1,12,1,13],[3,12,3,13]]}
["ausblenden"]
[null,{"$f":"Translations!$B$621","v":"G. Fall-back approaches"},null,null,{"$f":"Translations!$B$59","v":"Zone de navigation:"},null,{"$f":"Translations!$B$60","v":"Sommaire"},null,{"$f":"Translations!$B$61","v":"Feuille précédente"},null,{"$f":"Translations!$B$62","v":"Feuille suivante"}]
[null,null,null,null,{"$f":"Translations!$B$63","v":"Début de feuille"}]
[null,null,null,null,{"$f":"Translations!$B$64","v":"Fin de feuille"}]
[]
[null,null,{"$f":"Translations!$B$24","v":"G. Fall-back Approaches (Méthodes alternatives)"},null,null,null,null,null,null,null,null,{"$f":"IF(AND(NOT(ISBLANK(CNTR_InstHasFallBack)), CNTR_InstHasFallBack=FALSE),EUconst_NotRelevant,EUconst_Relevant)","v":"pertinent"}]
[]
[null,null,null,null,null,null,null,null,null,null,{"$f":"IF(L6=EUconst_NotRelevant,HYPERLINK(\"#JUMP_H_Top\",EUconst_MsgNextSheet),HYPERLINK(\"\",EUconst_MsgEnterThisSection))","v":"Veuillez saisir des données dans cette rubrique"}]
[]
[null,null,12,{"$f":"Translations!$B$25","v":"Description de la méthode alternative"}]
[]
[null,null,{"$f":"Translations!$B$622","v":"L’article 22 du MRR dispose qu’un exploitant peut recourir à une méthode qui ne repose par sur des niveaux pour certains flux ou sources d'émission, pour autant que certains critères définis dans ledit article soient respectés.Veuillez remplir cette rubrique si vous envisagez d’appliquer une telle méthode alternative pour des flux ou des sources d’émission. Votre autorité compétente pourra vous demander de plus amples informations pour justifier cette méthode."}]
[]
[null,null,null,"(a)",{"$f":"Translations!$B$623","v":"En cas d’application d’une méthode alternative de surveillance conformément à l’article 22 du MRR, veuillez fournir une description détaillée de la méthode de surveillance employée pour tous les flux ou sources d’émissions pour lesquels il n’est pas appliqué de méthode par niveaux."}]
[null,null,null,null,{"$f":"Translations!$B$624","v":"Veuillez décrire de façon concise dans la zone de texte ci-dessous la méthode de surveillance utilisée, formules comprises, pour déterminer les émissions annuelles de CO2 ou de CO2(e) de votre installation."}]
[null,null,null,null,{"$f":"Translations!$B$338","v":"Si la description est trop complexe (utilisation de formules complexes, par exemple), vous pouvez fournir cette description dans un document séparé, dans un format de fichier acceptable par l’AC.    Veuillez dans ce cas fournir la référence de ce fichier en indiquant le nom de fichier et la date."}]
[null,null,null,null,{"$f":"Translations!$B$195","v":"La description doit contenir les liens qui sont nécessaires pour comprendre la manière dont les informations fournies dans les autres parties du présent modèle sont utilisées pour calculer les émissions. Ces données peuvent être aussi synthétiques que dans l’exemple donné dans la feuille D­_CalculationBasedApproaches, rubrique 7 a)."}]
[]
[]
[]
[]
[]
[]
[]
[]
[]
[]
[]
[]
[]
[]
[]
[]
[]
[]
[]
[]
[]
[]
[null,null,null,"(b) ",{"$f":"Translations!$B$625","v":"Veuillez justifier brièvement l'application d’une méthode alternative pour les sources d’émission susmentionnées, conformément aux dispositions de l’article 22."}]
[null,null,null,null,{"$f":"Translations!$B$626","v":"Vous devez être en mesure de démontrer que l’incertitude globale associée au niveau annuel des émissions de gaz à effet de serre de l’ensemble de l’installation ne dépasse pas 7,5 % dans le cas d’une installation de catégorie A, 5,0 % dans le cas d’une installation de catégorie B et 2,5 % dans le cas d’une installation de catégorie C. Remarque: L’autorité compétente pourra vous demander une justification détaillée démontrant que l’application d’une méthode par niveaux fondée sur le calcul ou sur la mesure n’est pas techniquement réalisable ou risque d’entraîner des coûts excessifs."}]
[null,null,null,null,{"$f":"Translations!$B$338","v":"Si la description est trop complexe (utilisation de formules complexes, par exemple), vous pouvez fournir cette description dans un document séparé, dans un format de fichier acceptable par l’AC.    Veuillez dans ce cas fournir la référence de ce fichier en indiquant le nom de fichier et la date."}]
[]
[]
[]
[]
[]
[]
[]
[]
[]
[]
[]
[]
[]
[]
[]
[null,null,null,"(c)",{"$f":"Translations!$B$627","v":"Veuillez fournir des précisions sur les procédures écrites utilisées pour effectuer l'analyse annuelle de l’incertitude requise par l’article 22 du MRR."}]
[]
[null,null,null,null,{"$f":"Translations!$B$405","v":"Intitulé de la procédure"}]
[null,null,null,null,{"$f":"Translations!$B$407","v":"Référence de la procédure"}]
[null,null,null,null,{"$f":"Translations!$B$409","v":"Références du schéma (le cas échéant):"}]
[null,null,null,null,{"$f":"Translations!$B$615","v":"Brève description de la procédure. La description doit couvrir les principaux paramètres et les principales opérations effectuées."}]
[null,null,null,null,{"$f":"Translations!$B$414","v":"Poste ou service responsable de la procédure et de toute donnée générée."}]
[null,null,null,null,{"$f":"Translations!$B$416","v":"Lieu d'archivage"}]
[null,null,null,null,{"$f":"Translations!$B$418","v":"Nom du système informatique utilisé (le cas échéant)."}]
[null,null,null,null,{"$f":"Translations!$B$420","v":"Liste des normes EN ou autres appliquées (le cas échéant)"}]
["ausblenden"]
["ausblenden",null,null,null,{"$f":"Translations!$B$1150","v":"Further procedure added by the operator"}]
["ausblenden"]
["ausblenden",null,null,null,{"$f":"Translations!$B$405","v":"Intitulé de la procédure"}]
["ausblenden",null,null,null,{"$f":"Translations!$B$407","v":"Référence de la procédure"}]
["ausblenden",null,null,null,{"$f":"Translations!$B$409","v":"Références du schéma (le cas échéant):"}]
["ausblenden",null,null,null,{"$f":"Translations!$B$411","v":"Description succincte de la procédure    "}]
["ausblenden"]
["ausblenden"]
["ausblenden",null,null,null,{"$f":"Translations!$B$414","v":"Poste ou service responsable de la procédure et de toute donnée générée."}]
["ausblenden",null,null,null,{"$f":"Translations!$B$416","v":"Lieu d'archivage"}]
["ausblenden",null,null,null,{"$f":"Translations!$B$418","v":"Nom du système informatique utilisé (le cas échéant)."}]
["ausblenden",null,null,null,{"$f":"Translations!$B$420","v":"Liste des normes EN ou autres appliquées (le cas échéant)"}]
["ADD_Procedure"]
[null,null,null,null,null,null,{"$f":"Translations!$B$429","v":"Cliquez sur « + » pour ajouter d’autres procédures"}]
[]
[]
[]
[null,null,null,null,null,{"$f":"EUconst_MsgNextSheet","v":"<<< Cliquer ici pour passer à la feuille suivante >>> "}]

{"sheet":"H_N2O","index":9,"n_rows":116,"n_cols":12,"rows_kept":116,"cut":false,"hidden":false,"merged":[[21,4,21,5],[23,6,23,13],[24,6,24,13],[27,6,27,13],[28,6,28,13],[26,4,26,13],[1,1,3,3],[3,4,3,5],[19,6,19,13],[1,10,1,11],[2,4,2,5],[2,6,2,7],[1,8,1,9],[1,12,1,13],[2,8,2,9],[2,10,2,11],[1,4,1,5],[1,6,1,7],[9,3,9,13],[3,8,3,9],[3,10,3,11],[3,6,3,7],[2,12,2,13],[3,12,3,13],[20,6,20,13],[15,4,15,5],[16,4,16,5],[5,2,5,10],[5,11,5,13],[17,6,17,13],[15,6,15,13],[18,4,18,5],[18,6,18,13],[17,4,17,5],[16,6,16,13],[14,4,14,13],[11,4,11,13],[12,4,12,13],[7,10,7,13],[48,4,48,5],[22,6,22,13],[21,6,21,13],[29,4,29,5],[72,4,72,5],[65,6,65,13],[60,4,60,5],[22,4,22,5],[30,4,30,5],[71,4,71,5],[71,6,71,13],[66,4,66,5],[69,4,69,5],[70,4,70,5],[63,4,63,5],[41,4,41,5],[39,4,39,5],[53,4,53,5],[65,4,65,5],[62,4,62,13],[54,4,54,5],[45,6,45,13],[46,6,46,13],[52,4,52,5],[110,6,112,10],[90,4,90,13],[91,4,91,13],[92,4,92,13],[93,4,93,13],[107,4,107,5],[107,6,107,13],[94,4,94,13],[95,4,95,13],[108,6,108,13],[108,4,108,5],[105,4,105,5],[106,4,106,5],[106,6,106,13],[105,6,105,13],[101,4,101,5],[101,6,101,13],[104,6,104,13],[103,6,103,13],[74,4,74,13],[75,4,75,13],[76,4,76,13],[77,4,77,13],[100,4,100,5],[89,4,89,13],[86,4,86,13],[80,4,80,13],[100,6,100,13],[81,4,81,13],[85,4,85,13],[78,4,78,13],[79,4,79,13],[99,4,99,5],[82,4,82,13],[84,4,84,13],[83,4,83,13],[99,6,99,13],[87,4,87,13],[88,4,88,13],[97,4,97,13],[59,4,59,5],[64,4,64,5],[51,4,51,5],[55,6,55,13],[56,6,56,13],[57,4,57,5],[58,4,58,5],[72,6,72,13],[70,6,70,13],[57,6,57,13],[58,6,58,13],[59,6,59,13],[68,6,68,13],[63,6,63,13],[67,6,67,13],[69,6,69,13],[24,4,24,5],[23,4,23,5],[27,4,27,5],[28,4,28,5],[42,6,42,13],[34,4,34,5],[36,6,36,13],[38,4,38,13],[33,4,33,5],[34,6,34,13],[39,6,39,13],[29,6,29,13],[30,6,30,13],[31,6,31,13],[35,6,35,13],[40,4,40,5],[36,4,36,5],[115,5,115,11],[32,6,32,13],[33,6,33,13],[102,4,102,5],[102,6,102,13],[35,4,35,5],[50,4,50,13],[47,4,47,5],[40,6,40,13],[41,6,41,13],[53,6,53,13],[54,6,54,13],[43,6,43,13],[44,6,44,13],[45,4,45,5],[46,4,46,5],[47,6,47,13],[42,4,42,5],[48,6,48,13],[51,6,51,13],[52,6,52,13],[66,6,66,13],[60,6,60,13],[64,6,64,13]]}
["ausblenden"]
[null,{"$f":"Translations!$B$26","v":"H. N2O emissions (Émissions de N2O)"},null,null,{"$f":"Translations!$B$59","v":"Zone de navigation:"},null,{"$f":"Translations!$B$60","v":"Sommaire"},null,{"$f":"Translations!$B$61","v":"Feuille précédente"},null,{"$f":"Translations!$B$62","v":"Feuille suivante"}]
[null,null,null,null,{"$f":"Translations!$B$63","v":"Début de feuille"}]
[null,null,null,null,{"$f":"Translations!$B$64","v":"Fin de feuille"}]
[]
[null,null,{"$f":"Translations!$B$26","v":"H. N2O emissions (Émissions de N2O)"},null,null,null,null,null,null,null,null,{"$f":"IF(AND(NOT(ISBLANK(CNTR_InstHasN2O)), CNTR_InstHasN2O=FALSE),EUconst_NotRelevant,EUconst_Relevant)","v":"pertinent"}]
[]
[null,null,null,null,null,null,null,null,null,null,{"$f":"IF(L6=EUconst_NotRelevant,HYPERLINK(\"#JUMP_I_Top\",EUconst_MsgNextSheet),HYPERLINK(\"\",EUconst_MsgEnterThisSection))","v":"Veuillez saisir des données dans cette rubrique"}]
[]
[null,null,13,{"$f":"Translations!$B$27","v":"Organisation et procédures de surveillance des émissions de N2O"}]
[]
[null,null,null,null,{"$f":"Translations!$B$628","v":"Remarque: Cette rubrique doit être remplie pour la détermination des émissions de N2O résultant de certaines activités de production dans une installation. Les émissions de N2O résultant de la combustion de combustibles ne sont pas prises en compte.  Veuillez vous assurer d’avoir bien indiqué les informations relatives à votre système de mesure dans la feuille F­_MeasurementBasedApproaches."}]
[null,null,null,null,{"$f":"Translations!$B$629","v":"Les informations à fournir dans la présente feuille ne concernant pas la surveillance du CO2. "}]
[]
[null,null,null,"(a)",{"$f":"Translations!$B$630","v":"Veuillez fournir des précisions sur la procédure écrite décrivant la méthode et les paramètres utilisés pour déterminer la quantité de matières utilisées dans le procédé de production et la quantité maximale de matières utilisée à pleine capacité."}]
[null,null,null,null,{"$f":"Translations!$B$405","v":"Intitulé de la procédure"}]
[null,null,null,null,{"$f":"Translations!$B$407","v":"Référence de la procédure"}]
[null,null,null,null,{"$f":"Translations!$B$409","v":"Références du schéma (le cas échéant):"}]
[null,null,null,null,{"$f":"Translations!$B$411","v":"Description succincte de la procédure    "}]
[]
[]
[null,null,null,null,{"$f":"Translations!$B$414","v":"Poste ou service responsable de la procédure et de toute donnée générée."}]
[null,null,null,null,{"$f":"Translations!$B$416","v":"Lieu d'archivage"}]
[null,null,null,null,{"$f":"Translations!$B$418","v":"Nom du système informatique utilisé (le cas échéant)."}]
[null,null,null,null,{"$f":"Translations!$B$420","v":"Liste des normes EN ou autres appliquées (le cas échéant)"}]
[]
[null,null,null,"(b)",{"$f":"Translations!$B$631","v":"Veuillez fournir des précisions sur la procédure écrite décrivant la méthode et les paramètres utilisés pour déterminer la quantité de produit fabriquée, en tant que production horaire, exprimée en acide nitrique (100 %), en acide adipique (100 %), caprolactame, glyoxal et acide glyoxylique par heure;"}]
[null,null,null,null,{"$f":"Translations!$B$405","v":"Intitulé de la procédure"}]
[null,null,null,null,{"$f":"Translations!$B$407","v":"Référence de la procédure"}]
[null,null,null,null,{"$f":"Translations!$B$409","v":"Références du schéma (le cas échéant):"}]
[null,null,null,null,{"$f":"Translations!$B$411","v":"Description succincte de la procédure    "}]
[]
[]
[null,null,null,null,{"$f":"Translations!$B$414","v":"Poste ou service responsable de la procédure et de toute donnée générée."}]
[null,null,null,null,{"$f":"Translations!$B$416","v":"Lieu d'archivage"}]
[null,null,null,null,{"$f":"Translations!$B$418","v":"Nom du système informatique utilisé (le cas échéant)."}]
[null,null,null,null,{"$f":"Translations!$B$420","v":"Liste des normes EN ou autres appliquées (le cas échéant)"}]
[]
[null,null,null,"(c)",{"$f":"Translations!$B$632","v":"Veuillez fournir des précisions sur la procédure écrite décrivant la méthode et les paramètres utilisés pour déterminer la concentration de N2O dans les effluents gazeux de chaque source d’émission, la plage de fonctionnement et l’incertitude associée, ainsi que toute méthode alternative à appliquer si les concentrations se situent en dehors de la plage de fonctionnement et précisant les situations dans lesquelles cela peut se produire."}]
[null,null,null,null,{"$f":"Translations!$B$405","v":"Intitulé de la procédure"}]
[null,null,null,null,{"$f":"Translations!$B$407","v":"Référence de la procédure"}]
[null,null,null,null,{"$f":"Translations!$B$409","v":"Références du schéma (le cas échéant):"}]
[null,null,null,null,{"$f":"Translations!$B$411","v":"Description succincte de la procédure    "}]
[]
[]
[null,null,null,null,{"$f":"Translations!$B$414","v":"Poste ou service responsable de la procédure et de toute donnée générée."}]
[null,null,null,null,{"$f":"Translations!$B$416","v":"Lieu d'archivage"}]
[null,null,null,null,{"$f":"Translations!$B$418","v":"Nom du système informatique utilisé (le cas échéant)."}]
[null,null,null,null,{"$f":"Translations!$B$420","v":"Liste des normes EN ou autres appliquées (le cas échéant)"}]
[]
[null,null,null,"(d)",{"$f":"Translations!$B$633","v":"Veuillez fournir des précisions sur la procédure écrite détaillant la méthode de calcul utilisée pour déterminer les émissions de N2O provenant de sources périodiques non soumises à dispositif antipollution lors de la production d’acide nitrique, d'acide adipique, de caprolactame, de glyoxal et d’acide glyoxylique."}]
[null,null,null,null,{"$f":"Translations!$B$405","v":"Intitulé de la procédure"}]
[null,null,null,null,{"$f":"Translations!$B$407","v":"Référence de la procédure"}]
[null,null,null,null,{"$f":"Translations!$B$409","v":"Références du schéma (le cas échéant):"}]
[null,null,null,null,{"$f":"Translations!$B$411","v":"Description succincte de la procédure    "}]
[]
[]
[null,null,null,null,{"$f":"Translations!$B$414","v":"Poste ou service responsable de la procédure et de toute donnée générée."}]
[null,null,null,null,{"$f":"Translations!$B$416","v":"Lieu d'archivage"}]
[null,null,null,null,{"$f":"Translations!$B$418","v":"Nom du système informatique utilisé (le cas échéant)."}]
[null,null,null,null,{"$f":"Translations!$B$420","v":"Liste des normes EN ou autres appliquées (le cas échéant)"}]
[]
[null,null,null,"(e)",{"$f":"Translations!$B$634","v":"Veuillez fournir des précisions sur la procédure écrite décrivant la mesure dans laquelle ou les modalités suivant lesquelles l’installation fonctionne avec des charges variables, ainsi que les modalités de gestion opérationnelle."}]
[null,null,null,null,{"$f":"Translations!$B$405","v":"Intitulé de la procédure"}]
[null,null,null,null,{"$f":"Translations!$B$407","v":"Référence de la procédure"}]
[null,null,null,null,{"$f":"Translations!$B$409","v":"Références du schéma (le cas échéant):"}]
[null,null,null,null,{"$f":"Translations!$B$411","v":"Description succincte de la procédure    "}]
[]
[]
[null,null,null,null,{"$f":"Translations!$B$414","v":"Poste ou service responsable de la procédure et de toute donnée générée."}]
[null,null,null,null,{"$f":"Translations!$B$416","v":"Lieu d'archivage"}]
[null,null,null,null,{"$f":"Translations!$B$418","v":"Nom du système informatique utilisé (le cas échéant)."}]
[null,null,null,null,{"$f":"Translations!$B$420","v":"Liste des normes EN ou autres appliquées (le cas échéant)"}]
[]
[null,null,null,"(f)",{"$f":"Translations!$B$635","v":"Veuillez fournir des informations sur les conditions de déroulement d’un procédé qui s'écartent des conditions normales. "}]
[null,null,null,null,{"$f":"Translations!$B$636","v":"Il convient notamment d’indiquer ici la fréquence potentielle et la durée de ces conditions, ainsi que le volume approximatif des émissions de N2O dans de telles conditions (dysfonctionnement du dispositif antipollution, par exemple)."}]
[]
[]
[]
[]
[]
[]
[]
[]
[]
[]
[]
[]
[]
[]
[]
[]
[]
[]
[]
[]
["ausblenden"]
["ausblenden",null,null,null,{"$f":"Translations!$B$1150","v":"Further procedure added by the operator"}]
["ausblenden"]
["ausblenden",null,null,null,{"$f":"Translations!$B$405","v":"Intitulé de la procédure"}]
["ausblenden",null,null,null,{"$f":"Translations!$B$407","v":"Référence de la procédure"}]
["ausblenden",null,null,null,{"$f":"Translations!$B$409","v":"Références du schéma (le cas échéant):"}]
["ausblenden",null,null,null,{"$f":"Translations!$B$411","v":"Description succincte de la procédure    "}]
["ausblenden"]
["ausblenden"]
["ausblenden",null,null,null,{"$f":"Translations!$B$414","v":"Poste ou service responsable de la procédure et de toute donnée générée."}]
["ausblenden",null,null,null,{"$f":"Translations!$B$416","v":"Lieu d'archivage"}]
["ausblenden",null,null,null,{"$f":"Translations!$B$418","v":"Nom du système informatique utilisé (le cas échéant)."}]
["ausblenden",null,null,null,{"$f":"Translations!$B$420","v":"Liste des normes EN ou autres appliquées (le cas échéant)"}]
["ADD_Procedure"]
[null,null,null,null,null,null,{"$f":"Translations!$B$429","v":"Cliquez sur « + » pour ajouter d’autres procédures"}]
[]
[]
[]
[]
[null,null,null,null,null,{"$f":"EUconst_MsgNextSheet","v":"<<< Cliquer ici pour passer à la feuille suivante >>> "}]

{"sheet":"I_PFC","index":10,"n_rows":500,"n_cols":23,"rows_kept":500,"cut":false,"hidden":false,"merged":[[409,9,409,13],[410,9,410,13],[407,9,407,13],[419,3,419,13],[435,4,435,13],[436,4,436,13],[429,4,429,13],[430,4,430,13],[426,4,426,13],[428,4,428,13],[432,4,432,13],[434,4,434,13],[425,3,425,13],[404,3,404,13],[408,9,408,13],[387,9,387,13],[390,8,390,13],[391,8,391,13],[392,9,392,13],[395,8,395,13],[396,8,396,13],[397,9,397,13],[400,8,400,13],[401,8,401,13],[402,9,402,13],[385,8,385,13],[386,8,386,13],[370,4,370,6],[370,7,370,11],[371,4,371,6],[371,7,371,11],[373,3,373,13],[375,4,375,13],[377,3,377,13],[380,8,380,13],[381,8,381,13],[382,9,382,13],[367,3,367,6],[367,7,367,11],[367,12,367,13],[329,8,329,13],[330,9,330,13],[369,4,369,6],[369,7,369,11],[354,4,354,13],[356,4,356,13],[357,4,357,13],[337,9,337,13],[338,9,338,13],[347,3,347,13],[353,3,353,13],[363,4,363,13],[364,4,364,13],[358,4,358,13],[360,4,360,13],[362,4,362,13],[336,9,336,13],[335,9,335,13],[301,3,301,13],[303,4,303,13],[305,3,305,13],[308,8,308,13],[309,8,309,13],[310,9,310,13],[319,8,319,13],[332,3,332,13],[299,4,299,6],[299,7,299,11],[313,8,313,13],[314,8,314,13],[315,9,315,13],[318,8,318,13],[323,8,323,13],[324,8,324,13],[325,9,325,13],[328,8,328,13],[320,9,320,13],[286,4,286,13],[288,4,288,13],[295,7,295,11],[297,4,297,6],[290,4,290,13],[298,4,298,6],[298,7,298,11],[291,4,291,13],[246,8,246,13],[247,8,247,13],[292,4,292,13],[295,3,295,6],[264,9,264,13],[282,4,282,13],[266,9,266,13],[275,3,275,13],[281,3,281,13],[284,4,284,13],[285,4,285,13],[263,9,263,13],[2,12,2,13],[1,6,1,7],[22,3,22,13],[446,6,446,13],[241,8,241,13],[446,4,446,5],[1,12,1,13],[2,4,2,5],[1,10,1,11],[7,10,7,13],[1,4,1,5],[2,6,2,7],[2,8,2,9],[248,9,248,13],[3,6,3,7],[3,8,3,9],[223,3,223,6],[223,7,223,11],[223,12,223,13],[225,4,225,6],[251,8,251,13],[231,4,231,13],[440,3,440,13],[297,7,297,11],[14,4,14,13],[28,3,28,13],[23,3,23,13],[25,3,25,13],[26,3,26,13],[18,3,18,13],[16,4,16,13],[5,2,5,10],[5,11,5,13],[24,3,24,13],[11,3,11,14],[9,3,9,13],[15,4,15,13],[45,3,45,13],[39,9,39,13],[227,4,227,6],[30,3,30,13],[485,6,485,13],[484,4,484,5],[484,6,484,13],[485,4,485,5],[233,3,233,13],[238,9,238,13],[253,9,253,13],[447,4,447,5],[445,6,445,13],[447,6,447,13],[265,9,265,13],[444,6,444,13],[444,4,444,5],[445,4,445,5],[295,12,295,13],[256,8,256,13],[257,8,257,13],[258,9,258,13],[260,3,260,13],[229,3,229,13],[31,3,31,13],[44,3,44,13],[35,3,35,13],[32,3,32,13],[33,3,33,13],[34,3,34,13],[3,10,3,11],[3,12,3,13],[27,3,27,13],[1,1,3,3],[3,4,3,5],[2,10,2,11],[19,3,19,13],[20,3,20,13],[21,3,21,13],[1,8,1,9],[36,3,36,13],[37,3,37,13],[39,3,39,8],[43,3,43,13],[40,3,40,13],[42,3,42,13],[29,3,29,13],[13,3,13,13],[48,4,48,6],[49,4,49,6],[48,11,48,13],[49,11,49,13],[48,7,48,10],[80,5,80,13],[78,4,78,13],[79,5,79,13],[64,3,64,13],[72,4,72,6],[49,7,49,10],[50,7,50,10],[51,7,51,10],[52,7,52,10],[90,8,90,13],[84,4,84,13],[86,3,86,13],[73,4,73,6],[73,7,73,11],[72,7,72,11],[67,3,67,13],[68,3,68,13],[70,3,70,6],[81,5,81,13],[82,4,82,13],[499,5,499,11],[469,4,469,13],[489,6,489,13],[490,4,490,5],[490,6,490,13],[95,8,95,13],[91,9,91,13],[242,8,242,13],[139,4,139,13],[136,4,136,13],[151,7,151,11],[151,12,151,13],[226,4,226,6],[226,7,226,11],[94,8,94,13],[448,6,448,13],[451,6,451,13],[117,9,117,13],[113,3,113,13],[225,7,225,11],[450,4,450,5],[243,9,243,13],[166,9,166,13],[161,3,161,13],[442,4,442,13],[455,4,455,13],[451,4,451,5],[450,6,450,13],[449,6,449,13],[453,6,453,13],[480,6,480,13],[471,6,471,13],[472,6,472,13],[476,6,476,13],[474,6,474,13],[465,6,465,13],[478,6,478,13],[479,6,479,13],[452,4,452,5],[452,6,452,13],[464,6,464,13],[460,4,460,5],[461,6,461,13],[461,4,461,5],[464,4,464,5],[458,6,458,13],[460,6,460,13],[456,4,456,13],[459,4,459,5],[458,4,458,5],[459,6,459,13],[453,4,453,5],[462,6,462,13],[463,6,463,13],[466,4,466,5],[477,6,477,13],[474,4,474,5],[475,6,475,13],[467,4,467,5],[466,6,466,13],[467,6,467,13],[472,4,472,5],[477,4,477,5],[471,4,471,5],[473,4,473,5],[473,6,473,13],[465,4,465,5],[495,6,497,10],[482,4,482,13],[478,4,478,5],[479,4,479,5],[488,6,488,13],[493,4,493,5],[493,6,493,13],[486,6,486,13],[492,6,492,13],[491,6,491,13],[491,4,491,5],[480,4,480,5],[487,4,487,5],[487,6,487,13],[486,4,486,5],[492,4,492,5],[46,3,46,13],[51,4,51,6],[50,4,50,6],[175,8,175,13],[170,8,170,13],[171,9,171,13],[144,4,144,13],[153,7,153,11],[157,3,157,13],[153,4,153,6],[66,3,66,13],[53,4,53,6],[56,6,58,10],[62,3,62,13],[54,4,54,6],[52,4,52,6],[53,11,53,13],[54,11,54,13],[96,9,96,13],[99,8,99,13],[140,4,140,13],[118,9,118,13],[135,4,135,13],[164,8,164,13],[213,4,213,13],[209,3,209,13],[180,8,180,13],[210,4,210,13],[176,9,176,13],[179,8,179,13],[192,9,192,13],[186,9,186,13],[185,8,185,13],[193,9,193,13],[212,4,212,13],[194,9,194,13],[203,3,203,13],[191,9,191,13],[188,3,188,13],[181,9,181,13],[184,8,184,13],[159,4,159,13],[142,4,142,13],[119,9,119,13],[104,8,104,13],[105,8,105,13],[53,7,53,10],[54,7,54,10],[50,11,50,13],[51,11,51,13],[52,11,52,13],[65,3,65,13],[74,7,74,11],[76,3,76,13],[74,4,74,6],[70,7,70,11],[70,12,70,13],[100,8,100,13],[101,9,101,13],[110,8,110,13],[111,9,111,13],[109,8,109,13],[106,9,106,13],[116,9,116,13],[89,8,89,13],[227,7,227,11],[252,8,252,13],[236,8,236,13],[237,8,237,13],[134,3,134,13],[128,3,128,13],[155,4,155,6],[155,7,155,11],[151,3,151,6],[219,4,219,13],[220,4,220,13],[216,4,216,13],[218,4,218,13],[214,4,214,13],[169,8,169,13],[174,8,174,13],[165,8,165,13],[138,4,138,13],[154,4,154,6],[154,7,154,11],[148,4,148,13],[147,4,147,13],[143,4,143,13],[146,4,146,13]]}
["ausblenden",null,null,null,null,null,null,null,null,null,null,null,null,null,null,"ausblenden","ausblenden","ausblenden","ausblenden","ausblenden","ausblenden","ausblenden","ausblenden"]
[null,{"$f":"Translations!$B$637","v":"I. PFC emissions "},null,null,{"$f":"Translations!$B$59","v":"Zone de navigation:"},null,{"$f":"Translations!$B$60","v":"Sommaire"},null,{"$f":"Translations!$B$61","v":"Feuille précédente"},null,{"$f":"Translations!$B$62","v":"Feuille suivante"}]
[null,null,null,null,{"$f":"Translations!$B$63","v":"Début de feuille"},null,{"$f":"Translations!$B$29","v":"Détermination des émissions de PFC"},null,{"$f":"EUwideConstants!$A$94","v":"PFCs"},null,{"$f":"F_MeasurementBasedApproaches!$G$4","v":"Gestion et Procédures "}]
[null,null,null,null,{"$f":"Translations!$B$64","v":"Fin de feuille"}]
[]
[null,null,{"$f":"Translations!$B$28","v":"I. Determination of PFC emissions from production of primary aluminium (Détermination des émissions de PFC dues à la production d’aluminium primaire)"},null,null,null,null,null,null,null,null,{"$f":"IF(AND(NOT(ISBLANK(CNTR_InstHasPFC)), CNTR_InstHasPFC=FALSE),EUconst_NotRelevant,EUconst_Relevant)","v":"pertinent"}]
[]
[null,null,null,null,null,null,null,null,null,null,{"$f":"IF(L6=EUconst_NotRelevant,HYPERLINK(\"#JUMP_J_Top\",EUconst_MsgNextSheet),HYPERLINK(\"\",EUconst_MsgEnterThisSection))","v":"Veuillez saisir des données dans cette rubrique"}]
[]
[null,null,14,{"$f":"Translations!$B$29","v":"Détermination des émissions de PFC"}]
[]
[null,null,null,{"$f":"Translations!$B$638","v":"Remarque: cette rubrique doit être remplie pour la détermination des émissions d’hydrocarbures perfluorés résultant de la production ou la transformation d’aluminium primaire dans une installation.  Étant donné qu’une «méthode fondée sur le calcul» est utilisée ici, veuillez vous assurer d’avoir bien saisi toutes les données demandées à la rubrique 7 (feuille D­_CalculationBasedApproaches), à l’exception des précisions sur le flux et des procédures, qui doivent être indiquées ici. "}]
[]
[null,null,"(a)",{"$f":"Translations!$B$639","v":"Veuillez décrire de façon concise dans la zone de texte ci-dessous la méthode utilisée pour déterminer les émissions PFC de votre installation et pour convertir ces émissions en émissions annuelles de CO2(e)."}]
[null,null,null,null,{"$f":"Translations!$B$640","v":"Veuillez décrire de façon concise dans la zone de texte ci-dessous la méthode de surveillance, formules comprises, utilisée pour déterminer les émissions annuelles de CO2(e) de votre installation."}]
[null,null,null,null,{"$f":"Translations!$B$338","v":"Si la description est trop complexe (utilisation de formules complexes, par exemple), vous pouvez fournir cette description dans un document séparé, dans un format de fichier acceptable par l’AC.    Veuillez dans ce cas fournir la référence de ce fichier en indiquant le nom de fichier et la date."}]
[null,null,null,null,{"$f":"Translations!$B$195","v":"La description doit contenir les liens qui sont nécessaires pour comprendre la manière dont les informations fournies dans les autres parties du présent modèle sont utilisées pour calculer les émissions. Ces données peuvent être aussi synthétiques que dans l’exemple donné dans la feuille D­_CalculationBasedApproaches, rubrique 7 a)."}]
[]
[]
[]
[]
[]
[]
[]
[]
[]
[]
[]
[]
[]
[]
[]
[]
[]
[]
[]
[]
[]
[null,null,null,null,null,null,null,null,null,null,null,null,null,null,null,null,null,null,null,null,null,null,"make conditional"]
[null,null,"(b)",{"$f":"Translations!$B$561","v":"Schéma de procédé si l’autorité compétente le demande: "},null,null,null,null,null,null,null,null,null,null,null,null,null,null,null,null,null,null,{"$f":"CNTR_SmallEmitter=TRUE","v":false}]
[null,null,null,{"$f":"Translations!$B$641","v":"Veuillez indiquer la référence d’un schéma de procédé contenant tous les points et sources d'émission à prendre en considération pendant le fonctionnement normal et lors d'activités « non classiques », c.-à-d. pendant les phases de fonctionnement restreint et de transition, ainsi que lors des pannes ou des phases de mise en service."}]
[]
[null,null,"(c)",{"$f":"Translations!$B$642","v":"Liste des flux à surveiller en ce qui concerne les PFC:"}]
[null,null,null,{"$f":"Translations!$B$643","v":"Dans le cas des émissions de PFC, deux méthodes peuvent être utilisées (A : méthode des pentes, B: méthode de la surtension).Plusieurs types de cuves peuvent coexister dans une installation (par exemple, parce que la technique employée ou l’année de construction diffère) et leurs caractéristiques d’émission peuvent être différentes."}]
[null,null,null,{"$f":"Translations!$B$644","v":"Les groupes de cuves qui sont surveillés par la même méthode et qui présentent les mêmes caractéristiques d’émission (mêmes facteurs d’émission) sont à considérer comme des «flux» (c.-à-d. des entités à surveiller) par analogie avec d’autres méthodes de surveillance fondées sur le calcul.  "}]
[null,null,null,{"$f":"Translations!$B$645","v":"Veuillez indiquer ici, dans  la liste des «flux» de votre installation, la méthode de surveillance et le type de cuve/anode correspondant. Cette liste est automatiquement reprise de la rubrique 6 e) de la feuille C_InstallationDescription."}]
[null,null,null,{"$f":"Translations!$B$646","v":"Elle sera ensuite utilisée dans la rubrique suivante pour fournir d’autres précisions pour chaque flux. "}]
[]
[null,null,null,null,{"$f":"Translations!$B$288","v":"Nom du flux"},null,null,{"$f":"Translations!$B$289","v":"Type de flux"},null,null,null,{"$f":"Translations!$B$647","v":"Type de cuve"},null,null,null,null,null,null,null,null,{"$f":"Translations!$B$648","v":"Méthode de surveillance"}]
[null,null,null,{"$f":"IF(COUNTIF(CNTR_CheckPFC,S50)=0,\"\",INDEX(C_InstallationDescription!$E$194:$E$204,MATCH(S50,CNTR_CheckPFC,0)))","v":""},{"$f":"IF(D50=\"\",\"\",INDEX(C_InstallationDescription!$F$194:$F$204,MATCH(D50,C_InstallationDescription!$E$194:$E$204,0)))","v":""},null,null,{"$f":"IF(D50=\"\",\"\",INDEX(C_InstallationDescription!$I$194:$I$204,MATCH(D50,C_InstallationDescription!$E$194:$E$204,0)))","v":""},null,null,null,null,null,null,null,null,null,null,1,null,{"$f":"IF(D50=\"\",\"\",MATCH(H50,CNTR_PFCSourceStreams,0))","v":""}]
[null,null,null,{"$f":"IF(COUNTIF(CNTR_CheckPFC,S51)=0,\"\",INDEX(C_InstallationDescription!$E$194:$E$204,MATCH(S51,CNTR_CheckPFC,0)))","v":""},{"$f":"IF(D51=\"\",\"\",INDEX(C_InstallationDescription!$F$194:$F$204,MATCH(D51,C_InstallationDescription!$E$194:$E$204,0)))","v":""},null,null,{"$f":"IF(D51=\"\",\"\",INDEX(C_InstallationDescription!$I$194:$I$204,MATCH(D51,C_InstallationDescription!$E$194:$E$204,0)))","v":""},null,null,null,null,null,null,null,null,null,null,2,null,""]
[null,null,null,{"$f":"IF(COUNTIF(CNTR_CheckPFC,S52)=0,\"\",INDEX(C_InstallationDescription!$E$194:$E$204,MATCH(S52,CNTR_CheckPFC,0)))","v":""},{"$f":"IF(D52=\"\",\"\",INDEX(C_InstallationDescription!$F$194:$F$204,MATCH(D52,C_InstallationDescription!$E$194:$E$204,0)))","v":""},null,null,{"$f":"IF(D52=\"\",\"\",INDEX(C_InstallationDescription!$I$194:$I$204,MATCH(D52,C_InstallationDescription!$E$194:$E$204,0)))","v":""},null,null,null,null,null,null,null,null,null,null,3,null,""]
[null,null,null,{"$f":"IF(COUNTIF(CNTR_CheckPFC,S53)=0,\"\",INDEX(C_InstallationDescription!$E$194:$E$204,MATCH(S53,CNTR_CheckPFC,0)))","v":""},{"$f":"IF(D53=\"\",\"\",INDEX(C_InstallationDescription!$F$194:$F$204,MATCH(D53,C_InstallationDescription!$E$194:$E$204,0)))","v":""},null,null,{"$f":"IF(D53=\"\",\"\",INDEX(C_InstallationDescription!$I$194:$I$204,MATCH(D53,C_InstallationDescription!$E$194:$E$204,0)))","v":""},null,null,null,null,null,null,null,null,null,null,4,null,""]
[null,null,null,{"$f":"IF(COUNTIF(CNTR_CheckPFC,S54)=0,\"\",INDEX(C_InstallationDescription!$E$194:$E$204,MATCH(S54,CNTR_CheckPFC,0)))","v":""},{"$f":"IF(D54=\"\",\"\",INDEX(C_InstallationDescription!$F$194:$F$204,MATCH(D54,C_InstallationDescription!$E$194:$E$204,0)))","v":""},null,null,{"$f":"IF(D54=\"\",\"\",INDEX(C_InstallationDescription!$I$194:$I$204,MATCH(D54,C_InstallationDescription!$E$194:$E$204,0)))","v":""},null,null,null,null,null,null,null,null,null,null,5,null,""]
["ausblenden",null,null,{"$f":"IF(COUNTIF(CNTR_CheckPFC,S55)=0,\"\",INDEX(C_InstallationDescription!$E$194:$E$204,MATCH(S55,CNTR_CheckPFC,0)))","v":""},{"$f":"IF(D55=\"\",\"\",INDEX(C_InstallationDescription!$F$194:$F$204,MATCH(D55,C_InstallationDescription!$E$194:$E$204,0)))","v":""},null,null,{"$f":"IF(D55=\"\",\"\",INDEX(C_InstallationDescription!$I$194:$I$204,MATCH(D55,C_InstallationDescription!$E$194:$E$204,0)))","v":""},null,null,null,null,null,null,null,null,null,null,null,null,""]
["ADD_AluSourceStream"]
[null,null,null,null,null,null,{"$f":"Translations!$B$297","v":"Cliquez sur « + » pour ajouter d’autres flux"}]
[]
[]
[]
[]
[]
[null,null,15,{"$f":"Translations!$B$30","v":"Informations concernant la surveillance des flux d’émissions de PFC"}]
[null,null,null,null,null,null,null,null,null,null,null,null,null,null,null,null,null,null,"Check source stream category","auto","manual"]
[null,null,null,{"$f":"Translations!$B$433","v":"Veuillez noter que le texte explicatif ne s’affiche que pour le premier flux. "}]
[null,null,null,{"$f":"Translations!$B$434","v":"Si vous souhaitez afficher les données pour d’autres flux, veuillez cliquer sur les signes «+» à gauche (fonction de groupement de données)."}]
[null,null,null,{"$f":"Translations!$B$435","v":"Pour ajouter d’autres flux, veuillez passer à la rubrique 6 e) sur la feuille C­­_InstallationDescription, et utiliser la macro qui s'y trouve."}]
["ausblenden",null,null,{"$f":"Translations!$B$135","v":"Pour afficher/masquer les exemples, cliquez sur le bouton «Exemples» dans la zone de navigation."}]
["ausblenden",null,null,{"$f":"Translations!$B$436","v":"L’exemple est intégré dans le premier flux."},null,null,null,null,null,null,null,null,null,null,null,null,null,null,"Check source stream category","auto","manual"]
[null,null,null,null,null,null,null,null,null,null,null,null,null,null,null,null,null,null,"Check source stream category","auto","manual","Method"]
[null,null,{"$f":"INDEX($D$50:$D$55,Q71)","v":""},{"$f":"CONCATENATE(Euconst_SourceStream,\" \", Q71,\":\")","v":"Flux 1:"},null,null,null,{"$f":"IF(INDEX($E$50:$E$55,Q71)=\"\",\"\",INDEX($E$50:$E$55,Q71))","v":""},null,null,null,null,{"$f":"IF(S71=TRUE,IF(U71=\"\",T71,U71),\"\")","v":""},null,null,null,1,null,{"$f":"IF(INDEX(C_InstallationDescription!$M:$M,MATCH(Q73,C_InstallationDescription!$Q:$Q,0))=\"\",FALSE,TRUE)","v":false},{"$f":"IF(S71=TRUE,INDEX(C_InstallationDescription!$M:$M,MATCH(Q73,C_InstallationDescription!$Q:$Q,0)),\"\")","v":""},{"$f":"IF(S71=TRUE,IF(ISBLANK(INDEX(C_InstallationDescription!$N:$N,MATCH(Q73,C_InstallationDescription!$Q:$Q,0))),\"\",INDEX(C_InstallationDescription!$N:$N,MATCH(Q73,C_InstallationDescription!$Q:$Q,0))),\"\")","v":""},{"$f":"IF(ISNUMBER(INDEX(CNTR_ListPFCmethods,Q71)),INDEX(CNTR_ListPFCmethods,Q71),\"\")","v":""}]
[]
[null,null,null,null,{"$f":"Translations!$B$437","v":"Type de flux:"},null,null,{"$f":"IF(INDEX($H$50:$H$55,Q71)=\"\",\"\",INDEX($H$50:$H$55,Q71))","v":""},null,null,null,null,null,null,null,null,{"$f":"EUconst_CNTR_SourceCategory&C71","v":"SourceCategory_"}]
[null,null,null,null,{"$f":"Translations!$B$438","v":"Méthode applicable en vertu du MRR:"},null,null,{"$f":"IF(H73=\"\",\"\",INDEX(EUwideConstants!$F$265:$F$325,MATCH(H73,EUConst_TierActivityListNames,0)))","v":""}]
[null,null,null,null,{"$f":"Translations!$B$439","v":"Paramètre auquel s’applique l’incertitude:"},null,null,{"$f":"IF(H73=\"\",\"\",INDEX(EUwideConstants!$E$265:$E$325,MATCH(H73,EUConst_TierActivityListNames,0)))","v":""}]
[]
[null,null,null,{"$f":"Translations!$B$446","v":"Assistance automatique pour les niveaux applicables:"}]
[]
[null,null,null,null,{"$f":"Translations!$B$649","v":"Dans les champs verts ci-dessous s’affichent les niveaux requis pour les données d'activité et les facteurs de calcul, en fonction des données que vous avez saisies aux rubriques 5 d), 5 e), 6 e) et 6 f). Il s’agit des niveaux minimaux pour des flux majeurs dans des installations de catégorie C. Toutefois, des niveaux plus bas peuvent être admis.  Des conseils appropriés s’affichent dans l’encadré vert ci-dessous, en fonction des points suivants:"}]
[null,null,null,null,"-",{"$f":"Translations!$B$650","v":"des exigences allégées s’appliquent aux installations à faible niveau d’émission, conformément à l’article 47, paragraphe 2;"}]
[null,null,null,null,"-",{"$f":"Translations!$B$651","v":"catégorie de l’installation (A, B ou C) conformément à l’article 19;"}]
[null,null,null,null,"-",{"$f":"Translations!$B$450","v":"des exigences allégées s'appliquent aux flux mineurs et aux flux de minimis, conformément à la classification établie à l'article 19, paragraphe 3."}]
[null,null,null,null,{"$f":"Translations!$B$451","v":"Le présent message concernant les niveaux applicables vaut pour les données d'activité et pour tous les facteurs de calcul."}]
[]
[null,null,null,null,{"$f":"IF(H71=\"\",\"\",INDEX(EUconst_SmallEmiSouStreamMsg,MATCH(Q85,EUconst_SmallEmiSouStream,0)))","v":""},null,null,null,null,null,null,null,null,null,null,null,{"$f":"IF(ISBLANK(CNTR_SmallEmitter),IF(CNTR_SmallEmitter=TRUE,EUconst_CNTR_SmallEmitter,EUconst_CNTR_NoSmallEmitter),EUconst_CNTR_NoSmallEmitter) & IF((CNTR_Category)=\"\",\"C\",CNTR_Category) & \"_\" & IF(M71=\"\",1,MATCH(M71,SourceCategory,0))","v":"NoSmallEmitter_C_1"}]
[]
[null,null,null,{"$f":"Translations!$B$652","v":"Données d'activité"}]
[]
[null,null,null,{"$f":"Translations!$B$653","v":"Production d'aluminium primaire:"},null,null,null,null,null,null,null,null,null,null,null,null,null,null,null,null,"Stream method","Relevant method","Make grey?"]
[null,null,null,"(b)",{"$f":"Translations!$B$477","v":"Niveaux requis pour les données d’activité:"},null,null,{"$f":"IF(H73=\"\",\"\",IF(CNTR_Category=\"A\",INDEX(EUwideConstants!$G:$G,MATCH(Q90,EUwideConstants!$S:$S,0)),INDEX(EUwideConstants!$P:$P,MATCH(Q90,EUwideConstants!$S:$S,0))))","v":""},{"$f":"IF(H90=\"\",\"\",IF(S90=0,EUconst_NA,IF(ISERROR(S90),\"\",EUconst_MsgTierActivityLevel & \" \" &S90)))","v":""},null,null,null,null,null,null,null,{"$f":"EUconst_CNTR_ActivityData&H73","v":"ActivityData_"},null,{"$f":"IF(H90=\"\",\"\",IF(H90=EUconst_NA,\"\",INDEX(EUwideConstants!$H:$O,MATCH(Q90,EUwideConstants!$S:$S,0),MATCH(H90,CNTR_TierList,0))))","v":""},null,{"$f":"V71","v":""},0,{"$f":"IF($L$6=EUconst_NotRelevant,TRUE,IF(V90>0,(V90<>U90),IF(U90=\"\",TRUE,FALSE)))","v":true}]
[null,null,null,"(c)",{"$f":"Translations!$B$478","v":"Niveau utilisé pour les données d’activité:"},null,null,null,{"$f":"IF(OR(ISBLANK(H91),H91=EUconst_NoTier),\"\",IF(S91=0,EUconst_NA,IF(ISERROR(S91),\"\",EUconst_MsgTierActivityLevel & \" \" &S91)))","v":""},null,null,null,null,null,null,null,{"$f":"EUconst_CNTR_ActivityData&H73","v":"ActivityData_"},null,{"$f":"IF(ISBLANK(H91),\"\",IF(H91=EUconst_NA,\"\",INDEX(EUwideConstants!$H:$O,MATCH(Q91,EUwideConstants!$S:$S,0),MATCH(H91,CNTR_TierList,0))))","v":""},null,{"$f":"U90","v":""},0,{"$f":"IF($L$6=EUconst_NotRelevant,TRUE,IF(V91>0,(V91<>U91),IF(U91=\"\",TRUE,FALSE)))","v":true}]
[null,null,null,"(d)",{"$f":"Translations!$B$479","v":"Incertitude constatée:  "},null,null,null,{"$f":"Translations!$B$480","v":"Remarque:"},null,null,null,null,null,null,null,null,null,null,null,{"$f":"U91","v":""},0,{"$f":"IF($L$6=EUconst_NotRelevant,TRUE,IF(V92>0,(V92<>U92),IF(U92=\"\",TRUE,FALSE)))","v":true}]
[]
[null,null,null,{"$f":"Translations!$B$654","v":"Méthode A: Nombre d’effets d’anode par cuve-jour"}]
[null,null,null,"(e)",{"$f":"Translations!$B$477","v":"Niveaux requis pour les données d’activité:"},null,null,{"$f":"IF(W95,\"\",H90)","v":""},{"$f":"IF(W95,\"\",I90)","v":""},null,null,null,null,null,null,null,null,null,null,null,{"$f":"U92","v":""},1,{"$f":"IF($L$6=EUconst_NotRelevant,TRUE,IF(V95>0,(V95<>U95),IF(U95=\"\",TRUE,FALSE)))","v":true}]
[null,null,null,"(f)",{"$f":"Translations!$B$478","v":"Niveau utilisé pour les données d’activité:"},null,null,null,{"$f":"IF(OR(ISBLANK(H96),H96=EUconst_NoTier),\"\",IF(S96=0,EUconst_NA,IF(ISERROR(S96),\"\",EUconst_MsgTierActivityLevel & \" \" &S96)))","v":""},null,null,null,null,null,null,null,{"$f":"EUconst_CNTR_ActivityData&H73","v":"ActivityData_"},null,{"$f":"IF(ISBLANK(H96),\"\",IF(H96=EUconst_NA,\"\",INDEX(EUwideConstants!$H:$O,MATCH(Q96,EUwideConstants!$S:$S,0),MATCH(H96,CNTR_TierList,0))))","v":""},null,{"$f":"U95","v":""},1,{"$f":"IF($L$6=EUconst_NotRelevant,TRUE,IF(V96>0,(V96<>U96),IF(U96=\"\",TRUE,FALSE)))","v":true}]
[null,null,null,"(g)",{"$f":"Translations!$B$479","v":"Incertitude constatée:  "},null,null,null,{"$f":"Translations!$B$480","v":"Remarque:"},null,null,null,null,null,null,null,null,null,null,null,{"$f":"U96","v":""},1,{"$f":"IF($L$6=EUconst_NotRelevant,TRUE,IF(V97>0,(V97<>U97),IF(U97=\"\",TRUE,FALSE)))","v":true}]
[]
[null,null,null,{"$f":"Translations!$B$655","v":"Méthode A: durée moyenne des effets d’anode en minutes par événement"}]
[null,null,null,"(h)",{"$f":"Translations!$B$477","v":"Niveaux requis pour les données d’activité:"},null,null,{"$f":"IF(W100,\"\",H90)","v":""},{"$f":"IF(W100,\"\",I90)","v":""},null,null,null,null,null,null,null,null,null,null,null,{"$f":"U97","v":""},1,{"$f":"IF($L$6=EUconst_NotRelevant,TRUE,IF(V100>0,(V100<>U100),IF(U100=\"\",TRUE,FALSE)))","v":true}]
[null,null,null,"(i)",{"$f":"Translations!$B$478","v":"Niveau utilisé pour les données d’activité:"},null,null,null,{"$f":"IF(OR(ISBLANK(H101),H101=EUconst_NoTier),\"\",IF(S101=0,EUconst_NA,IF(ISERROR(S101),\"\",EUconst_MsgTierActivityLevel & \" \" &S101)))","v":""},null,null,null,null,null,null,null,{"$f":"EUconst_CNTR_ActivityData&H73","v":"ActivityData_"},null,{"$f":"IF(ISBLANK(H101),\"\",IF(H101=EUconst_NA,\"\",INDEX(EUwideConstants!$H:$O,MATCH(Q101,EUwideConstants!$S:$S,0),MATCH(H101,CNTR_TierList,0))))","v":""},null,{"$f":"U100","v":""},1,{"$f":"IF($L$6=EUconst_NotRelevant,TRUE,IF(V101>0,(V101<>U101),IF(U101=\"\",TRUE,FALSE)))","v":true}]
[null,null,null,"(j)",{"$f":"Translations!$B$479","v":"Incertitude constatée:  "},null,null,null,{"$f":"Translations!$B$480","v":"Remarque:"},null,null,null,null,null,null,null,null,null,null,null,{"$f":"U101","v":""},1,{"$f":"IF($L$6=EUconst_NotRelevant,TRUE,IF(V102>0,(V102<>U102),IF(U102=\"\",TRUE,FALSE)))","v":true}]
[]
[null,null,null,{"$f":"Translations!$B$656","v":"Méthode B : surtension de l’effet d’anode par cuve"}]
[null,null,null,"(k)",{"$f":"Translations!$B$477","v":"Niveaux requis pour les données d’activité:"},null,null,{"$f":"IF(W105,\"\",H90)","v":""},{"$f":"IF(W105,\"\",I90)","v":""},null,null,null,null,null,null,null,null,null,null,null,{"$f":"U102","v":""},2,{"$f":"IF($L$6=EUconst_NotRelevant,TRUE,IF(V105>0,(V105<>U105),IF(U105=\"\",TRUE,FALSE)))","v":true}]
[null,null,null,"(l)",{"$f":"Translations!$B$478","v":"Niveau utilisé pour les données d’activité:"},null,null,null,{"$f":"IF(OR(ISBLANK(H106),H106=EUconst_NoTier),\"\",IF(S106=0,EUconst_NA,IF(ISERROR(S106),\"\",EUconst_MsgTierActivityLevel & \" \" &S106)))","v":""},null,null,null,null,null,null,null,{"$f":"EUconst_CNTR_ActivityData&H73","v":"ActivityData_"},null,{"$f":"IF(ISBLANK(H106),\"\",IF(H106=EUconst_NA,\"\",INDEX(EUwideConstants!$H:$O,MATCH(Q106,EUwideConstants!$S:$S,0),MATCH(H106,CNTR_TierList,0))))","v":""},null,{"$f":"U105","v":""},2,{"$f":"IF($L$6=EUconst_NotRelevant,TRUE,IF(V106>0,(V106<>U106),IF(U106=\"\",TRUE,FALSE)))","v":true}]
[null,null,null,"(m)",{"$f":"Translations!$B$479","v":"Incertitude constatée:  "},null,null,null,{"$f":"Translations!$B$480","v":"Remarque:"},null,null,null,null,null,null,null,null,null,null,null,{"$f":"U106","v":""},2,{"$f":"IF($L$6=EUconst_NotRelevant,TRUE,IF(V107>0,(V107<>U107),IF(U107=\"\",TRUE,FALSE)))","v":true}]
[]
[null,null,null,{"$f":"Translations!$B$657","v":"Méthode B : rendement de courant"}]
[null,null,null,"(n)",{"$f":"Translations!$B$477","v":"Niveaux requis pour les données d’activité:"},null,null,{"$f":"IF(W110,\"\",H90)","v":""},{"$f":"IF(W110,\"\",I90)","v":""},null,null,null,null,null,null,null,null,null,null,null,{"$f":"U107","v":""},2,{"$f":"IF($L$6=EUconst_NotRelevant,TRUE,IF(V110>0,(V110<>U110),IF(U110=\"\",TRUE,FALSE)))","v":true}]
[null,null,null,"(o)",{"$f":"Translations!$B$478","v":"Niveau utilisé pour les données d’activité:"},null,null,null,{"$f":"IF(OR(ISBLANK(H111),H111=EUconst_NoTier),\"\",IF(S111=0,EUconst_NA,IF(ISERROR(S111),\"\",EUconst_MsgTierActivityLevel & \" \" &S111)))","v":""},null,null,null,null,null,null,null,{"$f":"EUconst_CNTR_ActivityData&H73","v":"ActivityData_"},null,{"$f":"IF(ISBLANK(H111),\"\",IF(H111=EUconst_NA,\"\",INDEX(EUwideConstants!$H:$O,MATCH(Q111,EUwideConstants!$S:$S,0),MATCH(H111,CNTR_TierList,0))))","v":""},null,{"$f":"U110","v":""},2,{"$f":"IF($L$6=EUconst_NotRelevant,TRUE,IF(V111>0,(V111<>U111),IF(U111=\"\",TRUE,FALSE)))","v":true}]
[null,null,null,"(p)",{"$f":"Translations!$B$479","v":"Incertitude constatée:  "},null,null,null,{"$f":"Translations!$B$480","v":"Remarque:"},null,null,null,null,null,null,null,null,null,null,null,{"$f":"U111","v":""},2,{"$f":"IF($L$6=EUconst_NotRelevant,TRUE,IF(V112>0,(V112<>U112),IF(U112=\"\",TRUE,FALSE)))","v":true}]
[]
[null,null,null,{"$f":"Translations!$B$658","v":"Facteurs de calcul"}]
[null,null,null,"(q)",{"$f":"Translations!$B$659","v":"Niveau appliqué"}]
[]
[null,null,null,null,{"$f":"Translations!$B$516","v":"Facteur de calcul"},null,null,{"$f":"Translations!$B$517","v":"niveau requis"},{"$f":"Translations!$B$518","v":"niveau appliqué"},{"$f":"Translations!$B$526","v":"texte intégral pour le niveau appliqué"},null,null,null,null,null,null,null,null,"full text tier"]
[null,null,null,"i.",{"$f":"Translations!$B$660","v":"SEF(CF4) Facteur d'émission de pente"},null,null,{"$f":"IF(H73=\"\",\"\",IF(W118=FALSE,IF(CNTR_Category=\"A\",INDEX(EUwideConstants!$G:$G,MATCH(Q118,EUwideConstants!$S:$S,0)),INDEX(EUwideConstants!$P:$P,MATCH(Q118,EUwideConstants!$S:$S,0))),\"\"))","v":""},null,{"$f":"IF(OR(ISBLANK(I118),I118=EUconst_NoTier),\"\",IF(S118=0,EUconst_NotApplicable,IF(ISERROR(S118),\"\",S118)))","v":""},null,null,null,null,null,null,{"$f":"EUconst_CNTR_EF&H73","v":"EF_"},null,{"$f":"IF(ISBLANK(I118),\"\",IF(I118=EUconst_NA,\"\",INDEX(EUwideConstants!$H:$O,MATCH(Q118,EUwideConstants!$S:$S,0),MATCH(I118,CNTR_TierList,0))))","v":""},null,{"$f":"U112","v":""},1,{"$f":"IF($L$6=EUconst_NotRelevant,TRUE,IF(V118>0,(V118<>U118),IF(U118=\"\",TRUE,FALSE)))","v":true}]
[null,null,null,"ii.",{"$f":"Translations!$B$661","v":"OVC (Coefficient de surtension)"},null,null,{"$f":"IF(H74=\"\",\"\",IF(W119=FALSE,IF(CNTR_Category=\"A\",INDEX(EUwideConstants!$G:$G,MATCH(Q119,EUwideConstants!$S:$S,0)),INDEX(EUwideConstants!$P:$P,MATCH(Q119,EUwideConstants!$S:$S,0))),\"\"))","v":""},null,{"$f":"IF(OR(ISBLANK(I119),I119=EUconst_NoTier),\"\",IF(S119=0,EUconst_NotApplicable,IF(ISERROR(S119),\"\",S119)))","v":""},null,null,null,null,null,null,{"$f":"EUconst_CNTR_EF&H73","v":"EF_"},null,{"$f":"IF(ISBLANK(I119),\"\",IF(I119=EUconst_NA,\"\",INDEX(EUwideConstants!$H:$O,MATCH(Q119,EUwideConstants!$S:$S,0),MATCH(I119,CNTR_TierList,0))))","v":""},null,{"$f":"U118","v":""},2,{"$f":"IF($L$6=EUconst_NotRelevant,TRUE,IF(V119>0,(V119<>U119),IF(U119=\"\",TRUE,FALSE)))","v":true}]
[null,null,null,"iii.",{"$f":"Translations!$B$662","v":"F(C2F6) Fraction massique de C2F6 "},null,null,{"$f":"IF(H75=\"\",\"\",IF(W120=FALSE,IF(CNTR_Category=\"A\",INDEX(EUwideConstants!$G:$G,MATCH(Q120,EUwideConstants!$S:$S,0)),INDEX(EUwideConstants!$P:$P,MATCH(Q120,EUwideConstants!$S:$S,0))),\"\"))","v":""},null,{"$f":"IF(OR(ISBLANK(I120),I120=EUconst_NoTier),\"\",IF(S120=0,EUconst_NotApplicable,IF(ISERROR(S120),\"\",S120)))","v":""},null,null,null,null,null,null,{"$f":"EUconst_CNTR_EF&H73","v":"EF_"},null,{"$f":"IF(ISBLANK(I120),\"\",IF(I120=EUconst_NA,\"\",INDEX(EUwideConstants!$H:$O,MATCH(Q120,EUwideConstants!$S:$S,0),MATCH(I120,CNTR_TierList,0))))","v":""},null,{"$f":"U119","v":""},0,{"$f":"IF($L$6=EUconst_NotRelevant,TRUE,IF(V120>0,(V120<>U120),IF(U120=\"\",TRUE,FALSE)))","v":true}]
[]
[null,null,null,"(r)",{"$f":"Translations!$B$663","v":"Précisions sur les niveaux"}]
[]
[null,null,null,null,{"$f":"Translations!$B$516","v":"Facteur de calcul"},null,null,{"$f":"I117","v":"niveau appliqué"},{"$f":"Translations!$B$664","v":"Valeur par défaut ou valeur la plus récente"},{"$f":"Translations!$B$536","v":"Unité"},{"$f":"Translations!$B$537","v":"Réf. la source"},{"$f":"Translations!$B$538","v":"Réf. de l’analyse"},{"$f":"Translations!$B$665","v":"date de la dernière analyse"},{"$f":"Translations!$B$540","v":"Fréquence d’analyse"},null,null,null,null,"default value or lab"]
[null,null,null,"i.",{"$f":"E118","v":"SEF(CF4) Facteur d'émission de pente"},null,null,{"$f":"IF(OR(ISBLANK(I118),I118=EUconst_NA),\"\",I118)","v":""},null,null,null,null,null,null,null,null,{"$f":"Q118","v":"EF_"},null,{"$f":"IF(H125=\"\",\"\",IF(I118=EUconst_NA,\"\",INDEX(EUwideConstants!$AL:$AP,MATCH(Q118,EUwideConstants!$S:$S,0),MATCH(I118,CNTR_TierList,0))))","v":""},null,{"$f":"U120","v":""},1,{"$f":"IF($L$6=EUconst_NotRelevant,TRUE,IF(V125>0,(V125<>U125),IF(U125=\"\",TRUE,FALSE)))","v":true}]
[null,null,null,"ii.",{"$f":"E119","v":"OVC (Coefficient de surtension)"},null,null,{"$f":"IF(OR(ISBLANK(I119),I119=EUconst_NA),\"\",I119)","v":""},null,null,null,null,null,null,null,null,{"$f":"Q119","v":"EF_"},null,{"$f":"IF(H126=\"\",\"\",IF(I119=EUconst_NA,\"\",INDEX(EUwideConstants!$AL:$AP,MATCH(Q119,EUwideConstants!$S:$S,0),MATCH(I119,CNTR_TierList,0))))","v":""},null,{"$f":"U125","v":""},2,{"$f":"IF($L$6=EUconst_NotRelevant,TRUE,IF(V126>0,(V126<>U126),IF(U126=\"\",TRUE,FALSE)))","v":true}]
[null,null,null,"iii.",{"$f":"E120","v":"F(C2F6) Fraction massique de C2F6 "},null,null,{"$f":"IF(OR(ISBLANK(I120),I120=EUconst_NA),\"\",I120)","v":""},null,null,null,null,null,null,null,null,{"$f":"Q120","v":"EF_"},null,{"$f":"IF(H127=\"\",\"\",IF(I120=EUconst_NA,\"\",INDEX(EUwideConstants!$AL:$AP,MATCH(Q120,EUwideConstants!$S:$S,0),MATCH(I120,CNTR_TierList,0))))","v":""},null,{"$f":"U126","v":""},0,{"$f":"IF($L$6=EUconst_NotRelevant,TRUE,IF(V127>0,(V127<>U127),IF(U127=\"\",TRUE,FALSE)))","v":true}]
[]
[null,null,null,{"$f":"Translations!$B$666","v":"Efficacité de collecte pour la prise en compte des émissions fugitives"}]
[null,null,null,"(s)",{"$f":"Translations!$B$667","v":"Détermination de l'efficacité de la collecte"}]
[]
[null,null,null,null,null,null,null,null,{"$f":"Translations!$B$664","v":"Valeur par défaut ou valeur la plus récente"},{"$f":"Translations!$B$536","v":"Unité"},{"$f":"Translations!$B$537","v":"Réf. la source"},{"$f":"Translations!$B$538","v":"Réf. de l’analyse"},{"$f":"Translations!$B$665","v":"date de la dernière analyse"},{"$f":"Translations!$B$540","v":"Fréquence d’analyse"}]
[null,null,null,null,{"$f":"Translations!$B$668","v":"Efficacité de la collecte"},null,null,null,null,null,null,null,null,null,null,null,null,null,null,null,{"$f":"U127","v":""},0,{"$f":"IF($L$6=EUconst_NotRelevant,TRUE,IF(V133>0,(V133<>U133),IF(U133=\"\",TRUE,FALSE)))","v":true}]
[]
[null,null,null,{"$f":"Translations!$B$44","v":"Remarques"}]
[null,null,null,"(t)",{"$f":"Translations!$B$546","v":"Remarques:"}]
[null,null,null,null,{"$f":"Translations!$B$669","v":"Veuillez faire part de vos remarques éventuelles ci-dessous. Des explications peuvent s’avérer nécessaires en particulier pour préciser comment les facteurs de calcul sont déterminés, quels instruments de mesure et équipements de contrôle de procédé sont utilisés pour déterminer les données d’activité, etc."}]
[]
[null,null,null,null,null,null,null,null,null,null,null,null,null,null,null,null,null,null,null,null,{"$f":"U133","v":""},0,{"$f":"IF($L$6=EUconst_NotRelevant,TRUE,IF(V139>0,(V139<>U139),IF(U139=\"\",TRUE,FALSE)))","v":true}]
[null,null,null,null,null,null,null,null,null,null,null,null,null,null,null,null,null,null,null,null,{"$f":"U139","v":""},0,{"$f":"IF($L$6=EUconst_NotRelevant,TRUE,IF(V140>0,(V140<>U140),IF(U140=\"\",TRUE,FALSE)))","v":true}]
[null,null,null,null,null,null,null,null,null,null,null,null,null,null,null,null,null,null,null,null,{"$f":"U140","v":""},0,{"$f":"IF($L$6=EUconst_NotRelevant,TRUE,IF(V141>0,(V141<>U141),IF(U141=\"\",TRUE,FALSE)))","v":true}]
[]
[null,null,null,"(u)",{"$f":"Translations!$B$548","v":"Justification lorsque les niveaux requis ne sont pas appliqués:"}]
[null,null,null,null,{"$f":"Translations!$B$549","v":"Si un des niveaux requis conformément à l’article 26 n'est pas appliqué pour les données d’activité ou pour un des facteurs de calcul, veuillez fournir une justification ci-dessous."}]
[null,null,null,null,{"$f":"Translations!$B$550","v":"Lorsqu’un plan d’amélioration est requis conformément à l’article 26, il doit être soumis avec le présent plan de surveillance et sa référence communiquée ci-dessous. Lorsque la justification s’appuie sur des coûts excessifs conformément à l'article 18, le calcul doit être communiqué avec le présent plan de surveillance et ses références doivent figurer dans la justification ci-dessous."}]
[]
[null,null,null,null,null,null,null,null,null,null,null,null,null,null,null,null,null,null,null,null,{"$f":"U141","v":""},0,{"$f":"IF($L$6=EUconst_NotRelevant,TRUE,IF(V147>0,(V147<>U147),IF(U147=\"\",TRUE,FALSE)))","v":true}]
[null,null,null,null,null,null,null,null,null,null,null,null,null,null,null,null,null,null,null,null,{"$f":"U147","v":""},0,{"$f":"IF($L$6=EUconst_NotRelevant,TRUE,IF(V148>0,(V148<>U148),IF(U148=\"\",TRUE,FALSE)))","v":true}]
[null,null,null,null,null,null,null,null,null,null,null,null,null,null,null,null,null,null,null,null,{"$f":"U148","v":""},0,{"$f":"IF($L$6=EUconst_NotRelevant,TRUE,IF(V149>0,(V149<>U149),IF(U149=\"\",TRUE,FALSE)))","v":true}]
[]
[]
[null,null,{"$f":"INDEX($D$50:$D$55,Q152)","v":""},{"$f":"CONCATENATE(Euconst_SourceStream,\" \", Q152,\":\")","v":"Flux 2:"},null,null,null,{"$f":"IF(INDEX($E$50:$E$55,Q152)=\"\",\"\",INDEX($E$50:$E$55,Q152))","v":""},null,null,null,null,{"$f":"IF(S152=TRUE,IF(U152=\"\",T152,U152),\"\")","v":""},null,null,null,{"$f":"Q71+1","v":2},null,{"$f":"IF(INDEX(C_InstallationDescription!$M:$M,MATCH(Q154,C_InstallationDescription!$Q:$Q,0))=\"\",FALSE,TRUE)","v":false},{"$f":"IF(S152=TRUE,INDEX(C_InstallationDescription!$M:$M,MATCH(Q154,C_InstallationDescription!$Q:$Q,0)),\"\")","v":""},{"$f":"IF(S152=TRUE,IF(ISBLANK(INDEX(C_InstallationDescription!$N:$N,MATCH(Q154,C_InstallationDescription!$Q:$Q,0))),\"\",INDEX(C_InstallationDescription!$N:$N,MATCH(Q154,C_InstallationDescription!$Q:$Q,0))),\"\")","v":""},{"$f":"IF(ISNUMBER(INDEX(CNTR_ListPFCmethods,Q152)),INDEX(CNTR_ListPFCmethods,Q152),\"\")","v":""}]
[]
[null,null,null,null,{"$f":"Translations!$B$437","v":"Type de flux:"},null,null,{"$f":"IF(INDEX($H$50:$H$55,Q152)=\"\",\"\",INDEX($H$50:$H$55,Q152))","v":""},null,null,null,null,null,null,null,null,{"$f":"EUconst_CNTR_SourceCategory&C152","v":"SourceCategory_"}]
[null,null,null,null,{"$f":"Translations!$B$438","v":"Méthode applicable en vertu du MRR:"},null,null,{"$f":"IF(H154=\"\",\"\",INDEX(EUwideConstants!$F$265:$F$325,MATCH(H154,EUConst_TierActivityListNames,0)))","v":""}]
[null,null,null,null,{"$f":"Translations!$B$439","v":"Paramètre auquel s’applique l’incertitude:"},null,null,{"$f":"IF(H154=\"\",\"\",INDEX(EUwideConstants!$E$265:$E$325,MATCH(H154,EUConst_TierActivityListNames,0)))","v":""}]
[]
[null,null,null,{"$f":"Translations!$B$446","v":"Assistance automatique pour les niveaux applicables:"}]
[]
[null,null,null,null,{"$f":"IF(H152=\"\",\"\",INDEX(EUconst_SmallEmiSouStreamMsg,MATCH(Q160,EUconst_SmallEmiSouStream,0)))","v":""},null,null,null,null,null,null,null,null,null,null,null,{"$f":"IF(ISBLANK(CNTR_SmallEmitter),IF(CNTR_SmallEmitter=TRUE,EUconst_CNTR_SmallEmitter,EUconst_CNTR_NoSmallEmitter),EUconst_CNTR_NoSmallEmitter) & IF((CNTR_Category)=\"\",\"C\",CNTR_Category) & \"_\" & IF(M152=\"\",1,MATCH(M152,SourceCategory,0))","v":"NoSmallEmitter_C_1"}]
[]
[null,null,null,{"$f":"Translations!$B$652","v":"Données d'activité"}]
[]
[null,null,null,{"$f":"Translations!$B$653","v":"Production d'aluminium primaire:"},null,null,null,null,null,null,null,null,null,null,null,null,null,null,null,null,"Stream method","Relevant method","Make grey?"]
[null,null,null,"(b)",{"$f":"Translations!$B$477","v":"Niveaux requis pour les données d’activité:"},null,null,{"$f":"IF(H154=\"\",\"\",IF(CNTR_Category=\"A\",INDEX(EUwideConstants!$G:$G,MATCH(Q165,EUwideConstants!$S:$S,0)),INDEX(EUwideConstants!$P:$P,MATCH(Q165,EUwideConstants!$S:$S,0))))","v":""},{"$f":"IF(H165=\"\",\"\",IF(S165=0,EUconst_NA,IF(ISERROR(S165),\"\",EUconst_MsgTierActivityLevel & \" \" &S165)))","v":""},null,null,null,null,null,null,null,{"$f":"EUconst_CNTR_ActivityData&H154","v":"ActivityData_"},null,{"$f":"IF(H165=\"\",\"\",IF(H165=EUconst_NA,\"\",INDEX(EUwideConstants!$H:$O,MATCH(Q165,EUwideConstants!$S:$S,0),MATCH(H165,CNTR_TierList,0))))","v":""},null,{"$f":"V152","v":""},0,{"$f":"IF($L$6=EUconst_NotRelevant,TRUE,IF(V165>0,(V165<>U165),IF(U165=\"\",TRUE,FALSE)))","v":true}]
[null,null,null,"(c)",{"$f":"Translations!$B$478","v":"Niveau utilisé pour les données d’activité:"},null,null,null,{"$f":"IF(OR(ISBLANK(H166),H166=EUconst_NoTier),\"\",IF(S166=0,EUconst_NA,IF(ISERROR(S166),\"\",EUconst_MsgTierActivityLevel & \" \" &S166)))","v":""},null,null,null,null,null,null,null,{"$f":"EUconst_CNTR_ActivityData&H154","v":"ActivityData_"},null,{"$f":"IF(ISBLANK(H166),\"\",IF(H166=EUconst_NA,\"\",INDEX(EUwideConstants!$H:$O,MATCH(Q166,EUwideConstants!$S:$S,0),MATCH(H166,CNTR_TierList,0))))","v":""},null,{"$f":"U165","v":""},0,{"$f":"IF($L$6=EUconst_NotRelevant,TRUE,IF(V166>0,(V166<>U166),IF(U166=\"\",TRUE,FALSE)))","v":true}]
[null,null,null,"(d)",{"$f":"Translations!$B$479","v":"Incertitude constatée:  "},null,null,null,{"$f":"Translations!$B$480","v":"Remarque:"},null,null,null,null,null,null,null,null,null,null,null,{"$f":"U166","v":""},0,{"$f":"IF($L$6=EUconst_NotRelevant,TRUE,IF(V167>0,(V167<>U167),IF(U167=\"\",TRUE,FALSE)))","v":true}]
[]
[null,null,null,{"$f":"Translations!$B$654","v":"Méthode A: Nombre d’effets d’anode par cuve-jour"}]
[null,null,null,"(e)",{"$f":"Translations!$B$477","v":"Niveaux requis pour les données d’activité:"},null,null,{"$f":"IF(W170,\"\",H165)","v":""},{"$f":"IF(W170,\"\",I165)","v":""},null,null,null,null,null,null,null,null,null,null,null,{"$f":"U167","v":""},1,{"$f":"IF($L$6=EUconst_NotRelevant,TRUE,IF(V170>0,(V170<>U170),IF(U170=\"\",TRUE,FALSE)))","v":true}]
[null,null,null,"(f)",{"$f":"Translations!$B$478","v":"Niveau utilisé pour les données d’activité:"},null,null,null,{"$f":"IF(OR(ISBLANK(H171),H171=EUconst_NoTier),\"\",IF(S171=0,EUconst_NA,IF(ISERROR(S171),\"\",EUconst_MsgTierActivityLevel & \" \" &S171)))","v":""},null,null,null,null,null,null,null,{"$f":"EUconst_CNTR_ActivityData&H154","v":"ActivityData_"},null,{"$f":"IF(ISBLANK(H171),\"\",IF(H171=EUconst_NA,\"\",INDEX(EUwideConstants!$H:$O,MATCH(Q171,EUwideConstants!$S:$S,0),MATCH(H171,CNTR_TierList,0))))","v":""},null,{"$f":"U170","v":""},1,{"$f":"IF($L$6=EUconst_NotRelevant,TRUE,IF(V171>0,(V171<>U171),IF(U171=\"\",TRUE,FALSE)))","v":true}]
[null,null,null,"(g)",{"$f":"Translations!$B$479","v":"Incertitude constatée:  "},null,null,null,{"$f":"Translations!$B$480","v":"Remarque:"},null,null,null,null,null,null,null,null,null,null,null,{"$f":"U171","v":""},1,{"$f":"IF($L$6=EUconst_NotRelevant,TRUE,IF(V172>0,(V172<>U172),IF(U172=\"\",TRUE,FALSE)))","v":true}]
[]
[null,null,null,{"$f":"Translations!$B$655","v":"Méthode A: durée moyenne des effets d’anode en minutes par événement"}]
[null,null,null,"(h)",{"$f":"Translations!$B$477","v":"Niveaux requis pour les données d’activité:"},null,null,{"$f":"IF(W175,\"\",H165)","v":""},{"$f":"IF(W175,\"\",I165)","v":""},null,null,null,null,null,null,null,null,null,null,null,{"$f":"U172","v":""},1,{"$f":"IF($L$6=EUconst_NotRelevant,TRUE,IF(V175>0,(V175<>U175),IF(U175=\"\",TRUE,FALSE)))","v":true}]
[null,null,null,"(i)",{"$f":"Translations!$B$478","v":"Niveau utilisé pour les données d’activité:"},null,null,null,{"$f":"IF(OR(ISBLANK(H176),H176=EUconst_NoTier),\"\",IF(S176=0,EUconst_NA,IF(ISERROR(S176),\"\",EUconst_MsgTierActivityLevel & \" \" &S176)))","v":""},null,null,null,null,null,null,null,{"$f":"EUconst_CNTR_ActivityData&H154","v":"ActivityData_"},null,{"$f":"IF(ISBLANK(H176),\"\",IF(H176=EUconst_NA,\"\",INDEX(EUwideConstants!$H:$O,MATCH(Q176,EUwideConstants!$S:$S,0),MATCH(H176,CNTR_TierList,0))))","v":""},null,{"$f":"U175","v":""},1,{"$f":"IF($L$6=EUconst_NotRelevant,TRUE,IF(V176>0,(V176<>U176),IF(U176=\"\",TRUE,FALSE)))","v":true}]
[null,null,null,"(j)",{"$f":"Translations!$B$479","v":"Incertitude constatée:  "},null,null,null,{"$f":"Translations!$B$480","v":"Remarque:"},null,null,null,null,null,null,null,null,null,null,null,{"$f":"U176","v":""},1,{"$f":"IF($L$6=EUconst_NotRelevant,TRUE,IF(V177>0,(V177<>U177),IF(U177=\"\",TRUE,FALSE)))","v":true}]
[]
[null,null,null,{"$f":"Translations!$B$656","v":"Méthode B : surtension de l’effet d’anode par cuve"}]
[null,null,null,"(k)",{"$f":"Translations!$B$477","v":"Niveaux requis pour les données d’activité:"},null,null,{"$f":"IF(W180,\"\",H165)","v":""},{"$f":"IF(W180,\"\",I165)","v":""},null,null,null,null,null,null,null,null,null,null,null,{"$f":"U177","v":""},2,{"$f":"IF($L$6=EUconst_NotRelevant,TRUE,IF(V180>0,(V180<>U180),IF(U180=\"\",TRUE,FALSE)))","v":true}]
[null,null,null,"(l)",{"$f":"Translations!$B$478","v":"Niveau utilisé pour les données d’activité:"},null,null,null,{"$f":"IF(OR(ISBLANK(H181),H181=EUconst_NoTier),\"\",IF(S181=0,EUconst_NA,IF(ISERROR(S181),\"\",EUconst_MsgTierActivityLevel & \" \" &S181)))","v":""},null,null,null,null,null,null,null,{"$f":"EUconst_CNTR_ActivityData&H154","v":"ActivityData_"},null,{"$f":"IF(ISBLANK(H181),\"\",IF(H181=EUconst_NA,\"\",INDEX(EUwideConstants!$H:$O,MATCH(Q181,EUwideConstants!$S:$S,0),MATCH(H181,CNTR_TierList,0))))","v":""},null,{"$f":"U180","v":""},2,{"$f":"IF($L$6=EUconst_NotRelevant,TRUE,IF(V181>0,(V181<>U181),IF(U181=\"\",TRUE,FALSE)))","v":true}]
[null,null,null,"(m)",{"$f":"Translations!$B$479","v":"Incertitude constatée:  "},null,null,null,{"$f":"Translations!$B$480","v":"Remarque:"},null,null,null,null,null,null,null,null,null,null,null,{"$f":"U181","v":""},2,{"$f":"IF($L$6=EUconst_NotRelevant,TRUE,IF(V182>0,(V182<>U182),IF(U182=\"\",TRUE,FALSE)))","v":true}]
[]
[null,null,null,{"$f":"Translations!$B$657","v":"Méthode B : rendement de courant"}]
[null,null,null,"(n)",{"$f":"Translations!$B$477","v":"Niveaux requis pour les données d’activité:"},null,null,{"$f":"IF(W185,\"\",H165)","v":""},{"$f":"IF(W185,\"\",I165)","v":""},null,null,null,null,null,null,null,null,null,null,null,{"$f":"U182","v":""},2,{"$f":"IF($L$6=EUconst_NotRelevant,TRUE,IF(V185>0,(V185<>U185),IF(U185=\"\",TRUE,FALSE)))","v":true}]
[null,null,null,"(o)",{"$f":"Translations!$B$478","v":"Niveau utilisé pour les données d’activité:"},null,null,null,{"$f":"IF(OR(ISBLANK(H186),H186=EUconst_NoTier),\"\",IF(S186=0,EUconst_NA,IF(ISERROR(S186),\"\",EUconst_MsgTierActivityLevel & \" \" &S186)))","v":""},null,null,null,null,null,null,null,{"$f":"EUconst_CNTR_ActivityData&H154","v":"ActivityData_"},null,{"$f":"IF(ISBLANK(H186),\"\",IF(H186=EUconst_NA,\"\",INDEX(EUwideConstants!$H:$O,MATCH(Q186,EUwideConstants!$S:$S,0),MATCH(H186,CNTR_TierList,0))))","v":""},null,{"$f":"U185","v":""},2,{"$f":"IF($L$6=EUconst_NotRelevant,TRUE,IF(V186>0,(V186<>U186),IF(U186=\"\",TRUE,FALSE)))","v":true}]
[null,null,null,"(p)",{"$f":"Translations!$B$479","v":"Incertitude constatée:  "},null,null,null,{"$f":"Translations!$B$480","v":"Remarque:"},null,null,null,null,null,null,null,null,null,null,null,{"$f":"U186","v":""},2,{"$f":"IF($L$6=EUconst_NotRelevant,TRUE,IF(V187>0,(V187<>U187),IF(U187=\"\",TRUE,FALSE)))","v":true}]
[]
[null,null,null,{"$f":"Translations!$B$658","v":"Facteurs de calcul"}]
[null,null,null,"(q)",{"$f":"Translations!$B$659","v":"Niveau appliqué"}]
[]
[null,null,null,null,{"$f":"Translations!$B$516","v":"Facteur de calcul"},null,null,{"$f":"Translations!$B$517","v":"niveau requis"},{"$f":"Translations!$B$518","v":"niveau appliqué"},{"$f":"Translations!$B$519","v":"texte intégral pour le niveau appliqué"},null,null,null,null,null,null,null,null,"full text tier"]
[null,null,null,"i.",{"$f":"Translations!$B$660","v":"SEF(CF4) Facteur d'émission de pente"},null,null,{"$f":"IF(H154=\"\",\"\",IF(W193=FALSE,IF(CNTR_Category=\"A\",INDEX(EUwideConstants!$G:$G,MATCH(Q193,EUwideConstants!$S:$S,0)),INDEX(EUwideConstants!$P:$P,MATCH(Q193,EUwideConstants!$S:$S,0))),\"\"))","v":""},null,{"$f":"IF(OR(ISBLANK(I193),I193=EUconst_NoTier),\"\",IF(S193=0,EUconst_NotApplicable,IF(ISERROR(S193),\"\",S193)))","v":""},null,null,null,null,null,null,{"$f":"EUconst_CNTR_EF&H154","v":"EF_"},null,{"$f":"IF(ISBLANK(I193),\"\",IF(I193=EUconst_NA,\"\",INDEX(EUwideConstants!$H:$O,MATCH(Q193,EUwideConstants!$S:$S,0),MATCH(I193,CNTR_TierList,0))))","v":""},null,{"$f":"U187","v":""},1,{"$f":"IF($L$6=EUconst_NotRelevant,TRUE,IF(V193>0,(V193<>U193),IF(U193=\"\",TRUE,FALSE)))","v":true}]
[null,null,null,"ii.",{"$f":"Translations!$B$661","v":"OVC (Coefficient de surtension)"},null,null,{"$f":"IF(H155=\"\",\"\",IF(W194=FALSE,IF(CNTR_Category=\"A\",INDEX(EUwideConstants!$G:$G,MATCH(Q194,EUwideConstants!$S:$S,0)),INDEX(EUwideConstants!$P:$P,MATCH(Q194,EUwideConstants!$S:$S,0))),\"\"))","v":""},null,{"$f":"IF(OR(ISBLANK(I194),I194=EUconst_NoTier),\"\",IF(S194=0,EUconst_NotApplicable,IF(ISERROR(S194),\"\",S194)))","v":""},null,null,null,null,null,null,{"$f":"EUconst_CNTR_EF&H154","v":"EF_"},null,{"$f":"IF(ISBLANK(I194),\"\",IF(I194=EUconst_NA,\"\",INDEX(EUwideConstants!$H:$O,MATCH(Q194,EUwideConstants!$S:$S,0),MATCH(I194,CNTR_TierList,0))))","v":""},null,{"$f":"U193","v":""},2,{"$f":"IF($L$6=EUconst_NotRelevant,TRUE,IF(V194>0,(V194<>U194),IF(U194=\"\",TRUE,FALSE)))","v":true}]
[null,null,null,"iii.",{"$f":"Translations!$B$662","v":"F(C2F6) Fraction massique de C2F6 "},null,null,{"$f":"IF(H156=\"\",\"\",IF(W195=FALSE,IF(CNTR_Category=\"A\",INDEX(EUwideConstants!$G:$G,MATCH(Q195,EUwideConstants!$S:$S,0)),INDEX(EUwideConstants!$P:$P,MATCH(Q195,EUwideConstants!$S:$S,0))),\"\"))","v":""},null,{"$f":"IF(OR(ISBLANK(I195),I195=EUconst_NoTier),\"\",IF(S195=0,EUconst_NotApplicable,IF(ISERROR(S195),\"\",S195)))","v":""},null,null,null,null,null,null,{"$f":"EUconst_CNTR_EF&H154","v":"EF_"},null,{"$f":"IF(ISBLANK(I195),\"\",IF(I195=EUconst_NA,\"\",INDEX(EUwideConstants!$H:$O,MATCH(Q195,EUwideConstants!$S:$S,0),MATCH(I195,CNTR_TierList,0))))","v":""},null,{"$f":"U194","v":""},0,{"$f":"IF($L$6=EUconst_NotRelevant,TRUE,IF(V195>0,(V195<>U195),IF(U195=\"\",TRUE,FALSE)))","v":true}]
[]
[null,null,null,"(r)",{"$f":"Translations!$B$663","v":"Précisions sur les niveaux"}]
[]
[null,null,null,null,{"$f":"Translations!$B$516","v":"Facteur de calcul"},null,null,{"$f":"I192","v":"niveau appliqué"},{"$f":"Translations!$B$664","v":"Valeur par défaut ou valeur la plus récente"},{"$f":"Translations!$B$536","v":"Unité"},{"$f":"Translations!$B$537","v":"Réf. la source"},{"$f":"Translations!$B$538","v":"Réf. de l’analyse"},{"$f":"Translations!$B$665","v":"date de la dernière analyse"},{"$f":"Translations!$B$540","v":"Fréquence d’analyse"},null,null,null,null,"default value or lab"]
[null,null,null,"i.",{"$f":"E193","v":"SEF(CF4) Facteur d'émission de pente"},null,null,{"$f":"IF(OR(ISBLANK(I193),I193=EUconst_NA),\"\",I193)","v":""},null,null,null,null,null,null,null,null,{"$f":"Q193","v":"EF_"},null,{"$f":"IF(H200=\"\",\"\",IF(I193=EUconst_NA,\"\",INDEX(EUwideConstants!$AL:$AP,MATCH(Q193,EUwideConstants!$S:$S,0),MATCH(I193,CNTR_TierList,0))))","v":""},null,{"$f":"U195","v":""},1,{"$f":"IF($L$6=EUconst_NotRelevant,TRUE,IF(V200>0,(V200<>U200),IF(U200=\"\",TRUE,FALSE)))","v":true}]
[null,null,null,"ii.",{"$f":"E194","v":"OVC (Coefficient de surtension)"},null,null,{"$f":"IF(OR(ISBLANK(I194),I194=EUconst_NA),\"\",I194)","v":""},null,null,null,null,null,null,null,null,{"$f":"Q194","v":"EF_"},null,{"$f":"IF(H201=\"\",\"\",IF(I194=EUconst_NA,\"\",INDEX(EUwideConstants!$AL:$AP,MATCH(Q194,EUwideConstants!$S:$S,0),MATCH(I194,CNTR_TierList,0))))","v":""},null,{"$f":"U200","v":""},2,{"$f":"IF($L$6=EUconst_NotRelevant,TRUE,IF(V201>0,(V201<>U201),IF(U201=\"\",TRUE,FALSE)))","v":true}]
[null,null,null,"iii.",{"$f":"E195","v":"F(C2F6) Fraction massique de C2F6 "},null,null,{"$f":"IF(OR(ISBLANK(I195),I195=EUconst_NA),\"\",I195)","v":""},null,null,null,null,null,null,null,null,{"$f":"Q195","v":"EF_"},null,{"$f":"IF(H202=\"\",\"\",IF(I195=EUconst_NA,\"\",INDEX(EUwideConstants!$AL:$AP,MATCH(Q195,EUwideConstants!$S:$S,0),MATCH(I195,CNTR_TierList,0))))","v":""},null,{"$f":"U201","v":""},0,{"$f":"IF($L$6=EUconst_NotRelevant,TRUE,IF(V202>0,(V202<>U202),IF(U202=\"\",TRUE,FALSE)))","v":true}]
[]
[null,null,null,{"$f":"Translations!$B$666","v":"Efficacité de collecte pour la prise en compte des émissions fugitives"}]
[null,null,null,"(s)",{"$f":"Translations!$B$667","v":"Détermination de l'efficacité de la collecte"}]
[]
[null,null,null,null,null,null,null,null,{"$f":"Translations!$B$664","v":"Valeur par défaut ou valeur la plus récente"},{"$f":"Translations!$B$536","v":"Unité"},{"$f":"Translations!$B$537","v":"Réf. la source"},{"$f":"Translations!$B$538","v":"Réf. de l’analyse"},{"$f":"Translations!$B$665","v":"date de la dernière analyse"},{"$f":"Translations!$B$540","v":"Fréquence d’analyse"}]
[null,null,null,null,{"$f":"Translations!$B$668","v":"Efficacité de la collecte"},null,null,null,null,null,null,null,null,null,null,null,null,null,null,null,{"$f":"U202","v":""},0,{"$f":"IF($L$6=EUconst_NotRelevant,TRUE,IF(V208>0,(V208<>U208),IF(U208=\"\",TRUE,FALSE)))","v":true}]
[]
[null,null,null,{"$f":"Translations!$B$44","v":"Remarques"}]
[null,null,null,"(t)",{"$f":"Translations!$B$546","v":"Remarques:"}]
[]
[null,null,null,null,null,null,null,null,null,null,null,null,null,null,null,null,null,null,null,null,{"$f":"U208","v":""},0,{"$f":"IF($L$6=EUconst_NotRelevant,TRUE,IF(V213>0,(V213<>U213),IF(U213=\"\",TRUE,FALSE)))","v":true}]
[null,null,null,null,null,null,null,null,null,null,null,null,null,null,null,null,null,null,null,null,{"$f":"U213","v":""},0,{"$f":"IF($L$6=EUconst_NotRelevant,TRUE,IF(V214>0,(V214<>U214),IF(U214=\"\",TRUE,FALSE)))","v":true}]
[null,null,null,null,null,null,null,null,null,null,null,null,null,null,null,null,null,null,null,null,{"$f":"U214","v":""},0,{"$f":"IF($L$6=EUconst_NotRelevant,TRUE,IF(V215>0,(V215<>U215),IF(U215=\"\",TRUE,FALSE)))","v":true}]
[]
[null,null,null,"(u)",{"$f":"Translations!$B$548","v":"Justification lorsque les niveaux requis ne sont pas appliqués:"}]
[]
[null,null,null,null,null,null,null,null,null,null,null,null,null,null,null,null,null,null,null,null,{"$f":"U215","v":""},0,{"$f":"IF($L$6=EUconst_NotRelevant,TRUE,IF(V219>0,(V219<>U219),IF(U219=\"\",TRUE,FALSE)))","v":true}]
[null,null,null,null,null,null,null,null,null,null,null,null,null,null,null,null,null,null,null,null,{"$f":"U219","v":""},0,{"$f":"IF($L$6=EUconst_NotRelevant,TRUE,IF(V220>0,(V220<>U220),IF(U220=\"\",TRUE,FALSE)))","v":true}]
[null,null,null,null,null,null,null,null,null,null,null,null,null,null,null,null,null,null,null,null,{"$f":"U220","v":""},0,{"$f":"IF($L$6=EUconst_NotRelevant,TRUE,IF(V221>0,(V221<>U221),IF(U221=\"\",TRUE,FALSE)))","v":true}]
[]
[]
[null,null,{"$f":"INDEX($D$50:$D$55,Q224)","v":""},{"$f":"CONCATENATE(Euconst_SourceStream,\" \", Q224,\":\")","v":"Flux 3:"},null,null,null,{"$f":"IF(INDEX($E$50:$E$55,Q224)=\"\",\"\",INDEX($E$50:$E$55,Q224))","v":""},null,null,null,null,{"$f":"IF(S224=TRUE,IF(U224=\"\",T224,U224),\"\")","v":""},null,null,null,{"$f":"Q152+1","v":3},null,{"$f":"IF(INDEX(C_InstallationDescription!$M:$M,MATCH(Q226,C_InstallationDescription!$Q:$Q,0))=\"\",FALSE,TRUE)","v":false},{"$f":"IF(S224=TRUE,INDEX(C_InstallationDescription!$M:$M,MATCH(Q226,C_InstallationDescription!$Q:$Q,0)),\"\")","v":""},{"$f":"IF(S224=TRUE,IF(ISBLANK(INDEX(C_InstallationDescription!$N:$N,MATCH(Q226,C_InstallationDescription!$Q:$Q,0))),\"\",INDEX(C_InstallationDescription!$N:$N,MATCH(Q226,C_InstallationDescription!$Q:$Q,0))),\"\")","v":""},{"$f":"IF(ISNUMBER(INDEX(CNTR_ListPFCmethods,Q224)),INDEX(CNTR_ListPFCmethods,Q224),\"\")","v":""}]
[]
[null,null,null,null,{"$f":"Translations!$B$437","v":"Type de flux:"},null,null,{"$f":"IF(INDEX($H$50:$H$55,Q224)=\"\",\"\",INDEX($H$50:$H$55,Q224))","v":""},null,null,null,null,null,null,null,null,{"$f":"EUconst_CNTR_SourceCategory&C224","v":"SourceCategory_"}]
[null,null,null,null,{"$f":"Translations!$B$438","v":"Méthode applicable en vertu du MRR:"},null,null,{"$f":"IF(H226=\"\",\"\",INDEX(EUwideConstants!$F$265:$F$325,MATCH(H226,EUConst_TierActivityListNames,0)))","v":""}]
[null,null,null,null,{"$f":"Translations!$B$439","v":"Paramètre auquel s’applique l’incertitude:"},null,null,{"$f":"IF(H226=\"\",\"\",INDEX(EUwideConstants!$E$265:$E$325,MATCH(H226,EUConst_TierActivityListNames,0)))","v":""}]
[]
[null,null,null,{"$f":"Translations!$B$446","v":"Assistance automatique pour les niveaux applicables:"}]
[]
[null,null,null,null,{"$f":"IF(H224=\"\",\"\",INDEX(EUconst_SmallEmiSouStreamMsg,MATCH(Q232,EUconst_SmallEmiSouStream,0)))","v":""},null,null,null,null,null,null,null,null,null,null,null,{"$f":"IF(ISBLANK(CNTR_SmallEmitter),IF(CNTR_SmallEmitter=TRUE,EUconst_CNTR_SmallEmitter,EUconst_CNTR_NoSmallEmitter),EUconst_CNTR_NoSmallEmitter) & IF((CNTR_Category)=\"\",\"C\",CNTR_Category) & \"_\" & IF(M224=\"\",1,MATCH(M224,SourceCategory,0))","v":"NoSmallEmitter_C_1"}]
[]
[null,null,null,{"$f":"Translations!$B$652","v":"Données d'activité"}]
[]
[null,null,null,{"$f":"Translations!$B$653","v":"Production d'aluminium primaire:"},null,null,null,null,null,null,null,null,null,null,null,null,null,null,null,null,"Stream method","Relevant method","Make grey?"]
[null,null,null,"(b)",{"$f":"Translations!$B$477","v":"Niveaux requis pour les données d’activité:"},null,null,{"$f":"IF(H226=\"\",\"\",IF(CNTR_Category=\"A\",INDEX(EUwideConstants!$G:$G,MATCH(Q237,EUwideConstants!$S:$S,0)),INDEX(EUwideConstants!$P:$P,MATCH(Q237,EUwideConstants!$S:$S,0))))","v":""},{"$f":"IF(H237=\"\",\"\",IF(S237=0,EUconst_NA,IF(ISERROR(S237),\"\",EUconst_MsgTierActivityLevel & \" \" &S237)))","v":""},null,null,null,null,null,null,null,{"$f":"EUconst_CNTR_ActivityData&H226","v":"ActivityData_"},null,{"$f":"IF(H237=\"\",\"\",IF(H237=EUconst_NA,\"\",INDEX(EUwideConstants!$H:$O,MATCH(Q237,EUwideConstants!$S:$S,0),MATCH(H237,CNTR_TierList,0))))","v":""},null,{"$f":"V224","v":""},0,{"$f":"IF($L$6=EUconst_NotRelevant,TRUE,IF(V237>0,(V237<>U237),IF(U237=\"\",TRUE,FALSE)))","v":true}]
[null,null,null,"(c)",{"$f":"Translations!$B$478","v":"Niveau utilisé pour les données d’activité:"},null,null,null,{"$f":"IF(OR(ISBLANK(H238),H238=EUconst_NoTier),\"\",IF(S238=0,EUconst_NA,IF(ISERROR(S238),\"\",EUconst_MsgTierActivityLevel & \" \" &S238)))","v":""},null,null,null,null,null,null,null,{"$f":"EUconst_CNTR_ActivityData&H226","v":"ActivityData_"},null,{"$f":"IF(ISBLANK(H238),\"\",IF(H238=EUconst_NA,\"\",INDEX(EUwideConstants!$H:$O,MATCH(Q238,EUwideConstants!$S:$S,0),MATCH(H238,CNTR_TierList,0))))","v":""},null,{"$f":"U237","v":""},0,{"$f":"IF($L$6=EUconst_NotRelevant,TRUE,IF(V238>0,(V238<>U238),IF(U238=\"\",TRUE,FALSE)))","v":true}]
[null,null,null,"(d)",{"$f":"Translations!$B$479","v":"Incertitude constatée:  "},null,null,null,{"$f":"Translations!$B$480","v":"Remarque:"},null,null,null,null,null,null,null,null,null,null,null,{"$f":"U238","v":""},0,{"$f":"IF($L$6=EUconst_NotRelevant,TRUE,IF(V239>0,(V239<>U239),IF(U239=\"\",TRUE,FALSE)))","v":true}]
[]
[null,null,null,{"$f":"Translations!$B$654","v":"Méthode A: Nombre d’effets d’anode par cuve-jour"}]
[null,null,null,"(e)",{"$f":"Translations!$B$477","v":"Niveaux requis pour les données d’activité:"},null,null,{"$f":"IF(W242,\"\",H237)","v":""},{"$f":"IF(W242,\"\",I237)","v":""},null,null,null,null,null,null,null,null,null,null,null,{"$f":"U239","v":""},1,{"$f":"IF($L$6=EUconst_NotRelevant,TRUE,IF(V242>0,(V242<>U242),IF(U242=\"\",TRUE,FALSE)))","v":true}]
[null,null,null,"(f)",{"$f":"Translations!$B$478","v":"Niveau utilisé pour les données d’activité:"},null,null,null,{"$f":"IF(OR(ISBLANK(H243),H243=EUconst_NoTier),\"\",IF(S243=0,EUconst_NA,IF(ISERROR(S243),\"\",EUconst_MsgTierActivityLevel & \" \" &S243)))","v":""},null,null,null,null,null,null,null,{"$f":"EUconst_CNTR_ActivityData&H226","v":"ActivityData_"},null,{"$f":"IF(ISBLANK(H243),\"\",IF(H243=EUconst_NA,\"\",INDEX(EUwideConstants!$H:$O,MATCH(Q243,EUwideConstants!$S:$S,0),MATCH(H243,CNTR_TierList,0))))","v":""},null,{"$f":"U242","v":""},1,{"$f":"IF($L$6=EUconst_NotRelevant,TRUE,IF(V243>0,(V243<>U243),IF(U243=\"\",TRUE,FALSE)))","v":true}]
[null,null,null,"(g)",{"$f":"Translations!$B$479","v":"Incertitude constatée:  "},null,null,null,{"$f":"Translations!$B$480","v":"Remarque:"},null,null,null,null,null,null,null,null,null,null,null,{"$f":"U243","v":""},1,{"$f":"IF($L$6=EUconst_NotRelevant,TRUE,IF(V244>0,(V244<>U244),IF(U244=\"\",TRUE,FALSE)))","v":true}]
[]
[null,null,null,{"$f":"Translations!$B$655","v":"Méthode A: durée moyenne des effets d’anode en minutes par événement"}]
[null,null,null,"(h)",{"$f":"Translations!$B$477","v":"Niveaux requis pour les données d’activité:"},null,null,{"$f":"IF(W247,\"\",H237)","v":""},{"$f":"IF(W247,\"\",I237)","v":""},null,null,null,null,null,null,null,null,null,null,null,{"$f":"U244","v":""},1,{"$f":"IF($L$6=EUconst_NotRelevant,TRUE,IF(V247>0,(V247<>U247),IF(U247=\"\",TRUE,FALSE)))","v":true}]
[null,null,null,"(i)",{"$f":"Translations!$B$478","v":"Niveau utilisé pour les données d’activité:"},null,null,null,{"$f":"IF(OR(ISBLANK(H248),H248=EUconst_NoTier),\"\",IF(S248=0,EUconst_NA,IF(ISERROR(S248),\"\",EUconst_MsgTierActivityLevel & \" \" &S248)))","v":""},null,null,null,null,null,null,null,{"$f":"EUconst_CNTR_ActivityData&H226","v":"ActivityData_"},null,{"$f":"IF(ISBLANK(H248),\"\",IF(H248=EUconst_NA,\"\",INDEX(EUwideConstants!$H:$O,MATCH(Q248,EUwideConstants!$S:$S,0),MATCH(H248,CNTR_TierList,0))))","v":""},null,{"$f":"U247","v":""},1,{"$f":"IF($L$6=EUconst_NotRelevant,TRUE,IF(V248>0,(V248<>U248),IF(U248=\"\",TRUE,FALSE)))","v":true}]
[null,null,null,"(j)",{"$f":"Translations!$B$479","v":"Incertitude constatée:  "},null,null,null,{"$f":"Translations!$B$480","v":"Remarque:"},null,null,null,null,null,null,null,null,null,null,null,{"$f":"U248","v":""},1,{"$f":"IF($L$6=EUconst_NotRelevant,TRUE,IF(V249>0,(V249<>U249),IF(U249=\"\",TRUE,FALSE)))","v":true}]
[]
[null,null,null,{"$f":"Translations!$B$656","v":"Méthode B : surtension de l’effet d’anode par cuve"}]
[null,null,null,"(k)",{"$f":"Translations!$B$477","v":"Niveaux requis pour les données d’activité:"},null,null,{"$f":"IF(W252,\"\",H237)","v":""},{"$f":"IF(W252,\"\",I237)","v":""},null,null,null,null,null,null,null,null,null,null,null,{"$f":"U249","v":""},2,{"$f":"IF($L$6=EUconst_NotRelevant,TRUE,IF(V252>0,(V252<>U252),IF(U252=\"\",TRUE,FALSE)))","v":true}]
[null,null,null,"(l)",{"$f":"Translations!$B$478","v":"Niveau utilisé pour les données d’activité:"},null,null,null,{"$f":"IF(OR(ISBLANK(H253),H253=EUconst_NoTier),\"\",IF(S253=0,EUconst_NA,IF(ISERROR(S253),\"\",EUconst_MsgTierActivityLevel & \" \" &S253)))","v":""},null,null,null,null,null,null,null,{"$f":"EUconst_CNTR_ActivityData&H226","v":"ActivityData_"},null,{"$f":"IF(ISBLANK(H253),\"\",IF(H253=EUconst_NA,\"\",INDEX(EUwideConstants!$H:$O,MATCH(Q253,EUwideConstants!$S:$S,0),MATCH(H253,CNTR_TierList,0))))","v":""},null,{"$f":"U252","v":""},2,{"$f":"IF($L$6=EUconst_NotRelevant,TRUE,IF(V253>0,(V253<>U253),IF(U253=\"\",TRUE,FALSE)))","v":true}]
[null,null,null,"(m)",{"$f":"Translations!$B$479","v":"Incertitude constatée:  "},null,null,null,{"$f":"Translations!$B$480","v":"Remarque:"},null,null,null,null,null,null,null,null,null,null,null,{"$f":"U253","v":""},2,{"$f":"IF($L$6=EUconst_NotRelevant,TRUE,IF(V254>0,(V254<>U254),IF(U254=\"\",TRUE,FALSE)))","v":true}]
[]
[null,null,null,{"$f":"Translations!$B$657","v":"Méthode B : rendement de courant"}]
[null,null,null,"(n)",{"$f":"Translations!$B$477","v":"Niveaux requis pour les données d’activité:"},null,null,{"$f":"IF(W257,\"\",H237)","v":""},{"$f":"IF(W257,\"\",I237)","v":""},null,null,null,null,null,null,null,null,null,null,null,{"$f":"U254","v":""},2,{"$f":"IF($L$6=EUconst_NotRelevant,TRUE,IF(V257>0,(V257<>U257),IF(U257=\"\",TRUE,FALSE)))","v":true}]
[null,null,null,"(o)",{"$f":"Translations!$B$478","v":"Niveau utilisé pour les données d’activité:"},null,null,null,{"$f":"IF(OR(ISBLANK(H258),H258=EUconst_NoTier),\"\",IF(S258=0,EUconst_NA,IF(ISERROR(S258),\"\",EUconst_MsgTierActivityLevel & \" \" &S258)))","v":""},null,null,null,null,null,null,null,{"$f":"EUconst_CNTR_ActivityData&H226","v":"ActivityData_"},null,{"$f":"IF(ISBLANK(H258),\"\",IF(H258=EUconst_NA,\"\",INDEX(EUwideConstants!$H:$O,MATCH(Q258,EUwideConstants!$S:$S,0),MATCH(H258,CNTR_TierList,0))))","v":""},null,{"$f":"U257","v":""},2,{"$f":"IF($L$6=EUconst_NotRelevant,TRUE,IF(V258>0,(V258<>U258),IF(U258=\"\",TRUE,FALSE)))","v":true}]
[null,null,null,"(p)",{"$f":"Translations!$B$479","v":"Incertitude constatée:  "},null,null,null,{"$f":"Translations!$B$480","v":"Remarque:"},null,null,null,null,null,null,null,null,null,null,null,{"$f":"U258","v":""},2,{"$f":"IF($L$6=EUconst_NotRelevant,TRUE,IF(V259>0,(V259<>U259),IF(U259=\"\",TRUE,FALSE)))","v":true}]
[]
[null,null,null,{"$f":"Translations!$B$658","v":"Facteurs de calcul"}]
[null,null,null,"(q)",{"$f":"Translations!$B$659","v":"Niveau appliqué"}]
[]
[null,null,null,null,{"$f":"Translations!$B$516","v":"Facteur de calcul"},null,null,{"$f":"Translations!$B$517","v":"niveau requis"},{"$f":"Translations!$B$518","v":"niveau appliqué"},{"$f":"Translations!$B$519","v":"texte intégral pour le niveau appliqué"},null,null,null,null,null,null,null,null,"full text tier"]
[null,null,null,"i.",{"$f":"Translations!$B$660","v":"SEF(CF4) Facteur d'émission de pente"},null,null,{"$f":"IF(H226=\"\",\"\",IF(W265=FALSE,IF(CNTR_Category=\"A\",INDEX(EUwideConstants!$G:$G,MATCH(Q265,EUwideConstants!$S:$S,0)),INDEX(EUwideConstants!$P:$P,MATCH(Q265,EUwideConstants!$S:$S,0))),\"\"))","v":""},null,{"$f":"IF(OR(ISBLANK(I265),I265=EUconst_NoTier),\"\",IF(S265=0,EUconst_NotApplicable,IF(ISERROR(S265),\"\",S265)))","v":""},null,null,null,null,null,null,{"$f":"EUconst_CNTR_EF&H226","v":"EF_"},null,{"$f":"IF(ISBLANK(I265),\"\",IF(I265=EUconst_NA,\"\",INDEX(EUwideConstants!$H:$O,MATCH(Q265,EUwideConstants!$S:$S,0),MATCH(I265,CNTR_TierList,0))))","v":""},null,{"$f":"U259","v":""},1,{"$f":"IF($L$6=EUconst_NotRelevant,TRUE,IF(V265>0,(V265<>U265),IF(U265=\"\",TRUE,FALSE)))","v":true}]
[null,null,null,"ii.",{"$f":"Translations!$B$661","v":"OVC (Coefficient de surtension)"},null,null,{"$f":"IF(H227=\"\",\"\",IF(W266=FALSE,IF(CNTR_Category=\"A\",INDEX(EUwideConstants!$G:$G,MATCH(Q266,EUwideConstants!$S:$S,0)),INDEX(EUwideConstants!$P:$P,MATCH(Q266,EUwideConstants!$S:$S,0))),\"\"))","v":""},null,{"$f":"IF(OR(ISBLANK(I266),I266=EUconst_NoTier),\"\",IF(S266=0,EUconst_NotApplicable,IF(ISERROR(S266),\"\",S266)))","v":""},null,null,null,null,null,null,{"$f":"EUconst_CNTR_EF&H226","v":"EF_"},null,{"$f":"IF(ISBLANK(I266),\"\",IF(I266=EUconst_NA,\"\",INDEX(EUwideConstants!$H:$O,MATCH(Q266,EUwideConstants!$S:$S,0),MATCH(I266,CNTR_TierList,0))))","v":""},null,{"$f":"U265","v":""},2,{"$f":"IF($L$6=EUconst_NotRelevant,TRUE,IF(V266>0,(V266<>U266),IF(U266=\"\",TRUE,FALSE)))","v":true}]
[null,null,null,"iii.",{"$f":"Translations!$B$662","v":"F(C2F6) Fraction massique de C2F6 "},null,null,{"$f":"IF(H228=\"\",\"\",IF(W267=FALSE,IF(CNTR_Category=\"A\",INDEX(EUwideConstants!$G:$G,MATCH(Q267,EUwideConstants!$S:$S,0)),INDEX(EUwideConstants!$P:$P,MATCH(Q267,EUwideConstants!$S:$S,0))),\"\"))","v":""},null,{"$f":"IF(OR(ISBLANK(I267),I267=EUconst_NoTier),\"\",IF(S267=0,EUconst_NotApplicable,IF(ISERROR(S267),\"\",S267)))","v":""},null,null,null,null,null,null,{"$f":"EUconst_CNTR_EF&H226","v":"EF_"},null,{"$f":"IF(ISBLANK(I267),\"\",IF(I267=EUconst_NA,\"\",INDEX(EUwideConstants!$H:$O,MATCH(Q267,EUwideConstants!$S:$S,0),MATCH(I267,CNTR_TierList,0))))","v":""},null,{"$f":"U266","v":""},0,{"$f":"IF($L$6=EUconst_NotRelevant,TRUE,IF(V267>0,(V267<>U267),IF(U267=\"\",TRUE,FALSE)))","v":true}]
[]
[null,null,null,"(r)",{"$f":"Translations!$B$663","v":"Précisions sur les niveaux"}]
[]
[null,null,null,null,{"$f":"Translations!$B$516","v":"Facteur de calcul"},null,null,{"$f":"I264","v":"niveau appliqué"},{"$f":"Translations!$B$664","v":"Valeur par défaut ou valeur la plus récente"},{"$f":"Translations!$B$536","v":"Unité"},{"$f":"Translations!$B$537","v":"Réf. la source"},{"$f":"Translations!$B$538","v":"Réf. de l’analyse"},{"$f":"Translations!$B$665","v":"date de la dernière analyse"},{"$f":"Translations!$B$540","v":"Fréquence d’analyse"},null,null,null,null,"default value or lab"]
[null,null,null,"i.",{"$f":"E265","v":"SEF(CF4) Facteur d'émission de pente"},null,null,{"$f":"IF(OR(ISBLANK(I265),I265=EUconst_NA),\"\",I265)","v":""},null,null,null,null,null,null,null,null,{"$f":"Q265","v":"EF_"},null,{"$f":"IF(H272=\"\",\"\",IF(I265=EUconst_NA,\"\",INDEX(EUwideConstants!$AL:$AP,MATCH(Q265,EUwideConstants!$S:$S,0),MATCH(I265,CNTR_TierList,0))))","v":""},null,{"$f":"U267","v":""},1,{"$f":"IF($L$6=EUconst_NotRelevant,TRUE,IF(V272>0,(V272<>U272),IF(U272=\"\",TRUE,FALSE)))","v":true}]
[null,null,null,"ii.",{"$f":"E266","v":"OVC (Coefficient de surtension)"},null,null,{"$f":"IF(OR(ISBLANK(I266),I266=EUconst_NA),\"\",I266)","v":""},null,null,null,null,null,null,null,null,{"$f":"Q266","v":"EF_"},null,{"$f":"IF(H273=\"\",\"\",IF(I266=EUconst_NA,\"\",INDEX(EUwideConstants!$AL:$AP,MATCH(Q266,EUwideConstants!$S:$S,0),MATCH(I266,CNTR_TierList,0))))","v":""},null,{"$f":"U272","v":""},2,{"$f":"IF($L$6=EUconst_NotRelevant,TRUE,IF(V273>0,(V273<>U273),IF(U273=\"\",TRUE,FALSE)))","v":true}]
[null,null,null,"iii.",{"$f":"E267","v":"F(C2F6) Fraction massique de C2F6 "},null,null,{"$f":"IF(OR(ISBLANK(I267),I267=EUconst_NA),\"\",I267)","v":""},null,null,null,null,null,null,null,null,{"$f":"Q267","v":"EF_"},null,{"$f":"IF(H274=\"\",\"\",IF(I267=EUconst_NA,\"\",INDEX(EUwideConstants!$AL:$AP,MATCH(Q267,EUwideConstants!$S:$S,0),MATCH(I267,CNTR_TierList,0))))","v":""},null,{"$f":"U273","v":""},0,{"$f":"IF($L$6=EUconst_NotRelevant,TRUE,IF(V274>0,(V274<>U274),IF(U274=\"\",TRUE,FALSE)))","v":true}]
[]
[null,null,null,{"$f":"Translations!$B$666","v":"Efficacité de collecte pour la prise en compte des émissions fugitives"}]
[null,null,null,"(s)",{"$f":"Translations!$B$667","v":"Détermination de l'efficacité de la collecte"}]
[]
[null,null,null,null,null,null,null,null,{"$f":"Translations!$B$664","v":"Valeur par défaut ou valeur la plus récente"},{"$f":"Translations!$B$536","v":"Unité"},{"$f":"Translations!$B$537","v":"Réf. la source"},{"$f":"Translations!$B$538","v":"Réf. de l’analyse"},{"$f":"Translations!$B$665","v":"date de la dernière analyse"},{"$f":"Translations!$B$540","v":"Fréquence d’analyse"}]
[null,null,null,null,{"$f":"Translations!$B$668","v":"Efficacité de la collecte"},null,null,null,null,null,null,null,null,null,null,null,null,null,null,null,{"$f":"U274","v":""},0,{"$f":"IF($L$6=EUconst_NotRelevant,TRUE,IF(V280>0,(V280<>U280),IF(U280=\"\",TRUE,FALSE)))","v":true}]
[]
[null,null,null,{"$f":"Translations!$B$44","v":"Remarques"}]
[null,null,null,"(t)",{"$f":"Translations!$B$546","v":"Remarques:"}]
[]
[null,null,null,null,null,null,null,null,null,null,null,null,null,null,null,null,null,null,null,null,{"$f":"U280","v":""},0,{"$f":"IF($L$6=EUconst_NotRelevant,TRUE,IF(V285>0,(V285<>U285),IF(U285=\"\",TRUE,FALSE)))","v":true}]
[null,null,null,null,null,null,null,null,null,null,null,null,null,null,null,null,null,null,null,null,{"$f":"U285","v":""},0,{"$f":"IF($L$6=EUconst_NotRelevant,TRUE,IF(V286>0,(V286<>U286),IF(U286=\"\",TRUE,FALSE)))","v":true}]
[null,null,null,null,null,null,null,null,null,null,null,null,null,null,null,null,null,null,null,null,{"$f":"U286","v":""},0,{"$f":"IF($L$6=EUconst_NotRelevant,TRUE,IF(V287>0,(V287<>U287),IF(U287=\"\",TRUE,FALSE)))","v":true}]
[]
[null,null,null,"(u)",{"$f":"Translations!$B$548","v":"Justification lorsque les niveaux requis ne sont pas appliqués:"}]
[]
[null,null,null,null,null,null,null,null,null,null,null,null,null,null,null,null,null,null,null,null,{"$f":"U287","v":""},0,{"$f":"IF($L$6=EUconst_NotRelevant,TRUE,IF(V291>0,(V291<>U291),IF(U291=\"\",TRUE,FALSE)))","v":true}]
[null,null,null,null,null,null,null,null,null,null,null,null,null,null,null,null,null,null,null,null,{"$f":"U291","v":""},0,{"$f":"IF($L$6=EUconst_NotRelevant,TRUE,IF(V292>0,(V292<>U292),IF(U292=\"\",TRUE,FALSE)))","v":true}]
[null,null,null,null,null,null,null,null,null,null,null,null,null,null,null,null,null,null,null,null,{"$f":"U292","v":""},0,{"$f":"IF($L$6=EUconst_NotRelevant,TRUE,IF(V293>0,(V293<>U293),IF(U293=\"\",TRUE,FALSE)))","v":true}]
[]
[]
[null,null,{"$f":"INDEX($D$50:$D$55,Q296)","v":""},{"$f":"CONCATENATE(Euconst_SourceStream,\" \", Q296,\":\")","v":"Flux 4:"},null,null,null,{"$f":"IF(INDEX($E$50:$E$55,Q296)=\"\",\"\",INDEX($E$50:$E$55,Q296))","v":""},null,null,null,null,{"$f":"IF(S296=TRUE,IF(U296=\"\",T296,U296),\"\")","v":""},null,null,null,{"$f":"Q224+1","v":4},null,{"$f":"IF(INDEX(C_InstallationDescription!$M:$M,MATCH(Q298,C_InstallationDescription!$Q:$Q,0))=\"\",FALSE,TRUE)","v":false},{"$f":"IF(S296=TRUE,INDEX(C_InstallationDescription!$M:$M,MATCH(Q298,C_InstallationDescription!$Q:$Q,0)),\"\")","v":""},{"$f":"IF(S296=TRUE,IF(ISBLANK(INDEX(C_InstallationDescription!$N:$N,MATCH(Q298,C_InstallationDescription!$Q:$Q,0))),\"\",INDEX(C_InstallationDescription!$N:$N,MATCH(Q298,C_InstallationDescription!$Q:$Q,0))),\"\")","v":""},{"$f":"IF(ISNUMBER(INDEX(CNTR_ListPFCmethods,Q296)),INDEX(CNTR_ListPFCmethods,Q296),\"\")","v":""}]
[]
[null,null,null,null,{"$f":"Translations!$B$437","v":"Type de flux:"},null,null,{"$f":"IF(INDEX($H$50:$H$55,Q296)=\"\",\"\",INDEX($H$50:$H$55,Q296))","v":""},null,null,null,null,null,null,null,null,{"$f":"EUconst_CNTR_SourceCategory&C296","v":"SourceCategory_"}]
[null,null,null,null,{"$f":"Translations!$B$438","v":"Méthode applicable en vertu du MRR:"},null,null,{"$f":"IF(H298=\"\",\"\",INDEX(EUwideConstants!$F$265:$F$325,MATCH(H298,EUConst_TierActivityListNames,0)))","v":""}]
[null,null,null,null,{"$f":"Translations!$B$439","v":"Paramètre auquel s’applique l’incertitude:"},null,null,{"$f":"IF(H298=\"\",\"\",INDEX(EUwideConstants!$E$265:$E$325,MATCH(H298,EUConst_TierActivityListNames,0)))","v":""}]
[]
[null,null,null,{"$f":"Translations!$B$446","v":"Assistance automatique pour les niveaux applicables:"}]
[]
[null,null,null,null,{"$f":"IF(H296=\"\",\"\",INDEX(EUconst_SmallEmiSouStreamMsg,MATCH(Q304,EUconst_SmallEmiSouStream,0)))","v":""},null,null,null,null,null,null,null,null,null,null,null,{"$f":"IF(ISBLANK(CNTR_SmallEmitter),IF(CNTR_SmallEmitter=TRUE,EUconst_CNTR_SmallEmitter,EUconst_CNTR_NoSmallEmitter),EUconst_CNTR_NoSmallEmitter) & IF((CNTR_Category)=\"\",\"C\",CNTR_Category) & \"_\" & IF(M296=\"\",1,MATCH(M296,SourceCategory,0))","v":"NoSmallEmitter_C_1"}]
[]
[null,null,null,{"$f":"Translations!$B$652","v":"Données d'activité"}]
[]
[null,null,null,{"$f":"Translations!$B$653","v":"Production d'aluminium primaire:"},null,null,null,null,null,null,null,null,null,null,null,null,null,null,null,null,"Stream method","Relevant method","Make grey?"]
[null,null,null,"(b)",{"$f":"Translations!$B$477","v":"Niveaux requis pour les données d’activité:"},null,null,{"$f":"IF(H298=\"\",\"\",IF(CNTR_Category=\"A\",INDEX(EUwideConstants!$G:$G,MATCH(Q309,EUwideConstants!$S:$S,0)),INDEX(EUwideConstants!$P:$P,MATCH(Q309,EUwideConstants!$S:$S,0))))","v":""},{"$f":"IF(H309=\"\",\"\",IF(S309=0,EUconst_NA,IF(ISERROR(S309),\"\",EUconst_MsgTierActivityLevel & \" \" &S309)))","v":""},null,null,null,null,null,null,null,{"$f":"EUconst_CNTR_ActivityData&H298","v":"ActivityData_"},null,{"$f":"IF(H309=\"\",\"\",IF(H309=EUconst_NA,\"\",INDEX(EUwideConstants!$H:$O,MATCH(Q309,EUwideConstants!$S:$S,0),MATCH(H309,CNTR_TierList,0))))","v":""},null,{"$f":"V296","v":""},0,{"$f":"IF($L$6=EUconst_NotRelevant,TRUE,IF(V309>0,(V309<>U309),IF(U309=\"\",TRUE,FALSE)))","v":true}]
[null,null,null,"(c)",{"$f":"Translations!$B$478","v":"Niveau utilisé pour les données d’activité:"},null,null,null,{"$f":"IF(OR(ISBLANK(H310),H310=EUconst_NoTier),\"\",IF(S310=0,EUconst_NA,IF(ISERROR(S310),\"\",EUconst_MsgTierActivityLevel & \" \" &S310)))","v":""},null,null,null,null,null,null,null,{"$f":"EUconst_CNTR_ActivityData&H298","v":"ActivityData_"},null,{"$f":"IF(ISBLANK(H310),\"\",IF(H310=EUconst_NA,\"\",INDEX(EUwideConstants!$H:$O,MATCH(Q310,EUwideConstants!$S:$S,0),MATCH(H310,CNTR_TierList,0))))","v":""},null,{"$f":"U309","v":""},0,{"$f":"IF($L$6=EUconst_NotRelevant,TRUE,IF(V310>0,(V310<>U310),IF(U310=\"\",TRUE,FALSE)))","v":true}]
[null,null,null,"(d)",{"$f":"Translations!$B$479","v":"Incertitude constatée:  "},null,null,null,{"$f":"Translations!$B$480","v":"Remarque:"},null,null,null,null,null,null,null,null,null,null,null,{"$f":"U310","v":""},0,{"$f":"IF($L$6=EUconst_NotRelevant,TRUE,IF(V311>0,(V311<>U311),IF(U311=\"\",TRUE,FALSE)))","v":true}]
[]
[null,null,null,{"$f":"Translations!$B$654","v":"Méthode A: Nombre d’effets d’anode par cuve-jour"}]
[null,null,null,"(e)",{"$f":"Translations!$B$477","v":"Niveaux requis pour les données d’activité:"},null,null,{"$f":"IF(W314,\"\",H309)","v":""},{"$f":"IF(W314,\"\",I309)","v":""},null,null,null,null,null,null,null,null,null,null,null,{"$f":"U311","v":""},1,{"$f":"IF($L$6=EUconst_NotRelevant,TRUE,IF(V314>0,(V314<>U314),IF(U314=\"\",TRUE,FALSE)))","v":true}]
[null,null,null,"(f)",{"$f":"Translations!$B$478","v":"Niveau utilisé pour les données d’activité:"},null,null,null,{"$f":"IF(OR(ISBLANK(H315),H315=EUconst_NoTier),\"\",IF(S315=0,EUconst_NA,IF(ISERROR(S315),\"\",EUconst_MsgTierActivityLevel & \" \" &S315)))","v":""},null,null,null,null,null,null,null,{"$f":"EUconst_CNTR_ActivityData&H298","v":"ActivityData_"},null,{"$f":"IF(ISBLANK(H315),\"\",IF(H315=EUconst_NA,\"\",INDEX(EUwideConstants!$H:$O,MATCH(Q315,EUwideConstants!$S:$S,0),MATCH(H315,CNTR_TierList,0))))","v":""},null,{"$f":"U314","v":""},1,{"$f":"IF($L$6=EUconst_NotRelevant,TRUE,IF(V315>0,(V315<>U315),IF(U315=\"\",TRUE,FALSE)))","v":true}]
[null,null,null,"(g)",{"$f":"Translations!$B$479","v":"Incertitude constatée:  "},null,null,null,{"$f":"Translations!$B$480","v":"Remarque:"},null,null,null,null,null,null,null,null,null,null,null,{"$f":"U315","v":""},1,{"$f":"IF($L$6=EUconst_NotRelevant,TRUE,IF(V316>0,(V316<>U316),IF(U316=\"\",TRUE,FALSE)))","v":true}]
[]
[null,null,null,{"$f":"Translations!$B$655","v":"Méthode A: durée moyenne des effets d’anode en minutes par événement"}]
[null,null,null,"(h)",{"$f":"Translations!$B$477","v":"Niveaux requis pour les données d’activité:"},null,null,{"$f":"IF(W319,\"\",H309)","v":""},{"$f":"IF(W319,\"\",I309)","v":""},null,null,null,null,null,null,null,null,null,null,null,{"$f":"U316","v":""},1,{"$f":"IF($L$6=EUconst_NotRelevant,TRUE,IF(V319>0,(V319<>U319),IF(U319=\"\",TRUE,FALSE)))","v":true}]
[null,null,null,"(i)",{"$f":"Translations!$B$478","v":"Niveau utilisé pour les données d’activité:"},null,null,null,{"$f":"IF(OR(ISBLANK(H320),H320=EUconst_NoTier),\"\",IF(S320=0,EUconst_NA,IF(ISERROR(S320),\"\",EUconst_MsgTierActivityLevel & \" \" &S320)))","v":""},null,null,null,null,null,null,null,{"$f":"EUconst_CNTR_ActivityData&H298","v":"ActivityData_"},null,{"$f":"IF(ISBLANK(H320),\"\",IF(H320=EUconst_NA,\"\",INDEX(EUwideConstants!$H:$O,MATCH(Q320,EUwideConstants!$S:$S,0),MATCH(H320,CNTR_TierList,0))))","v":""},null,{"$f":"U319","v":""},1,{"$f":"IF($L$6=EUconst_NotRelevant,TRUE,IF(V320>0,(V320<>U320),IF(U320=\"\",TRUE,FALSE)))","v":true}]
[null,null,null,"(j)",{"$f":"Translations!$B$479","v":"Incertitude constatée:  "},null,null,null,{"$f":"Translations!$B$480","v":"Remarque:"},null,null,null,null,null,null,null,null,null,null,null,{"$f":"U320","v":""},1,{"$f":"IF($L$6=EUconst_NotRelevant,TRUE,IF(V321>0,(V321<>U321),IF(U321=\"\",TRUE,FALSE)))","v":true}]
[]
[null,null,null,{"$f":"Translations!$B$656","v":"Méthode B : surtension de l’effet d’anode par cuve"}]
[null,null,null,"(k)",{"$f":"Translations!$B$477","v":"Niveaux requis pour les données d’activité:"},null,null,{"$f":"IF(W324,\"\",H309)","v":""},{"$f":"IF(W324,\"\",I309)","v":""},null,null,null,null,null,null,null,null,null,null,null,{"$f":"U321","v":""},2,{"$f":"IF($L$6=EUconst_NotRelevant,TRUE,IF(V324>0,(V324<>U324),IF(U324=\"\",TRUE,FALSE)))","v":true}]
[null,null,null,"(l)",{"$f":"Translations!$B$478","v":"Niveau utilisé pour les données d’activité:"},null,null,null,{"$f":"IF(OR(ISBLANK(H325),H325=EUconst_NoTier),\"\",IF(S325=0,EUconst_NA,IF(ISERROR(S325),\"\",EUconst_MsgTierActivityLevel & \" \" &S325)))","v":""},null,null,null,null,null,null,null,{"$f":"EUconst_CNTR_ActivityData&H298","v":"ActivityData_"},null,{"$f":"IF(ISBLANK(H325),\"\",IF(H325=EUconst_NA,\"\",INDEX(EUwideConstants!$H:$O,MATCH(Q325,EUwideConstants!$S:$S,0),MATCH(H325,CNTR_TierList,0))))","v":""},null,{"$f":"U324","v":""},2,{"$f":"IF($L$6=EUconst_NotRelevant,TRUE,IF(V325>0,(V325<>U325),IF(U325=\"\",TRUE,FALSE)))","v":true}]
[null,null,null,"(m)",{"$f":"Translations!$B$479","v":"Incertitude constatée:  "},null,null,null,{"$f":"Translations!$B$480","v":"Remarque:"},null,null,null,null,null,null,null,null,null,null,null,{"$f":"U325","v":""},2,{"$f":"IF($L$6=EUconst_NotRelevant,TRUE,IF(V326>0,(V326<>U326),IF(U326=\"\",TRUE,FALSE)))","v":true}]
[]
[null,null,null,{"$f":"Translations!$B$657","v":"Méthode B : rendement de courant"}]
[null,null,null,"(n)",{"$f":"Translations!$B$477","v":"Niveaux requis pour les données d’activité:"},null,null,{"$f":"IF(W329,\"\",H309)","v":""},{"$f":"IF(W329,\"\",I309)","v":""},null,null,null,null,null,null,null,null,null,null,null,{"$f":"U326","v":""},2,{"$f":"IF($L$6=EUconst_NotRelevant,TRUE,IF(V329>0,(V329<>U329),IF(U329=\"\",TRUE,FALSE)))","v":true}]
[null,null,null,"(o)",{"$f":"Translations!$B$478","v":"Niveau utilisé pour les données d’activité:"},null,null,null,{"$f":"IF(OR(ISBLANK(H330),H330=EUconst_NoTier),\"\",IF(S330=0,EUconst_NA,IF(ISERROR(S330),\"\",EUconst_MsgTierActivityLevel & \" \" &S330)))","v":""},null,null,null,null,null,null,null,{"$f":"EUconst_CNTR_ActivityData&H298","v":"ActivityData_"},null,{"$f":"IF(ISBLANK(H330),\"\",IF(H330=EUconst_NA,\"\",INDEX(EUwideConstants!$H:$O,MATCH(Q330,EUwideConstants!$S:$S,0),MATCH(H330,CNTR_TierList,0))))","v":""},null,{"$f":"U329","v":""},2,{"$f":"IF($L$6=EUconst_NotRelevant,TRUE,IF(V330>0,(V330<>U330),IF(U330=\"\",TRUE,FALSE)))","v":true}]
[null,null,null,"(p)",{"$f":"Translations!$B$479","v":"Incertitude constatée:  "},null,null,null,{"$f":"Translations!$B$480","v":"Remarque:"},null,null,null,null,null,null,null,null,null,null,null,{"$f":"U330","v":""},2,{"$f":"IF($L$6=EUconst_NotRelevant,TRUE,IF(V331>0,(V331<>U331),IF(U331=\"\",TRUE,FALSE)))","v":true}]
[]
[null,null,null,{"$f":"Translations!$B$658","v":"Facteurs de calcul"}]
[null,null,null,"(q)",{"$f":"Translations!$B$659","v":"Niveau appliqué"}]
[]
[null,null,null,null,{"$f":"Translations!$B$516","v":"Facteur de calcul"},null,null,{"$f":"Translations!$B$517","v":"niveau requis"},{"$f":"Translations!$B$518","v":"niveau appliqué"},{"$f":"Translations!$B$519","v":"texte intégral pour le niveau appliqué"},null,null,null,null,null,null,null,null,"full text tier"]
[null,null,null,"i.",{"$f":"Translations!$B$660","v":"SEF(CF4) Facteur d'émission de pente"},null,null,{"$f":"IF(H298=\"\",\"\",IF(W337=FALSE,IF(CNTR_Category=\"A\",INDEX(EUwideConstants!$G:$G,MATCH(Q337,EUwideConstants!$S:$S,0)),INDEX(EUwideConstants!$P:$P,MATCH(Q337,EUwideConstants!$S:$S,0))),\"\"))","v":""},null,{"$f":"IF(OR(ISBLANK(I337),I337=EUconst_NoTier),\"\",IF(S337=0,EUconst_NotApplicable,IF(ISERROR(S337),\"\",S337)))","v":""},null,null,null,null,null,null,{"$f":"EUconst_CNTR_EF&H298","v":"EF_"},null,{"$f":"IF(ISBLANK(I337),\"\",IF(I337=EUconst_NA,\"\",INDEX(EUwideConstants!$H:$O,MATCH(Q337,EUwideConstants!$S:$S,0),MATCH(I337,CNTR_TierList,0))))","v":""},null,{"$f":"U331","v":""},1,{"$f":"IF($L$6=EUconst_NotRelevant,TRUE,IF(V337>0,(V337<>U337),IF(U337=\"\",TRUE,FALSE)))","v":true}]
[null,null,null,"ii.",{"$f":"Translations!$B$661","v":"OVC (Coefficient de surtension)"},null,null,{"$f":"IF(H299=\"\",\"\",IF(W338=FALSE,IF(CNTR_Category=\"A\",INDEX(EUwideConstants!$G:$G,MATCH(Q338,EUwideConstants!$S:$S,0)),INDEX(EUwideConstants!$P:$P,MATCH(Q338,EUwideConstants!$S:$S,0))),\"\"))","v":""},null,{"$f":"IF(OR(ISBLANK(I338),I338=EUconst_NoTier),\"\",IF(S338=0,EUconst_NotApplicable,IF(ISERROR(S338),\"\",S338)))","v":""},null,null,null,null,null,null,{"$f":"EUconst_CNTR_EF&H298","v":"EF_"},null,{"$f":"IF(ISBLANK(I338),\"\",IF(I338=EUconst_NA,\"\",INDEX(EUwideConstants!$H:$O,MATCH(Q338,EUwideConstants!$S:$S,0),MATCH(I338,CNTR_TierList,0))))","v":""},null,{"$f":"U337","v":""},2,{"$f":"IF($L$6=EUconst_NotRelevant,TRUE,IF(V338>0,(V338<>U338),IF(U338=\"\",TRUE,FALSE)))","v":true}]
[null,null,null,"iii.",{"$f":"Translations!$B$662","v":"F(C2F6) Fraction massique de C2F6 "},null,null,{"$f":"IF(H300=\"\",\"\",IF(W339=FALSE,IF(CNTR_Category=\"A\",INDEX(EUwideConstants!$G:$G,MATCH(Q339,EUwideConstants!$S:$S,0)),INDEX(EUwideConstants!$P:$P,MATCH(Q339,EUwideConstants!$S:$S,0))),\"\"))","v":""},null,{"$f":"IF(OR(ISBLANK(I339),I339=EUconst_NoTier),\"\",IF(S339=0,EUconst_NotApplicable,IF(ISERROR(S339),\"\",S339)))","v":""},null,null,null,null,null,null,{"$f":"EUconst_CNTR_EF&H298","v":"EF_"},null,{"$f":"IF(ISBLANK(I339),\"\",IF(I339=EUconst_NA,\"\",INDEX(EUwideConstants!$H:$O,MATCH(Q339,EUwideConstants!$S:$S,0),MATCH(I339,CNTR_TierList,0))))","v":""},null,{"$f":"U338","v":""},0,{"$f":"IF($L$6=EUconst_NotRelevant,TRUE,IF(V339>0,(V339<>U339),IF(U339=\"\",TRUE,FALSE)))","v":true}]
[]
[null,null,null,"(r)",{"$f":"Translations!$B$663","v":"Précisions sur les niveaux"}]
[]
[null,null,null,null,{"$f":"Translations!$B$516","v":"Facteur de calcul"},null,null,{"$f":"I336","v":"niveau appliqué"},{"$f":"Translations!$B$664","v":"Valeur par défaut ou valeur la plus récente"},{"$f":"Translations!$B$536","v":"Unité"},{"$f":"Translations!$B$537","v":"Réf. la source"},{"$f":"Translations!$B$538","v":"Réf. de l’analyse"},{"$f":"Translations!$B$665","v":"date de la dernière analyse"},{"$f":"Translations!$B$540","v":"Fréquence d’analyse"},null,null,null,null,"default value or lab"]
[null,null,null,"i.",{"$f":"E337","v":"SEF(CF4) Facteur d'émission de pente"},null,null,{"$f":"IF(OR(ISBLANK(I337),I337=EUconst_NA),\"\",I337)","v":""},null,null,null,null,null,null,null,null,{"$f":"Q337","v":"EF_"},null,{"$f":"IF(H344=\"\",\"\",IF(I337=EUconst_NA,\"\",INDEX(EUwideConstants!$AL:$AP,MATCH(Q337,EUwideConstants!$S:$S,0),MATCH(I337,CNTR_TierList,0))))","v":""},null,{"$f":"U339","v":""},1,{"$f":"IF($L$6=EUconst_NotRelevant,TRUE,IF(V344>0,(V344<>U344),IF(U344=\"\",TRUE,FALSE)))","v":true}]
[null,null,null,"ii.",{"$f":"E338","v":"OVC (Coefficient de surtension)"},null,null,{"$f":"IF(OR(ISBLANK(I338),I338=EUconst_NA),\"\",I338)","v":""},null,null,null,null,null,null,null,null,{"$f":"Q338","v":"EF_"},null,{"$f":"IF(H345=\"\",\"\",IF(I338=EUconst_NA,\"\",INDEX(EUwideConstants!$AL:$AP,MATCH(Q338,EUwideConstants!$S:$S,0),MATCH(I338,CNTR_TierList,0))))","v":""},null,{"$f":"U344","v":""},2,{"$f":"IF($L$6=EUconst_NotRelevant,TRUE,IF(V345>0,(V345<>U345),IF(U345=\"\",TRUE,FALSE)))","v":true}]
[null,null,null,"iii.",{"$f":"E339","v":"F(C2F6) Fraction massique de C2F6 "},null,null,{"$f":"IF(OR(ISBLANK(I339),I339=EUconst_NA),\"\",I339)","v":""},null,null,null,null,null,null,null,null,{"$f":"Q339","v":"EF_"},null,{"$f":"IF(H346=\"\",\"\",IF(I339=EUconst_NA,\"\",INDEX(EUwideConstants!$AL:$AP,MATCH(Q339,EUwideConstants!$S:$S,0),MATCH(I339,CNTR_TierList,0))))","v":""},null,{"$f":"U345","v":""},0,{"$f":"IF($L$6=EUconst_NotRelevant,TRUE,IF(V346>0,(V346<>U346),IF(U346=\"\",TRUE,FALSE)))","v":true}]
[]
[null,null,null,{"$f":"Translations!$B$666","v":"Efficacité de collecte pour la prise en compte des émissions fugitives"}]
[null,null,null,"(s)",{"$f":"Translations!$B$667","v":"Détermination de l'efficacité de la collecte"}]
[]
[null,null,null,null,null,null,null,null,{"$f":"Translations!$B$664","v":"Valeur par défaut ou valeur la plus récente"},{"$f":"Translations!$B$536","v":"Unité"},{"$f":"Translations!$B$537","v":"Réf. la source"},{"$f":"Translations!$B$538","v":"Réf. de l’analyse"},{"$f":"Translations!$B$665","v":"date de la dernière analyse"},{"$f":"Translations!$B$540","v":"Fréquence d’analyse"}]
[null,null,null,null,{"$f":"Translations!$B$668","v":"Efficacité de la collecte"},null,null,null,null,null,null,null,null,null,null,null,null,null,null,null,{"$f":"U346","v":""},0,{"$f":"IF($L$6=EUconst_NotRelevant,TRUE,IF(V352>0,(V352<>U352),IF(U352=\"\",TRUE,FALSE)))","v":true}]
[]
[null,null,null,{"$f":"Translations!$B$44","v":"Remarques"}]
[null,null,null,"(t)",{"$f":"Translations!$B$546","v":"Remarques:"}]
[]
[null,null,null,null,null,null,null,null,null,null,null,null,null,null,null,null,null,null,null,null,{"$f":"U352","v":""},0,{"$f":"IF($L$6=EUconst_NotRelevant,TRUE,IF(V357>0,(V357<>U357),IF(U357=\"\",TRUE,FALSE)))","v":true}]
[null,null,null,null,null,null,null,null,null,null,null,null,null,null,null,null,null,null,null,null,{"$f":"U357","v":""},0,{"$f":"IF($L$6=EUconst_NotRelevant,TRUE,IF(V358>0,(V358<>U358),IF(U358=\"\",TRUE,FALSE)))","v":true}]
[null,null,null,null,null,null,null,null,null,null,null,null,null,null,null,null,null,null,null,null,{"$f":"U358","v":""},0,{"$f":"IF($L$6=EUconst_NotRelevant,TRUE,IF(V359>0,(V359<>U359),IF(U359=\"\",TRUE,FALSE)))","v":true}]
[]
[null,null,null,"(u)",{"$f":"Translations!$B$548","v":"Justification lorsque les niveaux requis ne sont pas appliqués:"}]
[]
[null,null,null,null,null,null,null,null,null,null,null,null,null,null,null,null,null,null,null,null,{"$f":"U359","v":""},0,{"$f":"IF($L$6=EUconst_NotRelevant,TRUE,IF(V363>0,(V363<>U363),IF(U363=\"\",TRUE,FALSE)))","v":true}]
[null,null,null,null,null,null,null,null,null,null,null,null,null,null,null,null,null,null,null,null,{"$f":"U363","v":""},0,{"$f":"IF($L$6=EUconst_NotRelevant,TRUE,IF(V364>0,(V364<>U364),IF(U364=\"\",TRUE,FALSE)))","v":true}]
[null,null,null,null,null,null,null,null,null,null,null,null,null,null,null,null,null,null,null,null,{"$f":"U364","v":""},0,{"$f":"IF($L$6=EUconst_NotRelevant,TRUE,IF(V365>0,(V365<>U365),IF(U365=\"\",TRUE,FALSE)))","v":true}]
[]
["ADD_CompleteAluSourceStream"]
[null,null,{"$f":"INDEX($D$50:$D$55,Q368)","v":""},{"$f":"CONCATENATE(Euconst_SourceStream,\" \", Q368,\":\")","v":"Flux 5:"},null,null,null,{"$f":"IF(INDEX($E$50:$E$55,Q368)=\"\",\"\",INDEX($E$50:$E$55,Q368))","v":""},null,null,null,null,{"$f":"IF(S368=TRUE,IF(U368=\"\",T368,U368),\"\")","v":""},null,null,null,{"$f":"Q296+1","v":5},null,{"$f":"IF(INDEX(C_InstallationDescription!$M:$M,MATCH(Q370,C_InstallationDescription!$Q:$Q,0))=\"\",FALSE,TRUE)","v":false},{"$f":"IF(S368=TRUE,INDEX(C_InstallationDescription!$M:$M,MATCH(Q370,C_InstallationDescription!$Q:$Q,0)),\"\")","v":""},{"$f":"IF(S368=TRUE,IF(ISBLANK(INDEX(C_InstallationDescription!$N:$N,MATCH(Q370,C_InstallationDescription!$Q:$Q,0))),\"\",INDEX(C_InstallationDescription!$N:$N,MATCH(Q370,C_InstallationDescription!$Q:$Q,0))),\"\")","v":""},{"$f":"IF(ISNUMBER(INDEX(CNTR_ListPFCmethods,Q368)),INDEX(CNTR_ListPFCmethods,Q368),\"\")","v":""}]
[]
[null,null,null,null,{"$f":"Translations!$B$437","v":"Type de flux:"},null,null,{"$f":"IF(INDEX($H$50:$H$55,Q368)=\"\",\"\",INDEX($H$50:$H$55,Q368))","v":""},null,null,null,null,null,null,null,null,{"$f":"EUconst_CNTR_SourceCategory&C368","v":"SourceCategory_"}]
[null,null,null,null,{"$f":"Translations!$B$438","v":"Méthode applicable en vertu du MRR:"},null,null,{"$f":"IF(H370=\"\",\"\",INDEX(EUwideConstants!$F$265:$F$325,MATCH(H370,EUConst_TierActivityListNames,0)))","v":""}]
[null,null,null,null,{"$f":"Translations!$B$439","v":"Paramètre auquel s’applique l’incertitude:"},null,null,{"$f":"IF(H370=\"\",\"\",INDEX(EUwideConstants!$E$265:$E$325,MATCH(H370,EUConst_TierActivityListNames,0)))","v":""}]
[]
[null,null,null,{"$f":"Translations!$B$446","v":"Assistance automatique pour les niveaux applicables:"}]
[]
[null,null,null,null,{"$f":"IF(H368=\"\",\"\",INDEX(EUconst_SmallEmiSouStreamMsg,MATCH(Q376,EUconst_SmallEmiSouStream,0)))","v":""},null,null,null,null,null,null,null,null,null,null,null,{"$f":"IF(ISBLANK(CNTR_SmallEmitter),IF(CNTR_SmallEmitter=TRUE,EUconst_CNTR_SmallEmitter,EUconst_CNTR_NoSmallEmitter),EUconst_CNTR_NoSmallEmitter) & IF((CNTR_Category)=\"\",\"C\",CNTR_Category) & \"_\" & IF(M368=\"\",1,MATCH(M368,SourceCategory,0))","v":"NoSmallEmitter_C_1"}]
[]
[null,null,null,{"$f":"Translations!$B$652","v":"Données d'activité"}]
[]
[null,null,null,{"$f":"Translations!$B$653","v":"Production d'aluminium primaire:"},null,null,null,null,null,null,null,null,null,null,null,null,null,null,null,null,"Stream method","Relevant method","Make grey?"]
[null,null,null,"(b)",{"$f":"Translations!$B$477","v":"Niveaux requis pour les données d’activité:"},null,null,{"$f":"IF(H370=\"\",\"\",IF(CNTR_Category=\"A\",INDEX(EUwideConstants!$G:$G,MATCH(Q381,EUwideConstants!$S:$S,0)),INDEX(EUwideConstants!$P:$P,MATCH(Q381,EUwideConstants!$S:$S,0))))","v":""},{"$f":"IF(H381=\"\",\"\",IF(S381=0,EUconst_NA,IF(ISERROR(S381),\"\",EUconst_MsgTierActivityLevel & \" \" &S381)))","v":""},null,null,null,null,null,null,null,{"$f":"EUconst_CNTR_ActivityData&H370","v":"ActivityData_"},null,{"$f":"IF(H381=\"\",\"\",IF(H381=EUconst_NA,\"\",INDEX(EUwideConstants!$H:$O,MATCH(Q381,EUwideConstants!$S:$S,0),MATCH(H381,CNTR_TierList,0))))","v":""},null,{"$f":"V368","v":""},0,{"$f":"IF($L$6=EUconst_NotRelevant,TRUE,IF(V381>0,(V381<>U381),IF(U381=\"\",TRUE,FALSE)))","v":true}]
[null,null,null,"(c)",{"$f":"Translations!$B$478","v":"Niveau utilisé pour les données d’activité:"},null,null,null,{"$f":"IF(OR(ISBLANK(H382),H382=EUconst_NoTier),\"\",IF(S382=0,EUconst_NA,IF(ISERROR(S382),\"\",EUconst_MsgTierActivityLevel & \" \" &S382)))","v":""},null,null,null,null,null,null,null,{"$f":"EUconst_CNTR_ActivityData&H370","v":"ActivityData_"},null,{"$f":"IF(ISBLANK(H382),\"\",IF(H382=EUconst_NA,\"\",INDEX(EUwideConstants!$H:$O,MATCH(Q382,EUwideConstants!$S:$S,0),MATCH(H382,CNTR_TierList,0))))","v":""},null,{"$f":"U381","v":""},0,{"$f":"IF($L$6=EUconst_NotRelevant,TRUE,IF(V382>0,(V382<>U382),IF(U382=\"\",TRUE,FALSE)))","v":true}]
[null,null,null,"(d)",{"$f":"Translations!$B$479","v":"Incertitude constatée:  "},null,null,null,{"$f":"Translations!$B$480","v":"Remarque:"},null,null,null,null,null,null,null,null,null,null,null,{"$f":"U382","v":""},0,{"$f":"IF($L$6=EUconst_NotRelevant,TRUE,IF(V383>0,(V383<>U383),IF(U383=\"\",TRUE,FALSE)))","v":true}]
[]
[null,null,null,{"$f":"Translations!$B$654","v":"Méthode A: Nombre d’effets d’anode par cuve-jour"}]
[null,null,null,"(e)",{"$f":"Translations!$B$477","v":"Niveaux requis pour les données d’activité:"},null,null,{"$f":"IF(W386,\"\",H381)","v":""},{"$f":"IF(W386,\"\",I381)","v":""},null,null,null,null,null,null,null,null,null,null,null,{"$f":"U383","v":""},1,{"$f":"IF($L$6=EUconst_NotRelevant,TRUE,IF(V386>0,(V386<>U386),IF(U386=\"\",TRUE,FALSE)))","v":true}]
[null,null,null,"(f)",{"$f":"Translations!$B$478","v":"Niveau utilisé pour les données d’activité:"},null,null,null,{"$f":"IF(OR(ISBLANK(H387),H387=EUconst_NoTier),\"\",IF(S387=0,EUconst_NA,IF(ISERROR(S387),\"\",EUconst_MsgTierActivityLevel & \" \" &S387)))","v":""},null,null,null,null,null,null,null,{"$f":"EUconst_CNTR_ActivityData&H370","v":"ActivityData_"},null,{"$f":"IF(ISBLANK(H387),\"\",IF(H387=EUconst_NA,\"\",INDEX(EUwideConstants!$H:$O,MATCH(Q387,EUwideConstants!$S:$S,0),MATCH(H387,CNTR_TierList,0))))","v":""},null,{"$f":"U386","v":""},1,{"$f":"IF($L$6=EUconst_NotRelevant,TRUE,IF(V387>0,(V387<>U387),IF(U387=\"\",TRUE,FALSE)))","v":true}]
[null,null,null,"(g)",{"$f":"Translations!$B$479","v":"Incertitude constatée:  "},null,null,null,{"$f":"Translations!$B$480","v":"Remarque:"},null,null,null,null,null,null,null,null,null,null,null,{"$f":"U387","v":""},1,{"$f":"IF($L$6=EUconst_NotRelevant,TRUE,IF(V388>0,(V388<>U388),IF(U388=\"\",TRUE,FALSE)))","v":true}]
[]
[null,null,null,{"$f":"Translations!$B$655","v":"Méthode A: durée moyenne des effets d’anode en minutes par événement"}]
[null,null,null,"(h)",{"$f":"Translations!$B$477","v":"Niveaux requis pour les données d’activité:"},null,null,{"$f":"IF(W391,\"\",H381)","v":""},{"$f":"IF(W391,\"\",I381)","v":""},null,null,null,null,null,null,null,null,null,null,null,{"$f":"U388","v":""},1,{"$f":"IF($L$6=EUconst_NotRelevant,TRUE,IF(V391>0,(V391<>U391),IF(U391=\"\",TRUE,FALSE)))","v":true}]
[null,null,null,"(i)",{"$f":"Translations!$B$478","v":"Niveau utilisé pour les données d’activité:"},null,null,null,{"$f":"IF(OR(ISBLANK(H392),H392=EUconst_NoTier),\"\",IF(S392=0,EUconst_NA,IF(ISERROR(S392),\"\",EUconst_MsgTierActivityLevel & \" \" &S392)))","v":""},null,null,null,null,null,null,null,{"$f":"EUconst_CNTR_ActivityData&H370","v":"ActivityData_"},null,{"$f":"IF(ISBLANK(H392),\"\",IF(H392=EUconst_NA,\"\",INDEX(EUwideConstants!$H:$O,MATCH(Q392,EUwideConstants!$S:$S,0),MATCH(H392,CNTR_TierList,0))))","v":""},null,{"$f":"U391","v":""},1,{"$f":"IF($L$6=EUconst_NotRelevant,TRUE,IF(V392>0,(V392<>U392),IF(U392=\"\",TRUE,FALSE)))","v":true}]
[null,null,null,"(j)",{"$f":"Translations!$B$479","v":"Incertitude constatée:  "},null,null,null,{"$f":"Translations!$B$480","v":"Remarque:"},null,null,null,null,null,null,null,null,null,null,null,{"$f":"U392","v":""},1,{"$f":"IF($L$6=EUconst_NotRelevant,TRUE,IF(V393>0,(V393<>U393),IF(U393=\"\",TRUE,FALSE)))","v":true}]
[]
[null,null,null,{"$f":"Translations!$B$656","v":"Méthode B : surtension de l’effet d’anode par cuve"}]
[null,null,null,"(k)",{"$f":"Translations!$B$477","v":"Niveaux requis pour les données d’activité:"},null,null,{"$f":"IF(W396,\"\",H381)","v":""},{"$f":"IF(W396,\"\",I381)","v":""},null,null,null,null,null,null,null,null,null,null,null,{"$f":"U393","v":""},2,{"$f":"IF($L$6=EUconst_NotRelevant,TRUE,IF(V396>0,(V396<>U396),IF(U396=\"\",TRUE,FALSE)))","v":true}]
[null,null,null,"(l)",{"$f":"Translations!$B$478","v":"Niveau utilisé pour les données d’activité:"},null,null,null,{"$f":"IF(OR(ISBLANK(H397),H397=EUconst_NoTier),\"\",IF(S397=0,EUconst_NA,IF(ISERROR(S397),\"\",EUconst_MsgTierActivityLevel & \" \" &S397)))","v":""},null,null,null,null,null,null,null,{"$f":"EUconst_CNTR_ActivityData&H370","v":"ActivityData_"},null,{"$f":"IF(ISBLANK(H397),\"\",IF(H397=EUconst_NA,\"\",INDEX(EUwideConstants!$H:$O,MATCH(Q397,EUwideConstants!$S:$S,0),MATCH(H397,CNTR_TierList,0))))","v":""},null,{"$f":"U396","v":""},2,{"$f":"IF($L$6=EUconst_NotRelevant,TRUE,IF(V397>0,(V397<>U397),IF(U397=\"\",TRUE,FALSE)))","v":true}]
[null,null,null,"(m)",{"$f":"Translations!$B$479","v":"Incertitude constatée:  "},null,null,null,{"$f":"Translations!$B$480","v":"Remarque:"},null,null,null,null,null,null,null,null,null,null,null,{"$f":"U397","v":""},2,{"$f":"IF($L$6=EUconst_NotRelevant,TRUE,IF(V398>0,(V398<>U398),IF(U398=\"\",TRUE,FALSE)))","v":true}]
[]
[null,null,null,{"$f":"Translations!$B$657","v":"Méthode B : rendement de courant"}]
[null,null,null,"(n)",{"$f":"Translations!$B$477","v":"Niveaux requis pour les données d’activité:"},null,null,{"$f":"IF(W401,\"\",H381)","v":""},{"$f":"IF(W401,\"\",I381)","v":""},null,null,null,null,null,null,null,null,null,null,null,{"$f":"U398","v":""},2,{"$f":"IF($L$6=EUconst_NotRelevant,TRUE,IF(V401>0,(V401<>U401),IF(U401=\"\",TRUE,FALSE)))","v":true}]
[null,null,null,"(o)",{"$f":"Translations!$B$478","v":"Niveau utilisé pour les données d’activité:"},null,null,null,{"$f":"IF(OR(ISBLANK(H402),H402=EUconst_NoTier),\"\",IF(S402=0,EUconst_NA,IF(ISERROR(S402),\"\",EUconst_MsgTierActivityLevel & \" \" &S402)))","v":""},null,null,null,null,null,null,null,{"$f":"EUconst_CNTR_ActivityData&H370","v":"ActivityData_"},null,{"$f":"IF(ISBLANK(H402),\"\",IF(H402=EUconst_NA,\"\",INDEX(EUwideConstants!$H:$O,MATCH(Q402,EUwideConstants!$S:$S,0),MATCH(H402,CNTR_TierList,0))))","v":""},null,{"$f":"U401","v":""},2,{"$f":"IF($L$6=EUconst_NotRelevant,TRUE,IF(V402>0,(V402<>U402),IF(U402=\"\",TRUE,FALSE)))","v":true}]
[null,null,null,"(p)",{"$f":"Translations!$B$479","v":"Incertitude constatée:  "},null,null,null,{"$f":"Translations!$B$480","v":"Remarque:"},null,null,null,null,null,null,null,null,null,null,null,{"$f":"U402","v":""},2,{"$f":"IF($L$6=EUconst_NotRelevant,TRUE,IF(V403>0,(V403<>U403),IF(U403=\"\",TRUE,FALSE)))","v":true}]
[]
[null,null,null,{"$f":"Translations!$B$658","v":"Facteurs de calcul"}]
[null,null,null,"(q)",{"$f":"Translations!$B$659","v":"Niveau appliqué"}]
[]
[null,null,null,null,{"$f":"Translations!$B$516","v":"Facteur de calcul"},null,null,{"$f":"Translations!$B$517","v":"niveau requis"},{"$f":"Translations!$B$518","v":"niveau appliqué"},{"$f":"Translations!$B$519","v":"texte intégral pour le niveau appliqué"},null,null,null,null,null,null,null,null,"full text tier"]
[null,null,null,"i.",{"$f":"Translations!$B$660","v":"SEF(CF4) Facteur d'émission de pente"},null,null,{"$f":"IF(H370=\"\",\"\",IF(W409=FALSE,IF(CNTR_Category=\"A\",INDEX(EUwideConstants!$G:$G,MATCH(Q409,EUwideConstants!$S:$S,0)),INDEX(EUwideConstants!$P:$P,MATCH(Q409,EUwideConstants!$S:$S,0))),\"\"))","v":""},null,{"$f":"IF(OR(ISBLANK(I409),I409=EUconst_NoTier),\"\",IF(S409=0,EUconst_NotApplicable,IF(ISERROR(S409),\"\",S409)))","v":""},null,null,null,null,null,null,{"$f":"EUconst_CNTR_EF&H370","v":"EF_"},null,{"$f":"IF(ISBLANK(I409),\"\",IF(I409=EUconst_NA,\"\",INDEX(EUwideConstants!$H:$O,MATCH(Q409,EUwideConstants!$S:$S,0),MATCH(I409,CNTR_TierList,0))))","v":""},null,{"$f":"U403","v":""},1,{"$f":"IF($L$6=EUconst_NotRelevant,TRUE,IF(V409>0,(V409<>U409),IF(U409=\"\",TRUE,FALSE)))","v":true}]
[null,null,null,"ii.",{"$f":"Translations!$B$661","v":"OVC (Coefficient de surtension)"},null,null,{"$f":"IF(H371=\"\",\"\",IF(W410=FALSE,IF(CNTR_Category=\"A\",INDEX(EUwideConstants!$G:$G,MATCH(Q410,EUwideConstants!$S:$S,0)),INDEX(EUwideConstants!$P:$P,MATCH(Q410,EUwideConstants!$S:$S,0))),\"\"))","v":""},null,{"$f":"IF(OR(ISBLANK(I410),I410=EUconst_NoTier),\"\",IF(S410=0,EUconst_NotApplicable,IF(ISERROR(S410),\"\",S410)))","v":""},null,null,null,null,null,null,{"$f":"EUconst_CNTR_EF&H370","v":"EF_"},null,{"$f":"IF(ISBLANK(I410),\"\",IF(I410=EUconst_NA,\"\",INDEX(EUwideConstants!$H:$O,MATCH(Q410,EUwideConstants!$S:$S,0),MATCH(I410,CNTR_TierList,0))))","v":""},null,{"$f":"U409","v":""},2,{"$f":"IF($L$6=EUconst_NotRelevant,TRUE,IF(V410>0,(V410<>U410),IF(U410=\"\",TRUE,FALSE)))","v":true}]
[null,null,null,"iii.",{"$f":"Translations!$B$662","v":"F(C2F6) Fraction massique de C2F6 "},null,null,{"$f":"IF(H372=\"\",\"\",IF(W411=FALSE,IF(CNTR_Category=\"A\",INDEX(EUwideConstants!$G:$G,MATCH(Q411,EUwideConstants!$S:$S,0)),INDEX(EUwideConstants!$P:$P,MATCH(Q411,EUwideConstants!$S:$S,0))),\"\"))","v":""},null,{"$f":"IF(OR(ISBLANK(I411),I411=EUconst_NoTier),\"\",IF(S411=0,EUconst_NotApplicable,IF(ISERROR(S411),\"\",S411)))","v":""},null,null,null,null,null,null,{"$f":"EUconst_CNTR_EF&H370","v":"EF_"},null,{"$f":"IF(ISBLANK(I411),\"\",IF(I411=EUconst_NA,\"\",INDEX(EUwideConstants!$H:$O,MATCH(Q411,EUwideConstants!$S:$S,0),MATCH(I411,CNTR_TierList,0))))","v":""},null,{"$f":"U410","v":""},0,{"$f":"IF($L$6=EUconst_NotRelevant,TRUE,IF(V411>0,(V411<>U411),IF(U411=\"\",TRUE,FALSE)))","v":true}]
[]
[null,null,null,"(r)",{"$f":"Translations!$B$663","v":"Précisions sur les niveaux"}]
[]
[null,null,null,null,{"$f":"Translations!$B$516","v":"Facteur de calcul"},null,null,{"$f":"I408","v":"niveau appliqué"},{"$f":"Translations!$B$664","v":"Valeur par défaut ou valeur la plus récente"},{"$f":"Translations!$B$536","v":"Unité"},{"$f":"Translations!$B$537","v":"Réf. la source"},{"$f":"Translations!$B$538","v":"Réf. de l’analyse"},{"$f":"Translations!$B$665","v":"date de la dernière analyse"},{"$f":"Translations!$B$540","v":"Fréquence d’analyse"},null,null,null,null,"default value or lab"]
[null,null,null,"i.",{"$f":"E409","v":"SEF(CF4) Facteur d'émission de pente"},null,null,{"$f":"IF(OR(ISBLANK(I409),I409=EUconst_NA),\"\",I409)","v":""},null,null,null,null,null,null,null,null,{"$f":"Q409","v":"EF_"},null,{"$f":"IF(H416=\"\",\"\",IF(I409=EUconst_NA,\"\",INDEX(EUwideConstants!$AL:$AP,MATCH(Q409,EUwideConstants!$S:$S,0),MATCH(I409,CNTR_TierList,0))))","v":""},null,{"$f":"U411","v":""},1,{"$f":"IF($L$6=EUconst_NotRelevant,TRUE,IF(V416>0,(V416<>U416),IF(U416=\"\",TRUE,FALSE)))","v":true}]
[null,null,null,"ii.",{"$f":"E410","v":"OVC (Coefficient de surtension)"},null,null,{"$f":"IF(OR(ISBLANK(I410),I410=EUconst_NA),\"\",I410)","v":""},null,null,null,null,null,null,null,null,{"$f":"Q410","v":"EF_"},null,{"$f":"IF(H417=\"\",\"\",IF(I410=EUconst_NA,\"\",INDEX(EUwideConstants!$AL:$AP,MATCH(Q410,EUwideConstants!$S:$S,0),MATCH(I410,CNTR_TierList,0))))","v":""},null,{"$f":"U416","v":""},2,{"$f":"IF($L$6=EUconst_NotRelevant,TRUE,IF(V417>0,(V417<>U417),IF(U417=\"\",TRUE,FALSE)))","v":true}]
[null,null,null,"iii.",{"$f":"E411","v":"F(C2F6) Fraction massique de C2F6 "},null,null,{"$f":"IF(OR(ISBLANK(I411),I411=EUconst_NA),\"\",I411)","v":""},null,null,null,null,null,null,null,null,{"$f":"Q411","v":"EF_"},null,{"$f":"IF(H418=\"\",\"\",IF(I411=EUconst_NA,\"\",INDEX(EUwideConstants!$AL:$AP,MATCH(Q411,EUwideConstants!$S:$S,0),MATCH(I411,CNTR_TierList,0))))","v":""},null,{"$f":"U417","v":""},0,{"$f":"IF($L$6=EUconst_NotRelevant,TRUE,IF(V418>0,(V418<>U418),IF(U418=\"\",TRUE,FALSE)))","v":true}]
[]
[null,null,null,{"$f":"Translations!$B$666","v":"Efficacité de collecte pour la prise en compte des émissions fugitives"}]
[null,null,null,"(s)",{"$f":"Translations!$B$667","v":"Détermination de l'efficacité de la collecte"}]
[]
[null,null,null,null,null,null,null,null,{"$f":"Translations!$B$664","v":"Valeur par défaut ou valeur la plus récente"},{"$f":"Translations!$B$536","v":"Unité"},{"$f":"Translations!$B$537","v":"Réf. la source"},{"$f":"Translations!$B$538","v":"Réf. de l’analyse"},{"$f":"Translations!$B$665","v":"date de la dernière analyse"},{"$f":"Translations!$B$540","v":"Fréquence d’analyse"}]
[null,null,null,null,{"$f":"Translations!$B$668","v":"Efficacité de la collecte"},null,null,null,null,null,null,null,null,null,null,null,null,null,null,null,{"$f":"U418","v":""},0,{"$f":"IF($L$6=EUconst_NotRelevant,TRUE,IF(V424>0,(V424<>U424),IF(U424=\"\",TRUE,FALSE)))","v":true}]
[]
[null,null,null,{"$f":"Translations!$B$44","v":"Remarques"}]
[null,null,null,"(t)",{"$f":"Translations!$B$546","v":"Remarques:"}]
[]
[null,null,null,null,null,null,null,null,null,null,null,null,null,null,null,null,null,null,null,null,{"$f":"U424","v":""},0,{"$f":"IF($L$6=EUconst_NotRelevant,TRUE,IF(V429>0,(V429<>U429),IF(U429=\"\",TRUE,FALSE)))","v":true}]
[null,null,null,null,null,null,null,null,null,null,null,null,null,null,null,null,null,null,null,null,{"$f":"U429","v":""},0,{"$f":"IF($L$6=EUconst_NotRelevant,TRUE,IF(V430>0,(V430<>U430),IF(U430=\"\",TRUE,FALSE)))","v":true}]
[null,null,null,null,null,null,null,null,null,null,null,null,null,null,null,null,null,null,null,null,{"$f":"U430","v":""},0,{"$f":"IF($L$6=EUconst_NotRelevant,TRUE,IF(V431>0,(V431<>U431),IF(U431=\"\",TRUE,FALSE)))","v":true}]
[]
[null,null,null,"(u)",{"$f":"Translations!$B$548","v":"Justification lorsque les niveaux requis ne sont pas appliqués:"}]
[]
[null,null,null,null,null,null,null,null,null,null,null,null,null,null,null,null,null,null,null,null,{"$f":"U431","v":""},0,{"$f":"IF($L$6=EUconst_NotRelevant,TRUE,IF(V435>0,(V435<>U435),IF(U435=\"\",TRUE,FALSE)))","v":true}]
[null,null,null,null,null,null,null,null,null,null,null,null,null,null,null,null,null,null,null,null,{"$f":"U435","v":""},0,{"$f":"IF($L$6=EUconst_NotRelevant,TRUE,IF(V436>0,(V436<>U436),IF(U436=\"\",TRUE,FALSE)))","v":true}]
[null,null,null,null,null,null,null,null,null,null,null,null,null,null,null,null,null,null,null,null,{"$f":"U436","v":""},0,{"$f":"IF($L$6=EUconst_NotRelevant,TRUE,IF(V437>0,(V437<>U437),IF(U437=\"\",TRUE,FALSE)))","v":true}]
[]
["ADD_CompleteAluSourceStream"]
[]
[null,null,16,{"$f":"Translations!$B$31","v":"Gestion et procédures écrites applicables à la surveillance des PFC"}]
[]
[null,null,null,"(a)",{"$f":"Translations!$B$670","v":"Lorsqu’un facteur d'émission de niveau 2 est appliqué, veuillez fournir des précisions sur la procédure écrite établissant le calendrier des futurs relevés des mesures qui doivent être effectués conformément à la section 8 de l’annexe IV du MRR (facteurs d’émission et efficacité de la collecte). "}]
[]
[null,null,null,null,{"$f":"Translations!$B$405","v":"Intitulé de la procédure"}]
[null,null,null,null,{"$f":"Translations!$B$407","v":"Référence de la procédure"}]
[null,null,null,null,{"$f":"Translations!$B$409","v":"Références du schéma (le cas échéant):"}]
[null,null,null,null,{"$f":"Translations!$B$411","v":"Description succincte de la procédure    "}]
[]
[]
[null,null,null,null,{"$f":"Translations!$B$414","v":"Poste ou service responsable de la procédure et de toute donnée générée."}]
[null,null,null,null,{"$f":"Translations!$B$416","v":"Lieu d'archivage"}]
[null,null,null,null,{"$f":"Translations!$B$418","v":"Nom du système informatique utilisé (le cas échéant)."}]
[null,null,null,null,{"$f":"Translations!$B$420","v":"Liste des normes EN ou autres appliquées (le cas échéant)"}]
[]
[null,null,null,"(b)",{"$f":"Translations!$B$671","v":"Lorsqu’un facteur d’émission de niveau 2 est appliqué, veuillez fournir des détails sur le protocole décrivant la procédure écrite utilisée pour déterminer les facteurs d'émission spécifiques de l'installation pour le CF4 et le C2F6. "}]
[null,null,null,null,{"$f":"Translations!$B$672","v":"Remarque: Les procédures doivent également montrer que les mesures ont été et seront réalisées pendant une période suffisamment longue pour que les valeurs mesurées convergent, et au moins pendant 72 heures."}]
[]
[null,null,null,null,{"$f":"Translations!$B$405","v":"Intitulé de la procédure"}]
[null,null,null,null,{"$f":"Translations!$B$407","v":"Référence de la procédure"}]
[null,null,null,null,{"$f":"Translations!$B$409","v":"Références du schéma (le cas échéant):"}]
[null,null,null,null,{"$f":"Translations!$B$411","v":"Description succincte de la procédure    "}]
[]
[]
[null,null,null,null,{"$f":"Translations!$B$414","v":"Poste ou service responsable de la procédure et de toute donnée générée."}]
[null,null,null,null,{"$f":"Translations!$B$416","v":"Lieu d'archivage"}]
[null,null,null,null,{"$f":"Translations!$B$418","v":"Nom du système informatique utilisé (le cas échéant)."}]
[null,null,null,null,{"$f":"Translations!$B$420","v":"Liste des normes EN ou autres appliquées (le cas échéant)"}]
[]
[null,null,null,"(c)",{"$f":"Translations!$B$673","v":"Veuillez fournir des précisions sur la procédure écrite détaillant la méthode utilisée pour déterminer l’efficacité de la collecte pour les émissions fugitives, le cas échéant."}]
[]
[null,null,null,null,{"$f":"Translations!$B$405","v":"Intitulé de la procédure"}]
[null,null,null,null,{"$f":"Translations!$B$407","v":"Référence de la procédure"}]
[null,null,null,null,{"$f":"Translations!$B$409","v":"Références du schéma (le cas échéant):"}]
[null,null,null,null,{"$f":"Translations!$B$411","v":"Description succincte de la procédure    "}]
[]
[]
[null,null,null,null,{"$f":"Translations!$B$414","v":"Poste ou service responsable de la procédure et de toute donnée générée."}]
[null,null,null,null,{"$f":"Translations!$B$416","v":"Lieu d'archivage"}]
[null,null,null,null,{"$f":"Translations!$B$418","v":"Nom du système informatique utilisé (le cas échéant)."}]
[null,null,null,null,{"$f":"Translations!$B$420","v":"Liste des normes EN ou autres appliquées (le cas échéant)"}]
["ausblenden"]
["ausblenden",null,null,null,{"$f":"Translations!$B$1150","v":"Further procedure added by the operator"}]
["ausblenden"]
["ausblenden",null,null,null,{"$f":"Translations!$B$405","v":"Intitulé de la procédure"}]
["ausblenden",null,null,null,{"$f":"Translations!$B$407","v":"Référence de la procédure"}]
["ausblenden",null,null,null,{"$f":"Translations!$B$409","v":"Références du schéma (le cas échéant):"}]
["ausblenden",null,null,null,{"$f":"Translations!$B$411","v":"Description succincte de la procédure    "}]
["ausblenden"]
["ausblenden"]
["ausblenden",null,null,null,{"$f":"Translations!$B$414","v":"Poste ou service responsable de la procédure et de toute donnée générée."}]
["ausblenden",null,null,null,{"$f":"Translations!$B$416","v":"Lieu d'archivage"}]
["ausblenden",null,null,null,{"$f":"Translations!$B$418","v":"Nom du système informatique utilisé (le cas échéant)."}]
["ausblenden",null,null,null,{"$f":"Translations!$B$420","v":"Liste des normes EN ou autres appliquées (le cas échéant)"}]
["ADD_Procedure"]
[null,null,null,null,null,null,{"$f":"Translations!$B$429","v":"Cliquez sur « + » pour ajouter d’autres procédures"}]
[]
[]
[]
[null,null,null,null,null,{"$f":"EUconst_MsgNextSheet","v":"<<< Cliquer ici pour passer à la feuille suivante >>> "}]

{"sheet":"J_Transferred GHG","index":11,"n_rows":255,"n_cols":17,"rows_kept":255,"cut":false,"hidden":false,"merged":[[250,6,252,10],[246,4,246,5],[246,6,246,13],[247,4,247,5],[247,6,247,13],[241,6,241,13],[233,4,233,5],[235,4,235,5],[235,6,235,13],[233,6,233,13],[234,6,234,13],[248,4,248,5],[234,4,234,5],[245,4,245,5],[245,6,245,13],[237,4,237,13],[239,4,239,5],[239,6,239,13],[240,6,240,13],[240,4,240,5],[241,4,241,5],[248,6,248,13],[243,6,243,13],[242,4,242,5],[222,6,222,13],[220,4,220,5],[220,6,220,13],[242,6,242,13],[244,6,244,13],[219,6,219,13],[221,6,221,13],[221,4,221,5],[222,4,222,5],[228,6,228,13],[229,4,229,5],[229,6,229,13],[228,4,228,5],[232,4,232,5],[232,6,232,13],[230,6,230,13],[227,4,227,5],[227,6,227,13],[224,4,224,13],[231,6,231,13],[43,4,43,13],[50,4,50,13],[49,4,49,13],[216,4,216,5],[226,4,226,5],[194,3,194,13],[195,3,195,13],[196,3,196,13],[201,4,201,5],[213,6,213,13],[207,6,207,13],[208,4,208,5],[207,4,207,5],[226,6,226,13],[214,4,214,5],[214,6,214,13],[211,4,211,13],[213,4,213,5],[217,6,217,13],[218,6,218,13],[215,4,215,5],[216,6,216,13],[215,6,215,13],[219,4,219,5],[67,4,67,5],[56,10,56,11],[54,5,54,6],[54,7,54,8],[27,4,27,13],[31,4,31,13],[28,4,28,13],[56,12,56,13],[56,5,56,6],[56,7,56,8],[47,5,47,13],[48,5,48,13],[55,10,55,11],[29,4,29,13],[30,4,30,13],[44,5,44,13],[52,10,52,11],[34,4,34,13],[52,5,52,6],[37,4,37,13],[46,5,46,13],[35,4,35,13],[38,4,38,13],[54,10,54,11],[9,3,9,13],[11,3,11,13],[12,3,12,13],[13,3,13,13],[25,4,25,13],[15,4,15,13],[16,4,16,13],[17,4,17,13],[18,4,18,13],[21,4,21,13],[23,4,23,13],[22,4,22,13],[98,12,98,13],[97,5,97,6],[36,4,36,13],[40,4,40,13],[42,4,42,13],[45,5,45,13],[52,12,52,13],[39,4,39,13],[24,4,24,13],[94,12,94,13],[74,6,74,13],[53,5,53,6],[55,5,55,6],[55,12,55,13],[54,12,54,13],[53,7,53,8],[68,4,68,5],[87,4,87,9],[55,7,55,8],[52,7,52,8],[32,4,32,13],[33,4,33,13],[74,4,74,5],[57,12,57,13],[75,6,75,13],[85,4,85,13],[71,6,71,13],[68,6,68,13],[83,12,83,13],[76,4,76,5],[81,3,81,13],[26,4,26,13],[19,4,19,13],[53,10,53,11],[60,7,62,11],[65,4,65,13],[57,5,57,6],[57,7,57,8],[58,12,58,13],[58,10,58,11],[58,5,58,6],[57,10,57,11],[73,6,73,13],[58,7,58,8],[69,6,69,13],[70,4,70,5],[67,6,67,13],[53,12,53,13],[96,7,96,11],[98,7,98,11],[69,4,69,5],[93,7,93,11],[98,5,98,6],[96,12,96,13],[95,12,95,13],[84,4,84,13],[79,3,79,13],[94,5,94,6],[91,4,91,13],[95,5,95,6],[95,7,95,11],[76,6,76,13],[97,7,97,11],[96,5,96,6],[94,7,94,11],[75,4,75,5],[93,12,93,13],[88,4,88,13],[90,4,90,13],[87,10,87,13],[70,6,70,13],[73,4,73,5],[101,5,101,6],[100,5,100,6],[99,7,99,11],[100,7,100,11],[99,5,99,6],[99,12,99,13],[102,5,102,6],[116,4,116,5],[101,7,101,11],[113,4,113,13],[100,12,100,13],[115,6,115,13],[116,6,116,13],[103,7,103,11],[104,12,104,13],[128,6,128,13],[131,4,131,5],[130,6,130,13],[110,9,110,13],[102,7,102,11],[104,7,104,11],[103,5,103,6],[103,12,103,13],[122,4,122,5],[122,6,122,13],[104,5,104,6],[118,4,118,5],[119,6,119,13],[102,12,102,13],[121,4,121,5],[121,6,121,13],[128,4,128,5],[123,4,123,5],[124,4,124,5],[124,6,124,13],[126,4,126,13],[169,6,169,13],[170,4,170,5],[170,6,170,13],[160,4,160,5],[157,6,157,13],[167,6,167,13],[165,4,165,13],[163,6,163,13],[136,4,136,5],[136,6,136,13],[143,4,143,5],[156,4,156,5],[161,4,161,5],[163,4,163,5],[146,6,146,13],[147,4,147,5],[155,4,155,5],[168,6,168,13],[144,4,144,5],[148,6,148,13],[154,6,154,13],[149,6,149,13],[152,4,152,13],[154,4,154,5],[209,4,209,5],[202,4,202,5],[206,6,206,13],[205,6,205,13],[209,6,209,13],[204,6,204,13],[203,4,203,5],[203,6,203,13],[208,6,208,13],[206,4,206,5],[202,6,202,13],[200,4,200,5],[192,3,192,13],[200,6,200,13],[198,4,198,13],[176,6,176,13],[174,4,174,5],[173,4,173,5],[175,4,175,5],[174,6,174,13],[189,4,189,5],[189,6,189,13],[183,4,183,5],[183,6,183,13],[184,6,184,13],[185,6,185,13],[186,4,186,5],[186,6,186,13],[169,4,169,5],[160,6,160,13],[161,6,161,13],[201,6,201,13],[175,6,175,13],[171,6,171,13],[162,6,162,13],[168,4,168,5],[167,4,167,5],[178,4,178,13],[180,4,180,5],[180,6,180,13],[181,4,181,5],[181,6,181,13],[182,4,182,5],[182,6,182,13],[172,6,172,13],[173,6,173,13],[176,4,176,5],[162,4,162,5],[187,4,187,5],[187,6,187,13],[188,4,188,5],[188,6,188,13],[2,10,2,11],[3,8,3,9],[130,4,130,5],[120,6,120,13],[117,6,117,13],[72,6,72,13],[118,6,118,13],[1,10,1,11],[1,12,1,13],[2,12,2,13],[1,4,1,5],[2,6,2,7],[2,8,2,9],[1,6,1,7],[1,8,1,9],[5,2,5,10],[5,11,5,13],[2,4,2,5],[1,1,3,3],[3,4,3,5],[101,12,101,13],[123,6,123,13],[129,6,129,13],[129,4,129,5],[254,5,254,11],[7,10,7,13],[110,4,110,8],[115,4,115,5],[117,4,117,5],[111,4,111,13],[106,7,108,11],[97,12,97,13],[3,10,3,11],[3,12,3,13],[3,6,3,7],[159,6,159,13],[137,4,137,5],[137,6,137,13],[150,4,150,5],[150,6,150,13],[149,4,149,5],[143,6,143,13],[158,6,158,13],[156,6,156,13],[144,6,144,13],[155,6,155,13],[145,6,145,13],[147,6,147,13],[157,4,157,5],[139,4,139,13],[141,4,141,5],[142,4,142,5],[131,6,131,13],[133,6,133,13],[135,4,135,5],[135,6,135,13],[141,6,141,13],[142,6,142,13],[148,4,148,5],[134,4,134,5],[132,6,132,13],[134,6,134,13]]}
["ausblenden",null,null,null,null,null,null,null,null,null,null,null,null,null,null,"ausblenden","ausblenden"]
[null,{"$f":"Translations!$B$674","v":"J. Transferred CO2 & CCS "},null,null,{"$f":"Translations!$B$59","v":"Zone de navigation:"},null,{"$f":"Translations!$B$60","v":"Sommaire"},null,{"$f":"Translations!$B$61","v":"Feuille précédente"},null,{"$f":"Translations!$B$62","v":"Feuille suivante"}]
[null,null,null,null,{"$f":"Translations!$B$63","v":"Début de feuille"}]
[null,null,null,null,{"$f":"Translations!$B$64","v":"Fin de feuille"}]
[]
[null,null,{"$f":"Translations!$B$1204","v":"J. Determination of transferred or inherent CO2 and transferred N2 (Détermination du CO2 transféré ou intrinsèque et du N2O transféré)"},null,null,null,null,null,null,null,null,{"$f":"IF(AND(NOT(ISBLANK(CNTR_InstHasTransferredCO2)), CNTR_InstHasTransferredCO2=FALSE),EUconst_NotRelevant,EUconst_Relevant)","v":"pertinent"}]
[]
[null,null,null,null,null,null,null,null,null,null,{"$f":"IF(L6=EUconst_NotRelevant,HYPERLINK(\"#JUMP_J2_Top\",EUconst_MsgNextSheet),HYPERLINK(\"\",EUconst_MsgEnterThisSection))","v":"Veuillez saisir des données dans cette rubrique"}]
[]
[null,null,17,{"$f":"Translations!$B$1205","v":"Détermination du CO2 transféré ou intrinsèque et du N2O transféré"}]
[]
[null,null,null,{"$f":"Translations!$B$1206","v":"Remarque: cette rubrique doit être remplie en cas de transfert de CO2 intrinsèque en tant que composant d’un flux conformément à l’article 48 du MRR, ou de transfert de CO2 ou de N2O conformément aux articles 49 et 50 respectivement du MRR."}]
[null,null,null,{"$f":"Translations!$B$1357","v":"En outre, cette fiche est pertinente pour les informations à fournir lorsque des activités de captage, de transport ou de stockage géologique du CO2, telles que couvertes par l'annexe I de la directive SEQE-UE, sont réalisées."}]
[null,null,null,{"$f":"Translations!$B$1358","v":"En fonction de l'approche de surveillance choisie, les informations concernant les flux doivent être fournies dans la feuille E_SourceStreams et toutes les informations concernant les points de mesure et les instruments de mesure doivent être fournies dans la feuille F_MeasurementBasedApproaches."}]
[]
[null,null,null,"(a)",{"$f":"Translations!$B$1207","v":"Veuillez fournir une description détaillée de la méthode de surveillance utilisée pour déterminer le CO2 intrinsèque ou transféré, ou le N2O transféré. "}]
[null,null,null,null,{"$f":"Translations!$B$1208","v":"Veuillez décrire de façon concise dans la zone de texte ci-dessous la méthode de surveillance utilisée, formules comprises, pour déterminer les émissions annuelles de CO2, de N2O ou de CO2(e) de votre installation."}]
[null,null,null,null,{"$f":"Translations!$B$1209","v":"La description doit couvrir en particulier les quantités de CO2 et de N2O à ajouter du fait de la réception de CO2 et de N2O transférés, ou les quantités de CO2(e) à déduire du fait du transfert en dehors de l’installation, suivant le cas. Veuillez vous assurer que ce calcul est conforme aux dispositions des articles 48, 49 et 50 du MRR."}]
[null,null,null,null,{"$f":"Translations!$B$680","v":"Si la description est trop complexe (utilisation de formules complexes, par exemple) ou si elle nécessite un schéma, vous pouvez fournir cette description dans un document séparé, dans un format de fichier acceptable par l’AC.    Veuillez dans ce cas fournir la référence de ce fichier en indiquant le nom de fichier et la date."}]
[null,null,null,null,{"$f":"Translations!$B$195","v":"La description doit contenir les liens qui sont nécessaires pour comprendre la manière dont les informations fournies dans les autres parties du présent modèle sont utilisées pour calculer les émissions. Ces données peuvent être aussi synthétiques que dans l’exemple donné dans la feuille D­_CalculationBasedApproaches, rubrique 7 a)."}]
[]
[]
[]
[]
[]
[]
[]
[]
[]
[]
[]
[]
[]
[]
[]
[]
[]
[]
[]
[]
[]
[]
[null,null,null,"(b)",{"$f":"Translations!$B$681","v":"Veuillez fournir des précisions sur l’installation réceptrice et l'installation qui transfère."}]
[null,null,null,null,{"$f":"Translations!$B$1210","v":"Veuillez indiquer ici, pour chaque installation (ou autre entité) qui vous transfère ou à laquelle vous transférez du CO2(e) intrinsèque ou transféré, les informations suivantes:"}]
[null,null,null,null,{"$f":"Translations!$B$683","v":"Dénomination de l'installation"},{"$f":"Translations!$B$1211","v":"Indiquez ici le nom de l’installation ou de l’entité hors SEQE à partir de laquelle ou vers laquelle le CO2(e) est transféré. Dans la mesure du possible, utilisez le nom utilisé par l’autorité compétente et dans le registre."}]
[null,null,null,null,{"$f":"Translations!$B$156","v":"Nom de l’exploitant"},{"$f":"Translations!$B$685","v":"Nom de l’exploitant de cette installation ou entité hors SEQE"}]
[null,null,null,null,{"$f":"Translations!$B$686","v":"Identificateur unique"},{"$f":"Translations!$B$687","v":"Pour les installations relevant du SEQE de l’UE, donnez l’identificateur unique de l’installation qui est utilisé par le système de registres. En cas de doute, prenez contact avec l’autorité compétente pour connaître le format correct de l’identificateur unique."}]
[null,null,null,null,{"$f":"Translations!$B$688","v":"Type de transfert"},{"$f":"Translations!$B$1212","v":"Choisissez dans la liste déroulante ci-dessous un transfert en provenance ou à destination d’une installation ou d’une entité hors SEQE et indiquez s’il s’agit de CO2 intrinsèque (article 48), de CO2 transféré (article 49) ou de N2O transféré (article 50) au sens du MRR."}]
[null,null,null,null,{"$f":"Translations!$B$690","v":"Méthode de mesure"},{"$f":"Translations!$B$691","v":"En vertu de l’article 48, paragraphe 3, vous pouvez déterminer le CO2 transféré ou le CO2 intrinsèque soit à l’aide de vos propres instruments, soit en recourant aux mesures de l’autre installation, ou bien vous pouvez utiliser les deux méthodes et faire la moyenne des résultats obtenus.  Veuillez préciser ici la méthode utilisée. "}]
[]
[null,null,null,null,{"$f":"Translations!$B$692","v":"Remarque: Les données détaillées concernant la méthode de mesure continue, les points de mesure et les instruments de mesure doivent être saisies dans la feuille F_MeasurementBasedApproaches."}]
[]
[null,null,null,null,{"$f":"Translations!$B$693","v":"Réf. du transfert"},{"$f":"Translations!$B$694","v":"Dénomination de l'installation:"},null,{"$f":"Translations!$B$156","v":"Nom de l’exploitant"},null,{"$f":"Translations!$B$695","v":"Identificateur unique de l’installation"},{"$f":"Translations!$B$688","v":"Type de transfert"},null,{"$f":"Translations!$B$690","v":"Méthode de mesure"}]
[null,null,null,null,"TR1"]
[null,null,null,null,"TR2"]
[null,null,null,null,"TR3"]
[null,null,null,null,"TR4"]
[null,null,null,null,"TR5"]
["ausblenden"]
["ADD_TransferCO2Installations"]
[null,null,null,null,null,null,null,{"$f":"Translations!$B$696","v":"Cliquez sur « + » pour ajouter d’autres installations"}]
[]
[]
[]
[]
[null,null,null,"(c)",{"$f":"Translations!$B$1359","v":"Lorsqu'une partie du CO2 transféré est générée à partir de carbone dont le facteur d'émission est considéré comme égal à zéro (par exemple, la biomasse), ou lorsqu'une installation n'est que partiellement couverte par la directive SEQE-UE, veuillez fournir des détails sur la procédure écrite utilisée pour déduire la quantité de CO2 transférée qui ne provient pas d'activités de carbone fossile couvertes par la directive SEQE-UE."}]
[]
[null,null,null,null,{"$f":"Translations!$B$405","v":"Intitulé de la procédure"}]
[null,null,null,null,{"$f":"Translations!$B$407","v":"Référence de la procédure"}]
[null,null,null,null,{"$f":"Translations!$B$409","v":"Références du schéma (le cas échéant):"}]
[null,null,null,null,{"$f":"Translations!$B$411","v":"Description succincte de la procédure    "}]
[]
[]
[null,null,null,null,{"$f":"Translations!$B$414","v":"Poste ou service responsable de la procédure et de toute donnée générée."}]
[null,null,null,null,{"$f":"Translations!$B$416","v":"Lieu d'archivage"}]
[null,null,null,null,{"$f":"Translations!$B$418","v":"Nom du système informatique utilisé (le cas échéant)."}]
[null,null,null,null,{"$f":"Translations!$B$420","v":"Liste des normes EN ou autres appliquées (le cas échéant)"}]
[]
[]
[null,null,18,{"$f":"Translations!$B$1360","v":"Informations pertinentes pour les infrastructures de transport de CO2 utilisées pour le transport de CO2 et de N2O"}]
[]
[null,null,null,{"$f":"Translations!$B$1361","v":"L'infrastructure de transport du CO2 comprend tous les modes de transport du CO2 (pipelines, navires, camions, trains, etc.) à des fins de stockage géologique. Veuillez donc décrire en détail, à la section C.5.a, la structure organisationnelle, le nombre et le type de véhicules concernés, les limites du système, y compris toutes les installations auxiliaires fonctionnellement connectées à l'infrastructure de transport, telles que le stockage intermédiaire du CO2, les boosters, la liquéfaction, la gazéification, les stations d'épuration ou les réchauffeurs, etc."}]
[]
[null,null,null,"(a)",{"$f":"Translations!$B$1362","v":"Veuillez indiquer l'approche de surveillance choisie pour votre infrastructure de transport :"},null,null,null,null,null,null,null,null,null,null,{"$f":"IF(ISBLANK(M84),\"\",MATCH(M84,EUconst_PipelineApproaches,0))","v":""},"CNTR_TransportApproach"]
[null,null,null,null,{"$f":"Translations!$B$1363","v":"Conformément à la section 22, paragraphe B de l'annexe IV du MRR, vous pouvez choisir l'une des deux méthodes pour le CO2 transporté. La méthode A consiste à établir un bilan massique de l'ensemble du CO2 et du N2O émis, entrant et sortant de l'infrastructure de transport, tandis que la méthode B repose sur la détermination des émissions fugitives et ventilées, ainsi que des fuites, de chaque source d'émission."}]
[null,null,null,null,{"$f":"Translations!$B$1364","v":"La préférence est donnée à la méthode B, à moins que vous puissiez démontrer que la méthode A conduira à des résultats plus fiables avec une incertitude plus faible, sans entraîner de coûts déraisonnables."}]
[]
[null,null,null,"(b)",{"$f":"Translations!$B$700","v":"Le cas échéant, veuillez donner la référence de l’analyse d’incertitude:"}]
[null,null,null,null,{"$f":"Translations!$B$1365","v":"Si vous avez choisi la méthode B, vous devez fournir des preuves démontrant la conformité avec une incertitude globale ne dépassant pas 7,5 % pour les émissions de l'ensemble de l'infrastructure de transport. Si vous avez choisi la méthode A, vous devez justifier les raisons mentionnées au point a) ci-dessus. Veuillez indiquer ici une référence au document ci-joint, le cas échéant."}]
[]
[null,null,null,"(c)",{"$f":"Translations!$B$1366","v":"Le cas échéant, veuillez décrire l’équipement utilisé pour la mesure de la température et de la pression dans l’infrastructure de transport."}]
[null,null,null,null,{"$f":"Translations!$B$1367","v":"Veuillez énumérer tous les équipements utilisés pour mesurer la température et la pression dans l’infrastructure de transport afin de déterminer les émissions dues aux fuites, conformément à la section 22 de l’annexe IV du MRR."}]
[]
[null,null,null,null,{"$f":"Translations!$B$704","v":"Référence:"},{"$f":"Translations!$B$705","v":"Localisation"},null,{"$f":"Translations!$B$706","v":"Type d’instrument de mesure"},null,null,null,null,{"$f":"Translations!$B$707","v":"Référence de l’instrument"}]
[null,null,null,null,"ND1"]
[null,null,null,null,"ND2"]
[null,null,null,null,"ND3"]
[null,null,null,null,"ND4"]
[null,null,null,null,"ND5"]
[null,null,null,null,"ND6"]
[null,null,null,null,"ND7"]
[null,null,null,null,"ND8"]
[null,null,null,null,"ND9"]
[null,null,null,null,"ND10"]
["ausblenden"]
["ADD_PipelineDevice"]
[null,null,null,null,null,null,null,{"$f":"Translations!$B$708","v":"Cliquez sur « + » pour ajouter d’autres instruments de mesure"}]
[]
[]
[]
[null,null,null,"(d)",{"$f":"Translations!$B$709","v":"Référence d’une description plus détaillée, le cas échéant:"}]
[null,null,null,null,{"$f":"Translations!$B$710","v":"Si nécessaire, vous pouvez fournir la liste du point c) et une description plus détaillée dans un document à part, dans un format de fichier acceptable pour l’AC. Dans ce cas, veuillez donner la référence du fichier ici, sous la forme du nom de fichier et de la date. "}]
[]
[null,null,null,"(e)",{"$f":"Translations!$B$1368","v":"Le cas échéant, veuillez fournir des détails sur la procédure écrite de prévention, de détection et de quantification des fuites de l’infrastructure de transport."}]
[]
[null,null,null,null,{"$f":"Translations!$B$405","v":"Intitulé de la procédure"}]
[null,null,null,null,{"$f":"Translations!$B$407","v":"Référence de la procédure"}]
[null,null,null,null,{"$f":"Translations!$B$409","v":"Références du schéma (le cas échéant):"}]
[null,null,null,null,{"$f":"Translations!$B$411","v":"Description succincte de la procédure    "}]
[]
[]
[null,null,null,null,{"$f":"Translations!$B$414","v":"Poste ou service responsable de la procédure et de toute donnée générée."}]
[null,null,null,null,{"$f":"Translations!$B$416","v":"Lieu d'archivage"}]
[null,null,null,null,{"$f":"Translations!$B$418","v":"Nom du système informatique utilisé (le cas échéant)."}]
[null,null,null,null,{"$f":"Translations!$B$420","v":"Liste des normes EN ou autres appliquées (le cas échéant)"}]
[]
[null,null,null,"(f)",{"$f":"Translations!$B$1369","v":"Pour les infrastructures de transport, veuillez fournir des détails sur la procédure écrite visant à garantir que le CO2(e) est transféré uniquement vers des installations disposant d'un permis d'émission de gaz à effet de serre valide, ou dans lesquelles tout CO2 ou N2O émis est efficacement surveillé et comptabilisé conformément aux articles 49 et 50 du MRR."}]
[]
[null,null,null,null,{"$f":"Translations!$B$405","v":"Intitulé de la procédure"}]
[null,null,null,null,{"$f":"Translations!$B$407","v":"Référence de la procédure"}]
[null,null,null,null,{"$f":"Translations!$B$409","v":"Références du schéma (le cas échéant):"}]
[null,null,null,null,{"$f":"Translations!$B$411","v":"Description succincte de la procédure    "}]
[]
[]
[null,null,null,null,{"$f":"Translations!$B$414","v":"Poste ou service responsable de la procédure et de toute donnée générée."}]
[null,null,null,null,{"$f":"Translations!$B$416","v":"Lieu d'archivage"}]
[null,null,null,null,{"$f":"Translations!$B$418","v":"Nom du système informatique utilisé (le cas échéant)."}]
[null,null,null,null,{"$f":"Translations!$B$420","v":"Liste des normes EN ou autres appliquées (le cas échéant)"}]
[]
[null,null,null,"(g)",{"$f":"Translations!$B$1370","v":"Si la méthode B est appliquée aux infrastructures de transport, veuillez fournir ici la description de la procédure utilisée pour valider le résultat de la méthode B avec la méthode A au moins une fois par an :"},null,null,null,null,null,null,null,null,null,null,null,"make grey?"]
[]
[null,null,null,null,{"$f":"Translations!$B$405","v":"Intitulé de la procédure"},null,null,null,null,null,null,null,null,null,null,null,{"$f":"CNTR_TransportApproach=1","v":false}]
[null,null,null,null,{"$f":"Translations!$B$407","v":"Référence de la procédure"},null,null,null,null,null,null,null,null,null,null,null,{"$f":"Q142","v":false}]
[null,null,null,null,{"$f":"Translations!$B$409","v":"Références du schéma (le cas échéant):"},null,null,null,null,null,null,null,null,null,null,null,{"$f":"Q143","v":false}]
[null,null,null,null,{"$f":"Translations!$B$411","v":"Description succincte de la procédure    "},null,null,null,null,null,null,null,null,null,null,null,false]
[null,null,null,null,null,null,null,null,null,null,null,null,null,null,null,null,false]
[null,null,null,null,null,null,null,null,null,null,null,null,null,null,null,null,false]
[null,null,null,null,{"$f":"Translations!$B$414","v":"Poste ou service responsable de la procédure et de toute donnée générée."},null,null,null,null,null,null,null,null,null,null,null,false]
[null,null,null,null,{"$f":"Translations!$B$416","v":"Lieu d'archivage"},null,null,null,null,null,null,null,null,null,null,null,false]
[null,null,null,null,{"$f":"Translations!$B$418","v":"Nom du système informatique utilisé (le cas échéant)."},null,null,null,null,null,null,null,null,null,null,null,false]
[null,null,null,null,{"$f":"Translations!$B$420","v":"Liste des normes EN ou autres appliquées (le cas échéant)"},null,null,null,null,null,null,null,null,null,null,null,false]
[]
[null,null,null,"(h)",{"$f":"Translations!$B$714","v":"Si la méthode B est appliquée, décrivez ici la procédure utilisée pour déterminer les émissions fugitives:"}]
[]
[null,null,null,null,{"$f":"Translations!$B$405","v":"Intitulé de la procédure"},null,null,null,null,null,null,null,null,null,null,null,{"$f":"Q142","v":false}]
[null,null,null,null,{"$f":"Translations!$B$407","v":"Référence de la procédure"},null,null,null,null,null,null,null,null,null,null,null,{"$f":"Q155","v":false}]
[null,null,null,null,{"$f":"Translations!$B$409","v":"Références du schéma (le cas échéant):"},null,null,null,null,null,null,null,null,null,null,null,{"$f":"Q156","v":false}]
[null,null,null,null,{"$f":"Translations!$B$411","v":"Description succincte de la procédure    "},null,null,null,null,null,null,null,null,null,null,null,false]
[null,null,null,null,null,null,null,null,null,null,null,null,null,null,null,null,false]
[null,null,null,null,null,null,null,null,null,null,null,null,null,null,null,null,false]
[null,null,null,null,{"$f":"Translations!$B$414","v":"Poste ou service responsable de la procédure et de toute donnée générée."},null,null,null,null,null,null,null,null,null,null,null,false]
[null,null,null,null,{"$f":"Translations!$B$416","v":"Lieu d'archivage"},null,null,null,null,null,null,null,null,null,null,null,false]
[null,null,null,null,{"$f":"Translations!$B$418","v":"Nom du système informatique utilisé (le cas échéant)."},null,null,null,null,null,null,null,null,null,null,null,false]
[null,null,null,null,{"$f":"Translations!$B$420","v":"Liste des normes EN ou autres appliquées (le cas échéant)"},null,null,null,null,null,null,null,null,null,null,null,false]
[]
[null,null,null,"(i)",{"$f":"Translations!$B$715","v":"Si la méthode B est appliquée, décrivez ici la procédure utilisée pour déterminer les émissions de purge:"}]
[]
[null,null,null,null,{"$f":"Translations!$B$405","v":"Intitulé de la procédure"},null,null,null,null,null,null,null,null,null,null,null,{"$f":"Q155","v":false}]
[null,null,null,null,{"$f":"Translations!$B$407","v":"Référence de la procédure"},null,null,null,null,null,null,null,null,null,null,null,{"$f":"Q168","v":false}]
[null,null,null,null,{"$f":"Translations!$B$409","v":"Références du schéma (le cas échéant):"},null,null,null,null,null,null,null,null,null,null,null,{"$f":"Q169","v":false}]
[null,null,null,null,{"$f":"Translations!$B$411","v":"Description succincte de la procédure    "},null,null,null,null,null,null,null,null,null,null,null,false]
[null,null,null,null,null,null,null,null,null,null,null,null,null,null,null,null,false]
[null,null,null,null,null,null,null,null,null,null,null,null,null,null,null,null,false]
[null,null,null,null,{"$f":"Translations!$B$414","v":"Poste ou service responsable de la procédure et de toute donnée générée."},null,null,null,null,null,null,null,null,null,null,null,false]
[null,null,null,null,{"$f":"Translations!$B$416","v":"Lieu d'archivage"},null,null,null,null,null,null,null,null,null,null,null,false]
[null,null,null,null,{"$f":"Translations!$B$418","v":"Nom du système informatique utilisé (le cas échéant)."},null,null,null,null,null,null,null,null,null,null,null,false]
[null,null,null,null,{"$f":"Translations!$B$420","v":"Liste des normes EN ou autres appliquées (le cas échéant)"},null,null,null,null,null,null,null,null,null,null,null,false]
[]
[null,null,null,"(j)",{"$f":"Translations!$B$1371","v":"Si la méthode A est appliquée, veuillez fournir ici une description de la procédure utilisée pour établir l’inventaire du CO2 entrant et sortant annuellement de l’infrastructure de transport de CO2 et pour surveiller tout CO2 en transit, conformément à l’article 49 paragraphe 6."}]
[]
[null,null,null,null,{"$f":"Translations!$B$405","v":"Intitulé de la procédure"},null,null,null,null,null,null,null,null,null,null,null,{"$f":"CNTR_TransportApproach=2","v":false}]
[null,null,null,null,{"$f":"Translations!$B$407","v":"Référence de la procédure"},null,null,null,null,null,null,null,null,null,null,null,{"$f":"Q181","v":false}]
[null,null,null,null,{"$f":"Translations!$B$409","v":"Références du schéma (le cas échéant):"},null,null,null,null,null,null,null,null,null,null,null,{"$f":"Q182","v":false}]
[null,null,null,null,{"$f":"Translations!$B$411","v":"Description succincte de la procédure    "},null,null,null,null,null,null,null,null,null,null,null,false]
[null,null,null,null,null,null,null,null,null,null,null,null,null,null,null,null,false]
[null,null,null,null,null,null,null,null,null,null,null,null,null,null,null,null,false]
[null,null,null,null,{"$f":"Translations!$B$414","v":"Poste ou service responsable de la procédure et de toute donnée générée."},null,null,null,null,null,null,null,null,null,null,null,false]
[null,null,null,null,{"$f":"Translations!$B$416","v":"Lieu d'archivage"},null,null,null,null,null,null,null,null,null,null,null,false]
[null,null,null,null,{"$f":"Translations!$B$418","v":"Nom du système informatique utilisé (le cas échéant)."},null,null,null,null,null,null,null,null,null,null,null,false]
[null,null,null,null,{"$f":"Translations!$B$420","v":"Liste des normes EN ou autres appliquées (le cas échéant)"},null,null,null,null,null,null,null,null,null,null,null,false]
[]
[]
[null,null,19,{"$f":"Translations!$B$35","v":"Informations concernant les installations de stockage géologique du CO2"}]
[]
[null,null,null,{"$f":"Translations!$B$716","v":"Remarque: Dans le cas du stockage géologique du C02, les émissions à partir du complexe de stockage ainsi que le dégagement de CO2 dans la colonne d'eau ne doivent faire l’objet d’une surveillance que lorsqu’une fuite est détectée. Si aucune fuite n’est détectée, le plan de surveillance peut ne pas prévoir de dispositions particulières de surveillance.  "}]
[null,null,null,{"$f":"Translations!$B$717","v":"Il est par conséquent essentiel qu’une procédure soit en place pour permettre une réaction immédiate lorsqu’une fuite est détectée. En pareil cas, le plan de surveillance doit être mis à jour dans les meilleurs délais."}]
[null,null,null,{"$f":"Translations!$B$718","v":"Veuillez détailler la procédure utilisée pour l’évaluation régulière du plan de surveillance en vue d’apprécier sa pertinence.  À cet effet, veuillez utiliser le point 19 c) de la feuille K_ManagementControl."}]
[]
[null,null,null,"(a)",{"$f":"Translations!$B$719","v":"Le cas échéant, veuillez détailler la procédure écrite décrivant les méthodes de quantification des émissions ou des dégagements de CO2 dans la colonne d’eau susceptibles de résulter de fuites, ainsi que les méthodes de quantification appliquées et éventuellement adaptées pour les émissions réelles ou les dégagements réels de CO2 dans la colonne d’eau dus à des fuites, conformément aux prescriptions de la section 23 de l'annexe IV."}]
[]
[null,null,null,null,{"$f":"Translations!$B$405","v":"Intitulé de la procédure"}]
[null,null,null,null,{"$f":"Translations!$B$407","v":"Référence de la procédure"}]
[null,null,null,null,{"$f":"Translations!$B$409","v":"Références du schéma (le cas échéant):"}]
[null,null,null,null,{"$f":"Translations!$B$411","v":"Description succincte de la procédure    "}]
[]
[]
[null,null,null,null,{"$f":"Translations!$B$414","v":"Poste ou service responsable de la procédure et de toute donnée générée."}]
[null,null,null,null,{"$f":"Translations!$B$416","v":"Lieu d'archivage"}]
[null,null,null,null,{"$f":"Translations!$B$418","v":"Nom du système informatique utilisé (le cas échéant)."}]
[null,null,null,null,{"$f":"Translations!$B$420","v":"Liste des normes EN ou autres appliquées (le cas échéant)"}]
[]
[null,null,null,"(b)",{"$f":"Translations!$B$720","v":"Veuillez décrire ici la méthode et la procédure utilisée pour déterminer toute émission fugitive ou émission de purge provenant notamment de sites où se déroulent des opérations de récupération assistée des hydrocarbures. Si des méthodes fondées sur la mesure conformément aux articles 41 à 46 ne sont pas appliquées, il y a lieu de fournir une justification concernant les coûts excessifs."}]
[]
[null,null,null,null,{"$f":"Translations!$B$405","v":"Intitulé de la procédure"}]
[null,null,null,null,{"$f":"Translations!$B$407","v":"Référence de la procédure"}]
[null,null,null,null,{"$f":"Translations!$B$409","v":"Références du schéma (le cas échéant):"}]
[null,null,null,null,{"$f":"Translations!$B$411","v":"Description succincte de la procédure    "}]
[]
[]
[null,null,null,null,{"$f":"Translations!$B$414","v":"Poste ou service responsable de la procédure et de toute donnée générée."}]
[null,null,null,null,{"$f":"Translations!$B$416","v":"Lieu d'archivage"}]
[null,null,null,null,{"$f":"Translations!$B$418","v":"Nom du système informatique utilisé (le cas échéant)."}]
[null,null,null,null,{"$f":"Translations!$B$420","v":"Liste des normes EN ou autres appliquées (le cas échéant)"}]
[]
[null,null,null,"(c)",{"$f":"Translations!$B$721","v":"Décrivez ici la procédure utilisée pour déterminer l’incertitude associée aux émissions résultant de fuites, le cas échéant, en vue de corriger le chiffre des émissions conformément à la section 23, point B.3. de l’annexe IV du MRR."}]
[]
[null,null,null,null,{"$f":"Translations!$B$405","v":"Intitulé de la procédure"}]
[null,null,null,null,{"$f":"Translations!$B$407","v":"Référence de la procédure"}]
[null,null,null,null,{"$f":"Translations!$B$409","v":"Références du schéma (le cas échéant):"}]
[null,null,null,null,{"$f":"Translations!$B$411","v":"Description succincte de la procédure    "}]
[]
[]
[null,null,null,null,{"$f":"Translations!$B$414","v":"Poste ou service responsable de la procédure et de toute donnée générée."}]
[null,null,null,null,{"$f":"Translations!$B$416","v":"Lieu d'archivage"}]
[null,null,null,null,{"$f":"Translations!$B$418","v":"Nom du système informatique utilisé (le cas échéant)."}]
[null,null,null,null,{"$f":"Translations!$B$420","v":"Liste des normes EN ou autres appliquées (le cas échéant)"}]
["ausblenden"]
["ausblenden",null,null,null,{"$f":"Translations!$B$1150","v":"Further procedure added by the operator"}]
["ausblenden"]
["ausblenden",null,null,null,{"$f":"Translations!$B$405","v":"Intitulé de la procédure"}]
["ausblenden",null,null,null,{"$f":"Translations!$B$407","v":"Référence de la procédure"}]
["ausblenden",null,null,null,{"$f":"Translations!$B$409","v":"Références du schéma (le cas échéant):"}]
["ausblenden",null,null,null,{"$f":"Translations!$B$411","v":"Description succincte de la procédure    "}]
["ausblenden"]
["ausblenden"]
["ausblenden",null,null,null,{"$f":"Translations!$B$414","v":"Poste ou service responsable de la procédure et de toute donnée générée."}]
["ausblenden",null,null,null,{"$f":"Translations!$B$416","v":"Lieu d'archivage"}]
["ausblenden",null,null,null,{"$f":"Translations!$B$418","v":"Nom du système informatique utilisé (le cas échéant)."}]
["ausblenden",null,null,null,{"$f":"Translations!$B$420","v":"Liste des normes EN ou autres appliquées (le cas échéant)"}]
["ADD_Procedure"]
[null,null,null,null,null,null,{"$f":"Translations!$B$429","v":"Cliquez sur « + » pour ajouter d’autres procédures"}]
[]
[]
[]
[null,null,null,null,null,{"$f":"EUconst_MsgNextSheet","v":"<<< Cliquer ici pour passer à la feuille suivante >>> "}]

{"sheet":"J2_PermCCU","index":12,"n_rows":67,"n_cols":17,"rows_kept":67,"cut":false,"hidden":false,"merged":[[1,12,1,13],[2,4,2,5],[2,6,2,7],[2,8,2,9],[2,10,2,11],[2,12,2,13],[1,1,3,3],[1,4,1,5],[1,6,1,7],[1,8,1,9],[1,10,1,11],[3,4,3,5],[3,6,3,7],[3,8,3,9],[3,10,3,11],[3,12,3,13],[24,4,24,13],[15,4,15,13],[5,2,5,10],[5,11,5,13],[7,10,7,13],[9,3,9,13],[11,3,11,13],[12,3,12,13],[13,4,13,13],[14,4,14,13],[19,4,19,13],[20,4,20,13],[21,4,21,13],[22,4,22,13],[23,4,23,13],[36,4,36,13],[25,4,25,13],[26,4,26,13],[27,4,27,13],[28,4,28,13],[29,4,29,13],[30,4,30,13],[31,4,31,13],[32,4,32,13],[33,4,33,13],[34,4,34,13],[35,4,35,13],[63,4,63,5],[63,6,63,13],[64,4,64,5],[64,6,64,13],[37,4,37,13],[38,4,38,13],[60,6,60,13],[61,4,61,5],[61,6,61,13],[62,4,62,5],[62,6,62,13],[57,4,57,5],[57,6,57,13],[58,4,58,5],[58,6,58,13],[59,6,59,13],[53,4,53,13],[55,4,55,5],[55,6,55,13],[56,4,56,5],[56,6,56,13],[49,4,49,5],[49,6,49,13],[50,4,50,5],[50,6,50,13],[51,4,51,5],[51,6,51,13],[16,4,16,13],[17,4,17,13],[66,5,66,11],[40,4,40,13],[42,4,42,5],[42,6,42,13],[43,4,43,5],[43,6,43,13],[44,4,44,5],[44,6,44,13],[45,4,45,5],[45,6,45,13],[46,6,46,13],[47,6,47,13],[48,4,48,5],[48,6,48,13]]}
["ausblenden",null,null,null,null,null,null,null,null,null,null,null,null,null,null,"ausblenden","ausblenden"]
[null,{"$f":"Translations!$B$1372","v":"J2. CCU permanent"},null,null,{"$f":"Translations!$B$59","v":"Zone de navigation:"},null,{"$f":"Translations!$B$60","v":"Sommaire"},null,{"$f":"Translations!$B$61","v":"Feuille précédente"},null,{"$f":"Translations!$B$62","v":"Feuille suivante"}]
[null,null,null,null,{"$f":"Translations!$B$63","v":"Début de feuille"}]
[null,null,null,null,{"$f":"Translations!$B$64","v":"Fin de feuille"}]
[]
[null,null,{"$f":"Translations!$B$1373","v":"J2. CO2 lié chimiquement de manière permanente à un produit"},null,null,null,null,null,null,null,null,{"$f":"IF(AND(NOT(ISBLANK(CNTR_InstHasCCU)), CNTR_InstHasCCU=FALSE),EUconst_NotRelevant,EUconst_Relevant)","v":"pertinent"}]
[]
[null,null,null,null,null,null,null,null,null,null,{"$f":"IF(L6=EUconst_NotRelevant,HYPERLINK(\"#JUMP_K_Top\",EUconst_MsgNextSheet),HYPERLINK(\"\",EUconst_MsgEnterThisSection))","v":"Veuillez saisir des données dans cette rubrique"}]
[]
[null,null,"19a",{"$f":"Translations!$B$1374","v":"Détermination des quantités de CO2 liées chimiquement de manière permanente à un produit"}]
[]
[null,null,null,{"$f":"Translations!$B$1375","v":"Remarque : cette section doit être complétée lorsque le CO2 est capté et utilisé (CCU) dans un produit où le CO2 est lié chimiquement de manière permanente, conformément à l'article 49 bis du MRR. Le CO2 lié à tout produit ne répondant pas aux spécifications énoncées à l'article 49 bis n'est pas couvert ici."}]
[]
[null,null,null,"(a)",{"$f":"Translations!$B$1376","v":" Veuillez fournir une description détaillée du processus par lequel le CO2 est lié chimiquement de manière permanente à un produit."}]
[null,null,null,null,{"$f":"Translations!$B$1377","v":"Veuillez fournir une description concise de l’approche de surveillance, y compris les formules, utilisée pour déterminer la quantité annuelle de CO2 chimiquement lié de manière permanente à un produit."}]
[null,null,null,null,{"$f":"Translations!$B$1378","v":"Cela doit notamment couvrir le procédé de liaison chimique du CO₂, les limites du système, le lieu d'implantation (sur site ou dans une autre installation ou entité), ainsi que les matières entrantes et sortantes concernées et leur composition chimique, notamment leur teneur en carbone. Veuillez vous assurer que ce calcul est conforme à l'article 49 bis du MRR."}]
[null,null,null,null,{"$f":"Translations!$B$680","v":"Si la description est trop complexe (utilisation de formules complexes, par exemple) ou si elle nécessite un schéma, vous pouvez fournir cette description dans un document séparé, dans un format de fichier acceptable par l’AC.    Veuillez dans ce cas fournir la référence de ce fichier en indiquant le nom de fichier et la date."}]
[null,null,null,null,{"$f":"Translations!$B$195","v":"La description doit contenir les liens qui sont nécessaires pour comprendre la manière dont les informations fournies dans les autres parties du présent modèle sont utilisées pour calculer les émissions. Ces données peuvent être aussi synthétiques que dans l’exemple donné dans la feuille D­_CalculationBasedApproaches, rubrique 7 a)."}]
[]
[]
[]
[]
[]
[]
[]
[]
[]
[]
[]
[]
[]
[]
[]
[]
[]
[]
[]
[]
[]
[]
[null,null,null,"(b)",{"$f":"Translations!$B$1379","v":"Veuillez fournir ici une description de la procédure utilisée pour déterminer si un produit auquel du CO2 est lié chimiquement de manière permanente conformément à l'article 49 bis, paragraphe 1, du présent règlement, satisfait ou non aux exigences énoncées dans le règlement délégué conformément à l'article 12, paragraphe 3 ter, de la directive 2003/87/CE et aux types d'utilisations de ces produits."}]
[]
[null,null,null,null,{"$f":"Translations!$B$405","v":"Intitulé de la procédure"}]
[null,null,null,null,{"$f":"Translations!$B$407","v":"Référence de la procédure"}]
[null,null,null,null,{"$f":"Translations!$B$409","v":"Références du schéma (le cas échéant):"}]
[null,null,null,null,{"$f":"Translations!$B$411","v":"Description succincte de la procédure    "}]
[]
[]
[null,null,null,null,{"$f":"Translations!$B$414","v":"Poste ou service responsable de la procédure et de toute donnée générée."}]
[null,null,null,null,{"$f":"Translations!$B$416","v":"Lieu d'archivage"}]
[null,null,null,null,{"$f":"Translations!$B$418","v":"Nom du système informatique utilisé (le cas échéant)."}]
[null,null,null,null,{"$f":"Translations!$B$420","v":"Liste des normes EN ou autres appliquées (le cas échéant)"}]
[]
[null,null,null,"(c)",{"$f":"Translations!$B$1380","v":" Fournir ici une description de la procédure utilisée pour la méthodologie de calcul permettant de déterminer les quantités de CO2 liées chimiquement de manière permanente à un produit conformément à l'article 49 bis, paragraphe 2."}]
[]
[null,null,null,null,{"$f":"Translations!$B$405","v":"Intitulé de la procédure"}]
[null,null,null,null,{"$f":"Translations!$B$407","v":"Référence de la procédure"}]
[null,null,null,null,{"$f":"Translations!$B$409","v":"Références du schéma (le cas échéant):"}]
[null,null,null,null,{"$f":"Translations!$B$411","v":"Description succincte de la procédure    "}]
[]
[]
[null,null,null,null,{"$f":"Translations!$B$414","v":"Poste ou service responsable de la procédure et de toute donnée générée."}]
[null,null,null,null,{"$f":"Translations!$B$416","v":"Lieu d'archivage"}]
[null,null,null,null,{"$f":"Translations!$B$418","v":"Nom du système informatique utilisé (le cas échéant)."}]
[null,null,null,null,{"$f":"Translations!$B$420","v":"Liste des normes EN ou autres appliquées (le cas échéant)"}]
[]
[null,null,null,null,null,{"$f":"EUconst_MsgNextSheet","v":"<<< Cliquer ici pour passer à la feuille suivante >>> "}]

{"sheet":"K_ManagementControl","index":13,"n_rows":285,"n_cols":17,"rows_kept":285,"cut":false,"hidden":false,"merged":[[270,4,270,5],[270,6,270,13],[259,4,259,5],[259,6,259,13],[256,4,256,5],[256,6,256,13],[258,6,258,13],[253,4,253,5],[278,4,278,5],[278,6,278,13],[269,6,269,13],[261,6,261,13],[262,6,262,13],[262,4,262,5],[260,6,260,13],[258,4,258,5],[260,4,260,5],[280,6,282,10],[5,11,5,13],[7,10,7,13],[7,2,7,9],[267,4,267,13],[276,4,276,5],[276,6,276,13],[277,4,277,5],[271,4,271,5],[271,6,271,13],[261,4,261,5],[272,4,272,5],[272,6,272,13],[277,6,277,13],[273,6,273,13],[274,6,274,13],[275,4,275,5],[275,6,275,13],[232,4,232,13],[227,4,227,13],[234,4,234,5],[234,6,234,13],[264,3,264,13],[269,4,269,5],[254,4,254,5],[254,6,254,13],[257,4,257,5],[257,6,257,13],[244,6,244,13],[252,4,252,5],[249,4,249,13],[250,4,250,13],[255,6,255,13],[238,6,238,13],[237,6,237,13],[235,6,235,13],[255,4,255,5],[253,6,253,13],[235,4,235,5],[236,4,236,5],[242,4,242,5],[237,4,237,5],[243,4,243,5],[244,4,244,5],[243,6,243,13],[252,6,252,13],[241,6,241,13],[239,6,239,13],[238,4,238,5],[239,4,239,5],[240,4,240,5],[240,6,240,13],[241,4,241,5],[236,6,236,13],[242,6,242,13],[246,3,246,13],[248,4,248,13],[196,6,196,13],[197,6,197,13],[200,6,200,13],[230,3,230,13],[202,6,202,13],[203,6,203,13],[201,4,201,5],[201,6,201,13],[202,4,202,5],[220,4,220,13],[198,4,200,5],[198,6,198,13],[222,4,222,8],[218,4,218,5],[218,6,218,13],[203,4,203,5],[225,4,225,8],[221,4,221,13],[204,4,204,5],[204,6,204,13],[224,4,224,13],[228,4,228,8],[192,4,192,13],[189,4,189,5],[189,6,189,13],[181,6,181,13],[191,4,191,13],[188,4,188,5],[182,4,182,5],[183,4,185,5],[185,6,185,13],[186,4,186,5],[186,6,186,13],[188,6,188,13],[187,6,187,13],[177,4,177,13],[178,4,178,13],[180,4,180,5],[187,4,187,5],[183,6,183,13],[184,6,184,13],[181,4,181,5],[174,4,174,5],[168,4,168,5],[168,6,168,13],[169,4,171,5],[169,6,169,13],[170,6,170,13],[182,6,182,13],[180,6,180,13],[175,4,175,5],[171,6,171,13],[172,4,172,5],[172,6,172,13],[173,4,173,5],[173,6,173,13],[174,6,174,13],[175,6,175,13],[167,4,167,5],[164,4,164,13],[155,4,157,5],[155,6,155,13],[156,6,156,13],[157,6,157,13],[167,6,167,13],[160,6,160,13],[161,4,161,5],[166,4,166,5],[163,4,163,13],[166,6,166,13],[158,6,158,13],[159,4,159,5],[158,4,158,5],[160,4,160,5],[159,6,159,13],[161,6,161,13],[149,4,149,13],[150,4,150,13],[154,6,154,13],[152,4,152,5],[152,6,152,13],[154,4,154,5],[153,4,153,5],[153,6,153,13],[146,4,146,5],[147,6,147,13],[145,4,145,5],[145,6,145,13],[146,6,146,13],[147,4,147,5],[140,4,140,5],[140,6,140,13],[144,4,144,5],[144,6,144,13],[142,6,142,13],[143,6,143,13],[141,4,143,5],[141,6,141,13],[132,4,132,5],[132,6,132,13],[127,6,127,13],[128,6,128,13],[130,6,130,13],[130,4,130,5],[139,4,139,5],[139,6,139,13],[138,4,138,5],[138,6,138,13],[133,4,133,5],[133,6,133,13],[135,4,135,13],[136,4,136,13],[121,4,121,13],[122,4,122,13],[126,4,126,5],[129,6,129,13],[124,6,124,13],[126,6,126,13],[124,4,124,5],[125,6,125,13],[131,4,131,5],[125,4,125,5],[131,6,131,13],[127,4,129,5],[115,6,115,13],[112,4,112,5],[111,6,111,13],[111,4,111,5],[108,4,108,13],[105,3,105,13],[112,6,112,13],[118,4,118,5],[119,4,119,5],[116,6,116,13],[113,6,113,13],[114,6,114,13],[118,6,118,13],[113,4,115,5],[117,6,117,13],[119,6,119,13],[117,4,117,5],[1,1,3,3],[1,4,1,5],[1,6,1,7],[3,4,3,5],[3,6,3,7],[49,6,49,13],[48,6,48,13],[47,6,47,13],[3,12,3,13],[3,10,3,11],[12,4,12,13],[48,4,48,5],[49,4,49,5],[47,4,47,5],[9,3,9,13],[5,2,5,10],[40,4,40,5],[42,6,42,13],[20,7,20,13],[13,4,13,13],[17,4,17,6],[11,4,11,13],[14,4,14,13],[30,4,30,5],[1,12,1,13],[2,4,2,5],[2,6,2,7],[2,8,2,9],[2,10,2,11],[1,10,1,11],[2,12,2,13],[1,8,1,9],[3,8,3,9],[15,4,15,6],[15,7,15,13],[19,4,19,6],[31,4,31,5],[31,6,31,13],[16,4,16,6],[18,7,18,13],[20,4,20,6],[17,7,17,13],[30,6,30,13],[16,7,16,13],[19,7,19,13],[25,7,25,13],[21,4,21,6],[21,7,21,13],[22,4,22,6],[22,7,22,13],[23,4,23,6],[23,7,23,13],[24,4,24,6],[24,7,24,13],[25,4,25,6],[46,6,46,13],[44,6,44,13],[41,6,41,13],[46,4,46,5],[43,4,45,5],[43,6,43,13],[18,4,18,6],[32,6,32,13],[33,4,35,5],[33,6,33,13],[35,6,35,13],[32,4,32,5],[40,6,40,13],[34,6,34,13],[28,4,28,13],[27,4,27,13],[36,6,36,13],[36,4,36,5],[37,4,37,5],[38,4,38,5],[39,4,39,5],[38,6,38,13],[37,6,37,13],[39,6,39,13],[45,6,45,13],[42,4,42,5],[41,4,41,5],[284,5,284,11],[91,4,91,5],[66,4,66,5],[98,6,98,13],[95,6,95,13],[95,4,95,5],[92,4,94,5],[66,6,66,13],[116,4,116,5],[99,4,99,5],[97,6,97,13],[96,4,96,5],[97,4,97,5],[98,4,98,5],[99,6,99,13],[110,6,110,13],[110,4,110,5],[96,6,96,13],[103,6,103,13],[107,4,107,13],[100,4,103,5],[102,6,102,13],[100,6,100,13],[101,6,101,13],[94,6,94,13],[91,6,91,13],[83,3,83,13],[85,4,85,13],[93,6,93,13],[86,4,86,13],[89,4,89,5],[90,4,90,5],[92,6,92,13],[90,6,90,13],[89,6,89,13],[60,6,60,13],[61,6,61,13],[65,6,65,13],[65,4,65,5],[87,4,87,13],[64,4,64,5],[63,6,63,13],[63,4,63,5],[60,4,62,5],[62,6,62,13],[64,6,64,13],[76,4,76,13],[77,4,77,13],[70,4,70,10],[72,4,72,13],[74,4,74,13],[75,4,75,13],[68,4,68,13],[71,4,71,13],[193,4,193,13],[215,4,215,5],[215,6,215,13],[216,4,216,5],[216,6,216,13],[217,4,217,5],[217,6,217,13],[211,4,211,5],[211,6,211,13],[212,4,214,5],[212,6,212,13],[213,6,213,13],[214,6,214,13],[206,4,206,13],[207,4,207,13],[209,4,209,5],[209,6,209,13],[210,4,210,5],[210,6,210,13],[199,6,199,13],[195,4,195,5],[197,4,197,5],[195,6,195,13],[196,4,196,5],[59,4,59,5],[59,6,59,13],[58,4,58,5],[51,4,51,13],[57,4,57,5],[53,4,53,13],[58,6,58,13],[57,6,57,13],[54,4,54,13],[55,4,55,13],[52,4,52,13]]}
["ausblenden",null,null,null,null,null,null,null,null,null,null,null,null,null,null,"ausblenden","ausblenden"]
[null,{"$f":"Translations!$B$722","v":"K.\nManagement Control"},null,null,{"$f":"Translations!$B$59","v":"Zone de navigation:"},null,{"$f":"Translations!$B$60","v":"Sommaire"},null,{"$f":"Translations!$B$61","v":"Feuille précédente"},null,{"$f":"Translations!$B$62","v":"Feuille suivante"}]
[null,null,null,null,{"$f":"Translations!$B$63","v":"Début de feuille"},null,{"$f":"Translations!$B$37","v":"Gestion "},null,{"$f":"Translations!$B$38","v":"Activités de gestion du flux de données"},null,{"$f":"Translations!$B$39","v":"Activités de contrôle"}]
[null,null,null,null,{"$f":"Translations!$B$64","v":"Fin de feuille"},null,{"$f":"Translations!$B$723","v":"Définitions et abréviations"},null,{"$f":"Translations!$B$41","v":"Informations supplémentaires"},null,{"$f":"Translations!$B$1152","v":"Autres procédures"}]
[]
[null,null,{"$f":"Translations!$B$36","v":"K. Management & Control (Gestion et contrôle)"},null,null,null,null,null,null,null,null,{"$f":"EUconst_Relevant","v":"pertinent"}]
[]
[null,null,{"$f":"Translations!$B$724","v":"Cette feuille concerne tous les types d’installations"},null,null,null,null,null,null,null,{"$f":"IF(L6=EUconst_NotRelevant,HYPERLINK(\"#JUMP_L_Top\",EUconst_MsgNextSheet),HYPERLINK(\"\",EUconst_MsgEnterThisSection))","v":"Veuillez saisir des données dans cette rubrique"}]
[]
[null,null,20,{"$f":"Translations!$B$37","v":"Gestion "}]
[]
[null,null,null,"(a)",{"$f":"Translations!$B$1216","v":"Veuillez décrire les responsabilités en matière de surveillance et de déclaration des émissions de l’installation, conformément à l’article 62 du MRR."}]
["\n",null,null,null,{"$f":"Translations!$B$726","v":"Veuillez indiquer les intitulés de poste/emplois et résumer brièvement le rôle du titulaire en ce qui concerne la surveillance et la déclaration. Seuls les postes à responsabilités générales et les autres fonctions clés doivent être énumérés (n'indiquez pas les responsabilités déléguées)."}]
[null,null,null,null,{"$f":"Translations!$B$727","v":"Vous pouvez joindre à cet effet un diagramme arborescent ou un organigramme."}]
[null,null,null,null,{"$f":"Translations!$B$728","v":"Si le flux de données (et le journal des modifications) est complet, toutes les responsabilités devraient être décrites dans les procédures, et il ne devrait pas être nécessaire d'ajouter d'autres personnes. "}]
[null,null,null,null,{"$f":"Translations!$B$729","v":"Intitulé du poste/Fonction:"},null,null,{"$f":"Translations!$B$730","v":"Responsabilités"}]
[]
[]
[]
[]
[]
[]
[]
[]
[]
[]
[]
["\n\n",null,null,"(b)",{"$f":"Translations!$B$1217","v":"Veuillez détailler la procédure utilisée pour gérer l’attribution des responsabilités en matière de surveillance et de déclaration dans l’installation, et pour gérer les compétences du personnel responsable, conformément à l’article 59, paragraphe 3, point c), du MRR."}]
[null,null,null,null,{"$f":"Translations!$B$732","v":"Cette procédure doit décrire la façon dont sont attribuées aux personnes désignées ci-dessus les responsabilités en matière de surveillance et de déclaration, la façon dont la formation et l'évaluation des performances sont assurées et la façon dont les tâches sont séparées de sorte que toutes les données utiles soient confirmées par une personne qui ne prend pas part au relevé et à la collecte de ces données. "}]
[]
["HIDE_Example",null,null,null,{"$f":"Translations!$B$405","v":"Intitulé de la procédure"},null,{"$f":"Translations!$B$733","v":"Gestion du personnel chargé du SEQE"}]
["HIDE_Example",null,null,null,{"$f":"Translations!$B$407","v":"Référence de la procédure"}]
["HIDE_Example",null,null,null,{"$f":"Translations!$B$409","v":"Références du schéma (le cas échéant):"}]
["HIDE_Example",null,null,null,{"$f":"Translations!$B$411","v":"Description succincte de la procédure    "},null,{"$f":"Translations!$B$734","v":"• La personne responsable tient une liste du personnel chargé de la gestion des données SEQE."}]
["HIDE_Example",null,null,null,null,null,{"$f":"Translations!$B$735","v":"• La personne responsable organise au moins une réunion par an avec chaque personne concernée, au moins 4 réunions avec le personnel clé tel que défini dans l’annexe de la procédure. Objectif:  définir les besoins de formation "}]
["HIDE_Example",null,null,null,null,null,{"$f":"Translations!$B$736","v":"• La personne responsable gère la formation interne et externe en fonction des besoins définis."}]
["HIDE_Example",null,null,null,{"$f":"Translations!$B$414","v":"Poste ou service responsable de la procédure et de toute donnée générée."},null,{"$f":"Translations!$B$737","v":"Chef adjoint de l’unité HSEQ (santé, sécurité, environnement et qualité)"}]
["HIDE_Example",null,null,null,{"$f":"Translations!$B$416","v":"Lieu d'archivage"},null,{"$f":"Translations!$B$738","v":"Copie papier: Bureau HSEQ, rayonnage 27/9, Classeur «ETS 01-P». Par voie électronique: “P:\\ETS_MRV\\manag\\ETS_01-P.xls”"}]
["HIDE_Example",null,null,null,{"$f":"Translations!$B$418","v":"Nom du système informatique utilisé (le cas échéant)."},null,{"$f":"Translations!$B$739","v":"S.O. (disques réseau normaux)"}]
["HIDE_Example",null,null,null,{"$f":"Translations!$B$420","v":"Liste des normes EN ou autres appliquées (le cas échéant)"},null,{"$f":"Translations!$B$410","v":"S.O."}]
[null,null,null,null,{"$f":"Translations!$B$405","v":"Intitulé de la procédure"}]
[null,null,null,null,{"$f":"Translations!$B$407","v":"Référence de la procédure"}]
[null,null,null,null,{"$f":"Translations!$B$409","v":"Références du schéma (le cas échéant):"}]
[null,null,null,null,{"$f":"Translations!$B$411","v":"Description succincte de la procédure    "}]
[]
[]
[null,null,null,null,{"$f":"Translations!$B$414","v":"Poste ou service responsable de la procédure et de toute donnée générée."}]
[null,null,null,null,{"$f":"Translations!$B$416","v":"Lieu d'archivage"}]
[null,null,null,null,{"$f":"Translations!$B$418","v":"Nom du système informatique utilisé (le cas échéant)."}]
[null,null,null,null,{"$f":"Translations!$B$420","v":"Liste des normes EN ou autres appliquées (le cas échéant)"}]
[]
[null,null,null,"(c) ",{"$f":"Translations!$B$740","v":"Veuillez détailler la procédure utilisée pour l’évaluation régulière de la pertinence du plan de surveillance, y compris les éventuelles mesures d'amélioration de la méthode de surveillance. "}]
[null,null,null,null,{"$f":"Translations!$B$741","v":"La procédure décrite ci-dessous doit couvrir les aspects suivants:"}]
[null,null,null,null,{"$f":"Translations!$B$742","v":"i- la vérification de la liste des sources d'émission et des flux afin d'en garantir l'exhaustivité et de veiller à ce que tous les changements survenus concernant la nature ou le fonctionnement de l'installation soient consignés dans le plan de surveillance;"}]
[null,null,null,null,{"$f":"Translations!$B$743","v":"ii - l'évaluation du respect des seuils d’incertitude définis pour les données d’activité et les autres paramètres (le cas échéant) pour les niveaux de méthode appliqués pour chaque flux et source d’émission; et"}]
[null,null,null,null,{"$f":"Translations!$B$744","v":"iii – l’évaluation des éventuelles mesures d'amélioration de la méthode de surveillance appliquée."}]
[]
[null,null,null,null,{"$f":"Translations!$B$405","v":"Intitulé de la procédure"}]
[null,null,null,null,{"$f":"Translations!$B$407","v":"Référence de la procédure"}]
[null,null,null,null,{"$f":"Translations!$B$409","v":"Références du schéma (le cas échéant):"}]
[null,null,null,null,{"$f":"Translations!$B$411","v":"Description succincte de la procédure    "}]
[]
[]
[null,null,null,null,{"$f":"Translations!$B$414","v":"Poste ou service responsable de la procédure et de toute donnée générée."}]
[null,null,null,null,{"$f":"Translations!$B$416","v":"Lieu d'archivage"}]
[null,null,null,null,{"$f":"Translations!$B$418","v":"Nom du système informatique utilisé (le cas échéant)."}]
[null,null,null,null,{"$f":"Translations!$B$420","v":"Liste des normes EN ou autres appliquées (le cas échéant)"}]
[]
[null,null,null,"(d) ",{"$f":"Translations!$B$1218","v":"Rapports relatifs aux améliorations apportées conformément à l’article 69, paragraphe 1, du MRR."}]
[]
[null,null,null,"i.",{"$f":"Translations!$B$1219","v":"Niveau requis non respecté ou application d’une méthode alternative?"}]
[null,null,null,null,{"$f":"Translations!$B$1220","v":"Sélectionnez «VRAI» s’il existe un paramètre de flux ou de sources d’émission, majeurs ou mineurs, pour lequel les niveaux requis ne sont pas respectés ou une méthode alternative est appliquée (article 22). Le cas échéant, l’exploitant doit régulièrement soumettre des rapports relatifs aux améliorations apportées, conformément à l’article 69, paragraphe 1."}]
[null,null,null,null,{"$f":"Translations!$B$1221","v":"Veuillez noter que cette section n’exempte pas les exploitants de leur obligation de soumettre un rapport relatif aux améliorations apportées, conformément à l’article 69, paragraphe 4. "}]
[]
[null,null,null,"ii.",{"$f":"Translations!$B$1222","v":"Date limite prévue pour la remise du prochain rapport relatif aux améliorations apportées, conformément à l’article 69, paragraphe 1, le cas échéant"}]
[null,null,null,null,{"$f":"Translations!$B$1223","v":"Cette section n'est pertinente que si l’exploitant a sélectionné «VRAI» au point i. ci-dessus."}]
[null,null,null,null,{"$f":"Translations!$B$1381","v":" Le délai de remise des rapports d'amélioration est de deux ans pour les installations de catégorie C, de trois ans pour les installations de catégorie B et de cinq ans pour les installations de catégorie A."}]
[null,null,null,null,{"$f":"Translations!$B$1225","v":"Toutefois, l’AC peut prolonger le délai et le porter à trois, quatre ou cinq ans, respectivement, si l’exploitant peut démontrer à l’AC que les motifs expliquant le caractère excessif des coûts ou justifiant que des améliorations ne sont pas techniquement réalisables resteront valables plus longtemps."}]
[]
[null,null,null,null,2021,2022,2023,2024,2025,2026,2027,2028,2029,2030]
[]
[null,null,null,null,{"$f":"IF(OR(E81=\"\",E81=EUconst_NA),\"\",DATE(E80,MATCH(E81,EUconst_IRMonth,0)+5,1)-1)","v":""},"","","","","","","","",""]
[]
[null,null,21,{"$f":"Translations!$B$38","v":"Activités de gestion du flux de données"}]
[]
[null,null,null,"(a)",{"$f":"Translations!$B$1226","v":"Veuillez fournir des précisions sur les procédures utilisées pour les activités de gestion du flux de données conformément à l’article 58 du MRR."}]
[null,null,null,null,{"$f":"Translations!$B$746","v":"Lorsque plusieurs procédures sont utilisées, veuillez préciser la procédure globale qui couvre les principales étapes des activités de gestion du flux de données et fournir un schéma montrant comment sont reliées les procédures de gestion des données (veuillez fournir la référence du schéma ci-dessous et le joindre à votre plan de surveillance).  Vous avez également la possibilité de détailler des procédures supplémentaires appropriées sur une feuille séparée. "}]
[null,null,null,null,{"$f":"Translations!$B$747","v":"À la rubrique «Description des étapes de traitement», veuillez indiquer chaque étape du flux de données, depuis les données primaires jusqu'aux émissions annuelles, afin de rendre compte de la succession des activités de gestion du flux de données et de leur interaction; veuillez préciser les formules et données utilisées pour déterminer les émissions à partir des données primaires.   Donnez des précisions sur les systèmes électroniques de traitement et de stockage de données, ainsi que sur les autres saisies de données (y compris manuelles) et indiquez comment les résultats des activités de gestion du flux de données sont enregistrés."}]
[]
[null,null,null,null,{"$f":"Translations!$B$405","v":"Intitulé de la procédure"}]
[null,null,null,null,{"$f":"Translations!$B$407","v":"Référence de la procédure"}]
[null,null,null,null,{"$f":"Translations!$B$409","v":"Références du schéma (le cas échéant):"}]
[null,null,null,null,{"$f":"Translations!$B$411","v":"Description succincte de la procédure    "}]
[]
[]
[null,null,null,null,{"$f":"Translations!$B$414","v":"Poste ou service responsable de la procédure et de toute donnée générée."}]
[null,null,null,null,{"$f":"Translations!$B$416","v":"Lieu d'archivage"}]
[null,null,null,null,{"$f":"Translations!$B$418","v":"Nom du système informatique utilisé (le cas échéant)."}]
[null,null,null,null,{"$f":"Translations!$B$420","v":"Liste des normes EN ou autres appliquées (le cas échéant)"}]
[null,null,null,null,{"$f":"Translations!$B$748","v":"Liste des sources de données primaires"}]
[null,null,null,null,{"$f":"Translations!$B$749","v":"Description des étapes de traitement pertinentes pour chaque activité spécifique de gestion du flux de données "}]
[]
[]
[]
[]
[null,null,22,{"$f":"Translations!$B$39","v":"Activités de contrôle"}]
[]
[null,null,null,"(a)",{"$f":"Translations!$B$1227","v":"Veuillez fournir des précisions sur les procédures utilisées pour évaluer les risques inhérents et les risques de carence de contrôle conformément à l’article 59 du MRR."}]
[null,null,null,null,{"$f":"Translations!$B$751","v":"La brève description doit préciser comment est prévue l’évaluation des risques inhérents et des risques de carence de contrôle lors de la mise en place d’un système de contrôle efficace. "}]
[]
[null,null,null,null,{"$f":"Translations!$B$405","v":"Intitulé de la procédure"}]
[null,null,null,null,{"$f":"Translations!$B$407","v":"Référence de la procédure"}]
[null,null,null,null,{"$f":"Translations!$B$409","v":"Références du schéma (le cas échéant):"}]
[null,null,null,null,{"$f":"Translations!$B$411","v":"Description succincte de la procédure    "}]
[]
[]
[null,null,null,null,{"$f":"Translations!$B$414","v":"Poste ou service responsable de la procédure et de toute donnée générée."}]
[null,null,null,null,{"$f":"Translations!$B$416","v":"Lieu d'archivage"}]
[null,null,null,null,{"$f":"Translations!$B$418","v":"Nom du système informatique utilisé (le cas échéant)."}]
[null,null,null,null,{"$f":"Translations!$B$420","v":"Liste des normes EN ou autres appliquées (le cas échéant)"}]
[]
[null,null,null,"(b)",{"$f":"Translations!$B$1228","v":"Veuillez fournir des précisions sur les procédures utilisées pour l’assurance qualité de l’équipement de mesure, conformément aux articles 59 et 60 du MRR."}]
[null,null,null,null,{"$f":"Translations!$B$753","v":"La brève description doit indiquer comment tous les instruments de mesure sont étalonnés et vérifiés à intervalles réguliers, le cas échéant, et quelles sont les dispositions prises en cas de non-conformité. non"}]
[]
[null,null,null,null,{"$f":"Translations!$B$405","v":"Intitulé de la procédure"}]
[null,null,null,null,{"$f":"Translations!$B$407","v":"Référence de la procédure"}]
[null,null,null,null,{"$f":"Translations!$B$409","v":"Références du schéma (le cas échéant):"}]
[null,null,null,null,{"$f":"Translations!$B$411","v":"Description succincte de la procédure    "}]
[]
[]
[null,null,null,null,{"$f":"Translations!$B$414","v":"Poste ou service responsable de la procédure et de toute donnée générée."}]
[null,null,null,null,{"$f":"Translations!$B$416","v":"Lieu d'archivage"}]
[null,null,null,null,{"$f":"Translations!$B$418","v":"Nom du système informatique utilisé (le cas échéant)."}]
[null,null,null,null,{"$f":"Translations!$B$420","v":"Liste des normes EN ou autres appliquées (le cas échéant)"}]
[]
[null,null,null,"(c)",{"$f":"Translations!$B$1229","v":"Veuillez fournir des précisions sur les procédures utilisées pour l’assurance qualité des systèmes informatiques utilisés pour les activités de gestion du flux de données, conformément aux articles 59 et 61 du MRR."}]
[null,null,null,null,{"$f":"Translations!$B$755","v":"La brève description doit indiquer comment les systèmes informatiques sont testés et contrôlés, y compris en ce qui concerne le contrôle d'accès, la sauvegarde, la restauration et la sécurité."}]
[]
[null,null,null,null,{"$f":"Translations!$B$405","v":"Intitulé de la procédure"}]
[null,null,null,null,{"$f":"Translations!$B$407","v":"Référence de la procédure"}]
[null,null,null,null,{"$f":"Translations!$B$409","v":"Références du schéma (le cas échéant):"}]
[null,null,null,null,{"$f":"Translations!$B$411","v":"Description succincte de la procédure    "}]
[]
[]
[null,null,null,null,{"$f":"Translations!$B$414","v":"Poste ou service responsable de la procédure et de toute donnée générée."}]
[null,null,null,null,{"$f":"Translations!$B$416","v":"Lieu d'archivage"}]
[null,null,null,null,{"$f":"Translations!$B$418","v":"Nom du système informatique utilisé (le cas échéant)."}]
[null,null,null,null,{"$f":"Translations!$B$420","v":"Liste des normes EN ou autres appliquées (le cas échéant)"}]
[]
[null,null,null,"(d)",{"$f":"Translations!$B$1230","v":"Veuillez fournir des précisions sur les procédures utilisées pour les analyses et la validation internes des données conformément aux articles 59 et 63 du MRR."}]
[null,null,null,null,{"$f":"Translations!$B$757","v":"La brève description doit indiquer que le processus d’analyse et de validation consiste à vérifier si les données sont complètes, à comparer ces données à celles des années précédentes, à comparer la consommation de carburant déclarée aux données d’achat de ce carburant, et les facteurs indiqués par les fournisseurs de carburant aux facteurs de référence internationaux, le cas échéant; la description doit également préciser les critères de rejet des données."}]
[]
[null,null,null,null,{"$f":"Translations!$B$405","v":"Intitulé de la procédure"}]
[null,null,null,null,{"$f":"Translations!$B$407","v":"Référence de la procédure"}]
[null,null,null,null,{"$f":"Translations!$B$409","v":"Références du schéma (le cas échéant):"}]
[null,null,null,null,{"$f":"Translations!$B$411","v":"Description succincte de la procédure    "}]
[]
[]
[null,null,null,null,{"$f":"Translations!$B$414","v":"Poste ou service responsable de la procédure et de toute donnée générée."}]
[null,null,null,null,{"$f":"Translations!$B$416","v":"Lieu d'archivage"}]
[null,null,null,null,{"$f":"Translations!$B$418","v":"Nom du système informatique utilisé (le cas échéant)."}]
[null,null,null,null,{"$f":"Translations!$B$420","v":"Liste des normes EN ou autres appliquées (le cas échéant)"}]
[]
[null,null,null,"(e)",{"$f":"Translations!$B$1231","v":"Veuillez fournir des précisions sur les procédures utilisées pour effectuer les corrections et prendre les mesures correctives conformément aux articles 59 et 64 du MRR."}]
[null,null,null,null,{"$f":"Translations!$B$759","v":"La brève description doit indiquer quelles mesures appropriées sont prises s’il apparaît que les activités de gestion du flux de données et les activités de contrôle ne se déroulent pas de manière efficace. La procédure doit indiquer comment la validité des résultats est évaluée, comment sont déterminées les causes d’erreur et comment il est remédié aux erreurs."}]
[]
[null,null,null,null,{"$f":"Translations!$B$405","v":"Intitulé de la procédure"}]
[null,null,null,null,{"$f":"Translations!$B$407","v":"Référence de la procédure"}]
[null,null,null,null,{"$f":"Translations!$B$409","v":"Références du schéma (le cas échéant):"}]
[null,null,null,null,{"$f":"Translations!$B$411","v":"Description succincte de la procédure    "}]
[]
[]
[null,null,null,null,{"$f":"Translations!$B$414","v":"Poste ou service responsable de la procédure et de toute donnée générée."}]
[null,null,null,null,{"$f":"Translations!$B$416","v":"Lieu d'archivage"}]
[null,null,null,null,{"$f":"Translations!$B$418","v":"Nom du système informatique utilisé (le cas échéant)."}]
[null,null,null,null,{"$f":"Translations!$B$420","v":"Liste des normes EN ou autres appliquées (le cas échéant)"}]
[]
[null,null,null,"(f)",{"$f":"Translations!$B$1232","v":"Veuillez fournir des précisions sur les procédures utilisées pour contrôler les activités externalisées conformément aux articles 59 et 65 du MRR."}]
[null,null,null,null,{"$f":"Translations!$B$761","v":"La brève description doit indiquer comment sont contrôlées les activités de gestion du flux de données et les activités de contrôle des activités externalisées et préciser quels contrôles sont effectués sur la qualité des données obtenues. "}]
[]
[null,null,null,null,{"$f":"Translations!$B$405","v":"Intitulé de la procédure"}]
[null,null,null,null,{"$f":"Translations!$B$407","v":"Référence de la procédure"}]
[null,null,null,null,{"$f":"Translations!$B$409","v":"Références du schéma (le cas échéant):"}]
[null,null,null,null,{"$f":"Translations!$B$411","v":"Description succincte de la procédure    "}]
[]
[]
[null,null,null,null,{"$f":"Translations!$B$414","v":"Poste ou service responsable de la procédure et de toute donnée générée."}]
[null,null,null,null,{"$f":"Translations!$B$416","v":"Lieu d'archivage"}]
[null,null,null,null,{"$f":"Translations!$B$418","v":"Nom du système informatique utilisé (le cas échéant)."}]
[null,null,null,null,{"$f":"Translations!$B$420","v":"Liste des normes EN ou autres appliquées (le cas échéant)"}]
[]
[null,null,null,"(g)",{"$f":"Translations!$B$1233","v":"Veuillez fournir des précisions sur les procédures utilisées pour combler les lacunes dans les données conformément à l’article 66 du MRR."}]
[null,null,null,null,{"$f":"Translations!$B$1234","v":"La brève description doit indiquer comment les lacunes dans les données seront comblées au moyen d’une méthode appropriée d’estimation prudente permettant de déterminer des données de remplacement pour la période et le paramètre manquant correspondants."}]
[null,null,null,null,{"$f":"Translations!$B$1235","v":"Cette procédure n'est obligatoire que lorsque les données concernées sont manquantes, mais il est recommandé d’établir systématiquement une telle procédure afin d’assurer la conformité même en cas de lacunes dans les données."}]
[]
[null,null,null,null,{"$f":"Translations!$B$405","v":"Intitulé de la procédure"}]
[null,null,null,null,{"$f":"Translations!$B$407","v":"Référence de la procédure"}]
[null,null,null,null,{"$f":"Translations!$B$409","v":"Références du schéma (le cas échéant):"}]
[null,null,null,null,{"$f":"Translations!$B$411","v":"Description succincte de la procédure    "}]
[]
[]
[null,null,null,null,{"$f":"Translations!$B$414","v":"Poste ou service responsable de la procédure et de toute donnée générée."}]
[null,null,null,null,{"$f":"Translations!$B$416","v":"Lieu d'archivage"}]
[null,null,null,null,{"$f":"Translations!$B$418","v":"Nom du système informatique utilisé (le cas échéant)."}]
[null,null,null,null,{"$f":"Translations!$B$420","v":"Liste des normes EN ou autres appliquées (le cas échéant)"}]
[]
[null,null,null,"(h)",{"$f":"Translations!$B$1272","v":"Veuillez fournir des précisions sur les procédures utilisées pour gérer l’archivage et la documentation conformément aux articles 59 et 67 du MRR."}]
[null,null,null,null,{"$f":"Translations!$B$763","v":"La brève description doit préciser le processus de conservation des documents, plus particulièrement en ce qui concerne les données et informations spécifiées à l’annexe IX du MRR, et indiquer comment les donnés sont conservées de sorte que les informations soient immédiatement mises à la disposition de l’autorité compétente ou du vérificateur qui en fait la demande. "}]
[]
[null,null,null,null,{"$f":"Translations!$B$405","v":"Intitulé de la procédure"}]
[null,null,null,null,{"$f":"Translations!$B$407","v":"Référence de la procédure"}]
[null,null,null,null,{"$f":"Translations!$B$409","v":"Références du schéma (le cas échéant):"}]
[null,null,null,null,{"$f":"Translations!$B$411","v":"Description succincte de la procédure    "}]
[]
[]
[null,null,null,null,{"$f":"Translations!$B$414","v":"Poste ou service responsable de la procédure et de toute donnée générée."}]
[null,null,null,null,{"$f":"Translations!$B$416","v":"Lieu d'archivage"}]
[null,null,null,null,{"$f":"Translations!$B$418","v":"Nom du système informatique utilisé (le cas échéant)."}]
[null,null,null,null,{"$f":"Translations!$B$420","v":"Liste des normes EN ou autres appliquées (le cas échéant)"}]
[]
[null,null,null,"(i)",{"$f":"Translations!$B$764","v":"Veuillez fournir la référence des résultats consignés d'une évaluation des risques qui établit que les activités et procédures de contrôle sont proportionnées aux risques mis en évidence conformément à l'article 12, paragraphe 1, point b) du MRR.  (Remarque: L’obligation de soumettre l’évaluation des risques à l’AC ne s’applique pas aux installations à faible niveau d’émission, conformément à l’article 47, paragraphe 3, du MRR."}]
[null,null,null,null,{"$f":"Translations!$B$1236","v":"Veuillez indiquer dans l’encadré ci-dessous la référence du fichier/document contenant l’évaluation des risques."}]
[]
[]
["\n",null,null,"(j)",{"$f":"Translations!$B$766","v":"Votre organisation dispose-t-elle d'un système de management environnemental attesté par des documents?"}]
[]
[]
["\n",null,null,"(k)",{"$f":"Translations!$B$767","v":"Si le système de management environnemental est certifié par un organisme accrédité, veuillez préciser la norme de référence (ISO14001, EMAS, etc.)."}]
[]
[]
[null,null,23,{"$f":"Translations!$B$40","v":"Liste des définitions et des abréviations employées"}]
[]
[null,null,null,"(a)",{"$f":"Translations!$B$768","v":"Veuillez énumérer les abréviations, les acronymes ou les définitions que vous avez utilisés lors de l'établissement du présent plan de surveillance."}]
[]
[null,null,null,null,{"$f":"Translations!$B$769","v":"Abréviation"},null,{"$f":"Translations!$B$770","v":"Définition"}]
[]
[]
[]
[]
[]
[]
[]
[]
[]
[]
[]
[null,null,24,{"$f":"Translations!$B$41","v":"Informations supplémentaires"}]
[]
[null,null,null,"(a)",{"$f":"Translations!$B$771","v":"Veuillez indiquer ici toute autre information que vous souhaitez voir prendre en considération. Dans la mesure du possible, veuillez transmettre ces informations sous forme électronique. Vous pouvez utiliser les formats suivants: Microsoft Word, Excel, ou Adobe Acrobat."}]
[null,null,null,null,{"$f":"Translations!$B$772","v":"Il est recommandé d'éviter de fournir des informations non pertinentes car cela peut ralentir l'approbation du plan de surveillance. Les documents supplémentaires fournis doivent être clairement référencés, et les noms de fichiers ou numéros de référence doivent être indiqués ci-après. Au besoin, vérifiez auprès de votre autorité compétente."}]
[null,null,null,null,{"$f":"Translations!$B$773","v":"Veuillez indiquer ci-dessous le(s) nom(s) de fichier(s) (s'il s'agit de documents électroniques) ou le(s) numéro(s) de référence du/des document(s) (s'il s'agit de documents sur support papier):"}]
[]
[null,null,null,null,{"$f":"Translations!$B$774","v":"Nom de fichier/Référence"},null,{"$f":"Translations!$B$775","v":"Description du document"}]
[]
[]
[]
[]
[]
[]
[]
[]
[]
[]
[]
[null,null,25,{"$f":"Translations!$B$1152","v":"Autres procédures"}]
[]
["ausblenden"]
["ausblenden",null,null,null,{"$f":"Translations!$B$1150","v":"Further procedure added by the operator"}]
["ausblenden"]
["ausblenden",null,null,null,{"$f":"Translations!$B$405","v":"Intitulé de la procédure"}]
["ausblenden",null,null,null,{"$f":"Translations!$B$407","v":"Référence de la procédure"}]
["ausblenden",null,null,null,{"$f":"Translations!$B$409","v":"Références du schéma (le cas échéant):"}]
["ausblenden",null,null,null,{"$f":"Translations!$B$411","v":"Description succincte de la procédure    "}]
["ausblenden"]
["ausblenden"]
["ausblenden",null,null,null,{"$f":"Translations!$B$414","v":"Poste ou service responsable de la procédure et de toute donnée générée."}]
["ausblenden",null,null,null,{"$f":"Translations!$B$416","v":"Lieu d'archivage"}]
["ausblenden",null,null,null,{"$f":"Translations!$B$418","v":"Nom du système informatique utilisé (le cas échéant)."}]
["ausblenden",null,null,null,{"$f":"Translations!$B$420","v":"Liste des normes EN ou autres appliquées (le cas échéant)"}]
["ADD_Procedure"]
[null,null,null,null,null,null,{"$f":"Translations!$B$429","v":"Cliquez sur « + » pour ajouter d’autres procédures"}]
[]
[]
[]
[null,null,null,null,null,{"$f":"EUconst_MsgNextSheet","v":"<<< Cliquer ici pour passer à la feuille suivante >>> "}]

{"sheet":"L_MS specific content","index":14,"n_rows":9,"n_cols":8,"rows_kept":9,"cut":false,"hidden":false,"merged":[[28,1,28,12],[34,1,34,12],[30,1,30,12],[31,1,31,12],[32,1,32,12],[33,1,33,12],[29,1,29,12],[27,1,27,12],[12,1,12,12],[13,1,13,12],[26,1,26,12],[14,1,14,12],[15,1,15,12],[16,1,16,12],[17,1,17,12],[22,1,22,12],[23,1,23,12],[25,1,25,12],[18,1,18,12],[19,1,19,12],[20,1,20,12],[21,1,21,12],[24,1,24,12],[10,1,10,12],[11,1,11,12],[4,1,4,9],[6,2,6,12],[8,1,8,12],[9,1,9,12],[2,9,2,10],[0,0,2,2],[0,3,0,4],[0,5,0,6],[0,7,0,8],[0,9,0,10],[1,3,1,4],[1,5,1,6],[1,7,1,8],[1,9,1,10],[2,3,2,4],[2,5,2,6],[2,7,2,8]]}
[{"$f":"Translations!$B$781","v":"L. Member State specific content "},null,null,{"$f":"Translations!$B$59","v":"Zone de navigation:"},null,{"$f":"Translations!$B$60","v":"Sommaire"},null,{"$f":"Translations!$B$61","v":"Feuille précédente"}]
[null,null,null,{"$f":"Translations!$B$63","v":"Début de feuille"}]
[]
[]
[null,{"$f":"Translations!$B$43","v":"L. Member State specific further information (Informations complémentaires propres à l’État membre)"}]
[]
[null,26,{"$f":"Translations!$B$44","v":"Remarques"}]
[]
[null,{"$f":"Translations!$B$782","v":"Cadre réservé aux autres observations:"}]

{"sheet":"M_Accounting","index":15,"n_rows":135,"n_cols":156,"rows_kept":135,"cut":false,"hidden":false,"merged":[[108,40,108,47],[108,48,108,53],[8,47,8,54],[8,55,8,62],[8,63,8,70],[8,39,8,46],[2,13,2,19],[2,25,2,31],[88,8,88,12],[108,9,108,11],[108,12,108,14],[108,15,108,17],[108,18,108,20],[108,21,108,23],[108,24,108,31],[8,14,8,18],[8,23,8,30],[8,31,8,38],[108,32,108,39]]}
[null,null,null,null,null,null,null,null,null,null,null,null,null,null,null,null,null,null,null,null,null,null,null,null,null,null,null,null,null,null,null,null,null,null,null,null,null,null,null,null,null,null,null,null,null,null,null,null,null,null,null,null,null,null,null,null,null,null,null,null,null,null,null,null,null,null,null,null,null,null,null,null,null,null,null,null,null,null,null,null,null,null,null,null,null,null,null,"ausblenden","ausblenden","ausblenden","ausblenden","ausblenden","ausblenden","ausblenden","ausblenden","ausblenden","ausblenden","ausblenden","ausblenden","ausblenden","ausblenden","ausblenden","ausblenden","ausblenden","ausblenden","ausblenden","ausblenden","ausblenden","ausblenden","ausblenden","ausblenden","ausblenden","ausblenden","ausblenden","ausblenden","ausblenden","ausblenden","ausblenden","ausblenden","ausblenden","ausblenden","ausblenden","ausblenden","ausblenden","ausblenden","ausblenden","ausblenden","ausblenden","ausblenden","ausblenden","ausblenden","ausblenden","ausblenden","ausblenden","ausblenden","ausblenden","ausblenden","ausblenden","ausblenden","ausblenden","ausblenden","ausblenden","ausblenden","ausblenden","ausblenden","ausblenden","ausblenden","ausblenden","ausblenden","ausblenden","ausblenden","ausblenden","ausblenden","ausblenden","ausblenden","ausblenden"]
[null,{"$f":"Translations!$B$1237","v":"Informations générales"}]
[null,null,null,null,null,null,null,null,null,null,null,null,null,{"$f":"C_InstallationDescription!$E$42","v":"Liste des activités visées à l’annexe I de la directive SEQE UE menées dans l’installation:"},null,null,null,null,null,null,null,null,null,null,null,{"$f":"C_InstallationDescription!$E$90","v":"Méthodes de surveillance proposées:"}]
[null,{"$f":"'B_Operator&Inst.ID'!$E$24","v":"Identifiant unique de l'installation (comme dans les NIM)"},{"$f":"Translations!$B$156","v":"Nom de l’exploitant"},{"$f":"Translations!$B$47","v":"Dénomination de l'installation:"},{"$f":"Translations!$B$152","v":"Autorité compétente"},{"$f":"'B_Operator&Inst.ID'!G46","v":"Titre:"},{"$f":"'B_Operator&Inst.ID'!G47","v":"Prénom:"},{"$f":"'B_Operator&Inst.ID'!G48","v":"Nom:"},{"$f":"'B_Operator&Inst.ID'!G49","v":"Fonction:"},{"$f":"'B_Operator&Inst.ID'!G50","v":"Nom de l'organisme (si différent de l’exploitant):"},{"$f":"'B_Operator&Inst.ID'!G52","v":"Numéro de téléphone:"},{"$f":"'B_Operator&Inst.ID'!G53","v":"Courrier électronique:"},{"$f":"C_InstallationDescription!$E$38","v":"Titre et référence du document constituant le diagramme des flux: "},1,2,3,4,5,6,7,{"$f":"C_InstallationDescription!$E$70","v":"Estimation des émissions annuelles:"},{"$f":"C_InstallationDescription!$E$71","v":"Catégorie de l’installation conformément à l’article 19"},{"$f":"C_InstallationDescription!$E$73","v":"Installation à faible niveau d'émission?"},{"$f":"C_InstallationDescription!$E$82","v":"Émissions estimées au point d) ou e) fondées sur des estimations prudentes?"},{"$f":"C_InstallationDescription!$E$82","v":"Émissions estimées au point d) ou e) fondées sur des estimations prudentes?"},{"$f":"C_InstallationDescription!E96","v":"Méthode fondée sur le calcul pour le CO2 :"},{"$f":"C_InstallationDescription!E97","v":"Méthode fondée sur la mesure pour le CO2 :"},{"$f":"C_InstallationDescription!E98","v":"Méthode alternative (article 22) :"},{"$f":"C_InstallationDescription!E99","v":"Surveillance des émissions de N2O :"},{"$f":"C_InstallationDescription!E100","v":"Surveillance des émissions de PFC :"},{"$f":"C_InstallationDescription!E101","v":"Surveillance du CO2, du N2O transféré/intrinsèque et CCS :"},{"$f":"C_InstallationDescription!E102","v":"Surveillance du \"CCU permanent\""}]
[null,{"$f":"'B_Operator&Inst.ID'!$I$24","v":0},{"$f":"'B_Operator&Inst.ID'!$I$16","v":0},{"$f":"'B_Operator&Inst.ID'!$I$22","v":0},{"$f":"'B_Operator&Inst.ID'!$I$10","v":0},{"$f":"'B_Operator&Inst.ID'!I46","v":0},{"$f":"'B_Operator&Inst.ID'!I47","v":0},{"$f":"'B_Operator&Inst.ID'!I48","v":0},{"$f":"'B_Operator&Inst.ID'!I49","v":0},{"$f":"'B_Operator&Inst.ID'!I50","v":0},{"$f":"'B_Operator&Inst.ID'!I52","v":0},{"$f":"'B_Operator&Inst.ID'!I53","v":0},{"$f":"C_InstallationDescription!$K$38","v":0},{"$f":"IF(INDEX(C_InstallationDescription!$F$56:$F$62,N4)=\"\",\"\",INDEX(C_InstallationDescription!$F$56:$F$62,N4))","v":""},{"$f":"IF(INDEX(C_InstallationDescription!$F$56:$F$62,O4)=\"\",\"\",INDEX(C_InstallationDescription!$F$56:$F$62,O4))","v":""},{"$f":"IF(INDEX(C_InstallationDescription!$F$56:$F$62,P4)=\"\",\"\",INDEX(C_InstallationDescription!$F$56:$F$62,P4))","v":""},{"$f":"IF(INDEX(C_InstallationDescription!$F$56:$F$62,Q4)=\"\",\"\",INDEX(C_InstallationDescription!$F$56:$F$62,Q4))","v":""},{"$f":"IF(INDEX(C_InstallationDescription!$F$56:$F$62,R4)=\"\",\"\",INDEX(C_InstallationDescription!$F$56:$F$62,R4))","v":""},{"$f":"IF(INDEX(C_InstallationDescription!$F$56:$F$62,S4)=\"\",\"\",INDEX(C_InstallationDescription!$F$56:$F$62,S4))","v":""},{"$f":"IF(INDEX(C_InstallationDescription!$F$56:$F$62,T4)=\"\",\"\",INDEX(C_InstallationDescription!$F$56:$F$62,T4))","v":""},{"$f":"C_InstallationDescription!$I$70","v":0},{"$f":"C_InstallationDescription!$I$71","v":""},{"$f":"IF(C_InstallationDescription!$I$73=\"\",\"\",C_InstallationDescription!$I$73)","v":""},{"$f":"IF(C_InstallationDescription!L82=\"\",\"\",C_InstallationDescription!L82)","v":""},{"$f":"IF(C_InstallationDescription!E84=\"\",\"\",C_InstallationDescription!E84)","v":""},{"$f":"IF(C_InstallationDescription!I96=\"\",\"\",C_InstallationDescription!I96)","v":""},{"$f":"IF(C_InstallationDescription!I97=\"\",\"\",C_InstallationDescription!I97)","v":""},{"$f":"IF(C_InstallationDescription!I98=\"\",\"\",C_InstallationDescription!I98)","v":""},{"$f":"IF(C_InstallationDescription!I99=\"\",\"\",C_InstallationDescription!I99)","v":""},{"$f":"IF(C_InstallationDescription!I100=\"\",\"\",C_InstallationDescription!I100)","v":""},{"$f":"CNTR_InstHasTransferredCO2","v":0},{"$f":"CNTR_InstHasCCU","v":0}]
[]
["ausblenden",null,null,null,null,null,null,null,8,11,8,12,12,12,8,9,10,11,12,5,8,8,8,8,8,9,10,11,12,13,14,8,8,9,10,11,12,13,14,8,8,9,10,11,12,13,14,8,8,9,10,11,12,13,14,8,8,9,10,11,12,13,14,8,8,9,10,11,12,13,14,5]
[null,{"$f":"Translations!$B$1238","v":"Flux (sauf émissions de PFC)"}]
[null,null,null,null,null,null,null,null,null,null,null,null,null,null,{"$f":"Translations!$B$472","v":"Instruments de mesure utilisés:"},null,null,null,null,null,null,null,null,{"$f":"Translations!$B$520","v":"Pouvoir calorifique inférieur (PCI)"},null,null,null,null,null,null,null,{"$f":"Translations!$B$521","v":"Facteur d’émission (préliminaire)"},null,null,null,null,null,null,null,{"$f":"Translations!$B$522","v":"Facteur d'oxydation"},null,null,null,null,null,null,null,{"$f":"Translations!$B$523","v":"Facteur de conversion"},null,null,null,null,null,null,null,{"$f":"Translations!$B$524","v":"Teneur en carbone"},null,null,null,null,null,null,null,{"$f":"Translations!$B$525","v":"Fraction issue de la biomasse (le cas échéant)"}]
[null,{"$f":"Translations!$B$287","v":"Réf . du flux  F1, F2,…"},{"$f":"Translations!$B$288","v":"Nom du flux"},{"$f":"Translations!$B$289","v":"Type de flux"},{"$f":"Translations!$B$310","v":"Nom complet du flux (nom + type)"},{"$f":"Translations!$B$276","v":"Estimation des émissions [t CO2e/an]"},{"$f":"Translations!$B$277","v":"Catégorie possible"},{"$f":"Translations!$B$311","v":"Catégorie sélectionnée"},{"$f":"Translations!$B$456","v":"Méthode de détermination:"},{"$f":"Translations!$B$459","v":"Référence de la procédure utilisée pour déterminer les stocks à la fin de l'année:"},{"$f":"Translations!$B$462","v":"Instrument contrôlé par:"},{"$f":"Translations!$B$465","v":"Veuillez confirmer que les conditions énoncées à l’article 29, paragraphe 1 sont satisfaites:"},{"$f":"Translations!$B$468","v":"Utilisez-vous des factures pour déterminer la quantité de ce combustible ou de cette matière ?"},{"$f":"Translations!$B$469","v":"Veuillez confirmer que le partenaire commercial et l’exploitant sont indépendants:"},1,2,3,4,5,{"$f":"Translations!$B$475","v":"Commentaire/Description de la méthode, lorsque plusieurs instruments sont utilisés:"},{"$f":"Translations!$B$477","v":"Niveaux requis pour les données d’activité:"},{"$f":"Translations!$B$478","v":"Niveau utilisé pour les données d’activité:"},{"$f":"Translations!$B$479","v":"Incertitude constatée:  "},{"$f":"Translations!$B$517","v":"niveau requis"},{"$f":"Translations!$B$518","v":"niveau appliqué"},{"$f":"Translations!$B$535","v":"valeur par défaut"},{"$f":"Translations!$B$536","v":"Unité"},{"$f":"Translations!$B$537","v":"Réf. la source"},{"$f":"Translations!$B$538","v":"Réf. de l’analyse"},{"$f":"Translations!$B$539","v":"Réf. de l’échantillonnage"},{"$f":"Translations!$B$540","v":"Fréquence d’analyse"},{"$f":"Translations!$B$517","v":"niveau requis"},{"$f":"Translations!$B$518","v":"niveau appliqué"},{"$f":"Translations!$B$535","v":"valeur par défaut"},{"$f":"Translations!$B$536","v":"Unité"},{"$f":"Translations!$B$537","v":"Réf. la source"},{"$f":"Translations!$B$538","v":"Réf. de l’analyse"},{"$f":"Translations!$B$539","v":"Réf. de l’échantillonnage"},{"$f":"Translations!$B$540","v":"Fréquence d’analyse"},{"$f":"Translations!$B$517","v":"niveau requis"},{"$f":"Translations!$B$518","v":"niveau appliqué"},{"$f":"Translations!$B$535","v":"valeur par défaut"},{"$f":"Translations!$B$536","v":"Unité"},{"$f":"Translations!$B$537","v":"Réf. la source"},{"$f":"Translations!$B$538","v":"Réf. de l’analyse"},{"$f":"Translations!$B$539","v":"Réf. de l’échantillonnage"},{"$f":"Translations!$B$540","v":"Fréquence d’analyse"},{"$f":"Translations!$B$517","v":"niveau requis"},{"$f":"Translations!$B$518","v":"niveau appliqué"},{"$f":"Translations!$B$535","v":"valeur par défaut"},{"$f":"Translations!$B$536","v":"Unité"},{"$f":"Translations!$B$537","v":"Réf. la source"},{"$f":"Translations!$B$538","v":"Réf. de l’analyse"},{"$f":"Translations!$B$539","v":"Réf. de l’échantillonnage"},{"$f":"Translations!$B$540","v":"Fréquence d’analyse"},{"$f":"Translations!$B$517","v":"niveau requis"},{"$f":"Translations!$B$518","v":"niveau appliqué"},{"$f":"Translations!$B$535","v":"valeur par défaut"},{"$f":"Translations!$B$536","v":"Unité"},{"$f":"Translations!$B$537","v":"Réf. la source"},{"$f":"Translations!$B$538","v":"Réf. de l’analyse"},{"$f":"Translations!$B$539","v":"Réf. de l’échantillonnage"},{"$f":"Translations!$B$540","v":"Fréquence d’analyse"},{"$f":"Translations!$B$517","v":"niveau requis"},{"$f":"Translations!$B$518","v":"niveau appliqué"},{"$f":"Translations!$B$535","v":"valeur par défaut"},{"$f":"Translations!$B$536","v":"Unité"},{"$f":"Translations!$B$537","v":"Réf. la source"},{"$f":"Translations!$B$538","v":"Réf. de l’analyse"},{"$f":"Translations!$B$539","v":"Réf. de l’échantillonnage"},{"$f":"Translations!$B$540","v":"Fréquence d’analyse"},{"$f":"Translations!$B$1198","v":"Remarques et justification lorsque les niveaux requis ne sont pas appliqués:"}]
[null,{"$f":"IF(COUNTIF($CK$10:CK11,TRUE)>0,\"\",INDEX(C_InstallationDescription!$E$226:$E$242,ROWS($A$11:A11)))","v":""},{"$f":"IF($E11=\"\",\"\",INDEX(C_InstallationDescription!F:F,MATCH($B11,C_InstallationDescription!$E:$E,0)))","v":""},{"$f":"IF($E11=\"\",\"\",INDEX(C_InstallationDescription!I:I,MATCH($B11,C_InstallationDescription!$E:$E,0)))","v":""},{"$f":"IF($B11=\"\",\"\",INDEX(C_InstallationDescription!F:F,MATCH($CJ11,C_InstallationDescription!$Q:$Q,0)))","v":""},{"$f":"IF($E11=\"\",\"\",INDEX(C_InstallationDescription!L:L,MATCH($CJ11,C_InstallationDescription!$Q:$Q,0)))","v":""},{"$f":"IF($E11=\"\",\"\",INDEX(C_InstallationDescription!M:M,MATCH($CJ11,C_InstallationDescription!$Q:$Q,0)))","v":""},{"$f":"IF($E11=\"\",\"\",INDEX(C_InstallationDescription!N:N,MATCH($CJ11,C_InstallationDescription!$Q:$Q,0)))","v":""},{"$f":"IF($E11=\"\",\"\",IF(INDEX(E_SourceStreams!$A:$N,CN11,I$7)=\"\",\"\",INDEX(E_SourceStreams!$A:$N,CN11,I$7)))","v":""},{"$f":"IF($E11=\"\",\"\",IF(INDEX(E_SourceStreams!$A:$N,CO11,J$7)=\"\",\"\",INDEX(E_SourceStreams!$A:$N,CO11,J$7)))","v":""},{"$f":"IF($E11=\"\",\"\",IF(INDEX(E_SourceStreams!$A:$N,CP11,K$7)=\"\",\"\",INDEX(E_SourceStreams!$A:$N,CP11,K$7)))","v":""},{"$f":"IF($E11=\"\",\"\",IF(INDEX(E_SourceStreams!$A:$N,CQ11,L$7)=\"\",\"\",INDEX(E_SourceStreams!$A:$N,CQ11,L$7)))","v":""},{"$f":"IF($E11=\"\",\"\",IF(INDEX(E_SourceStreams!$A:$N,CR11,M$7)=\"\",\"\",INDEX(E_SourceStreams!$A:$N,CR11,M$7)))","v":""},{"$f":"IF($E11=\"\",\"\",IF(INDEX(E_SourceStreams!$A:$N,CS11,N$7)=\"\",\"\",INDEX(E_SourceStreams!$A:$N,CS11,N$7)))","v":""},{"$f":"IF($E11=\"\",\"\",IF(INDEX(E_SourceStreams!$A:$N,CT11,O$7)=\"\",\"\",INDEX(E_SourceStreams!$A:$N,CT11,O$7)))","v":""},{"$f":"IF($E11=\"\",\"\",IF(INDEX(E_SourceStreams!$A:$N,CU11,P$7)=\"\",\"\",INDEX(E_SourceStreams!$A:$N,CU11,P$7)))","v":""},{"$f":"IF($E11=\"\",\"\",IF(INDEX(E_SourceStreams!$A:$N,CV11,Q$7)=\"\",\"\",INDEX(E_SourceStreams!$A:$N,CV11,Q$7)))","v":""},{"$f":"IF($E11=\"\",\"\",IF(INDEX(E_SourceStreams!$A:$N,CW11,R$7)=\"\",\"\",INDEX(E_SourceStreams!$A:$N,CW11,R$7)))","v":""},{"$f":"IF($E11=\"\",\"\",IF(INDEX(E_SourceStreams!$A:$N,CX11,S$7)=\"\",\"\",INDEX(E_SourceStreams!$A:$N,CX11,S$7)))","v":""},{"$f":"IF($E11=\"\",\"\",IF(INDEX(E_SourceStreams!$A:$N,CY11,T$7)=\"\",\"\",INDEX(E_SourceStreams!$A:$N,CY11,T$7)))","v":""},{"$f":"IF($E11=\"\",\"\",IF(INDEX(E_SourceStreams!$A:$N,CZ11,U$7)=\"\",\"\",INDEX(E_SourceStreams!$A:$N,CZ11,U$7)))","v":""},{"$f":"IF($E11=\"\",\"\",IF(INDEX(E_SourceStreams!$A:$N,DA11,V$7)=\"\",\"\",INDEX(E_SourceStreams!$A:$N,DA11,V$7)))","v":""},{"$f":"IF($E11=\"\",\"\",IF(INDEX(E_SourceStreams!$A:$N,DB11,W$7)=\"\",\"\",INDEX(E_SourceStreams!$A:$N,DB11,W$7)))","v":""},{"$f":"IF($E11=\"\",\"\",IF(INDEX(E_SourceStreams!$A:$N,DC11,X$7)=\"\",\"\",INDEX(E_SourceStreams!$A:$N,DC11,X$7)))","v":""},{"$f":"IF($E11=\"\",\"\",IF(INDEX(E_SourceStreams!$A:$N,DD11,Y$7)=\"\",\"\",INDEX(E_SourceStreams!$A:$N,DD11,Y$7)))","v":""},{"$f":"IF($E11=\"\",\"\",IF(INDEX(E_SourceStreams!$A:$N,DE11,Z$7)=\"\",\"\",INDEX(E_SourceStreams!$A:$N,DE11,Z$7)))","v":""},{"$f":"IF($E11=\"\",\"\",IF(INDEX(E_SourceStreams!$A:$N,DF11,AA$7)=\"\",\"\",INDEX(E_SourceStreams!$A:$N,DF11,AA$7)))","v":""},{"$f":"IF($E11=\"\",\"\",IF(INDEX(E_SourceStreams!$A:$N,DG11,AB$7)=\"\",\"\",INDEX(E_SourceStreams!$A:$N,DG11,AB$7)))","v":""},{"$f":"IF($E11=\"\",\"\",IF(INDEX(E_SourceStreams!$A:$N,DH11,AC$7)=\"\",\"\",INDEX(E_SourceStreams!$A:$N,DH11,AC$7)))","v":""},{"$f":"IF($E11=\"\",\"\",IF(INDEX(E_SourceStreams!$A:$N,DI11,AD$7)=\"\",\"\",INDEX(E_SourceStreams!$A:$N,DI11,AD$7)))","v":""},{"$f":"IF($E11=\"\",\"\",IF(INDEX(E_SourceStreams!$A:$N,DJ11,AE$7)=\"\",\"\",INDEX(E_SourceStreams!$A:$N,DJ11,AE$7)))","v":""},{"$f":"IF($E11=\"\",\"\",IF(INDEX(E_SourceStreams!$A:$N,DK11,AF$7)=\"\",\"\",INDEX(E_SourceStreams!$A:$N,DK11,AF$7)))","v":""},{"$f":"IF($E11=\"\",\"\",IF(INDEX(E_SourceStreams!$A:$N,DL11,AG$7)=\"\",\"\",INDEX(E_SourceStreams!$A:$N,DL11,AG$7)))","v":""},{"$f":"IF($E11=\"\",\"\",IF(INDEX(E_SourceStreams!$A:$N,DM11,AH$7)=\"\",\"\",INDEX(E_SourceStreams!$A:$N,DM11,AH$7)))","v":""},{"$f":"IF($E11=\"\",\"\",IF(INDEX(E_SourceStreams!$A:$N,DN11,AI$7)=\"\",\"\",INDEX(E_SourceStreams!$A:$N,DN11,AI$7)))","v":""},{"$f":"IF($E11=\"\",\"\",IF(INDEX(E_SourceStreams!$A:$N,DO11,AJ$7)=\"\",\"\",INDEX(E_SourceStreams!$A:$N,DO11,AJ$7)))","v":""},{"$f":"IF($E11=\"\",\"\",IF(INDEX(E_SourceStreams!$A:$N,DP11,AK$7)=\"\",\"\",INDEX(E_SourceStreams!$A:$N,DP11,AK$7)))","v":""},{"$f":"IF($E11=\"\",\"\",IF(INDEX(E_SourceStreams!$A:$N,DQ11,AL$7)=\"\",\"\",INDEX(E_SourceStreams!$A:$N,DQ11,AL$7)))","v":""},{"$f":"IF($E11=\"\",\"\",IF(INDEX(E_SourceStreams!$A:$N,DR11,AM$7)=\"\",\"\",INDEX(E_SourceStreams!$A:$N,DR11,AM$7)))","v":""},{"$f":"IF($E11=\"\",\"\",IF(INDEX(E_SourceStreams!$A:$N,DS11,AN$7)=\"\",\"\",INDEX(E_SourceStreams!$A:$N,DS11,AN$7)))","v":""},{"$f":"IF($E11=\"\",\"\",IF(INDEX(E_SourceStreams!$A:$N,DT11,AO$7)=\"\",\"\",INDEX(E_SourceStreams!$A:$N,DT11,AO$7)))","v":""},{"$f":"IF($E11=\"\",\"\",IF(INDEX(E_SourceStreams!$A:$N,DU11,AP$7)=\"\",\"\",INDEX(E_SourceStreams!$A:$N,DU11,AP$7)))","v":""},{"$f":"IF($E11=\"\",\"\",IF(INDEX(E_SourceStreams!$A:$N,DV11,AQ$7)=\"\",\"\",INDEX(E_SourceStreams!$A:$N,DV11,AQ$7)))","v":""},{"$f":"IF($E11=\"\",\"\",IF(INDEX(E_SourceStreams!$A:$N,DW11,AR$7)=\"\",\"\",INDEX(E_SourceStreams!$A:$N,DW11,AR$7)))","v":""},{"$f":"IF($E11=\"\",\"\",IF(INDEX(E_SourceStreams!$A:$N,DX11,AS$7)=\"\",\"\",INDEX(E_SourceStreams!$A:$N,DX11,AS$7)))","v":""},{"$f":"IF($E11=\"\",\"\",IF(INDEX(E_SourceStreams!$A:$N,DY11,AT$7)=\"\",\"\",INDEX(E_SourceStreams!$A:$N,DY11,AT$7)))","v":""},{"$f":"IF($E11=\"\",\"\",IF(INDEX(E_SourceStreams!$A:$N,DZ11,AU$7)=\"\",\"\",INDEX(E_SourceStreams!$A:$N,DZ11,AU$7)))","v":""},{"$f":"IF($E11=\"\",\"\",IF(INDEX(E_SourceStreams!$A:$N,EA11,AV$7)=\"\",\"\",INDEX(E_SourceStreams!$A:$N,EA11,AV$7)))","v":""},{"$f":"IF($E11=\"\",\"\",IF(INDEX(E_SourceStreams!$A:$N,EB11,AW$7)=\"\",\"\",INDEX(E_SourceStreams!$A:$N,EB11,AW$7)))","v":""},{"$f":"IF($E11=\"\",\"\",IF(INDEX(E_SourceStreams!$A:$N,EC11,AX$7)=\"\",\"\",INDEX(E_SourceStreams!$A:$N,EC11,AX$7)))","v":""},{"$f":"IF($E11=\"\",\"\",IF(INDEX(E_SourceStreams!$A:$N,ED11,AY$7)=\"\",\"\",INDEX(E_SourceStreams!$A:$N,ED11,AY$7)))","v":""},{"$f":"IF($E11=\"\",\"\",IF(INDEX(E_SourceStreams!$A:$N,EE11,AZ$7)=\"\",\"\",INDEX(E_SourceStreams!$A:$N,EE11,AZ$7)))","v":""},{"$f":"IF($E11=\"\",\"\",IF(INDEX(E_SourceStreams!$A:$N,EF11,BA$7)=\"\",\"\",INDEX(E_SourceStreams!$A:$N,EF11,BA$7)))","v":""},{"$f":"IF($E11=\"\",\"\",IF(INDEX(E_SourceStreams!$A:$N,EG11,BB$7)=\"\",\"\",INDEX(E_SourceStreams!$A:$N,EG11,BB$7)))","v":""},{"$f":"IF($E11=\"\",\"\",IF(INDEX(E_SourceStreams!$A:$N,EH11,BC$7)=\"\",\"\",INDEX(E_SourceStreams!$A:$N,EH11,BC$7)))","v":""},{"$f":"IF($E11=\"\",\"\",IF(INDEX(E_SourceStreams!$A:$N,EI11,BD$7)=\"\",\"\",INDEX(E_SourceStreams!$A:$N,EI11,BD$7)))","v":""},{"$f":"IF($E11=\"\",\"\",IF(INDEX(E_SourceStreams!$A:$N,EJ11,BE$7)=\"\",\"\",INDEX(E_SourceStreams!$A:$N,EJ11,BE$7)))","v":""},{"$f":"IF($E11=\"\",\"\",IF(INDEX(E_SourceStreams!$A:$N,EK11,BF$7)=\"\",\"\",INDEX(E_SourceStreams!$A:$N,EK11,BF$7)))","v":""},{"$f":"IF($E11=\"\",\"\",IF(INDEX(E_SourceStreams!$A:$N,EL11,BG$7)=\"\",\"\",INDEX(E_SourceStreams!$A:$N,EL11,BG$7)))","v":""},{"$f":"IF($E11=\"\",\"\",IF(INDEX(E_SourceStreams!$A:$N,EM11,BH$7)=\"\",\"\",INDEX(E_SourceStreams!$A:$N,EM11,BH$7)))","v":""},{"$f":"IF($E11=\"\",\"\",IF(INDEX(E_SourceStreams!$A:$N,EN11,BI$7)=\"\",\"\",INDEX(E_SourceStreams!$A:$N,EN11,BI$7)))","v":""},{"$f":"IF($E11=\"\",\"\",IF(INDEX(E_SourceStreams!$A:$N,EO11,BJ$7)=\"\",\"\",INDEX(E_SourceStreams!$A:$N,EO11,BJ$7)))","v":""},{"$f":"IF($E11=\"\",\"\",IF(INDEX(E_SourceStreams!$A:$N,EP11,BK$7)=\"\",\"\",INDEX(E_SourceStreams!$A:$N,EP11,BK$7)))","v":""},{"$f":"IF($E11=\"\",\"\",IF(INDEX(E_SourceStreams!$A:$N,EQ11,BL$7)=\"\",\"\",INDEX(E_SourceStreams!$A:$N,EQ11,BL$7)))","v":""},{"$f":"IF($E11=\"\",\"\",IF(INDEX(E_SourceStreams!$A:$N,ER11,BM$7)=\"\",\"\",INDEX(E_SourceStreams!$A:$N,ER11,BM$7)))","v":""},{"$f":"IF($E11=\"\",\"\",IF(INDEX(E_SourceStreams!$A:$N,ES11,BN$7)=\"\",\"\",INDEX(E_SourceStreams!$A:$N,ES11,BN$7)))","v":""},{"$f":"IF($E11=\"\",\"\",IF(INDEX(E_SourceStreams!$A:$N,ET11,BO$7)=\"\",\"\",INDEX(E_SourceStreams!$A:$N,ET11,BO$7)))","v":""},{"$f":"IF($E11=\"\",\"\",IF(INDEX(E_SourceStreams!$A:$N,EU11,BP$7)=\"\",\"\",INDEX(E_SourceStreams!$A:$N,EU11,BP$7)))","v":""},{"$f":"IF($E11=\"\",\"\",IF(INDEX(E_SourceStreams!$A:$N,EV11,BQ$7)=\"\",\"\",INDEX(E_SourceStreams!$A:$N,EV11,BQ$7)))","v":""},{"$f":"IF($E11=\"\",\"\",IF(INDEX(E_SourceStreams!$A:$N,EW11,BR$7)=\"\",\"\",INDEX(E_SourceStreams!$A:$N,EW11,BR$7)))","v":""},{"$f":"IF($E11=\"\",\"\",IF(INDEX(E_SourceStreams!$A:$N,EX11,BS$7)=\"\",\"\",INDEX(E_SourceStreams!$A:$N,EX11,BS$7)))","v":""},{"$f":"IF($E11=\"\",\"\",IF(INDEX(E_SourceStreams!$A:$N,EY11,BT$7)=\"\",\"\",INDEX(E_SourceStreams!$A:$N,EY11,BT$7)))","v":""},null,null,null,null,null,null,null,null,null,null,null,null,null,null,null,{"$f":"EUconst_CNTR_SourceCategory&B11","v":"SourceCategory_"},{"$f":"INDEX(C_InstallationDescription!$A$226:$A$332,ROWS($CI$11:CI11))=\"ausblenden\"","v":false},{"$f":"EUconst_CNTR_SourceStreamName&B11","v":"SourceStreamName_"},null,52,56,61,66,71,75,80,80,80,80,80,87,91,92,93,{"$f":"ROW(E_SourceStreams!E138)","v":138},162,162,162,162,162,162,162,151,163,163,163,163,163,163,163,152,164,164,164,164,164,164,164,153,165,165,165,165,165,165,165,154,166,166,166,166,166,166,166,155,167,167,167,167,167,167,167,184]
[null,{"$f":"IF(COUNTIF($CK$10:CK12,TRUE)>0,\"\",INDEX(C_InstallationDescription!$E$226:$E$242,ROWS($A$11:A12)))","v":""},{"$f":"IF($E12=\"\",\"\",INDEX(C_InstallationDescription!F:F,MATCH($B12,C_InstallationDescription!$E:$E,0)))","v":""},{"$f":"IF($E12=\"\",\"\",INDEX(C_InstallationDescription!I:I,MATCH($B12,C_InstallationDescription!$E:$E,0)))","v":""},{"$f":"IF($B12=\"\",\"\",INDEX(C_InstallationDescription!F:F,MATCH($CJ12,C_InstallationDescription!$Q:$Q,0)))","v":""},{"$f":"IF($E12=\"\",\"\",INDEX(C_InstallationDescription!L:L,MATCH($CJ12,C_InstallationDescription!$Q:$Q,0)))","v":""},{"$f":"IF($E12=\"\",\"\",INDEX(C_InstallationDescription!M:M,MATCH($CJ12,C_InstallationDescription!$Q:$Q,0)))","v":""},{"$f":"IF($E12=\"\",\"\",INDEX(C_InstallationDescription!N:N,MATCH($CJ12,C_InstallationDescription!$Q:$Q,0)))","v":""},{"$f":"IF($E12=\"\",\"\",IF(INDEX(E_SourceStreams!$A:$N,CN12,I$7)=\"\",\"\",INDEX(E_SourceStreams!$A:$N,CN12,I$7)))","v":""},{"$f":"IF($E12=\"\",\"\",IF(INDEX(E_SourceStreams!$A:$N,CO12,J$7)=\"\",\"\",INDEX(E_SourceStreams!$A:$N,CO12,J$7)))","v":""},{"$f":"IF($E12=\"\",\"\",IF(INDEX(E_SourceStreams!$A:$N,CP12,K$7)=\"\",\"\",INDEX(E_SourceStreams!$A:$N,CP12,K$7)))","v":""},{"$f":"IF($E12=\"\",\"\",IF(INDEX(E_SourceStreams!$A:$N,CQ12,L$7)=\"\",\"\",INDEX(E_SourceStreams!$A:$N,CQ12,L$7)))","v":""},{"$f":"IF($E12=\"\",\"\",IF(INDEX(E_SourceStreams!$A:$N,CR12,M$7)=\"\",\"\",INDEX(E_SourceStreams!$A:$N,CR12,M$7)))","v":""},{"$f":"IF($E12=\"\",\"\",IF(INDEX(E_SourceStreams!$A:$N,CS12,N$7)=\"\",\"\",INDEX(E_SourceStreams!$A:$N,CS12,N$7)))","v":""},{"$f":"IF($E12=\"\",\"\",IF(INDEX(E_SourceStreams!$A:$N,CT12,O$7)=\"\",\"\",INDEX(E_SourceStreams!$A:$N,CT12,O$7)))","v":""},{"$f":"IF($E12=\"\",\"\",IF(INDEX(E_SourceStreams!$A:$N,CU12,P$7)=\"\",\"\",INDEX(E_SourceStreams!$A:$N,CU12,P$7)))","v":""},{"$f":"IF($E12=\"\",\"\",IF(INDEX(E_SourceStreams!$A:$N,CV12,Q$7)=\"\",\"\",INDEX(E_SourceStreams!$A:$N,CV12,Q$7)))","v":""},{"$f":"IF($E12=\"\",\"\",IF(INDEX(E_SourceStreams!$A:$N,CW12,R$7)=\"\",\"\",INDEX(E_SourceStreams!$A:$N,CW12,R$7)))","v":""},{"$f":"IF($E12=\"\",\"\",IF(INDEX(E_SourceStreams!$A:$N,CX12,S$7)=\"\",\"\",INDEX(E_SourceStreams!$A:$N,CX12,S$7)))","v":""},{"$f":"IF($E12=\"\",\"\",IF(INDEX(E_SourceStreams!$A:$N,CY12,T$7)=\"\",\"\",INDEX(E_SourceStreams!$A:$N,CY12,T$7)))","v":""},{"$f":"IF($E12=\"\",\"\",IF(INDEX(E_SourceStreams!$A:$N,CZ12,U$7)=\"\",\"\",INDEX(E_SourceStreams!$A:$N,CZ12,U$7)))","v":""},{"$f":"IF($E12=\"\",\"\",IF(INDEX(E_SourceStreams!$A:$N,DA12,V$7)=\"\",\"\",INDEX(E_SourceStreams!$A:$N,DA12,V$7)))","v":""},{"$f":"IF($E12=\"\",\"\",IF(INDEX(E_SourceStreams!$A:$N,DB12,W$7)=\"\",\"\",INDEX(E_SourceStreams!$A:$N,DB12,W$7)))","v":""},{"$f":"IF($E12=\"\",\"\",IF(INDEX(E_SourceStreams!$A:$N,DC12,X$7)=\"\",\"\",INDEX(E_SourceStreams!$A:$N,DC12,X$7)))","v":""},{"$f":"IF($E12=\"\",\"\",IF(INDEX(E_SourceStreams!$A:$N,DD12,Y$7)=\"\",\"\",INDEX(E_SourceStreams!$A:$N,DD12,Y$7)))","v":""},{"$f":"IF($E12=\"\",\"\",IF(INDEX(E_SourceStreams!$A:$N,DE12,Z$7)=\"\",\"\",INDEX(E_SourceStreams!$A:$N,DE12,Z$7)))","v":""},{"$f":"IF($E12=\"\",\"\",IF(INDEX(E_SourceStreams!$A:$N,DF12,AA$7)=\"\",\"\",INDEX(E_SourceStreams!$A:$N,DF12,AA$7)))","v":""},{"$f":"IF($E12=\"\",\"\",IF(INDEX(E_SourceStreams!$A:$N,DG12,AB$7)=\"\",\"\",INDEX(E_SourceStreams!$A:$N,DG12,AB$7)))","v":""},{"$f":"IF($E12=\"\",\"\",IF(INDEX(E_SourceStreams!$A:$N,DH12,AC$7)=\"\",\"\",INDEX(E_SourceStreams!$A:$N,DH12,AC$7)))","v":""},{"$f":"IF($E12=\"\",\"\",IF(INDEX(E_SourceStreams!$A:$N,DI12,AD$7)=\"\",\"\",INDEX(E_SourceStreams!$A:$N,DI12,AD$7)))","v":""},{"$f":"IF($E12=\"\",\"\",IF(INDEX(E_SourceStreams!$A:$N,DJ12,AE$7)=\"\",\"\",INDEX(E_SourceStreams!$A:$N,DJ12,AE$7)))","v":""},{"$f":"IF($E12=\"\",\"\",IF(INDEX(E_SourceStreams!$A:$N,DK12,AF$7)=\"\",\"\",INDEX(E_SourceStreams!$A:$N,DK12,AF$7)))","v":""},{"$f":"IF($E12=\"\",\"\",IF(INDEX(E_SourceStreams!$A:$N,DL12,AG$7)=\"\",\"\",INDEX(E_SourceStreams!$A:$N,DL12,AG$7)))","v":""},{"$f":"IF($E12=\"\",\"\",IF(INDEX(E_SourceStreams!$A:$N,DM12,AH$7)=\"\",\"\",INDEX(E_SourceStreams!$A:$N,DM12,AH$7)))","v":""},{"$f":"IF($E12=\"\",\"\",IF(INDEX(E_SourceStreams!$A:$N,DN12,AI$7)=\"\",\"\",INDEX(E_SourceStreams!$A:$N,DN12,AI$7)))","v":""},{"$f":"IF($E12=\"\",\"\",IF(INDEX(E_SourceStreams!$A:$N,DO12,AJ$7)=\"\",\"\",INDEX(E_SourceStreams!$A:$N,DO12,AJ$7)))","v":""},{"$f":"IF($E12=\"\",\"\",IF(INDEX(E_SourceStreams!$A:$N,DP12,AK$7)=\"\",\"\",INDEX(E_SourceStreams!$A:$N,DP12,AK$7)))","v":""},{"$f":"IF($E12=\"\",\"\",IF(INDEX(E_SourceStreams!$A:$N,DQ12,AL$7)=\"\",\"\",INDEX(E_SourceStreams!$A:$N,DQ12,AL$7)))","v":""},{"$f":"IF($E12=\"\",\"\",IF(INDEX(E_SourceStreams!$A:$N,DR12,AM$7)=\"\",\"\",INDEX(E_SourceStreams!$A:$N,DR12,AM$7)))","v":""},{"$f":"IF($E12=\"\",\"\",IF(INDEX(E_SourceStreams!$A:$N,DS12,AN$7)=\"\",\"\",INDEX(E_SourceStreams!$A:$N,DS12,AN$7)))","v":""},{"$f":"IF($E12=\"\",\"\",IF(INDEX(E_SourceStreams!$A:$N,DT12,AO$7)=\"\",\"\",INDEX(E_SourceStreams!$A:$N,DT12,AO$7)))","v":""},{"$f":"IF($E12=\"\",\"\",IF(INDEX(E_SourceStreams!$A:$N,DU12,AP$7)=\"\",\"\",INDEX(E_SourceStreams!$A:$N,DU12,AP$7)))","v":""},{"$f":"IF($E12=\"\",\"\",IF(INDEX(E_SourceStreams!$A:$N,DV12,AQ$7)=\"\",\"\",INDEX(E_SourceStreams!$A:$N,DV12,AQ$7)))","v":""},{"$f":"IF($E12=\"\",\"\",IF(INDEX(E_SourceStreams!$A:$N,DW12,AR$7)=\"\",\"\",INDEX(E_SourceStreams!$A:$N,DW12,AR$7)))","v":""},{"$f":"IF($E12=\"\",\"\",IF(INDEX(E_SourceStreams!$A:$N,DX12,AS$7)=\"\",\"\",INDEX(E_SourceStreams!$A:$N,DX12,AS$7)))","v":""},{"$f":"IF($E12=\"\",\"\",IF(INDEX(E_SourceStreams!$A:$N,DY12,AT$7)=\"\",\"\",INDEX(E_SourceStreams!$A:$N,DY12,AT$7)))","v":""},{"$f":"IF($E12=\"\",\"\",IF(INDEX(E_SourceStreams!$A:$N,DZ12,AU$7)=\"\",\"\",INDEX(E_SourceStreams!$A:$N,DZ12,AU$7)))","v":""},{"$f":"IF($E12=\"\",\"\",IF(INDEX(E_SourceStreams!$A:$N,EA12,AV$7)=\"\",\"\",INDEX(E_SourceStreams!$A:$N,EA12,AV$7)))","v":""},{"$f":"IF($E12=\"\",\"\",IF(INDEX(E_SourceStreams!$A:$N,EB12,AW$7)=\"\",\"\",INDEX(E_SourceStreams!$A:$N,EB12,AW$7)))","v":""},{"$f":"IF($E12=\"\",\"\",IF(INDEX(E_SourceStreams!$A:$N,EC12,AX$7)=\"\",\"\",INDEX(E_SourceStreams!$A:$N,EC12,AX$7)))","v":""},{"$f":"IF($E12=\"\",\"\",IF(INDEX(E_SourceStreams!$A:$N,ED12,AY$7)=\"\",\"\",INDEX(E_SourceStreams!$A:$N,ED12,AY$7)))","v":""},{"$f":"IF($E12=\"\",\"\",IF(INDEX(E_SourceStreams!$A:$N,EE12,AZ$7)=\"\",\"\",INDEX(E_SourceStreams!$A:$N,EE12,AZ$7)))","v":""},{"$f":"IF($E12=\"\",\"\",IF(INDEX(E_SourceStreams!$A:$N,EF12,BA$7)=\"\",\"\",INDEX(E_SourceStreams!$A:$N,EF12,BA$7)))","v":""},{"$f":"IF($E12=\"\",\"\",IF(INDEX(E_SourceStreams!$A:$N,EG12,BB$7)=\"\",\"\",INDEX(E_SourceStreams!$A:$N,EG12,BB$7)))","v":""},{"$f":"IF($E12=\"\",\"\",IF(INDEX(E_SourceStreams!$A:$N,EH12,BC$7)=\"\",\"\",INDEX(E_SourceStreams!$A:$N,EH12,BC$7)))","v":""},{"$f":"IF($E12=\"\",\"\",IF(INDEX(E_SourceStreams!$A:$N,EI12,BD$7)=\"\",\"\",INDEX(E_SourceStreams!$A:$N,EI12,BD$7)))","v":""},{"$f":"IF($E12=\"\",\"\",IF(INDEX(E_SourceStreams!$A:$N,EJ12,BE$7)=\"\",\"\",INDEX(E_SourceStreams!$A:$N,EJ12,BE$7)))","v":""},{"$f":"IF($E12=\"\",\"\",IF(INDEX(E_SourceStreams!$A:$N,EK12,BF$7)=\"\",\"\",INDEX(E_SourceStreams!$A:$N,EK12,BF$7)))","v":""},{"$f":"IF($E12=\"\",\"\",IF(INDEX(E_SourceStreams!$A:$N,EL12,BG$7)=\"\",\"\",INDEX(E_SourceStreams!$A:$N,EL12,BG$7)))","v":""},{"$f":"IF($E12=\"\",\"\",IF(INDEX(E_SourceStreams!$A:$N,EM12,BH$7)=\"\",\"\",INDEX(E_SourceStreams!$A:$N,EM12,BH$7)))","v":""},{"$f":"IF($E12=\"\",\"\",IF(INDEX(E_SourceStreams!$A:$N,EN12,BI$7)=\"\",\"\",INDEX(E_SourceStreams!$A:$N,EN12,BI$7)))","v":""},{"$f":"IF($E12=\"\",\"\",IF(INDEX(E_SourceStreams!$A:$N,EO12,BJ$7)=\"\",\"\",INDEX(E_SourceStreams!$A:$N,EO12,BJ$7)))","v":""},{"$f":"IF($E12=\"\",\"\",IF(INDEX(E_SourceStreams!$A:$N,EP12,BK$7)=\"\",\"\",INDEX(E_SourceStreams!$A:$N,EP12,BK$7)))","v":""},{"$f":"IF($E12=\"\",\"\",IF(INDEX(E_SourceStreams!$A:$N,EQ12,BL$7)=\"\",\"\",INDEX(E_SourceStreams!$A:$N,EQ12,BL$7)))","v":""},{"$f":"IF($E12=\"\",\"\",IF(INDEX(E_SourceStreams!$A:$N,ER12,BM$7)=\"\",\"\",INDEX(E_SourceStreams!$A:$N,ER12,BM$7)))","v":""},{"$f":"IF($E12=\"\",\"\",IF(INDEX(E_SourceStreams!$A:$N,ES12,BN$7)=\"\",\"\",INDEX(E_SourceStreams!$A:$N,ES12,BN$7)))","v":""},{"$f":"IF($E12=\"\",\"\",IF(INDEX(E_SourceStreams!$A:$N,ET12,BO$7)=\"\",\"\",INDEX(E_SourceStreams!$A:$N,ET12,BO$7)))","v":""},{"$f":"IF($E12=\"\",\"\",IF(INDEX(E_SourceStreams!$A:$N,EU12,BP$7)=\"\",\"\",INDEX(E_SourceStreams!$A:$N,EU12,BP$7)))","v":""},{"$f":"IF($E12=\"\",\"\",IF(INDEX(E_SourceStreams!$A:$N,EV12,BQ$7)=\"\",\"\",INDEX(E_SourceStreams!$A:$N,EV12,BQ$7)))","v":""},{"$f":"IF($E12=\"\",\"\",IF(INDEX(E_SourceStreams!$A:$N,EW12,BR$7)=\"\",\"\",INDEX(E_SourceStreams!$A:$N,EW12,BR$7)))","v":""},{"$f":"IF($E12=\"\",\"\",IF(INDEX(E_SourceStreams!$A:$N,EX12,BS$7)=\"\",\"\",INDEX(E_SourceStreams!$A:$N,EX12,BS$7)))","v":""},{"$f":"IF($E12=\"\",\"\",IF(INDEX(E_SourceStreams!$A:$N,EY12,BT$7)=\"\",\"\",INDEX(E_SourceStreams!$A:$N,EY12,BT$7)))","v":""},null,null,null,null,null,null,null,null,null,null,null,null,null,null,null,"SourceCategory_",{"$f":"INDEX(C_InstallationDescription!$A$226:$A$332,ROWS($CI$11:CI12))=\"ausblenden\"","v":false},"SourceStreamName_",null,201,203,205,207,209,211,213,213,213,213,213,216,220,221,222,229,239,239,239,239,239,239,239,230,240,240,240,240,240,240,240,231,241,241,241,241,241,241,241,232,242,242,242,242,242,242,242,233,243,243,243,243,243,243,243,234,244,244,244,244,244,244,244,250]
[null,{"$f":"IF(COUNTIF($CK$10:CK13,TRUE)>0,\"\",INDEX(C_InstallationDescription!$E$226:$E$242,ROWS($A$11:A13)))","v":""},{"$f":"IF($E13=\"\",\"\",INDEX(C_InstallationDescription!F:F,MATCH($B13,C_InstallationDescription!$E:$E,0)))","v":""},{"$f":"IF($E13=\"\",\"\",INDEX(C_InstallationDescription!I:I,MATCH($B13,C_InstallationDescription!$E:$E,0)))","v":""},{"$f":"IF($B13=\"\",\"\",INDEX(C_InstallationDescription!F:F,MATCH($CJ13,C_InstallationDescription!$Q:$Q,0)))","v":""},{"$f":"IF($E13=\"\",\"\",INDEX(C_InstallationDescription!L:L,MATCH($CJ13,C_InstallationDescription!$Q:$Q,0)))","v":""},{"$f":"IF($E13=\"\",\"\",INDEX(C_InstallationDescription!M:M,MATCH($CJ13,C_InstallationDescription!$Q:$Q,0)))","v":""},{"$f":"IF($E13=\"\",\"\",INDEX(C_InstallationDescription!N:N,MATCH($CJ13,C_InstallationDescription!$Q:$Q,0)))","v":""},{"$f":"IF($E13=\"\",\"\",IF(INDEX(E_SourceStreams!$A:$N,CN13,I$7)=\"\",\"\",INDEX(E_SourceStreams!$A:$N,CN13,I$7)))","v":""},{"$f":"IF($E13=\"\",\"\",IF(INDEX(E_SourceStreams!$A:$N,CO13,J$7)=\"\",\"\",INDEX(E_SourceStreams!$A:$N,CO13,J$7)))","v":""},{"$f":"IF($E13=\"\",\"\",IF(INDEX(E_SourceStreams!$A:$N,CP13,K$7)=\"\",\"\",INDEX(E_SourceStreams!$A:$N,CP13,K$7)))","v":""},{"$f":"IF($E13=\"\",\"\",IF(INDEX(E_SourceStreams!$A:$N,CQ13,L$7)=\"\",\"\",INDEX(E_SourceStreams!$A:$N,CQ13,L$7)))","v":""},{"$f":"IF($E13=\"\",\"\",IF(INDEX(E_SourceStreams!$A:$N,CR13,M$7)=\"\",\"\",INDEX(E_SourceStreams!$A:$N,CR13,M$7)))","v":""},{"$f":"IF($E13=\"\",\"\",IF(INDEX(E_SourceStreams!$A:$N,CS13,N$7)=\"\",\"\",INDEX(E_SourceStreams!$A:$N,CS13,N$7)))","v":""},{"$f":"IF($E13=\"\",\"\",IF(INDEX(E_SourceStreams!$A:$N,CT13,O$7)=\"\",\"\",INDEX(E_SourceStreams!$A:$N,CT13,O$7)))","v":""},{"$f":"IF($E13=\"\",\"\",IF(INDEX(E_SourceStreams!$A:$N,CU13,P$7)=\"\",\"\",INDEX(E_SourceStreams!$A:$N,CU13,P$7)))","v":""},{"$f":"IF($E13=\"\",\"\",IF(INDEX(E_SourceStreams!$A:$N,CV13,Q$7)=\"\",\"\",INDEX(E_SourceStreams!$A:$N,CV13,Q$7)))","v":""},{"$f":"IF($E13=\"\",\"\",IF(INDEX(E_SourceStreams!$A:$N,CW13,R$7)=\"\",\"\",INDEX(E_SourceStreams!$A:$N,CW13,R$7)))","v":""},{"$f":"IF($E13=\"\",\"\",IF(INDEX(E_SourceStreams!$A:$N,CX13,S$7)=\"\",\"\",INDEX(E_SourceStreams!$A:$N,CX13,S$7)))","v":""},{"$f":"IF($E13=\"\",\"\",IF(INDEX(E_SourceStreams!$A:$N,CY13,T$7)=\"\",\"\",INDEX(E_SourceStreams!$A:$N,CY13,T$7)))","v":""},{"$f":"IF($E13=\"\",\"\",IF(INDEX(E_SourceStreams!$A:$N,CZ13,U$7)=\"\",\"\",INDEX(E_SourceStreams!$A:$N,CZ13,U$7)))","v":""},{"$f":"IF($E13=\"\",\"\",IF(INDEX(E_SourceStreams!$A:$N,DA13,V$7)=\"\",\"\",INDEX(E_SourceStreams!$A:$N,DA13,V$7)))","v":""},{"$f":"IF($E13=\"\",\"\",IF(INDEX(E_SourceStreams!$A:$N,DB13,W$7)=\"\",\"\",INDEX(E_SourceStreams!$A:$N,DB13,W$7)))","v":""},{"$f":"IF($E13=\"\",\"\",IF(INDEX(E_SourceStreams!$A:$N,DC13,X$7)=\"\",\"\",INDEX(E_SourceStreams!$A:$N,DC13,X$7)))","v":""},{"$f":"IF($E13=\"\",\"\",IF(INDEX(E_SourceStreams!$A:$N,DD13,Y$7)=\"\",\"\",INDEX(E_SourceStreams!$A:$N,DD13,Y$7)))","v":""},{"$f":"IF($E13=\"\",\"\",IF(INDEX(E_SourceStreams!$A:$N,DE13,Z$7)=\"\",\"\",INDEX(E_SourceStreams!$A:$N,DE13,Z$7)))","v":""},{"$f":"IF($E13=\"\",\"\",IF(INDEX(E_SourceStreams!$A:$N,DF13,AA$7)=\"\",\"\",INDEX(E_SourceStreams!$A:$N,DF13,AA$7)))","v":""},{"$f":"IF($E13=\"\",\"\",IF(INDEX(E_SourceStreams!$A:$N,DG13,AB$7)=\"\",\"\",INDEX(E_SourceStreams!$A:$N,DG13,AB$7)))","v":""},{"$f":"IF($E13=\"\",\"\",IF(INDEX(E_SourceStreams!$A:$N,DH13,AC$7)=\"\",\"\",INDEX(E_SourceStreams!$A:$N,DH13,AC$7)))","v":""},{"$f":"IF($E13=\"\",\"\",IF(INDEX(E_SourceStreams!$A:$N,DI13,AD$7)=\"\",\"\",INDEX(E_SourceStreams!$A:$N,DI13,AD$7)))","v":""},{"$f":"IF($E13=\"\",\"\",IF(INDEX(E_SourceStreams!$A:$N,DJ13,AE$7)=\"\",\"\",INDEX(E_SourceStreams!$A:$N,DJ13,AE$7)))","v":""},{"$f":"IF($E13=\"\",\"\",IF(INDEX(E_SourceStreams!$A:$N,DK13,AF$7)=\"\",\"\",INDEX(E_SourceStreams!$A:$N,DK13,AF$7)))","v":""},{"$f":"IF($E13=\"\",\"\",IF(INDEX(E_SourceStreams!$A:$N,DL13,AG$7)=\"\",\"\",INDEX(E_SourceStreams!$A:$N,DL13,AG$7)))","v":""},{"$f":"IF($E13=\"\",\"\",IF(INDEX(E_SourceStreams!$A:$N,DM13,AH$7)=\"\",\"\",INDEX(E_SourceStreams!$A:$N,DM13,AH$7)))","v":""},{"$f":"IF($E13=\"\",\"\",IF(INDEX(E_SourceStreams!$A:$N,DN13,AI$7)=\"\",\"\",INDEX(E_SourceStreams!$A:$N,DN13,AI$7)))","v":""},{"$f":"IF($E13=\"\",\"\",IF(INDEX(E_SourceStreams!$A:$N,DO13,AJ$7)=\"\",\"\",INDEX(E_SourceStreams!$A:$N,DO13,AJ$7)))","v":""},{"$f":"IF($E13=\"\",\"\",IF(INDEX(E_SourceStreams!$A:$N,DP13,AK$7)=\"\",\"\",INDEX(E_SourceStreams!$A:$N,DP13,AK$7)))","v":""},{"$f":"IF($E13=\"\",\"\",IF(INDEX(E_SourceStreams!$A:$N,DQ13,AL$7)=\"\",\"\",INDEX(E_SourceStreams!$A:$N,DQ13,AL$7)))","v":""},{"$f":"IF($E13=\"\",\"\",IF(INDEX(E_SourceStreams!$A:$N,DR13,AM$7)=\"\",\"\",INDEX(E_SourceStreams!$A:$N,DR13,AM$7)))","v":""},{"$f":"IF($E13=\"\",\"\",IF(INDEX(E_SourceStreams!$A:$N,DS13,AN$7)=\"\",\"\",INDEX(E_SourceStreams!$A:$N,DS13,AN$7)))","v":""},{"$f":"IF($E13=\"\",\"\",IF(INDEX(E_SourceStreams!$A:$N,DT13,AO$7)=\"\",\"\",INDEX(E_SourceStreams!$A:$N,DT13,AO$7)))","v":""},{"$f":"IF($E13=\"\",\"\",IF(INDEX(E_SourceStreams!$A:$N,DU13,AP$7)=\"\",\"\",INDEX(E_SourceStreams!$A:$N,DU13,AP$7)))","v":""},{"$f":"IF($E13=\"\",\"\",IF(INDEX(E_SourceStreams!$A:$N,DV13,AQ$7)=\"\",\"\",INDEX(E_SourceStreams!$A:$N,DV13,AQ$7)))","v":""},{"$f":"IF($E13=\"\",\"\",IF(INDEX(E_SourceStreams!$A:$N,DW13,AR$7)=\"\",\"\",INDEX(E_SourceStreams!$A:$N,DW13,AR$7)))","v":""},{"$f":"IF($E13=\"\",\"\",IF(INDEX(E_SourceStreams!$A:$N,DX13,AS$7)=\"\",\"\",INDEX(E_SourceStreams!$A:$N,DX13,AS$7)))","v":""},{"$f":"IF($E13=\"\",\"\",IF(INDEX(E_SourceStreams!$A:$N,DY13,AT$7)=\"\",\"\",INDEX(E_SourceStreams!$A:$N,DY13,AT$7)))","v":""},{"$f":"IF($E13=\"\",\"\",IF(INDEX(E_SourceStreams!$A:$N,DZ13,AU$7)=\"\",\"\",INDEX(E_SourceStreams!$A:$N,DZ13,AU$7)))","v":""},{"$f":"IF($E13=\"\",\"\",IF(INDEX(E_SourceStreams!$A:$N,EA13,AV$7)=\"\",\"\",INDEX(E_SourceStreams!$A:$N,EA13,AV$7)))","v":""},{"$f":"IF($E13=\"\",\"\",IF(INDEX(E_SourceStreams!$A:$N,EB13,AW$7)=\"\",\"\",INDEX(E_SourceStreams!$A:$N,EB13,AW$7)))","v":""},{"$f":"IF($E13=\"\",\"\",IF(INDEX(E_SourceStreams!$A:$N,EC13,AX$7)=\"\",\"\",INDEX(E_SourceStreams!$A:$N,EC13,AX$7)))","v":""},{"$f":"IF($E13=\"\",\"\",IF(INDEX(E_SourceStreams!$A:$N,ED13,AY$7)=\"\",\"\",INDEX(E_SourceStreams!$A:$N,ED13,AY$7)))","v":""},{"$f":"IF($E13=\"\",\"\",IF(INDEX(E_SourceStreams!$A:$N,EE13,AZ$7)=\"\",\"\",INDEX(E_SourceStreams!$A:$N,EE13,AZ$7)))","v":""},{"$f":"IF($E13=\"\",\"\",IF(INDEX(E_SourceStreams!$A:$N,EF13,BA$7)=\"\",\"\",INDEX(E_SourceStreams!$A:$N,EF13,BA$7)))","v":""},{"$f":"IF($E13=\"\",\"\",IF(INDEX(E_SourceStreams!$A:$N,EG13,BB$7)=\"\",\"\",INDEX(E_SourceStreams!$A:$N,EG13,BB$7)))","v":""},{"$f":"IF($E13=\"\",\"\",IF(INDEX(E_SourceStreams!$A:$N,EH13,BC$7)=\"\",\"\",INDEX(E_SourceStreams!$A:$N,EH13,BC$7)))","v":""},{"$f":"IF($E13=\"\",\"\",IF(INDEX(E_SourceStreams!$A:$N,EI13,BD$7)=\"\",\"\",INDEX(E_SourceStreams!$A:$N,EI13,BD$7)))","v":""},{"$f":"IF($E13=\"\",\"\",IF(INDEX(E_SourceStreams!$A:$N,EJ13,BE$7)=\"\",\"\",INDEX(E_SourceStreams!$A:$N,EJ13,BE$7)))","v":""},{"$f":"IF($E13=\"\",\"\",IF(INDEX(E_SourceStreams!$A:$N,EK13,BF$7)=\"\",\"\",INDEX(E_SourceStreams!$A:$N,EK13,BF$7)))","v":""},{"$f":"IF($E13=\"\",\"\",IF(INDEX(E_SourceStreams!$A:$N,EL13,BG$7)=\"\",\"\",INDEX(E_SourceStreams!$A:$N,EL13,BG$7)))","v":""},{"$f":"IF($E13=\"\",\"\",IF(INDEX(E_SourceStreams!$A:$N,EM13,BH$7)=\"\",\"\",INDEX(E_SourceStreams!$A:$N,EM13,BH$7)))","v":""},{"$f":"IF($E13=\"\",\"\",IF(INDEX(E_SourceStreams!$A:$N,EN13,BI$7)=\"\",\"\",INDEX(E_SourceStreams!$A:$N,EN13,BI$7)))","v":""},{"$f":"IF($E13=\"\",\"\",IF(INDEX(E_SourceStreams!$A:$N,EO13,BJ$7)=\"\",\"\",INDEX(E_SourceStreams!$A:$N,EO13,BJ$7)))","v":""},{"$f":"IF($E13=\"\",\"\",IF(INDEX(E_SourceStreams!$A:$N,EP13,BK$7)=\"\",\"\",INDEX(E_SourceStreams!$A:$N,EP13,BK$7)))","v":""},{"$f":"IF($E13=\"\",\"\",IF(INDEX(E_SourceStreams!$A:$N,EQ13,BL$7)=\"\",\"\",INDEX(E_SourceStreams!$A:$N,EQ13,BL$7)))","v":""},{"$f":"IF($E13=\"\",\"\",IF(INDEX(E_SourceStreams!$A:$N,ER13,BM$7)=\"\",\"\",INDEX(E_SourceStreams!$A:$N,ER13,BM$7)))","v":""},{"$f":"IF($E13=\"\",\"\",IF(INDEX(E_SourceStreams!$A:$N,ES13,BN$7)=\"\",\"\",INDEX(E_SourceStreams!$A:$N,ES13,BN$7)))","v":""},{"$f":"IF($E13=\"\",\"\",IF(INDEX(E_SourceStreams!$A:$N,ET13,BO$7)=\"\",\"\",INDEX(E_SourceStreams!$A:$N,ET13,BO$7)))","v":""},{"$f":"IF($E13=\"\",\"\",IF(INDEX(E_SourceStreams!$A:$N,EU13,BP$7)=\"\",\"\",INDEX(E_SourceStreams!$A:$N,EU13,BP$7)))","v":""},{"$f":"IF($E13=\"\",\"\",IF(INDEX(E_SourceStreams!$A:$N,EV13,BQ$7)=\"\",\"\",INDEX(E_SourceStreams!$A:$N,EV13,BQ$7)))","v":""},{"$f":"IF($E13=\"\",\"\",IF(INDEX(E_SourceStreams!$A:$N,EW13,BR$7)=\"\",\"\",INDEX(E_SourceStreams!$A:$N,EW13,BR$7)))","v":""},{"$f":"IF($E13=\"\",\"\",IF(INDEX(E_SourceStreams!$A:$N,EX13,BS$7)=\"\",\"\",INDEX(E_SourceStreams!$A:$N,EX13,BS$7)))","v":""},{"$f":"IF($E13=\"\",\"\",IF(INDEX(E_SourceStreams!$A:$N,EY13,BT$7)=\"\",\"\",INDEX(E_SourceStreams!$A:$N,EY13,BT$7)))","v":""},null,null,null,null,null,null,null,null,null,null,null,null,null,null,null,"SourceCategory_",{"$f":"INDEX(C_InstallationDescription!$A$226:$A$332,ROWS($CI$11:CI13))=\"ausblenden\"","v":false},"SourceStreamName_",null,{"$f":"CN12+66","v":267},{"$f":"CO12+66","v":269},{"$f":"CP12+66","v":271},{"$f":"CQ12+66","v":273},{"$f":"CR12+66","v":275},{"$f":"CS12+66","v":277},{"$f":"CT12+66","v":279},{"$f":"CU12+66","v":279},{"$f":"CV12+66","v":279},{"$f":"CW12+66","v":279},{"$f":"CX12+66","v":279},{"$f":"CY12+66","v":282},{"$f":"CZ12+66","v":286},{"$f":"DA12+66","v":287},{"$f":"DB12+66","v":288},{"$f":"DC12+66","v":295},{"$f":"DD12+66","v":305},{"$f":"DE12+66","v":305},{"$f":"DF12+66","v":305},{"$f":"DG12+66","v":305},{"$f":"DH12+66","v":305},{"$f":"DI12+66","v":305},{"$f":"DJ12+66","v":305},{"$f":"DK12+66","v":296},{"$f":"DL12+66","v":306},{"$f":"DM12+66","v":306},{"$f":"DN12+66","v":306},{"$f":"DO12+66","v":306},{"$f":"DP12+66","v":306},{"$f":"DQ12+66","v":306},{"$f":"DR12+66","v":306},{"$f":"DS12+66","v":297},{"$f":"DT12+66","v":307},{"$f":"DU12+66","v":307},{"$f":"DV12+66","v":307},{"$f":"DW12+66","v":307},{"$f":"DX12+66","v":307},{"$f":"DY12+66","v":307},{"$f":"DZ12+66","v":307},{"$f":"EA12+66","v":298},{"$f":"EB12+66","v":308},{"$f":"EC12+66","v":308},{"$f":"ED12+66","v":308},{"$f":"EE12+66","v":308},{"$f":"EF12+66","v":308},{"$f":"EG12+66","v":308},{"$f":"EH12+66","v":308},{"$f":"EI12+66","v":299},{"$f":"EJ12+66","v":309},{"$f":"EK12+66","v":309},{"$f":"EL12+66","v":309},{"$f":"EM12+66","v":309},{"$f":"EN12+66","v":309},{"$f":"EO12+66","v":309},{"$f":"EP12+66","v":309},{"$f":"EQ12+66","v":300},{"$f":"ER12+66","v":310},{"$f":"ES12+66","v":310},{"$f":"ET12+66","v":310},{"$f":"EU12+66","v":310},{"$f":"EV12+66","v":310},{"$f":"EW12+66","v":310},{"$f":"EX12+66","v":310},{"$f":"EY12+66","v":316}]
[null,{"$f":"IF(COUNTIF($CK$10:CK14,TRUE)>0,\"\",INDEX(C_InstallationDescription!$E$226:$E$242,ROWS($A$11:A14)))","v":""},{"$f":"IF($E14=\"\",\"\",INDEX(C_InstallationDescription!F:F,MATCH($B14,C_InstallationDescription!$E:$E,0)))","v":""},{"$f":"IF($E14=\"\",\"\",INDEX(C_InstallationDescription!I:I,MATCH($B14,C_InstallationDescription!$E:$E,0)))","v":""},{"$f":"IF($B14=\"\",\"\",INDEX(C_InstallationDescription!F:F,MATCH($CJ14,C_InstallationDescription!$Q:$Q,0)))","v":""},{"$f":"IF($E14=\"\",\"\",INDEX(C_InstallationDescription!L:L,MATCH($CJ14,C_InstallationDescription!$Q:$Q,0)))","v":""},{"$f":"IF($E14=\"\",\"\",INDEX(C_InstallationDescription!M:M,MATCH($CJ14,C_InstallationDescription!$Q:$Q,0)))","v":""},{"$f":"IF($E14=\"\",\"\",INDEX(C_InstallationDescription!N:N,MATCH($CJ14,C_InstallationDescription!$Q:$Q,0)))","v":""},{"$f":"IF($E14=\"\",\"\",IF(INDEX(E_SourceStreams!$A:$N,CN14,I$7)=\"\",\"\",INDEX(E_SourceStreams!$A:$N,CN14,I$7)))","v":""},{"$f":"IF($E14=\"\",\"\",IF(INDEX(E_SourceStreams!$A:$N,CO14,J$7)=\"\",\"\",INDEX(E_SourceStreams!$A:$N,CO14,J$7)))","v":""},{"$f":"IF($E14=\"\",\"\",IF(INDEX(E_SourceStreams!$A:$N,CP14,K$7)=\"\",\"\",INDEX(E_SourceStreams!$A:$N,CP14,K$7)))","v":""},{"$f":"IF($E14=\"\",\"\",IF(INDEX(E_SourceStreams!$A:$N,CQ14,L$7)=\"\",\"\",INDEX(E_SourceStreams!$A:$N,CQ14,L$7)))","v":""},{"$f":"IF($E14=\"\",\"\",IF(INDEX(E_SourceStreams!$A:$N,CR14,M$7)=\"\",\"\",INDEX(E_SourceStreams!$A:$N,CR14,M$7)))","v":""},{"$f":"IF($E14=\"\",\"\",IF(INDEX(E_SourceStreams!$A:$N,CS14,N$7)=\"\",\"\",INDEX(E_SourceStreams!$A:$N,CS14,N$7)))","v":""},{"$f":"IF($E14=\"\",\"\",IF(INDEX(E_SourceStreams!$A:$N,CT14,O$7)=\"\",\"\",INDEX(E_SourceStreams!$A:$N,CT14,O$7)))","v":""},{"$f":"IF($E14=\"\",\"\",IF(INDEX(E_SourceStreams!$A:$N,CU14,P$7)=\"\",\"\",INDEX(E_SourceStreams!$A:$N,CU14,P$7)))","v":""},{"$f":"IF($E14=\"\",\"\",IF(INDEX(E_SourceStreams!$A:$N,CV14,Q$7)=\"\",\"\",INDEX(E_SourceStreams!$A:$N,CV14,Q$7)))","v":""},{"$f":"IF($E14=\"\",\"\",IF(INDEX(E_SourceStreams!$A:$N,CW14,R$7)=\"\",\"\",INDEX(E_SourceStreams!$A:$N,CW14,R$7)))","v":""},{"$f":"IF($E14=\"\",\"\",IF(INDEX(E_SourceStreams!$A:$N,CX14,S$7)=\"\",\"\",INDEX(E_SourceStreams!$A:$N,CX14,S$7)))","v":""},{"$f":"IF($E14=\"\",\"\",IF(INDEX(E_SourceStreams!$A:$N,CY14,T$7)=\"\",\"\",INDEX(E_SourceStreams!$A:$N,CY14,T$7)))","v":""},{"$f":"IF($E14=\"\",\"\",IF(INDEX(E_SourceStreams!$A:$N,CZ14,U$7)=\"\",\"\",INDEX(E_SourceStreams!$A:$N,CZ14,U$7)))","v":""},{"$f":"IF($E14=\"\",\"\",IF(INDEX(E_SourceStreams!$A:$N,DA14,V$7)=\"\",\"\",INDEX(E_SourceStreams!$A:$N,DA14,V$7)))","v":""},{"$f":"IF($E14=\"\",\"\",IF(INDEX(E_SourceStreams!$A:$N,DB14,W$7)=\"\",\"\",INDEX(E_SourceStreams!$A:$N,DB14,W$7)))","v":""},{"$f":"IF($E14=\"\",\"\",IF(INDEX(E_SourceStreams!$A:$N,DC14,X$7)=\"\",\"\",INDEX(E_SourceStreams!$A:$N,DC14,X$7)))","v":""},{"$f":"IF($E14=\"\",\"\",IF(INDEX(E_SourceStreams!$A:$N,DD14,Y$7)=\"\",\"\",INDEX(E_SourceStreams!$A:$N,DD14,Y$7)))","v":""},{"$f":"IF($E14=\"\",\"\",IF(INDEX(E_SourceStreams!$A:$N,DE14,Z$7)=\"\",\"\",INDEX(E_SourceStreams!$A:$N,DE14,Z$7)))","v":""},{"$f":"IF($E14=\"\",\"\",IF(INDEX(E_SourceStreams!$A:$N,DF14,AA$7)=\"\",\"\",INDEX(E_SourceStreams!$A:$N,DF14,AA$7)))","v":""},{"$f":"IF($E14=\"\",\"\",IF(INDEX(E_SourceStreams!$A:$N,DG14,AB$7)=\"\",\"\",INDEX(E_SourceStreams!$A:$N,DG14,AB$7)))","v":""},{"$f":"IF($E14=\"\",\"\",IF(INDEX(E_SourceStreams!$A:$N,DH14,AC$7)=\"\",\"\",INDEX(E_SourceStreams!$A:$N,DH14,AC$7)))","v":""},{"$f":"IF($E14=\"\",\"\",IF(INDEX(E_SourceStreams!$A:$N,DI14,AD$7)=\"\",\"\",INDEX(E_SourceStreams!$A:$N,DI14,AD$7)))","v":""},{"$f":"IF($E14=\"\",\"\",IF(INDEX(E_SourceStreams!$A:$N,DJ14,AE$7)=\"\",\"\",INDEX(E_SourceStreams!$A:$N,DJ14,AE$7)))","v":""},{"$f":"IF($E14=\"\",\"\",IF(INDEX(E_SourceStreams!$A:$N,DK14,AF$7)=\"\",\"\",INDEX(E_SourceStreams!$A:$N,DK14,AF$7)))","v":""},{"$f":"IF($E14=\"\",\"\",IF(INDEX(E_SourceStreams!$A:$N,DL14,AG$7)=\"\",\"\",INDEX(E_SourceStreams!$A:$N,DL14,AG$7)))","v":""},{"$f":"IF($E14=\"\",\"\",IF(INDEX(E_SourceStreams!$A:$N,DM14,AH$7)=\"\",\"\",INDEX(E_SourceStreams!$A:$N,DM14,AH$7)))","v":""},{"$f":"IF($E14=\"\",\"\",IF(INDEX(E_SourceStreams!$A:$N,DN14,AI$7)=\"\",\"\",INDEX(E_SourceStreams!$A:$N,DN14,AI$7)))","v":""},{"$f":"IF($E14=\"\",\"\",IF(INDEX(E_SourceStreams!$A:$N,DO14,AJ$7)=\"\",\"\",INDEX(E_SourceStreams!$A:$N,DO14,AJ$7)))","v":""},{"$f":"IF($E14=\"\",\"\",IF(INDEX(E_SourceStreams!$A:$N,DP14,AK$7)=\"\",\"\",INDEX(E_SourceStreams!$A:$N,DP14,AK$7)))","v":""},{"$f":"IF($E14=\"\",\"\",IF(INDEX(E_SourceStreams!$A:$N,DQ14,AL$7)=\"\",\"\",INDEX(E_SourceStreams!$A:$N,DQ14,AL$7)))","v":""},{"$f":"IF($E14=\"\",\"\",IF(INDEX(E_SourceStreams!$A:$N,DR14,AM$7)=\"\",\"\",INDEX(E_SourceStreams!$A:$N,DR14,AM$7)))","v":""},{"$f":"IF($E14=\"\",\"\",IF(INDEX(E_SourceStreams!$A:$N,DS14,AN$7)=\"\",\"\",INDEX(E_SourceStreams!$A:$N,DS14,AN$7)))","v":""},{"$f":"IF($E14=\"\",\"\",IF(INDEX(E_SourceStreams!$A:$N,DT14,AO$7)=\"\",\"\",INDEX(E_SourceStreams!$A:$N,DT14,AO$7)))","v":""},{"$f":"IF($E14=\"\",\"\",IF(INDEX(E_SourceStreams!$A:$N,DU14,AP$7)=\"\",\"\",INDEX(E_SourceStreams!$A:$N,DU14,AP$7)))","v":""},{"$f":"IF($E14=\"\",\"\",IF(INDEX(E_SourceStreams!$A:$N,DV14,AQ$7)=\"\",\"\",INDEX(E_SourceStreams!$A:$N,DV14,AQ$7)))","v":""},{"$f":"IF($E14=\"\",\"\",IF(INDEX(E_SourceStreams!$A:$N,DW14,AR$7)=\"\",\"\",INDEX(E_SourceStreams!$A:$N,DW14,AR$7)))","v":""},{"$f":"IF($E14=\"\",\"\",IF(INDEX(E_SourceStreams!$A:$N,DX14,AS$7)=\"\",\"\",INDEX(E_SourceStreams!$A:$N,DX14,AS$7)))","v":""},{"$f":"IF($E14=\"\",\"\",IF(INDEX(E_SourceStreams!$A:$N,DY14,AT$7)=\"\",\"\",INDEX(E_SourceStreams!$A:$N,DY14,AT$7)))","v":""},{"$f":"IF($E14=\"\",\"\",IF(INDEX(E_SourceStreams!$A:$N,DZ14,AU$7)=\"\",\"\",INDEX(E_SourceStreams!$A:$N,DZ14,AU$7)))","v":""},{"$f":"IF($E14=\"\",\"\",IF(INDEX(E_SourceStreams!$A:$N,EA14,AV$7)=\"\",\"\",INDEX(E_SourceStreams!$A:$N,EA14,AV$7)))","v":""},{"$f":"IF($E14=\"\",\"\",IF(INDEX(E_SourceStreams!$A:$N,EB14,AW$7)=\"\",\"\",INDEX(E_SourceStreams!$A:$N,EB14,AW$7)))","v":""},{"$f":"IF($E14=\"\",\"\",IF(INDEX(E_SourceStreams!$A:$N,EC14,AX$7)=\"\",\"\",INDEX(E_SourceStreams!$A:$N,EC14,AX$7)))","v":""},{"$f":"IF($E14=\"\",\"\",IF(INDEX(E_SourceStreams!$A:$N,ED14,AY$7)=\"\",\"\",INDEX(E_SourceStreams!$A:$N,ED14,AY$7)))","v":""},{"$f":"IF($E14=\"\",\"\",IF(INDEX(E_SourceStreams!$A:$N,EE14,AZ$7)=\"\",\"\",INDEX(E_SourceStreams!$A:$N,EE14,AZ$7)))","v":""},{"$f":"IF($E14=\"\",\"\",IF(INDEX(E_SourceStreams!$A:$N,EF14,BA$7)=\"\",\"\",INDEX(E_SourceStreams!$A:$N,EF14,BA$7)))","v":""},{"$f":"IF($E14=\"\",\"\",IF(INDEX(E_SourceStreams!$A:$N,EG14,BB$7)=\"\",\"\",INDEX(E_SourceStreams!$A:$N,EG14,BB$7)))","v":""},{"$f":"IF($E14=\"\",\"\",IF(INDEX(E_SourceStreams!$A:$N,EH14,BC$7)=\"\",\"\",INDEX(E_SourceStreams!$A:$N,EH14,BC$7)))","v":""},{"$f":"IF($E14=\"\",\"\",IF(INDEX(E_SourceStreams!$A:$N,EI14,BD$7)=\"\",\"\",INDEX(E_SourceStreams!$A:$N,EI14,BD$7)))","v":""},{"$f":"IF($E14=\"\",\"\",IF(INDEX(E_SourceStreams!$A:$N,EJ14,BE$7)=\"\",\"\",INDEX(E_SourceStreams!$A:$N,EJ14,BE$7)))","v":""},{"$f":"IF($E14=\"\",\"\",IF(INDEX(E_SourceStreams!$A:$N,EK14,BF$7)=\"\",\"\",INDEX(E_SourceStreams!$A:$N,EK14,BF$7)))","v":""},{"$f":"IF($E14=\"\",\"\",IF(INDEX(E_SourceStreams!$A:$N,EL14,BG$7)=\"\",\"\",INDEX(E_SourceStreams!$A:$N,EL14,BG$7)))","v":""},{"$f":"IF($E14=\"\",\"\",IF(INDEX(E_SourceStreams!$A:$N,EM14,BH$7)=\"\",\"\",INDEX(E_SourceStreams!$A:$N,EM14,BH$7)))","v":""},{"$f":"IF($E14=\"\",\"\",IF(INDEX(E_SourceStreams!$A:$N,EN14,BI$7)=\"\",\"\",INDEX(E_SourceStreams!$A:$N,EN14,BI$7)))","v":""},{"$f":"IF($E14=\"\",\"\",IF(INDEX(E_SourceStreams!$A:$N,EO14,BJ$7)=\"\",\"\",INDEX(E_SourceStreams!$A:$N,EO14,BJ$7)))","v":""},{"$f":"IF($E14=\"\",\"\",IF(INDEX(E_SourceStreams!$A:$N,EP14,BK$7)=\"\",\"\",INDEX(E_SourceStreams!$A:$N,EP14,BK$7)))","v":""},{"$f":"IF($E14=\"\",\"\",IF(INDEX(E_SourceStreams!$A:$N,EQ14,BL$7)=\"\",\"\",INDEX(E_SourceStreams!$A:$N,EQ14,BL$7)))","v":""},{"$f":"IF($E14=\"\",\"\",IF(INDEX(E_SourceStreams!$A:$N,ER14,BM$7)=\"\",\"\",INDEX(E_SourceStreams!$A:$N,ER14,BM$7)))","v":""},{"$f":"IF($E14=\"\",\"\",IF(INDEX(E_SourceStreams!$A:$N,ES14,BN$7)=\"\",\"\",INDEX(E_SourceStreams!$A:$N,ES14,BN$7)))","v":""},{"$f":"IF($E14=\"\",\"\",IF(INDEX(E_SourceStreams!$A:$N,ET14,BO$7)=\"\",\"\",INDEX(E_SourceStreams!$A:$N,ET14,BO$7)))","v":""},{"$f":"IF($E14=\"\",\"\",IF(INDEX(E_SourceStreams!$A:$N,EU14,BP$7)=\"\",\"\",INDEX(E_SourceStreams!$A:$N,EU14,BP$7)))","v":""},{"$f":"IF($E14=\"\",\"\",IF(INDEX(E_SourceStreams!$A:$N,EV14,BQ$7)=\"\",\"\",INDEX(E_SourceStreams!$A:$N,EV14,BQ$7)))","v":""},{"$f":"IF($E14=\"\",\"\",IF(INDEX(E_SourceStreams!$A:$N,EW14,BR$7)=\"\",\"\",INDEX(E_SourceStreams!$A:$N,EW14,BR$7)))","v":""},{"$f":"IF($E14=\"\",\"\",IF(INDEX(E_SourceStreams!$A:$N,EX14,BS$7)=\"\",\"\",INDEX(E_SourceStreams!$A:$N,EX14,BS$7)))","v":""},{"$f":"IF($E14=\"\",\"\",IF(INDEX(E_SourceStreams!$A:$N,EY14,BT$7)=\"\",\"\",INDEX(E_SourceStreams!$A:$N,EY14,BT$7)))","v":""},null,null,null,null,null,null,null,null,null,null,null,null,null,null,null,"SourceCategory_",{"$f":"INDEX(C_InstallationDescription!$A$226:$A$332,ROWS($CI$11:CI14))=\"ausblenden\"","v":false},"SourceStreamName_",null,{"$f":"CN13+66","v":333},335,337,339,341,343,345,345,345,345,345,348,352,353,354,361,371,371,371,371,371,371,371,362,372,372,372,372,372,372,372,363,373,373,373,373,373,373,373,364,374,374,374,374,374,374,374,365,375,375,375,375,375,375,375,366,376,376,376,376,376,376,376,382]
[null,{"$f":"IF(COUNTIF($CK$10:CK15,TRUE)>0,\"\",INDEX(C_InstallationDescription!$E$226:$E$242,ROWS($A$11:A15)))","v":""},{"$f":"IF($E15=\"\",\"\",INDEX(C_InstallationDescription!F:F,MATCH($B15,C_InstallationDescription!$E:$E,0)))","v":""},{"$f":"IF($E15=\"\",\"\",INDEX(C_InstallationDescription!I:I,MATCH($B15,C_InstallationDescription!$E:$E,0)))","v":""},{"$f":"IF($B15=\"\",\"\",INDEX(C_InstallationDescription!F:F,MATCH($CJ15,C_InstallationDescription!$Q:$Q,0)))","v":""},{"$f":"IF($E15=\"\",\"\",INDEX(C_InstallationDescription!L:L,MATCH($CJ15,C_InstallationDescription!$Q:$Q,0)))","v":""},{"$f":"IF($E15=\"\",\"\",INDEX(C_InstallationDescription!M:M,MATCH($CJ15,C_InstallationDescription!$Q:$Q,0)))","v":""},{"$f":"IF($E15=\"\",\"\",INDEX(C_InstallationDescription!N:N,MATCH($CJ15,C_InstallationDescription!$Q:$Q,0)))","v":""},{"$f":"IF($E15=\"\",\"\",IF(INDEX(E_SourceStreams!$A:$N,CN15,I$7)=\"\",\"\",INDEX(E_SourceStreams!$A:$N,CN15,I$7)))","v":""},{"$f":"IF($E15=\"\",\"\",IF(INDEX(E_SourceStreams!$A:$N,CO15,J$7)=\"\",\"\",INDEX(E_SourceStreams!$A:$N,CO15,J$7)))","v":""},{"$f":"IF($E15=\"\",\"\",IF(INDEX(E_SourceStreams!$A:$N,CP15,K$7)=\"\",\"\",INDEX(E_SourceStreams!$A:$N,CP15,K$7)))","v":""},{"$f":"IF($E15=\"\",\"\",IF(INDEX(E_SourceStreams!$A:$N,CQ15,L$7)=\"\",\"\",INDEX(E_SourceStreams!$A:$N,CQ15,L$7)))","v":""},{"$f":"IF($E15=\"\",\"\",IF(INDEX(E_SourceStreams!$A:$N,CR15,M$7)=\"\",\"\",INDEX(E_SourceStreams!$A:$N,CR15,M$7)))","v":""},{"$f":"IF($E15=\"\",\"\",IF(INDEX(E_SourceStreams!$A:$N,CS15,N$7)=\"\",\"\",INDEX(E_SourceStreams!$A:$N,CS15,N$7)))","v":""},{"$f":"IF($E15=\"\",\"\",IF(INDEX(E_SourceStreams!$A:$N,CT15,O$7)=\"\",\"\",INDEX(E_SourceStreams!$A:$N,CT15,O$7)))","v":""},{"$f":"IF($E15=\"\",\"\",IF(INDEX(E_SourceStreams!$A:$N,CU15,P$7)=\"\",\"\",INDEX(E_SourceStreams!$A:$N,CU15,P$7)))","v":""},{"$f":"IF($E15=\"\",\"\",IF(INDEX(E_SourceStreams!$A:$N,CV15,Q$7)=\"\",\"\",INDEX(E_SourceStreams!$A:$N,CV15,Q$7)))","v":""},{"$f":"IF($E15=\"\",\"\",IF(INDEX(E_SourceStreams!$A:$N,CW15,R$7)=\"\",\"\",INDEX(E_SourceStreams!$A:$N,CW15,R$7)))","v":""},{"$f":"IF($E15=\"\",\"\",IF(INDEX(E_SourceStreams!$A:$N,CX15,S$7)=\"\",\"\",INDEX(E_SourceStreams!$A:$N,CX15,S$7)))","v":""},{"$f":"IF($E15=\"\",\"\",IF(INDEX(E_SourceStreams!$A:$N,CY15,T$7)=\"\",\"\",INDEX(E_SourceStreams!$A:$N,CY15,T$7)))","v":""},{"$f":"IF($E15=\"\",\"\",IF(INDEX(E_SourceStreams!$A:$N,CZ15,U$7)=\"\",\"\",INDEX(E_SourceStreams!$A:$N,CZ15,U$7)))","v":""},{"$f":"IF($E15=\"\",\"\",IF(INDEX(E_SourceStreams!$A:$N,DA15,V$7)=\"\",\"\",INDEX(E_SourceStreams!$A:$N,DA15,V$7)))","v":""},{"$f":"IF($E15=\"\",\"\",IF(INDEX(E_SourceStreams!$A:$N,DB15,W$7)=\"\",\"\",INDEX(E_SourceStreams!$A:$N,DB15,W$7)))","v":""},{"$f":"IF($E15=\"\",\"\",IF(INDEX(E_SourceStreams!$A:$N,DC15,X$7)=\"\",\"\",INDEX(E_SourceStreams!$A:$N,DC15,X$7)))","v":""},{"$f":"IF($E15=\"\",\"\",IF(INDEX(E_SourceStreams!$A:$N,DD15,Y$7)=\"\",\"\",INDEX(E_SourceStreams!$A:$N,DD15,Y$7)))","v":""},{"$f":"IF($E15=\"\",\"\",IF(INDEX(E_SourceStreams!$A:$N,DE15,Z$7)=\"\",\"\",INDEX(E_SourceStreams!$A:$N,DE15,Z$7)))","v":""},{"$f":"IF($E15=\"\",\"\",IF(INDEX(E_SourceStreams!$A:$N,DF15,AA$7)=\"\",\"\",INDEX(E_SourceStreams!$A:$N,DF15,AA$7)))","v":""},{"$f":"IF($E15=\"\",\"\",IF(INDEX(E_SourceStreams!$A:$N,DG15,AB$7)=\"\",\"\",INDEX(E_SourceStreams!$A:$N,DG15,AB$7)))","v":""},{"$f":"IF($E15=\"\",\"\",IF(INDEX(E_SourceStreams!$A:$N,DH15,AC$7)=\"\",\"\",INDEX(E_SourceStreams!$A:$N,DH15,AC$7)))","v":""},{"$f":"IF($E15=\"\",\"\",IF(INDEX(E_SourceStreams!$A:$N,DI15,AD$7)=\"\",\"\",INDEX(E_SourceStreams!$A:$N,DI15,AD$7)))","v":""},{"$f":"IF($E15=\"\",\"\",IF(INDEX(E_SourceStreams!$A:$N,DJ15,AE$7)=\"\",\"\",INDEX(E_SourceStreams!$A:$N,DJ15,AE$7)))","v":""},{"$f":"IF($E15=\"\",\"\",IF(INDEX(E_SourceStreams!$A:$N,DK15,AF$7)=\"\",\"\",INDEX(E_SourceStreams!$A:$N,DK15,AF$7)))","v":""},{"$f":"IF($E15=\"\",\"\",IF(INDEX(E_SourceStreams!$A:$N,DL15,AG$7)=\"\",\"\",INDEX(E_SourceStreams!$A:$N,DL15,AG$7)))","v":""},{"$f":"IF($E15=\"\",\"\",IF(INDEX(E_SourceStreams!$A:$N,DM15,AH$7)=\"\",\"\",INDEX(E_SourceStreams!$A:$N,DM15,AH$7)))","v":""},{"$f":"IF($E15=\"\",\"\",IF(INDEX(E_SourceStreams!$A:$N,DN15,AI$7)=\"\",\"\",INDEX(E_SourceStreams!$A:$N,DN15,AI$7)))","v":""},{"$f":"IF($E15=\"\",\"\",IF(INDEX(E_SourceStreams!$A:$N,DO15,AJ$7)=\"\",\"\",INDEX(E_SourceStreams!$A:$N,DO15,AJ$7)))","v":""},{"$f":"IF($E15=\"\",\"\",IF(INDEX(E_SourceStreams!$A:$N,DP15,AK$7)=\"\",\"\",INDEX(E_SourceStreams!$A:$N,DP15,AK$7)))","v":""},{"$f":"IF($E15=\"\",\"\",IF(INDEX(E_SourceStreams!$A:$N,DQ15,AL$7)=\"\",\"\",INDEX(E_SourceStreams!$A:$N,DQ15,AL$7)))","v":""},{"$f":"IF($E15=\"\",\"\",IF(INDEX(E_SourceStreams!$A:$N,DR15,AM$7)=\"\",\"\",INDEX(E_SourceStreams!$A:$N,DR15,AM$7)))","v":""},{"$f":"IF($E15=\"\",\"\",IF(INDEX(E_SourceStreams!$A:$N,DS15,AN$7)=\"\",\"\",INDEX(E_SourceStreams!$A:$N,DS15,AN$7)))","v":""},{"$f":"IF($E15=\"\",\"\",IF(INDEX(E_SourceStreams!$A:$N,DT15,AO$7)=\"\",\"\",INDEX(E_SourceStreams!$A:$N,DT15,AO$7)))","v":""},{"$f":"IF($E15=\"\",\"\",IF(INDEX(E_SourceStreams!$A:$N,DU15,AP$7)=\"\",\"\",INDEX(E_SourceStreams!$A:$N,DU15,AP$7)))","v":""},{"$f":"IF($E15=\"\",\"\",IF(INDEX(E_SourceStreams!$A:$N,DV15,AQ$7)=\"\",\"\",INDEX(E_SourceStreams!$A:$N,DV15,AQ$7)))","v":""},{"$f":"IF($E15=\"\",\"\",IF(INDEX(E_SourceStreams!$A:$N,DW15,AR$7)=\"\",\"\",INDEX(E_SourceStreams!$A:$N,DW15,AR$7)))","v":""},{"$f":"IF($E15=\"\",\"\",IF(INDEX(E_SourceStreams!$A:$N,DX15,AS$7)=\"\",\"\",INDEX(E_SourceStreams!$A:$N,DX15,AS$7)))","v":""},{"$f":"IF($E15=\"\",\"\",IF(INDEX(E_SourceStreams!$A:$N,DY15,AT$7)=\"\",\"\",INDEX(E_SourceStreams!$A:$N,DY15,AT$7)))","v":""},{"$f":"IF($E15=\"\",\"\",IF(INDEX(E_SourceStreams!$A:$N,DZ15,AU$7)=\"\",\"\",INDEX(E_SourceStreams!$A:$N,DZ15,AU$7)))","v":""},{"$f":"IF($E15=\"\",\"\",IF(INDEX(E_SourceStreams!$A:$N,EA15,AV$7)=\"\",\"\",INDEX(E_SourceStreams!$A:$N,EA15,AV$7)))","v":""},{"$f":"IF($E15=\"\",\"\",IF(INDEX(E_SourceStreams!$A:$N,EB15,AW$7)=\"\",\"\",INDEX(E_SourceStreams!$A:$N,EB15,AW$7)))","v":""},{"$f":"IF($E15=\"\",\"\",IF(INDEX(E_SourceStreams!$A:$N,EC15,AX$7)=\"\",\"\",INDEX(E_SourceStreams!$A:$N,EC15,AX$7)))","v":""},{"$f":"IF($E15=\"\",\"\",IF(INDEX(E_SourceStreams!$A:$N,ED15,AY$7)=\"\",\"\",INDEX(E_SourceStreams!$A:$N,ED15,AY$7)))","v":""},{"$f":"IF($E15=\"\",\"\",IF(INDEX(E_SourceStreams!$A:$N,EE15,AZ$7)=\"\",\"\",INDEX(E_SourceStreams!$A:$N,EE15,AZ$7)))","v":""},{"$f":"IF($E15=\"\",\"\",IF(INDEX(E_SourceStreams!$A:$N,EF15,BA$7)=\"\",\"\",INDEX(E_SourceStreams!$A:$N,EF15,BA$7)))","v":""},{"$f":"IF($E15=\"\",\"\",IF(INDEX(E_SourceStreams!$A:$N,EG15,BB$7)=\"\",\"\",INDEX(E_SourceStreams!$A:$N,EG15,BB$7)))","v":""},{"$f":"IF($E15=\"\",\"\",IF(INDEX(E_SourceStreams!$A:$N,EH15,BC$7)=\"\",\"\",INDEX(E_SourceStreams!$A:$N,EH15,BC$7)))","v":""},{"$f":"IF($E15=\"\",\"\",IF(INDEX(E_SourceStreams!$A:$N,EI15,BD$7)=\"\",\"\",INDEX(E_SourceStreams!$A:$N,EI15,BD$7)))","v":""},{"$f":"IF($E15=\"\",\"\",IF(INDEX(E_SourceStreams!$A:$N,EJ15,BE$7)=\"\",\"\",INDEX(E_SourceStreams!$A:$N,EJ15,BE$7)))","v":""},{"$f":"IF($E15=\"\",\"\",IF(INDEX(E_SourceStreams!$A:$N,EK15,BF$7)=\"\",\"\",INDEX(E_SourceStreams!$A:$N,EK15,BF$7)))","v":""},{"$f":"IF($E15=\"\",\"\",IF(INDEX(E_SourceStreams!$A:$N,EL15,BG$7)=\"\",\"\",INDEX(E_SourceStreams!$A:$N,EL15,BG$7)))","v":""},{"$f":"IF($E15=\"\",\"\",IF(INDEX(E_SourceStreams!$A:$N,EM15,BH$7)=\"\",\"\",INDEX(E_SourceStreams!$A:$N,EM15,BH$7)))","v":""},{"$f":"IF($E15=\"\",\"\",IF(INDEX(E_SourceStreams!$A:$N,EN15,BI$7)=\"\",\"\",INDEX(E_SourceStreams!$A:$N,EN15,BI$7)))","v":""},{"$f":"IF($E15=\"\",\"\",IF(INDEX(E_SourceStreams!$A:$N,EO15,BJ$7)=\"\",\"\",INDEX(E_SourceStreams!$A:$N,EO15,BJ$7)))","v":""},{"$f":"IF($E15=\"\",\"\",IF(INDEX(E_SourceStreams!$A:$N,EP15,BK$7)=\"\",\"\",INDEX(E_SourceStreams!$A:$N,EP15,BK$7)))","v":""},{"$f":"IF($E15=\"\",\"\",IF(INDEX(E_SourceStreams!$A:$N,EQ15,BL$7)=\"\",\"\",INDEX(E_SourceStreams!$A:$N,EQ15,BL$7)))","v":""},{"$f":"IF($E15=\"\",\"\",IF(INDEX(E_SourceStreams!$A:$N,ER15,BM$7)=\"\",\"\",INDEX(E_SourceStreams!$A:$N,ER15,BM$7)))","v":""},{"$f":"IF($E15=\"\",\"\",IF(INDEX(E_SourceStreams!$A:$N,ES15,BN$7)=\"\",\"\",INDEX(E_SourceStreams!$A:$N,ES15,BN$7)))","v":""},{"$f":"IF($E15=\"\",\"\",IF(INDEX(E_SourceStreams!$A:$N,ET15,BO$7)=\"\",\"\",INDEX(E_SourceStreams!$A:$N,ET15,BO$7)))","v":""},{"$f":"IF($E15=\"\",\"\",IF(INDEX(E_SourceStreams!$A:$N,EU15,BP$7)=\"\",\"\",INDEX(E_SourceStreams!$A:$N,EU15,BP$7)))","v":""},{"$f":"IF($E15=\"\",\"\",IF(INDEX(E_SourceStreams!$A:$N,EV15,BQ$7)=\"\",\"\",INDEX(E_SourceStreams!$A:$N,EV15,BQ$7)))","v":""},{"$f":"IF($E15=\"\",\"\",IF(INDEX(E_SourceStreams!$A:$N,EW15,BR$7)=\"\",\"\",INDEX(E_SourceStreams!$A:$N,EW15,BR$7)))","v":""},{"$f":"IF($E15=\"\",\"\",IF(INDEX(E_SourceStreams!$A:$N,EX15,BS$7)=\"\",\"\",INDEX(E_SourceStreams!$A:$N,EX15,BS$7)))","v":""},{"$f":"IF($E15=\"\",\"\",IF(INDEX(E_SourceStreams!$A:$N,EY15,BT$7)=\"\",\"\",INDEX(E_SourceStreams!$A:$N,EY15,BT$7)))","v":""},null,null,null,null,null,null,null,null,null,null,null,null,null,null,null,"SourceCategory_",{"$f":"INDEX(C_InstallationDescription!$A$226:$A$332,ROWS($CI$11:CI15))=\"ausblenden\"","v":false},"SourceStreamName_",null,399,401,403,405,407,409,411,411,411,411,411,414,418,419,420,427,437,437,437,437,437,437,437,428,438,438,438,438,438,438,438,429,439,439,439,439,439,439,439,430,440,440,440,440,440,440,440,431,441,441,441,441,441,441,441,432,442,442,442,442,442,442,442,448]
[null,{"$f":"IF(COUNTIF($CK$10:CK16,TRUE)>0,\"\",INDEX(C_InstallationDescription!$E$226:$E$242,ROWS($A$11:A16)))","v":""},{"$f":"IF($E16=\"\",\"\",INDEX(C_InstallationDescription!F:F,MATCH($B16,C_InstallationDescription!$E:$E,0)))","v":""},{"$f":"IF($E16=\"\",\"\",INDEX(C_InstallationDescription!I:I,MATCH($B16,C_InstallationDescription!$E:$E,0)))","v":""},{"$f":"IF($B16=\"\",\"\",INDEX(C_InstallationDescription!F:F,MATCH($CJ16,C_InstallationDescription!$Q:$Q,0)))","v":""},{"$f":"IF($E16=\"\",\"\",INDEX(C_InstallationDescription!L:L,MATCH($CJ16,C_InstallationDescription!$Q:$Q,0)))","v":""},{"$f":"IF($E16=\"\",\"\",INDEX(C_InstallationDescription!M:M,MATCH($CJ16,C_InstallationDescription!$Q:$Q,0)))","v":""},{"$f":"IF($E16=\"\",\"\",INDEX(C_InstallationDescription!N:N,MATCH($CJ16,C_InstallationDescription!$Q:$Q,0)))","v":""},{"$f":"IF($E16=\"\",\"\",IF(INDEX(E_SourceStreams!$A:$N,CN16,I$7)=\"\",\"\",INDEX(E_SourceStreams!$A:$N,CN16,I$7)))","v":""},{"$f":"IF($E16=\"\",\"\",IF(INDEX(E_SourceStreams!$A:$N,CO16,J$7)=\"\",\"\",INDEX(E_SourceStreams!$A:$N,CO16,J$7)))","v":""},{"$f":"IF($E16=\"\",\"\",IF(INDEX(E_SourceStreams!$A:$N,CP16,K$7)=\"\",\"\",INDEX(E_SourceStreams!$A:$N,CP16,K$7)))","v":""},{"$f":"IF($E16=\"\",\"\",IF(INDEX(E_SourceStreams!$A:$N,CQ16,L$7)=\"\",\"\",INDEX(E_SourceStreams!$A:$N,CQ16,L$7)))","v":""},{"$f":"IF($E16=\"\",\"\",IF(INDEX(E_SourceStreams!$A:$N,CR16,M$7)=\"\",\"\",INDEX(E_SourceStreams!$A:$N,CR16,M$7)))","v":""},{"$f":"IF($E16=\"\",\"\",IF(INDEX(E_SourceStreams!$A:$N,CS16,N$7)=\"\",\"\",INDEX(E_SourceStreams!$A:$N,CS16,N$7)))","v":""},{"$f":"IF($E16=\"\",\"\",IF(INDEX(E_SourceStreams!$A:$N,CT16,O$7)=\"\",\"\",INDEX(E_SourceStreams!$A:$N,CT16,O$7)))","v":""},{"$f":"IF($E16=\"\",\"\",IF(INDEX(E_SourceStreams!$A:$N,CU16,P$7)=\"\",\"\",INDEX(E_SourceStreams!$A:$N,CU16,P$7)))","v":""},{"$f":"IF($E16=\"\",\"\",IF(INDEX(E_SourceStreams!$A:$N,CV16,Q$7)=\"\",\"\",INDEX(E_SourceStreams!$A:$N,CV16,Q$7)))","v":""},{"$f":"IF($E16=\"\",\"\",IF(INDEX(E_SourceStreams!$A:$N,CW16,R$7)=\"\",\"\",INDEX(E_SourceStreams!$A:$N,CW16,R$7)))","v":""},{"$f":"IF($E16=\"\",\"\",IF(INDEX(E_SourceStreams!$A:$N,CX16,S$7)=\"\",\"\",INDEX(E_SourceStreams!$A:$N,CX16,S$7)))","v":""},{"$f":"IF($E16=\"\",\"\",IF(INDEX(E_SourceStreams!$A:$N,CY16,T$7)=\"\",\"\",INDEX(E_SourceStreams!$A:$N,CY16,T$7)))","v":""},{"$f":"IF($E16=\"\",\"\",IF(INDEX(E_SourceStreams!$A:$N,CZ16,U$7)=\"\",\"\",INDEX(E_SourceStreams!$A:$N,CZ16,U$7)))","v":""},{"$f":"IF($E16=\"\",\"\",IF(INDEX(E_SourceStreams!$A:$N,DA16,V$7)=\"\",\"\",INDEX(E_SourceStreams!$A:$N,DA16,V$7)))","v":""},{"$f":"IF($E16=\"\",\"\",IF(INDEX(E_SourceStreams!$A:$N,DB16,W$7)=\"\",\"\",INDEX(E_SourceStreams!$A:$N,DB16,W$7)))","v":""},{"$f":"IF($E16=\"\",\"\",IF(INDEX(E_SourceStreams!$A:$N,DC16,X$7)=\"\",\"\",INDEX(E_SourceStreams!$A:$N,DC16,X$7)))","v":""},{"$f":"IF($E16=\"\",\"\",IF(INDEX(E_SourceStreams!$A:$N,DD16,Y$7)=\"\",\"\",INDEX(E_SourceStreams!$A:$N,DD16,Y$7)))","v":""},{"$f":"IF($E16=\"\",\"\",IF(INDEX(E_SourceStreams!$A:$N,DE16,Z$7)=\"\",\"\",INDEX(E_SourceStreams!$A:$N,DE16,Z$7)))","v":""},{"$f":"IF($E16=\"\",\"\",IF(INDEX(E_SourceStreams!$A:$N,DF16,AA$7)=\"\",\"\",INDEX(E_SourceStreams!$A:$N,DF16,AA$7)))","v":""},{"$f":"IF($E16=\"\",\"\",IF(INDEX(E_SourceStreams!$A:$N,DG16,AB$7)=\"\",\"\",INDEX(E_SourceStreams!$A:$N,DG16,AB$7)))","v":""},{"$f":"IF($E16=\"\",\"\",IF(INDEX(E_SourceStreams!$A:$N,DH16,AC$7)=\"\",\"\",INDEX(E_SourceStreams!$A:$N,DH16,AC$7)))","v":""},{"$f":"IF($E16=\"\",\"\",IF(INDEX(E_SourceStreams!$A:$N,DI16,AD$7)=\"\",\"\",INDEX(E_SourceStreams!$A:$N,DI16,AD$7)))","v":""},{"$f":"IF($E16=\"\",\"\",IF(INDEX(E_SourceStreams!$A:$N,DJ16,AE$7)=\"\",\"\",INDEX(E_SourceStreams!$A:$N,DJ16,AE$7)))","v":""},{"$f":"IF($E16=\"\",\"\",IF(INDEX(E_SourceStreams!$A:$N,DK16,AF$7)=\"\",\"\",INDEX(E_SourceStreams!$A:$N,DK16,AF$7)))","v":""},{"$f":"IF($E16=\"\",\"\",IF(INDEX(E_SourceStreams!$A:$N,DL16,AG$7)=\"\",\"\",INDEX(E_SourceStreams!$A:$N,DL16,AG$7)))","v":""},{"$f":"IF($E16=\"\",\"\",IF(INDEX(E_SourceStreams!$A:$N,DM16,AH$7)=\"\",\"\",INDEX(E_SourceStreams!$A:$N,DM16,AH$7)))","v":""},{"$f":"IF($E16=\"\",\"\",IF(INDEX(E_SourceStreams!$A:$N,DN16,AI$7)=\"\",\"\",INDEX(E_SourceStreams!$A:$N,DN16,AI$7)))","v":""},{"$f":"IF($E16=\"\",\"\",IF(INDEX(E_SourceStreams!$A:$N,DO16,AJ$7)=\"\",\"\",INDEX(E_SourceStreams!$A:$N,DO16,AJ$7)))","v":""},{"$f":"IF($E16=\"\",\"\",IF(INDEX(E_SourceStreams!$A:$N,DP16,AK$7)=\"\",\"\",INDEX(E_SourceStreams!$A:$N,DP16,AK$7)))","v":""},{"$f":"IF($E16=\"\",\"\",IF(INDEX(E_SourceStreams!$A:$N,DQ16,AL$7)=\"\",\"\",INDEX(E_SourceStreams!$A:$N,DQ16,AL$7)))","v":""},{"$f":"IF($E16=\"\",\"\",IF(INDEX(E_SourceStreams!$A:$N,DR16,AM$7)=\"\",\"\",INDEX(E_SourceStreams!$A:$N,DR16,AM$7)))","v":""},{"$f":"IF($E16=\"\",\"\",IF(INDEX(E_SourceStreams!$A:$N,DS16,AN$7)=\"\",\"\",INDEX(E_SourceStreams!$A:$N,DS16,AN$7)))","v":""},{"$f":"IF($E16=\"\",\"\",IF(INDEX(E_SourceStreams!$A:$N,DT16,AO$7)=\"\",\"\",INDEX(E_SourceStreams!$A:$N,DT16,AO$7)))","v":""},{"$f":"IF($E16=\"\",\"\",IF(INDEX(E_SourceStreams!$A:$N,DU16,AP$7)=\"\",\"\",INDEX(E_SourceStreams!$A:$N,DU16,AP$7)))","v":""},{"$f":"IF($E16=\"\",\"\",IF(INDEX(E_SourceStreams!$A:$N,DV16,AQ$7)=\"\",\"\",INDEX(E_SourceStreams!$A:$N,DV16,AQ$7)))","v":""},{"$f":"IF($E16=\"\",\"\",IF(INDEX(E_SourceStreams!$A:$N,DW16,AR$7)=\"\",\"\",INDEX(E_SourceStreams!$A:$N,DW16,AR$7)))","v":""},{"$f":"IF($E16=\"\",\"\",IF(INDEX(E_SourceStreams!$A:$N,DX16,AS$7)=\"\",\"\",INDEX(E_SourceStreams!$A:$N,DX16,AS$7)))","v":""},{"$f":"IF($E16=\"\",\"\",IF(INDEX(E_SourceStreams!$A:$N,DY16,AT$7)=\"\",\"\",INDEX(E_SourceStreams!$A:$N,DY16,AT$7)))","v":""},{"$f":"IF($E16=\"\",\"\",IF(INDEX(E_SourceStreams!$A:$N,DZ16,AU$7)=\"\",\"\",INDEX(E_SourceStreams!$A:$N,DZ16,AU$7)))","v":""},{"$f":"IF($E16=\"\",\"\",IF(INDEX(E_SourceStreams!$A:$N,EA16,AV$7)=\"\",\"\",INDEX(E_SourceStreams!$A:$N,EA16,AV$7)))","v":""},{"$f":"IF($E16=\"\",\"\",IF(INDEX(E_SourceStreams!$A:$N,EB16,AW$7)=\"\",\"\",INDEX(E_SourceStreams!$A:$N,EB16,AW$7)))","v":""},{"$f":"IF($E16=\"\",\"\",IF(INDEX(E_SourceStreams!$A:$N,EC16,AX$7)=\"\",\"\",INDEX(E_SourceStreams!$A:$N,EC16,AX$7)))","v":""},{"$f":"IF($E16=\"\",\"\",IF(INDEX(E_SourceStreams!$A:$N,ED16,AY$7)=\"\",\"\",INDEX(E_SourceStreams!$A:$N,ED16,AY$7)))","v":""},{"$f":"IF($E16=\"\",\"\",IF(INDEX(E_SourceStreams!$A:$N,EE16,AZ$7)=\"\",\"\",INDEX(E_SourceStreams!$A:$N,EE16,AZ$7)))","v":""},{"$f":"IF($E16=\"\",\"\",IF(INDEX(E_SourceStreams!$A:$N,EF16,BA$7)=\"\",\"\",INDEX(E_SourceStreams!$A:$N,EF16,BA$7)))","v":""},{"$f":"IF($E16=\"\",\"\",IF(INDEX(E_SourceStreams!$A:$N,EG16,BB$7)=\"\",\"\",INDEX(E_SourceStreams!$A:$N,EG16,BB$7)))","v":""},{"$f":"IF($E16=\"\",\"\",IF(INDEX(E_SourceStreams!$A:$N,EH16,BC$7)=\"\",\"\",INDEX(E_SourceStreams!$A:$N,EH16,BC$7)))","v":""},{"$f":"IF($E16=\"\",\"\",IF(INDEX(E_SourceStreams!$A:$N,EI16,BD$7)=\"\",\"\",INDEX(E_SourceStreams!$A:$N,EI16,BD$7)))","v":""},{"$f":"IF($E16=\"\",\"\",IF(INDEX(E_SourceStreams!$A:$N,EJ16,BE$7)=\"\",\"\",INDEX(E_SourceStreams!$A:$N,EJ16,BE$7)))","v":""},{"$f":"IF($E16=\"\",\"\",IF(INDEX(E_SourceStreams!$A:$N,EK16,BF$7)=\"\",\"\",INDEX(E_SourceStreams!$A:$N,EK16,BF$7)))","v":""},{"$f":"IF($E16=\"\",\"\",IF(INDEX(E_SourceStreams!$A:$N,EL16,BG$7)=\"\",\"\",INDEX(E_SourceStreams!$A:$N,EL16,BG$7)))","v":""},{"$f":"IF($E16=\"\",\"\",IF(INDEX(E_SourceStreams!$A:$N,EM16,BH$7)=\"\",\"\",INDEX(E_SourceStreams!$A:$N,EM16,BH$7)))","v":""},{"$f":"IF($E16=\"\",\"\",IF(INDEX(E_SourceStreams!$A:$N,EN16,BI$7)=\"\",\"\",INDEX(E_SourceStreams!$A:$N,EN16,BI$7)))","v":""},{"$f":"IF($E16=\"\",\"\",IF(INDEX(E_SourceStreams!$A:$N,EO16,BJ$7)=\"\",\"\",INDEX(E_SourceStreams!$A:$N,EO16,BJ$7)))","v":""},{"$f":"IF($E16=\"\",\"\",IF(INDEX(E_SourceStreams!$A:$N,EP16,BK$7)=\"\",\"\",INDEX(E_SourceStreams!$A:$N,EP16,BK$7)))","v":""},{"$f":"IF($E16=\"\",\"\",IF(INDEX(E_SourceStreams!$A:$N,EQ16,BL$7)=\"\",\"\",INDEX(E_SourceStreams!$A:$N,EQ16,BL$7)))","v":""},{"$f":"IF($E16=\"\",\"\",IF(INDEX(E_SourceStreams!$A:$N,ER16,BM$7)=\"\",\"\",INDEX(E_SourceStreams!$A:$N,ER16,BM$7)))","v":""},{"$f":"IF($E16=\"\",\"\",IF(INDEX(E_SourceStreams!$A:$N,ES16,BN$7)=\"\",\"\",INDEX(E_SourceStreams!$A:$N,ES16,BN$7)))","v":""},{"$f":"IF($E16=\"\",\"\",IF(INDEX(E_SourceStreams!$A:$N,ET16,BO$7)=\"\",\"\",INDEX(E_SourceStreams!$A:$N,ET16,BO$7)))","v":""},{"$f":"IF($E16=\"\",\"\",IF(INDEX(E_SourceStreams!$A:$N,EU16,BP$7)=\"\",\"\",INDEX(E_SourceStreams!$A:$N,EU16,BP$7)))","v":""},{"$f":"IF($E16=\"\",\"\",IF(INDEX(E_SourceStreams!$A:$N,EV16,BQ$7)=\"\",\"\",INDEX(E_SourceStreams!$A:$N,EV16,BQ$7)))","v":""},{"$f":"IF($E16=\"\",\"\",IF(INDEX(E_SourceStreams!$A:$N,EW16,BR$7)=\"\",\"\",INDEX(E_SourceStreams!$A:$N,EW16,BR$7)))","v":""},{"$f":"IF($E16=\"\",\"\",IF(INDEX(E_SourceStreams!$A:$N,EX16,BS$7)=\"\",\"\",INDEX(E_SourceStreams!$A:$N,EX16,BS$7)))","v":""},{"$f":"IF($E16=\"\",\"\",IF(INDEX(E_SourceStreams!$A:$N,EY16,BT$7)=\"\",\"\",INDEX(E_SourceStreams!$A:$N,EY16,BT$7)))","v":""},null,null,null,null,null,null,null,null,null,null,null,null,null,null,null,"SourceCategory_",{"$f":"INDEX(C_InstallationDescription!$A$226:$A$332,ROWS($CI$11:CI16))=\"ausblenden\"","v":false},"SourceStreamName_",null,465,467,469,471,473,475,477,477,477,477,477,480,484,485,486,493,503,503,503,503,503,503,503,494,504,504,504,504,504,504,504,495,505,505,505,505,505,505,505,496,506,506,506,506,506,506,506,497,507,507,507,507,507,507,507,498,508,508,508,508,508,508,508,514]
[null,{"$f":"IF(COUNTIF($CK$10:CK17,TRUE)>0,\"\",INDEX(C_InstallationDescription!$E$226:$E$242,ROWS($A$11:A17)))","v":""},{"$f":"IF($E17=\"\",\"\",INDEX(C_InstallationDescription!F:F,MATCH($B17,C_InstallationDescription!$E:$E,0)))","v":""},{"$f":"IF($E17=\"\",\"\",INDEX(C_InstallationDescription!I:I,MATCH($B17,C_InstallationDescription!$E:$E,0)))","v":""},{"$f":"IF($B17=\"\",\"\",INDEX(C_InstallationDescription!F:F,MATCH($CJ17,C_InstallationDescription!$Q:$Q,0)))","v":""},{"$f":"IF($E17=\"\",\"\",INDEX(C_InstallationDescription!L:L,MATCH($CJ17,C_InstallationDescription!$Q:$Q,0)))","v":""},{"$f":"IF($E17=\"\",\"\",INDEX(C_InstallationDescription!M:M,MATCH($CJ17,C_InstallationDescription!$Q:$Q,0)))","v":""},{"$f":"IF($E17=\"\",\"\",INDEX(C_InstallationDescription!N:N,MATCH($CJ17,C_InstallationDescription!$Q:$Q,0)))","v":""},{"$f":"IF($E17=\"\",\"\",IF(INDEX(E_SourceStreams!$A:$N,CN17,I$7)=\"\",\"\",INDEX(E_SourceStreams!$A:$N,CN17,I$7)))","v":""},{"$f":"IF($E17=\"\",\"\",IF(INDEX(E_SourceStreams!$A:$N,CO17,J$7)=\"\",\"\",INDEX(E_SourceStreams!$A:$N,CO17,J$7)))","v":""},{"$f":"IF($E17=\"\",\"\",IF(INDEX(E_SourceStreams!$A:$N,CP17,K$7)=\"\",\"\",INDEX(E_SourceStreams!$A:$N,CP17,K$7)))","v":""},{"$f":"IF($E17=\"\",\"\",IF(INDEX(E_SourceStreams!$A:$N,CQ17,L$7)=\"\",\"\",INDEX(E_SourceStreams!$A:$N,CQ17,L$7)))","v":""},{"$f":"IF($E17=\"\",\"\",IF(INDEX(E_SourceStreams!$A:$N,CR17,M$7)=\"\",\"\",INDEX(E_SourceStreams!$A:$N,CR17,M$7)))","v":""},{"$f":"IF($E17=\"\",\"\",IF(INDEX(E_SourceStreams!$A:$N,CS17,N$7)=\"\",\"\",INDEX(E_SourceStreams!$A:$N,CS17,N$7)))","v":""},{"$f":"IF($E17=\"\",\"\",IF(INDEX(E_SourceStreams!$A:$N,CT17,O$7)=\"\",\"\",INDEX(E_SourceStreams!$A:$N,CT17,O$7)))","v":""},{"$f":"IF($E17=\"\",\"\",IF(INDEX(E_SourceStreams!$A:$N,CU17,P$7)=\"\",\"\",INDEX(E_SourceStreams!$A:$N,CU17,P$7)))","v":""},{"$f":"IF($E17=\"\",\"\",IF(INDEX(E_SourceStreams!$A:$N,CV17,Q$7)=\"\",\"\",INDEX(E_SourceStreams!$A:$N,CV17,Q$7)))","v":""},{"$f":"IF($E17=\"\",\"\",IF(INDEX(E_SourceStreams!$A:$N,CW17,R$7)=\"\",\"\",INDEX(E_SourceStreams!$A:$N,CW17,R$7)))","v":""},{"$f":"IF($E17=\"\",\"\",IF(INDEX(E_SourceStreams!$A:$N,CX17,S$7)=\"\",\"\",INDEX(E_SourceStreams!$A:$N,CX17,S$7)))","v":""},{"$f":"IF($E17=\"\",\"\",IF(INDEX(E_SourceStreams!$A:$N,CY17,T$7)=\"\",\"\",INDEX(E_SourceStreams!$A:$N,CY17,T$7)))","v":""},{"$f":"IF($E17=\"\",\"\",IF(INDEX(E_SourceStreams!$A:$N,CZ17,U$7)=\"\",\"\",INDEX(E_SourceStreams!$A:$N,CZ17,U$7)))","v":""},{"$f":"IF($E17=\"\",\"\",IF(INDEX(E_SourceStreams!$A:$N,DA17,V$7)=\"\",\"\",INDEX(E_SourceStreams!$A:$N,DA17,V$7)))","v":""},{"$f":"IF($E17=\"\",\"\",IF(INDEX(E_SourceStreams!$A:$N,DB17,W$7)=\"\",\"\",INDEX(E_SourceStreams!$A:$N,DB17,W$7)))","v":""},{"$f":"IF($E17=\"\",\"\",IF(INDEX(E_SourceStreams!$A:$N,DC17,X$7)=\"\",\"\",INDEX(E_SourceStreams!$A:$N,DC17,X$7)))","v":""},{"$f":"IF($E17=\"\",\"\",IF(INDEX(E_SourceStreams!$A:$N,DD17,Y$7)=\"\",\"\",INDEX(E_SourceStreams!$A:$N,DD17,Y$7)))","v":""},{"$f":"IF($E17=\"\",\"\",IF(INDEX(E_SourceStreams!$A:$N,DE17,Z$7)=\"\",\"\",INDEX(E_SourceStreams!$A:$N,DE17,Z$7)))","v":""},{"$f":"IF($E17=\"\",\"\",IF(INDEX(E_SourceStreams!$A:$N,DF17,AA$7)=\"\",\"\",INDEX(E_SourceStreams!$A:$N,DF17,AA$7)))","v":""},{"$f":"IF($E17=\"\",\"\",IF(INDEX(E_SourceStreams!$A:$N,DG17,AB$7)=\"\",\"\",INDEX(E_SourceStreams!$A:$N,DG17,AB$7)))","v":""},{"$f":"IF($E17=\"\",\"\",IF(INDEX(E_SourceStreams!$A:$N,DH17,AC$7)=\"\",\"\",INDEX(E_SourceStreams!$A:$N,DH17,AC$7)))","v":""},{"$f":"IF($E17=\"\",\"\",IF(INDEX(E_SourceStreams!$A:$N,DI17,AD$7)=\"\",\"\",INDEX(E_SourceStreams!$A:$N,DI17,AD$7)))","v":""},{"$f":"IF($E17=\"\",\"\",IF(INDEX(E_SourceStreams!$A:$N,DJ17,AE$7)=\"\",\"\",INDEX(E_SourceStreams!$A:$N,DJ17,AE$7)))","v":""},{"$f":"IF($E17=\"\",\"\",IF(INDEX(E_SourceStreams!$A:$N,DK17,AF$7)=\"\",\"\",INDEX(E_SourceStreams!$A:$N,DK17,AF$7)))","v":""},{"$f":"IF($E17=\"\",\"\",IF(INDEX(E_SourceStreams!$A:$N,DL17,AG$7)=\"\",\"\",INDEX(E_SourceStreams!$A:$N,DL17,AG$7)))","v":""},{"$f":"IF($E17=\"\",\"\",IF(INDEX(E_SourceStreams!$A:$N,DM17,AH$7)=\"\",\"\",INDEX(E_SourceStreams!$A:$N,DM17,AH$7)))","v":""},{"$f":"IF($E17=\"\",\"\",IF(INDEX(E_SourceStreams!$A:$N,DN17,AI$7)=\"\",\"\",INDEX(E_SourceStreams!$A:$N,DN17,AI$7)))","v":""},{"$f":"IF($E17=\"\",\"\",IF(INDEX(E_SourceStreams!$A:$N,DO17,AJ$7)=\"\",\"\",INDEX(E_SourceStreams!$A:$N,DO17,AJ$7)))","v":""},{"$f":"IF($E17=\"\",\"\",IF(INDEX(E_SourceStreams!$A:$N,DP17,AK$7)=\"\",\"\",INDEX(E_SourceStreams!$A:$N,DP17,AK$7)))","v":""},{"$f":"IF($E17=\"\",\"\",IF(INDEX(E_SourceStreams!$A:$N,DQ17,AL$7)=\"\",\"\",INDEX(E_SourceStreams!$A:$N,DQ17,AL$7)))","v":""},{"$f":"IF($E17=\"\",\"\",IF(INDEX(E_SourceStreams!$A:$N,DR17,AM$7)=\"\",\"\",INDEX(E_SourceStreams!$A:$N,DR17,AM$7)))","v":""},{"$f":"IF($E17=\"\",\"\",IF(INDEX(E_SourceStreams!$A:$N,DS17,AN$7)=\"\",\"\",INDEX(E_SourceStreams!$A:$N,DS17,AN$7)))","v":""},{"$f":"IF($E17=\"\",\"\",IF(INDEX(E_SourceStreams!$A:$N,DT17,AO$7)=\"\",\"\",INDEX(E_SourceStreams!$A:$N,DT17,AO$7)))","v":""},{"$f":"IF($E17=\"\",\"\",IF(INDEX(E_SourceStreams!$A:$N,DU17,AP$7)=\"\",\"\",INDEX(E_SourceStreams!$A:$N,DU17,AP$7)))","v":""},{"$f":"IF($E17=\"\",\"\",IF(INDEX(E_SourceStreams!$A:$N,DV17,AQ$7)=\"\",\"\",INDEX(E_SourceStreams!$A:$N,DV17,AQ$7)))","v":""},{"$f":"IF($E17=\"\",\"\",IF(INDEX(E_SourceStreams!$A:$N,DW17,AR$7)=\"\",\"\",INDEX(E_SourceStreams!$A:$N,DW17,AR$7)))","v":""},{"$f":"IF($E17=\"\",\"\",IF(INDEX(E_SourceStreams!$A:$N,DX17,AS$7)=\"\",\"\",INDEX(E_SourceStreams!$A:$N,DX17,AS$7)))","v":""},{"$f":"IF($E17=\"\",\"\",IF(INDEX(E_SourceStreams!$A:$N,DY17,AT$7)=\"\",\"\",INDEX(E_SourceStreams!$A:$N,DY17,AT$7)))","v":""},{"$f":"IF($E17=\"\",\"\",IF(INDEX(E_SourceStreams!$A:$N,DZ17,AU$7)=\"\",\"\",INDEX(E_SourceStreams!$A:$N,DZ17,AU$7)))","v":""},{"$f":"IF($E17=\"\",\"\",IF(INDEX(E_SourceStreams!$A:$N,EA17,AV$7)=\"\",\"\",INDEX(E_SourceStreams!$A:$N,EA17,AV$7)))","v":""},{"$f":"IF($E17=\"\",\"\",IF(INDEX(E_SourceStreams!$A:$N,EB17,AW$7)=\"\",\"\",INDEX(E_SourceStreams!$A:$N,EB17,AW$7)))","v":""},{"$f":"IF($E17=\"\",\"\",IF(INDEX(E_SourceStreams!$A:$N,EC17,AX$7)=\"\",\"\",INDEX(E_SourceStreams!$A:$N,EC17,AX$7)))","v":""},{"$f":"IF($E17=\"\",\"\",IF(INDEX(E_SourceStreams!$A:$N,ED17,AY$7)=\"\",\"\",INDEX(E_SourceStreams!$A:$N,ED17,AY$7)))","v":""},{"$f":"IF($E17=\"\",\"\",IF(INDEX(E_SourceStreams!$A:$N,EE17,AZ$7)=\"\",\"\",INDEX(E_SourceStreams!$A:$N,EE17,AZ$7)))","v":""},{"$f":"IF($E17=\"\",\"\",IF(INDEX(E_SourceStreams!$A:$N,EF17,BA$7)=\"\",\"\",INDEX(E_SourceStreams!$A:$N,EF17,BA$7)))","v":""},{"$f":"IF($E17=\"\",\"\",IF(INDEX(E_SourceStreams!$A:$N,EG17,BB$7)=\"\",\"\",INDEX(E_SourceStreams!$A:$N,EG17,BB$7)))","v":""},{"$f":"IF($E17=\"\",\"\",IF(INDEX(E_SourceStreams!$A:$N,EH17,BC$7)=\"\",\"\",INDEX(E_SourceStreams!$A:$N,EH17,BC$7)))","v":""},{"$f":"IF($E17=\"\",\"\",IF(INDEX(E_SourceStreams!$A:$N,EI17,BD$7)=\"\",\"\",INDEX(E_SourceStreams!$A:$N,EI17,BD$7)))","v":""},{"$f":"IF($E17=\"\",\"\",IF(INDEX(E_SourceStreams!$A:$N,EJ17,BE$7)=\"\",\"\",INDEX(E_SourceStreams!$A:$N,EJ17,BE$7)))","v":""},{"$f":"IF($E17=\"\",\"\",IF(INDEX(E_SourceStreams!$A:$N,EK17,BF$7)=\"\",\"\",INDEX(E_SourceStreams!$A:$N,EK17,BF$7)))","v":""},{"$f":"IF($E17=\"\",\"\",IF(INDEX(E_SourceStreams!$A:$N,EL17,BG$7)=\"\",\"\",INDEX(E_SourceStreams!$A:$N,EL17,BG$7)))","v":""},{"$f":"IF($E17=\"\",\"\",IF(INDEX(E_SourceStreams!$A:$N,EM17,BH$7)=\"\",\"\",INDEX(E_SourceStreams!$A:$N,EM17,BH$7)))","v":""},{"$f":"IF($E17=\"\",\"\",IF(INDEX(E_SourceStreams!$A:$N,EN17,BI$7)=\"\",\"\",INDEX(E_SourceStreams!$A:$N,EN17,BI$7)))","v":""},{"$f":"IF($E17=\"\",\"\",IF(INDEX(E_SourceStreams!$A:$N,EO17,BJ$7)=\"\",\"\",INDEX(E_SourceStreams!$A:$N,EO17,BJ$7)))","v":""},{"$f":"IF($E17=\"\",\"\",IF(INDEX(E_SourceStreams!$A:$N,EP17,BK$7)=\"\",\"\",INDEX(E_SourceStreams!$A:$N,EP17,BK$7)))","v":""},{"$f":"IF($E17=\"\",\"\",IF(INDEX(E_SourceStreams!$A:$N,EQ17,BL$7)=\"\",\"\",INDEX(E_SourceStreams!$A:$N,EQ17,BL$7)))","v":""},{"$f":"IF($E17=\"\",\"\",IF(INDEX(E_SourceStreams!$A:$N,ER17,BM$7)=\"\",\"\",INDEX(E_SourceStreams!$A:$N,ER17,BM$7)))","v":""},{"$f":"IF($E17=\"\",\"\",IF(INDEX(E_SourceStreams!$A:$N,ES17,BN$7)=\"\",\"\",INDEX(E_SourceStreams!$A:$N,ES17,BN$7)))","v":""},{"$f":"IF($E17=\"\",\"\",IF(INDEX(E_SourceStreams!$A:$N,ET17,BO$7)=\"\",\"\",INDEX(E_SourceStreams!$A:$N,ET17,BO$7)))","v":""},{"$f":"IF($E17=\"\",\"\",IF(INDEX(E_SourceStreams!$A:$N,EU17,BP$7)=\"\",\"\",INDEX(E_SourceStreams!$A:$N,EU17,BP$7)))","v":""},{"$f":"IF($E17=\"\",\"\",IF(INDEX(E_SourceStreams!$A:$N,EV17,BQ$7)=\"\",\"\",INDEX(E_SourceStreams!$A:$N,EV17,BQ$7)))","v":""},{"$f":"IF($E17=\"\",\"\",IF(INDEX(E_SourceStreams!$A:$N,EW17,BR$7)=\"\",\"\",INDEX(E_SourceStreams!$A:$N,EW17,BR$7)))","v":""},{"$f":"IF($E17=\"\",\"\",IF(INDEX(E_SourceStreams!$A:$N,EX17,BS$7)=\"\",\"\",INDEX(E_SourceStreams!$A:$N,EX17,BS$7)))","v":""},{"$f":"IF($E17=\"\",\"\",IF(INDEX(E_SourceStreams!$A:$N,EY17,BT$7)=\"\",\"\",INDEX(E_SourceStreams!$A:$N,EY17,BT$7)))","v":""},null,null,null,null,null,null,null,null,null,null,null,null,null,null,null,"SourceCategory_",{"$f":"INDEX(C_InstallationDescription!$A$226:$A$332,ROWS($CI$11:CI17))=\"ausblenden\"","v":false},"SourceStreamName_",null,531,533,535,537,539,541,543,543,543,543,543,546,550,551,552,559,569,569,569,569,569,569,569,560,570,570,570,570,570,570,570,561,571,571,571,571,571,571,571,562,572,572,572,572,572,572,572,563,573,573,573,573,573,573,573,564,574,574,574,574,574,574,574,580]
[null,{"$f":"IF(COUNTIF($CK$10:CK18,TRUE)>0,\"\",INDEX(C_InstallationDescription!$E$226:$E$242,ROWS($A$11:A18)))","v":""},{"$f":"IF($E18=\"\",\"\",INDEX(C_InstallationDescription!F:F,MATCH($B18,C_InstallationDescription!$E:$E,0)))","v":""},{"$f":"IF($E18=\"\",\"\",INDEX(C_InstallationDescription!I:I,MATCH($B18,C_InstallationDescription!$E:$E,0)))","v":""},{"$f":"IF($B18=\"\",\"\",INDEX(C_InstallationDescription!F:F,MATCH($CJ18,C_InstallationDescription!$Q:$Q,0)))","v":""},{"$f":"IF($E18=\"\",\"\",INDEX(C_InstallationDescription!L:L,MATCH($CJ18,C_InstallationDescription!$Q:$Q,0)))","v":""},{"$f":"IF($E18=\"\",\"\",INDEX(C_InstallationDescription!M:M,MATCH($CJ18,C_InstallationDescription!$Q:$Q,0)))","v":""},{"$f":"IF($E18=\"\",\"\",INDEX(C_InstallationDescription!N:N,MATCH($CJ18,C_InstallationDescription!$Q:$Q,0)))","v":""},{"$f":"IF($E18=\"\",\"\",IF(INDEX(E_SourceStreams!$A:$N,CN18,I$7)=\"\",\"\",INDEX(E_SourceStreams!$A:$N,CN18,I$7)))","v":""},{"$f":"IF($E18=\"\",\"\",IF(INDEX(E_SourceStreams!$A:$N,CO18,J$7)=\"\",\"\",INDEX(E_SourceStreams!$A:$N,CO18,J$7)))","v":""},{"$f":"IF($E18=\"\",\"\",IF(INDEX(E_SourceStreams!$A:$N,CP18,K$7)=\"\",\"\",INDEX(E_SourceStreams!$A:$N,CP18,K$7)))","v":""},{"$f":"IF($E18=\"\",\"\",IF(INDEX(E_SourceStreams!$A:$N,CQ18,L$7)=\"\",\"\",INDEX(E_SourceStreams!$A:$N,CQ18,L$7)))","v":""},{"$f":"IF($E18=\"\",\"\",IF(INDEX(E_SourceStreams!$A:$N,CR18,M$7)=\"\",\"\",INDEX(E_SourceStreams!$A:$N,CR18,M$7)))","v":""},{"$f":"IF($E18=\"\",\"\",IF(INDEX(E_SourceStreams!$A:$N,CS18,N$7)=\"\",\"\",INDEX(E_SourceStreams!$A:$N,CS18,N$7)))","v":""},{"$f":"IF($E18=\"\",\"\",IF(INDEX(E_SourceStreams!$A:$N,CT18,O$7)=\"\",\"\",INDEX(E_SourceStreams!$A:$N,CT18,O$7)))","v":""},{"$f":"IF($E18=\"\",\"\",IF(INDEX(E_SourceStreams!$A:$N,CU18,P$7)=\"\",\"\",INDEX(E_SourceStreams!$A:$N,CU18,P$7)))","v":""},{"$f":"IF($E18=\"\",\"\",IF(INDEX(E_SourceStreams!$A:$N,CV18,Q$7)=\"\",\"\",INDEX(E_SourceStreams!$A:$N,CV18,Q$7)))","v":""},{"$f":"IF($E18=\"\",\"\",IF(INDEX(E_SourceStreams!$A:$N,CW18,R$7)=\"\",\"\",INDEX(E_SourceStreams!$A:$N,CW18,R$7)))","v":""},{"$f":"IF($E18=\"\",\"\",IF(INDEX(E_SourceStreams!$A:$N,CX18,S$7)=\"\",\"\",INDEX(E_SourceStreams!$A:$N,CX18,S$7)))","v":""},{"$f":"IF($E18=\"\",\"\",IF(INDEX(E_SourceStreams!$A:$N,CY18,T$7)=\"\",\"\",INDEX(E_SourceStreams!$A:$N,CY18,T$7)))","v":""},{"$f":"IF($E18=\"\",\"\",IF(INDEX(E_SourceStreams!$A:$N,CZ18,U$7)=\"\",\"\",INDEX(E_SourceStreams!$A:$N,CZ18,U$7)))","v":""},{"$f":"IF($E18=\"\",\"\",IF(INDEX(E_SourceStreams!$A:$N,DA18,V$7)=\"\",\"\",INDEX(E_SourceStreams!$A:$N,DA18,V$7)))","v":""},{"$f":"IF($E18=\"\",\"\",IF(INDEX(E_SourceStreams!$A:$N,DB18,W$7)=\"\",\"\",INDEX(E_SourceStreams!$A:$N,DB18,W$7)))","v":""},{"$f":"IF($E18=\"\",\"\",IF(INDEX(E_SourceStreams!$A:$N,DC18,X$7)=\"\",\"\",INDEX(E_SourceStreams!$A:$N,DC18,X$7)))","v":""},{"$f":"IF($E18=\"\",\"\",IF(INDEX(E_SourceStreams!$A:$N,DD18,Y$7)=\"\",\"\",INDEX(E_SourceStreams!$A:$N,DD18,Y$7)))","v":""},{"$f":"IF($E18=\"\",\"\",IF(INDEX(E_SourceStreams!$A:$N,DE18,Z$7)=\"\",\"\",INDEX(E_SourceStreams!$A:$N,DE18,Z$7)))","v":""},{"$f":"IF($E18=\"\",\"\",IF(INDEX(E_SourceStreams!$A:$N,DF18,AA$7)=\"\",\"\",INDEX(E_SourceStreams!$A:$N,DF18,AA$7)))","v":""},{"$f":"IF($E18=\"\",\"\",IF(INDEX(E_SourceStreams!$A:$N,DG18,AB$7)=\"\",\"\",INDEX(E_SourceStreams!$A:$N,DG18,AB$7)))","v":""},{"$f":"IF($E18=\"\",\"\",IF(INDEX(E_SourceStreams!$A:$N,DH18,AC$7)=\"\",\"\",INDEX(E_SourceStreams!$A:$N,DH18,AC$7)))","v":""},{"$f":"IF($E18=\"\",\"\",IF(INDEX(E_SourceStreams!$A:$N,DI18,AD$7)=\"\",\"\",INDEX(E_SourceStreams!$A:$N,DI18,AD$7)))","v":""},{"$f":"IF($E18=\"\",\"\",IF(INDEX(E_SourceStreams!$A:$N,DJ18,AE$7)=\"\",\"\",INDEX(E_SourceStreams!$A:$N,DJ18,AE$7)))","v":""},{"$f":"IF($E18=\"\",\"\",IF(INDEX(E_SourceStreams!$A:$N,DK18,AF$7)=\"\",\"\",INDEX(E_SourceStreams!$A:$N,DK18,AF$7)))","v":""},{"$f":"IF($E18=\"\",\"\",IF(INDEX(E_SourceStreams!$A:$N,DL18,AG$7)=\"\",\"\",INDEX(E_SourceStreams!$A:$N,DL18,AG$7)))","v":""},{"$f":"IF($E18=\"\",\"\",IF(INDEX(E_SourceStreams!$A:$N,DM18,AH$7)=\"\",\"\",INDEX(E_SourceStreams!$A:$N,DM18,AH$7)))","v":""},{"$f":"IF($E18=\"\",\"\",IF(INDEX(E_SourceStreams!$A:$N,DN18,AI$7)=\"\",\"\",INDEX(E_SourceStreams!$A:$N,DN18,AI$7)))","v":""},{"$f":"IF($E18=\"\",\"\",IF(INDEX(E_SourceStreams!$A:$N,DO18,AJ$7)=\"\",\"\",INDEX(E_SourceStreams!$A:$N,DO18,AJ$7)))","v":""},{"$f":"IF($E18=\"\",\"\",IF(INDEX(E_SourceStreams!$A:$N,DP18,AK$7)=\"\",\"\",INDEX(E_SourceStreams!$A:$N,DP18,AK$7)))","v":""},{"$f":"IF($E18=\"\",\"\",IF(INDEX(E_SourceStreams!$A:$N,DQ18,AL$7)=\"\",\"\",INDEX(E_SourceStreams!$A:$N,DQ18,AL$7)))","v":""},{"$f":"IF($E18=\"\",\"\",IF(INDEX(E_SourceStreams!$A:$N,DR18,AM$7)=\"\",\"\",INDEX(E_SourceStreams!$A:$N,DR18,AM$7)))","v":""},{"$f":"IF($E18=\"\",\"\",IF(INDEX(E_SourceStreams!$A:$N,DS18,AN$7)=\"\",\"\",INDEX(E_SourceStreams!$A:$N,DS18,AN$7)))","v":""},{"$f":"IF($E18=\"\",\"\",IF(INDEX(E_SourceStreams!$A:$N,DT18,AO$7)=\"\",\"\",INDEX(E_SourceStreams!$A:$N,DT18,AO$7)))","v":""},{"$f":"IF($E18=\"\",\"\",IF(INDEX(E_SourceStreams!$A:$N,DU18,AP$7)=\"\",\"\",INDEX(E_SourceStreams!$A:$N,DU18,AP$7)))","v":""},{"$f":"IF($E18=\"\",\"\",IF(INDEX(E_SourceStreams!$A:$N,DV18,AQ$7)=\"\",\"\",INDEX(E_SourceStreams!$A:$N,DV18,AQ$7)))","v":""},{"$f":"IF($E18=\"\",\"\",IF(INDEX(E_SourceStreams!$A:$N,DW18,AR$7)=\"\",\"\",INDEX(E_SourceStreams!$A:$N,DW18,AR$7)))","v":""},{"$f":"IF($E18=\"\",\"\",IF(INDEX(E_SourceStreams!$A:$N,DX18,AS$7)=\"\",\"\",INDEX(E_SourceStreams!$A:$N,DX18,AS$7)))","v":""},{"$f":"IF($E18=\"\",\"\",IF(INDEX(E_SourceStreams!$A:$N,DY18,AT$7)=\"\",\"\",INDEX(E_SourceStreams!$A:$N,DY18,AT$7)))","v":""},{"$f":"IF($E18=\"\",\"\",IF(INDEX(E_SourceStreams!$A:$N,DZ18,AU$7)=\"\",\"\",INDEX(E_SourceStreams!$A:$N,DZ18,AU$7)))","v":""},{"$f":"IF($E18=\"\",\"\",IF(INDEX(E_SourceStreams!$A:$N,EA18,AV$7)=\"\",\"\",INDEX(E_SourceStreams!$A:$N,EA18,AV$7)))","v":""},{"$f":"IF($E18=\"\",\"\",IF(INDEX(E_SourceStreams!$A:$N,EB18,AW$7)=\"\",\"\",INDEX(E_SourceStreams!$A:$N,EB18,AW$7)))","v":""},{"$f":"IF($E18=\"\",\"\",IF(INDEX(E_SourceStreams!$A:$N,EC18,AX$7)=\"\",\"\",INDEX(E_SourceStreams!$A:$N,EC18,AX$7)))","v":""},{"$f":"IF($E18=\"\",\"\",IF(INDEX(E_SourceStreams!$A:$N,ED18,AY$7)=\"\",\"\",INDEX(E_SourceStreams!$A:$N,ED18,AY$7)))","v":""},{"$f":"IF($E18=\"\",\"\",IF(INDEX(E_SourceStreams!$A:$N,EE18,AZ$7)=\"\",\"\",INDEX(E_SourceStreams!$A:$N,EE18,AZ$7)))","v":""},{"$f":"IF($E18=\"\",\"\",IF(INDEX(E_SourceStreams!$A:$N,EF18,BA$7)=\"\",\"\",INDEX(E_SourceStreams!$A:$N,EF18,BA$7)))","v":""},{"$f":"IF($E18=\"\",\"\",IF(INDEX(E_SourceStreams!$A:$N,EG18,BB$7)=\"\",\"\",INDEX(E_SourceStreams!$A:$N,EG18,BB$7)))","v":""},{"$f":"IF($E18=\"\",\"\",IF(INDEX(E_SourceStreams!$A:$N,EH18,BC$7)=\"\",\"\",INDEX(E_SourceStreams!$A:$N,EH18,BC$7)))","v":""},{"$f":"IF($E18=\"\",\"\",IF(INDEX(E_SourceStreams!$A:$N,EI18,BD$7)=\"\",\"\",INDEX(E_SourceStreams!$A:$N,EI18,BD$7)))","v":""},{"$f":"IF($E18=\"\",\"\",IF(INDEX(E_SourceStreams!$A:$N,EJ18,BE$7)=\"\",\"\",INDEX(E_SourceStreams!$A:$N,EJ18,BE$7)))","v":""},{"$f":"IF($E18=\"\",\"\",IF(INDEX(E_SourceStreams!$A:$N,EK18,BF$7)=\"\",\"\",INDEX(E_SourceStreams!$A:$N,EK18,BF$7)))","v":""},{"$f":"IF($E18=\"\",\"\",IF(INDEX(E_SourceStreams!$A:$N,EL18,BG$7)=\"\",\"\",INDEX(E_SourceStreams!$A:$N,EL18,BG$7)))","v":""},{"$f":"IF($E18=\"\",\"\",IF(INDEX(E_SourceStreams!$A:$N,EM18,BH$7)=\"\",\"\",INDEX(E_SourceStreams!$A:$N,EM18,BH$7)))","v":""},{"$f":"IF($E18=\"\",\"\",IF(INDEX(E_SourceStreams!$A:$N,EN18,BI$7)=\"\",\"\",INDEX(E_SourceStreams!$A:$N,EN18,BI$7)))","v":""},{"$f":"IF($E18=\"\",\"\",IF(INDEX(E_SourceStreams!$A:$N,EO18,BJ$7)=\"\",\"\",INDEX(E_SourceStreams!$A:$N,EO18,BJ$7)))","v":""},{"$f":"IF($E18=\"\",\"\",IF(INDEX(E_SourceStreams!$A:$N,EP18,BK$7)=\"\",\"\",INDEX(E_SourceStreams!$A:$N,EP18,BK$7)))","v":""},{"$f":"IF($E18=\"\",\"\",IF(INDEX(E_SourceStreams!$A:$N,EQ18,BL$7)=\"\",\"\",INDEX(E_SourceStreams!$A:$N,EQ18,BL$7)))","v":""},{"$f":"IF($E18=\"\",\"\",IF(INDEX(E_SourceStreams!$A:$N,ER18,BM$7)=\"\",\"\",INDEX(E_SourceStreams!$A:$N,ER18,BM$7)))","v":""},{"$f":"IF($E18=\"\",\"\",IF(INDEX(E_SourceStreams!$A:$N,ES18,BN$7)=\"\",\"\",INDEX(E_SourceStreams!$A:$N,ES18,BN$7)))","v":""},{"$f":"IF($E18=\"\",\"\",IF(INDEX(E_SourceStreams!$A:$N,ET18,BO$7)=\"\",\"\",INDEX(E_SourceStreams!$A:$N,ET18,BO$7)))","v":""},{"$f":"IF($E18=\"\",\"\",IF(INDEX(E_SourceStreams!$A:$N,EU18,BP$7)=\"\",\"\",INDEX(E_SourceStreams!$A:$N,EU18,BP$7)))","v":""},{"$f":"IF($E18=\"\",\"\",IF(INDEX(E_SourceStreams!$A:$N,EV18,BQ$7)=\"\",\"\",INDEX(E_SourceStreams!$A:$N,EV18,BQ$7)))","v":""},{"$f":"IF($E18=\"\",\"\",IF(INDEX(E_SourceStreams!$A:$N,EW18,BR$7)=\"\",\"\",INDEX(E_SourceStreams!$A:$N,EW18,BR$7)))","v":""},{"$f":"IF($E18=\"\",\"\",IF(INDEX(E_SourceStreams!$A:$N,EX18,BS$7)=\"\",\"\",INDEX(E_SourceStreams!$A:$N,EX18,BS$7)))","v":""},{"$f":"IF($E18=\"\",\"\",IF(INDEX(E_SourceStreams!$A:$N,EY18,BT$7)=\"\",\"\",INDEX(E_SourceStreams!$A:$N,EY18,BT$7)))","v":""},null,null,null,null,null,null,null,null,null,null,null,null,null,null,null,"SourceCategory_",{"$f":"INDEX(C_InstallationDescription!$A$226:$A$332,ROWS($CI$11:CI18))=\"ausblenden\"","v":false},"SourceStreamName_",null,597,599,601,603,605,607,609,609,609,609,609,612,616,617,618,625,635,635,635,635,635,635,635,626,636,636,636,636,636,636,636,627,637,637,637,637,637,637,637,628,638,638,638,638,638,638,638,629,639,639,639,639,639,639,639,630,640,640,640,640,640,640,640,646]
[null,{"$f":"IF(COUNTIF($CK$10:CK19,TRUE)>0,\"\",INDEX(C_InstallationDescription!$E$226:$E$242,ROWS($A$11:A19)))","v":""},{"$f":"IF($E19=\"\",\"\",INDEX(C_InstallationDescription!F:F,MATCH($B19,C_InstallationDescription!$E:$E,0)))","v":""},{"$f":"IF($E19=\"\",\"\",INDEX(C_InstallationDescription!I:I,MATCH($B19,C_InstallationDescription!$E:$E,0)))","v":""},{"$f":"IF($B19=\"\",\"\",INDEX(C_InstallationDescription!F:F,MATCH($CJ19,C_InstallationDescription!$Q:$Q,0)))","v":""},{"$f":"IF($E19=\"\",\"\",INDEX(C_InstallationDescription!L:L,MATCH($CJ19,C_InstallationDescription!$Q:$Q,0)))","v":""},{"$f":"IF($E19=\"\",\"\",INDEX(C_InstallationDescription!M:M,MATCH($CJ19,C_InstallationDescription!$Q:$Q,0)))","v":""},{"$f":"IF($E19=\"\",\"\",INDEX(C_InstallationDescription!N:N,MATCH($CJ19,C_InstallationDescription!$Q:$Q,0)))","v":""},{"$f":"IF($E19=\"\",\"\",IF(INDEX(E_SourceStreams!$A:$N,CN19,I$7)=\"\",\"\",INDEX(E_SourceStreams!$A:$N,CN19,I$7)))","v":""},{"$f":"IF($E19=\"\",\"\",IF(INDEX(E_SourceStreams!$A:$N,CO19,J$7)=\"\",\"\",INDEX(E_SourceStreams!$A:$N,CO19,J$7)))","v":""},{"$f":"IF($E19=\"\",\"\",IF(INDEX(E_SourceStreams!$A:$N,CP19,K$7)=\"\",\"\",INDEX(E_SourceStreams!$A:$N,CP19,K$7)))","v":""},{"$f":"IF($E19=\"\",\"\",IF(INDEX(E_SourceStreams!$A:$N,CQ19,L$7)=\"\",\"\",INDEX(E_SourceStreams!$A:$N,CQ19,L$7)))","v":""},{"$f":"IF($E19=\"\",\"\",IF(INDEX(E_SourceStreams!$A:$N,CR19,M$7)=\"\",\"\",INDEX(E_SourceStreams!$A:$N,CR19,M$7)))","v":""},{"$f":"IF($E19=\"\",\"\",IF(INDEX(E_SourceStreams!$A:$N,CS19,N$7)=\"\",\"\",INDEX(E_SourceStreams!$A:$N,CS19,N$7)))","v":""},{"$f":"IF($E19=\"\",\"\",IF(INDEX(E_SourceStreams!$A:$N,CT19,O$7)=\"\",\"\",INDEX(E_SourceStreams!$A:$N,CT19,O$7)))","v":""},{"$f":"IF($E19=\"\",\"\",IF(INDEX(E_SourceStreams!$A:$N,CU19,P$7)=\"\",\"\",INDEX(E_SourceStreams!$A:$N,CU19,P$7)))","v":""},{"$f":"IF($E19=\"\",\"\",IF(INDEX(E_SourceStreams!$A:$N,CV19,Q$7)=\"\",\"\",INDEX(E_SourceStreams!$A:$N,CV19,Q$7)))","v":""},{"$f":"IF($E19=\"\",\"\",IF(INDEX(E_SourceStreams!$A:$N,CW19,R$7)=\"\",\"\",INDEX(E_SourceStreams!$A:$N,CW19,R$7)))","v":""},{"$f":"IF($E19=\"\",\"\",IF(INDEX(E_SourceStreams!$A:$N,CX19,S$7)=\"\",\"\",INDEX(E_SourceStreams!$A:$N,CX19,S$7)))","v":""},{"$f":"IF($E19=\"\",\"\",IF(INDEX(E_SourceStreams!$A:$N,CY19,T$7)=\"\",\"\",INDEX(E_SourceStreams!$A:$N,CY19,T$7)))","v":""},{"$f":"IF($E19=\"\",\"\",IF(INDEX(E_SourceStreams!$A:$N,CZ19,U$7)=\"\",\"\",INDEX(E_SourceStreams!$A:$N,CZ19,U$7)))","v":""},{"$f":"IF($E19=\"\",\"\",IF(INDEX(E_SourceStreams!$A:$N,DA19,V$7)=\"\",\"\",INDEX(E_SourceStreams!$A:$N,DA19,V$7)))","v":""},{"$f":"IF($E19=\"\",\"\",IF(INDEX(E_SourceStreams!$A:$N,DB19,W$7)=\"\",\"\",INDEX(E_SourceStreams!$A:$N,DB19,W$7)))","v":""},{"$f":"IF($E19=\"\",\"\",IF(INDEX(E_SourceStreams!$A:$N,DC19,X$7)=\"\",\"\",INDEX(E_SourceStreams!$A:$N,DC19,X$7)))","v":""},{"$f":"IF($E19=\"\",\"\",IF(INDEX(E_SourceStreams!$A:$N,DD19,Y$7)=\"\",\"\",INDEX(E_SourceStreams!$A:$N,DD19,Y$7)))","v":""},{"$f":"IF($E19=\"\",\"\",IF(INDEX(E_SourceStreams!$A:$N,DE19,Z$7)=\"\",\"\",INDEX(E_SourceStreams!$A:$N,DE19,Z$7)))","v":""},{"$f":"IF($E19=\"\",\"\",IF(INDEX(E_SourceStreams!$A:$N,DF19,AA$7)=\"\",\"\",INDEX(E_SourceStreams!$A:$N,DF19,AA$7)))","v":""},{"$f":"IF($E19=\"\",\"\",IF(INDEX(E_SourceStreams!$A:$N,DG19,AB$7)=\"\",\"\",INDEX(E_SourceStreams!$A:$N,DG19,AB$7)))","v":""},{"$f":"IF($E19=\"\",\"\",IF(INDEX(E_SourceStreams!$A:$N,DH19,AC$7)=\"\",\"\",INDEX(E_SourceStreams!$A:$N,DH19,AC$7)))","v":""},{"$f":"IF($E19=\"\",\"\",IF(INDEX(E_SourceStreams!$A:$N,DI19,AD$7)=\"\",\"\",INDEX(E_SourceStreams!$A:$N,DI19,AD$7)))","v":""},{"$f":"IF($E19=\"\",\"\",IF(INDEX(E_SourceStreams!$A:$N,DJ19,AE$7)=\"\",\"\",INDEX(E_SourceStreams!$A:$N,DJ19,AE$7)))","v":""},{"$f":"IF($E19=\"\",\"\",IF(INDEX(E_SourceStreams!$A:$N,DK19,AF$7)=\"\",\"\",INDEX(E_SourceStreams!$A:$N,DK19,AF$7)))","v":""},{"$f":"IF($E19=\"\",\"\",IF(INDEX(E_SourceStreams!$A:$N,DL19,AG$7)=\"\",\"\",INDEX(E_SourceStreams!$A:$N,DL19,AG$7)))","v":""},{"$f":"IF($E19=\"\",\"\",IF(INDEX(E_SourceStreams!$A:$N,DM19,AH$7)=\"\",\"\",INDEX(E_SourceStreams!$A:$N,DM19,AH$7)))","v":""},{"$f":"IF($E19=\"\",\"\",IF(INDEX(E_SourceStreams!$A:$N,DN19,AI$7)=\"\",\"\",INDEX(E_SourceStreams!$A:$N,DN19,AI$7)))","v":""},{"$f":"IF($E19=\"\",\"\",IF(INDEX(E_SourceStreams!$A:$N,DO19,AJ$7)=\"\",\"\",INDEX(E_SourceStreams!$A:$N,DO19,AJ$7)))","v":""},{"$f":"IF($E19=\"\",\"\",IF(INDEX(E_SourceStreams!$A:$N,DP19,AK$7)=\"\",\"\",INDEX(E_SourceStreams!$A:$N,DP19,AK$7)))","v":""},{"$f":"IF($E19=\"\",\"\",IF(INDEX(E_SourceStreams!$A:$N,DQ19,AL$7)=\"\",\"\",INDEX(E_SourceStreams!$A:$N,DQ19,AL$7)))","v":""},{"$f":"IF($E19=\"\",\"\",IF(INDEX(E_SourceStreams!$A:$N,DR19,AM$7)=\"\",\"\",INDEX(E_SourceStreams!$A:$N,DR19,AM$7)))","v":""},{"$f":"IF($E19=\"\",\"\",IF(INDEX(E_SourceStreams!$A:$N,DS19,AN$7)=\"\",\"\",INDEX(E_SourceStreams!$A:$N,DS19,AN$7)))","v":""},{"$f":"IF($E19=\"\",\"\",IF(INDEX(E_SourceStreams!$A:$N,DT19,AO$7)=\"\",\"\",INDEX(E_SourceStreams!$A:$N,DT19,AO$7)))","v":""},{"$f":"IF($E19=\"\",\"\",IF(INDEX(E_SourceStreams!$A:$N,DU19,AP$7)=\"\",\"\",INDEX(E_SourceStreams!$A:$N,DU19,AP$7)))","v":""},{"$f":"IF($E19=\"\",\"\",IF(INDEX(E_SourceStreams!$A:$N,DV19,AQ$7)=\"\",\"\",INDEX(E_SourceStreams!$A:$N,DV19,AQ$7)))","v":""},{"$f":"IF($E19=\"\",\"\",IF(INDEX(E_SourceStreams!$A:$N,DW19,AR$7)=\"\",\"\",INDEX(E_SourceStreams!$A:$N,DW19,AR$7)))","v":""},{"$f":"IF($E19=\"\",\"\",IF(INDEX(E_SourceStreams!$A:$N,DX19,AS$7)=\"\",\"\",INDEX(E_SourceStreams!$A:$N,DX19,AS$7)))","v":""},{"$f":"IF($E19=\"\",\"\",IF(INDEX(E_SourceStreams!$A:$N,DY19,AT$7)=\"\",\"\",INDEX(E_SourceStreams!$A:$N,DY19,AT$7)))","v":""},{"$f":"IF($E19=\"\",\"\",IF(INDEX(E_SourceStreams!$A:$N,DZ19,AU$7)=\"\",\"\",INDEX(E_SourceStreams!$A:$N,DZ19,AU$7)))","v":""},{"$f":"IF($E19=\"\",\"\",IF(INDEX(E_SourceStreams!$A:$N,EA19,AV$7)=\"\",\"\",INDEX(E_SourceStreams!$A:$N,EA19,AV$7)))","v":""},{"$f":"IF($E19=\"\",\"\",IF(INDEX(E_SourceStreams!$A:$N,EB19,AW$7)=\"\",\"\",INDEX(E_SourceStreams!$A:$N,EB19,AW$7)))","v":""},{"$f":"IF($E19=\"\",\"\",IF(INDEX(E_SourceStreams!$A:$N,EC19,AX$7)=\"\",\"\",INDEX(E_SourceStreams!$A:$N,EC19,AX$7)))","v":""},{"$f":"IF($E19=\"\",\"\",IF(INDEX(E_SourceStreams!$A:$N,ED19,AY$7)=\"\",\"\",INDEX(E_SourceStreams!$A:$N,ED19,AY$7)))","v":""},{"$f":"IF($E19=\"\",\"\",IF(INDEX(E_SourceStreams!$A:$N,EE19,AZ$7)=\"\",\"\",INDEX(E_SourceStreams!$A:$N,EE19,AZ$7)))","v":""},{"$f":"IF($E19=\"\",\"\",IF(INDEX(E_SourceStreams!$A:$N,EF19,BA$7)=\"\",\"\",INDEX(E_SourceStreams!$A:$N,EF19,BA$7)))","v":""},{"$f":"IF($E19=\"\",\"\",IF(INDEX(E_SourceStreams!$A:$N,EG19,BB$7)=\"\",\"\",INDEX(E_SourceStreams!$A:$N,EG19,BB$7)))","v":""},{"$f":"IF($E19=\"\",\"\",IF(INDEX(E_SourceStreams!$A:$N,EH19,BC$7)=\"\",\"\",INDEX(E_SourceStreams!$A:$N,EH19,BC$7)))","v":""},{"$f":"IF($E19=\"\",\"\",IF(INDEX(E_SourceStreams!$A:$N,EI19,BD$7)=\"\",\"\",INDEX(E_SourceStreams!$A:$N,EI19,BD$7)))","v":""},{"$f":"IF($E19=\"\",\"\",IF(INDEX(E_SourceStreams!$A:$N,EJ19,BE$7)=\"\",\"\",INDEX(E_SourceStreams!$A:$N,EJ19,BE$7)))","v":""},{"$f":"IF($E19=\"\",\"\",IF(INDEX(E_SourceStreams!$A:$N,EK19,BF$7)=\"\",\"\",INDEX(E_SourceStreams!$A:$N,EK19,BF$7)))","v":""},{"$f":"IF($E19=\"\",\"\",IF(INDEX(E_SourceStreams!$A:$N,EL19,BG$7)=\"\",\"\",INDEX(E_SourceStreams!$A:$N,EL19,BG$7)))","v":""},{"$f":"IF($E19=\"\",\"\",IF(INDEX(E_SourceStreams!$A:$N,EM19,BH$7)=\"\",\"\",INDEX(E_SourceStreams!$A:$N,EM19,BH$7)))","v":""},{"$f":"IF($E19=\"\",\"\",IF(INDEX(E_SourceStreams!$A:$N,EN19,BI$7)=\"\",\"\",INDEX(E_SourceStreams!$A:$N,EN19,BI$7)))","v":""},{"$f":"IF($E19=\"\",\"\",IF(INDEX(E_SourceStreams!$A:$N,EO19,BJ$7)=\"\",\"\",INDEX(E_SourceStreams!$A:$N,EO19,BJ$7)))","v":""},{"$f":"IF($E19=\"\",\"\",IF(INDEX(E_SourceStreams!$A:$N,EP19,BK$7)=\"\",\"\",INDEX(E_SourceStreams!$A:$N,EP19,BK$7)))","v":""},{"$f":"IF($E19=\"\",\"\",IF(INDEX(E_SourceStreams!$A:$N,EQ19,BL$7)=\"\",\"\",INDEX(E_SourceStreams!$A:$N,EQ19,BL$7)))","v":""},{"$f":"IF($E19=\"\",\"\",IF(INDEX(E_SourceStreams!$A:$N,ER19,BM$7)=\"\",\"\",INDEX(E_SourceStreams!$A:$N,ER19,BM$7)))","v":""},{"$f":"IF($E19=\"\",\"\",IF(INDEX(E_SourceStreams!$A:$N,ES19,BN$7)=\"\",\"\",INDEX(E_SourceStreams!$A:$N,ES19,BN$7)))","v":""},{"$f":"IF($E19=\"\",\"\",IF(INDEX(E_SourceStreams!$A:$N,ET19,BO$7)=\"\",\"\",INDEX(E_SourceStreams!$A:$N,ET19,BO$7)))","v":""},{"$f":"IF($E19=\"\",\"\",IF(INDEX(E_SourceStreams!$A:$N,EU19,BP$7)=\"\",\"\",INDEX(E_SourceStreams!$A:$N,EU19,BP$7)))","v":""},{"$f":"IF($E19=\"\",\"\",IF(INDEX(E_SourceStreams!$A:$N,EV19,BQ$7)=\"\",\"\",INDEX(E_SourceStreams!$A:$N,EV19,BQ$7)))","v":""},{"$f":"IF($E19=\"\",\"\",IF(INDEX(E_SourceStreams!$A:$N,EW19,BR$7)=\"\",\"\",INDEX(E_SourceStreams!$A:$N,EW19,BR$7)))","v":""},{"$f":"IF($E19=\"\",\"\",IF(INDEX(E_SourceStreams!$A:$N,EX19,BS$7)=\"\",\"\",INDEX(E_SourceStreams!$A:$N,EX19,BS$7)))","v":""},{"$f":"IF($E19=\"\",\"\",IF(INDEX(E_SourceStreams!$A:$N,EY19,BT$7)=\"\",\"\",INDEX(E_SourceStreams!$A:$N,EY19,BT$7)))","v":""},null,null,null,null,null,null,null,null,null,null,null,null,null,null,null,"SourceCategory_",{"$f":"INDEX(C_InstallationDescription!$A$226:$A$332,ROWS($CI$11:CI19))=\"ausblenden\"","v":false},"SourceStreamName_",null,663,665,667,669,671,673,675,675,675,675,675,678,682,683,684,691,701,701,701,701,701,701,701,692,702,702,702,702,702,702,702,693,703,703,703,703,703,703,703,694,704,704,704,704,704,704,704,695,705,705,705,705,705,705,705,696,706,706,706,706,706,706,706,712]
[null,{"$f":"IF(COUNTIF($CK$10:CK20,TRUE)>0,\"\",INDEX(C_InstallationDescription!$E$226:$E$242,ROWS($A$11:A20)))","v":""},{"$f":"IF($E20=\"\",\"\",INDEX(C_InstallationDescription!F:F,MATCH($B20,C_InstallationDescription!$E:$E,0)))","v":""},{"$f":"IF($E20=\"\",\"\",INDEX(C_InstallationDescription!I:I,MATCH($B20,C_InstallationDescription!$E:$E,0)))","v":""},{"$f":"IF($B20=\"\",\"\",INDEX(C_InstallationDescription!F:F,MATCH($CJ20,C_InstallationDescription!$Q:$Q,0)))","v":""},{"$f":"IF($E20=\"\",\"\",INDEX(C_InstallationDescription!L:L,MATCH($CJ20,C_InstallationDescription!$Q:$Q,0)))","v":""},{"$f":"IF($E20=\"\",\"\",INDEX(C_InstallationDescription!M:M,MATCH($CJ20,C_InstallationDescription!$Q:$Q,0)))","v":""},{"$f":"IF($E20=\"\",\"\",INDEX(C_InstallationDescription!N:N,MATCH($CJ20,C_InstallationDescription!$Q:$Q,0)))","v":""},{"$f":"IF($E20=\"\",\"\",IF(INDEX(E_SourceStreams!$A:$N,CN20,I$7)=\"\",\"\",INDEX(E_SourceStreams!$A:$N,CN20,I$7)))","v":""},{"$f":"IF($E20=\"\",\"\",IF(INDEX(E_SourceStreams!$A:$N,CO20,J$7)=\"\",\"\",INDEX(E_SourceStreams!$A:$N,CO20,J$7)))","v":""},{"$f":"IF($E20=\"\",\"\",IF(INDEX(E_SourceStreams!$A:$N,CP20,K$7)=\"\",\"\",INDEX(E_SourceStreams!$A:$N,CP20,K$7)))","v":""},{"$f":"IF($E20=\"\",\"\",IF(INDEX(E_SourceStreams!$A:$N,CQ20,L$7)=\"\",\"\",INDEX(E_SourceStreams!$A:$N,CQ20,L$7)))","v":""},{"$f":"IF($E20=\"\",\"\",IF(INDEX(E_SourceStreams!$A:$N,CR20,M$7)=\"\",\"\",INDEX(E_SourceStreams!$A:$N,CR20,M$7)))","v":""},{"$f":"IF($E20=\"\",\"\",IF(INDEX(E_SourceStreams!$A:$N,CS20,N$7)=\"\",\"\",INDEX(E_SourceStreams!$A:$N,CS20,N$7)))","v":""},{"$f":"IF($E20=\"\",\"\",IF(INDEX(E_SourceStreams!$A:$N,CT20,O$7)=\"\",\"\",INDEX(E_SourceStreams!$A:$N,CT20,O$7)))","v":""},{"$f":"IF($E20=\"\",\"\",IF(INDEX(E_SourceStreams!$A:$N,CU20,P$7)=\"\",\"\",INDEX(E_SourceStreams!$A:$N,CU20,P$7)))","v":""},{"$f":"IF($E20=\"\",\"\",IF(INDEX(E_SourceStreams!$A:$N,CV20,Q$7)=\"\",\"\",INDEX(E_SourceStreams!$A:$N,CV20,Q$7)))","v":""},{"$f":"IF($E20=\"\",\"\",IF(INDEX(E_SourceStreams!$A:$N,CW20,R$7)=\"\",\"\",INDEX(E_SourceStreams!$A:$N,CW20,R$7)))","v":""},{"$f":"IF($E20=\"\",\"\",IF(INDEX(E_SourceStreams!$A:$N,CX20,S$7)=\"\",\"\",INDEX(E_SourceStreams!$A:$N,CX20,S$7)))","v":""},{"$f":"IF($E20=\"\",\"\",IF(INDEX(E_SourceStreams!$A:$N,CY20,T$7)=\"\",\"\",INDEX(E_SourceStreams!$A:$N,CY20,T$7)))","v":""},{"$f":"IF($E20=\"\",\"\",IF(INDEX(E_SourceStreams!$A:$N,CZ20,U$7)=\"\",\"\",INDEX(E_SourceStreams!$A:$N,CZ20,U$7)))","v":""},{"$f":"IF($E20=\"\",\"\",IF(INDEX(E_SourceStreams!$A:$N,DA20,V$7)=\"\",\"\",INDEX(E_SourceStreams!$A:$N,DA20,V$7)))","v":""},{"$f":"IF($E20=\"\",\"\",IF(INDEX(E_SourceStreams!$A:$N,DB20,W$7)=\"\",\"\",INDEX(E_SourceStreams!$A:$N,DB20,W$7)))","v":""},{"$f":"IF($E20=\"\",\"\",IF(INDEX(E_SourceStreams!$A:$N,DC20,X$7)=\"\",\"\",INDEX(E_SourceStreams!$A:$N,DC20,X$7)))","v":""},{"$f":"IF($E20=\"\",\"\",IF(INDEX(E_SourceStreams!$A:$N,DD20,Y$7)=\"\",\"\",INDEX(E_SourceStreams!$A:$N,DD20,Y$7)))","v":""},{"$f":"IF($E20=\"\",\"\",IF(INDEX(E_SourceStreams!$A:$N,DE20,Z$7)=\"\",\"\",INDEX(E_SourceStreams!$A:$N,DE20,Z$7)))","v":""},{"$f":"IF($E20=\"\",\"\",IF(INDEX(E_SourceStreams!$A:$N,DF20,AA$7)=\"\",\"\",INDEX(E_SourceStreams!$A:$N,DF20,AA$7)))","v":""},{"$f":"IF($E20=\"\",\"\",IF(INDEX(E_SourceStreams!$A:$N,DG20,AB$7)=\"\",\"\",INDEX(E_SourceStreams!$A:$N,DG20,AB$7)))","v":""},{"$f":"IF($E20=\"\",\"\",IF(INDEX(E_SourceStreams!$A:$N,DH20,AC$7)=\"\",\"\",INDEX(E_SourceStreams!$A:$N,DH20,AC$7)))","v":""},{"$f":"IF($E20=\"\",\"\",IF(INDEX(E_SourceStreams!$A:$N,DI20,AD$7)=\"\",\"\",INDEX(E_SourceStreams!$A:$N,DI20,AD$7)))","v":""},{"$f":"IF($E20=\"\",\"\",IF(INDEX(E_SourceStreams!$A:$N,DJ20,AE$7)=\"\",\"\",INDEX(E_SourceStreams!$A:$N,DJ20,AE$7)))","v":""},{"$f":"IF($E20=\"\",\"\",IF(INDEX(E_SourceStreams!$A:$N,DK20,AF$7)=\"\",\"\",INDEX(E_SourceStreams!$A:$N,DK20,AF$7)))","v":""},{"$f":"IF($E20=\"\",\"\",IF(INDEX(E_SourceStreams!$A:$N,DL20,AG$7)=\"\",\"\",INDEX(E_SourceStreams!$A:$N,DL20,AG$7)))","v":""},{"$f":"IF($E20=\"\",\"\",IF(INDEX(E_SourceStreams!$A:$N,DM20,AH$7)=\"\",\"\",INDEX(E_SourceStreams!$A:$N,DM20,AH$7)))","v":""},{"$f":"IF($E20=\"\",\"\",IF(INDEX(E_SourceStreams!$A:$N,DN20,AI$7)=\"\",\"\",INDEX(E_SourceStreams!$A:$N,DN20,AI$7)))","v":""},{"$f":"IF($E20=\"\",\"\",IF(INDEX(E_SourceStreams!$A:$N,DO20,AJ$7)=\"\",\"\",INDEX(E_SourceStreams!$A:$N,DO20,AJ$7)))","v":""},{"$f":"IF($E20=\"\",\"\",IF(INDEX(E_SourceStreams!$A:$N,DP20,AK$7)=\"\",\"\",INDEX(E_SourceStreams!$A:$N,DP20,AK$7)))","v":""},{"$f":"IF($E20=\"\",\"\",IF(INDEX(E_SourceStreams!$A:$N,DQ20,AL$7)=\"\",\"\",INDEX(E_SourceStreams!$A:$N,DQ20,AL$7)))","v":""},{"$f":"IF($E20=\"\",\"\",IF(INDEX(E_SourceStreams!$A:$N,DR20,AM$7)=\"\",\"\",INDEX(E_SourceStreams!$A:$N,DR20,AM$7)))","v":""},{"$f":"IF($E20=\"\",\"\",IF(INDEX(E_SourceStreams!$A:$N,DS20,AN$7)=\"\",\"\",INDEX(E_SourceStreams!$A:$N,DS20,AN$7)))","v":""},{"$f":"IF($E20=\"\",\"\",IF(INDEX(E_SourceStreams!$A:$N,DT20,AO$7)=\"\",\"\",INDEX(E_SourceStreams!$A:$N,DT20,AO$7)))","v":""},{"$f":"IF($E20=\"\",\"\",IF(INDEX(E_SourceStreams!$A:$N,DU20,AP$7)=\"\",\"\",INDEX(E_SourceStreams!$A:$N,DU20,AP$7)))","v":""},{"$f":"IF($E20=\"\",\"\",IF(INDEX(E_SourceStreams!$A:$N,DV20,AQ$7)=\"\",\"\",INDEX(E_SourceStreams!$A:$N,DV20,AQ$7)))","v":""},{"$f":"IF($E20=\"\",\"\",IF(INDEX(E_SourceStreams!$A:$N,DW20,AR$7)=\"\",\"\",INDEX(E_SourceStreams!$A:$N,DW20,AR$7)))","v":""},{"$f":"IF($E20=\"\",\"\",IF(INDEX(E_SourceStreams!$A:$N,DX20,AS$7)=\"\",\"\",INDEX(E_SourceStreams!$A:$N,DX20,AS$7)))","v":""},{"$f":"IF($E20=\"\",\"\",IF(INDEX(E_SourceStreams!$A:$N,DY20,AT$7)=\"\",\"\",INDEX(E_SourceStreams!$A:$N,DY20,AT$7)))","v":""},{"$f":"IF($E20=\"\",\"\",IF(INDEX(E_SourceStreams!$A:$N,DZ20,AU$7)=\"\",\"\",INDEX(E_SourceStreams!$A:$N,DZ20,AU$7)))","v":""},{"$f":"IF($E20=\"\",\"\",IF(INDEX(E_SourceStreams!$A:$N,EA20,AV$7)=\"\",\"\",INDEX(E_SourceStreams!$A:$N,EA20,AV$7)))","v":""},{"$f":"IF($E20=\"\",\"\",IF(INDEX(E_SourceStreams!$A:$N,EB20,AW$7)=\"\",\"\",INDEX(E_SourceStreams!$A:$N,EB20,AW$7)))","v":""},{"$f":"IF($E20=\"\",\"\",IF(INDEX(E_SourceStreams!$A:$N,EC20,AX$7)=\"\",\"\",INDEX(E_SourceStreams!$A:$N,EC20,AX$7)))","v":""},{"$f":"IF($E20=\"\",\"\",IF(INDEX(E_SourceStreams!$A:$N,ED20,AY$7)=\"\",\"\",INDEX(E_SourceStreams!$A:$N,ED20,AY$7)))","v":""},{"$f":"IF($E20=\"\",\"\",IF(INDEX(E_SourceStreams!$A:$N,EE20,AZ$7)=\"\",\"\",INDEX(E_SourceStreams!$A:$N,EE20,AZ$7)))","v":""},{"$f":"IF($E20=\"\",\"\",IF(INDEX(E_SourceStreams!$A:$N,EF20,BA$7)=\"\",\"\",INDEX(E_SourceStreams!$A:$N,EF20,BA$7)))","v":""},{"$f":"IF($E20=\"\",\"\",IF(INDEX(E_SourceStreams!$A:$N,EG20,BB$7)=\"\",\"\",INDEX(E_SourceStreams!$A:$N,EG20,BB$7)))","v":""},{"$f":"IF($E20=\"\",\"\",IF(INDEX(E_SourceStreams!$A:$N,EH20,BC$7)=\"\",\"\",INDEX(E_SourceStreams!$A:$N,EH20,BC$7)))","v":""},{"$f":"IF($E20=\"\",\"\",IF(INDEX(E_SourceStreams!$A:$N,EI20,BD$7)=\"\",\"\",INDEX(E_SourceStreams!$A:$N,EI20,BD$7)))","v":""},{"$f":"IF($E20=\"\",\"\",IF(INDEX(E_SourceStreams!$A:$N,EJ20,BE$7)=\"\",\"\",INDEX(E_SourceStreams!$A:$N,EJ20,BE$7)))","v":""},{"$f":"IF($E20=\"\",\"\",IF(INDEX(E_SourceStreams!$A:$N,EK20,BF$7)=\"\",\"\",INDEX(E_SourceStreams!$A:$N,EK20,BF$7)))","v":""},{"$f":"IF($E20=\"\",\"\",IF(INDEX(E_SourceStreams!$A:$N,EL20,BG$7)=\"\",\"\",INDEX(E_SourceStreams!$A:$N,EL20,BG$7)))","v":""},{"$f":"IF($E20=\"\",\"\",IF(INDEX(E_SourceStreams!$A:$N,EM20,BH$7)=\"\",\"\",INDEX(E_SourceStreams!$A:$N,EM20,BH$7)))","v":""},{"$f":"IF($E20=\"\",\"\",IF(INDEX(E_SourceStreams!$A:$N,EN20,BI$7)=\"\",\"\",INDEX(E_SourceStreams!$A:$N,EN20,BI$7)))","v":""},{"$f":"IF($E20=\"\",\"\",IF(INDEX(E_SourceStreams!$A:$N,EO20,BJ$7)=\"\",\"\",INDEX(E_SourceStreams!$A:$N,EO20,BJ$7)))","v":""},{"$f":"IF($E20=\"\",\"\",IF(INDEX(E_SourceStreams!$A:$N,EP20,BK$7)=\"\",\"\",INDEX(E_SourceStreams!$A:$N,EP20,BK$7)))","v":""},{"$f":"IF($E20=\"\",\"\",IF(INDEX(E_SourceStreams!$A:$N,EQ20,BL$7)=\"\",\"\",INDEX(E_SourceStreams!$A:$N,EQ20,BL$7)))","v":""},{"$f":"IF($E20=\"\",\"\",IF(INDEX(E_SourceStreams!$A:$N,ER20,BM$7)=\"\",\"\",INDEX(E_SourceStreams!$A:$N,ER20,BM$7)))","v":""},{"$f":"IF($E20=\"\",\"\",IF(INDEX(E_SourceStreams!$A:$N,ES20,BN$7)=\"\",\"\",INDEX(E_SourceStreams!$A:$N,ES20,BN$7)))","v":""},{"$f":"IF($E20=\"\",\"\",IF(INDEX(E_SourceStreams!$A:$N,ET20,BO$7)=\"\",\"\",INDEX(E_SourceStreams!$A:$N,ET20,BO$7)))","v":""},{"$f":"IF($E20=\"\",\"\",IF(INDEX(E_SourceStreams!$A:$N,EU20,BP$7)=\"\",\"\",INDEX(E_SourceStreams!$A:$N,EU20,BP$7)))","v":""},{"$f":"IF($E20=\"\",\"\",IF(INDEX(E_SourceStreams!$A:$N,EV20,BQ$7)=\"\",\"\",INDEX(E_SourceStreams!$A:$N,EV20,BQ$7)))","v":""},{"$f":"IF($E20=\"\",\"\",IF(INDEX(E_SourceStreams!$A:$N,EW20,BR$7)=\"\",\"\",INDEX(E_SourceStreams!$A:$N,EW20,BR$7)))","v":""},{"$f":"IF($E20=\"\",\"\",IF(INDEX(E_SourceStreams!$A:$N,EX20,BS$7)=\"\",\"\",INDEX(E_SourceStreams!$A:$N,EX20,BS$7)))","v":""},{"$f":"IF($E20=\"\",\"\",IF(INDEX(E_SourceStreams!$A:$N,EY20,BT$7)=\"\",\"\",INDEX(E_SourceStreams!$A:$N,EY20,BT$7)))","v":""},null,null,null,null,null,null,null,null,null,null,null,null,null,null,null,"SourceCategory_",{"$f":"INDEX(C_InstallationDescription!$A$226:$A$332,ROWS($CI$11:CI20))=\"ausblenden\"","v":false},"SourceStreamName_",null,729,731,733,735,737,739,741,741,741,741,741,744,748,749,750,757,767,767,767,767,767,767,767,758,768,768,768,768,768,768,768,759,769,769,769,769,769,769,769,760,770,770,770,770,770,770,770,761,771,771,771,771,771,771,771,762,772,772,772,772,772,772,772,778]
[null,{"$f":"IF(COUNTIF($CK$10:CK21,TRUE)>0,\"\",INDEX(C_InstallationDescription!$E$226:$E$242,ROWS($A$11:A21)))","v":""},{"$f":"IF($E21=\"\",\"\",INDEX(C_InstallationDescription!F:F,MATCH($B21,C_InstallationDescription!$E:$E,0)))","v":""},{"$f":"IF($E21=\"\",\"\",INDEX(C_InstallationDescription!I:I,MATCH($B21,C_InstallationDescription!$E:$E,0)))","v":""},{"$f":"IF($B21=\"\",\"\",INDEX(C_InstallationDescription!F:F,MATCH($CJ21,C_InstallationDescription!$Q:$Q,0)))","v":""},{"$f":"IF($E21=\"\",\"\",INDEX(C_InstallationDescription!L:L,MATCH($CJ21,C_InstallationDescription!$Q:$Q,0)))","v":""},{"$f":"IF($E21=\"\",\"\",INDEX(C_InstallationDescription!M:M,MATCH($CJ21,C_InstallationDescription!$Q:$Q,0)))","v":""},{"$f":"IF($E21=\"\",\"\",INDEX(C_InstallationDescription!N:N,MATCH($CJ21,C_InstallationDescription!$Q:$Q,0)))","v":""},{"$f":"IF($E21=\"\",\"\",IF(INDEX(E_SourceStreams!$A:$N,CN21,I$7)=\"\",\"\",INDEX(E_SourceStreams!$A:$N,CN21,I$7)))","v":""},{"$f":"IF($E21=\"\",\"\",IF(INDEX(E_SourceStreams!$A:$N,CO21,J$7)=\"\",\"\",INDEX(E_SourceStreams!$A:$N,CO21,J$7)))","v":""},{"$f":"IF($E21=\"\",\"\",IF(INDEX(E_SourceStreams!$A:$N,CP21,K$7)=\"\",\"\",INDEX(E_SourceStreams!$A:$N,CP21,K$7)))","v":""},{"$f":"IF($E21=\"\",\"\",IF(INDEX(E_SourceStreams!$A:$N,CQ21,L$7)=\"\",\"\",INDEX(E_SourceStreams!$A:$N,CQ21,L$7)))","v":""},{"$f":"IF($E21=\"\",\"\",IF(INDEX(E_SourceStreams!$A:$N,CR21,M$7)=\"\",\"\",INDEX(E_SourceStreams!$A:$N,CR21,M$7)))","v":""},{"$f":"IF($E21=\"\",\"\",IF(INDEX(E_SourceStreams!$A:$N,CS21,N$7)=\"\",\"\",INDEX(E_SourceStreams!$A:$N,CS21,N$7)))","v":""},{"$f":"IF($E21=\"\",\"\",IF(INDEX(E_SourceStreams!$A:$N,CT21,O$7)=\"\",\"\",INDEX(E_SourceStreams!$A:$N,CT21,O$7)))","v":""},{"$f":"IF($E21=\"\",\"\",IF(INDEX(E_SourceStreams!$A:$N,CU21,P$7)=\"\",\"\",INDEX(E_SourceStreams!$A:$N,CU21,P$7)))","v":""},{"$f":"IF($E21=\"\",\"\",IF(INDEX(E_SourceStreams!$A:$N,CV21,Q$7)=\"\",\"\",INDEX(E_SourceStreams!$A:$N,CV21,Q$7)))","v":""},{"$f":"IF($E21=\"\",\"\",IF(INDEX(E_SourceStreams!$A:$N,CW21,R$7)=\"\",\"\",INDEX(E_SourceStreams!$A:$N,CW21,R$7)))","v":""},{"$f":"IF($E21=\"\",\"\",IF(INDEX(E_SourceStreams!$A:$N,CX21,S$7)=\"\",\"\",INDEX(E_SourceStreams!$A:$N,CX21,S$7)))","v":""},{"$f":"IF($E21=\"\",\"\",IF(INDEX(E_SourceStreams!$A:$N,CY21,T$7)=\"\",\"\",INDEX(E_SourceStreams!$A:$N,CY21,T$7)))","v":""},{"$f":"IF($E21=\"\",\"\",IF(INDEX(E_SourceStreams!$A:$N,CZ21,U$7)=\"\",\"\",INDEX(E_SourceStreams!$A:$N,CZ21,U$7)))","v":""},{"$f":"IF($E21=\"\",\"\",IF(INDEX(E_SourceStreams!$A:$N,DA21,V$7)=\"\",\"\",INDEX(E_SourceStreams!$A:$N,DA21,V$7)))","v":""},{"$f":"IF($E21=\"\",\"\",IF(INDEX(E_SourceStreams!$A:$N,DB21,W$7)=\"\",\"\",INDEX(E_SourceStreams!$A:$N,DB21,W$7)))","v":""},{"$f":"IF($E21=\"\",\"\",IF(INDEX(E_SourceStreams!$A:$N,DC21,X$7)=\"\",\"\",INDEX(E_SourceStreams!$A:$N,DC21,X$7)))","v":""},{"$f":"IF($E21=\"\",\"\",IF(INDEX(E_SourceStreams!$A:$N,DD21,Y$7)=\"\",\"\",INDEX(E_SourceStreams!$A:$N,DD21,Y$7)))","v":""},{"$f":"IF($E21=\"\",\"\",IF(INDEX(E_SourceStreams!$A:$N,DE21,Z$7)=\"\",\"\",INDEX(E_SourceStreams!$A:$N,DE21,Z$7)))","v":""},{"$f":"IF($E21=\"\",\"\",IF(INDEX(E_SourceStreams!$A:$N,DF21,AA$7)=\"\",\"\",INDEX(E_SourceStreams!$A:$N,DF21,AA$7)))","v":""},{"$f":"IF($E21=\"\",\"\",IF(INDEX(E_SourceStreams!$A:$N,DG21,AB$7)=\"\",\"\",INDEX(E_SourceStreams!$A:$N,DG21,AB$7)))","v":""},{"$f":"IF($E21=\"\",\"\",IF(INDEX(E_SourceStreams!$A:$N,DH21,AC$7)=\"\",\"\",INDEX(E_SourceStreams!$A:$N,DH21,AC$7)))","v":""},{"$f":"IF($E21=\"\",\"\",IF(INDEX(E_SourceStreams!$A:$N,DI21,AD$7)=\"\",\"\",INDEX(E_SourceStreams!$A:$N,DI21,AD$7)))","v":""},{"$f":"IF($E21=\"\",\"\",IF(INDEX(E_SourceStreams!$A:$N,DJ21,AE$7)=\"\",\"\",INDEX(E_SourceStreams!$A:$N,DJ21,AE$7)))","v":""},{"$f":"IF($E21=\"\",\"\",IF(INDEX(E_SourceStreams!$A:$N,DK21,AF$7)=\"\",\"\",INDEX(E_SourceStreams!$A:$N,DK21,AF$7)))","v":""},{"$f":"IF($E21=\"\",\"\",IF(INDEX(E_SourceStreams!$A:$N,DL21,AG$7)=\"\",\"\",INDEX(E_SourceStreams!$A:$N,DL21,AG$7)))","v":""},{"$f":"IF($E21=\"\",\"\",IF(INDEX(E_SourceStreams!$A:$N,DM21,AH$7)=\"\",\"\",INDEX(E_SourceStreams!$A:$N,DM21,AH$7)))","v":""},{"$f":"IF($E21=\"\",\"\",IF(INDEX(E_SourceStreams!$A:$N,DN21,AI$7)=\"\",\"\",INDEX(E_SourceStreams!$A:$N,DN21,AI$7)))","v":""},{"$f":"IF($E21=\"\",\"\",IF(INDEX(E_SourceStreams!$A:$N,DO21,AJ$7)=\"\",\"\",INDEX(E_SourceStreams!$A:$N,DO21,AJ$7)))","v":""},{"$f":"IF($E21=\"\",\"\",IF(INDEX(E_SourceStreams!$A:$N,DP21,AK$7)=\"\",\"\",INDEX(E_SourceStreams!$A:$N,DP21,AK$7)))","v":""},{"$f":"IF($E21=\"\",\"\",IF(INDEX(E_SourceStreams!$A:$N,DQ21,AL$7)=\"\",\"\",INDEX(E_SourceStreams!$A:$N,DQ21,AL$7)))","v":""},{"$f":"IF($E21=\"\",\"\",IF(INDEX(E_SourceStreams!$A:$N,DR21,AM$7)=\"\",\"\",INDEX(E_SourceStreams!$A:$N,DR21,AM$7)))","v":""},{"$f":"IF($E21=\"\",\"\",IF(INDEX(E_SourceStreams!$A:$N,DS21,AN$7)=\"\",\"\",INDEX(E_SourceStreams!$A:$N,DS21,AN$7)))","v":""},{"$f":"IF($E21=\"\",\"\",IF(INDEX(E_SourceStreams!$A:$N,DT21,AO$7)=\"\",\"\",INDEX(E_SourceStreams!$A:$N,DT21,AO$7)))","v":""},{"$f":"IF($E21=\"\",\"\",IF(INDEX(E_SourceStreams!$A:$N,DU21,AP$7)=\"\",\"\",INDEX(E_SourceStreams!$A:$N,DU21,AP$7)))","v":""},{"$f":"IF($E21=\"\",\"\",IF(INDEX(E_SourceStreams!$A:$N,DV21,AQ$7)=\"\",\"\",INDEX(E_SourceStreams!$A:$N,DV21,AQ$7)))","v":""},{"$f":"IF($E21=\"\",\"\",IF(INDEX(E_SourceStreams!$A:$N,DW21,AR$7)=\"\",\"\",INDEX(E_SourceStreams!$A:$N,DW21,AR$7)))","v":""},{"$f":"IF($E21=\"\",\"\",IF(INDEX(E_SourceStreams!$A:$N,DX21,AS$7)=\"\",\"\",INDEX(E_SourceStreams!$A:$N,DX21,AS$7)))","v":""},{"$f":"IF($E21=\"\",\"\",IF(INDEX(E_SourceStreams!$A:$N,DY21,AT$7)=\"\",\"\",INDEX(E_SourceStreams!$A:$N,DY21,AT$7)))","v":""},{"$f":"IF($E21=\"\",\"\",IF(INDEX(E_SourceStreams!$A:$N,DZ21,AU$7)=\"\",\"\",INDEX(E_SourceStreams!$A:$N,DZ21,AU$7)))","v":""},{"$f":"IF($E21=\"\",\"\",IF(INDEX(E_SourceStreams!$A:$N,EA21,AV$7)=\"\",\"\",INDEX(E_SourceStreams!$A:$N,EA21,AV$7)))","v":""},{"$f":"IF($E21=\"\",\"\",IF(INDEX(E_SourceStreams!$A:$N,EB21,AW$7)=\"\",\"\",INDEX(E_SourceStreams!$A:$N,EB21,AW$7)))","v":""},{"$f":"IF($E21=\"\",\"\",IF(INDEX(E_SourceStreams!$A:$N,EC21,AX$7)=\"\",\"\",INDEX(E_SourceStreams!$A:$N,EC21,AX$7)))","v":""},{"$f":"IF($E21=\"\",\"\",IF(INDEX(E_SourceStreams!$A:$N,ED21,AY$7)=\"\",\"\",INDEX(E_SourceStreams!$A:$N,ED21,AY$7)))","v":""},{"$f":"IF($E21=\"\",\"\",IF(INDEX(E_SourceStreams!$A:$N,EE21,AZ$7)=\"\",\"\",INDEX(E_SourceStreams!$A:$N,EE21,AZ$7)))","v":""},{"$f":"IF($E21=\"\",\"\",IF(INDEX(E_SourceStreams!$A:$N,EF21,BA$7)=\"\",\"\",INDEX(E_SourceStreams!$A:$N,EF21,BA$7)))","v":""},{"$f":"IF($E21=\"\",\"\",IF(INDEX(E_SourceStreams!$A:$N,EG21,BB$7)=\"\",\"\",INDEX(E_SourceStreams!$A:$N,EG21,BB$7)))","v":""},{"$f":"IF($E21=\"\",\"\",IF(INDEX(E_SourceStreams!$A:$N,EH21,BC$7)=\"\",\"\",INDEX(E_SourceStreams!$A:$N,EH21,BC$7)))","v":""},{"$f":"IF($E21=\"\",\"\",IF(INDEX(E_SourceStreams!$A:$N,EI21,BD$7)=\"\",\"\",INDEX(E_SourceStreams!$A:$N,EI21,BD$7)))","v":""},{"$f":"IF($E21=\"\",\"\",IF(INDEX(E_SourceStreams!$A:$N,EJ21,BE$7)=\"\",\"\",INDEX(E_SourceStreams!$A:$N,EJ21,BE$7)))","v":""},{"$f":"IF($E21=\"\",\"\",IF(INDEX(E_SourceStreams!$A:$N,EK21,BF$7)=\"\",\"\",INDEX(E_SourceStreams!$A:$N,EK21,BF$7)))","v":""},{"$f":"IF($E21=\"\",\"\",IF(INDEX(E_SourceStreams!$A:$N,EL21,BG$7)=\"\",\"\",INDEX(E_SourceStreams!$A:$N,EL21,BG$7)))","v":""},{"$f":"IF($E21=\"\",\"\",IF(INDEX(E_SourceStreams!$A:$N,EM21,BH$7)=\"\",\"\",INDEX(E_SourceStreams!$A:$N,EM21,BH$7)))","v":""},{"$f":"IF($E21=\"\",\"\",IF(INDEX(E_SourceStreams!$A:$N,EN21,BI$7)=\"\",\"\",INDEX(E_SourceStreams!$A:$N,EN21,BI$7)))","v":""},{"$f":"IF($E21=\"\",\"\",IF(INDEX(E_SourceStreams!$A:$N,EO21,BJ$7)=\"\",\"\",INDEX(E_SourceStreams!$A:$N,EO21,BJ$7)))","v":""},{"$f":"IF($E21=\"\",\"\",IF(INDEX(E_SourceStreams!$A:$N,EP21,BK$7)=\"\",\"\",INDEX(E_SourceStreams!$A:$N,EP21,BK$7)))","v":""},{"$f":"IF($E21=\"\",\"\",IF(INDEX(E_SourceStreams!$A:$N,EQ21,BL$7)=\"\",\"\",INDEX(E_SourceStreams!$A:$N,EQ21,BL$7)))","v":""},{"$f":"IF($E21=\"\",\"\",IF(INDEX(E_SourceStreams!$A:$N,ER21,BM$7)=\"\",\"\",INDEX(E_SourceStreams!$A:$N,ER21,BM$7)))","v":""},{"$f":"IF($E21=\"\",\"\",IF(INDEX(E_SourceStreams!$A:$N,ES21,BN$7)=\"\",\"\",INDEX(E_SourceStreams!$A:$N,ES21,BN$7)))","v":""},{"$f":"IF($E21=\"\",\"\",IF(INDEX(E_SourceStreams!$A:$N,ET21,BO$7)=\"\",\"\",INDEX(E_SourceStreams!$A:$N,ET21,BO$7)))","v":""},{"$f":"IF($E21=\"\",\"\",IF(INDEX(E_SourceStreams!$A:$N,EU21,BP$7)=\"\",\"\",INDEX(E_SourceStreams!$A:$N,EU21,BP$7)))","v":""},{"$f":"IF($E21=\"\",\"\",IF(INDEX(E_SourceStreams!$A:$N,EV21,BQ$7)=\"\",\"\",INDEX(E_SourceStreams!$A:$N,EV21,BQ$7)))","v":""},{"$f":"IF($E21=\"\",\"\",IF(INDEX(E_SourceStreams!$A:$N,EW21,BR$7)=\"\",\"\",INDEX(E_SourceStreams!$A:$N,EW21,BR$7)))","v":""},{"$f":"IF($E21=\"\",\"\",IF(INDEX(E_SourceStreams!$A:$N,EX21,BS$7)=\"\",\"\",INDEX(E_SourceStreams!$A:$N,EX21,BS$7)))","v":""},{"$f":"IF($E21=\"\",\"\",IF(INDEX(E_SourceStreams!$A:$N,EY21,BT$7)=\"\",\"\",INDEX(E_SourceStreams!$A:$N,EY21,BT$7)))","v":""},null,null,null,null,null,null,null,null,null,null,null,null,null,null,null,"SourceCategory_",{"$f":"INDEX(C_InstallationDescription!$A$226:$A$332,ROWS($CI$11:CI21))=\"ausblenden\"","v":true},"SourceStreamName_",null,795,797,799,801,803,805,807,807,807,807,807,810,814,815,816,823,833,833,833,833,833,833,833,824,834,834,834,834,834,834,834,825,835,835,835,835,835,835,835,826,836,836,836,836,836,836,836,827,837,837,837,837,837,837,837,828,838,838,838,838,838,838,838,844]
[null,{"$f":"IF(COUNTIF($CK$10:CK22,TRUE)>0,\"\",INDEX(C_InstallationDescription!$E$226:$E$242,ROWS($A$11:A22)))","v":""},{"$f":"IF($E22=\"\",\"\",INDEX(C_InstallationDescription!F:F,MATCH($B22,C_InstallationDescription!$E:$E,0)))","v":""},{"$f":"IF($E22=\"\",\"\",INDEX(C_InstallationDescription!I:I,MATCH($B22,C_InstallationDescription!$E:$E,0)))","v":""},{"$f":"IF($B22=\"\",\"\",INDEX(C_InstallationDescription!F:F,MATCH($CJ22,C_InstallationDescription!$Q:$Q,0)))","v":""},{"$f":"IF($E22=\"\",\"\",INDEX(C_InstallationDescription!L:L,MATCH($CJ22,C_InstallationDescription!$Q:$Q,0)))","v":""},{"$f":"IF($E22=\"\",\"\",INDEX(C_InstallationDescription!M:M,MATCH($CJ22,C_InstallationDescription!$Q:$Q,0)))","v":""},{"$f":"IF($E22=\"\",\"\",INDEX(C_InstallationDescription!N:N,MATCH($CJ22,C_InstallationDescription!$Q:$Q,0)))","v":""},{"$f":"IF($E22=\"\",\"\",IF(INDEX(E_SourceStreams!$A:$N,CN22,I$7)=\"\",\"\",INDEX(E_SourceStreams!$A:$N,CN22,I$7)))","v":""},{"$f":"IF($E22=\"\",\"\",IF(INDEX(E_SourceStreams!$A:$N,CO22,J$7)=\"\",\"\",INDEX(E_SourceStreams!$A:$N,CO22,J$7)))","v":""},{"$f":"IF($E22=\"\",\"\",IF(INDEX(E_SourceStreams!$A:$N,CP22,K$7)=\"\",\"\",INDEX(E_SourceStreams!$A:$N,CP22,K$7)))","v":""},{"$f":"IF($E22=\"\",\"\",IF(INDEX(E_SourceStreams!$A:$N,CQ22,L$7)=\"\",\"\",INDEX(E_SourceStreams!$A:$N,CQ22,L$7)))","v":""},{"$f":"IF($E22=\"\",\"\",IF(INDEX(E_SourceStreams!$A:$N,CR22,M$7)=\"\",\"\",INDEX(E_SourceStreams!$A:$N,CR22,M$7)))","v":""},{"$f":"IF($E22=\"\",\"\",IF(INDEX(E_SourceStreams!$A:$N,CS22,N$7)=\"\",\"\",INDEX(E_SourceStreams!$A:$N,CS22,N$7)))","v":""},{"$f":"IF($E22=\"\",\"\",IF(INDEX(E_SourceStreams!$A:$N,CT22,O$7)=\"\",\"\",INDEX(E_SourceStreams!$A:$N,CT22,O$7)))","v":""},{"$f":"IF($E22=\"\",\"\",IF(INDEX(E_SourceStreams!$A:$N,CU22,P$7)=\"\",\"\",INDEX(E_SourceStreams!$A:$N,CU22,P$7)))","v":""},{"$f":"IF($E22=\"\",\"\",IF(INDEX(E_SourceStreams!$A:$N,CV22,Q$7)=\"\",\"\",INDEX(E_SourceStreams!$A:$N,CV22,Q$7)))","v":""},{"$f":"IF($E22=\"\",\"\",IF(INDEX(E_SourceStreams!$A:$N,CW22,R$7)=\"\",\"\",INDEX(E_SourceStreams!$A:$N,CW22,R$7)))","v":""},{"$f":"IF($E22=\"\",\"\",IF(INDEX(E_SourceStreams!$A:$N,CX22,S$7)=\"\",\"\",INDEX(E_SourceStreams!$A:$N,CX22,S$7)))","v":""},{"$f":"IF($E22=\"\",\"\",IF(INDEX(E_SourceStreams!$A:$N,CY22,T$7)=\"\",\"\",INDEX(E_SourceStreams!$A:$N,CY22,T$7)))","v":""},{"$f":"IF($E22=\"\",\"\",IF(INDEX(E_SourceStreams!$A:$N,CZ22,U$7)=\"\",\"\",INDEX(E_SourceStreams!$A:$N,CZ22,U$7)))","v":""},{"$f":"IF($E22=\"\",\"\",IF(INDEX(E_SourceStreams!$A:$N,DA22,V$7)=\"\",\"\",INDEX(E_SourceStreams!$A:$N,DA22,V$7)))","v":""},{"$f":"IF($E22=\"\",\"\",IF(INDEX(E_SourceStreams!$A:$N,DB22,W$7)=\"\",\"\",INDEX(E_SourceStreams!$A:$N,DB22,W$7)))","v":""},{"$f":"IF($E22=\"\",\"\",IF(INDEX(E_SourceStreams!$A:$N,DC22,X$7)=\"\",\"\",INDEX(E_SourceStreams!$A:$N,DC22,X$7)))","v":""},{"$f":"IF($E22=\"\",\"\",IF(INDEX(E_SourceStreams!$A:$N,DD22,Y$7)=\"\",\"\",INDEX(E_SourceStreams!$A:$N,DD22,Y$7)))","v":""},{"$f":"IF($E22=\"\",\"\",IF(INDEX(E_SourceStreams!$A:$N,DE22,Z$7)=\"\",\"\",INDEX(E_SourceStreams!$A:$N,DE22,Z$7)))","v":""},{"$f":"IF($E22=\"\",\"\",IF(INDEX(E_SourceStreams!$A:$N,DF22,AA$7)=\"\",\"\",INDEX(E_SourceStreams!$A:$N,DF22,AA$7)))","v":""},{"$f":"IF($E22=\"\",\"\",IF(INDEX(E_SourceStreams!$A:$N,DG22,AB$7)=\"\",\"\",INDEX(E_SourceStreams!$A:$N,DG22,AB$7)))","v":""},{"$f":"IF($E22=\"\",\"\",IF(INDEX(E_SourceStreams!$A:$N,DH22,AC$7)=\"\",\"\",INDEX(E_SourceStreams!$A:$N,DH22,AC$7)))","v":""},{"$f":"IF($E22=\"\",\"\",IF(INDEX(E_SourceStreams!$A:$N,DI22,AD$7)=\"\",\"\",INDEX(E_SourceStreams!$A:$N,DI22,AD$7)))","v":""},{"$f":"IF($E22=\"\",\"\",IF(INDEX(E_SourceStreams!$A:$N,DJ22,AE$7)=\"\",\"\",INDEX(E_SourceStreams!$A:$N,DJ22,AE$7)))","v":""},{"$f":"IF($E22=\"\",\"\",IF(INDEX(E_SourceStreams!$A:$N,DK22,AF$7)=\"\",\"\",INDEX(E_SourceStreams!$A:$N,DK22,AF$7)))","v":""},{"$f":"IF($E22=\"\",\"\",IF(INDEX(E_SourceStreams!$A:$N,DL22,AG$7)=\"\",\"\",INDEX(E_SourceStreams!$A:$N,DL22,AG$7)))","v":""},{"$f":"IF($E22=\"\",\"\",IF(INDEX(E_SourceStreams!$A:$N,DM22,AH$7)=\"\",\"\",INDEX(E_SourceStreams!$A:$N,DM22,AH$7)))","v":""},{"$f":"IF($E22=\"\",\"\",IF(INDEX(E_SourceStreams!$A:$N,DN22,AI$7)=\"\",\"\",INDEX(E_SourceStreams!$A:$N,DN22,AI$7)))","v":""},{"$f":"IF($E22=\"\",\"\",IF(INDEX(E_SourceStreams!$A:$N,DO22,AJ$7)=\"\",\"\",INDEX(E_SourceStreams!$A:$N,DO22,AJ$7)))","v":""},{"$f":"IF($E22=\"\",\"\",IF(INDEX(E_SourceStreams!$A:$N,DP22,AK$7)=\"\",\"\",INDEX(E_SourceStreams!$A:$N,DP22,AK$7)))","v":""},{"$f":"IF($E22=\"\",\"\",IF(INDEX(E_SourceStreams!$A:$N,DQ22,AL$7)=\"\",\"\",INDEX(E_SourceStreams!$A:$N,DQ22,AL$7)))","v":""},{"$f":"IF($E22=\"\",\"\",IF(INDEX(E_SourceStreams!$A:$N,DR22,AM$7)=\"\",\"\",INDEX(E_SourceStreams!$A:$N,DR22,AM$7)))","v":""},{"$f":"IF($E22=\"\",\"\",IF(INDEX(E_SourceStreams!$A:$N,DS22,AN$7)=\"\",\"\",INDEX(E_SourceStreams!$A:$N,DS22,AN$7)))","v":""},{"$f":"IF($E22=\"\",\"\",IF(INDEX(E_SourceStreams!$A:$N,DT22,AO$7)=\"\",\"\",INDEX(E_SourceStreams!$A:$N,DT22,AO$7)))","v":""},{"$f":"IF($E22=\"\",\"\",IF(INDEX(E_SourceStreams!$A:$N,DU22,AP$7)=\"\",\"\",INDEX(E_SourceStreams!$A:$N,DU22,AP$7)))","v":""},{"$f":"IF($E22=\"\",\"\",IF(INDEX(E_SourceStreams!$A:$N,DV22,AQ$7)=\"\",\"\",INDEX(E_SourceStreams!$A:$N,DV22,AQ$7)))","v":""},{"$f":"IF($E22=\"\",\"\",IF(INDEX(E_SourceStreams!$A:$N,DW22,AR$7)=\"\",\"\",INDEX(E_SourceStreams!$A:$N,DW22,AR$7)))","v":""},{"$f":"IF($E22=\"\",\"\",IF(INDEX(E_SourceStreams!$A:$N,DX22,AS$7)=\"\",\"\",INDEX(E_SourceStreams!$A:$N,DX22,AS$7)))","v":""},{"$f":"IF($E22=\"\",\"\",IF(INDEX(E_SourceStreams!$A:$N,DY22,AT$7)=\"\",\"\",INDEX(E_SourceStreams!$A:$N,DY22,AT$7)))","v":""},{"$f":"IF($E22=\"\",\"\",IF(INDEX(E_SourceStreams!$A:$N,DZ22,AU$7)=\"\",\"\",INDEX(E_SourceStreams!$A:$N,DZ22,AU$7)))","v":""},{"$f":"IF($E22=\"\",\"\",IF(INDEX(E_SourceStreams!$A:$N,EA22,AV$7)=\"\",\"\",INDEX(E_SourceStreams!$A:$N,EA22,AV$7)))","v":""},{"$f":"IF($E22=\"\",\"\",IF(INDEX(E_SourceStreams!$A:$N,EB22,AW$7)=\"\",\"\",INDEX(E_SourceStreams!$A:$N,EB22,AW$7)))","v":""},{"$f":"IF($E22=\"\",\"\",IF(INDEX(E_SourceStreams!$A:$N,EC22,AX$7)=\"\",\"\",INDEX(E_SourceStreams!$A:$N,EC22,AX$7)))","v":""},{"$f":"IF($E22=\"\",\"\",IF(INDEX(E_SourceStreams!$A:$N,ED22,AY$7)=\"\",\"\",INDEX(E_SourceStreams!$A:$N,ED22,AY$7)))","v":""},{"$f":"IF($E22=\"\",\"\",IF(INDEX(E_SourceStreams!$A:$N,EE22,AZ$7)=\"\",\"\",INDEX(E_SourceStreams!$A:$N,EE22,AZ$7)))","v":""},{"$f":"IF($E22=\"\",\"\",IF(INDEX(E_SourceStreams!$A:$N,EF22,BA$7)=\"\",\"\",INDEX(E_SourceStreams!$A:$N,EF22,BA$7)))","v":""},{"$f":"IF($E22=\"\",\"\",IF(INDEX(E_SourceStreams!$A:$N,EG22,BB$7)=\"\",\"\",INDEX(E_SourceStreams!$A:$N,EG22,BB$7)))","v":""},{"$f":"IF($E22=\"\",\"\",IF(INDEX(E_SourceStreams!$A:$N,EH22,BC$7)=\"\",\"\",INDEX(E_SourceStreams!$A:$N,EH22,BC$7)))","v":""},{"$f":"IF($E22=\"\",\"\",IF(INDEX(E_SourceStreams!$A:$N,EI22,BD$7)=\"\",\"\",INDEX(E_SourceStreams!$A:$N,EI22,BD$7)))","v":""},{"$f":"IF($E22=\"\",\"\",IF(INDEX(E_SourceStreams!$A:$N,EJ22,BE$7)=\"\",\"\",INDEX(E_SourceStreams!$A:$N,EJ22,BE$7)))","v":""},{"$f":"IF($E22=\"\",\"\",IF(INDEX(E_SourceStreams!$A:$N,EK22,BF$7)=\"\",\"\",INDEX(E_SourceStreams!$A:$N,EK22,BF$7)))","v":""},{"$f":"IF($E22=\"\",\"\",IF(INDEX(E_SourceStreams!$A:$N,EL22,BG$7)=\"\",\"\",INDEX(E_SourceStreams!$A:$N,EL22,BG$7)))","v":""},{"$f":"IF($E22=\"\",\"\",IF(INDEX(E_SourceStreams!$A:$N,EM22,BH$7)=\"\",\"\",INDEX(E_SourceStreams!$A:$N,EM22,BH$7)))","v":""},{"$f":"IF($E22=\"\",\"\",IF(INDEX(E_SourceStreams!$A:$N,EN22,BI$7)=\"\",\"\",INDEX(E_SourceStreams!$A:$N,EN22,BI$7)))","v":""},{"$f":"IF($E22=\"\",\"\",IF(INDEX(E_SourceStreams!$A:$N,EO22,BJ$7)=\"\",\"\",INDEX(E_SourceStreams!$A:$N,EO22,BJ$7)))","v":""},{"$f":"IF($E22=\"\",\"\",IF(INDEX(E_SourceStreams!$A:$N,EP22,BK$7)=\"\",\"\",INDEX(E_SourceStreams!$A:$N,EP22,BK$7)))","v":""},{"$f":"IF($E22=\"\",\"\",IF(INDEX(E_SourceStreams!$A:$N,EQ22,BL$7)=\"\",\"\",INDEX(E_SourceStreams!$A:$N,EQ22,BL$7)))","v":""},{"$f":"IF($E22=\"\",\"\",IF(INDEX(E_SourceStreams!$A:$N,ER22,BM$7)=\"\",\"\",INDEX(E_SourceStreams!$A:$N,ER22,BM$7)))","v":""},{"$f":"IF($E22=\"\",\"\",IF(INDEX(E_SourceStreams!$A:$N,ES22,BN$7)=\"\",\"\",INDEX(E_SourceStreams!$A:$N,ES22,BN$7)))","v":""},{"$f":"IF($E22=\"\",\"\",IF(INDEX(E_SourceStreams!$A:$N,ET22,BO$7)=\"\",\"\",INDEX(E_SourceStreams!$A:$N,ET22,BO$7)))","v":""},{"$f":"IF($E22=\"\",\"\",IF(INDEX(E_SourceStreams!$A:$N,EU22,BP$7)=\"\",\"\",INDEX(E_SourceStreams!$A:$N,EU22,BP$7)))","v":""},{"$f":"IF($E22=\"\",\"\",IF(INDEX(E_SourceStreams!$A:$N,EV22,BQ$7)=\"\",\"\",INDEX(E_SourceStreams!$A:$N,EV22,BQ$7)))","v":""},{"$f":"IF($E22=\"\",\"\",IF(INDEX(E_SourceStreams!$A:$N,EW22,BR$7)=\"\",\"\",INDEX(E_SourceStreams!$A:$N,EW22,BR$7)))","v":""},{"$f":"IF($E22=\"\",\"\",IF(INDEX(E_SourceStreams!$A:$N,EX22,BS$7)=\"\",\"\",INDEX(E_SourceStreams!$A:$N,EX22,BS$7)))","v":""},{"$f":"IF($E22=\"\",\"\",IF(INDEX(E_SourceStreams!$A:$N,EY22,BT$7)=\"\",\"\",INDEX(E_SourceStreams!$A:$N,EY22,BT$7)))","v":""},null,null,null,null,null,null,null,null,null,null,null,null,null,null,null,"SourceCategory_",{"$f":"INDEX(C_InstallationDescription!$A$226:$A$332,ROWS($CI$11:CI22))=\"ausblenden\"","v":false},"SourceStreamName_",null,861,863,865,867,869,871,873,873,873,873,873,876,880,881,882,889,899,899,899,899,899,899,899,890,900,900,900,900,900,900,900,891,901,901,901,901,901,901,901,892,902,902,902,902,902,902,902,893,903,903,903,903,903,903,903,894,904,904,904,904,904,904,904,910]
[null,{"$f":"IF(COUNTIF($CK$10:CK23,TRUE)>0,\"\",INDEX(C_InstallationDescription!$E$226:$E$242,ROWS($A$11:A23)))","v":""},{"$f":"IF($E23=\"\",\"\",INDEX(C_InstallationDescription!F:F,MATCH($B23,C_InstallationDescription!$E:$E,0)))","v":""},{"$f":"IF($E23=\"\",\"\",INDEX(C_InstallationDescription!I:I,MATCH($B23,C_InstallationDescription!$E:$E,0)))","v":""},{"$f":"IF($B23=\"\",\"\",INDEX(C_InstallationDescription!F:F,MATCH($CJ23,C_InstallationDescription!$Q:$Q,0)))","v":""},{"$f":"IF($E23=\"\",\"\",INDEX(C_InstallationDescription!L:L,MATCH($CJ23,C_InstallationDescription!$Q:$Q,0)))","v":""},{"$f":"IF($E23=\"\",\"\",INDEX(C_InstallationDescription!M:M,MATCH($CJ23,C_InstallationDescription!$Q:$Q,0)))","v":""},{"$f":"IF($E23=\"\",\"\",INDEX(C_InstallationDescription!N:N,MATCH($CJ23,C_InstallationDescription!$Q:$Q,0)))","v":""},{"$f":"IF($E23=\"\",\"\",IF(INDEX(E_SourceStreams!$A:$N,CN23,I$7)=\"\",\"\",INDEX(E_SourceStreams!$A:$N,CN23,I$7)))","v":""},{"$f":"IF($E23=\"\",\"\",IF(INDEX(E_SourceStreams!$A:$N,CO23,J$7)=\"\",\"\",INDEX(E_SourceStreams!$A:$N,CO23,J$7)))","v":""},{"$f":"IF($E23=\"\",\"\",IF(INDEX(E_SourceStreams!$A:$N,CP23,K$7)=\"\",\"\",INDEX(E_SourceStreams!$A:$N,CP23,K$7)))","v":""},{"$f":"IF($E23=\"\",\"\",IF(INDEX(E_SourceStreams!$A:$N,CQ23,L$7)=\"\",\"\",INDEX(E_SourceStreams!$A:$N,CQ23,L$7)))","v":""},{"$f":"IF($E23=\"\",\"\",IF(INDEX(E_SourceStreams!$A:$N,CR23,M$7)=\"\",\"\",INDEX(E_SourceStreams!$A:$N,CR23,M$7)))","v":""},{"$f":"IF($E23=\"\",\"\",IF(INDEX(E_SourceStreams!$A:$N,CS23,N$7)=\"\",\"\",INDEX(E_SourceStreams!$A:$N,CS23,N$7)))","v":""},{"$f":"IF($E23=\"\",\"\",IF(INDEX(E_SourceStreams!$A:$N,CT23,O$7)=\"\",\"\",INDEX(E_SourceStreams!$A:$N,CT23,O$7)))","v":""},{"$f":"IF($E23=\"\",\"\",IF(INDEX(E_SourceStreams!$A:$N,CU23,P$7)=\"\",\"\",INDEX(E_SourceStreams!$A:$N,CU23,P$7)))","v":""},{"$f":"IF($E23=\"\",\"\",IF(INDEX(E_SourceStreams!$A:$N,CV23,Q$7)=\"\",\"\",INDEX(E_SourceStreams!$A:$N,CV23,Q$7)))","v":""},{"$f":"IF($E23=\"\",\"\",IF(INDEX(E_SourceStreams!$A:$N,CW23,R$7)=\"\",\"\",INDEX(E_SourceStreams!$A:$N,CW23,R$7)))","v":""},{"$f":"IF($E23=\"\",\"\",IF(INDEX(E_SourceStreams!$A:$N,CX23,S$7)=\"\",\"\",INDEX(E_SourceStreams!$A:$N,CX23,S$7)))","v":""},{"$f":"IF($E23=\"\",\"\",IF(INDEX(E_SourceStreams!$A:$N,CY23,T$7)=\"\",\"\",INDEX(E_SourceStreams!$A:$N,CY23,T$7)))","v":""},{"$f":"IF($E23=\"\",\"\",IF(INDEX(E_SourceStreams!$A:$N,CZ23,U$7)=\"\",\"\",INDEX(E_SourceStreams!$A:$N,CZ23,U$7)))","v":""},{"$f":"IF($E23=\"\",\"\",IF(INDEX(E_SourceStreams!$A:$N,DA23,V$7)=\"\",\"\",INDEX(E_SourceStreams!$A:$N,DA23,V$7)))","v":""},{"$f":"IF($E23=\"\",\"\",IF(INDEX(E_SourceStreams!$A:$N,DB23,W$7)=\"\",\"\",INDEX(E_SourceStreams!$A:$N,DB23,W$7)))","v":""},{"$f":"IF($E23=\"\",\"\",IF(INDEX(E_SourceStreams!$A:$N,DC23,X$7)=\"\",\"\",INDEX(E_SourceStreams!$A:$N,DC23,X$7)))","v":""},{"$f":"IF($E23=\"\",\"\",IF(INDEX(E_SourceStreams!$A:$N,DD23,Y$7)=\"\",\"\",INDEX(E_SourceStreams!$A:$N,DD23,Y$7)))","v":""},{"$f":"IF($E23=\"\",\"\",IF(INDEX(E_SourceStreams!$A:$N,DE23,Z$7)=\"\",\"\",INDEX(E_SourceStreams!$A:$N,DE23,Z$7)))","v":""},{"$f":"IF($E23=\"\",\"\",IF(INDEX(E_SourceStreams!$A:$N,DF23,AA$7)=\"\",\"\",INDEX(E_SourceStreams!$A:$N,DF23,AA$7)))","v":""},{"$f":"IF($E23=\"\",\"\",IF(INDEX(E_SourceStreams!$A:$N,DG23,AB$7)=\"\",\"\",INDEX(E_SourceStreams!$A:$N,DG23,AB$7)))","v":""},{"$f":"IF($E23=\"\",\"\",IF(INDEX(E_SourceStreams!$A:$N,DH23,AC$7)=\"\",\"\",INDEX(E_SourceStreams!$A:$N,DH23,AC$7)))","v":""},{"$f":"IF($E23=\"\",\"\",IF(INDEX(E_SourceStreams!$A:$N,DI23,AD$7)=\"\",\"\",INDEX(E_SourceStreams!$A:$N,DI23,AD$7)))","v":""},{"$f":"IF($E23=\"\",\"\",IF(INDEX(E_SourceStreams!$A:$N,DJ23,AE$7)=\"\",\"\",INDEX(E_SourceStreams!$A:$N,DJ23,AE$7)))","v":""},{"$f":"IF($E23=\"\",\"\",IF(INDEX(E_SourceStreams!$A:$N,DK23,AF$7)=\"\",\"\",INDEX(E_SourceStreams!$A:$N,DK23,AF$7)))","v":""},{"$f":"IF($E23=\"\",\"\",IF(INDEX(E_SourceStreams!$A:$N,DL23,AG$7)=\"\",\"\",INDEX(E_SourceStreams!$A:$N,DL23,AG$7)))","v":""},{"$f":"IF($E23=\"\",\"\",IF(INDEX(E_SourceStreams!$A:$N,DM23,AH$7)=\"\",\"\",INDEX(E_SourceStreams!$A:$N,DM23,AH$7)))","v":""},{"$f":"IF($E23=\"\",\"\",IF(INDEX(E_SourceStreams!$A:$N,DN23,AI$7)=\"\",\"\",INDEX(E_SourceStreams!$A:$N,DN23,AI$7)))","v":""},{"$f":"IF($E23=\"\",\"\",IF(INDEX(E_SourceStreams!$A:$N,DO23,AJ$7)=\"\",\"\",INDEX(E_SourceStreams!$A:$N,DO23,AJ$7)))","v":""},{"$f":"IF($E23=\"\",\"\",IF(INDEX(E_SourceStreams!$A:$N,DP23,AK$7)=\"\",\"\",INDEX(E_SourceStreams!$A:$N,DP23,AK$7)))","v":""},{"$f":"IF($E23=\"\",\"\",IF(INDEX(E_SourceStreams!$A:$N,DQ23,AL$7)=\"\",\"\",INDEX(E_SourceStreams!$A:$N,DQ23,AL$7)))","v":""},{"$f":"IF($E23=\"\",\"\",IF(INDEX(E_SourceStreams!$A:$N,DR23,AM$7)=\"\",\"\",INDEX(E_SourceStreams!$A:$N,DR23,AM$7)))","v":""},{"$f":"IF($E23=\"\",\"\",IF(INDEX(E_SourceStreams!$A:$N,DS23,AN$7)=\"\",\"\",INDEX(E_SourceStreams!$A:$N,DS23,AN$7)))","v":""},{"$f":"IF($E23=\"\",\"\",IF(INDEX(E_SourceStreams!$A:$N,DT23,AO$7)=\"\",\"\",INDEX(E_SourceStreams!$A:$N,DT23,AO$7)))","v":""},{"$f":"IF($E23=\"\",\"\",IF(INDEX(E_SourceStreams!$A:$N,DU23,AP$7)=\"\",\"\",INDEX(E_SourceStreams!$A:$N,DU23,AP$7)))","v":""},{"$f":"IF($E23=\"\",\"\",IF(INDEX(E_SourceStreams!$A:$N,DV23,AQ$7)=\"\",\"\",INDEX(E_SourceStreams!$A:$N,DV23,AQ$7)))","v":""},{"$f":"IF($E23=\"\",\"\",IF(INDEX(E_SourceStreams!$A:$N,DW23,AR$7)=\"\",\"\",INDEX(E_SourceStreams!$A:$N,DW23,AR$7)))","v":""},{"$f":"IF($E23=\"\",\"\",IF(INDEX(E_SourceStreams!$A:$N,DX23,AS$7)=\"\",\"\",INDEX(E_SourceStreams!$A:$N,DX23,AS$7)))","v":""},{"$f":"IF($E23=\"\",\"\",IF(INDEX(E_SourceStreams!$A:$N,DY23,AT$7)=\"\",\"\",INDEX(E_SourceStreams!$A:$N,DY23,AT$7)))","v":""},{"$f":"IF($E23=\"\",\"\",IF(INDEX(E_SourceStreams!$A:$N,DZ23,AU$7)=\"\",\"\",INDEX(E_SourceStreams!$A:$N,DZ23,AU$7)))","v":""},{"$f":"IF($E23=\"\",\"\",IF(INDEX(E_SourceStreams!$A:$N,EA23,AV$7)=\"\",\"\",INDEX(E_SourceStreams!$A:$N,EA23,AV$7)))","v":""},{"$f":"IF($E23=\"\",\"\",IF(INDEX(E_SourceStreams!$A:$N,EB23,AW$7)=\"\",\"\",INDEX(E_SourceStreams!$A:$N,EB23,AW$7)))","v":""},{"$f":"IF($E23=\"\",\"\",IF(INDEX(E_SourceStreams!$A:$N,EC23,AX$7)=\"\",\"\",INDEX(E_SourceStreams!$A:$N,EC23,AX$7)))","v":""},{"$f":"IF($E23=\"\",\"\",IF(INDEX(E_SourceStreams!$A:$N,ED23,AY$7)=\"\",\"\",INDEX(E_SourceStreams!$A:$N,ED23,AY$7)))","v":""},{"$f":"IF($E23=\"\",\"\",IF(INDEX(E_SourceStreams!$A:$N,EE23,AZ$7)=\"\",\"\",INDEX(E_SourceStreams!$A:$N,EE23,AZ$7)))","v":""},{"$f":"IF($E23=\"\",\"\",IF(INDEX(E_SourceStreams!$A:$N,EF23,BA$7)=\"\",\"\",INDEX(E_SourceStreams!$A:$N,EF23,BA$7)))","v":""},{"$f":"IF($E23=\"\",\"\",IF(INDEX(E_SourceStreams!$A:$N,EG23,BB$7)=\"\",\"\",INDEX(E_SourceStreams!$A:$N,EG23,BB$7)))","v":""},{"$f":"IF($E23=\"\",\"\",IF(INDEX(E_SourceStreams!$A:$N,EH23,BC$7)=\"\",\"\",INDEX(E_SourceStreams!$A:$N,EH23,BC$7)))","v":""},{"$f":"IF($E23=\"\",\"\",IF(INDEX(E_SourceStreams!$A:$N,EI23,BD$7)=\"\",\"\",INDEX(E_SourceStreams!$A:$N,EI23,BD$7)))","v":""},{"$f":"IF($E23=\"\",\"\",IF(INDEX(E_SourceStreams!$A:$N,EJ23,BE$7)=\"\",\"\",INDEX(E_SourceStreams!$A:$N,EJ23,BE$7)))","v":""},{"$f":"IF($E23=\"\",\"\",IF(INDEX(E_SourceStreams!$A:$N,EK23,BF$7)=\"\",\"\",INDEX(E_SourceStreams!$A:$N,EK23,BF$7)))","v":""},{"$f":"IF($E23=\"\",\"\",IF(INDEX(E_SourceStreams!$A:$N,EL23,BG$7)=\"\",\"\",INDEX(E_SourceStreams!$A:$N,EL23,BG$7)))","v":""},{"$f":"IF($E23=\"\",\"\",IF(INDEX(E_SourceStreams!$A:$N,EM23,BH$7)=\"\",\"\",INDEX(E_SourceStreams!$A:$N,EM23,BH$7)))","v":""},{"$f":"IF($E23=\"\",\"\",IF(INDEX(E_SourceStreams!$A:$N,EN23,BI$7)=\"\",\"\",INDEX(E_SourceStreams!$A:$N,EN23,BI$7)))","v":""},{"$f":"IF($E23=\"\",\"\",IF(INDEX(E_SourceStreams!$A:$N,EO23,BJ$7)=\"\",\"\",INDEX(E_SourceStreams!$A:$N,EO23,BJ$7)))","v":""},{"$f":"IF($E23=\"\",\"\",IF(INDEX(E_SourceStreams!$A:$N,EP23,BK$7)=\"\",\"\",INDEX(E_SourceStreams!$A:$N,EP23,BK$7)))","v":""},{"$f":"IF($E23=\"\",\"\",IF(INDEX(E_SourceStreams!$A:$N,EQ23,BL$7)=\"\",\"\",INDEX(E_SourceStreams!$A:$N,EQ23,BL$7)))","v":""},{"$f":"IF($E23=\"\",\"\",IF(INDEX(E_SourceStreams!$A:$N,ER23,BM$7)=\"\",\"\",INDEX(E_SourceStreams!$A:$N,ER23,BM$7)))","v":""},{"$f":"IF($E23=\"\",\"\",IF(INDEX(E_SourceStreams!$A:$N,ES23,BN$7)=\"\",\"\",INDEX(E_SourceStreams!$A:$N,ES23,BN$7)))","v":""},{"$f":"IF($E23=\"\",\"\",IF(INDEX(E_SourceStreams!$A:$N,ET23,BO$7)=\"\",\"\",INDEX(E_SourceStreams!$A:$N,ET23,BO$7)))","v":""},{"$f":"IF($E23=\"\",\"\",IF(INDEX(E_SourceStreams!$A:$N,EU23,BP$7)=\"\",\"\",INDEX(E_SourceStreams!$A:$N,EU23,BP$7)))","v":""},{"$f":"IF($E23=\"\",\"\",IF(INDEX(E_SourceStreams!$A:$N,EV23,BQ$7)=\"\",\"\",INDEX(E_SourceStreams!$A:$N,EV23,BQ$7)))","v":""},{"$f":"IF($E23=\"\",\"\",IF(INDEX(E_SourceStreams!$A:$N,EW23,BR$7)=\"\",\"\",INDEX(E_SourceStreams!$A:$N,EW23,BR$7)))","v":""},{"$f":"IF($E23=\"\",\"\",IF(INDEX(E_SourceStreams!$A:$N,EX23,BS$7)=\"\",\"\",INDEX(E_SourceStreams!$A:$N,EX23,BS$7)))","v":""},{"$f":"IF($E23=\"\",\"\",IF(INDEX(E_SourceStreams!$A:$N,EY23,BT$7)=\"\",\"\",INDEX(E_SourceStreams!$A:$N,EY23,BT$7)))","v":""},null,null,null,null,null,null,null,null,null,null,null,null,null,null,null,"SourceCategory_",{"$f":"INDEX(C_InstallationDescription!$A$226:$A$332,ROWS($CI$11:CI23))=\"ausblenden\"","v":false},"SourceStreamName_",null,927,929,931,933,935,937,939,939,939,939,939,942,946,947,948,955,965,965,965,965,965,965,965,956,966,966,966,966,966,966,966,957,967,967,967,967,967,967,967,958,968,968,968,968,968,968,968,959,969,969,969,969,969,969,969,960,970,970,970,970,970,970,970,976]
[null,{"$f":"IF(COUNTIF($CK$10:CK24,TRUE)>0,\"\",INDEX(C_InstallationDescription!$E$226:$E$242,ROWS($A$11:A24)))","v":""},{"$f":"IF($E24=\"\",\"\",INDEX(C_InstallationDescription!F:F,MATCH($B24,C_InstallationDescription!$E:$E,0)))","v":""},{"$f":"IF($E24=\"\",\"\",INDEX(C_InstallationDescription!I:I,MATCH($B24,C_InstallationDescription!$E:$E,0)))","v":""},{"$f":"IF($B24=\"\",\"\",INDEX(C_InstallationDescription!F:F,MATCH($CJ24,C_InstallationDescription!$Q:$Q,0)))","v":""},{"$f":"IF($E24=\"\",\"\",INDEX(C_InstallationDescription!L:L,MATCH($CJ24,C_InstallationDescription!$Q:$Q,0)))","v":""},{"$f":"IF($E24=\"\",\"\",INDEX(C_InstallationDescription!M:M,MATCH($CJ24,C_InstallationDescription!$Q:$Q,0)))","v":""},{"$f":"IF($E24=\"\",\"\",INDEX(C_InstallationDescription!N:N,MATCH($CJ24,C_InstallationDescription!$Q:$Q,0)))","v":""},{"$f":"IF($E24=\"\",\"\",IF(INDEX(E_SourceStreams!$A:$N,CN24,I$7)=\"\",\"\",INDEX(E_SourceStreams!$A:$N,CN24,I$7)))","v":""},{"$f":"IF($E24=\"\",\"\",IF(INDEX(E_SourceStreams!$A:$N,CO24,J$7)=\"\",\"\",INDEX(E_SourceStreams!$A:$N,CO24,J$7)))","v":""},{"$f":"IF($E24=\"\",\"\",IF(INDEX(E_SourceStreams!$A:$N,CP24,K$7)=\"\",\"\",INDEX(E_SourceStreams!$A:$N,CP24,K$7)))","v":""},{"$f":"IF($E24=\"\",\"\",IF(INDEX(E_SourceStreams!$A:$N,CQ24,L$7)=\"\",\"\",INDEX(E_SourceStreams!$A:$N,CQ24,L$7)))","v":""},{"$f":"IF($E24=\"\",\"\",IF(INDEX(E_SourceStreams!$A:$N,CR24,M$7)=\"\",\"\",INDEX(E_SourceStreams!$A:$N,CR24,M$7)))","v":""},{"$f":"IF($E24=\"\",\"\",IF(INDEX(E_SourceStreams!$A:$N,CS24,N$7)=\"\",\"\",INDEX(E_SourceStreams!$A:$N,CS24,N$7)))","v":""},{"$f":"IF($E24=\"\",\"\",IF(INDEX(E_SourceStreams!$A:$N,CT24,O$7)=\"\",\"\",INDEX(E_SourceStreams!$A:$N,CT24,O$7)))","v":""},{"$f":"IF($E24=\"\",\"\",IF(INDEX(E_SourceStreams!$A:$N,CU24,P$7)=\"\",\"\",INDEX(E_SourceStreams!$A:$N,CU24,P$7)))","v":""},{"$f":"IF($E24=\"\",\"\",IF(INDEX(E_SourceStreams!$A:$N,CV24,Q$7)=\"\",\"\",INDEX(E_SourceStreams!$A:$N,CV24,Q$7)))","v":""},{"$f":"IF($E24=\"\",\"\",IF(INDEX(E_SourceStreams!$A:$N,CW24,R$7)=\"\",\"\",INDEX(E_SourceStreams!$A:$N,CW24,R$7)))","v":""},{"$f":"IF($E24=\"\",\"\",IF(INDEX(E_SourceStreams!$A:$N,CX24,S$7)=\"\",\"\",INDEX(E_SourceStreams!$A:$N,CX24,S$7)))","v":""},{"$f":"IF($E24=\"\",\"\",IF(INDEX(E_SourceStreams!$A:$N,CY24,T$7)=\"\",\"\",INDEX(E_SourceStreams!$A:$N,CY24,T$7)))","v":""},{"$f":"IF($E24=\"\",\"\",IF(INDEX(E_SourceStreams!$A:$N,CZ24,U$7)=\"\",\"\",INDEX(E_SourceStreams!$A:$N,CZ24,U$7)))","v":""},{"$f":"IF($E24=\"\",\"\",IF(INDEX(E_SourceStreams!$A:$N,DA24,V$7)=\"\",\"\",INDEX(E_SourceStreams!$A:$N,DA24,V$7)))","v":""},{"$f":"IF($E24=\"\",\"\",IF(INDEX(E_SourceStreams!$A:$N,DB24,W$7)=\"\",\"\",INDEX(E_SourceStreams!$A:$N,DB24,W$7)))","v":""},{"$f":"IF($E24=\"\",\"\",IF(INDEX(E_SourceStreams!$A:$N,DC24,X$7)=\"\",\"\",INDEX(E_SourceStreams!$A:$N,DC24,X$7)))","v":""},{"$f":"IF($E24=\"\",\"\",IF(INDEX(E_SourceStreams!$A:$N,DD24,Y$7)=\"\",\"\",INDEX(E_SourceStreams!$A:$N,DD24,Y$7)))","v":""},{"$f":"IF($E24=\"\",\"\",IF(INDEX(E_SourceStreams!$A:$N,DE24,Z$7)=\"\",\"\",INDEX(E_SourceStreams!$A:$N,DE24,Z$7)))","v":""},{"$f":"IF($E24=\"\",\"\",IF(INDEX(E_SourceStreams!$A:$N,DF24,AA$7)=\"\",\"\",INDEX(E_SourceStreams!$A:$N,DF24,AA$7)))","v":""},{"$f":"IF($E24=\"\",\"\",IF(INDEX(E_SourceStreams!$A:$N,DG24,AB$7)=\"\",\"\",INDEX(E_SourceStreams!$A:$N,DG24,AB$7)))","v":""},{"$f":"IF($E24=\"\",\"\",IF(INDEX(E_SourceStreams!$A:$N,DH24,AC$7)=\"\",\"\",INDEX(E_SourceStreams!$A:$N,DH24,AC$7)))","v":""},{"$f":"IF($E24=\"\",\"\",IF(INDEX(E_SourceStreams!$A:$N,DI24,AD$7)=\"\",\"\",INDEX(E_SourceStreams!$A:$N,DI24,AD$7)))","v":""},{"$f":"IF($E24=\"\",\"\",IF(INDEX(E_SourceStreams!$A:$N,DJ24,AE$7)=\"\",\"\",INDEX(E_SourceStreams!$A:$N,DJ24,AE$7)))","v":""},{"$f":"IF($E24=\"\",\"\",IF(INDEX(E_SourceStreams!$A:$N,DK24,AF$7)=\"\",\"\",INDEX(E_SourceStreams!$A:$N,DK24,AF$7)))","v":""},{"$f":"IF($E24=\"\",\"\",IF(INDEX(E_SourceStreams!$A:$N,DL24,AG$7)=\"\",\"\",INDEX(E_SourceStreams!$A:$N,DL24,AG$7)))","v":""},{"$f":"IF($E24=\"\",\"\",IF(INDEX(E_SourceStreams!$A:$N,DM24,AH$7)=\"\",\"\",INDEX(E_SourceStreams!$A:$N,DM24,AH$7)))","v":""},{"$f":"IF($E24=\"\",\"\",IF(INDEX(E_SourceStreams!$A:$N,DN24,AI$7)=\"\",\"\",INDEX(E_SourceStreams!$A:$N,DN24,AI$7)))","v":""},{"$f":"IF($E24=\"\",\"\",IF(INDEX(E_SourceStreams!$A:$N,DO24,AJ$7)=\"\",\"\",INDEX(E_SourceStreams!$A:$N,DO24,AJ$7)))","v":""},{"$f":"IF($E24=\"\",\"\",IF(INDEX(E_SourceStreams!$A:$N,DP24,AK$7)=\"\",\"\",INDEX(E_SourceStreams!$A:$N,DP24,AK$7)))","v":""},{"$f":"IF($E24=\"\",\"\",IF(INDEX(E_SourceStreams!$A:$N,DQ24,AL$7)=\"\",\"\",INDEX(E_SourceStreams!$A:$N,DQ24,AL$7)))","v":""},{"$f":"IF($E24=\"\",\"\",IF(INDEX(E_SourceStreams!$A:$N,DR24,AM$7)=\"\",\"\",INDEX(E_SourceStreams!$A:$N,DR24,AM$7)))","v":""},{"$f":"IF($E24=\"\",\"\",IF(INDEX(E_SourceStreams!$A:$N,DS24,AN$7)=\"\",\"\",INDEX(E_SourceStreams!$A:$N,DS24,AN$7)))","v":""},{"$f":"IF($E24=\"\",\"\",IF(INDEX(E_SourceStreams!$A:$N,DT24,AO$7)=\"\",\"\",INDEX(E_SourceStreams!$A:$N,DT24,AO$7)))","v":""},{"$f":"IF($E24=\"\",\"\",IF(INDEX(E_SourceStreams!$A:$N,DU24,AP$7)=\"\",\"\",INDEX(E_SourceStreams!$A:$N,DU24,AP$7)))","v":""},{"$f":"IF($E24=\"\",\"\",IF(INDEX(E_SourceStreams!$A:$N,DV24,AQ$7)=\"\",\"\",INDEX(E_SourceStreams!$A:$N,DV24,AQ$7)))","v":""},{"$f":"IF($E24=\"\",\"\",IF(INDEX(E_SourceStreams!$A:$N,DW24,AR$7)=\"\",\"\",INDEX(E_SourceStreams!$A:$N,DW24,AR$7)))","v":""},{"$f":"IF($E24=\"\",\"\",IF(INDEX(E_SourceStreams!$A:$N,DX24,AS$7)=\"\",\"\",INDEX(E_SourceStreams!$A:$N,DX24,AS$7)))","v":""},{"$f":"IF($E24=\"\",\"\",IF(INDEX(E_SourceStreams!$A:$N,DY24,AT$7)=\"\",\"\",INDEX(E_SourceStreams!$A:$N,DY24,AT$7)))","v":""},{"$f":"IF($E24=\"\",\"\",IF(INDEX(E_SourceStreams!$A:$N,DZ24,AU$7)=\"\",\"\",INDEX(E_SourceStreams!$A:$N,DZ24,AU$7)))","v":""},{"$f":"IF($E24=\"\",\"\",IF(INDEX(E_SourceStreams!$A:$N,EA24,AV$7)=\"\",\"\",INDEX(E_SourceStreams!$A:$N,EA24,AV$7)))","v":""},{"$f":"IF($E24=\"\",\"\",IF(INDEX(E_SourceStreams!$A:$N,EB24,AW$7)=\"\",\"\",INDEX(E_SourceStreams!$A:$N,EB24,AW$7)))","v":""},{"$f":"IF($E24=\"\",\"\",IF(INDEX(E_SourceStreams!$A:$N,EC24,AX$7)=\"\",\"\",INDEX(E_SourceStreams!$A:$N,EC24,AX$7)))","v":""},{"$f":"IF($E24=\"\",\"\",IF(INDEX(E_SourceStreams!$A:$N,ED24,AY$7)=\"\",\"\",INDEX(E_SourceStreams!$A:$N,ED24,AY$7)))","v":""},{"$f":"IF($E24=\"\",\"\",IF(INDEX(E_SourceStreams!$A:$N,EE24,AZ$7)=\"\",\"\",INDEX(E_SourceStreams!$A:$N,EE24,AZ$7)))","v":""},{"$f":"IF($E24=\"\",\"\",IF(INDEX(E_SourceStreams!$A:$N,EF24,BA$7)=\"\",\"\",INDEX(E_SourceStreams!$A:$N,EF24,BA$7)))","v":""},{"$f":"IF($E24=\"\",\"\",IF(INDEX(E_SourceStreams!$A:$N,EG24,BB$7)=\"\",\"\",INDEX(E_SourceStreams!$A:$N,EG24,BB$7)))","v":""},{"$f":"IF($E24=\"\",\"\",IF(INDEX(E_SourceStreams!$A:$N,EH24,BC$7)=\"\",\"\",INDEX(E_SourceStreams!$A:$N,EH24,BC$7)))","v":""},{"$f":"IF($E24=\"\",\"\",IF(INDEX(E_SourceStreams!$A:$N,EI24,BD$7)=\"\",\"\",INDEX(E_SourceStreams!$A:$N,EI24,BD$7)))","v":""},{"$f":"IF($E24=\"\",\"\",IF(INDEX(E_SourceStreams!$A:$N,EJ24,BE$7)=\"\",\"\",INDEX(E_SourceStreams!$A:$N,EJ24,BE$7)))","v":""},{"$f":"IF($E24=\"\",\"\",IF(INDEX(E_SourceStreams!$A:$N,EK24,BF$7)=\"\",\"\",INDEX(E_SourceStreams!$A:$N,EK24,BF$7)))","v":""},{"$f":"IF($E24=\"\",\"\",IF(INDEX(E_SourceStreams!$A:$N,EL24,BG$7)=\"\",\"\",INDEX(E_SourceStreams!$A:$N,EL24,BG$7)))","v":""},{"$f":"IF($E24=\"\",\"\",IF(INDEX(E_SourceStreams!$A:$N,EM24,BH$7)=\"\",\"\",INDEX(E_SourceStreams!$A:$N,EM24,BH$7)))","v":""},{"$f":"IF($E24=\"\",\"\",IF(INDEX(E_SourceStreams!$A:$N,EN24,BI$7)=\"\",\"\",INDEX(E_SourceStreams!$A:$N,EN24,BI$7)))","v":""},{"$f":"IF($E24=\"\",\"\",IF(INDEX(E_SourceStreams!$A:$N,EO24,BJ$7)=\"\",\"\",INDEX(E_SourceStreams!$A:$N,EO24,BJ$7)))","v":""},{"$f":"IF($E24=\"\",\"\",IF(INDEX(E_SourceStreams!$A:$N,EP24,BK$7)=\"\",\"\",INDEX(E_SourceStreams!$A:$N,EP24,BK$7)))","v":""},{"$f":"IF($E24=\"\",\"\",IF(INDEX(E_SourceStreams!$A:$N,EQ24,BL$7)=\"\",\"\",INDEX(E_SourceStreams!$A:$N,EQ24,BL$7)))","v":""},{"$f":"IF($E24=\"\",\"\",IF(INDEX(E_SourceStreams!$A:$N,ER24,BM$7)=\"\",\"\",INDEX(E_SourceStreams!$A:$N,ER24,BM$7)))","v":""},{"$f":"IF($E24=\"\",\"\",IF(INDEX(E_SourceStreams!$A:$N,ES24,BN$7)=\"\",\"\",INDEX(E_SourceStreams!$A:$N,ES24,BN$7)))","v":""},{"$f":"IF($E24=\"\",\"\",IF(INDEX(E_SourceStreams!$A:$N,ET24,BO$7)=\"\",\"\",INDEX(E_SourceStreams!$A:$N,ET24,BO$7)))","v":""},{"$f":"IF($E24=\"\",\"\",IF(INDEX(E_SourceStreams!$A:$N,EU24,BP$7)=\"\",\"\",INDEX(E_SourceStreams!$A:$N,EU24,BP$7)))","v":""},{"$f":"IF($E24=\"\",\"\",IF(INDEX(E_SourceStreams!$A:$N,EV24,BQ$7)=\"\",\"\",INDEX(E_SourceStreams!$A:$N,EV24,BQ$7)))","v":""},{"$f":"IF($E24=\"\",\"\",IF(INDEX(E_SourceStreams!$A:$N,EW24,BR$7)=\"\",\"\",INDEX(E_SourceStreams!$A:$N,EW24,BR$7)))","v":""},{"$f":"IF($E24=\"\",\"\",IF(INDEX(E_SourceStreams!$A:$N,EX24,BS$7)=\"\",\"\",INDEX(E_SourceStreams!$A:$N,EX24,BS$7)))","v":""},{"$f":"IF($E24=\"\",\"\",IF(INDEX(E_SourceStreams!$A:$N,EY24,BT$7)=\"\",\"\",INDEX(E_SourceStreams!$A:$N,EY24,BT$7)))","v":""},null,null,null,null,null,null,null,null,null,null,null,null,null,null,null,"SourceCategory_",{"$f":"INDEX(C_InstallationDescription!$A$226:$A$332,ROWS($CI$11:CI24))=\"ausblenden\"","v":false},"SourceStreamName_",null,993,995,997,999,1001,1003,1005,1005,1005,1005,1005,1008,1012,1013,1014,1021,1031,1031,1031,1031,1031,1031,1031,1022,1032,1032,1032,1032,1032,1032,1032,1023,1033,1033,1033,1033,1033,1033,1033,1024,1034,1034,1034,1034,1034,1034,1034,1025,1035,1035,1035,1035,1035,1035,1035,1026,1036,1036,1036,1036,1036,1036,1036,1042]
[null,{"$f":"IF(COUNTIF($CK$10:CK25,TRUE)>0,\"\",INDEX(C_InstallationDescription!$E$226:$E$242,ROWS($A$11:A25)))","v":""},{"$f":"IF($E25=\"\",\"\",INDEX(C_InstallationDescription!F:F,MATCH($B25,C_InstallationDescription!$E:$E,0)))","v":""},{"$f":"IF($E25=\"\",\"\",INDEX(C_InstallationDescription!I:I,MATCH($B25,C_InstallationDescription!$E:$E,0)))","v":""},{"$f":"IF($B25=\"\",\"\",INDEX(C_InstallationDescription!F:F,MATCH($CJ25,C_InstallationDescription!$Q:$Q,0)))","v":""},{"$f":"IF($E25=\"\",\"\",INDEX(C_InstallationDescription!L:L,MATCH($CJ25,C_InstallationDescription!$Q:$Q,0)))","v":""},{"$f":"IF($E25=\"\",\"\",INDEX(C_InstallationDescription!M:M,MATCH($CJ25,C_InstallationDescription!$Q:$Q,0)))","v":""},{"$f":"IF($E25=\"\",\"\",INDEX(C_InstallationDescription!N:N,MATCH($CJ25,C_InstallationDescription!$Q:$Q,0)))","v":""},{"$f":"IF($E25=\"\",\"\",IF(INDEX(E_SourceStreams!$A:$N,CN25,I$7)=\"\",\"\",INDEX(E_SourceStreams!$A:$N,CN25,I$7)))","v":""},{"$f":"IF($E25=\"\",\"\",IF(INDEX(E_SourceStreams!$A:$N,CO25,J$7)=\"\",\"\",INDEX(E_SourceStreams!$A:$N,CO25,J$7)))","v":""},{"$f":"IF($E25=\"\",\"\",IF(INDEX(E_SourceStreams!$A:$N,CP25,K$7)=\"\",\"\",INDEX(E_SourceStreams!$A:$N,CP25,K$7)))","v":""},{"$f":"IF($E25=\"\",\"\",IF(INDEX(E_SourceStreams!$A:$N,CQ25,L$7)=\"\",\"\",INDEX(E_SourceStreams!$A:$N,CQ25,L$7)))","v":""},{"$f":"IF($E25=\"\",\"\",IF(INDEX(E_SourceStreams!$A:$N,CR25,M$7)=\"\",\"\",INDEX(E_SourceStreams!$A:$N,CR25,M$7)))","v":""},{"$f":"IF($E25=\"\",\"\",IF(INDEX(E_SourceStreams!$A:$N,CS25,N$7)=\"\",\"\",INDEX(E_SourceStreams!$A:$N,CS25,N$7)))","v":""},{"$f":"IF($E25=\"\",\"\",IF(INDEX(E_SourceStreams!$A:$N,CT25,O$7)=\"\",\"\",INDEX(E_SourceStreams!$A:$N,CT25,O$7)))","v":""},{"$f":"IF($E25=\"\",\"\",IF(INDEX(E_SourceStreams!$A:$N,CU25,P$7)=\"\",\"\",INDEX(E_SourceStreams!$A:$N,CU25,P$7)))","v":""},{"$f":"IF($E25=\"\",\"\",IF(INDEX(E_SourceStreams!$A:$N,CV25,Q$7)=\"\",\"\",INDEX(E_SourceStreams!$A:$N,CV25,Q$7)))","v":""},{"$f":"IF($E25=\"\",\"\",IF(INDEX(E_SourceStreams!$A:$N,CW25,R$7)=\"\",\"\",INDEX(E_SourceStreams!$A:$N,CW25,R$7)))","v":""},{"$f":"IF($E25=\"\",\"\",IF(INDEX(E_SourceStreams!$A:$N,CX25,S$7)=\"\",\"\",INDEX(E_SourceStreams!$A:$N,CX25,S$7)))","v":""},{"$f":"IF($E25=\"\",\"\",IF(INDEX(E_SourceStreams!$A:$N,CY25,T$7)=\"\",\"\",INDEX(E_SourceStreams!$A:$N,CY25,T$7)))","v":""},{"$f":"IF($E25=\"\",\"\",IF(INDEX(E_SourceStreams!$A:$N,CZ25,U$7)=\"\",\"\",INDEX(E_SourceStreams!$A:$N,CZ25,U$7)))","v":""},{"$f":"IF($E25=\"\",\"\",IF(INDEX(E_SourceStreams!$A:$N,DA25,V$7)=\"\",\"\",INDEX(E_SourceStreams!$A:$N,DA25,V$7)))","v":""},{"$f":"IF($E25=\"\",\"\",IF(INDEX(E_SourceStreams!$A:$N,DB25,W$7)=\"\",\"\",INDEX(E_SourceStreams!$A:$N,DB25,W$7)))","v":""},{"$f":"IF($E25=\"\",\"\",IF(INDEX(E_SourceStreams!$A:$N,DC25,X$7)=\"\",\"\",INDEX(E_SourceStreams!$A:$N,DC25,X$7)))","v":""},{"$f":"IF($E25=\"\",\"\",IF(INDEX(E_SourceStreams!$A:$N,DD25,Y$7)=\"\",\"\",INDEX(E_SourceStreams!$A:$N,DD25,Y$7)))","v":""},{"$f":"IF($E25=\"\",\"\",IF(INDEX(E_SourceStreams!$A:$N,DE25,Z$7)=\"\",\"\",INDEX(E_SourceStreams!$A:$N,DE25,Z$7)))","v":""},{"$f":"IF($E25=\"\",\"\",IF(INDEX(E_SourceStreams!$A:$N,DF25,AA$7)=\"\",\"\",INDEX(E_SourceStreams!$A:$N,DF25,AA$7)))","v":""},{"$f":"IF($E25=\"\",\"\",IF(INDEX(E_SourceStreams!$A:$N,DG25,AB$7)=\"\",\"\",INDEX(E_SourceStreams!$A:$N,DG25,AB$7)))","v":""},{"$f":"IF($E25=\"\",\"\",IF(INDEX(E_SourceStreams!$A:$N,DH25,AC$7)=\"\",\"\",INDEX(E_SourceStreams!$A:$N,DH25,AC$7)))","v":""},{"$f":"IF($E25=\"\",\"\",IF(INDEX(E_SourceStreams!$A:$N,DI25,AD$7)=\"\",\"\",INDEX(E_SourceStreams!$A:$N,DI25,AD$7)))","v":""},{"$f":"IF($E25=\"\",\"\",IF(INDEX(E_SourceStreams!$A:$N,DJ25,AE$7)=\"\",\"\",INDEX(E_SourceStreams!$A:$N,DJ25,AE$7)))","v":""},{"$f":"IF($E25=\"\",\"\",IF(INDEX(E_SourceStreams!$A:$N,DK25,AF$7)=\"\",\"\",INDEX(E_SourceStreams!$A:$N,DK25,AF$7)))","v":""},{"$f":"IF($E25=\"\",\"\",IF(INDEX(E_SourceStreams!$A:$N,DL25,AG$7)=\"\",\"\",INDEX(E_SourceStreams!$A:$N,DL25,AG$7)))","v":""},{"$f":"IF($E25=\"\",\"\",IF(INDEX(E_SourceStreams!$A:$N,DM25,AH$7)=\"\",\"\",INDEX(E_SourceStreams!$A:$N,DM25,AH$7)))","v":""},{"$f":"IF($E25=\"\",\"\",IF(INDEX(E_SourceStreams!$A:$N,DN25,AI$7)=\"\",\"\",INDEX(E_SourceStreams!$A:$N,DN25,AI$7)))","v":""},{"$f":"IF($E25=\"\",\"\",IF(INDEX(E_SourceStreams!$A:$N,DO25,AJ$7)=\"\",\"\",INDEX(E_SourceStreams!$A:$N,DO25,AJ$7)))","v":""},{"$f":"IF($E25=\"\",\"\",IF(INDEX(E_SourceStreams!$A:$N,DP25,AK$7)=\"\",\"\",INDEX(E_SourceStreams!$A:$N,DP25,AK$7)))","v":""},{"$f":"IF($E25=\"\",\"\",IF(INDEX(E_SourceStreams!$A:$N,DQ25,AL$7)=\"\",\"\",INDEX(E_SourceStreams!$A:$N,DQ25,AL$7)))","v":""},{"$f":"IF($E25=\"\",\"\",IF(INDEX(E_SourceStreams!$A:$N,DR25,AM$7)=\"\",\"\",INDEX(E_SourceStreams!$A:$N,DR25,AM$7)))","v":""},{"$f":"IF($E25=\"\",\"\",IF(INDEX(E_SourceStreams!$A:$N,DS25,AN$7)=\"\",\"\",INDEX(E_SourceStreams!$A:$N,DS25,AN$7)))","v":""},{"$f":"IF($E25=\"\",\"\",IF(INDEX(E_SourceStreams!$A:$N,DT25,AO$7)=\"\",\"\",INDEX(E_SourceStreams!$A:$N,DT25,AO$7)))","v":""},{"$f":"IF($E25=\"\",\"\",IF(INDEX(E_SourceStreams!$A:$N,DU25,AP$7)=\"\",\"\",INDEX(E_SourceStreams!$A:$N,DU25,AP$7)))","v":""},{"$f":"IF($E25=\"\",\"\",IF(INDEX(E_SourceStreams!$A:$N,DV25,AQ$7)=\"\",\"\",INDEX(E_SourceStreams!$A:$N,DV25,AQ$7)))","v":""},{"$f":"IF($E25=\"\",\"\",IF(INDEX(E_SourceStreams!$A:$N,DW25,AR$7)=\"\",\"\",INDEX(E_SourceStreams!$A:$N,DW25,AR$7)))","v":""},{"$f":"IF($E25=\"\",\"\",IF(INDEX(E_SourceStreams!$A:$N,DX25,AS$7)=\"\",\"\",INDEX(E_SourceStreams!$A:$N,DX25,AS$7)))","v":""},{"$f":"IF($E25=\"\",\"\",IF(INDEX(E_SourceStreams!$A:$N,DY25,AT$7)=\"\",\"\",INDEX(E_SourceStreams!$A:$N,DY25,AT$7)))","v":""},{"$f":"IF($E25=\"\",\"\",IF(INDEX(E_SourceStreams!$A:$N,DZ25,AU$7)=\"\",\"\",INDEX(E_SourceStreams!$A:$N,DZ25,AU$7)))","v":""},{"$f":"IF($E25=\"\",\"\",IF(INDEX(E_SourceStreams!$A:$N,EA25,AV$7)=\"\",\"\",INDEX(E_SourceStreams!$A:$N,EA25,AV$7)))","v":""},{"$f":"IF($E25=\"\",\"\",IF(INDEX(E_SourceStreams!$A:$N,EB25,AW$7)=\"\",\"\",INDEX(E_SourceStreams!$A:$N,EB25,AW$7)))","v":""},{"$f":"IF($E25=\"\",\"\",IF(INDEX(E_SourceStreams!$A:$N,EC25,AX$7)=\"\",\"\",INDEX(E_SourceStreams!$A:$N,EC25,AX$7)))","v":""},{"$f":"IF($E25=\"\",\"\",IF(INDEX(E_SourceStreams!$A:$N,ED25,AY$7)=\"\",\"\",INDEX(E_SourceStreams!$A:$N,ED25,AY$7)))","v":""},{"$f":"IF($E25=\"\",\"\",IF(INDEX(E_SourceStreams!$A:$N,EE25,AZ$7)=\"\",\"\",INDEX(E_SourceStreams!$A:$N,EE25,AZ$7)))","v":""},{"$f":"IF($E25=\"\",\"\",IF(INDEX(E_SourceStreams!$A:$N,EF25,BA$7)=\"\",\"\",INDEX(E_SourceStreams!$A:$N,EF25,BA$7)))","v":""},{"$f":"IF($E25=\"\",\"\",IF(INDEX(E_SourceStreams!$A:$N,EG25,BB$7)=\"\",\"\",INDEX(E_SourceStreams!$A:$N,EG25,BB$7)))","v":""},{"$f":"IF($E25=\"\",\"\",IF(INDEX(E_SourceStreams!$A:$N,EH25,BC$7)=\"\",\"\",INDEX(E_SourceStreams!$A:$N,EH25,BC$7)))","v":""},{"$f":"IF($E25=\"\",\"\",IF(INDEX(E_SourceStreams!$A:$N,EI25,BD$7)=\"\",\"\",INDEX(E_SourceStreams!$A:$N,EI25,BD$7)))","v":""},{"$f":"IF($E25=\"\",\"\",IF(INDEX(E_SourceStreams!$A:$N,EJ25,BE$7)=\"\",\"\",INDEX(E_SourceStreams!$A:$N,EJ25,BE$7)))","v":""},{"$f":"IF($E25=\"\",\"\",IF(INDEX(E_SourceStreams!$A:$N,EK25,BF$7)=\"\",\"\",INDEX(E_SourceStreams!$A:$N,EK25,BF$7)))","v":""},{"$f":"IF($E25=\"\",\"\",IF(INDEX(E_SourceStreams!$A:$N,EL25,BG$7)=\"\",\"\",INDEX(E_SourceStreams!$A:$N,EL25,BG$7)))","v":""},{"$f":"IF($E25=\"\",\"\",IF(INDEX(E_SourceStreams!$A:$N,EM25,BH$7)=\"\",\"\",INDEX(E_SourceStreams!$A:$N,EM25,BH$7)))","v":""},{"$f":"IF($E25=\"\",\"\",IF(INDEX(E_SourceStreams!$A:$N,EN25,BI$7)=\"\",\"\",INDEX(E_SourceStreams!$A:$N,EN25,BI$7)))","v":""},{"$f":"IF($E25=\"\",\"\",IF(INDEX(E_SourceStreams!$A:$N,EO25,BJ$7)=\"\",\"\",INDEX(E_SourceStreams!$A:$N,EO25,BJ$7)))","v":""},{"$f":"IF($E25=\"\",\"\",IF(INDEX(E_SourceStreams!$A:$N,EP25,BK$7)=\"\",\"\",INDEX(E_SourceStreams!$A:$N,EP25,BK$7)))","v":""},{"$f":"IF($E25=\"\",\"\",IF(INDEX(E_SourceStreams!$A:$N,EQ25,BL$7)=\"\",\"\",INDEX(E_SourceStreams!$A:$N,EQ25,BL$7)))","v":""},{"$f":"IF($E25=\"\",\"\",IF(INDEX(E_SourceStreams!$A:$N,ER25,BM$7)=\"\",\"\",INDEX(E_SourceStreams!$A:$N,ER25,BM$7)))","v":""},{"$f":"IF($E25=\"\",\"\",IF(INDEX(E_SourceStreams!$A:$N,ES25,BN$7)=\"\",\"\",INDEX(E_SourceStreams!$A:$N,ES25,BN$7)))","v":""},{"$f":"IF($E25=\"\",\"\",IF(INDEX(E_SourceStreams!$A:$N,ET25,BO$7)=\"\",\"\",INDEX(E_SourceStreams!$A:$N,ET25,BO$7)))","v":""},{"$f":"IF($E25=\"\",\"\",IF(INDEX(E_SourceStreams!$A:$N,EU25,BP$7)=\"\",\"\",INDEX(E_SourceStreams!$A:$N,EU25,BP$7)))","v":""},{"$f":"IF($E25=\"\",\"\",IF(INDEX(E_SourceStreams!$A:$N,EV25,BQ$7)=\"\",\"\",INDEX(E_SourceStreams!$A:$N,EV25,BQ$7)))","v":""},{"$f":"IF($E25=\"\",\"\",IF(INDEX(E_SourceStreams!$A:$N,EW25,BR$7)=\"\",\"\",INDEX(E_SourceStreams!$A:$N,EW25,BR$7)))","v":""},{"$f":"IF($E25=\"\",\"\",IF(INDEX(E_SourceStreams!$A:$N,EX25,BS$7)=\"\",\"\",INDEX(E_SourceStreams!$A:$N,EX25,BS$7)))","v":""},{"$f":"IF($E25=\"\",\"\",IF(INDEX(E_SourceStreams!$A:$N,EY25,BT$7)=\"\",\"\",INDEX(E_SourceStreams!$A:$N,EY25,BT$7)))","v":""},null,null,null,null,null,null,null,null,null,null,null,null,null,null,null,"SourceCategory_",{"$f":"INDEX(C_InstallationDescription!$A$226:$A$332,ROWS($CI$11:CI25))=\"ausblenden\"","v":false},"SourceStreamName_",null,1059,1061,1063,1065,1067,1069,1071,1071,1071,1071,1071,1074,1078,1079,1080,1087,1097,1097,1097,1097,1097,1097,1097,1088,1098,1098,1098,1098,1098,1098,1098,1089,1099,1099,1099,1099,1099,1099,1099,1090,1100,1100,1100,1100,1100,1100,1100,1091,1101,1101,1101,1101,1101,1101,1101,1092,1102,1102,1102,1102,1102,1102,1102,1108]
[null,{"$f":"IF(COUNTIF($CK$10:CK26,TRUE)>0,\"\",INDEX(C_InstallationDescription!$E$226:$E$242,ROWS($A$11:A26)))","v":""},{"$f":"IF($E26=\"\",\"\",INDEX(C_InstallationDescription!F:F,MATCH($B26,C_InstallationDescription!$E:$E,0)))","v":""},{"$f":"IF($E26=\"\",\"\",INDEX(C_InstallationDescription!I:I,MATCH($B26,C_InstallationDescription!$E:$E,0)))","v":""},{"$f":"IF($B26=\"\",\"\",INDEX(C_InstallationDescription!F:F,MATCH($CJ26,C_InstallationDescription!$Q:$Q,0)))","v":""},{"$f":"IF($E26=\"\",\"\",INDEX(C_InstallationDescription!L:L,MATCH($CJ26,C_InstallationDescription!$Q:$Q,0)))","v":""},{"$f":"IF($E26=\"\",\"\",INDEX(C_InstallationDescription!M:M,MATCH($CJ26,C_InstallationDescription!$Q:$Q,0)))","v":""},{"$f":"IF($E26=\"\",\"\",INDEX(C_InstallationDescription!N:N,MATCH($CJ26,C_InstallationDescription!$Q:$Q,0)))","v":""},{"$f":"IF($E26=\"\",\"\",IF(INDEX(E_SourceStreams!$A:$N,CN26,I$7)=\"\",\"\",INDEX(E_SourceStreams!$A:$N,CN26,I$7)))","v":""},{"$f":"IF($E26=\"\",\"\",IF(INDEX(E_SourceStreams!$A:$N,CO26,J$7)=\"\",\"\",INDEX(E_SourceStreams!$A:$N,CO26,J$7)))","v":""},{"$f":"IF($E26=\"\",\"\",IF(INDEX(E_SourceStreams!$A:$N,CP26,K$7)=\"\",\"\",INDEX(E_SourceStreams!$A:$N,CP26,K$7)))","v":""},{"$f":"IF($E26=\"\",\"\",IF(INDEX(E_SourceStreams!$A:$N,CQ26,L$7)=\"\",\"\",INDEX(E_SourceStreams!$A:$N,CQ26,L$7)))","v":""},{"$f":"IF($E26=\"\",\"\",IF(INDEX(E_SourceStreams!$A:$N,CR26,M$7)=\"\",\"\",INDEX(E_SourceStreams!$A:$N,CR26,M$7)))","v":""},{"$f":"IF($E26=\"\",\"\",IF(INDEX(E_SourceStreams!$A:$N,CS26,N$7)=\"\",\"\",INDEX(E_SourceStreams!$A:$N,CS26,N$7)))","v":""},{"$f":"IF($E26=\"\",\"\",IF(INDEX(E_SourceStreams!$A:$N,CT26,O$7)=\"\",\"\",INDEX(E_SourceStreams!$A:$N,CT26,O$7)))","v":""},{"$f":"IF($E26=\"\",\"\",IF(INDEX(E_SourceStreams!$A:$N,CU26,P$7)=\"\",\"\",INDEX(E_SourceStreams!$A:$N,CU26,P$7)))","v":""},{"$f":"IF($E26=\"\",\"\",IF(INDEX(E_SourceStreams!$A:$N,CV26,Q$7)=\"\",\"\",INDEX(E_SourceStreams!$A:$N,CV26,Q$7)))","v":""},{"$f":"IF($E26=\"\",\"\",IF(INDEX(E_SourceStreams!$A:$N,CW26,R$7)=\"\",\"\",INDEX(E_SourceStreams!$A:$N,CW26,R$7)))","v":""},{"$f":"IF($E26=\"\",\"\",IF(INDEX(E_SourceStreams!$A:$N,CX26,S$7)=\"\",\"\",INDEX(E_SourceStreams!$A:$N,CX26,S$7)))","v":""},{"$f":"IF($E26=\"\",\"\",IF(INDEX(E_SourceStreams!$A:$N,CY26,T$7)=\"\",\"\",INDEX(E_SourceStreams!$A:$N,CY26,T$7)))","v":""},{"$f":"IF($E26=\"\",\"\",IF(INDEX(E_SourceStreams!$A:$N,CZ26,U$7)=\"\",\"\",INDEX(E_SourceStreams!$A:$N,CZ26,U$7)))","v":""},{"$f":"IF($E26=\"\",\"\",IF(INDEX(E_SourceStreams!$A:$N,DA26,V$7)=\"\",\"\",INDEX(E_SourceStreams!$A:$N,DA26,V$7)))","v":""},{"$f":"IF($E26=\"\",\"\",IF(INDEX(E_SourceStreams!$A:$N,DB26,W$7)=\"\",\"\",INDEX(E_SourceStreams!$A:$N,DB26,W$7)))","v":""},{"$f":"IF($E26=\"\",\"\",IF(INDEX(E_SourceStreams!$A:$N,DC26,X$7)=\"\",\"\",INDEX(E_SourceStreams!$A:$N,DC26,X$7)))","v":""},{"$f":"IF($E26=\"\",\"\",IF(INDEX(E_SourceStreams!$A:$N,DD26,Y$7)=\"\",\"\",INDEX(E_SourceStreams!$A:$N,DD26,Y$7)))","v":""},{"$f":"IF($E26=\"\",\"\",IF(INDEX(E_SourceStreams!$A:$N,DE26,Z$7)=\"\",\"\",INDEX(E_SourceStreams!$A:$N,DE26,Z$7)))","v":""},{"$f":"IF($E26=\"\",\"\",IF(INDEX(E_SourceStreams!$A:$N,DF26,AA$7)=\"\",\"\",INDEX(E_SourceStreams!$A:$N,DF26,AA$7)))","v":""},{"$f":"IF($E26=\"\",\"\",IF(INDEX(E_SourceStreams!$A:$N,DG26,AB$7)=\"\",\"\",INDEX(E_SourceStreams!$A:$N,DG26,AB$7)))","v":""},{"$f":"IF($E26=\"\",\"\",IF(INDEX(E_SourceStreams!$A:$N,DH26,AC$7)=\"\",\"\",INDEX(E_SourceStreams!$A:$N,DH26,AC$7)))","v":""},{"$f":"IF($E26=\"\",\"\",IF(INDEX(E_SourceStreams!$A:$N,DI26,AD$7)=\"\",\"\",INDEX(E_SourceStreams!$A:$N,DI26,AD$7)))","v":""},{"$f":"IF($E26=\"\",\"\",IF(INDEX(E_SourceStreams!$A:$N,DJ26,AE$7)=\"\",\"\",INDEX(E_SourceStreams!$A:$N,DJ26,AE$7)))","v":""},{"$f":"IF($E26=\"\",\"\",IF(INDEX(E_SourceStreams!$A:$N,DK26,AF$7)=\"\",\"\",INDEX(E_SourceStreams!$A:$N,DK26,AF$7)))","v":""},{"$f":"IF($E26=\"\",\"\",IF(INDEX(E_SourceStreams!$A:$N,DL26,AG$7)=\"\",\"\",INDEX(E_SourceStreams!$A:$N,DL26,AG$7)))","v":""},{"$f":"IF($E26=\"\",\"\",IF(INDEX(E_SourceStreams!$A:$N,DM26,AH$7)=\"\",\"\",INDEX(E_SourceStreams!$A:$N,DM26,AH$7)))","v":""},{"$f":"IF($E26=\"\",\"\",IF(INDEX(E_SourceStreams!$A:$N,DN26,AI$7)=\"\",\"\",INDEX(E_SourceStreams!$A:$N,DN26,AI$7)))","v":""},{"$f":"IF($E26=\"\",\"\",IF(INDEX(E_SourceStreams!$A:$N,DO26,AJ$7)=\"\",\"\",INDEX(E_SourceStreams!$A:$N,DO26,AJ$7)))","v":""},{"$f":"IF($E26=\"\",\"\",IF(INDEX(E_SourceStreams!$A:$N,DP26,AK$7)=\"\",\"\",INDEX(E_SourceStreams!$A:$N,DP26,AK$7)))","v":""},{"$f":"IF($E26=\"\",\"\",IF(INDEX(E_SourceStreams!$A:$N,DQ26,AL$7)=\"\",\"\",INDEX(E_SourceStreams!$A:$N,DQ26,AL$7)))","v":""},{"$f":"IF($E26=\"\",\"\",IF(INDEX(E_SourceStreams!$A:$N,DR26,AM$7)=\"\",\"\",INDEX(E_SourceStreams!$A:$N,DR26,AM$7)))","v":""},{"$f":"IF($E26=\"\",\"\",IF(INDEX(E_SourceStreams!$A:$N,DS26,AN$7)=\"\",\"\",INDEX(E_SourceStreams!$A:$N,DS26,AN$7)))","v":""},{"$f":"IF($E26=\"\",\"\",IF(INDEX(E_SourceStreams!$A:$N,DT26,AO$7)=\"\",\"\",INDEX(E_SourceStreams!$A:$N,DT26,AO$7)))","v":""},{"$f":"IF($E26=\"\",\"\",IF(INDEX(E_SourceStreams!$A:$N,DU26,AP$7)=\"\",\"\",INDEX(E_SourceStreams!$A:$N,DU26,AP$7)))","v":""},{"$f":"IF($E26=\"\",\"\",IF(INDEX(E_SourceStreams!$A:$N,DV26,AQ$7)=\"\",\"\",INDEX(E_SourceStreams!$A:$N,DV26,AQ$7)))","v":""},{"$f":"IF($E26=\"\",\"\",IF(INDEX(E_SourceStreams!$A:$N,DW26,AR$7)=\"\",\"\",INDEX(E_SourceStreams!$A:$N,DW26,AR$7)))","v":""},{"$f":"IF($E26=\"\",\"\",IF(INDEX(E_SourceStreams!$A:$N,DX26,AS$7)=\"\",\"\",INDEX(E_SourceStreams!$A:$N,DX26,AS$7)))","v":""},{"$f":"IF($E26=\"\",\"\",IF(INDEX(E_SourceStreams!$A:$N,DY26,AT$7)=\"\",\"\",INDEX(E_SourceStreams!$A:$N,DY26,AT$7)))","v":""},{"$f":"IF($E26=\"\",\"\",IF(INDEX(E_SourceStreams!$A:$N,DZ26,AU$7)=\"\",\"\",INDEX(E_SourceStreams!$A:$N,DZ26,AU$7)))","v":""},{"$f":"IF($E26=\"\",\"\",IF(INDEX(E_SourceStreams!$A:$N,EA26,AV$7)=\"\",\"\",INDEX(E_SourceStreams!$A:$N,EA26,AV$7)))","v":""},{"$f":"IF($E26=\"\",\"\",IF(INDEX(E_SourceStreams!$A:$N,EB26,AW$7)=\"\",\"\",INDEX(E_SourceStreams!$A:$N,EB26,AW$7)))","v":""},{"$f":"IF($E26=\"\",\"\",IF(INDEX(E_SourceStreams!$A:$N,EC26,AX$7)=\"\",\"\",INDEX(E_SourceStreams!$A:$N,EC26,AX$7)))","v":""},{"$f":"IF($E26=\"\",\"\",IF(INDEX(E_SourceStreams!$A:$N,ED26,AY$7)=\"\",\"\",INDEX(E_SourceStreams!$A:$N,ED26,AY$7)))","v":""},{"$f":"IF($E26=\"\",\"\",IF(INDEX(E_SourceStreams!$A:$N,EE26,AZ$7)=\"\",\"\",INDEX(E_SourceStreams!$A:$N,EE26,AZ$7)))","v":""},{"$f":"IF($E26=\"\",\"\",IF(INDEX(E_SourceStreams!$A:$N,EF26,BA$7)=\"\",\"\",INDEX(E_SourceStreams!$A:$N,EF26,BA$7)))","v":""},{"$f":"IF($E26=\"\",\"\",IF(INDEX(E_SourceStreams!$A:$N,EG26,BB$7)=\"\",\"\",INDEX(E_SourceStreams!$A:$N,EG26,BB$7)))","v":""},{"$f":"IF($E26=\"\",\"\",IF(INDEX(E_SourceStreams!$A:$N,EH26,BC$7)=\"\",\"\",INDEX(E_SourceStreams!$A:$N,EH26,BC$7)))","v":""},{"$f":"IF($E26=\"\",\"\",IF(INDEX(E_SourceStreams!$A:$N,EI26,BD$7)=\"\",\"\",INDEX(E_SourceStreams!$A:$N,EI26,BD$7)))","v":""},{"$f":"IF($E26=\"\",\"\",IF(INDEX(E_SourceStreams!$A:$N,EJ26,BE$7)=\"\",\"\",INDEX(E_SourceStreams!$A:$N,EJ26,BE$7)))","v":""},{"$f":"IF($E26=\"\",\"\",IF(INDEX(E_SourceStreams!$A:$N,EK26,BF$7)=\"\",\"\",INDEX(E_SourceStreams!$A:$N,EK26,BF$7)))","v":""},{"$f":"IF($E26=\"\",\"\",IF(INDEX(E_SourceStreams!$A:$N,EL26,BG$7)=\"\",\"\",INDEX(E_SourceStreams!$A:$N,EL26,BG$7)))","v":""},{"$f":"IF($E26=\"\",\"\",IF(INDEX(E_SourceStreams!$A:$N,EM26,BH$7)=\"\",\"\",INDEX(E_SourceStreams!$A:$N,EM26,BH$7)))","v":""},{"$f":"IF($E26=\"\",\"\",IF(INDEX(E_SourceStreams!$A:$N,EN26,BI$7)=\"\",\"\",INDEX(E_SourceStreams!$A:$N,EN26,BI$7)))","v":""},{"$f":"IF($E26=\"\",\"\",IF(INDEX(E_SourceStreams!$A:$N,EO26,BJ$7)=\"\",\"\",INDEX(E_SourceStreams!$A:$N,EO26,BJ$7)))","v":""},{"$f":"IF($E26=\"\",\"\",IF(INDEX(E_SourceStreams!$A:$N,EP26,BK$7)=\"\",\"\",INDEX(E_SourceStreams!$A:$N,EP26,BK$7)))","v":""},{"$f":"IF($E26=\"\",\"\",IF(INDEX(E_SourceStreams!$A:$N,EQ26,BL$7)=\"\",\"\",INDEX(E_SourceStreams!$A:$N,EQ26,BL$7)))","v":""},{"$f":"IF($E26=\"\",\"\",IF(INDEX(E_SourceStreams!$A:$N,ER26,BM$7)=\"\",\"\",INDEX(E_SourceStreams!$A:$N,ER26,BM$7)))","v":""},{"$f":"IF($E26=\"\",\"\",IF(INDEX(E_SourceStreams!$A:$N,ES26,BN$7)=\"\",\"\",INDEX(E_SourceStreams!$A:$N,ES26,BN$7)))","v":""},{"$f":"IF($E26=\"\",\"\",IF(INDEX(E_SourceStreams!$A:$N,ET26,BO$7)=\"\",\"\",INDEX(E_SourceStreams!$A:$N,ET26,BO$7)))","v":""},{"$f":"IF($E26=\"\",\"\",IF(INDEX(E_SourceStreams!$A:$N,EU26,BP$7)=\"\",\"\",INDEX(E_SourceStreams!$A:$N,EU26,BP$7)))","v":""},{"$f":"IF($E26=\"\",\"\",IF(INDEX(E_SourceStreams!$A:$N,EV26,BQ$7)=\"\",\"\",INDEX(E_SourceStreams!$A:$N,EV26,BQ$7)))","v":""},{"$f":"IF($E26=\"\",\"\",IF(INDEX(E_SourceStreams!$A:$N,EW26,BR$7)=\"\",\"\",INDEX(E_SourceStreams!$A:$N,EW26,BR$7)))","v":""},{"$f":"IF($E26=\"\",\"\",IF(INDEX(E_SourceStreams!$A:$N,EX26,BS$7)=\"\",\"\",INDEX(E_SourceStreams!$A:$N,EX26,BS$7)))","v":""},{"$f":"IF($E26=\"\",\"\",IF(INDEX(E_SourceStreams!$A:$N,EY26,BT$7)=\"\",\"\",INDEX(E_SourceStreams!$A:$N,EY26,BT$7)))","v":""},null,null,null,null,null,null,null,null,null,null,null,null,null,null,null,"SourceCategory_",{"$f":"INDEX(C_InstallationDescription!$A$226:$A$332,ROWS($CI$11:CI26))=\"ausblenden\"","v":false},"SourceStreamName_",null,1125,1127,1129,1131,1133,1135,1137,1137,1137,1137,1137,1140,1144,1145,1146,1153,1163,1163,1163,1163,1163,1163,1163,1154,1164,1164,1164,1164,1164,1164,1164,1155,1165,1165,1165,1165,1165,1165,1165,1156,1166,1166,1166,1166,1166,1166,1166,1157,1167,1167,1167,1167,1167,1167,1167,1158,1168,1168,1168,1168,1168,1168,1168,1174]
[null,{"$f":"IF(COUNTIF($CK$10:CK27,TRUE)>0,\"\",INDEX(C_InstallationDescription!$E$226:$E$242,ROWS($A$11:A27)))","v":""},{"$f":"IF($E27=\"\",\"\",INDEX(C_InstallationDescription!F:F,MATCH($B27,C_InstallationDescription!$E:$E,0)))","v":""},{"$f":"IF($E27=\"\",\"\",INDEX(C_InstallationDescription!I:I,MATCH($B27,C_InstallationDescription!$E:$E,0)))","v":""},{"$f":"IF($B27=\"\",\"\",INDEX(C_InstallationDescription!F:F,MATCH($CJ27,C_InstallationDescription!$Q:$Q,0)))","v":""},{"$f":"IF($E27=\"\",\"\",INDEX(C_InstallationDescription!L:L,MATCH($CJ27,C_InstallationDescription!$Q:$Q,0)))","v":""},{"$f":"IF($E27=\"\",\"\",INDEX(C_InstallationDescription!M:M,MATCH($CJ27,C_InstallationDescription!$Q:$Q,0)))","v":""},{"$f":"IF($E27=\"\",\"\",INDEX(C_InstallationDescription!N:N,MATCH($CJ27,C_InstallationDescription!$Q:$Q,0)))","v":""},{"$f":"IF($E27=\"\",\"\",IF(INDEX(E_SourceStreams!$A:$N,CN27,I$7)=\"\",\"\",INDEX(E_SourceStreams!$A:$N,CN27,I$7)))","v":""},{"$f":"IF($E27=\"\",\"\",IF(INDEX(E_SourceStreams!$A:$N,CO27,J$7)=\"\",\"\",INDEX(E_SourceStreams!$A:$N,CO27,J$7)))","v":""},{"$f":"IF($E27=\"\",\"\",IF(INDEX(E_SourceStreams!$A:$N,CP27,K$7)=\"\",\"\",INDEX(E_SourceStreams!$A:$N,CP27,K$7)))","v":""},{"$f":"IF($E27=\"\",\"\",IF(INDEX(E_SourceStreams!$A:$N,CQ27,L$7)=\"\",\"\",INDEX(E_SourceStreams!$A:$N,CQ27,L$7)))","v":""},{"$f":"IF($E27=\"\",\"\",IF(INDEX(E_SourceStreams!$A:$N,CR27,M$7)=\"\",\"\",INDEX(E_SourceStreams!$A:$N,CR27,M$7)))","v":""},{"$f":"IF($E27=\"\",\"\",IF(INDEX(E_SourceStreams!$A:$N,CS27,N$7)=\"\",\"\",INDEX(E_SourceStreams!$A:$N,CS27,N$7)))","v":""},{"$f":"IF($E27=\"\",\"\",IF(INDEX(E_SourceStreams!$A:$N,CT27,O$7)=\"\",\"\",INDEX(E_SourceStreams!$A:$N,CT27,O$7)))","v":""},{"$f":"IF($E27=\"\",\"\",IF(INDEX(E_SourceStreams!$A:$N,CU27,P$7)=\"\",\"\",INDEX(E_SourceStreams!$A:$N,CU27,P$7)))","v":""},{"$f":"IF($E27=\"\",\"\",IF(INDEX(E_SourceStreams!$A:$N,CV27,Q$7)=\"\",\"\",INDEX(E_SourceStreams!$A:$N,CV27,Q$7)))","v":""},{"$f":"IF($E27=\"\",\"\",IF(INDEX(E_SourceStreams!$A:$N,CW27,R$7)=\"\",\"\",INDEX(E_SourceStreams!$A:$N,CW27,R$7)))","v":""},{"$f":"IF($E27=\"\",\"\",IF(INDEX(E_SourceStreams!$A:$N,CX27,S$7)=\"\",\"\",INDEX(E_SourceStreams!$A:$N,CX27,S$7)))","v":""},{"$f":"IF($E27=\"\",\"\",IF(INDEX(E_SourceStreams!$A:$N,CY27,T$7)=\"\",\"\",INDEX(E_SourceStreams!$A:$N,CY27,T$7)))","v":""},{"$f":"IF($E27=\"\",\"\",IF(INDEX(E_SourceStreams!$A:$N,CZ27,U$7)=\"\",\"\",INDEX(E_SourceStreams!$A:$N,CZ27,U$7)))","v":""},{"$f":"IF($E27=\"\",\"\",IF(INDEX(E_SourceStreams!$A:$N,DA27,V$7)=\"\",\"\",INDEX(E_SourceStreams!$A:$N,DA27,V$7)))","v":""},{"$f":"IF($E27=\"\",\"\",IF(INDEX(E_SourceStreams!$A:$N,DB27,W$7)=\"\",\"\",INDEX(E_SourceStreams!$A:$N,DB27,W$7)))","v":""},{"$f":"IF($E27=\"\",\"\",IF(INDEX(E_SourceStreams!$A:$N,DC27,X$7)=\"\",\"\",INDEX(E_SourceStreams!$A:$N,DC27,X$7)))","v":""},{"$f":"IF($E27=\"\",\"\",IF(INDEX(E_SourceStreams!$A:$N,DD27,Y$7)=\"\",\"\",INDEX(E_SourceStreams!$A:$N,DD27,Y$7)))","v":""},{"$f":"IF($E27=\"\",\"\",IF(INDEX(E_SourceStreams!$A:$N,DE27,Z$7)=\"\",\"\",INDEX(E_SourceStreams!$A:$N,DE27,Z$7)))","v":""},{"$f":"IF($E27=\"\",\"\",IF(INDEX(E_SourceStreams!$A:$N,DF27,AA$7)=\"\",\"\",INDEX(E_SourceStreams!$A:$N,DF27,AA$7)))","v":""},{"$f":"IF($E27=\"\",\"\",IF(INDEX(E_SourceStreams!$A:$N,DG27,AB$7)=\"\",\"\",INDEX(E_SourceStreams!$A:$N,DG27,AB$7)))","v":""},{"$f":"IF($E27=\"\",\"\",IF(INDEX(E_SourceStreams!$A:$N,DH27,AC$7)=\"\",\"\",INDEX(E_SourceStreams!$A:$N,DH27,AC$7)))","v":""},{"$f":"IF($E27=\"\",\"\",IF(INDEX(E_SourceStreams!$A:$N,DI27,AD$7)=\"\",\"\",INDEX(E_SourceStreams!$A:$N,DI27,AD$7)))","v":""},{"$f":"IF($E27=\"\",\"\",IF(INDEX(E_SourceStreams!$A:$N,DJ27,AE$7)=\"\",\"\",INDEX(E_SourceStreams!$A:$N,DJ27,AE$7)))","v":""},{"$f":"IF($E27=\"\",\"\",IF(INDEX(E_SourceStreams!$A:$N,DK27,AF$7)=\"\",\"\",INDEX(E_SourceStreams!$A:$N,DK27,AF$7)))","v":""},{"$f":"IF($E27=\"\",\"\",IF(INDEX(E_SourceStreams!$A:$N,DL27,AG$7)=\"\",\"\",INDEX(E_SourceStreams!$A:$N,DL27,AG$7)))","v":""},{"$f":"IF($E27=\"\",\"\",IF(INDEX(E_SourceStreams!$A:$N,DM27,AH$7)=\"\",\"\",INDEX(E_SourceStreams!$A:$N,DM27,AH$7)))","v":""},{"$f":"IF($E27=\"\",\"\",IF(INDEX(E_SourceStreams!$A:$N,DN27,AI$7)=\"\",\"\",INDEX(E_SourceStreams!$A:$N,DN27,AI$7)))","v":""},{"$f":"IF($E27=\"\",\"\",IF(INDEX(E_SourceStreams!$A:$N,DO27,AJ$7)=\"\",\"\",INDEX(E_SourceStreams!$A:$N,DO27,AJ$7)))","v":""},{"$f":"IF($E27=\"\",\"\",IF(INDEX(E_SourceStreams!$A:$N,DP27,AK$7)=\"\",\"\",INDEX(E_SourceStreams!$A:$N,DP27,AK$7)))","v":""},{"$f":"IF($E27=\"\",\"\",IF(INDEX(E_SourceStreams!$A:$N,DQ27,AL$7)=\"\",\"\",INDEX(E_SourceStreams!$A:$N,DQ27,AL$7)))","v":""},{"$f":"IF($E27=\"\",\"\",IF(INDEX(E_SourceStreams!$A:$N,DR27,AM$7)=\"\",\"\",INDEX(E_SourceStreams!$A:$N,DR27,AM$7)))","v":""},{"$f":"IF($E27=\"\",\"\",IF(INDEX(E_SourceStreams!$A:$N,DS27,AN$7)=\"\",\"\",INDEX(E_SourceStreams!$A:$N,DS27,AN$7)))","v":""},{"$f":"IF($E27=\"\",\"\",IF(INDEX(E_SourceStreams!$A:$N,DT27,AO$7)=\"\",\"\",INDEX(E_SourceStreams!$A:$N,DT27,AO$7)))","v":""},{"$f":"IF($E27=\"\",\"\",IF(INDEX(E_SourceStreams!$A:$N,DU27,AP$7)=\"\",\"\",INDEX(E_SourceStreams!$A:$N,DU27,AP$7)))","v":""},{"$f":"IF($E27=\"\",\"\",IF(INDEX(E_SourceStreams!$A:$N,DV27,AQ$7)=\"\",\"\",INDEX(E_SourceStreams!$A:$N,DV27,AQ$7)))","v":""},{"$f":"IF($E27=\"\",\"\",IF(INDEX(E_SourceStreams!$A:$N,DW27,AR$7)=\"\",\"\",INDEX(E_SourceStreams!$A:$N,DW27,AR$7)))","v":""},{"$f":"IF($E27=\"\",\"\",IF(INDEX(E_SourceStreams!$A:$N,DX27,AS$7)=\"\",\"\",INDEX(E_SourceStreams!$A:$N,DX27,AS$7)))","v":""},{"$f":"IF($E27=\"\",\"\",IF(INDEX(E_SourceStreams!$A:$N,DY27,AT$7)=\"\",\"\",INDEX(E_SourceStreams!$A:$N,DY27,AT$7)))","v":""},{"$f":"IF($E27=\"\",\"\",IF(INDEX(E_SourceStreams!$A:$N,DZ27,AU$7)=\"\",\"\",INDEX(E_SourceStreams!$A:$N,DZ27,AU$7)))","v":""},{"$f":"IF($E27=\"\",\"\",IF(INDEX(E_SourceStreams!$A:$N,EA27,AV$7)=\"\",\"\",INDEX(E_SourceStreams!$A:$N,EA27,AV$7)))","v":""},{"$f":"IF($E27=\"\",\"\",IF(INDEX(E_SourceStreams!$A:$N,EB27,AW$7)=\"\",\"\",INDEX(E_SourceStreams!$A:$N,EB27,AW$7)))","v":""},{"$f":"IF($E27=\"\",\"\",IF(INDEX(E_SourceStreams!$A:$N,EC27,AX$7)=\"\",\"\",INDEX(E_SourceStreams!$A:$N,EC27,AX$7)))","v":""},{"$f":"IF($E27=\"\",\"\",IF(INDEX(E_SourceStreams!$A:$N,ED27,AY$7)=\"\",\"\",INDEX(E_SourceStreams!$A:$N,ED27,AY$7)))","v":""},{"$f":"IF($E27=\"\",\"\",IF(INDEX(E_SourceStreams!$A:$N,EE27,AZ$7)=\"\",\"\",INDEX(E_SourceStreams!$A:$N,EE27,AZ$7)))","v":""},{"$f":"IF($E27=\"\",\"\",IF(INDEX(E_SourceStreams!$A:$N,EF27,BA$7)=\"\",\"\",INDEX(E_SourceStreams!$A:$N,EF27,BA$7)))","v":""},{"$f":"IF($E27=\"\",\"\",IF(INDEX(E_SourceStreams!$A:$N,EG27,BB$7)=\"\",\"\",INDEX(E_SourceStreams!$A:$N,EG27,BB$7)))","v":""},{"$f":"IF($E27=\"\",\"\",IF(INDEX(E_SourceStreams!$A:$N,EH27,BC$7)=\"\",\"\",INDEX(E_SourceStreams!$A:$N,EH27,BC$7)))","v":""},{"$f":"IF($E27=\"\",\"\",IF(INDEX(E_SourceStreams!$A:$N,EI27,BD$7)=\"\",\"\",INDEX(E_SourceStreams!$A:$N,EI27,BD$7)))","v":""},{"$f":"IF($E27=\"\",\"\",IF(INDEX(E_SourceStreams!$A:$N,EJ27,BE$7)=\"\",\"\",INDEX(E_SourceStreams!$A:$N,EJ27,BE$7)))","v":""},{"$f":"IF($E27=\"\",\"\",IF(INDEX(E_SourceStreams!$A:$N,EK27,BF$7)=\"\",\"\",INDEX(E_SourceStreams!$A:$N,EK27,BF$7)))","v":""},{"$f":"IF($E27=\"\",\"\",IF(INDEX(E_SourceStreams!$A:$N,EL27,BG$7)=\"\",\"\",INDEX(E_SourceStreams!$A:$N,EL27,BG$7)))","v":""},{"$f":"IF($E27=\"\",\"\",IF(INDEX(E_SourceStreams!$A:$N,EM27,BH$7)=\"\",\"\",INDEX(E_SourceStreams!$A:$N,EM27,BH$7)))","v":""},{"$f":"IF($E27=\"\",\"\",IF(INDEX(E_SourceStreams!$A:$N,EN27,BI$7)=\"\",\"\",INDEX(E_SourceStreams!$A:$N,EN27,BI$7)))","v":""},{"$f":"IF($E27=\"\",\"\",IF(INDEX(E_SourceStreams!$A:$N,EO27,BJ$7)=\"\",\"\",INDEX(E_SourceStreams!$A:$N,EO27,BJ$7)))","v":""},{"$f":"IF($E27=\"\",\"\",IF(INDEX(E_SourceStreams!$A:$N,EP27,BK$7)=\"\",\"\",INDEX(E_SourceStreams!$A:$N,EP27,BK$7)))","v":""},{"$f":"IF($E27=\"\",\"\",IF(INDEX(E_SourceStreams!$A:$N,EQ27,BL$7)=\"\",\"\",INDEX(E_SourceStreams!$A:$N,EQ27,BL$7)))","v":""},{"$f":"IF($E27=\"\",\"\",IF(INDEX(E_SourceStreams!$A:$N,ER27,BM$7)=\"\",\"\",INDEX(E_SourceStreams!$A:$N,ER27,BM$7)))","v":""},{"$f":"IF($E27=\"\",\"\",IF(INDEX(E_SourceStreams!$A:$N,ES27,BN$7)=\"\",\"\",INDEX(E_SourceStreams!$A:$N,ES27,BN$7)))","v":""},{"$f":"IF($E27=\"\",\"\",IF(INDEX(E_SourceStreams!$A:$N,ET27,BO$7)=\"\",\"\",INDEX(E_SourceStreams!$A:$N,ET27,BO$7)))","v":""},{"$f":"IF($E27=\"\",\"\",IF(INDEX(E_SourceStreams!$A:$N,EU27,BP$7)=\"\",\"\",INDEX(E_SourceStreams!$A:$N,EU27,BP$7)))","v":""},{"$f":"IF($E27=\"\",\"\",IF(INDEX(E_SourceStreams!$A:$N,EV27,BQ$7)=\"\",\"\",INDEX(E_SourceStreams!$A:$N,EV27,BQ$7)))","v":""},{"$f":"IF($E27=\"\",\"\",IF(INDEX(E_SourceStreams!$A:$N,EW27,BR$7)=\"\",\"\",INDEX(E_SourceStreams!$A:$N,EW27,BR$7)))","v":""},{"$f":"IF($E27=\"\",\"\",IF(INDEX(E_SourceStreams!$A:$N,EX27,BS$7)=\"\",\"\",INDEX(E_SourceStreams!$A:$N,EX27,BS$7)))","v":""},{"$f":"IF($E27=\"\",\"\",IF(INDEX(E_SourceStreams!$A:$N,EY27,BT$7)=\"\",\"\",INDEX(E_SourceStreams!$A:$N,EY27,BT$7)))","v":""},null,null,null,null,null,null,null,null,null,null,null,null,null,null,null,"SourceCategory_",{"$f":"INDEX(C_InstallationDescription!$A$226:$A$332,ROWS($CI$11:CI27))=\"ausblenden\"","v":false},"SourceStreamName_",null,1191,1193,1195,1197,1199,1201,1203,1203,1203,1203,1203,1206,1210,1211,1212,1219,1229,1229,1229,1229,1229,1229,1229,1220,1230,1230,1230,1230,1230,1230,1230,1221,1231,1231,1231,1231,1231,1231,1231,1222,1232,1232,1232,1232,1232,1232,1232,1223,1233,1233,1233,1233,1233,1233,1233,1224,1234,1234,1234,1234,1234,1234,1234,1240]
[null,{"$f":"IF(COUNTIF($CK$10:CK28,TRUE)>0,\"\",INDEX(C_InstallationDescription!$E$226:$E$242,ROWS($A$11:A28)))","v":""},{"$f":"IF($E28=\"\",\"\",INDEX(C_InstallationDescription!F:F,MATCH($B28,C_InstallationDescription!$E:$E,0)))","v":""},{"$f":"IF($E28=\"\",\"\",INDEX(C_InstallationDescription!I:I,MATCH($B28,C_InstallationDescription!$E:$E,0)))","v":""},{"$f":"IF($B28=\"\",\"\",INDEX(C_InstallationDescription!F:F,MATCH($CJ28,C_InstallationDescription!$Q:$Q,0)))","v":""},{"$f":"IF($E28=\"\",\"\",INDEX(C_InstallationDescription!L:L,MATCH($CJ28,C_InstallationDescription!$Q:$Q,0)))","v":""},{"$f":"IF($E28=\"\",\"\",INDEX(C_InstallationDescription!M:M,MATCH($CJ28,C_InstallationDescription!$Q:$Q,0)))","v":""},{"$f":"IF($E28=\"\",\"\",INDEX(C_InstallationDescription!N:N,MATCH($CJ28,C_InstallationDescription!$Q:$Q,0)))","v":""},{"$f":"IF($E28=\"\",\"\",IF(INDEX(E_SourceStreams!$A:$N,CN28,I$7)=\"\",\"\",INDEX(E_SourceStreams!$A:$N,CN28,I$7)))","v":""},{"$f":"IF($E28=\"\",\"\",IF(INDEX(E_SourceStreams!$A:$N,CO28,J$7)=\"\",\"\",INDEX(E_SourceStreams!$A:$N,CO28,J$7)))","v":""},{"$f":"IF($E28=\"\",\"\",IF(INDEX(E_SourceStreams!$A:$N,CP28,K$7)=\"\",\"\",INDEX(E_SourceStreams!$A:$N,CP28,K$7)))","v":""},{"$f":"IF($E28=\"\",\"\",IF(INDEX(E_SourceStreams!$A:$N,CQ28,L$7)=\"\",\"\",INDEX(E_SourceStreams!$A:$N,CQ28,L$7)))","v":""},{"$f":"IF($E28=\"\",\"\",IF(INDEX(E_SourceStreams!$A:$N,CR28,M$7)=\"\",\"\",INDEX(E_SourceStreams!$A:$N,CR28,M$7)))","v":""},{"$f":"IF($E28=\"\",\"\",IF(INDEX(E_SourceStreams!$A:$N,CS28,N$7)=\"\",\"\",INDEX(E_SourceStreams!$A:$N,CS28,N$7)))","v":""},{"$f":"IF($E28=\"\",\"\",IF(INDEX(E_SourceStreams!$A:$N,CT28,O$7)=\"\",\"\",INDEX(E_SourceStreams!$A:$N,CT28,O$7)))","v":""},{"$f":"IF($E28=\"\",\"\",IF(INDEX(E_SourceStreams!$A:$N,CU28,P$7)=\"\",\"\",INDEX(E_SourceStreams!$A:$N,CU28,P$7)))","v":""},{"$f":"IF($E28=\"\",\"\",IF(INDEX(E_SourceStreams!$A:$N,CV28,Q$7)=\"\",\"\",INDEX(E_SourceStreams!$A:$N,CV28,Q$7)))","v":""},{"$f":"IF($E28=\"\",\"\",IF(INDEX(E_SourceStreams!$A:$N,CW28,R$7)=\"\",\"\",INDEX(E_SourceStreams!$A:$N,CW28,R$7)))","v":""},{"$f":"IF($E28=\"\",\"\",IF(INDEX(E_SourceStreams!$A:$N,CX28,S$7)=\"\",\"\",INDEX(E_SourceStreams!$A:$N,CX28,S$7)))","v":""},{"$f":"IF($E28=\"\",\"\",IF(INDEX(E_SourceStreams!$A:$N,CY28,T$7)=\"\",\"\",INDEX(E_SourceStreams!$A:$N,CY28,T$7)))","v":""},{"$f":"IF($E28=\"\",\"\",IF(INDEX(E_SourceStreams!$A:$N,CZ28,U$7)=\"\",\"\",INDEX(E_SourceStreams!$A:$N,CZ28,U$7)))","v":""},{"$f":"IF($E28=\"\",\"\",IF(INDEX(E_SourceStreams!$A:$N,DA28,V$7)=\"\",\"\",INDEX(E_SourceStreams!$A:$N,DA28,V$7)))","v":""},{"$f":"IF($E28=\"\",\"\",IF(INDEX(E_SourceStreams!$A:$N,DB28,W$7)=\"\",\"\",INDEX(E_SourceStreams!$A:$N,DB28,W$7)))","v":""},{"$f":"IF($E28=\"\",\"\",IF(INDEX(E_SourceStreams!$A:$N,DC28,X$7)=\"\",\"\",INDEX(E_SourceStreams!$A:$N,DC28,X$7)))","v":""},{"$f":"IF($E28=\"\",\"\",IF(INDEX(E_SourceStreams!$A:$N,DD28,Y$7)=\"\",\"\",INDEX(E_SourceStreams!$A:$N,DD28,Y$7)))","v":""},{"$f":"IF($E28=\"\",\"\",IF(INDEX(E_SourceStreams!$A:$N,DE28,Z$7)=\"\",\"\",INDEX(E_SourceStreams!$A:$N,DE28,Z$7)))","v":""},{"$f":"IF($E28=\"\",\"\",IF(INDEX(E_SourceStreams!$A:$N,DF28,AA$7)=\"\",\"\",INDEX(E_SourceStreams!$A:$N,DF28,AA$7)))","v":""},{"$f":"IF($E28=\"\",\"\",IF(INDEX(E_SourceStreams!$A:$N,DG28,AB$7)=\"\",\"\",INDEX(E_SourceStreams!$A:$N,DG28,AB$7)))","v":""},{"$f":"IF($E28=\"\",\"\",IF(INDEX(E_SourceStreams!$A:$N,DH28,AC$7)=\"\",\"\",INDEX(E_SourceStreams!$A:$N,DH28,AC$7)))","v":""},{"$f":"IF($E28=\"\",\"\",IF(INDEX(E_SourceStreams!$A:$N,DI28,AD$7)=\"\",\"\",INDEX(E_SourceStreams!$A:$N,DI28,AD$7)))","v":""},{"$f":"IF($E28=\"\",\"\",IF(INDEX(E_SourceStreams!$A:$N,DJ28,AE$7)=\"\",\"\",INDEX(E_SourceStreams!$A:$N,DJ28,AE$7)))","v":""},{"$f":"IF($E28=\"\",\"\",IF(INDEX(E_SourceStreams!$A:$N,DK28,AF$7)=\"\",\"\",INDEX(E_SourceStreams!$A:$N,DK28,AF$7)))","v":""},{"$f":"IF($E28=\"\",\"\",IF(INDEX(E_SourceStreams!$A:$N,DL28,AG$7)=\"\",\"\",INDEX(E_SourceStreams!$A:$N,DL28,AG$7)))","v":""},{"$f":"IF($E28=\"\",\"\",IF(INDEX(E_SourceStreams!$A:$N,DM28,AH$7)=\"\",\"\",INDEX(E_SourceStreams!$A:$N,DM28,AH$7)))","v":""},{"$f":"IF($E28=\"\",\"\",IF(INDEX(E_SourceStreams!$A:$N,DN28,AI$7)=\"\",\"\",INDEX(E_SourceStreams!$A:$N,DN28,AI$7)))","v":""},{"$f":"IF($E28=\"\",\"\",IF(INDEX(E_SourceStreams!$A:$N,DO28,AJ$7)=\"\",\"\",INDEX(E_SourceStreams!$A:$N,DO28,AJ$7)))","v":""},{"$f":"IF($E28=\"\",\"\",IF(INDEX(E_SourceStreams!$A:$N,DP28,AK$7)=\"\",\"\",INDEX(E_SourceStreams!$A:$N,DP28,AK$7)))","v":""},{"$f":"IF($E28=\"\",\"\",IF(INDEX(E_SourceStreams!$A:$N,DQ28,AL$7)=\"\",\"\",INDEX(E_SourceStreams!$A:$N,DQ28,AL$7)))","v":""},{"$f":"IF($E28=\"\",\"\",IF(INDEX(E_SourceStreams!$A:$N,DR28,AM$7)=\"\",\"\",INDEX(E_SourceStreams!$A:$N,DR28,AM$7)))","v":""},{"$f":"IF($E28=\"\",\"\",IF(INDEX(E_SourceStreams!$A:$N,DS28,AN$7)=\"\",\"\",INDEX(E_SourceStreams!$A:$N,DS28,AN$7)))","v":""},{"$f":"IF($E28=\"\",\"\",IF(INDEX(E_SourceStreams!$A:$N,DT28,AO$7)=\"\",\"\",INDEX(E_SourceStreams!$A:$N,DT28,AO$7)))","v":""},{"$f":"IF($E28=\"\",\"\",IF(INDEX(E_SourceStreams!$A:$N,DU28,AP$7)=\"\",\"\",INDEX(E_SourceStreams!$A:$N,DU28,AP$7)))","v":""},{"$f":"IF($E28=\"\",\"\",IF(INDEX(E_SourceStreams!$A:$N,DV28,AQ$7)=\"\",\"\",INDEX(E_SourceStreams!$A:$N,DV28,AQ$7)))","v":""},{"$f":"IF($E28=\"\",\"\",IF(INDEX(E_SourceStreams!$A:$N,DW28,AR$7)=\"\",\"\",INDEX(E_SourceStreams!$A:$N,DW28,AR$7)))","v":""},{"$f":"IF($E28=\"\",\"\",IF(INDEX(E_SourceStreams!$A:$N,DX28,AS$7)=\"\",\"\",INDEX(E_SourceStreams!$A:$N,DX28,AS$7)))","v":""},{"$f":"IF($E28=\"\",\"\",IF(INDEX(E_SourceStreams!$A:$N,DY28,AT$7)=\"\",\"\",INDEX(E_SourceStreams!$A:$N,DY28,AT$7)))","v":""},{"$f":"IF($E28=\"\",\"\",IF(INDEX(E_SourceStreams!$A:$N,DZ28,AU$7)=\"\",\"\",INDEX(E_SourceStreams!$A:$N,DZ28,AU$7)))","v":""},{"$f":"IF($E28=\"\",\"\",IF(INDEX(E_SourceStreams!$A:$N,EA28,AV$7)=\"\",\"\",INDEX(E_SourceStreams!$A:$N,EA28,AV$7)))","v":""},{"$f":"IF($E28=\"\",\"\",IF(INDEX(E_SourceStreams!$A:$N,EB28,AW$7)=\"\",\"\",INDEX(E_SourceStreams!$A:$N,EB28,AW$7)))","v":""},{"$f":"IF($E28=\"\",\"\",IF(INDEX(E_SourceStreams!$A:$N,EC28,AX$7)=\"\",\"\",INDEX(E_SourceStreams!$A:$N,EC28,AX$7)))","v":""},{"$f":"IF($E28=\"\",\"\",IF(INDEX(E_SourceStreams!$A:$N,ED28,AY$7)=\"\",\"\",INDEX(E_SourceStreams!$A:$N,ED28,AY$7)))","v":""},{"$f":"IF($E28=\"\",\"\",IF(INDEX(E_SourceStreams!$A:$N,EE28,AZ$7)=\"\",\"\",INDEX(E_SourceStreams!$A:$N,EE28,AZ$7)))","v":""},{"$f":"IF($E28=\"\",\"\",IF(INDEX(E_SourceStreams!$A:$N,EF28,BA$7)=\"\",\"\",INDEX(E_SourceStreams!$A:$N,EF28,BA$7)))","v":""},{"$f":"IF($E28=\"\",\"\",IF(INDEX(E_SourceStreams!$A:$N,EG28,BB$7)=\"\",\"\",INDEX(E_SourceStreams!$A:$N,EG28,BB$7)))","v":""},{"$f":"IF($E28=\"\",\"\",IF(INDEX(E_SourceStreams!$A:$N,EH28,BC$7)=\"\",\"\",INDEX(E_SourceStreams!$A:$N,EH28,BC$7)))","v":""},{"$f":"IF($E28=\"\",\"\",IF(INDEX(E_SourceStreams!$A:$N,EI28,BD$7)=\"\",\"\",INDEX(E_SourceStreams!$A:$N,EI28,BD$7)))","v":""},{"$f":"IF($E28=\"\",\"\",IF(INDEX(E_SourceStreams!$A:$N,EJ28,BE$7)=\"\",\"\",INDEX(E_SourceStreams!$A:$N,EJ28,BE$7)))","v":""},{"$f":"IF($E28=\"\",\"\",IF(INDEX(E_SourceStreams!$A:$N,EK28,BF$7)=\"\",\"\",INDEX(E_SourceStreams!$A:$N,EK28,BF$7)))","v":""},{"$f":"IF($E28=\"\",\"\",IF(INDEX(E_SourceStreams!$A:$N,EL28,BG$7)=\"\",\"\",INDEX(E_SourceStreams!$A:$N,EL28,BG$7)))","v":""},{"$f":"IF($E28=\"\",\"\",IF(INDEX(E_SourceStreams!$A:$N,EM28,BH$7)=\"\",\"\",INDEX(E_SourceStreams!$A:$N,EM28,BH$7)))","v":""},{"$f":"IF($E28=\"\",\"\",IF(INDEX(E_SourceStreams!$A:$N,EN28,BI$7)=\"\",\"\",INDEX(E_SourceStreams!$A:$N,EN28,BI$7)))","v":""},{"$f":"IF($E28=\"\",\"\",IF(INDEX(E_SourceStreams!$A:$N,EO28,BJ$7)=\"\",\"\",INDEX(E_SourceStreams!$A:$N,EO28,BJ$7)))","v":""},{"$f":"IF($E28=\"\",\"\",IF(INDEX(E_SourceStreams!$A:$N,EP28,BK$7)=\"\",\"\",INDEX(E_SourceStreams!$A:$N,EP28,BK$7)))","v":""},{"$f":"IF($E28=\"\",\"\",IF(INDEX(E_SourceStreams!$A:$N,EQ28,BL$7)=\"\",\"\",INDEX(E_SourceStreams!$A:$N,EQ28,BL$7)))","v":""},{"$f":"IF($E28=\"\",\"\",IF(INDEX(E_SourceStreams!$A:$N,ER28,BM$7)=\"\",\"\",INDEX(E_SourceStreams!$A:$N,ER28,BM$7)))","v":""},{"$f":"IF($E28=\"\",\"\",IF(INDEX(E_SourceStreams!$A:$N,ES28,BN$7)=\"\",\"\",INDEX(E_SourceStreams!$A:$N,ES28,BN$7)))","v":""},{"$f":"IF($E28=\"\",\"\",IF(INDEX(E_SourceStreams!$A:$N,ET28,BO$7)=\"\",\"\",INDEX(E_SourceStreams!$A:$N,ET28,BO$7)))","v":""},{"$f":"IF($E28=\"\",\"\",IF(INDEX(E_SourceStreams!$A:$N,EU28,BP$7)=\"\",\"\",INDEX(E_SourceStreams!$A:$N,EU28,BP$7)))","v":""},{"$f":"IF($E28=\"\",\"\",IF(INDEX(E_SourceStreams!$A:$N,EV28,BQ$7)=\"\",\"\",INDEX(E_SourceStreams!$A:$N,EV28,BQ$7)))","v":""},{"$f":"IF($E28=\"\",\"\",IF(INDEX(E_SourceStreams!$A:$N,EW28,BR$7)=\"\",\"\",INDEX(E_SourceStreams!$A:$N,EW28,BR$7)))","v":""},{"$f":"IF($E28=\"\",\"\",IF(INDEX(E_SourceStreams!$A:$N,EX28,BS$7)=\"\",\"\",INDEX(E_SourceStreams!$A:$N,EX28,BS$7)))","v":""},{"$f":"IF($E28=\"\",\"\",IF(INDEX(E_SourceStreams!$A:$N,EY28,BT$7)=\"\",\"\",INDEX(E_SourceStreams!$A:$N,EY28,BT$7)))","v":""},null,null,null,null,null,null,null,null,null,null,null,null,null,null,null,"SourceCategory_",{"$f":"INDEX(C_InstallationDescription!$A$226:$A$332,ROWS($CI$11:CI28))=\"ausblenden\"","v":false},"SourceStreamName_",null,1257,1259,1261,1263,1265,1267,1269,1269,1269,1269,1269,1272,1276,1277,1278,1285,1295,1295,1295,1295,1295,1295,1295,1286,1296,1296,1296,1296,1296,1296,1296,1287,1297,1297,1297,1297,1297,1297,1297,1288,1298,1298,1298,1298,1298,1298,1298,1289,1299,1299,1299,1299,1299,1299,1299,1290,1300,1300,1300,1300,1300,1300,1300,1306]
[null,{"$f":"IF(COUNTIF($CK$10:CK29,TRUE)>0,\"\",INDEX(C_InstallationDescription!$E$226:$E$242,ROWS($A$11:A29)))","v":""},{"$f":"IF($E29=\"\",\"\",INDEX(C_InstallationDescription!F:F,MATCH($B29,C_InstallationDescription!$E:$E,0)))","v":""},{"$f":"IF($E29=\"\",\"\",INDEX(C_InstallationDescription!I:I,MATCH($B29,C_InstallationDescription!$E:$E,0)))","v":""},{"$f":"IF($B29=\"\",\"\",INDEX(C_InstallationDescription!F:F,MATCH($CJ29,C_InstallationDescription!$Q:$Q,0)))","v":""},{"$f":"IF($E29=\"\",\"\",INDEX(C_InstallationDescription!L:L,MATCH($CJ29,C_InstallationDescription!$Q:$Q,0)))","v":""},{"$f":"IF($E29=\"\",\"\",INDEX(C_InstallationDescription!M:M,MATCH($CJ29,C_InstallationDescription!$Q:$Q,0)))","v":""},{"$f":"IF($E29=\"\",\"\",INDEX(C_InstallationDescription!N:N,MATCH($CJ29,C_InstallationDescription!$Q:$Q,0)))","v":""},{"$f":"IF($E29=\"\",\"\",IF(INDEX(E_SourceStreams!$A:$N,CN29,I$7)=\"\",\"\",INDEX(E_SourceStreams!$A:$N,CN29,I$7)))","v":""},{"$f":"IF($E29=\"\",\"\",IF(INDEX(E_SourceStreams!$A:$N,CO29,J$7)=\"\",\"\",INDEX(E_SourceStreams!$A:$N,CO29,J$7)))","v":""},{"$f":"IF($E29=\"\",\"\",IF(INDEX(E_SourceStreams!$A:$N,CP29,K$7)=\"\",\"\",INDEX(E_SourceStreams!$A:$N,CP29,K$7)))","v":""},{"$f":"IF($E29=\"\",\"\",IF(INDEX(E_SourceStreams!$A:$N,CQ29,L$7)=\"\",\"\",INDEX(E_SourceStreams!$A:$N,CQ29,L$7)))","v":""},{"$f":"IF($E29=\"\",\"\",IF(INDEX(E_SourceStreams!$A:$N,CR29,M$7)=\"\",\"\",INDEX(E_SourceStreams!$A:$N,CR29,M$7)))","v":""},{"$f":"IF($E29=\"\",\"\",IF(INDEX(E_SourceStreams!$A:$N,CS29,N$7)=\"\",\"\",INDEX(E_SourceStreams!$A:$N,CS29,N$7)))","v":""},{"$f":"IF($E29=\"\",\"\",IF(INDEX(E_SourceStreams!$A:$N,CT29,O$7)=\"\",\"\",INDEX(E_SourceStreams!$A:$N,CT29,O$7)))","v":""},{"$f":"IF($E29=\"\",\"\",IF(INDEX(E_SourceStreams!$A:$N,CU29,P$7)=\"\",\"\",INDEX(E_SourceStreams!$A:$N,CU29,P$7)))","v":""},{"$f":"IF($E29=\"\",\"\",IF(INDEX(E_SourceStreams!$A:$N,CV29,Q$7)=\"\",\"\",INDEX(E_SourceStreams!$A:$N,CV29,Q$7)))","v":""},{"$f":"IF($E29=\"\",\"\",IF(INDEX(E_SourceStreams!$A:$N,CW29,R$7)=\"\",\"\",INDEX(E_SourceStreams!$A:$N,CW29,R$7)))","v":""},{"$f":"IF($E29=\"\",\"\",IF(INDEX(E_SourceStreams!$A:$N,CX29,S$7)=\"\",\"\",INDEX(E_SourceStreams!$A:$N,CX29,S$7)))","v":""},{"$f":"IF($E29=\"\",\"\",IF(INDEX(E_SourceStreams!$A:$N,CY29,T$7)=\"\",\"\",INDEX(E_SourceStreams!$A:$N,CY29,T$7)))","v":""},{"$f":"IF($E29=\"\",\"\",IF(INDEX(E_SourceStreams!$A:$N,CZ29,U$7)=\"\",\"\",INDEX(E_SourceStreams!$A:$N,CZ29,U$7)))","v":""},{"$f":"IF($E29=\"\",\"\",IF(INDEX(E_SourceStreams!$A:$N,DA29,V$7)=\"\",\"\",INDEX(E_SourceStreams!$A:$N,DA29,V$7)))","v":""},{"$f":"IF($E29=\"\",\"\",IF(INDEX(E_SourceStreams!$A:$N,DB29,W$7)=\"\",\"\",INDEX(E_SourceStreams!$A:$N,DB29,W$7)))","v":""},{"$f":"IF($E29=\"\",\"\",IF(INDEX(E_SourceStreams!$A:$N,DC29,X$7)=\"\",\"\",INDEX(E_SourceStreams!$A:$N,DC29,X$7)))","v":""},{"$f":"IF($E29=\"\",\"\",IF(INDEX(E_SourceStreams!$A:$N,DD29,Y$7)=\"\",\"\",INDEX(E_SourceStreams!$A:$N,DD29,Y$7)))","v":""},{"$f":"IF($E29=\"\",\"\",IF(INDEX(E_SourceStreams!$A:$N,DE29,Z$7)=\"\",\"\",INDEX(E_SourceStreams!$A:$N,DE29,Z$7)))","v":""},{"$f":"IF($E29=\"\",\"\",IF(INDEX(E_SourceStreams!$A:$N,DF29,AA$7)=\"\",\"\",INDEX(E_SourceStreams!$A:$N,DF29,AA$7)))","v":""},{"$f":"IF($E29=\"\",\"\",IF(INDEX(E_SourceStreams!$A:$N,DG29,AB$7)=\"\",\"\",INDEX(E_SourceStreams!$A:$N,DG29,AB$7)))","v":""},{"$f":"IF($E29=\"\",\"\",IF(INDEX(E_SourceStreams!$A:$N,DH29,AC$7)=\"\",\"\",INDEX(E_SourceStreams!$A:$N,DH29,AC$7)))","v":""},{"$f":"IF($E29=\"\",\"\",IF(INDEX(E_SourceStreams!$A:$N,DI29,AD$7)=\"\",\"\",INDEX(E_SourceStreams!$A:$N,DI29,AD$7)))","v":""},{"$f":"IF($E29=\"\",\"\",IF(INDEX(E_SourceStreams!$A:$N,DJ29,AE$7)=\"\",\"\",INDEX(E_SourceStreams!$A:$N,DJ29,AE$7)))","v":""},{"$f":"IF($E29=\"\",\"\",IF(INDEX(E_SourceStreams!$A:$N,DK29,AF$7)=\"\",\"\",INDEX(E_SourceStreams!$A:$N,DK29,AF$7)))","v":""},{"$f":"IF($E29=\"\",\"\",IF(INDEX(E_SourceStreams!$A:$N,DL29,AG$7)=\"\",\"\",INDEX(E_SourceStreams!$A:$N,DL29,AG$7)))","v":""},{"$f":"IF($E29=\"\",\"\",IF(INDEX(E_SourceStreams!$A:$N,DM29,AH$7)=\"\",\"\",INDEX(E_SourceStreams!$A:$N,DM29,AH$7)))","v":""},{"$f":"IF($E29=\"\",\"\",IF(INDEX(E_SourceStreams!$A:$N,DN29,AI$7)=\"\",\"\",INDEX(E_SourceStreams!$A:$N,DN29,AI$7)))","v":""},{"$f":"IF($E29=\"\",\"\",IF(INDEX(E_SourceStreams!$A:$N,DO29,AJ$7)=\"\",\"\",INDEX(E_SourceStreams!$A:$N,DO29,AJ$7)))","v":""},{"$f":"IF($E29=\"\",\"\",IF(INDEX(E_SourceStreams!$A:$N,DP29,AK$7)=\"\",\"\",INDEX(E_SourceStreams!$A:$N,DP29,AK$7)))","v":""},{"$f":"IF($E29=\"\",\"\",IF(INDEX(E_SourceStreams!$A:$N,DQ29,AL$7)=\"\",\"\",INDEX(E_SourceStreams!$A:$N,DQ29,AL$7)))","v":""},{"$f":"IF($E29=\"\",\"\",IF(INDEX(E_SourceStreams!$A:$N,DR29,AM$7)=\"\",\"\",INDEX(E_SourceStreams!$A:$N,DR29,AM$7)))","v":""},{"$f":"IF($E29=\"\",\"\",IF(INDEX(E_SourceStreams!$A:$N,DS29,AN$7)=\"\",\"\",INDEX(E_SourceStreams!$A:$N,DS29,AN$7)))","v":""},{"$f":"IF($E29=\"\",\"\",IF(INDEX(E_SourceStreams!$A:$N,DT29,AO$7)=\"\",\"\",INDEX(E_SourceStreams!$A:$N,DT29,AO$7)))","v":""},{"$f":"IF($E29=\"\",\"\",IF(INDEX(E_SourceStreams!$A:$N,DU29,AP$7)=\"\",\"\",INDEX(E_SourceStreams!$A:$N,DU29,AP$7)))","v":""},{"$f":"IF($E29=\"\",\"\",IF(INDEX(E_SourceStreams!$A:$N,DV29,AQ$7)=\"\",\"\",INDEX(E_SourceStreams!$A:$N,DV29,AQ$7)))","v":""},{"$f":"IF($E29=\"\",\"\",IF(INDEX(E_SourceStreams!$A:$N,DW29,AR$7)=\"\",\"\",INDEX(E_SourceStreams!$A:$N,DW29,AR$7)))","v":""},{"$f":"IF($E29=\"\",\"\",IF(INDEX(E_SourceStreams!$A:$N,DX29,AS$7)=\"\",\"\",INDEX(E_SourceStreams!$A:$N,DX29,AS$7)))","v":""},{"$f":"IF($E29=\"\",\"\",IF(INDEX(E_SourceStreams!$A:$N,DY29,AT$7)=\"\",\"\",INDEX(E_SourceStreams!$A:$N,DY29,AT$7)))","v":""},{"$f":"IF($E29=\"\",\"\",IF(INDEX(E_SourceStreams!$A:$N,DZ29,AU$7)=\"\",\"\",INDEX(E_SourceStreams!$A:$N,DZ29,AU$7)))","v":""},{"$f":"IF($E29=\"\",\"\",IF(INDEX(E_SourceStreams!$A:$N,EA29,AV$7)=\"\",\"\",INDEX(E_SourceStreams!$A:$N,EA29,AV$7)))","v":""},{"$f":"IF($E29=\"\",\"\",IF(INDEX(E_SourceStreams!$A:$N,EB29,AW$7)=\"\",\"\",INDEX(E_SourceStreams!$A:$N,EB29,AW$7)))","v":""},{"$f":"IF($E29=\"\",\"\",IF(INDEX(E_SourceStreams!$A:$N,EC29,AX$7)=\"\",\"\",INDEX(E_SourceStreams!$A:$N,EC29,AX$7)))","v":""},{"$f":"IF($E29=\"\",\"\",IF(INDEX(E_SourceStreams!$A:$N,ED29,AY$7)=\"\",\"\",INDEX(E_SourceStreams!$A:$N,ED29,AY$7)))","v":""},{"$f":"IF($E29=\"\",\"\",IF(INDEX(E_SourceStreams!$A:$N,EE29,AZ$7)=\"\",\"\",INDEX(E_SourceStreams!$A:$N,EE29,AZ$7)))","v":""},{"$f":"IF($E29=\"\",\"\",IF(INDEX(E_SourceStreams!$A:$N,EF29,BA$7)=\"\",\"\",INDEX(E_SourceStreams!$A:$N,EF29,BA$7)))","v":""},{"$f":"IF($E29=\"\",\"\",IF(INDEX(E_SourceStreams!$A:$N,EG29,BB$7)=\"\",\"\",INDEX(E_SourceStreams!$A:$N,EG29,BB$7)))","v":""},{"$f":"IF($E29=\"\",\"\",IF(INDEX(E_SourceStreams!$A:$N,EH29,BC$7)=\"\",\"\",INDEX(E_SourceStreams!$A:$N,EH29,BC$7)))","v":""},{"$f":"IF($E29=\"\",\"\",IF(INDEX(E_SourceStreams!$A:$N,EI29,BD$7)=\"\",\"\",INDEX(E_SourceStreams!$A:$N,EI29,BD$7)))","v":""},{"$f":"IF($E29=\"\",\"\",IF(INDEX(E_SourceStreams!$A:$N,EJ29,BE$7)=\"\",\"\",INDEX(E_SourceStreams!$A:$N,EJ29,BE$7)))","v":""},{"$f":"IF($E29=\"\",\"\",IF(INDEX(E_SourceStreams!$A:$N,EK29,BF$7)=\"\",\"\",INDEX(E_SourceStreams!$A:$N,EK29,BF$7)))","v":""},{"$f":"IF($E29=\"\",\"\",IF(INDEX(E_SourceStreams!$A:$N,EL29,BG$7)=\"\",\"\",INDEX(E_SourceStreams!$A:$N,EL29,BG$7)))","v":""},{"$f":"IF($E29=\"\",\"\",IF(INDEX(E_SourceStreams!$A:$N,EM29,BH$7)=\"\",\"\",INDEX(E_SourceStreams!$A:$N,EM29,BH$7)))","v":""},{"$f":"IF($E29=\"\",\"\",IF(INDEX(E_SourceStreams!$A:$N,EN29,BI$7)=\"\",\"\",INDEX(E_SourceStreams!$A:$N,EN29,BI$7)))","v":""},{"$f":"IF($E29=\"\",\"\",IF(INDEX(E_SourceStreams!$A:$N,EO29,BJ$7)=\"\",\"\",INDEX(E_SourceStreams!$A:$N,EO29,BJ$7)))","v":""},{"$f":"IF($E29=\"\",\"\",IF(INDEX(E_SourceStreams!$A:$N,EP29,BK$7)=\"\",\"\",INDEX(E_SourceStreams!$A:$N,EP29,BK$7)))","v":""},{"$f":"IF($E29=\"\",\"\",IF(INDEX(E_SourceStreams!$A:$N,EQ29,BL$7)=\"\",\"\",INDEX(E_SourceStreams!$A:$N,EQ29,BL$7)))","v":""},{"$f":"IF($E29=\"\",\"\",IF(INDEX(E_SourceStreams!$A:$N,ER29,BM$7)=\"\",\"\",INDEX(E_SourceStreams!$A:$N,ER29,BM$7)))","v":""},{"$f":"IF($E29=\"\",\"\",IF(INDEX(E_SourceStreams!$A:$N,ES29,BN$7)=\"\",\"\",INDEX(E_SourceStreams!$A:$N,ES29,BN$7)))","v":""},{"$f":"IF($E29=\"\",\"\",IF(INDEX(E_SourceStreams!$A:$N,ET29,BO$7)=\"\",\"\",INDEX(E_SourceStreams!$A:$N,ET29,BO$7)))","v":""},{"$f":"IF($E29=\"\",\"\",IF(INDEX(E_SourceStreams!$A:$N,EU29,BP$7)=\"\",\"\",INDEX(E_SourceStreams!$A:$N,EU29,BP$7)))","v":""},{"$f":"IF($E29=\"\",\"\",IF(INDEX(E_SourceStreams!$A:$N,EV29,BQ$7)=\"\",\"\",INDEX(E_SourceStreams!$A:$N,EV29,BQ$7)))","v":""},{"$f":"IF($E29=\"\",\"\",IF(INDEX(E_SourceStreams!$A:$N,EW29,BR$7)=\"\",\"\",INDEX(E_SourceStreams!$A:$N,EW29,BR$7)))","v":""},{"$f":"IF($E29=\"\",\"\",IF(INDEX(E_SourceStreams!$A:$N,EX29,BS$7)=\"\",\"\",INDEX(E_SourceStreams!$A:$N,EX29,BS$7)))","v":""},{"$f":"IF($E29=\"\",\"\",IF(INDEX(E_SourceStreams!$A:$N,EY29,BT$7)=\"\",\"\",INDEX(E_SourceStreams!$A:$N,EY29,BT$7)))","v":""},null,null,null,null,null,null,null,null,null,null,null,null,null,null,null,"SourceCategory_",{"$f":"INDEX(C_InstallationDescription!$A$226:$A$332,ROWS($CI$11:CI29))=\"ausblenden\"","v":false},"SourceStreamName_",null,1323,1325,1327,1329,1331,1333,1335,1335,1335,1335,1335,1338,1342,1343,1344,1351,1361,1361,1361,1361,1361,1361,1361,1352,1362,1362,1362,1362,1362,1362,1362,1353,1363,1363,1363,1363,1363,1363,1363,1354,1364,1364,1364,1364,1364,1364,1364,1355,1365,1365,1365,1365,1365,1365,1365,1356,1366,1366,1366,1366,1366,1366,1366,1372]
[null,{"$f":"IF(COUNTIF($CK$10:CK30,TRUE)>0,\"\",INDEX(C_InstallationDescription!$E$226:$E$242,ROWS($A$11:A30)))","v":""},{"$f":"IF($E30=\"\",\"\",INDEX(C_InstallationDescription!F:F,MATCH($B30,C_InstallationDescription!$E:$E,0)))","v":""},{"$f":"IF($E30=\"\",\"\",INDEX(C_InstallationDescription!I:I,MATCH($B30,C_InstallationDescription!$E:$E,0)))","v":""},{"$f":"IF($B30=\"\",\"\",INDEX(C_InstallationDescription!F:F,MATCH($CJ30,C_InstallationDescription!$Q:$Q,0)))","v":""},{"$f":"IF($E30=\"\",\"\",INDEX(C_InstallationDescription!L:L,MATCH($CJ30,C_InstallationDescription!$Q:$Q,0)))","v":""},{"$f":"IF($E30=\"\",\"\",INDEX(C_InstallationDescription!M:M,MATCH($CJ30,C_InstallationDescription!$Q:$Q,0)))","v":""},{"$f":"IF($E30=\"\",\"\",INDEX(C_InstallationDescription!N:N,MATCH($CJ30,C_InstallationDescription!$Q:$Q,0)))","v":""},{"$f":"IF($E30=\"\",\"\",IF(INDEX(E_SourceStreams!$A:$N,CN30,I$7)=\"\",\"\",INDEX(E_SourceStreams!$A:$N,CN30,I$7)))","v":""},{"$f":"IF($E30=\"\",\"\",IF(INDEX(E_SourceStreams!$A:$N,CO30,J$7)=\"\",\"\",INDEX(E_SourceStreams!$A:$N,CO30,J$7)))","v":""},{"$f":"IF($E30=\"\",\"\",IF(INDEX(E_SourceStreams!$A:$N,CP30,K$7)=\"\",\"\",INDEX(E_SourceStreams!$A:$N,CP30,K$7)))","v":""},{"$f":"IF($E30=\"\",\"\",IF(INDEX(E_SourceStreams!$A:$N,CQ30,L$7)=\"\",\"\",INDEX(E_SourceStreams!$A:$N,CQ30,L$7)))","v":""},{"$f":"IF($E30=\"\",\"\",IF(INDEX(E_SourceStreams!$A:$N,CR30,M$7)=\"\",\"\",INDEX(E_SourceStreams!$A:$N,CR30,M$7)))","v":""},{"$f":"IF($E30=\"\",\"\",IF(INDEX(E_SourceStreams!$A:$N,CS30,N$7)=\"\",\"\",INDEX(E_SourceStreams!$A:$N,CS30,N$7)))","v":""},{"$f":"IF($E30=\"\",\"\",IF(INDEX(E_SourceStreams!$A:$N,CT30,O$7)=\"\",\"\",INDEX(E_SourceStreams!$A:$N,CT30,O$7)))","v":""},{"$f":"IF($E30=\"\",\"\",IF(INDEX(E_SourceStreams!$A:$N,CU30,P$7)=\"\",\"\",INDEX(E_SourceStreams!$A:$N,CU30,P$7)))","v":""},{"$f":"IF($E30=\"\",\"\",IF(INDEX(E_SourceStreams!$A:$N,CV30,Q$7)=\"\",\"\",INDEX(E_SourceStreams!$A:$N,CV30,Q$7)))","v":""},{"$f":"IF($E30=\"\",\"\",IF(INDEX(E_SourceStreams!$A:$N,CW30,R$7)=\"\",\"\",INDEX(E_SourceStreams!$A:$N,CW30,R$7)))","v":""},{"$f":"IF($E30=\"\",\"\",IF(INDEX(E_SourceStreams!$A:$N,CX30,S$7)=\"\",\"\",INDEX(E_SourceStreams!$A:$N,CX30,S$7)))","v":""},{"$f":"IF($E30=\"\",\"\",IF(INDEX(E_SourceStreams!$A:$N,CY30,T$7)=\"\",\"\",INDEX(E_SourceStreams!$A:$N,CY30,T$7)))","v":""},{"$f":"IF($E30=\"\",\"\",IF(INDEX(E_SourceStreams!$A:$N,CZ30,U$7)=\"\",\"\",INDEX(E_SourceStreams!$A:$N,CZ30,U$7)))","v":""},{"$f":"IF($E30=\"\",\"\",IF(INDEX(E_SourceStreams!$A:$N,DA30,V$7)=\"\",\"\",INDEX(E_SourceStreams!$A:$N,DA30,V$7)))","v":""},{"$f":"IF($E30=\"\",\"\",IF(INDEX(E_SourceStreams!$A:$N,DB30,W$7)=\"\",\"\",INDEX(E_SourceStreams!$A:$N,DB30,W$7)))","v":""},{"$f":"IF($E30=\"\",\"\",IF(INDEX(E_SourceStreams!$A:$N,DC30,X$7)=\"\",\"\",INDEX(E_SourceStreams!$A:$N,DC30,X$7)))","v":""},{"$f":"IF($E30=\"\",\"\",IF(INDEX(E_SourceStreams!$A:$N,DD30,Y$7)=\"\",\"\",INDEX(E_SourceStreams!$A:$N,DD30,Y$7)))","v":""},{"$f":"IF($E30=\"\",\"\",IF(INDEX(E_SourceStreams!$A:$N,DE30,Z$7)=\"\",\"\",INDEX(E_SourceStreams!$A:$N,DE30,Z$7)))","v":""},{"$f":"IF($E30=\"\",\"\",IF(INDEX(E_SourceStreams!$A:$N,DF30,AA$7)=\"\",\"\",INDEX(E_SourceStreams!$A:$N,DF30,AA$7)))","v":""},{"$f":"IF($E30=\"\",\"\",IF(INDEX(E_SourceStreams!$A:$N,DG30,AB$7)=\"\",\"\",INDEX(E_SourceStreams!$A:$N,DG30,AB$7)))","v":""},{"$f":"IF($E30=\"\",\"\",IF(INDEX(E_SourceStreams!$A:$N,DH30,AC$7)=\"\",\"\",INDEX(E_SourceStreams!$A:$N,DH30,AC$7)))","v":""},{"$f":"IF($E30=\"\",\"\",IF(INDEX(E_SourceStreams!$A:$N,DI30,AD$7)=\"\",\"\",INDEX(E_SourceStreams!$A:$N,DI30,AD$7)))","v":""},{"$f":"IF($E30=\"\",\"\",IF(INDEX(E_SourceStreams!$A:$N,DJ30,AE$7)=\"\",\"\",INDEX(E_SourceStreams!$A:$N,DJ30,AE$7)))","v":""},{"$f":"IF($E30=\"\",\"\",IF(INDEX(E_SourceStreams!$A:$N,DK30,AF$7)=\"\",\"\",INDEX(E_SourceStreams!$A:$N,DK30,AF$7)))","v":""},{"$f":"IF($E30=\"\",\"\",IF(INDEX(E_SourceStreams!$A:$N,DL30,AG$7)=\"\",\"\",INDEX(E_SourceStreams!$A:$N,DL30,AG$7)))","v":""},{"$f":"IF($E30=\"\",\"\",IF(INDEX(E_SourceStreams!$A:$N,DM30,AH$7)=\"\",\"\",INDEX(E_SourceStreams!$A:$N,DM30,AH$7)))","v":""},{"$f":"IF($E30=\"\",\"\",IF(INDEX(E_SourceStreams!$A:$N,DN30,AI$7)=\"\",\"\",INDEX(E_SourceStreams!$A:$N,DN30,AI$7)))","v":""},{"$f":"IF($E30=\"\",\"\",IF(INDEX(E_SourceStreams!$A:$N,DO30,AJ$7)=\"\",\"\",INDEX(E_SourceStreams!$A:$N,DO30,AJ$7)))","v":""},{"$f":"IF($E30=\"\",\"\",IF(INDEX(E_SourceStreams!$A:$N,DP30,AK$7)=\"\",\"\",INDEX(E_SourceStreams!$A:$N,DP30,AK$7)))","v":""},{"$f":"IF($E30=\"\",\"\",IF(INDEX(E_SourceStreams!$A:$N,DQ30,AL$7)=\"\",\"\",INDEX(E_SourceStreams!$A:$N,DQ30,AL$7)))","v":""},{"$f":"IF($E30=\"\",\"\",IF(INDEX(E_SourceStreams!$A:$N,DR30,AM$7)=\"\",\"\",INDEX(E_SourceStreams!$A:$N,DR30,AM$7)))","v":""},{"$f":"IF($E30=\"\",\"\",IF(INDEX(E_SourceStreams!$A:$N,DS30,AN$7)=\"\",\"\",INDEX(E_SourceStreams!$A:$N,DS30,AN$7)))","v":""},{"$f":"IF($E30=\"\",\"\",IF(INDEX(E_SourceStreams!$A:$N,DT30,AO$7)=\"\",\"\",INDEX(E_SourceStreams!$A:$N,DT30,AO$7)))","v":""},{"$f":"IF($E30=\"\",\"\",IF(INDEX(E_SourceStreams!$A:$N,DU30,AP$7)=\"\",\"\",INDEX(E_SourceStreams!$A:$N,DU30,AP$7)))","v":""},{"$f":"IF($E30=\"\",\"\",IF(INDEX(E_SourceStreams!$A:$N,DV30,AQ$7)=\"\",\"\",INDEX(E_SourceStreams!$A:$N,DV30,AQ$7)))","v":""},{"$f":"IF($E30=\"\",\"\",IF(INDEX(E_SourceStreams!$A:$N,DW30,AR$7)=\"\",\"\",INDEX(E_SourceStreams!$A:$N,DW30,AR$7)))","v":""},{"$f":"IF($E30=\"\",\"\",IF(INDEX(E_SourceStreams!$A:$N,DX30,AS$7)=\"\",\"\",INDEX(E_SourceStreams!$A:$N,DX30,AS$7)))","v":""},{"$f":"IF($E30=\"\",\"\",IF(INDEX(E_SourceStreams!$A:$N,DY30,AT$7)=\"\",\"\",INDEX(E_SourceStreams!$A:$N,DY30,AT$7)))","v":""},{"$f":"IF($E30=\"\",\"\",IF(INDEX(E_SourceStreams!$A:$N,DZ30,AU$7)=\"\",\"\",INDEX(E_SourceStreams!$A:$N,DZ30,AU$7)))","v":""},{"$f":"IF($E30=\"\",\"\",IF(INDEX(E_SourceStreams!$A:$N,EA30,AV$7)=\"\",\"\",INDEX(E_SourceStreams!$A:$N,EA30,AV$7)))","v":""},{"$f":"IF($E30=\"\",\"\",IF(INDEX(E_SourceStreams!$A:$N,EB30,AW$7)=\"\",\"\",INDEX(E_SourceStreams!$A:$N,EB30,AW$7)))","v":""},{"$f":"IF($E30=\"\",\"\",IF(INDEX(E_SourceStreams!$A:$N,EC30,AX$7)=\"\",\"\",INDEX(E_SourceStreams!$A:$N,EC30,AX$7)))","v":""},{"$f":"IF($E30=\"\",\"\",IF(INDEX(E_SourceStreams!$A:$N,ED30,AY$7)=\"\",\"\",INDEX(E_SourceStreams!$A:$N,ED30,AY$7)))","v":""},{"$f":"IF($E30=\"\",\"\",IF(INDEX(E_SourceStreams!$A:$N,EE30,AZ$7)=\"\",\"\",INDEX(E_SourceStreams!$A:$N,EE30,AZ$7)))","v":""},{"$f":"IF($E30=\"\",\"\",IF(INDEX(E_SourceStreams!$A:$N,EF30,BA$7)=\"\",\"\",INDEX(E_SourceStreams!$A:$N,EF30,BA$7)))","v":""},{"$f":"IF($E30=\"\",\"\",IF(INDEX(E_SourceStreams!$A:$N,EG30,BB$7)=\"\",\"\",INDEX(E_SourceStreams!$A:$N,EG30,BB$7)))","v":""},{"$f":"IF($E30=\"\",\"\",IF(INDEX(E_SourceStreams!$A:$N,EH30,BC$7)=\"\",\"\",INDEX(E_SourceStreams!$A:$N,EH30,BC$7)))","v":""},{"$f":"IF($E30=\"\",\"\",IF(INDEX(E_SourceStreams!$A:$N,EI30,BD$7)=\"\",\"\",INDEX(E_SourceStreams!$A:$N,EI30,BD$7)))","v":""},{"$f":"IF($E30=\"\",\"\",IF(INDEX(E_SourceStreams!$A:$N,EJ30,BE$7)=\"\",\"\",INDEX(E_SourceStreams!$A:$N,EJ30,BE$7)))","v":""},{"$f":"IF($E30=\"\",\"\",IF(INDEX(E_SourceStreams!$A:$N,EK30,BF$7)=\"\",\"\",INDEX(E_SourceStreams!$A:$N,EK30,BF$7)))","v":""},{"$f":"IF($E30=\"\",\"\",IF(INDEX(E_SourceStreams!$A:$N,EL30,BG$7)=\"\",\"\",INDEX(E_SourceStreams!$A:$N,EL30,BG$7)))","v":""},{"$f":"IF($E30=\"\",\"\",IF(INDEX(E_SourceStreams!$A:$N,EM30,BH$7)=\"\",\"\",INDEX(E_SourceStreams!$A:$N,EM30,BH$7)))","v":""},{"$f":"IF($E30=\"\",\"\",IF(INDEX(E_SourceStreams!$A:$N,EN30,BI$7)=\"\",\"\",INDEX(E_SourceStreams!$A:$N,EN30,BI$7)))","v":""},{"$f":"IF($E30=\"\",\"\",IF(INDEX(E_SourceStreams!$A:$N,EO30,BJ$7)=\"\",\"\",INDEX(E_SourceStreams!$A:$N,EO30,BJ$7)))","v":""},{"$f":"IF($E30=\"\",\"\",IF(INDEX(E_SourceStreams!$A:$N,EP30,BK$7)=\"\",\"\",INDEX(E_SourceStreams!$A:$N,EP30,BK$7)))","v":""},{"$f":"IF($E30=\"\",\"\",IF(INDEX(E_SourceStreams!$A:$N,EQ30,BL$7)=\"\",\"\",INDEX(E_SourceStreams!$A:$N,EQ30,BL$7)))","v":""},{"$f":"IF($E30=\"\",\"\",IF(INDEX(E_SourceStreams!$A:$N,ER30,BM$7)=\"\",\"\",INDEX(E_SourceStreams!$A:$N,ER30,BM$7)))","v":""},{"$f":"IF($E30=\"\",\"\",IF(INDEX(E_SourceStreams!$A:$N,ES30,BN$7)=\"\",\"\",INDEX(E_SourceStreams!$A:$N,ES30,BN$7)))","v":""},{"$f":"IF($E30=\"\",\"\",IF(INDEX(E_SourceStreams!$A:$N,ET30,BO$7)=\"\",\"\",INDEX(E_SourceStreams!$A:$N,ET30,BO$7)))","v":""},{"$f":"IF($E30=\"\",\"\",IF(INDEX(E_SourceStreams!$A:$N,EU30,BP$7)=\"\",\"\",INDEX(E_SourceStreams!$A:$N,EU30,BP$7)))","v":""},{"$f":"IF($E30=\"\",\"\",IF(INDEX(E_SourceStreams!$A:$N,EV30,BQ$7)=\"\",\"\",INDEX(E_SourceStreams!$A:$N,EV30,BQ$7)))","v":""},{"$f":"IF($E30=\"\",\"\",IF(INDEX(E_SourceStreams!$A:$N,EW30,BR$7)=\"\",\"\",INDEX(E_SourceStreams!$A:$N,EW30,BR$7)))","v":""},{"$f":"IF($E30=\"\",\"\",IF(INDEX(E_SourceStreams!$A:$N,EX30,BS$7)=\"\",\"\",INDEX(E_SourceStreams!$A:$N,EX30,BS$7)))","v":""},{"$f":"IF($E30=\"\",\"\",IF(INDEX(E_SourceStreams!$A:$N,EY30,BT$7)=\"\",\"\",INDEX(E_SourceStreams!$A:$N,EY30,BT$7)))","v":""},null,null,null,null,null,null,null,null,null,null,null,null,null,null,null,"SourceCategory_",{"$f":"INDEX(C_InstallationDescription!$A$226:$A$332,ROWS($CI$11:CI30))=\"ausblenden\"","v":false},"SourceStreamName_",null,1389,1391,1393,1395,1397,1399,1401,1401,1401,1401,1401,1404,1408,1409,1410,1417,1427,1427,1427,1427,1427,1427,1427,1418,1428,1428,1428,1428,1428,1428,1428,1419,1429,1429,1429,1429,1429,1429,1429,1420,1430,1430,1430,1430,1430,1430,1430,1421,1431,1431,1431,1431,1431,1431,1431,1422,1432,1432,1432,1432,1432,1432,1432,1438]
[null,{"$f":"IF(COUNTIF($CK$10:CK31,TRUE)>0,\"\",INDEX(C_InstallationDescription!$E$226:$E$242,ROWS($A$11:A31)))","v":""},{"$f":"IF($E31=\"\",\"\",INDEX(C_InstallationDescription!F:F,MATCH($B31,C_InstallationDescription!$E:$E,0)))","v":""},{"$f":"IF($E31=\"\",\"\",INDEX(C_InstallationDescription!I:I,MATCH($B31,C_InstallationDescription!$E:$E,0)))","v":""},{"$f":"IF($B31=\"\",\"\",INDEX(C_InstallationDescription!F:F,MATCH($CJ31,C_InstallationDescription!$Q:$Q,0)))","v":""},{"$f":"IF($E31=\"\",\"\",INDEX(C_InstallationDescription!L:L,MATCH($CJ31,C_InstallationDescription!$Q:$Q,0)))","v":""},{"$f":"IF($E31=\"\",\"\",INDEX(C_InstallationDescription!M:M,MATCH($CJ31,C_InstallationDescription!$Q:$Q,0)))","v":""},{"$f":"IF($E31=\"\",\"\",INDEX(C_InstallationDescription!N:N,MATCH($CJ31,C_InstallationDescription!$Q:$Q,0)))","v":""},{"$f":"IF($E31=\"\",\"\",IF(INDEX(E_SourceStreams!$A:$N,CN31,I$7)=\"\",\"\",INDEX(E_SourceStreams!$A:$N,CN31,I$7)))","v":""},{"$f":"IF($E31=\"\",\"\",IF(INDEX(E_SourceStreams!$A:$N,CO31,J$7)=\"\",\"\",INDEX(E_SourceStreams!$A:$N,CO31,J$7)))","v":""},{"$f":"IF($E31=\"\",\"\",IF(INDEX(E_SourceStreams!$A:$N,CP31,K$7)=\"\",\"\",INDEX(E_SourceStreams!$A:$N,CP31,K$7)))","v":""},{"$f":"IF($E31=\"\",\"\",IF(INDEX(E_SourceStreams!$A:$N,CQ31,L$7)=\"\",\"\",INDEX(E_SourceStreams!$A:$N,CQ31,L$7)))","v":""},{"$f":"IF($E31=\"\",\"\",IF(INDEX(E_SourceStreams!$A:$N,CR31,M$7)=\"\",\"\",INDEX(E_SourceStreams!$A:$N,CR31,M$7)))","v":""},{"$f":"IF($E31=\"\",\"\",IF(INDEX(E_SourceStreams!$A:$N,CS31,N$7)=\"\",\"\",INDEX(E_SourceStreams!$A:$N,CS31,N$7)))","v":""},{"$f":"IF($E31=\"\",\"\",IF(INDEX(E_SourceStreams!$A:$N,CT31,O$7)=\"\",\"\",INDEX(E_SourceStreams!$A:$N,CT31,O$7)))","v":""},{"$f":"IF($E31=\"\",\"\",IF(INDEX(E_SourceStreams!$A:$N,CU31,P$7)=\"\",\"\",INDEX(E_SourceStreams!$A:$N,CU31,P$7)))","v":""},{"$f":"IF($E31=\"\",\"\",IF(INDEX(E_SourceStreams!$A:$N,CV31,Q$7)=\"\",\"\",INDEX(E_SourceStreams!$A:$N,CV31,Q$7)))","v":""},{"$f":"IF($E31=\"\",\"\",IF(INDEX(E_SourceStreams!$A:$N,CW31,R$7)=\"\",\"\",INDEX(E_SourceStreams!$A:$N,CW31,R$7)))","v":""},{"$f":"IF($E31=\"\",\"\",IF(INDEX(E_SourceStreams!$A:$N,CX31,S$7)=\"\",\"\",INDEX(E_SourceStreams!$A:$N,CX31,S$7)))","v":""},{"$f":"IF($E31=\"\",\"\",IF(INDEX(E_SourceStreams!$A:$N,CY31,T$7)=\"\",\"\",INDEX(E_SourceStreams!$A:$N,CY31,T$7)))","v":""},{"$f":"IF($E31=\"\",\"\",IF(INDEX(E_SourceStreams!$A:$N,CZ31,U$7)=\"\",\"\",INDEX(E_SourceStreams!$A:$N,CZ31,U$7)))","v":""},{"$f":"IF($E31=\"\",\"\",IF(INDEX(E_SourceStreams!$A:$N,DA31,V$7)=\"\",\"\",INDEX(E_SourceStreams!$A:$N,DA31,V$7)))","v":""},{"$f":"IF($E31=\"\",\"\",IF(INDEX(E_SourceStreams!$A:$N,DB31,W$7)=\"\",\"\",INDEX(E_SourceStreams!$A:$N,DB31,W$7)))","v":""},{"$f":"IF($E31=\"\",\"\",IF(INDEX(E_SourceStreams!$A:$N,DC31,X$7)=\"\",\"\",INDEX(E_SourceStreams!$A:$N,DC31,X$7)))","v":""},{"$f":"IF($E31=\"\",\"\",IF(INDEX(E_SourceStreams!$A:$N,DD31,Y$7)=\"\",\"\",INDEX(E_SourceStreams!$A:$N,DD31,Y$7)))","v":""},{"$f":"IF($E31=\"\",\"\",IF(INDEX(E_SourceStreams!$A:$N,DE31,Z$7)=\"\",\"\",INDEX(E_SourceStreams!$A:$N,DE31,Z$7)))","v":""},{"$f":"IF($E31=\"\",\"\",IF(INDEX(E_SourceStreams!$A:$N,DF31,AA$7)=\"\",\"\",INDEX(E_SourceStreams!$A:$N,DF31,AA$7)))","v":""},{"$f":"IF($E31=\"\",\"\",IF(INDEX(E_SourceStreams!$A:$N,DG31,AB$7)=\"\",\"\",INDEX(E_SourceStreams!$A:$N,DG31,AB$7)))","v":""},{"$f":"IF($E31=\"\",\"\",IF(INDEX(E_SourceStreams!$A:$N,DH31,AC$7)=\"\",\"\",INDEX(E_SourceStreams!$A:$N,DH31,AC$7)))","v":""},{"$f":"IF($E31=\"\",\"\",IF(INDEX(E_SourceStreams!$A:$N,DI31,AD$7)=\"\",\"\",INDEX(E_SourceStreams!$A:$N,DI31,AD$7)))","v":""},{"$f":"IF($E31=\"\",\"\",IF(INDEX(E_SourceStreams!$A:$N,DJ31,AE$7)=\"\",\"\",INDEX(E_SourceStreams!$A:$N,DJ31,AE$7)))","v":""},{"$f":"IF($E31=\"\",\"\",IF(INDEX(E_SourceStreams!$A:$N,DK31,AF$7)=\"\",\"\",INDEX(E_SourceStreams!$A:$N,DK31,AF$7)))","v":""},{"$f":"IF($E31=\"\",\"\",IF(INDEX(E_SourceStreams!$A:$N,DL31,AG$7)=\"\",\"\",INDEX(E_SourceStreams!$A:$N,DL31,AG$7)))","v":""},{"$f":"IF($E31=\"\",\"\",IF(INDEX(E_SourceStreams!$A:$N,DM31,AH$7)=\"\",\"\",INDEX(E_SourceStreams!$A:$N,DM31,AH$7)))","v":""},{"$f":"IF($E31=\"\",\"\",IF(INDEX(E_SourceStreams!$A:$N,DN31,AI$7)=\"\",\"\",INDEX(E_SourceStreams!$A:$N,DN31,AI$7)))","v":""},{"$f":"IF($E31=\"\",\"\",IF(INDEX(E_SourceStreams!$A:$N,DO31,AJ$7)=\"\",\"\",INDEX(E_SourceStreams!$A:$N,DO31,AJ$7)))","v":""},{"$f":"IF($E31=\"\",\"\",IF(INDEX(E_SourceStreams!$A:$N,DP31,AK$7)=\"\",\"\",INDEX(E_SourceStreams!$A:$N,DP31,AK$7)))","v":""},{"$f":"IF($E31=\"\",\"\",IF(INDEX(E_SourceStreams!$A:$N,DQ31,AL$7)=\"\",\"\",INDEX(E_SourceStreams!$A:$N,DQ31,AL$7)))","v":""},{"$f":"IF($E31=\"\",\"\",IF(INDEX(E_SourceStreams!$A:$N,DR31,AM$7)=\"\",\"\",INDEX(E_SourceStreams!$A:$N,DR31,AM$7)))","v":""},{"$f":"IF($E31=\"\",\"\",IF(INDEX(E_SourceStreams!$A:$N,DS31,AN$7)=\"\",\"\",INDEX(E_SourceStreams!$A:$N,DS31,AN$7)))","v":""},{"$f":"IF($E31=\"\",\"\",IF(INDEX(E_SourceStreams!$A:$N,DT31,AO$7)=\"\",\"\",INDEX(E_SourceStreams!$A:$N,DT31,AO$7)))","v":""},{"$f":"IF($E31=\"\",\"\",IF(INDEX(E_SourceStreams!$A:$N,DU31,AP$7)=\"\",\"\",INDEX(E_SourceStreams!$A:$N,DU31,AP$7)))","v":""},{"$f":"IF($E31=\"\",\"\",IF(INDEX(E_SourceStreams!$A:$N,DV31,AQ$7)=\"\",\"\",INDEX(E_SourceStreams!$A:$N,DV31,AQ$7)))","v":""},{"$f":"IF($E31=\"\",\"\",IF(INDEX(E_SourceStreams!$A:$N,DW31,AR$7)=\"\",\"\",INDEX(E_SourceStreams!$A:$N,DW31,AR$7)))","v":""},{"$f":"IF($E31=\"\",\"\",IF(INDEX(E_SourceStreams!$A:$N,DX31,AS$7)=\"\",\"\",INDEX(E_SourceStreams!$A:$N,DX31,AS$7)))","v":""},{"$f":"IF($E31=\"\",\"\",IF(INDEX(E_SourceStreams!$A:$N,DY31,AT$7)=\"\",\"\",INDEX(E_SourceStreams!$A:$N,DY31,AT$7)))","v":""},{"$f":"IF($E31=\"\",\"\",IF(INDEX(E_SourceStreams!$A:$N,DZ31,AU$7)=\"\",\"\",INDEX(E_SourceStreams!$A:$N,DZ31,AU$7)))","v":""},{"$f":"IF($E31=\"\",\"\",IF(INDEX(E_SourceStreams!$A:$N,EA31,AV$7)=\"\",\"\",INDEX(E_SourceStreams!$A:$N,EA31,AV$7)))","v":""},{"$f":"IF($E31=\"\",\"\",IF(INDEX(E_SourceStreams!$A:$N,EB31,AW$7)=\"\",\"\",INDEX(E_SourceStreams!$A:$N,EB31,AW$7)))","v":""},{"$f":"IF($E31=\"\",\"\",IF(INDEX(E_SourceStreams!$A:$N,EC31,AX$7)=\"\",\"\",INDEX(E_SourceStreams!$A:$N,EC31,AX$7)))","v":""},{"$f":"IF($E31=\"\",\"\",IF(INDEX(E_SourceStreams!$A:$N,ED31,AY$7)=\"\",\"\",INDEX(E_SourceStreams!$A:$N,ED31,AY$7)))","v":""},{"$f":"IF($E31=\"\",\"\",IF(INDEX(E_SourceStreams!$A:$N,EE31,AZ$7)=\"\",\"\",INDEX(E_SourceStreams!$A:$N,EE31,AZ$7)))","v":""},{"$f":"IF($E31=\"\",\"\",IF(INDEX(E_SourceStreams!$A:$N,EF31,BA$7)=\"\",\"\",INDEX(E_SourceStreams!$A:$N,EF31,BA$7)))","v":""},{"$f":"IF($E31=\"\",\"\",IF(INDEX(E_SourceStreams!$A:$N,EG31,BB$7)=\"\",\"\",INDEX(E_SourceStreams!$A:$N,EG31,BB$7)))","v":""},{"$f":"IF($E31=\"\",\"\",IF(INDEX(E_SourceStreams!$A:$N,EH31,BC$7)=\"\",\"\",INDEX(E_SourceStreams!$A:$N,EH31,BC$7)))","v":""},{"$f":"IF($E31=\"\",\"\",IF(INDEX(E_SourceStreams!$A:$N,EI31,BD$7)=\"\",\"\",INDEX(E_SourceStreams!$A:$N,EI31,BD$7)))","v":""},{"$f":"IF($E31=\"\",\"\",IF(INDEX(E_SourceStreams!$A:$N,EJ31,BE$7)=\"\",\"\",INDEX(E_SourceStreams!$A:$N,EJ31,BE$7)))","v":""},{"$f":"IF($E31=\"\",\"\",IF(INDEX(E_SourceStreams!$A:$N,EK31,BF$7)=\"\",\"\",INDEX(E_SourceStreams!$A:$N,EK31,BF$7)))","v":""},{"$f":"IF($E31=\"\",\"\",IF(INDEX(E_SourceStreams!$A:$N,EL31,BG$7)=\"\",\"\",INDEX(E_SourceStreams!$A:$N,EL31,BG$7)))","v":""},{"$f":"IF($E31=\"\",\"\",IF(INDEX(E_SourceStreams!$A:$N,EM31,BH$7)=\"\",\"\",INDEX(E_SourceStreams!$A:$N,EM31,BH$7)))","v":""},{"$f":"IF($E31=\"\",\"\",IF(INDEX(E_SourceStreams!$A:$N,EN31,BI$7)=\"\",\"\",INDEX(E_SourceStreams!$A:$N,EN31,BI$7)))","v":""},{"$f":"IF($E31=\"\",\"\",IF(INDEX(E_SourceStreams!$A:$N,EO31,BJ$7)=\"\",\"\",INDEX(E_SourceStreams!$A:$N,EO31,BJ$7)))","v":""},{"$f":"IF($E31=\"\",\"\",IF(INDEX(E_SourceStreams!$A:$N,EP31,BK$7)=\"\",\"\",INDEX(E_SourceStreams!$A:$N,EP31,BK$7)))","v":""},{"$f":"IF($E31=\"\",\"\",IF(INDEX(E_SourceStreams!$A:$N,EQ31,BL$7)=\"\",\"\",INDEX(E_SourceStreams!$A:$N,EQ31,BL$7)))","v":""},{"$f":"IF($E31=\"\",\"\",IF(INDEX(E_SourceStreams!$A:$N,ER31,BM$7)=\"\",\"\",INDEX(E_SourceStreams!$A:$N,ER31,BM$7)))","v":""},{"$f":"IF($E31=\"\",\"\",IF(INDEX(E_SourceStreams!$A:$N,ES31,BN$7)=\"\",\"\",INDEX(E_SourceStreams!$A:$N,ES31,BN$7)))","v":""},{"$f":"IF($E31=\"\",\"\",IF(INDEX(E_SourceStreams!$A:$N,ET31,BO$7)=\"\",\"\",INDEX(E_SourceStreams!$A:$N,ET31,BO$7)))","v":""},{"$f":"IF($E31=\"\",\"\",IF(INDEX(E_SourceStreams!$A:$N,EU31,BP$7)=\"\",\"\",INDEX(E_SourceStreams!$A:$N,EU31,BP$7)))","v":""},{"$f":"IF($E31=\"\",\"\",IF(INDEX(E_SourceStreams!$A:$N,EV31,BQ$7)=\"\",\"\",INDEX(E_SourceStreams!$A:$N,EV31,BQ$7)))","v":""},{"$f":"IF($E31=\"\",\"\",IF(INDEX(E_SourceStreams!$A:$N,EW31,BR$7)=\"\",\"\",INDEX(E_SourceStreams!$A:$N,EW31,BR$7)))","v":""},{"$f":"IF($E31=\"\",\"\",IF(INDEX(E_SourceStreams!$A:$N,EX31,BS$7)=\"\",\"\",INDEX(E_SourceStreams!$A:$N,EX31,BS$7)))","v":""},{"$f":"IF($E31=\"\",\"\",IF(INDEX(E_SourceStreams!$A:$N,EY31,BT$7)=\"\",\"\",INDEX(E_SourceStreams!$A:$N,EY31,BT$7)))","v":""},null,null,null,null,null,null,null,null,null,null,null,null,null,null,null,"SourceCategory_",{"$f":"INDEX(C_InstallationDescription!$A$226:$A$332,ROWS($CI$11:CI31))=\"ausblenden\"","v":false},"SourceStreamName_",null,1455,1457,1459,1461,1463,1465,1467,1467,1467,1467,1467,1470,1474,1475,1476,1483,1493,1493,1493,1493,1493,1493,1493,1484,1494,1494,1494,1494,1494,1494,1494,1485,1495,1495,1495,1495,1495,1495,1495,1486,1496,1496,1496,1496,1496,1496,1496,1487,1497,1497,1497,1497,1497,1497,1497,1488,1498,1498,1498,1498,1498,1498,1498,1504]
[null,{"$f":"IF(COUNTIF($CK$10:CK32,TRUE)>0,\"\",INDEX(C_InstallationDescription!$E$226:$E$242,ROWS($A$11:A32)))","v":""},{"$f":"IF($E32=\"\",\"\",INDEX(C_InstallationDescription!F:F,MATCH($B32,C_InstallationDescription!$E:$E,0)))","v":""},{"$f":"IF($E32=\"\",\"\",INDEX(C_InstallationDescription!I:I,MATCH($B32,C_InstallationDescription!$E:$E,0)))","v":""},{"$f":"IF($B32=\"\",\"\",INDEX(C_InstallationDescription!F:F,MATCH($CJ32,C_InstallationDescription!$Q:$Q,0)))","v":""},{"$f":"IF($E32=\"\",\"\",INDEX(C_InstallationDescription!L:L,MATCH($CJ32,C_InstallationDescription!$Q:$Q,0)))","v":""},{"$f":"IF($E32=\"\",\"\",INDEX(C_InstallationDescription!M:M,MATCH($CJ32,C_InstallationDescription!$Q:$Q,0)))","v":""},{"$f":"IF($E32=\"\",\"\",INDEX(C_InstallationDescription!N:N,MATCH($CJ32,C_InstallationDescription!$Q:$Q,0)))","v":""},{"$f":"IF($E32=\"\",\"\",IF(INDEX(E_SourceStreams!$A:$N,CN32,I$7)=\"\",\"\",INDEX(E_SourceStreams!$A:$N,CN32,I$7)))","v":""},{"$f":"IF($E32=\"\",\"\",IF(INDEX(E_SourceStreams!$A:$N,CO32,J$7)=\"\",\"\",INDEX(E_SourceStreams!$A:$N,CO32,J$7)))","v":""},{"$f":"IF($E32=\"\",\"\",IF(INDEX(E_SourceStreams!$A:$N,CP32,K$7)=\"\",\"\",INDEX(E_SourceStreams!$A:$N,CP32,K$7)))","v":""},{"$f":"IF($E32=\"\",\"\",IF(INDEX(E_SourceStreams!$A:$N,CQ32,L$7)=\"\",\"\",INDEX(E_SourceStreams!$A:$N,CQ32,L$7)))","v":""},{"$f":"IF($E32=\"\",\"\",IF(INDEX(E_SourceStreams!$A:$N,CR32,M$7)=\"\",\"\",INDEX(E_SourceStreams!$A:$N,CR32,M$7)))","v":""},{"$f":"IF($E32=\"\",\"\",IF(INDEX(E_SourceStreams!$A:$N,CS32,N$7)=\"\",\"\",INDEX(E_SourceStreams!$A:$N,CS32,N$7)))","v":""},{"$f":"IF($E32=\"\",\"\",IF(INDEX(E_SourceStreams!$A:$N,CT32,O$7)=\"\",\"\",INDEX(E_SourceStreams!$A:$N,CT32,O$7)))","v":""},{"$f":"IF($E32=\"\",\"\",IF(INDEX(E_SourceStreams!$A:$N,CU32,P$7)=\"\",\"\",INDEX(E_SourceStreams!$A:$N,CU32,P$7)))","v":""},{"$f":"IF($E32=\"\",\"\",IF(INDEX(E_SourceStreams!$A:$N,CV32,Q$7)=\"\",\"\",INDEX(E_SourceStreams!$A:$N,CV32,Q$7)))","v":""},{"$f":"IF($E32=\"\",\"\",IF(INDEX(E_SourceStreams!$A:$N,CW32,R$7)=\"\",\"\",INDEX(E_SourceStreams!$A:$N,CW32,R$7)))","v":""},{"$f":"IF($E32=\"\",\"\",IF(INDEX(E_SourceStreams!$A:$N,CX32,S$7)=\"\",\"\",INDEX(E_SourceStreams!$A:$N,CX32,S$7)))","v":""},{"$f":"IF($E32=\"\",\"\",IF(INDEX(E_SourceStreams!$A:$N,CY32,T$7)=\"\",\"\",INDEX(E_SourceStreams!$A:$N,CY32,T$7)))","v":""},{"$f":"IF($E32=\"\",\"\",IF(INDEX(E_SourceStreams!$A:$N,CZ32,U$7)=\"\",\"\",INDEX(E_SourceStreams!$A:$N,CZ32,U$7)))","v":""},{"$f":"IF($E32=\"\",\"\",IF(INDEX(E_SourceStreams!$A:$N,DA32,V$7)=\"\",\"\",INDEX(E_SourceStreams!$A:$N,DA32,V$7)))","v":""},{"$f":"IF($E32=\"\",\"\",IF(INDEX(E_SourceStreams!$A:$N,DB32,W$7)=\"\",\"\",INDEX(E_SourceStreams!$A:$N,DB32,W$7)))","v":""},{"$f":"IF($E32=\"\",\"\",IF(INDEX(E_SourceStreams!$A:$N,DC32,X$7)=\"\",\"\",INDEX(E_SourceStreams!$A:$N,DC32,X$7)))","v":""},{"$f":"IF($E32=\"\",\"\",IF(INDEX(E_SourceStreams!$A:$N,DD32,Y$7)=\"\",\"\",INDEX(E_SourceStreams!$A:$N,DD32,Y$7)))","v":""},{"$f":"IF($E32=\"\",\"\",IF(INDEX(E_SourceStreams!$A:$N,DE32,Z$7)=\"\",\"\",INDEX(E_SourceStreams!$A:$N,DE32,Z$7)))","v":""},{"$f":"IF($E32=\"\",\"\",IF(INDEX(E_SourceStreams!$A:$N,DF32,AA$7)=\"\",\"\",INDEX(E_SourceStreams!$A:$N,DF32,AA$7)))","v":""},{"$f":"IF($E32=\"\",\"\",IF(INDEX(E_SourceStreams!$A:$N,DG32,AB$7)=\"\",\"\",INDEX(E_SourceStreams!$A:$N,DG32,AB$7)))","v":""},{"$f":"IF($E32=\"\",\"\",IF(INDEX(E_SourceStreams!$A:$N,DH32,AC$7)=\"\",\"\",INDEX(E_SourceStreams!$A:$N,DH32,AC$7)))","v":""},{"$f":"IF($E32=\"\",\"\",IF(INDEX(E_SourceStreams!$A:$N,DI32,AD$7)=\"\",\"\",INDEX(E_SourceStreams!$A:$N,DI32,AD$7)))","v":""},{"$f":"IF($E32=\"\",\"\",IF(INDEX(E_SourceStreams!$A:$N,DJ32,AE$7)=\"\",\"\",INDEX(E_SourceStreams!$A:$N,DJ32,AE$7)))","v":""},{"$f":"IF($E32=\"\",\"\",IF(INDEX(E_SourceStreams!$A:$N,DK32,AF$7)=\"\",\"\",INDEX(E_SourceStreams!$A:$N,DK32,AF$7)))","v":""},{"$f":"IF($E32=\"\",\"\",IF(INDEX(E_SourceStreams!$A:$N,DL32,AG$7)=\"\",\"\",INDEX(E_SourceStreams!$A:$N,DL32,AG$7)))","v":""},{"$f":"IF($E32=\"\",\"\",IF(INDEX(E_SourceStreams!$A:$N,DM32,AH$7)=\"\",\"\",INDEX(E_SourceStreams!$A:$N,DM32,AH$7)))","v":""},{"$f":"IF($E32=\"\",\"\",IF(INDEX(E_SourceStreams!$A:$N,DN32,AI$7)=\"\",\"\",INDEX(E_SourceStreams!$A:$N,DN32,AI$7)))","v":""},{"$f":"IF($E32=\"\",\"\",IF(INDEX(E_SourceStreams!$A:$N,DO32,AJ$7)=\"\",\"\",INDEX(E_SourceStreams!$A:$N,DO32,AJ$7)))","v":""},{"$f":"IF($E32=\"\",\"\",IF(INDEX(E_SourceStreams!$A:$N,DP32,AK$7)=\"\",\"\",INDEX(E_SourceStreams!$A:$N,DP32,AK$7)))","v":""},{"$f":"IF($E32=\"\",\"\",IF(INDEX(E_SourceStreams!$A:$N,DQ32,AL$7)=\"\",\"\",INDEX(E_SourceStreams!$A:$N,DQ32,AL$7)))","v":""},{"$f":"IF($E32=\"\",\"\",IF(INDEX(E_SourceStreams!$A:$N,DR32,AM$7)=\"\",\"\",INDEX(E_SourceStreams!$A:$N,DR32,AM$7)))","v":""},{"$f":"IF($E32=\"\",\"\",IF(INDEX(E_SourceStreams!$A:$N,DS32,AN$7)=\"\",\"\",INDEX(E_SourceStreams!$A:$N,DS32,AN$7)))","v":""},{"$f":"IF($E32=\"\",\"\",IF(INDEX(E_SourceStreams!$A:$N,DT32,AO$7)=\"\",\"\",INDEX(E_SourceStreams!$A:$N,DT32,AO$7)))","v":""},{"$f":"IF($E32=\"\",\"\",IF(INDEX(E_SourceStreams!$A:$N,DU32,AP$7)=\"\",\"\",INDEX(E_SourceStreams!$A:$N,DU32,AP$7)))","v":""},{"$f":"IF($E32=\"\",\"\",IF(INDEX(E_SourceStreams!$A:$N,DV32,AQ$7)=\"\",\"\",INDEX(E_SourceStreams!$A:$N,DV32,AQ$7)))","v":""},{"$f":"IF($E32=\"\",\"\",IF(INDEX(E_SourceStreams!$A:$N,DW32,AR$7)=\"\",\"\",INDEX(E_SourceStreams!$A:$N,DW32,AR$7)))","v":""},{"$f":"IF($E32=\"\",\"\",IF(INDEX(E_SourceStreams!$A:$N,DX32,AS$7)=\"\",\"\",INDEX(E_SourceStreams!$A:$N,DX32,AS$7)))","v":""},{"$f":"IF($E32=\"\",\"\",IF(INDEX(E_SourceStreams!$A:$N,DY32,AT$7)=\"\",\"\",INDEX(E_SourceStreams!$A:$N,DY32,AT$7)))","v":""},{"$f":"IF($E32=\"\",\"\",IF(INDEX(E_SourceStreams!$A:$N,DZ32,AU$7)=\"\",\"\",INDEX(E_SourceStreams!$A:$N,DZ32,AU$7)))","v":""},{"$f":"IF($E32=\"\",\"\",IF(INDEX(E_SourceStreams!$A:$N,EA32,AV$7)=\"\",\"\",INDEX(E_SourceStreams!$A:$N,EA32,AV$7)))","v":""},{"$f":"IF($E32=\"\",\"\",IF(INDEX(E_SourceStreams!$A:$N,EB32,AW$7)=\"\",\"\",INDEX(E_SourceStreams!$A:$N,EB32,AW$7)))","v":""},{"$f":"IF($E32=\"\",\"\",IF(INDEX(E_SourceStreams!$A:$N,EC32,AX$7)=\"\",\"\",INDEX(E_SourceStreams!$A:$N,EC32,AX$7)))","v":""},{"$f":"IF($E32=\"\",\"\",IF(INDEX(E_SourceStreams!$A:$N,ED32,AY$7)=\"\",\"\",INDEX(E_SourceStreams!$A:$N,ED32,AY$7)))","v":""},{"$f":"IF($E32=\"\",\"\",IF(INDEX(E_SourceStreams!$A:$N,EE32,AZ$7)=\"\",\"\",INDEX(E_SourceStreams!$A:$N,EE32,AZ$7)))","v":""},{"$f":"IF($E32=\"\",\"\",IF(INDEX(E_SourceStreams!$A:$N,EF32,BA$7)=\"\",\"\",INDEX(E_SourceStreams!$A:$N,EF32,BA$7)))","v":""},{"$f":"IF($E32=\"\",\"\",IF(INDEX(E_SourceStreams!$A:$N,EG32,BB$7)=\"\",\"\",INDEX(E_SourceStreams!$A:$N,EG32,BB$7)))","v":""},{"$f":"IF($E32=\"\",\"\",IF(INDEX(E_SourceStreams!$A:$N,EH32,BC$7)=\"\",\"\",INDEX(E_SourceStreams!$A:$N,EH32,BC$7)))","v":""},{"$f":"IF($E32=\"\",\"\",IF(INDEX(E_SourceStreams!$A:$N,EI32,BD$7)=\"\",\"\",INDEX(E_SourceStreams!$A:$N,EI32,BD$7)))","v":""},{"$f":"IF($E32=\"\",\"\",IF(INDEX(E_SourceStreams!$A:$N,EJ32,BE$7)=\"\",\"\",INDEX(E_SourceStreams!$A:$N,EJ32,BE$7)))","v":""},{"$f":"IF($E32=\"\",\"\",IF(INDEX(E_SourceStreams!$A:$N,EK32,BF$7)=\"\",\"\",INDEX(E_SourceStreams!$A:$N,EK32,BF$7)))","v":""},{"$f":"IF($E32=\"\",\"\",IF(INDEX(E_SourceStreams!$A:$N,EL32,BG$7)=\"\",\"\",INDEX(E_SourceStreams!$A:$N,EL32,BG$7)))","v":""},{"$f":"IF($E32=\"\",\"\",IF(INDEX(E_SourceStreams!$A:$N,EM32,BH$7)=\"\",\"\",INDEX(E_SourceStreams!$A:$N,EM32,BH$7)))","v":""},{"$f":"IF($E32=\"\",\"\",IF(INDEX(E_SourceStreams!$A:$N,EN32,BI$7)=\"\",\"\",INDEX(E_SourceStreams!$A:$N,EN32,BI$7)))","v":""},{"$f":"IF($E32=\"\",\"\",IF(INDEX(E_SourceStreams!$A:$N,EO32,BJ$7)=\"\",\"\",INDEX(E_SourceStreams!$A:$N,EO32,BJ$7)))","v":""},{"$f":"IF($E32=\"\",\"\",IF(INDEX(E_SourceStreams!$A:$N,EP32,BK$7)=\"\",\"\",INDEX(E_SourceStreams!$A:$N,EP32,BK$7)))","v":""},{"$f":"IF($E32=\"\",\"\",IF(INDEX(E_SourceStreams!$A:$N,EQ32,BL$7)=\"\",\"\",INDEX(E_SourceStreams!$A:$N,EQ32,BL$7)))","v":""},{"$f":"IF($E32=\"\",\"\",IF(INDEX(E_SourceStreams!$A:$N,ER32,BM$7)=\"\",\"\",INDEX(E_SourceStreams!$A:$N,ER32,BM$7)))","v":""},{"$f":"IF($E32=\"\",\"\",IF(INDEX(E_SourceStreams!$A:$N,ES32,BN$7)=\"\",\"\",INDEX(E_SourceStreams!$A:$N,ES32,BN$7)))","v":""},{"$f":"IF($E32=\"\",\"\",IF(INDEX(E_SourceStreams!$A:$N,ET32,BO$7)=\"\",\"\",INDEX(E_SourceStreams!$A:$N,ET32,BO$7)))","v":""},{"$f":"IF($E32=\"\",\"\",IF(INDEX(E_SourceStreams!$A:$N,EU32,BP$7)=\"\",\"\",INDEX(E_SourceStreams!$A:$N,EU32,BP$7)))","v":""},{"$f":"IF($E32=\"\",\"\",IF(INDEX(E_SourceStreams!$A:$N,EV32,BQ$7)=\"\",\"\",INDEX(E_SourceStreams!$A:$N,EV32,BQ$7)))","v":""},{"$f":"IF($E32=\"\",\"\",IF(INDEX(E_SourceStreams!$A:$N,EW32,BR$7)=\"\",\"\",INDEX(E_SourceStreams!$A:$N,EW32,BR$7)))","v":""},{"$f":"IF($E32=\"\",\"\",IF(INDEX(E_SourceStreams!$A:$N,EX32,BS$7)=\"\",\"\",INDEX(E_SourceStreams!$A:$N,EX32,BS$7)))","v":""},{"$f":"IF($E32=\"\",\"\",IF(INDEX(E_SourceStreams!$A:$N,EY32,BT$7)=\"\",\"\",INDEX(E_SourceStreams!$A:$N,EY32,BT$7)))","v":""},null,null,null,null,null,null,null,null,null,null,null,null,null,null,null,"SourceCategory_",{"$f":"INDEX(C_InstallationDescription!$A$226:$A$332,ROWS($CI$11:CI32))=\"ausblenden\"","v":false},"SourceStreamName_",null,1521,1523,1525,1527,1529,1531,1533,1533,1533,1533,1533,1536,1540,1541,1542,1549,1559,1559,1559,1559,1559,1559,1559,1550,1560,1560,1560,1560,1560,1560,1560,1551,1561,1561,1561,1561,1561,1561,1561,1552,1562,1562,1562,1562,1562,1562,1562,1553,1563,1563,1563,1563,1563,1563,1563,1554,1564,1564,1564,1564,1564,1564,1564,1570]
[null,{"$f":"IF(COUNTIF($CK$10:CK33,TRUE)>0,\"\",INDEX(C_InstallationDescription!$E$226:$E$242,ROWS($A$11:A33)))","v":""},{"$f":"IF($E33=\"\",\"\",INDEX(C_InstallationDescription!F:F,MATCH($B33,C_InstallationDescription!$E:$E,0)))","v":""},{"$f":"IF($E33=\"\",\"\",INDEX(C_InstallationDescription!I:I,MATCH($B33,C_InstallationDescription!$E:$E,0)))","v":""},{"$f":"IF($B33=\"\",\"\",INDEX(C_InstallationDescription!F:F,MATCH($CJ33,C_InstallationDescription!$Q:$Q,0)))","v":""},{"$f":"IF($E33=\"\",\"\",INDEX(C_InstallationDescription!L:L,MATCH($CJ33,C_InstallationDescription!$Q:$Q,0)))","v":""},{"$f":"IF($E33=\"\",\"\",INDEX(C_InstallationDescription!M:M,MATCH($CJ33,C_InstallationDescription!$Q:$Q,0)))","v":""},{"$f":"IF($E33=\"\",\"\",INDEX(C_InstallationDescription!N:N,MATCH($CJ33,C_InstallationDescription!$Q:$Q,0)))","v":""},{"$f":"IF($E33=\"\",\"\",IF(INDEX(E_SourceStreams!$A:$N,CN33,I$7)=\"\",\"\",INDEX(E_SourceStreams!$A:$N,CN33,I$7)))","v":""},{"$f":"IF($E33=\"\",\"\",IF(INDEX(E_SourceStreams!$A:$N,CO33,J$7)=\"\",\"\",INDEX(E_SourceStreams!$A:$N,CO33,J$7)))","v":""},{"$f":"IF($E33=\"\",\"\",IF(INDEX(E_SourceStreams!$A:$N,CP33,K$7)=\"\",\"\",INDEX(E_SourceStreams!$A:$N,CP33,K$7)))","v":""},{"$f":"IF($E33=\"\",\"\",IF(INDEX(E_SourceStreams!$A:$N,CQ33,L$7)=\"\",\"\",INDEX(E_SourceStreams!$A:$N,CQ33,L$7)))","v":""},{"$f":"IF($E33=\"\",\"\",IF(INDEX(E_SourceStreams!$A:$N,CR33,M$7)=\"\",\"\",INDEX(E_SourceStreams!$A:$N,CR33,M$7)))","v":""},{"$f":"IF($E33=\"\",\"\",IF(INDEX(E_SourceStreams!$A:$N,CS33,N$7)=\"\",\"\",INDEX(E_SourceStreams!$A:$N,CS33,N$7)))","v":""},{"$f":"IF($E33=\"\",\"\",IF(INDEX(E_SourceStreams!$A:$N,CT33,O$7)=\"\",\"\",INDEX(E_SourceStreams!$A:$N,CT33,O$7)))","v":""},{"$f":"IF($E33=\"\",\"\",IF(INDEX(E_SourceStreams!$A:$N,CU33,P$7)=\"\",\"\",INDEX(E_SourceStreams!$A:$N,CU33,P$7)))","v":""},{"$f":"IF($E33=\"\",\"\",IF(INDEX(E_SourceStreams!$A:$N,CV33,Q$7)=\"\",\"\",INDEX(E_SourceStreams!$A:$N,CV33,Q$7)))","v":""},{"$f":"IF($E33=\"\",\"\",IF(INDEX(E_SourceStreams!$A:$N,CW33,R$7)=\"\",\"\",INDEX(E_SourceStreams!$A:$N,CW33,R$7)))","v":""},{"$f":"IF($E33=\"\",\"\",IF(INDEX(E_SourceStreams!$A:$N,CX33,S$7)=\"\",\"\",INDEX(E_SourceStreams!$A:$N,CX33,S$7)))","v":""},{"$f":"IF($E33=\"\",\"\",IF(INDEX(E_SourceStreams!$A:$N,CY33,T$7)=\"\",\"\",INDEX(E_SourceStreams!$A:$N,CY33,T$7)))","v":""},{"$f":"IF($E33=\"\",\"\",IF(INDEX(E_SourceStreams!$A:$N,CZ33,U$7)=\"\",\"\",INDEX(E_SourceStreams!$A:$N,CZ33,U$7)))","v":""},{"$f":"IF($E33=\"\",\"\",IF(INDEX(E_SourceStreams!$A:$N,DA33,V$7)=\"\",\"\",INDEX(E_SourceStreams!$A:$N,DA33,V$7)))","v":""},{"$f":"IF($E33=\"\",\"\",IF(INDEX(E_SourceStreams!$A:$N,DB33,W$7)=\"\",\"\",INDEX(E_SourceStreams!$A:$N,DB33,W$7)))","v":""},{"$f":"IF($E33=\"\",\"\",IF(INDEX(E_SourceStreams!$A:$N,DC33,X$7)=\"\",\"\",INDEX(E_SourceStreams!$A:$N,DC33,X$7)))","v":""},{"$f":"IF($E33=\"\",\"\",IF(INDEX(E_SourceStreams!$A:$N,DD33,Y$7)=\"\",\"\",INDEX(E_SourceStreams!$A:$N,DD33,Y$7)))","v":""},{"$f":"IF($E33=\"\",\"\",IF(INDEX(E_SourceStreams!$A:$N,DE33,Z$7)=\"\",\"\",INDEX(E_SourceStreams!$A:$N,DE33,Z$7)))","v":""},{"$f":"IF($E33=\"\",\"\",IF(INDEX(E_SourceStreams!$A:$N,DF33,AA$7)=\"\",\"\",INDEX(E_SourceStreams!$A:$N,DF33,AA$7)))","v":""},{"$f":"IF($E33=\"\",\"\",IF(INDEX(E_SourceStreams!$A:$N,DG33,AB$7)=\"\",\"\",INDEX(E_SourceStreams!$A:$N,DG33,AB$7)))","v":""},{"$f":"IF($E33=\"\",\"\",IF(INDEX(E_SourceStreams!$A:$N,DH33,AC$7)=\"\",\"\",INDEX(E_SourceStreams!$A:$N,DH33,AC$7)))","v":""},{"$f":"IF($E33=\"\",\"\",IF(INDEX(E_SourceStreams!$A:$N,DI33,AD$7)=\"\",\"\",INDEX(E_SourceStreams!$A:$N,DI33,AD$7)))","v":""},{"$f":"IF($E33=\"\",\"\",IF(INDEX(E_SourceStreams!$A:$N,DJ33,AE$7)=\"\",\"\",INDEX(E_SourceStreams!$A:$N,DJ33,AE$7)))","v":""},{"$f":"IF($E33=\"\",\"\",IF(INDEX(E_SourceStreams!$A:$N,DK33,AF$7)=\"\",\"\",INDEX(E_SourceStreams!$A:$N,DK33,AF$7)))","v":""},{"$f":"IF($E33=\"\",\"\",IF(INDEX(E_SourceStreams!$A:$N,DL33,AG$7)=\"\",\"\",INDEX(E_SourceStreams!$A:$N,DL33,AG$7)))","v":""},{"$f":"IF($E33=\"\",\"\",IF(INDEX(E_SourceStreams!$A:$N,DM33,AH$7)=\"\",\"\",INDEX(E_SourceStreams!$A:$N,DM33,AH$7)))","v":""},{"$f":"IF($E33=\"\",\"\",IF(INDEX(E_SourceStreams!$A:$N,DN33,AI$7)=\"\",\"\",INDEX(E_SourceStreams!$A:$N,DN33,AI$7)))","v":""},{"$f":"IF($E33=\"\",\"\",IF(INDEX(E_SourceStreams!$A:$N,DO33,AJ$7)=\"\",\"\",INDEX(E_SourceStreams!$A:$N,DO33,AJ$7)))","v":""},{"$f":"IF($E33=\"\",\"\",IF(INDEX(E_SourceStreams!$A:$N,DP33,AK$7)=\"\",\"\",INDEX(E_SourceStreams!$A:$N,DP33,AK$7)))","v":""},{"$f":"IF($E33=\"\",\"\",IF(INDEX(E_SourceStreams!$A:$N,DQ33,AL$7)=\"\",\"\",INDEX(E_SourceStreams!$A:$N,DQ33,AL$7)))","v":""},{"$f":"IF($E33=\"\",\"\",IF(INDEX(E_SourceStreams!$A:$N,DR33,AM$7)=\"\",\"\",INDEX(E_SourceStreams!$A:$N,DR33,AM$7)))","v":""},{"$f":"IF($E33=\"\",\"\",IF(INDEX(E_SourceStreams!$A:$N,DS33,AN$7)=\"\",\"\",INDEX(E_SourceStreams!$A:$N,DS33,AN$7)))","v":""},{"$f":"IF($E33=\"\",\"\",IF(INDEX(E_SourceStreams!$A:$N,DT33,AO$7)=\"\",\"\",INDEX(E_SourceStreams!$A:$N,DT33,AO$7)))","v":""},{"$f":"IF($E33=\"\",\"\",IF(INDEX(E_SourceStreams!$A:$N,DU33,AP$7)=\"\",\"\",INDEX(E_SourceStreams!$A:$N,DU33,AP$7)))","v":""},{"$f":"IF($E33=\"\",\"\",IF(INDEX(E_SourceStreams!$A:$N,DV33,AQ$7)=\"\",\"\",INDEX(E_SourceStreams!$A:$N,DV33,AQ$7)))","v":""},{"$f":"IF($E33=\"\",\"\",IF(INDEX(E_SourceStreams!$A:$N,DW33,AR$7)=\"\",\"\",INDEX(E_SourceStreams!$A:$N,DW33,AR$7)))","v":""},{"$f":"IF($E33=\"\",\"\",IF(INDEX(E_SourceStreams!$A:$N,DX33,AS$7)=\"\",\"\",INDEX(E_SourceStreams!$A:$N,DX33,AS$7)))","v":""},{"$f":"IF($E33=\"\",\"\",IF(INDEX(E_SourceStreams!$A:$N,DY33,AT$7)=\"\",\"\",INDEX(E_SourceStreams!$A:$N,DY33,AT$7)))","v":""},{"$f":"IF($E33=\"\",\"\",IF(INDEX(E_SourceStreams!$A:$N,DZ33,AU$7)=\"\",\"\",INDEX(E_SourceStreams!$A:$N,DZ33,AU$7)))","v":""},{"$f":"IF($E33=\"\",\"\",IF(INDEX(E_SourceStreams!$A:$N,EA33,AV$7)=\"\",\"\",INDEX(E_SourceStreams!$A:$N,EA33,AV$7)))","v":""},{"$f":"IF($E33=\"\",\"\",IF(INDEX(E_SourceStreams!$A:$N,EB33,AW$7)=\"\",\"\",INDEX(E_SourceStreams!$A:$N,EB33,AW$7)))","v":""},{"$f":"IF($E33=\"\",\"\",IF(INDEX(E_SourceStreams!$A:$N,EC33,AX$7)=\"\",\"\",INDEX(E_SourceStreams!$A:$N,EC33,AX$7)))","v":""},{"$f":"IF($E33=\"\",\"\",IF(INDEX(E_SourceStreams!$A:$N,ED33,AY$7)=\"\",\"\",INDEX(E_SourceStreams!$A:$N,ED33,AY$7)))","v":""},{"$f":"IF($E33=\"\",\"\",IF(INDEX(E_SourceStreams!$A:$N,EE33,AZ$7)=\"\",\"\",INDEX(E_SourceStreams!$A:$N,EE33,AZ$7)))","v":""},{"$f":"IF($E33=\"\",\"\",IF(INDEX(E_SourceStreams!$A:$N,EF33,BA$7)=\"\",\"\",INDEX(E_SourceStreams!$A:$N,EF33,BA$7)))","v":""},{"$f":"IF($E33=\"\",\"\",IF(INDEX(E_SourceStreams!$A:$N,EG33,BB$7)=\"\",\"\",INDEX(E_SourceStreams!$A:$N,EG33,BB$7)))","v":""},{"$f":"IF($E33=\"\",\"\",IF(INDEX(E_SourceStreams!$A:$N,EH33,BC$7)=\"\",\"\",INDEX(E_SourceStreams!$A:$N,EH33,BC$7)))","v":""},{"$f":"IF($E33=\"\",\"\",IF(INDEX(E_SourceStreams!$A:$N,EI33,BD$7)=\"\",\"\",INDEX(E_SourceStreams!$A:$N,EI33,BD$7)))","v":""},{"$f":"IF($E33=\"\",\"\",IF(INDEX(E_SourceStreams!$A:$N,EJ33,BE$7)=\"\",\"\",INDEX(E_SourceStreams!$A:$N,EJ33,BE$7)))","v":""},{"$f":"IF($E33=\"\",\"\",IF(INDEX(E_SourceStreams!$A:$N,EK33,BF$7)=\"\",\"\",INDEX(E_SourceStreams!$A:$N,EK33,BF$7)))","v":""},{"$f":"IF($E33=\"\",\"\",IF(INDEX(E_SourceStreams!$A:$N,EL33,BG$7)=\"\",\"\",INDEX(E_SourceStreams!$A:$N,EL33,BG$7)))","v":""},{"$f":"IF($E33=\"\",\"\",IF(INDEX(E_SourceStreams!$A:$N,EM33,BH$7)=\"\",\"\",INDEX(E_SourceStreams!$A:$N,EM33,BH$7)))","v":""},{"$f":"IF($E33=\"\",\"\",IF(INDEX(E_SourceStreams!$A:$N,EN33,BI$7)=\"\",\"\",INDEX(E_SourceStreams!$A:$N,EN33,BI$7)))","v":""},{"$f":"IF($E33=\"\",\"\",IF(INDEX(E_SourceStreams!$A:$N,EO33,BJ$7)=\"\",\"\",INDEX(E_SourceStreams!$A:$N,EO33,BJ$7)))","v":""},{"$f":"IF($E33=\"\",\"\",IF(INDEX(E_SourceStreams!$A:$N,EP33,BK$7)=\"\",\"\",INDEX(E_SourceStreams!$A:$N,EP33,BK$7)))","v":""},{"$f":"IF($E33=\"\",\"\",IF(INDEX(E_SourceStreams!$A:$N,EQ33,BL$7)=\"\",\"\",INDEX(E_SourceStreams!$A:$N,EQ33,BL$7)))","v":""},{"$f":"IF($E33=\"\",\"\",IF(INDEX(E_SourceStreams!$A:$N,ER33,BM$7)=\"\",\"\",INDEX(E_SourceStreams!$A:$N,ER33,BM$7)))","v":""},{"$f":"IF($E33=\"\",\"\",IF(INDEX(E_SourceStreams!$A:$N,ES33,BN$7)=\"\",\"\",INDEX(E_SourceStreams!$A:$N,ES33,BN$7)))","v":""},{"$f":"IF($E33=\"\",\"\",IF(INDEX(E_SourceStreams!$A:$N,ET33,BO$7)=\"\",\"\",INDEX(E_SourceStreams!$A:$N,ET33,BO$7)))","v":""},{"$f":"IF($E33=\"\",\"\",IF(INDEX(E_SourceStreams!$A:$N,EU33,BP$7)=\"\",\"\",INDEX(E_SourceStreams!$A:$N,EU33,BP$7)))","v":""},{"$f":"IF($E33=\"\",\"\",IF(INDEX(E_SourceStreams!$A:$N,EV33,BQ$7)=\"\",\"\",INDEX(E_SourceStreams!$A:$N,EV33,BQ$7)))","v":""},{"$f":"IF($E33=\"\",\"\",IF(INDEX(E_SourceStreams!$A:$N,EW33,BR$7)=\"\",\"\",INDEX(E_SourceStreams!$A:$N,EW33,BR$7)))","v":""},{"$f":"IF($E33=\"\",\"\",IF(INDEX(E_SourceStreams!$A:$N,EX33,BS$7)=\"\",\"\",INDEX(E_SourceStreams!$A:$N,EX33,BS$7)))","v":""},{"$f":"IF($E33=\"\",\"\",IF(INDEX(E_SourceStreams!$A:$N,EY33,BT$7)=\"\",\"\",INDEX(E_SourceStreams!$A:$N,EY33,BT$7)))","v":""},null,null,null,null,null,null,null,null,null,null,null,null,null,null,null,"SourceCategory_",{"$f":"INDEX(C_InstallationDescription!$A$226:$A$332,ROWS($CI$11:CI33))=\"ausblenden\"","v":false},"SourceStreamName_",null,1587,1589,1591,1593,1595,1597,1599,1599,1599,1599,1599,1602,1606,1607,1608,1615,1625,1625,1625,1625,1625,1625,1625,1616,1626,1626,1626,1626,1626,1626,1626,1617,1627,1627,1627,1627,1627,1627,1627,1618,1628,1628,1628,1628,1628,1628,1628,1619,1629,1629,1629,1629,1629,1629,1629,1620,1630,1630,1630,1630,1630,1630,1630,1636]
[null,{"$f":"IF(COUNTIF($CK$10:CK34,TRUE)>0,\"\",INDEX(C_InstallationDescription!$E$226:$E$242,ROWS($A$11:A34)))","v":""},{"$f":"IF($E34=\"\",\"\",INDEX(C_InstallationDescription!F:F,MATCH($B34,C_InstallationDescription!$E:$E,0)))","v":""},{"$f":"IF($E34=\"\",\"\",INDEX(C_InstallationDescription!I:I,MATCH($B34,C_InstallationDescription!$E:$E,0)))","v":""},{"$f":"IF($B34=\"\",\"\",INDEX(C_InstallationDescription!F:F,MATCH($CJ34,C_InstallationDescription!$Q:$Q,0)))","v":""},{"$f":"IF($E34=\"\",\"\",INDEX(C_InstallationDescription!L:L,MATCH($CJ34,C_InstallationDescription!$Q:$Q,0)))","v":""},{"$f":"IF($E34=\"\",\"\",INDEX(C_InstallationDescription!M:M,MATCH($CJ34,C_InstallationDescription!$Q:$Q,0)))","v":""},{"$f":"IF($E34=\"\",\"\",INDEX(C_InstallationDescription!N:N,MATCH($CJ34,C_InstallationDescription!$Q:$Q,0)))","v":""},{"$f":"IF($E34=\"\",\"\",IF(INDEX(E_SourceStreams!$A:$N,CN34,I$7)=\"\",\"\",INDEX(E_SourceStreams!$A:$N,CN34,I$7)))","v":""},{"$f":"IF($E34=\"\",\"\",IF(INDEX(E_SourceStreams!$A:$N,CO34,J$7)=\"\",\"\",INDEX(E_SourceStreams!$A:$N,CO34,J$7)))","v":""},{"$f":"IF($E34=\"\",\"\",IF(INDEX(E_SourceStreams!$A:$N,CP34,K$7)=\"\",\"\",INDEX(E_SourceStreams!$A:$N,CP34,K$7)))","v":""},{"$f":"IF($E34=\"\",\"\",IF(INDEX(E_SourceStreams!$A:$N,CQ34,L$7)=\"\",\"\",INDEX(E_SourceStreams!$A:$N,CQ34,L$7)))","v":""},{"$f":"IF($E34=\"\",\"\",IF(INDEX(E_SourceStreams!$A:$N,CR34,M$7)=\"\",\"\",INDEX(E_SourceStreams!$A:$N,CR34,M$7)))","v":""},{"$f":"IF($E34=\"\",\"\",IF(INDEX(E_SourceStreams!$A:$N,CS34,N$7)=\"\",\"\",INDEX(E_SourceStreams!$A:$N,CS34,N$7)))","v":""},{"$f":"IF($E34=\"\",\"\",IF(INDEX(E_SourceStreams!$A:$N,CT34,O$7)=\"\",\"\",INDEX(E_SourceStreams!$A:$N,CT34,O$7)))","v":""},{"$f":"IF($E34=\"\",\"\",IF(INDEX(E_SourceStreams!$A:$N,CU34,P$7)=\"\",\"\",INDEX(E_SourceStreams!$A:$N,CU34,P$7)))","v":""},{"$f":"IF($E34=\"\",\"\",IF(INDEX(E_SourceStreams!$A:$N,CV34,Q$7)=\"\",\"\",INDEX(E_SourceStreams!$A:$N,CV34,Q$7)))","v":""},{"$f":"IF($E34=\"\",\"\",IF(INDEX(E_SourceStreams!$A:$N,CW34,R$7)=\"\",\"\",INDEX(E_SourceStreams!$A:$N,CW34,R$7)))","v":""},{"$f":"IF($E34=\"\",\"\",IF(INDEX(E_SourceStreams!$A:$N,CX34,S$7)=\"\",\"\",INDEX(E_SourceStreams!$A:$N,CX34,S$7)))","v":""},{"$f":"IF($E34=\"\",\"\",IF(INDEX(E_SourceStreams!$A:$N,CY34,T$7)=\"\",\"\",INDEX(E_SourceStreams!$A:$N,CY34,T$7)))","v":""},{"$f":"IF($E34=\"\",\"\",IF(INDEX(E_SourceStreams!$A:$N,CZ34,U$7)=\"\",\"\",INDEX(E_SourceStreams!$A:$N,CZ34,U$7)))","v":""},{"$f":"IF($E34=\"\",\"\",IF(INDEX(E_SourceStreams!$A:$N,DA34,V$7)=\"\",\"\",INDEX(E_SourceStreams!$A:$N,DA34,V$7)))","v":""},{"$f":"IF($E34=\"\",\"\",IF(INDEX(E_SourceStreams!$A:$N,DB34,W$7)=\"\",\"\",INDEX(E_SourceStreams!$A:$N,DB34,W$7)))","v":""},{"$f":"IF($E34=\"\",\"\",IF(INDEX(E_SourceStreams!$A:$N,DC34,X$7)=\"\",\"\",INDEX(E_SourceStreams!$A:$N,DC34,X$7)))","v":""},{"$f":"IF($E34=\"\",\"\",IF(INDEX(E_SourceStreams!$A:$N,DD34,Y$7)=\"\",\"\",INDEX(E_SourceStreams!$A:$N,DD34,Y$7)))","v":""},{"$f":"IF($E34=\"\",\"\",IF(INDEX(E_SourceStreams!$A:$N,DE34,Z$7)=\"\",\"\",INDEX(E_SourceStreams!$A:$N,DE34,Z$7)))","v":""},{"$f":"IF($E34=\"\",\"\",IF(INDEX(E_SourceStreams!$A:$N,DF34,AA$7)=\"\",\"\",INDEX(E_SourceStreams!$A:$N,DF34,AA$7)))","v":""},{"$f":"IF($E34=\"\",\"\",IF(INDEX(E_SourceStreams!$A:$N,DG34,AB$7)=\"\",\"\",INDEX(E_SourceStreams!$A:$N,DG34,AB$7)))","v":""},{"$f":"IF($E34=\"\",\"\",IF(INDEX(E_SourceStreams!$A:$N,DH34,AC$7)=\"\",\"\",INDEX(E_SourceStreams!$A:$N,DH34,AC$7)))","v":""},{"$f":"IF($E34=\"\",\"\",IF(INDEX(E_SourceStreams!$A:$N,DI34,AD$7)=\"\",\"\",INDEX(E_SourceStreams!$A:$N,DI34,AD$7)))","v":""},{"$f":"IF($E34=\"\",\"\",IF(INDEX(E_SourceStreams!$A:$N,DJ34,AE$7)=\"\",\"\",INDEX(E_SourceStreams!$A:$N,DJ34,AE$7)))","v":""},{"$f":"IF($E34=\"\",\"\",IF(INDEX(E_SourceStreams!$A:$N,DK34,AF$7)=\"\",\"\",INDEX(E_SourceStreams!$A:$N,DK34,AF$7)))","v":""},{"$f":"IF($E34=\"\",\"\",IF(INDEX(E_SourceStreams!$A:$N,DL34,AG$7)=\"\",\"\",INDEX(E_SourceStreams!$A:$N,DL34,AG$7)))","v":""},{"$f":"IF($E34=\"\",\"\",IF(INDEX(E_SourceStreams!$A:$N,DM34,AH$7)=\"\",\"\",INDEX(E_SourceStreams!$A:$N,DM34,AH$7)))","v":""},{"$f":"IF($E34=\"\",\"\",IF(INDEX(E_SourceStreams!$A:$N,DN34,AI$7)=\"\",\"\",INDEX(E_SourceStreams!$A:$N,DN34,AI$7)))","v":""},{"$f":"IF($E34=\"\",\"\",IF(INDEX(E_SourceStreams!$A:$N,DO34,AJ$7)=\"\",\"\",INDEX(E_SourceStreams!$A:$N,DO34,AJ$7)))","v":""},{"$f":"IF($E34=\"\",\"\",IF(INDEX(E_SourceStreams!$A:$N,DP34,AK$7)=\"\",\"\",INDEX(E_SourceStreams!$A:$N,DP34,AK$7)))","v":""},{"$f":"IF($E34=\"\",\"\",IF(INDEX(E_SourceStreams!$A:$N,DQ34,AL$7)=\"\",\"\",INDEX(E_SourceStreams!$A:$N,DQ34,AL$7)))","v":""},{"$f":"IF($E34=\"\",\"\",IF(INDEX(E_SourceStreams!$A:$N,DR34,AM$7)=\"\",\"\",INDEX(E_SourceStreams!$A:$N,DR34,AM$7)))","v":""},{"$f":"IF($E34=\"\",\"\",IF(INDEX(E_SourceStreams!$A:$N,DS34,AN$7)=\"\",\"\",INDEX(E_SourceStreams!$A:$N,DS34,AN$7)))","v":""},{"$f":"IF($E34=\"\",\"\",IF(INDEX(E_SourceStreams!$A:$N,DT34,AO$7)=\"\",\"\",INDEX(E_SourceStreams!$A:$N,DT34,AO$7)))","v":""},{"$f":"IF($E34=\"\",\"\",IF(INDEX(E_SourceStreams!$A:$N,DU34,AP$7)=\"\",\"\",INDEX(E_SourceStreams!$A:$N,DU34,AP$7)))","v":""},{"$f":"IF($E34=\"\",\"\",IF(INDEX(E_SourceStreams!$A:$N,DV34,AQ$7)=\"\",\"\",INDEX(E_SourceStreams!$A:$N,DV34,AQ$7)))","v":""},{"$f":"IF($E34=\"\",\"\",IF(INDEX(E_SourceStreams!$A:$N,DW34,AR$7)=\"\",\"\",INDEX(E_SourceStreams!$A:$N,DW34,AR$7)))","v":""},{"$f":"IF($E34=\"\",\"\",IF(INDEX(E_SourceStreams!$A:$N,DX34,AS$7)=\"\",\"\",INDEX(E_SourceStreams!$A:$N,DX34,AS$7)))","v":""},{"$f":"IF($E34=\"\",\"\",IF(INDEX(E_SourceStreams!$A:$N,DY34,AT$7)=\"\",\"\",INDEX(E_SourceStreams!$A:$N,DY34,AT$7)))","v":""},{"$f":"IF($E34=\"\",\"\",IF(INDEX(E_SourceStreams!$A:$N,DZ34,AU$7)=\"\",\"\",INDEX(E_SourceStreams!$A:$N,DZ34,AU$7)))","v":""},{"$f":"IF($E34=\"\",\"\",IF(INDEX(E_SourceStreams!$A:$N,EA34,AV$7)=\"\",\"\",INDEX(E_SourceStreams!$A:$N,EA34,AV$7)))","v":""},{"$f":"IF($E34=\"\",\"\",IF(INDEX(E_SourceStreams!$A:$N,EB34,AW$7)=\"\",\"\",INDEX(E_SourceStreams!$A:$N,EB34,AW$7)))","v":""},{"$f":"IF($E34=\"\",\"\",IF(INDEX(E_SourceStreams!$A:$N,EC34,AX$7)=\"\",\"\",INDEX(E_SourceStreams!$A:$N,EC34,AX$7)))","v":""},{"$f":"IF($E34=\"\",\"\",IF(INDEX(E_SourceStreams!$A:$N,ED34,AY$7)=\"\",\"\",INDEX(E_SourceStreams!$A:$N,ED34,AY$7)))","v":""},{"$f":"IF($E34=\"\",\"\",IF(INDEX(E_SourceStreams!$A:$N,EE34,AZ$7)=\"\",\"\",INDEX(E_SourceStreams!$A:$N,EE34,AZ$7)))","v":""},{"$f":"IF($E34=\"\",\"\",IF(INDEX(E_SourceStreams!$A:$N,EF34,BA$7)=\"\",\"\",INDEX(E_SourceStreams!$A:$N,EF34,BA$7)))","v":""},{"$f":"IF($E34=\"\",\"\",IF(INDEX(E_SourceStreams!$A:$N,EG34,BB$7)=\"\",\"\",INDEX(E_SourceStreams!$A:$N,EG34,BB$7)))","v":""},{"$f":"IF($E34=\"\",\"\",IF(INDEX(E_SourceStreams!$A:$N,EH34,BC$7)=\"\",\"\",INDEX(E_SourceStreams!$A:$N,EH34,BC$7)))","v":""},{"$f":"IF($E34=\"\",\"\",IF(INDEX(E_SourceStreams!$A:$N,EI34,BD$7)=\"\",\"\",INDEX(E_SourceStreams!$A:$N,EI34,BD$7)))","v":""},{"$f":"IF($E34=\"\",\"\",IF(INDEX(E_SourceStreams!$A:$N,EJ34,BE$7)=\"\",\"\",INDEX(E_SourceStreams!$A:$N,EJ34,BE$7)))","v":""},{"$f":"IF($E34=\"\",\"\",IF(INDEX(E_SourceStreams!$A:$N,EK34,BF$7)=\"\",\"\",INDEX(E_SourceStreams!$A:$N,EK34,BF$7)))","v":""},{"$f":"IF($E34=\"\",\"\",IF(INDEX(E_SourceStreams!$A:$N,EL34,BG$7)=\"\",\"\",INDEX(E_SourceStreams!$A:$N,EL34,BG$7)))","v":""},{"$f":"IF($E34=\"\",\"\",IF(INDEX(E_SourceStreams!$A:$N,EM34,BH$7)=\"\",\"\",INDEX(E_SourceStreams!$A:$N,EM34,BH$7)))","v":""},{"$f":"IF($E34=\"\",\"\",IF(INDEX(E_SourceStreams!$A:$N,EN34,BI$7)=\"\",\"\",INDEX(E_SourceStreams!$A:$N,EN34,BI$7)))","v":""},{"$f":"IF($E34=\"\",\"\",IF(INDEX(E_SourceStreams!$A:$N,EO34,BJ$7)=\"\",\"\",INDEX(E_SourceStreams!$A:$N,EO34,BJ$7)))","v":""},{"$f":"IF($E34=\"\",\"\",IF(INDEX(E_SourceStreams!$A:$N,EP34,BK$7)=\"\",\"\",INDEX(E_SourceStreams!$A:$N,EP34,BK$7)))","v":""},{"$f":"IF($E34=\"\",\"\",IF(INDEX(E_SourceStreams!$A:$N,EQ34,BL$7)=\"\",\"\",INDEX(E_SourceStreams!$A:$N,EQ34,BL$7)))","v":""},{"$f":"IF($E34=\"\",\"\",IF(INDEX(E_SourceStreams!$A:$N,ER34,BM$7)=\"\",\"\",INDEX(E_SourceStreams!$A:$N,ER34,BM$7)))","v":""},{"$f":"IF($E34=\"\",\"\",IF(INDEX(E_SourceStreams!$A:$N,ES34,BN$7)=\"\",\"\",INDEX(E_SourceStreams!$A:$N,ES34,BN$7)))","v":""},{"$f":"IF($E34=\"\",\"\",IF(INDEX(E_SourceStreams!$A:$N,ET34,BO$7)=\"\",\"\",INDEX(E_SourceStreams!$A:$N,ET34,BO$7)))","v":""},{"$f":"IF($E34=\"\",\"\",IF(INDEX(E_SourceStreams!$A:$N,EU34,BP$7)=\"\",\"\",INDEX(E_SourceStreams!$A:$N,EU34,BP$7)))","v":""},{"$f":"IF($E34=\"\",\"\",IF(INDEX(E_SourceStreams!$A:$N,EV34,BQ$7)=\"\",\"\",INDEX(E_SourceStreams!$A:$N,EV34,BQ$7)))","v":""},{"$f":"IF($E34=\"\",\"\",IF(INDEX(E_SourceStreams!$A:$N,EW34,BR$7)=\"\",\"\",INDEX(E_SourceStreams!$A:$N,EW34,BR$7)))","v":""},{"$f":"IF($E34=\"\",\"\",IF(INDEX(E_SourceStreams!$A:$N,EX34,BS$7)=\"\",\"\",INDEX(E_SourceStreams!$A:$N,EX34,BS$7)))","v":""},{"$f":"IF($E34=\"\",\"\",IF(INDEX(E_SourceStreams!$A:$N,EY34,BT$7)=\"\",\"\",INDEX(E_SourceStreams!$A:$N,EY34,BT$7)))","v":""},null,null,null,null,null,null,null,null,null,null,null,null,null,null,null,"SourceCategory_",{"$f":"INDEX(C_InstallationDescription!$A$226:$A$332,ROWS($CI$11:CI34))=\"ausblenden\"","v":false},"SourceStreamName_",null,1653,1655,1657,1659,1661,1663,1665,1665,1665,1665,1665,1668,1672,1673,1674,1681,1691,1691,1691,1691,1691,1691,1691,1682,1692,1692,1692,1692,1692,1692,1692,1683,1693,1693,1693,1693,1693,1693,1693,1684,1694,1694,1694,1694,1694,1694,1694,1685,1695,1695,1695,1695,1695,1695,1695,1686,1696,1696,1696,1696,1696,1696,1696,1702]
[null,{"$f":"IF(COUNTIF($CK$10:CK35,TRUE)>0,\"\",INDEX(C_InstallationDescription!$E$226:$E$242,ROWS($A$11:A35)))","v":""},{"$f":"IF($E35=\"\",\"\",INDEX(C_InstallationDescription!F:F,MATCH($B35,C_InstallationDescription!$E:$E,0)))","v":""},{"$f":"IF($E35=\"\",\"\",INDEX(C_InstallationDescription!I:I,MATCH($B35,C_InstallationDescription!$E:$E,0)))","v":""},{"$f":"IF($B35=\"\",\"\",INDEX(C_InstallationDescription!F:F,MATCH($CJ35,C_InstallationDescription!$Q:$Q,0)))","v":""},{"$f":"IF($E35=\"\",\"\",INDEX(C_InstallationDescription!L:L,MATCH($CJ35,C_InstallationDescription!$Q:$Q,0)))","v":""},{"$f":"IF($E35=\"\",\"\",INDEX(C_InstallationDescription!M:M,MATCH($CJ35,C_InstallationDescription!$Q:$Q,0)))","v":""},{"$f":"IF($E35=\"\",\"\",INDEX(C_InstallationDescription!N:N,MATCH($CJ35,C_InstallationDescription!$Q:$Q,0)))","v":""},{"$f":"IF($E35=\"\",\"\",IF(INDEX(E_SourceStreams!$A:$N,CN35,I$7)=\"\",\"\",INDEX(E_SourceStreams!$A:$N,CN35,I$7)))","v":""},{"$f":"IF($E35=\"\",\"\",IF(INDEX(E_SourceStreams!$A:$N,CO35,J$7)=\"\",\"\",INDEX(E_SourceStreams!$A:$N,CO35,J$7)))","v":""},{"$f":"IF($E35=\"\",\"\",IF(INDEX(E_SourceStreams!$A:$N,CP35,K$7)=\"\",\"\",INDEX(E_SourceStreams!$A:$N,CP35,K$7)))","v":""},{"$f":"IF($E35=\"\",\"\",IF(INDEX(E_SourceStreams!$A:$N,CQ35,L$7)=\"\",\"\",INDEX(E_SourceStreams!$A:$N,CQ35,L$7)))","v":""},{"$f":"IF($E35=\"\",\"\",IF(INDEX(E_SourceStreams!$A:$N,CR35,M$7)=\"\",\"\",INDEX(E_SourceStreams!$A:$N,CR35,M$7)))","v":""},{"$f":"IF($E35=\"\",\"\",IF(INDEX(E_SourceStreams!$A:$N,CS35,N$7)=\"\",\"\",INDEX(E_SourceStreams!$A:$N,CS35,N$7)))","v":""},{"$f":"IF($E35=\"\",\"\",IF(INDEX(E_SourceStreams!$A:$N,CT35,O$7)=\"\",\"\",INDEX(E_SourceStreams!$A:$N,CT35,O$7)))","v":""},{"$f":"IF($E35=\"\",\"\",IF(INDEX(E_SourceStreams!$A:$N,CU35,P$7)=\"\",\"\",INDEX(E_SourceStreams!$A:$N,CU35,P$7)))","v":""},{"$f":"IF($E35=\"\",\"\",IF(INDEX(E_SourceStreams!$A:$N,CV35,Q$7)=\"\",\"\",INDEX(E_SourceStreams!$A:$N,CV35,Q$7)))","v":""},{"$f":"IF($E35=\"\",\"\",IF(INDEX(E_SourceStreams!$A:$N,CW35,R$7)=\"\",\"\",INDEX(E_SourceStreams!$A:$N,CW35,R$7)))","v":""},{"$f":"IF($E35=\"\",\"\",IF(INDEX(E_SourceStreams!$A:$N,CX35,S$7)=\"\",\"\",INDEX(E_SourceStreams!$A:$N,CX35,S$7)))","v":""},{"$f":"IF($E35=\"\",\"\",IF(INDEX(E_SourceStreams!$A:$N,CY35,T$7)=\"\",\"\",INDEX(E_SourceStreams!$A:$N,CY35,T$7)))","v":""},{"$f":"IF($E35=\"\",\"\",IF(INDEX(E_SourceStreams!$A:$N,CZ35,U$7)=\"\",\"\",INDEX(E_SourceStreams!$A:$N,CZ35,U$7)))","v":""},{"$f":"IF($E35=\"\",\"\",IF(INDEX(E_SourceStreams!$A:$N,DA35,V$7)=\"\",\"\",INDEX(E_SourceStreams!$A:$N,DA35,V$7)))","v":""},{"$f":"IF($E35=\"\",\"\",IF(INDEX(E_SourceStreams!$A:$N,DB35,W$7)=\"\",\"\",INDEX(E_SourceStreams!$A:$N,DB35,W$7)))","v":""},{"$f":"IF($E35=\"\",\"\",IF(INDEX(E_SourceStreams!$A:$N,DC35,X$7)=\"\",\"\",INDEX(E_SourceStreams!$A:$N,DC35,X$7)))","v":""},{"$f":"IF($E35=\"\",\"\",IF(INDEX(E_SourceStreams!$A:$N,DD35,Y$7)=\"\",\"\",INDEX(E_SourceStreams!$A:$N,DD35,Y$7)))","v":""},{"$f":"IF($E35=\"\",\"\",IF(INDEX(E_SourceStreams!$A:$N,DE35,Z$7)=\"\",\"\",INDEX(E_SourceStreams!$A:$N,DE35,Z$7)))","v":""},{"$f":"IF($E35=\"\",\"\",IF(INDEX(E_SourceStreams!$A:$N,DF35,AA$7)=\"\",\"\",INDEX(E_SourceStreams!$A:$N,DF35,AA$7)))","v":""},{"$f":"IF($E35=\"\",\"\",IF(INDEX(E_SourceStreams!$A:$N,DG35,AB$7)=\"\",\"\",INDEX(E_SourceStreams!$A:$N,DG35,AB$7)))","v":""},{"$f":"IF($E35=\"\",\"\",IF(INDEX(E_SourceStreams!$A:$N,DH35,AC$7)=\"\",\"\",INDEX(E_SourceStreams!$A:$N,DH35,AC$7)))","v":""},{"$f":"IF($E35=\"\",\"\",IF(INDEX(E_SourceStreams!$A:$N,DI35,AD$7)=\"\",\"\",INDEX(E_SourceStreams!$A:$N,DI35,AD$7)))","v":""},{"$f":"IF($E35=\"\",\"\",IF(INDEX(E_SourceStreams!$A:$N,DJ35,AE$7)=\"\",\"\",INDEX(E_SourceStreams!$A:$N,DJ35,AE$7)))","v":""},{"$f":"IF($E35=\"\",\"\",IF(INDEX(E_SourceStreams!$A:$N,DK35,AF$7)=\"\",\"\",INDEX(E_SourceStreams!$A:$N,DK35,AF$7)))","v":""},{"$f":"IF($E35=\"\",\"\",IF(INDEX(E_SourceStreams!$A:$N,DL35,AG$7)=\"\",\"\",INDEX(E_SourceStreams!$A:$N,DL35,AG$7)))","v":""},{"$f":"IF($E35=\"\",\"\",IF(INDEX(E_SourceStreams!$A:$N,DM35,AH$7)=\"\",\"\",INDEX(E_SourceStreams!$A:$N,DM35,AH$7)))","v":""},{"$f":"IF($E35=\"\",\"\",IF(INDEX(E_SourceStreams!$A:$N,DN35,AI$7)=\"\",\"\",INDEX(E_SourceStreams!$A:$N,DN35,AI$7)))","v":""},{"$f":"IF($E35=\"\",\"\",IF(INDEX(E_SourceStreams!$A:$N,DO35,AJ$7)=\"\",\"\",INDEX(E_SourceStreams!$A:$N,DO35,AJ$7)))","v":""},{"$f":"IF($E35=\"\",\"\",IF(INDEX(E_SourceStreams!$A:$N,DP35,AK$7)=\"\",\"\",INDEX(E_SourceStreams!$A:$N,DP35,AK$7)))","v":""},{"$f":"IF($E35=\"\",\"\",IF(INDEX(E_SourceStreams!$A:$N,DQ35,AL$7)=\"\",\"\",INDEX(E_SourceStreams!$A:$N,DQ35,AL$7)))","v":""},{"$f":"IF($E35=\"\",\"\",IF(INDEX(E_SourceStreams!$A:$N,DR35,AM$7)=\"\",\"\",INDEX(E_SourceStreams!$A:$N,DR35,AM$7)))","v":""},{"$f":"IF($E35=\"\",\"\",IF(INDEX(E_SourceStreams!$A:$N,DS35,AN$7)=\"\",\"\",INDEX(E_SourceStreams!$A:$N,DS35,AN$7)))","v":""},{"$f":"IF($E35=\"\",\"\",IF(INDEX(E_SourceStreams!$A:$N,DT35,AO$7)=\"\",\"\",INDEX(E_SourceStreams!$A:$N,DT35,AO$7)))","v":""},{"$f":"IF($E35=\"\",\"\",IF(INDEX(E_SourceStreams!$A:$N,DU35,AP$7)=\"\",\"\",INDEX(E_SourceStreams!$A:$N,DU35,AP$7)))","v":""},{"$f":"IF($E35=\"\",\"\",IF(INDEX(E_SourceStreams!$A:$N,DV35,AQ$7)=\"\",\"\",INDEX(E_SourceStreams!$A:$N,DV35,AQ$7)))","v":""},{"$f":"IF($E35=\"\",\"\",IF(INDEX(E_SourceStreams!$A:$N,DW35,AR$7)=\"\",\"\",INDEX(E_SourceStreams!$A:$N,DW35,AR$7)))","v":""},{"$f":"IF($E35=\"\",\"\",IF(INDEX(E_SourceStreams!$A:$N,DX35,AS$7)=\"\",\"\",INDEX(E_SourceStreams!$A:$N,DX35,AS$7)))","v":""},{"$f":"IF($E35=\"\",\"\",IF(INDEX(E_SourceStreams!$A:$N,DY35,AT$7)=\"\",\"\",INDEX(E_SourceStreams!$A:$N,DY35,AT$7)))","v":""},{"$f":"IF($E35=\"\",\"\",IF(INDEX(E_SourceStreams!$A:$N,DZ35,AU$7)=\"\",\"\",INDEX(E_SourceStreams!$A:$N,DZ35,AU$7)))","v":""},{"$f":"IF($E35=\"\",\"\",IF(INDEX(E_SourceStreams!$A:$N,EA35,AV$7)=\"\",\"\",INDEX(E_SourceStreams!$A:$N,EA35,AV$7)))","v":""},{"$f":"IF($E35=\"\",\"\",IF(INDEX(E_SourceStreams!$A:$N,EB35,AW$7)=\"\",\"\",INDEX(E_SourceStreams!$A:$N,EB35,AW$7)))","v":""},{"$f":"IF($E35=\"\",\"\",IF(INDEX(E_SourceStreams!$A:$N,EC35,AX$7)=\"\",\"\",INDEX(E_SourceStreams!$A:$N,EC35,AX$7)))","v":""},{"$f":"IF($E35=\"\",\"\",IF(INDEX(E_SourceStreams!$A:$N,ED35,AY$7)=\"\",\"\",INDEX(E_SourceStreams!$A:$N,ED35,AY$7)))","v":""},{"$f":"IF($E35=\"\",\"\",IF(INDEX(E_SourceStreams!$A:$N,EE35,AZ$7)=\"\",\"\",INDEX(E_SourceStreams!$A:$N,EE35,AZ$7)))","v":""},{"$f":"IF($E35=\"\",\"\",IF(INDEX(E_SourceStreams!$A:$N,EF35,BA$7)=\"\",\"\",INDEX(E_SourceStreams!$A:$N,EF35,BA$7)))","v":""},{"$f":"IF($E35=\"\",\"\",IF(INDEX(E_SourceStreams!$A:$N,EG35,BB$7)=\"\",\"\",INDEX(E_SourceStreams!$A:$N,EG35,BB$7)))","v":""},{"$f":"IF($E35=\"\",\"\",IF(INDEX(E_SourceStreams!$A:$N,EH35,BC$7)=\"\",\"\",INDEX(E_SourceStreams!$A:$N,EH35,BC$7)))","v":""},{"$f":"IF($E35=\"\",\"\",IF(INDEX(E_SourceStreams!$A:$N,EI35,BD$7)=\"\",\"\",INDEX(E_SourceStreams!$A:$N,EI35,BD$7)))","v":""},{"$f":"IF($E35=\"\",\"\",IF(INDEX(E_SourceStreams!$A:$N,EJ35,BE$7)=\"\",\"\",INDEX(E_SourceStreams!$A:$N,EJ35,BE$7)))","v":""},{"$f":"IF($E35=\"\",\"\",IF(INDEX(E_SourceStreams!$A:$N,EK35,BF$7)=\"\",\"\",INDEX(E_SourceStreams!$A:$N,EK35,BF$7)))","v":""},{"$f":"IF($E35=\"\",\"\",IF(INDEX(E_SourceStreams!$A:$N,EL35,BG$7)=\"\",\"\",INDEX(E_SourceStreams!$A:$N,EL35,BG$7)))","v":""},{"$f":"IF($E35=\"\",\"\",IF(INDEX(E_SourceStreams!$A:$N,EM35,BH$7)=\"\",\"\",INDEX(E_SourceStreams!$A:$N,EM35,BH$7)))","v":""},{"$f":"IF($E35=\"\",\"\",IF(INDEX(E_SourceStreams!$A:$N,EN35,BI$7)=\"\",\"\",INDEX(E_SourceStreams!$A:$N,EN35,BI$7)))","v":""},{"$f":"IF($E35=\"\",\"\",IF(INDEX(E_SourceStreams!$A:$N,EO35,BJ$7)=\"\",\"\",INDEX(E_SourceStreams!$A:$N,EO35,BJ$7)))","v":""},{"$f":"IF($E35=\"\",\"\",IF(INDEX(E_SourceStreams!$A:$N,EP35,BK$7)=\"\",\"\",INDEX(E_SourceStreams!$A:$N,EP35,BK$7)))","v":""},{"$f":"IF($E35=\"\",\"\",IF(INDEX(E_SourceStreams!$A:$N,EQ35,BL$7)=\"\",\"\",INDEX(E_SourceStreams!$A:$N,EQ35,BL$7)))","v":""},{"$f":"IF($E35=\"\",\"\",IF(INDEX(E_SourceStreams!$A:$N,ER35,BM$7)=\"\",\"\",INDEX(E_SourceStreams!$A:$N,ER35,BM$7)))","v":""},{"$f":"IF($E35=\"\",\"\",IF(INDEX(E_SourceStreams!$A:$N,ES35,BN$7)=\"\",\"\",INDEX(E_SourceStreams!$A:$N,ES35,BN$7)))","v":""},{"$f":"IF($E35=\"\",\"\",IF(INDEX(E_SourceStreams!$A:$N,ET35,BO$7)=\"\",\"\",INDEX(E_SourceStreams!$A:$N,ET35,BO$7)))","v":""},{"$f":"IF($E35=\"\",\"\",IF(INDEX(E_SourceStreams!$A:$N,EU35,BP$7)=\"\",\"\",INDEX(E_SourceStreams!$A:$N,EU35,BP$7)))","v":""},{"$f":"IF($E35=\"\",\"\",IF(INDEX(E_SourceStreams!$A:$N,EV35,BQ$7)=\"\",\"\",INDEX(E_SourceStreams!$A:$N,EV35,BQ$7)))","v":""},{"$f":"IF($E35=\"\",\"\",IF(INDEX(E_SourceStreams!$A:$N,EW35,BR$7)=\"\",\"\",INDEX(E_SourceStreams!$A:$N,EW35,BR$7)))","v":""},{"$f":"IF($E35=\"\",\"\",IF(INDEX(E_SourceStreams!$A:$N,EX35,BS$7)=\"\",\"\",INDEX(E_SourceStreams!$A:$N,EX35,BS$7)))","v":""},{"$f":"IF($E35=\"\",\"\",IF(INDEX(E_SourceStreams!$A:$N,EY35,BT$7)=\"\",\"\",INDEX(E_SourceStreams!$A:$N,EY35,BT$7)))","v":""},null,null,null,null,null,null,null,null,null,null,null,null,null,null,null,"SourceCategory_",{"$f":"INDEX(C_InstallationDescription!$A$226:$A$332,ROWS($CI$11:CI35))=\"ausblenden\"","v":false},"SourceStreamName_",null,1719,1721,1723,1725,1727,1729,1731,1731,1731,1731,1731,1734,1738,1739,1740,1747,1757,1757,1757,1757,1757,1757,1757,1748,1758,1758,1758,1758,1758,1758,1758,1749,1759,1759,1759,1759,1759,1759,1759,1750,1760,1760,1760,1760,1760,1760,1760,1751,1761,1761,1761,1761,1761,1761,1761,1752,1762,1762,1762,1762,1762,1762,1762,1768]
[null,{"$f":"IF(COUNTIF($CK$10:CK36,TRUE)>0,\"\",INDEX(C_InstallationDescription!$E$226:$E$242,ROWS($A$11:A36)))","v":""},{"$f":"IF($E36=\"\",\"\",INDEX(C_InstallationDescription!F:F,MATCH($B36,C_InstallationDescription!$E:$E,0)))","v":""},{"$f":"IF($E36=\"\",\"\",INDEX(C_InstallationDescription!I:I,MATCH($B36,C_InstallationDescription!$E:$E,0)))","v":""},{"$f":"IF($B36=\"\",\"\",INDEX(C_InstallationDescription!F:F,MATCH($CJ36,C_InstallationDescription!$Q:$Q,0)))","v":""},{"$f":"IF($E36=\"\",\"\",INDEX(C_InstallationDescription!L:L,MATCH($CJ36,C_InstallationDescription!$Q:$Q,0)))","v":""},{"$f":"IF($E36=\"\",\"\",INDEX(C_InstallationDescription!M:M,MATCH($CJ36,C_InstallationDescription!$Q:$Q,0)))","v":""},{"$f":"IF($E36=\"\",\"\",INDEX(C_InstallationDescription!N:N,MATCH($CJ36,C_InstallationDescription!$Q:$Q,0)))","v":""},{"$f":"IF($E36=\"\",\"\",IF(INDEX(E_SourceStreams!$A:$N,CN36,I$7)=\"\",\"\",INDEX(E_SourceStreams!$A:$N,CN36,I$7)))","v":""},{"$f":"IF($E36=\"\",\"\",IF(INDEX(E_SourceStreams!$A:$N,CO36,J$7)=\"\",\"\",INDEX(E_SourceStreams!$A:$N,CO36,J$7)))","v":""},{"$f":"IF($E36=\"\",\"\",IF(INDEX(E_SourceStreams!$A:$N,CP36,K$7)=\"\",\"\",INDEX(E_SourceStreams!$A:$N,CP36,K$7)))","v":""},{"$f":"IF($E36=\"\",\"\",IF(INDEX(E_SourceStreams!$A:$N,CQ36,L$7)=\"\",\"\",INDEX(E_SourceStreams!$A:$N,CQ36,L$7)))","v":""},{"$f":"IF($E36=\"\",\"\",IF(INDEX(E_SourceStreams!$A:$N,CR36,M$7)=\"\",\"\",INDEX(E_SourceStreams!$A:$N,CR36,M$7)))","v":""},{"$f":"IF($E36=\"\",\"\",IF(INDEX(E_SourceStreams!$A:$N,CS36,N$7)=\"\",\"\",INDEX(E_SourceStreams!$A:$N,CS36,N$7)))","v":""},{"$f":"IF($E36=\"\",\"\",IF(INDEX(E_SourceStreams!$A:$N,CT36,O$7)=\"\",\"\",INDEX(E_SourceStreams!$A:$N,CT36,O$7)))","v":""},{"$f":"IF($E36=\"\",\"\",IF(INDEX(E_SourceStreams!$A:$N,CU36,P$7)=\"\",\"\",INDEX(E_SourceStreams!$A:$N,CU36,P$7)))","v":""},{"$f":"IF($E36=\"\",\"\",IF(INDEX(E_SourceStreams!$A:$N,CV36,Q$7)=\"\",\"\",INDEX(E_SourceStreams!$A:$N,CV36,Q$7)))","v":""},{"$f":"IF($E36=\"\",\"\",IF(INDEX(E_SourceStreams!$A:$N,CW36,R$7)=\"\",\"\",INDEX(E_SourceStreams!$A:$N,CW36,R$7)))","v":""},{"$f":"IF($E36=\"\",\"\",IF(INDEX(E_SourceStreams!$A:$N,CX36,S$7)=\"\",\"\",INDEX(E_SourceStreams!$A:$N,CX36,S$7)))","v":""},{"$f":"IF($E36=\"\",\"\",IF(INDEX(E_SourceStreams!$A:$N,CY36,T$7)=\"\",\"\",INDEX(E_SourceStreams!$A:$N,CY36,T$7)))","v":""},{"$f":"IF($E36=\"\",\"\",IF(INDEX(E_SourceStreams!$A:$N,CZ36,U$7)=\"\",\"\",INDEX(E_SourceStreams!$A:$N,CZ36,U$7)))","v":""},{"$f":"IF($E36=\"\",\"\",IF(INDEX(E_SourceStreams!$A:$N,DA36,V$7)=\"\",\"\",INDEX(E_SourceStreams!$A:$N,DA36,V$7)))","v":""},{"$f":"IF($E36=\"\",\"\",IF(INDEX(E_SourceStreams!$A:$N,DB36,W$7)=\"\",\"\",INDEX(E_SourceStreams!$A:$N,DB36,W$7)))","v":""},{"$f":"IF($E36=\"\",\"\",IF(INDEX(E_SourceStreams!$A:$N,DC36,X$7)=\"\",\"\",INDEX(E_SourceStreams!$A:$N,DC36,X$7)))","v":""},{"$f":"IF($E36=\"\",\"\",IF(INDEX(E_SourceStreams!$A:$N,DD36,Y$7)=\"\",\"\",INDEX(E_SourceStreams!$A:$N,DD36,Y$7)))","v":""},{"$f":"IF($E36=\"\",\"\",IF(INDEX(E_SourceStreams!$A:$N,DE36,Z$7)=\"\",\"\",INDEX(E_SourceStreams!$A:$N,DE36,Z$7)))","v":""},{"$f":"IF($E36=\"\",\"\",IF(INDEX(E_SourceStreams!$A:$N,DF36,AA$7)=\"\",\"\",INDEX(E_SourceStreams!$A:$N,DF36,AA$7)))","v":""},{"$f":"IF($E36=\"\",\"\",IF(INDEX(E_SourceStreams!$A:$N,DG36,AB$7)=\"\",\"\",INDEX(E_SourceStreams!$A:$N,DG36,AB$7)))","v":""},{"$f":"IF($E36=\"\",\"\",IF(INDEX(E_SourceStreams!$A:$N,DH36,AC$7)=\"\",\"\",INDEX(E_SourceStreams!$A:$N,DH36,AC$7)))","v":""},{"$f":"IF($E36=\"\",\"\",IF(INDEX(E_SourceStreams!$A:$N,DI36,AD$7)=\"\",\"\",INDEX(E_SourceStreams!$A:$N,DI36,AD$7)))","v":""},{"$f":"IF($E36=\"\",\"\",IF(INDEX(E_SourceStreams!$A:$N,DJ36,AE$7)=\"\",\"\",INDEX(E_SourceStreams!$A:$N,DJ36,AE$7)))","v":""},{"$f":"IF($E36=\"\",\"\",IF(INDEX(E_SourceStreams!$A:$N,DK36,AF$7)=\"\",\"\",INDEX(E_SourceStreams!$A:$N,DK36,AF$7)))","v":""},{"$f":"IF($E36=\"\",\"\",IF(INDEX(E_SourceStreams!$A:$N,DL36,AG$7)=\"\",\"\",INDEX(E_SourceStreams!$A:$N,DL36,AG$7)))","v":""},{"$f":"IF($E36=\"\",\"\",IF(INDEX(E_SourceStreams!$A:$N,DM36,AH$7)=\"\",\"\",INDEX(E_SourceStreams!$A:$N,DM36,AH$7)))","v":""},{"$f":"IF($E36=\"\",\"\",IF(INDEX(E_SourceStreams!$A:$N,DN36,AI$7)=\"\",\"\",INDEX(E_SourceStreams!$A:$N,DN36,AI$7)))","v":""},{"$f":"IF($E36=\"\",\"\",IF(INDEX(E_SourceStreams!$A:$N,DO36,AJ$7)=\"\",\"\",INDEX(E_SourceStreams!$A:$N,DO36,AJ$7)))","v":""},{"$f":"IF($E36=\"\",\"\",IF(INDEX(E_SourceStreams!$A:$N,DP36,AK$7)=\"\",\"\",INDEX(E_SourceStreams!$A:$N,DP36,AK$7)))","v":""},{"$f":"IF($E36=\"\",\"\",IF(INDEX(E_SourceStreams!$A:$N,DQ36,AL$7)=\"\",\"\",INDEX(E_SourceStreams!$A:$N,DQ36,AL$7)))","v":""},{"$f":"IF($E36=\"\",\"\",IF(INDEX(E_SourceStreams!$A:$N,DR36,AM$7)=\"\",\"\",INDEX(E_SourceStreams!$A:$N,DR36,AM$7)))","v":""},{"$f":"IF($E36=\"\",\"\",IF(INDEX(E_SourceStreams!$A:$N,DS36,AN$7)=\"\",\"\",INDEX(E_SourceStreams!$A:$N,DS36,AN$7)))","v":""},{"$f":"IF($E36=\"\",\"\",IF(INDEX(E_SourceStreams!$A:$N,DT36,AO$7)=\"\",\"\",INDEX(E_SourceStreams!$A:$N,DT36,AO$7)))","v":""},{"$f":"IF($E36=\"\",\"\",IF(INDEX(E_SourceStreams!$A:$N,DU36,AP$7)=\"\",\"\",INDEX(E_SourceStreams!$A:$N,DU36,AP$7)))","v":""},{"$f":"IF($E36=\"\",\"\",IF(INDEX(E_SourceStreams!$A:$N,DV36,AQ$7)=\"\",\"\",INDEX(E_SourceStreams!$A:$N,DV36,AQ$7)))","v":""},{"$f":"IF($E36=\"\",\"\",IF(INDEX(E_SourceStreams!$A:$N,DW36,AR$7)=\"\",\"\",INDEX(E_SourceStreams!$A:$N,DW36,AR$7)))","v":""},{"$f":"IF($E36=\"\",\"\",IF(INDEX(E_SourceStreams!$A:$N,DX36,AS$7)=\"\",\"\",INDEX(E_SourceStreams!$A:$N,DX36,AS$7)))","v":""},{"$f":"IF($E36=\"\",\"\",IF(INDEX(E_SourceStreams!$A:$N,DY36,AT$7)=\"\",\"\",INDEX(E_SourceStreams!$A:$N,DY36,AT$7)))","v":""},{"$f":"IF($E36=\"\",\"\",IF(INDEX(E_SourceStreams!$A:$N,DZ36,AU$7)=\"\",\"\",INDEX(E_SourceStreams!$A:$N,DZ36,AU$7)))","v":""},{"$f":"IF($E36=\"\",\"\",IF(INDEX(E_SourceStreams!$A:$N,EA36,AV$7)=\"\",\"\",INDEX(E_SourceStreams!$A:$N,EA36,AV$7)))","v":""},{"$f":"IF($E36=\"\",\"\",IF(INDEX(E_SourceStreams!$A:$N,EB36,AW$7)=\"\",\"\",INDEX(E_SourceStreams!$A:$N,EB36,AW$7)))","v":""},{"$f":"IF($E36=\"\",\"\",IF(INDEX(E_SourceStreams!$A:$N,EC36,AX$7)=\"\",\"\",INDEX(E_SourceStreams!$A:$N,EC36,AX$7)))","v":""},{"$f":"IF($E36=\"\",\"\",IF(INDEX(E_SourceStreams!$A:$N,ED36,AY$7)=\"\",\"\",INDEX(E_SourceStreams!$A:$N,ED36,AY$7)))","v":""},{"$f":"IF($E36=\"\",\"\",IF(INDEX(E_SourceStreams!$A:$N,EE36,AZ$7)=\"\",\"\",INDEX(E_SourceStreams!$A:$N,EE36,AZ$7)))","v":""},{"$f":"IF($E36=\"\",\"\",IF(INDEX(E_SourceStreams!$A:$N,EF36,BA$7)=\"\",\"\",INDEX(E_SourceStreams!$A:$N,EF36,BA$7)))","v":""},{"$f":"IF($E36=\"\",\"\",IF(INDEX(E_SourceStreams!$A:$N,EG36,BB$7)=\"\",\"\",INDEX(E_SourceStreams!$A:$N,EG36,BB$7)))","v":""},{"$f":"IF($E36=\"\",\"\",IF(INDEX(E_SourceStreams!$A:$N,EH36,BC$7)=\"\",\"\",INDEX(E_SourceStreams!$A:$N,EH36,BC$7)))","v":""},{"$f":"IF($E36=\"\",\"\",IF(INDEX(E_SourceStreams!$A:$N,EI36,BD$7)=\"\",\"\",INDEX(E_SourceStreams!$A:$N,EI36,BD$7)))","v":""},{"$f":"IF($E36=\"\",\"\",IF(INDEX(E_SourceStreams!$A:$N,EJ36,BE$7)=\"\",\"\",INDEX(E_SourceStreams!$A:$N,EJ36,BE$7)))","v":""},{"$f":"IF($E36=\"\",\"\",IF(INDEX(E_SourceStreams!$A:$N,EK36,BF$7)=\"\",\"\",INDEX(E_SourceStreams!$A:$N,EK36,BF$7)))","v":""},{"$f":"IF($E36=\"\",\"\",IF(INDEX(E_SourceStreams!$A:$N,EL36,BG$7)=\"\",\"\",INDEX(E_SourceStreams!$A:$N,EL36,BG$7)))","v":""},{"$f":"IF($E36=\"\",\"\",IF(INDEX(E_SourceStreams!$A:$N,EM36,BH$7)=\"\",\"\",INDEX(E_SourceStreams!$A:$N,EM36,BH$7)))","v":""},{"$f":"IF($E36=\"\",\"\",IF(INDEX(E_SourceStreams!$A:$N,EN36,BI$7)=\"\",\"\",INDEX(E_SourceStreams!$A:$N,EN36,BI$7)))","v":""},{"$f":"IF($E36=\"\",\"\",IF(INDEX(E_SourceStreams!$A:$N,EO36,BJ$7)=\"\",\"\",INDEX(E_SourceStreams!$A:$N,EO36,BJ$7)))","v":""},{"$f":"IF($E36=\"\",\"\",IF(INDEX(E_SourceStreams!$A:$N,EP36,BK$7)=\"\",\"\",INDEX(E_SourceStreams!$A:$N,EP36,BK$7)))","v":""},{"$f":"IF($E36=\"\",\"\",IF(INDEX(E_SourceStreams!$A:$N,EQ36,BL$7)=\"\",\"\",INDEX(E_SourceStreams!$A:$N,EQ36,BL$7)))","v":""},{"$f":"IF($E36=\"\",\"\",IF(INDEX(E_SourceStreams!$A:$N,ER36,BM$7)=\"\",\"\",INDEX(E_SourceStreams!$A:$N,ER36,BM$7)))","v":""},{"$f":"IF($E36=\"\",\"\",IF(INDEX(E_SourceStreams!$A:$N,ES36,BN$7)=\"\",\"\",INDEX(E_SourceStreams!$A:$N,ES36,BN$7)))","v":""},{"$f":"IF($E36=\"\",\"\",IF(INDEX(E_SourceStreams!$A:$N,ET36,BO$7)=\"\",\"\",INDEX(E_SourceStreams!$A:$N,ET36,BO$7)))","v":""},{"$f":"IF($E36=\"\",\"\",IF(INDEX(E_SourceStreams!$A:$N,EU36,BP$7)=\"\",\"\",INDEX(E_SourceStreams!$A:$N,EU36,BP$7)))","v":""},{"$f":"IF($E36=\"\",\"\",IF(INDEX(E_SourceStreams!$A:$N,EV36,BQ$7)=\"\",\"\",INDEX(E_SourceStreams!$A:$N,EV36,BQ$7)))","v":""},{"$f":"IF($E36=\"\",\"\",IF(INDEX(E_SourceStreams!$A:$N,EW36,BR$7)=\"\",\"\",INDEX(E_SourceStreams!$A:$N,EW36,BR$7)))","v":""},{"$f":"IF($E36=\"\",\"\",IF(INDEX(E_SourceStreams!$A:$N,EX36,BS$7)=\"\",\"\",INDEX(E_SourceStreams!$A:$N,EX36,BS$7)))","v":""},{"$f":"IF($E36=\"\",\"\",IF(INDEX(E_SourceStreams!$A:$N,EY36,BT$7)=\"\",\"\",INDEX(E_SourceStreams!$A:$N,EY36,BT$7)))","v":""},null,null,null,null,null,null,null,null,null,null,null,null,null,null,null,"SourceCategory_",{"$f":"INDEX(C_InstallationDescription!$A$226:$A$332,ROWS($CI$11:CI36))=\"ausblenden\"","v":false},"SourceStreamName_",null,1785,1787,1789,1791,1793,1795,1797,1797,1797,1797,1797,1800,1804,1805,1806,1813,1823,1823,1823,1823,1823,1823,1823,1814,1824,1824,1824,1824,1824,1824,1824,1815,1825,1825,1825,1825,1825,1825,1825,1816,1826,1826,1826,1826,1826,1826,1826,1817,1827,1827,1827,1827,1827,1827,1827,1818,1828,1828,1828,1828,1828,1828,1828,1834]
[null,{"$f":"IF(COUNTIF($CK$10:CK37,TRUE)>0,\"\",INDEX(C_InstallationDescription!$E$226:$E$242,ROWS($A$11:A37)))","v":""},{"$f":"IF($E37=\"\",\"\",INDEX(C_InstallationDescription!F:F,MATCH($B37,C_InstallationDescription!$E:$E,0)))","v":""},{"$f":"IF($E37=\"\",\"\",INDEX(C_InstallationDescription!I:I,MATCH($B37,C_InstallationDescription!$E:$E,0)))","v":""},{"$f":"IF($B37=\"\",\"\",INDEX(C_InstallationDescription!F:F,MATCH($CJ37,C_InstallationDescription!$Q:$Q,0)))","v":""},{"$f":"IF($E37=\"\",\"\",INDEX(C_InstallationDescription!L:L,MATCH($CJ37,C_InstallationDescription!$Q:$Q,0)))","v":""},{"$f":"IF($E37=\"\",\"\",INDEX(C_InstallationDescription!M:M,MATCH($CJ37,C_InstallationDescription!$Q:$Q,0)))","v":""},{"$f":"IF($E37=\"\",\"\",INDEX(C_InstallationDescription!N:N,MATCH($CJ37,C_InstallationDescription!$Q:$Q,0)))","v":""},{"$f":"IF($E37=\"\",\"\",IF(INDEX(E_SourceStreams!$A:$N,CN37,I$7)=\"\",\"\",INDEX(E_SourceStreams!$A:$N,CN37,I$7)))","v":""},{"$f":"IF($E37=\"\",\"\",IF(INDEX(E_SourceStreams!$A:$N,CO37,J$7)=\"\",\"\",INDEX(E_SourceStreams!$A:$N,CO37,J$7)))","v":""},{"$f":"IF($E37=\"\",\"\",IF(INDEX(E_SourceStreams!$A:$N,CP37,K$7)=\"\",\"\",INDEX(E_SourceStreams!$A:$N,CP37,K$7)))","v":""},{"$f":"IF($E37=\"\",\"\",IF(INDEX(E_SourceStreams!$A:$N,CQ37,L$7)=\"\",\"\",INDEX(E_SourceStreams!$A:$N,CQ37,L$7)))","v":""},{"$f":"IF($E37=\"\",\"\",IF(INDEX(E_SourceStreams!$A:$N,CR37,M$7)=\"\",\"\",INDEX(E_SourceStreams!$A:$N,CR37,M$7)))","v":""},{"$f":"IF($E37=\"\",\"\",IF(INDEX(E_SourceStreams!$A:$N,CS37,N$7)=\"\",\"\",INDEX(E_SourceStreams!$A:$N,CS37,N$7)))","v":""},{"$f":"IF($E37=\"\",\"\",IF(INDEX(E_SourceStreams!$A:$N,CT37,O$7)=\"\",\"\",INDEX(E_SourceStreams!$A:$N,CT37,O$7)))","v":""},{"$f":"IF($E37=\"\",\"\",IF(INDEX(E_SourceStreams!$A:$N,CU37,P$7)=\"\",\"\",INDEX(E_SourceStreams!$A:$N,CU37,P$7)))","v":""},{"$f":"IF($E37=\"\",\"\",IF(INDEX(E_SourceStreams!$A:$N,CV37,Q$7)=\"\",\"\",INDEX(E_SourceStreams!$A:$N,CV37,Q$7)))","v":""},{"$f":"IF($E37=\"\",\"\",IF(INDEX(E_SourceStreams!$A:$N,CW37,R$7)=\"\",\"\",INDEX(E_SourceStreams!$A:$N,CW37,R$7)))","v":""},{"$f":"IF($E37=\"\",\"\",IF(INDEX(E_SourceStreams!$A:$N,CX37,S$7)=\"\",\"\",INDEX(E_SourceStreams!$A:$N,CX37,S$7)))","v":""},{"$f":"IF($E37=\"\",\"\",IF(INDEX(E_SourceStreams!$A:$N,CY37,T$7)=\"\",\"\",INDEX(E_SourceStreams!$A:$N,CY37,T$7)))","v":""},{"$f":"IF($E37=\"\",\"\",IF(INDEX(E_SourceStreams!$A:$N,CZ37,U$7)=\"\",\"\",INDEX(E_SourceStreams!$A:$N,CZ37,U$7)))","v":""},{"$f":"IF($E37=\"\",\"\",IF(INDEX(E_SourceStreams!$A:$N,DA37,V$7)=\"\",\"\",INDEX(E_SourceStreams!$A:$N,DA37,V$7)))","v":""},{"$f":"IF($E37=\"\",\"\",IF(INDEX(E_SourceStreams!$A:$N,DB37,W$7)=\"\",\"\",INDEX(E_SourceStreams!$A:$N,DB37,W$7)))","v":""},{"$f":"IF($E37=\"\",\"\",IF(INDEX(E_SourceStreams!$A:$N,DC37,X$7)=\"\",\"\",INDEX(E_SourceStreams!$A:$N,DC37,X$7)))","v":""},{"$f":"IF($E37=\"\",\"\",IF(INDEX(E_SourceStreams!$A:$N,DD37,Y$7)=\"\",\"\",INDEX(E_SourceStreams!$A:$N,DD37,Y$7)))","v":""},{"$f":"IF($E37=\"\",\"\",IF(INDEX(E_SourceStreams!$A:$N,DE37,Z$7)=\"\",\"\",INDEX(E_SourceStreams!$A:$N,DE37,Z$7)))","v":""},{"$f":"IF($E37=\"\",\"\",IF(INDEX(E_SourceStreams!$A:$N,DF37,AA$7)=\"\",\"\",INDEX(E_SourceStreams!$A:$N,DF37,AA$7)))","v":""},{"$f":"IF($E37=\"\",\"\",IF(INDEX(E_SourceStreams!$A:$N,DG37,AB$7)=\"\",\"\",INDEX(E_SourceStreams!$A:$N,DG37,AB$7)))","v":""},{"$f":"IF($E37=\"\",\"\",IF(INDEX(E_SourceStreams!$A:$N,DH37,AC$7)=\"\",\"\",INDEX(E_SourceStreams!$A:$N,DH37,AC$7)))","v":""},{"$f":"IF($E37=\"\",\"\",IF(INDEX(E_SourceStreams!$A:$N,DI37,AD$7)=\"\",\"\",INDEX(E_SourceStreams!$A:$N,DI37,AD$7)))","v":""},{"$f":"IF($E37=\"\",\"\",IF(INDEX(E_SourceStreams!$A:$N,DJ37,AE$7)=\"\",\"\",INDEX(E_SourceStreams!$A:$N,DJ37,AE$7)))","v":""},{"$f":"IF($E37=\"\",\"\",IF(INDEX(E_SourceStreams!$A:$N,DK37,AF$7)=\"\",\"\",INDEX(E_SourceStreams!$A:$N,DK37,AF$7)))","v":""},{"$f":"IF($E37=\"\",\"\",IF(INDEX(E_SourceStreams!$A:$N,DL37,AG$7)=\"\",\"\",INDEX(E_SourceStreams!$A:$N,DL37,AG$7)))","v":""},{"$f":"IF($E37=\"\",\"\",IF(INDEX(E_SourceStreams!$A:$N,DM37,AH$7)=\"\",\"\",INDEX(E_SourceStreams!$A:$N,DM37,AH$7)))","v":""},{"$f":"IF($E37=\"\",\"\",IF(INDEX(E_SourceStreams!$A:$N,DN37,AI$7)=\"\",\"\",INDEX(E_SourceStreams!$A:$N,DN37,AI$7)))","v":""},{"$f":"IF($E37=\"\",\"\",IF(INDEX(E_SourceStreams!$A:$N,DO37,AJ$7)=\"\",\"\",INDEX(E_SourceStreams!$A:$N,DO37,AJ$7)))","v":""},{"$f":"IF($E37=\"\",\"\",IF(INDEX(E_SourceStreams!$A:$N,DP37,AK$7)=\"\",\"\",INDEX(E_SourceStreams!$A:$N,DP37,AK$7)))","v":""},{"$f":"IF($E37=\"\",\"\",IF(INDEX(E_SourceStreams!$A:$N,DQ37,AL$7)=\"\",\"\",INDEX(E_SourceStreams!$A:$N,DQ37,AL$7)))","v":""},{"$f":"IF($E37=\"\",\"\",IF(INDEX(E_SourceStreams!$A:$N,DR37,AM$7)=\"\",\"\",INDEX(E_SourceStreams!$A:$N,DR37,AM$7)))","v":""},{"$f":"IF($E37=\"\",\"\",IF(INDEX(E_SourceStreams!$A:$N,DS37,AN$7)=\"\",\"\",INDEX(E_SourceStreams!$A:$N,DS37,AN$7)))","v":""},{"$f":"IF($E37=\"\",\"\",IF(INDEX(E_SourceStreams!$A:$N,DT37,AO$7)=\"\",\"\",INDEX(E_SourceStreams!$A:$N,DT37,AO$7)))","v":""},{"$f":"IF($E37=\"\",\"\",IF(INDEX(E_SourceStreams!$A:$N,DU37,AP$7)=\"\",\"\",INDEX(E_SourceStreams!$A:$N,DU37,AP$7)))","v":""},{"$f":"IF($E37=\"\",\"\",IF(INDEX(E_SourceStreams!$A:$N,DV37,AQ$7)=\"\",\"\",INDEX(E_SourceStreams!$A:$N,DV37,AQ$7)))","v":""},{"$f":"IF($E37=\"\",\"\",IF(INDEX(E_SourceStreams!$A:$N,DW37,AR$7)=\"\",\"\",INDEX(E_SourceStreams!$A:$N,DW37,AR$7)))","v":""},{"$f":"IF($E37=\"\",\"\",IF(INDEX(E_SourceStreams!$A:$N,DX37,AS$7)=\"\",\"\",INDEX(E_SourceStreams!$A:$N,DX37,AS$7)))","v":""},{"$f":"IF($E37=\"\",\"\",IF(INDEX(E_SourceStreams!$A:$N,DY37,AT$7)=\"\",\"\",INDEX(E_SourceStreams!$A:$N,DY37,AT$7)))","v":""},{"$f":"IF($E37=\"\",\"\",IF(INDEX(E_SourceStreams!$A:$N,DZ37,AU$7)=\"\",\"\",INDEX(E_SourceStreams!$A:$N,DZ37,AU$7)))","v":""},{"$f":"IF($E37=\"\",\"\",IF(INDEX(E_SourceStreams!$A:$N,EA37,AV$7)=\"\",\"\",INDEX(E_SourceStreams!$A:$N,EA37,AV$7)))","v":""},{"$f":"IF($E37=\"\",\"\",IF(INDEX(E_SourceStreams!$A:$N,EB37,AW$7)=\"\",\"\",INDEX(E_SourceStreams!$A:$N,EB37,AW$7)))","v":""},{"$f":"IF($E37=\"\",\"\",IF(INDEX(E_SourceStreams!$A:$N,EC37,AX$7)=\"\",\"\",INDEX(E_SourceStreams!$A:$N,EC37,AX$7)))","v":""},{"$f":"IF($E37=\"\",\"\",IF(INDEX(E_SourceStreams!$A:$N,ED37,AY$7)=\"\",\"\",INDEX(E_SourceStreams!$A:$N,ED37,AY$7)))","v":""},{"$f":"IF($E37=\"\",\"\",IF(INDEX(E_SourceStreams!$A:$N,EE37,AZ$7)=\"\",\"\",INDEX(E_SourceStreams!$A:$N,EE37,AZ$7)))","v":""},{"$f":"IF($E37=\"\",\"\",IF(INDEX(E_SourceStreams!$A:$N,EF37,BA$7)=\"\",\"\",INDEX(E_SourceStreams!$A:$N,EF37,BA$7)))","v":""},{"$f":"IF($E37=\"\",\"\",IF(INDEX(E_SourceStreams!$A:$N,EG37,BB$7)=\"\",\"\",INDEX(E_SourceStreams!$A:$N,EG37,BB$7)))","v":""},{"$f":"IF($E37=\"\",\"\",IF(INDEX(E_SourceStreams!$A:$N,EH37,BC$7)=\"\",\"\",INDEX(E_SourceStreams!$A:$N,EH37,BC$7)))","v":""},{"$f":"IF($E37=\"\",\"\",IF(INDEX(E_SourceStreams!$A:$N,EI37,BD$7)=\"\",\"\",INDEX(E_SourceStreams!$A:$N,EI37,BD$7)))","v":""},{"$f":"IF($E37=\"\",\"\",IF(INDEX(E_SourceStreams!$A:$N,EJ37,BE$7)=\"\",\"\",INDEX(E_SourceStreams!$A:$N,EJ37,BE$7)))","v":""},{"$f":"IF($E37=\"\",\"\",IF(INDEX(E_SourceStreams!$A:$N,EK37,BF$7)=\"\",\"\",INDEX(E_SourceStreams!$A:$N,EK37,BF$7)))","v":""},{"$f":"IF($E37=\"\",\"\",IF(INDEX(E_SourceStreams!$A:$N,EL37,BG$7)=\"\",\"\",INDEX(E_SourceStreams!$A:$N,EL37,BG$7)))","v":""},{"$f":"IF($E37=\"\",\"\",IF(INDEX(E_SourceStreams!$A:$N,EM37,BH$7)=\"\",\"\",INDEX(E_SourceStreams!$A:$N,EM37,BH$7)))","v":""},{"$f":"IF($E37=\"\",\"\",IF(INDEX(E_SourceStreams!$A:$N,EN37,BI$7)=\"\",\"\",INDEX(E_SourceStreams!$A:$N,EN37,BI$7)))","v":""},{"$f":"IF($E37=\"\",\"\",IF(INDEX(E_SourceStreams!$A:$N,EO37,BJ$7)=\"\",\"\",INDEX(E_SourceStreams!$A:$N,EO37,BJ$7)))","v":""},{"$f":"IF($E37=\"\",\"\",IF(INDEX(E_SourceStreams!$A:$N,EP37,BK$7)=\"\",\"\",INDEX(E_SourceStreams!$A:$N,EP37,BK$7)))","v":""},{"$f":"IF($E37=\"\",\"\",IF(INDEX(E_SourceStreams!$A:$N,EQ37,BL$7)=\"\",\"\",INDEX(E_SourceStreams!$A:$N,EQ37,BL$7)))","v":""},{"$f":"IF($E37=\"\",\"\",IF(INDEX(E_SourceStreams!$A:$N,ER37,BM$7)=\"\",\"\",INDEX(E_SourceStreams!$A:$N,ER37,BM$7)))","v":""},{"$f":"IF($E37=\"\",\"\",IF(INDEX(E_SourceStreams!$A:$N,ES37,BN$7)=\"\",\"\",INDEX(E_SourceStreams!$A:$N,ES37,BN$7)))","v":""},{"$f":"IF($E37=\"\",\"\",IF(INDEX(E_SourceStreams!$A:$N,ET37,BO$7)=\"\",\"\",INDEX(E_SourceStreams!$A:$N,ET37,BO$7)))","v":""},{"$f":"IF($E37=\"\",\"\",IF(INDEX(E_SourceStreams!$A:$N,EU37,BP$7)=\"\",\"\",INDEX(E_SourceStreams!$A:$N,EU37,BP$7)))","v":""},{"$f":"IF($E37=\"\",\"\",IF(INDEX(E_SourceStreams!$A:$N,EV37,BQ$7)=\"\",\"\",INDEX(E_SourceStreams!$A:$N,EV37,BQ$7)))","v":""},{"$f":"IF($E37=\"\",\"\",IF(INDEX(E_SourceStreams!$A:$N,EW37,BR$7)=\"\",\"\",INDEX(E_SourceStreams!$A:$N,EW37,BR$7)))","v":""},{"$f":"IF($E37=\"\",\"\",IF(INDEX(E_SourceStreams!$A:$N,EX37,BS$7)=\"\",\"\",INDEX(E_SourceStreams!$A:$N,EX37,BS$7)))","v":""},{"$f":"IF($E37=\"\",\"\",IF(INDEX(E_SourceStreams!$A:$N,EY37,BT$7)=\"\",\"\",INDEX(E_SourceStreams!$A:$N,EY37,BT$7)))","v":""},null,null,null,null,null,null,null,null,null,null,null,null,null,null,null,"SourceCategory_",{"$f":"INDEX(C_InstallationDescription!$A$226:$A$332,ROWS($CI$11:CI37))=\"ausblenden\"","v":false},"SourceStreamName_",null,1851,1853,1855,1857,1859,1861,1863,1863,1863,1863,1863,1866,1870,1871,1872,1879,1889,1889,1889,1889,1889,1889,1889,1880,1890,1890,1890,1890,1890,1890,1890,1881,1891,1891,1891,1891,1891,1891,1891,1882,1892,1892,1892,1892,1892,1892,1892,1883,1893,1893,1893,1893,1893,1893,1893,1884,1894,1894,1894,1894,1894,1894,1894,1900]
[null,{"$f":"IF(COUNTIF($CK$10:CK38,TRUE)>0,\"\",INDEX(C_InstallationDescription!$E$226:$E$242,ROWS($A$11:A38)))","v":""},{"$f":"IF($E38=\"\",\"\",INDEX(C_InstallationDescription!F:F,MATCH($B38,C_InstallationDescription!$E:$E,0)))","v":""},{"$f":"IF($E38=\"\",\"\",INDEX(C_InstallationDescription!I:I,MATCH($B38,C_InstallationDescription!$E:$E,0)))","v":""},{"$f":"IF($B38=\"\",\"\",INDEX(C_InstallationDescription!F:F,MATCH($CJ38,C_InstallationDescription!$Q:$Q,0)))","v":""},{"$f":"IF($E38=\"\",\"\",INDEX(C_InstallationDescription!L:L,MATCH($CJ38,C_InstallationDescription!$Q:$Q,0)))","v":""},{"$f":"IF($E38=\"\",\"\",INDEX(C_InstallationDescription!M:M,MATCH($CJ38,C_InstallationDescription!$Q:$Q,0)))","v":""},{"$f":"IF($E38=\"\",\"\",INDEX(C_InstallationDescription!N:N,MATCH($CJ38,C_InstallationDescription!$Q:$Q,0)))","v":""},{"$f":"IF($E38=\"\",\"\",IF(INDEX(E_SourceStreams!$A:$N,CN38,I$7)=\"\",\"\",INDEX(E_SourceStreams!$A:$N,CN38,I$7)))","v":""},{"$f":"IF($E38=\"\",\"\",IF(INDEX(E_SourceStreams!$A:$N,CO38,J$7)=\"\",\"\",INDEX(E_SourceStreams!$A:$N,CO38,J$7)))","v":""},{"$f":"IF($E38=\"\",\"\",IF(INDEX(E_SourceStreams!$A:$N,CP38,K$7)=\"\",\"\",INDEX(E_SourceStreams!$A:$N,CP38,K$7)))","v":""},{"$f":"IF($E38=\"\",\"\",IF(INDEX(E_SourceStreams!$A:$N,CQ38,L$7)=\"\",\"\",INDEX(E_SourceStreams!$A:$N,CQ38,L$7)))","v":""},{"$f":"IF($E38=\"\",\"\",IF(INDEX(E_SourceStreams!$A:$N,CR38,M$7)=\"\",\"\",INDEX(E_SourceStreams!$A:$N,CR38,M$7)))","v":""},{"$f":"IF($E38=\"\",\"\",IF(INDEX(E_SourceStreams!$A:$N,CS38,N$7)=\"\",\"\",INDEX(E_SourceStreams!$A:$N,CS38,N$7)))","v":""},{"$f":"IF($E38=\"\",\"\",IF(INDEX(E_SourceStreams!$A:$N,CT38,O$7)=\"\",\"\",INDEX(E_SourceStreams!$A:$N,CT38,O$7)))","v":""},{"$f":"IF($E38=\"\",\"\",IF(INDEX(E_SourceStreams!$A:$N,CU38,P$7)=\"\",\"\",INDEX(E_SourceStreams!$A:$N,CU38,P$7)))","v":""},{"$f":"IF($E38=\"\",\"\",IF(INDEX(E_SourceStreams!$A:$N,CV38,Q$7)=\"\",\"\",INDEX(E_SourceStreams!$A:$N,CV38,Q$7)))","v":""},{"$f":"IF($E38=\"\",\"\",IF(INDEX(E_SourceStreams!$A:$N,CW38,R$7)=\"\",\"\",INDEX(E_SourceStreams!$A:$N,CW38,R$7)))","v":""},{"$f":"IF($E38=\"\",\"\",IF(INDEX(E_SourceStreams!$A:$N,CX38,S$7)=\"\",\"\",INDEX(E_SourceStreams!$A:$N,CX38,S$7)))","v":""},{"$f":"IF($E38=\"\",\"\",IF(INDEX(E_SourceStreams!$A:$N,CY38,T$7)=\"\",\"\",INDEX(E_SourceStreams!$A:$N,CY38,T$7)))","v":""},{"$f":"IF($E38=\"\",\"\",IF(INDEX(E_SourceStreams!$A:$N,CZ38,U$7)=\"\",\"\",INDEX(E_SourceStreams!$A:$N,CZ38,U$7)))","v":""},{"$f":"IF($E38=\"\",\"\",IF(INDEX(E_SourceStreams!$A:$N,DA38,V$7)=\"\",\"\",INDEX(E_SourceStreams!$A:$N,DA38,V$7)))","v":""},{"$f":"IF($E38=\"\",\"\",IF(INDEX(E_SourceStreams!$A:$N,DB38,W$7)=\"\",\"\",INDEX(E_SourceStreams!$A:$N,DB38,W$7)))","v":""},{"$f":"IF($E38=\"\",\"\",IF(INDEX(E_SourceStreams!$A:$N,DC38,X$7)=\"\",\"\",INDEX(E_SourceStreams!$A:$N,DC38,X$7)))","v":""},{"$f":"IF($E38=\"\",\"\",IF(INDEX(E_SourceStreams!$A:$N,DD38,Y$7)=\"\",\"\",INDEX(E_SourceStreams!$A:$N,DD38,Y$7)))","v":""},{"$f":"IF($E38=\"\",\"\",IF(INDEX(E_SourceStreams!$A:$N,DE38,Z$7)=\"\",\"\",INDEX(E_SourceStreams!$A:$N,DE38,Z$7)))","v":""},{"$f":"IF($E38=\"\",\"\",IF(INDEX(E_SourceStreams!$A:$N,DF38,AA$7)=\"\",\"\",INDEX(E_SourceStreams!$A:$N,DF38,AA$7)))","v":""},{"$f":"IF($E38=\"\",\"\",IF(INDEX(E_SourceStreams!$A:$N,DG38,AB$7)=\"\",\"\",INDEX(E_SourceStreams!$A:$N,DG38,AB$7)))","v":""},{"$f":"IF($E38=\"\",\"\",IF(INDEX(E_SourceStreams!$A:$N,DH38,AC$7)=\"\",\"\",INDEX(E_SourceStreams!$A:$N,DH38,AC$7)))","v":""},{"$f":"IF($E38=\"\",\"\",IF(INDEX(E_SourceStreams!$A:$N,DI38,AD$7)=\"\",\"\",INDEX(E_SourceStreams!$A:$N,DI38,AD$7)))","v":""},{"$f":"IF($E38=\"\",\"\",IF(INDEX(E_SourceStreams!$A:$N,DJ38,AE$7)=\"\",\"\",INDEX(E_SourceStreams!$A:$N,DJ38,AE$7)))","v":""},{"$f":"IF($E38=\"\",\"\",IF(INDEX(E_SourceStreams!$A:$N,DK38,AF$7)=\"\",\"\",INDEX(E_SourceStreams!$A:$N,DK38,AF$7)))","v":""},{"$f":"IF($E38=\"\",\"\",IF(INDEX(E_SourceStreams!$A:$N,DL38,AG$7)=\"\",\"\",INDEX(E_SourceStreams!$A:$N,DL38,AG$7)))","v":""},{"$f":"IF($E38=\"\",\"\",IF(INDEX(E_SourceStreams!$A:$N,DM38,AH$7)=\"\",\"\",INDEX(E_SourceStreams!$A:$N,DM38,AH$7)))","v":""},{"$f":"IF($E38=\"\",\"\",IF(INDEX(E_SourceStreams!$A:$N,DN38,AI$7)=\"\",\"\",INDEX(E_SourceStreams!$A:$N,DN38,AI$7)))","v":""},{"$f":"IF($E38=\"\",\"\",IF(INDEX(E_SourceStreams!$A:$N,DO38,AJ$7)=\"\",\"\",INDEX(E_SourceStreams!$A:$N,DO38,AJ$7)))","v":""},{"$f":"IF($E38=\"\",\"\",IF(INDEX(E_SourceStreams!$A:$N,DP38,AK$7)=\"\",\"\",INDEX(E_SourceStreams!$A:$N,DP38,AK$7)))","v":""},{"$f":"IF($E38=\"\",\"\",IF(INDEX(E_SourceStreams!$A:$N,DQ38,AL$7)=\"\",\"\",INDEX(E_SourceStreams!$A:$N,DQ38,AL$7)))","v":""},{"$f":"IF($E38=\"\",\"\",IF(INDEX(E_SourceStreams!$A:$N,DR38,AM$7)=\"\",\"\",INDEX(E_SourceStreams!$A:$N,DR38,AM$7)))","v":""},{"$f":"IF($E38=\"\",\"\",IF(INDEX(E_SourceStreams!$A:$N,DS38,AN$7)=\"\",\"\",INDEX(E_SourceStreams!$A:$N,DS38,AN$7)))","v":""},{"$f":"IF($E38=\"\",\"\",IF(INDEX(E_SourceStreams!$A:$N,DT38,AO$7)=\"\",\"\",INDEX(E_SourceStreams!$A:$N,DT38,AO$7)))","v":""},{"$f":"IF($E38=\"\",\"\",IF(INDEX(E_SourceStreams!$A:$N,DU38,AP$7)=\"\",\"\",INDEX(E_SourceStreams!$A:$N,DU38,AP$7)))","v":""},{"$f":"IF($E38=\"\",\"\",IF(INDEX(E_SourceStreams!$A:$N,DV38,AQ$7)=\"\",\"\",INDEX(E_SourceStreams!$A:$N,DV38,AQ$7)))","v":""},{"$f":"IF($E38=\"\",\"\",IF(INDEX(E_SourceStreams!$A:$N,DW38,AR$7)=\"\",\"\",INDEX(E_SourceStreams!$A:$N,DW38,AR$7)))","v":""},{"$f":"IF($E38=\"\",\"\",IF(INDEX(E_SourceStreams!$A:$N,DX38,AS$7)=\"\",\"\",INDEX(E_SourceStreams!$A:$N,DX38,AS$7)))","v":""},{"$f":"IF($E38=\"\",\"\",IF(INDEX(E_SourceStreams!$A:$N,DY38,AT$7)=\"\",\"\",INDEX(E_SourceStreams!$A:$N,DY38,AT$7)))","v":""},{"$f":"IF($E38=\"\",\"\",IF(INDEX(E_SourceStreams!$A:$N,DZ38,AU$7)=\"\",\"\",INDEX(E_SourceStreams!$A:$N,DZ38,AU$7)))","v":""},{"$f":"IF($E38=\"\",\"\",IF(INDEX(E_SourceStreams!$A:$N,EA38,AV$7)=\"\",\"\",INDEX(E_SourceStreams!$A:$N,EA38,AV$7)))","v":""},{"$f":"IF($E38=\"\",\"\",IF(INDEX(E_SourceStreams!$A:$N,EB38,AW$7)=\"\",\"\",INDEX(E_SourceStreams!$A:$N,EB38,AW$7)))","v":""},{"$f":"IF($E38=\"\",\"\",IF(INDEX(E_SourceStreams!$A:$N,EC38,AX$7)=\"\",\"\",INDEX(E_SourceStreams!$A:$N,EC38,AX$7)))","v":""},{"$f":"IF($E38=\"\",\"\",IF(INDEX(E_SourceStreams!$A:$N,ED38,AY$7)=\"\",\"\",INDEX(E_SourceStreams!$A:$N,ED38,AY$7)))","v":""},{"$f":"IF($E38=\"\",\"\",IF(INDEX(E_SourceStreams!$A:$N,EE38,AZ$7)=\"\",\"\",INDEX(E_SourceStreams!$A:$N,EE38,AZ$7)))","v":""},{"$f":"IF($E38=\"\",\"\",IF(INDEX(E_SourceStreams!$A:$N,EF38,BA$7)=\"\",\"\",INDEX(E_SourceStreams!$A:$N,EF38,BA$7)))","v":""},{"$f":"IF($E38=\"\",\"\",IF(INDEX(E_SourceStreams!$A:$N,EG38,BB$7)=\"\",\"\",INDEX(E_SourceStreams!$A:$N,EG38,BB$7)))","v":""},{"$f":"IF($E38=\"\",\"\",IF(INDEX(E_SourceStreams!$A:$N,EH38,BC$7)=\"\",\"\",INDEX(E_SourceStreams!$A:$N,EH38,BC$7)))","v":""},{"$f":"IF($E38=\"\",\"\",IF(INDEX(E_SourceStreams!$A:$N,EI38,BD$7)=\"\",\"\",INDEX(E_SourceStreams!$A:$N,EI38,BD$7)))","v":""},{"$f":"IF($E38=\"\",\"\",IF(INDEX(E_SourceStreams!$A:$N,EJ38,BE$7)=\"\",\"\",INDEX(E_SourceStreams!$A:$N,EJ38,BE$7)))","v":""},{"$f":"IF($E38=\"\",\"\",IF(INDEX(E_SourceStreams!$A:$N,EK38,BF$7)=\"\",\"\",INDEX(E_SourceStreams!$A:$N,EK38,BF$7)))","v":""},{"$f":"IF($E38=\"\",\"\",IF(INDEX(E_SourceStreams!$A:$N,EL38,BG$7)=\"\",\"\",INDEX(E_SourceStreams!$A:$N,EL38,BG$7)))","v":""},{"$f":"IF($E38=\"\",\"\",IF(INDEX(E_SourceStreams!$A:$N,EM38,BH$7)=\"\",\"\",INDEX(E_SourceStreams!$A:$N,EM38,BH$7)))","v":""},{"$f":"IF($E38=\"\",\"\",IF(INDEX(E_SourceStreams!$A:$N,EN38,BI$7)=\"\",\"\",INDEX(E_SourceStreams!$A:$N,EN38,BI$7)))","v":""},{"$f":"IF($E38=\"\",\"\",IF(INDEX(E_SourceStreams!$A:$N,EO38,BJ$7)=\"\",\"\",INDEX(E_SourceStreams!$A:$N,EO38,BJ$7)))","v":""},{"$f":"IF($E38=\"\",\"\",IF(INDEX(E_SourceStreams!$A:$N,EP38,BK$7)=\"\",\"\",INDEX(E_SourceStreams!$A:$N,EP38,BK$7)))","v":""},{"$f":"IF($E38=\"\",\"\",IF(INDEX(E_SourceStreams!$A:$N,EQ38,BL$7)=\"\",\"\",INDEX(E_SourceStreams!$A:$N,EQ38,BL$7)))","v":""},{"$f":"IF($E38=\"\",\"\",IF(INDEX(E_SourceStreams!$A:$N,ER38,BM$7)=\"\",\"\",INDEX(E_SourceStreams!$A:$N,ER38,BM$7)))","v":""},{"$f":"IF($E38=\"\",\"\",IF(INDEX(E_SourceStreams!$A:$N,ES38,BN$7)=\"\",\"\",INDEX(E_SourceStreams!$A:$N,ES38,BN$7)))","v":""},{"$f":"IF($E38=\"\",\"\",IF(INDEX(E_SourceStreams!$A:$N,ET38,BO$7)=\"\",\"\",INDEX(E_SourceStreams!$A:$N,ET38,BO$7)))","v":""},{"$f":"IF($E38=\"\",\"\",IF(INDEX(E_SourceStreams!$A:$N,EU38,BP$7)=\"\",\"\",INDEX(E_SourceStreams!$A:$N,EU38,BP$7)))","v":""},{"$f":"IF($E38=\"\",\"\",IF(INDEX(E_SourceStreams!$A:$N,EV38,BQ$7)=\"\",\"\",INDEX(E_SourceStreams!$A:$N,EV38,BQ$7)))","v":""},{"$f":"IF($E38=\"\",\"\",IF(INDEX(E_SourceStreams!$A:$N,EW38,BR$7)=\"\",\"\",INDEX(E_SourceStreams!$A:$N,EW38,BR$7)))","v":""},{"$f":"IF($E38=\"\",\"\",IF(INDEX(E_SourceStreams!$A:$N,EX38,BS$7)=\"\",\"\",INDEX(E_SourceStreams!$A:$N,EX38,BS$7)))","v":""},{"$f":"IF($E38=\"\",\"\",IF(INDEX(E_SourceStreams!$A:$N,EY38,BT$7)=\"\",\"\",INDEX(E_SourceStreams!$A:$N,EY38,BT$7)))","v":""},null,null,null,null,null,null,null,null,null,null,null,null,null,null,null,"SourceCategory_",{"$f":"INDEX(C_InstallationDescription!$A$226:$A$332,ROWS($CI$11:CI38))=\"ausblenden\"","v":false},"SourceStreamName_",null,1917,1919,1921,1923,1925,1927,1929,1929,1929,1929,1929,1932,1936,1937,1938,1945,1955,1955,1955,1955,1955,1955,1955,1946,1956,1956,1956,1956,1956,1956,1956,1947,1957,1957,1957,1957,1957,1957,1957,1948,1958,1958,1958,1958,1958,1958,1958,1949,1959,1959,1959,1959,1959,1959,1959,1950,1960,1960,1960,1960,1960,1960,1960,1966]
[null,{"$f":"IF(COUNTIF($CK$10:CK39,TRUE)>0,\"\",INDEX(C_InstallationDescription!$E$226:$E$242,ROWS($A$11:A39)))","v":""},{"$f":"IF($E39=\"\",\"\",INDEX(C_InstallationDescription!F:F,MATCH($B39,C_InstallationDescription!$E:$E,0)))","v":""},{"$f":"IF($E39=\"\",\"\",INDEX(C_InstallationDescription!I:I,MATCH($B39,C_InstallationDescription!$E:$E,0)))","v":""},{"$f":"IF($B39=\"\",\"\",INDEX(C_InstallationDescription!F:F,MATCH($CJ39,C_InstallationDescription!$Q:$Q,0)))","v":""},{"$f":"IF($E39=\"\",\"\",INDEX(C_InstallationDescription!L:L,MATCH($CJ39,C_InstallationDescription!$Q:$Q,0)))","v":""},{"$f":"IF($E39=\"\",\"\",INDEX(C_InstallationDescription!M:M,MATCH($CJ39,C_InstallationDescription!$Q:$Q,0)))","v":""},{"$f":"IF($E39=\"\",\"\",INDEX(C_InstallationDescription!N:N,MATCH($CJ39,C_InstallationDescription!$Q:$Q,0)))","v":""},{"$f":"IF($E39=\"\",\"\",IF(INDEX(E_SourceStreams!$A:$N,CN39,I$7)=\"\",\"\",INDEX(E_SourceStreams!$A:$N,CN39,I$7)))","v":""},{"$f":"IF($E39=\"\",\"\",IF(INDEX(E_SourceStreams!$A:$N,CO39,J$7)=\"\",\"\",INDEX(E_SourceStreams!$A:$N,CO39,J$7)))","v":""},{"$f":"IF($E39=\"\",\"\",IF(INDEX(E_SourceStreams!$A:$N,CP39,K$7)=\"\",\"\",INDEX(E_SourceStreams!$A:$N,CP39,K$7)))","v":""},{"$f":"IF($E39=\"\",\"\",IF(INDEX(E_SourceStreams!$A:$N,CQ39,L$7)=\"\",\"\",INDEX(E_SourceStreams!$A:$N,CQ39,L$7)))","v":""},{"$f":"IF($E39=\"\",\"\",IF(INDEX(E_SourceStreams!$A:$N,CR39,M$7)=\"\",\"\",INDEX(E_SourceStreams!$A:$N,CR39,M$7)))","v":""},{"$f":"IF($E39=\"\",\"\",IF(INDEX(E_SourceStreams!$A:$N,CS39,N$7)=\"\",\"\",INDEX(E_SourceStreams!$A:$N,CS39,N$7)))","v":""},{"$f":"IF($E39=\"\",\"\",IF(INDEX(E_SourceStreams!$A:$N,CT39,O$7)=\"\",\"\",INDEX(E_SourceStreams!$A:$N,CT39,O$7)))","v":""},{"$f":"IF($E39=\"\",\"\",IF(INDEX(E_SourceStreams!$A:$N,CU39,P$7)=\"\",\"\",INDEX(E_SourceStreams!$A:$N,CU39,P$7)))","v":""},{"$f":"IF($E39=\"\",\"\",IF(INDEX(E_SourceStreams!$A:$N,CV39,Q$7)=\"\",\"\",INDEX(E_SourceStreams!$A:$N,CV39,Q$7)))","v":""},{"$f":"IF($E39=\"\",\"\",IF(INDEX(E_SourceStreams!$A:$N,CW39,R$7)=\"\",\"\",INDEX(E_SourceStreams!$A:$N,CW39,R$7)))","v":""},{"$f":"IF($E39=\"\",\"\",IF(INDEX(E_SourceStreams!$A:$N,CX39,S$7)=\"\",\"\",INDEX(E_SourceStreams!$A:$N,CX39,S$7)))","v":""},{"$f":"IF($E39=\"\",\"\",IF(INDEX(E_SourceStreams!$A:$N,CY39,T$7)=\"\",\"\",INDEX(E_SourceStreams!$A:$N,CY39,T$7)))","v":""},{"$f":"IF($E39=\"\",\"\",IF(INDEX(E_SourceStreams!$A:$N,CZ39,U$7)=\"\",\"\",INDEX(E_SourceStreams!$A:$N,CZ39,U$7)))","v":""},{"$f":"IF($E39=\"\",\"\",IF(INDEX(E_SourceStreams!$A:$N,DA39,V$7)=\"\",\"\",INDEX(E_SourceStreams!$A:$N,DA39,V$7)))","v":""},{"$f":"IF($E39=\"\",\"\",IF(INDEX(E_SourceStreams!$A:$N,DB39,W$7)=\"\",\"\",INDEX(E_SourceStreams!$A:$N,DB39,W$7)))","v":""},{"$f":"IF($E39=\"\",\"\",IF(INDEX(E_SourceStreams!$A:$N,DC39,X$7)=\"\",\"\",INDEX(E_SourceStreams!$A:$N,DC39,X$7)))","v":""},{"$f":"IF($E39=\"\",\"\",IF(INDEX(E_SourceStreams!$A:$N,DD39,Y$7)=\"\",\"\",INDEX(E_SourceStreams!$A:$N,DD39,Y$7)))","v":""},{"$f":"IF($E39=\"\",\"\",IF(INDEX(E_SourceStreams!$A:$N,DE39,Z$7)=\"\",\"\",INDEX(E_SourceStreams!$A:$N,DE39,Z$7)))","v":""},{"$f":"IF($E39=\"\",\"\",IF(INDEX(E_SourceStreams!$A:$N,DF39,AA$7)=\"\",\"\",INDEX(E_SourceStreams!$A:$N,DF39,AA$7)))","v":""},{"$f":"IF($E39=\"\",\"\",IF(INDEX(E_SourceStreams!$A:$N,DG39,AB$7)=\"\",\"\",INDEX(E_SourceStreams!$A:$N,DG39,AB$7)))","v":""},{"$f":"IF($E39=\"\",\"\",IF(INDEX(E_SourceStreams!$A:$N,DH39,AC$7)=\"\",\"\",INDEX(E_SourceStreams!$A:$N,DH39,AC$7)))","v":""},{"$f":"IF($E39=\"\",\"\",IF(INDEX(E_SourceStreams!$A:$N,DI39,AD$7)=\"\",\"\",INDEX(E_SourceStreams!$A:$N,DI39,AD$7)))","v":""},{"$f":"IF($E39=\"\",\"\",IF(INDEX(E_SourceStreams!$A:$N,DJ39,AE$7)=\"\",\"\",INDEX(E_SourceStreams!$A:$N,DJ39,AE$7)))","v":""},{"$f":"IF($E39=\"\",\"\",IF(INDEX(E_SourceStreams!$A:$N,DK39,AF$7)=\"\",\"\",INDEX(E_SourceStreams!$A:$N,DK39,AF$7)))","v":""},{"$f":"IF($E39=\"\",\"\",IF(INDEX(E_SourceStreams!$A:$N,DL39,AG$7)=\"\",\"\",INDEX(E_SourceStreams!$A:$N,DL39,AG$7)))","v":""},{"$f":"IF($E39=\"\",\"\",IF(INDEX(E_SourceStreams!$A:$N,DM39,AH$7)=\"\",\"\",INDEX(E_SourceStreams!$A:$N,DM39,AH$7)))","v":""},{"$f":"IF($E39=\"\",\"\",IF(INDEX(E_SourceStreams!$A:$N,DN39,AI$7)=\"\",\"\",INDEX(E_SourceStreams!$A:$N,DN39,AI$7)))","v":""},{"$f":"IF($E39=\"\",\"\",IF(INDEX(E_SourceStreams!$A:$N,DO39,AJ$7)=\"\",\"\",INDEX(E_SourceStreams!$A:$N,DO39,AJ$7)))","v":""},{"$f":"IF($E39=\"\",\"\",IF(INDEX(E_SourceStreams!$A:$N,DP39,AK$7)=\"\",\"\",INDEX(E_SourceStreams!$A:$N,DP39,AK$7)))","v":""},{"$f":"IF($E39=\"\",\"\",IF(INDEX(E_SourceStreams!$A:$N,DQ39,AL$7)=\"\",\"\",INDEX(E_SourceStreams!$A:$N,DQ39,AL$7)))","v":""},{"$f":"IF($E39=\"\",\"\",IF(INDEX(E_SourceStreams!$A:$N,DR39,AM$7)=\"\",\"\",INDEX(E_SourceStreams!$A:$N,DR39,AM$7)))","v":""},{"$f":"IF($E39=\"\",\"\",IF(INDEX(E_SourceStreams!$A:$N,DS39,AN$7)=\"\",\"\",INDEX(E_SourceStreams!$A:$N,DS39,AN$7)))","v":""},{"$f":"IF($E39=\"\",\"\",IF(INDEX(E_SourceStreams!$A:$N,DT39,AO$7)=\"\",\"\",INDEX(E_SourceStreams!$A:$N,DT39,AO$7)))","v":""},{"$f":"IF($E39=\"\",\"\",IF(INDEX(E_SourceStreams!$A:$N,DU39,AP$7)=\"\",\"\",INDEX(E_SourceStreams!$A:$N,DU39,AP$7)))","v":""},{"$f":"IF($E39=\"\",\"\",IF(INDEX(E_SourceStreams!$A:$N,DV39,AQ$7)=\"\",\"\",INDEX(E_SourceStreams!$A:$N,DV39,AQ$7)))","v":""},{"$f":"IF($E39=\"\",\"\",IF(INDEX(E_SourceStreams!$A:$N,DW39,AR$7)=\"\",\"\",INDEX(E_SourceStreams!$A:$N,DW39,AR$7)))","v":""},{"$f":"IF($E39=\"\",\"\",IF(INDEX(E_SourceStreams!$A:$N,DX39,AS$7)=\"\",\"\",INDEX(E_SourceStreams!$A:$N,DX39,AS$7)))","v":""},{"$f":"IF($E39=\"\",\"\",IF(INDEX(E_SourceStreams!$A:$N,DY39,AT$7)=\"\",\"\",INDEX(E_SourceStreams!$A:$N,DY39,AT$7)))","v":""},{"$f":"IF($E39=\"\",\"\",IF(INDEX(E_SourceStreams!$A:$N,DZ39,AU$7)=\"\",\"\",INDEX(E_SourceStreams!$A:$N,DZ39,AU$7)))","v":""},{"$f":"IF($E39=\"\",\"\",IF(INDEX(E_SourceStreams!$A:$N,EA39,AV$7)=\"\",\"\",INDEX(E_SourceStreams!$A:$N,EA39,AV$7)))","v":""},{"$f":"IF($E39=\"\",\"\",IF(INDEX(E_SourceStreams!$A:$N,EB39,AW$7)=\"\",\"\",INDEX(E_SourceStreams!$A:$N,EB39,AW$7)))","v":""},{"$f":"IF($E39=\"\",\"\",IF(INDEX(E_SourceStreams!$A:$N,EC39,AX$7)=\"\",\"\",INDEX(E_SourceStreams!$A:$N,EC39,AX$7)))","v":""},{"$f":"IF($E39=\"\",\"\",IF(INDEX(E_SourceStreams!$A:$N,ED39,AY$7)=\"\",\"\",INDEX(E_SourceStreams!$A:$N,ED39,AY$7)))","v":""},{"$f":"IF($E39=\"\",\"\",IF(INDEX(E_SourceStreams!$A:$N,EE39,AZ$7)=\"\",\"\",INDEX(E_SourceStreams!$A:$N,EE39,AZ$7)))","v":""},{"$f":"IF($E39=\"\",\"\",IF(INDEX(E_SourceStreams!$A:$N,EF39,BA$7)=\"\",\"\",INDEX(E_SourceStreams!$A:$N,EF39,BA$7)))","v":""},{"$f":"IF($E39=\"\",\"\",IF(INDEX(E_SourceStreams!$A:$N,EG39,BB$7)=\"\",\"\",INDEX(E_SourceStreams!$A:$N,EG39,BB$7)))","v":""},{"$f":"IF($E39=\"\",\"\",IF(INDEX(E_SourceStreams!$A:$N,EH39,BC$7)=\"\",\"\",INDEX(E_SourceStreams!$A:$N,EH39,BC$7)))","v":""},{"$f":"IF($E39=\"\",\"\",IF(INDEX(E_SourceStreams!$A:$N,EI39,BD$7)=\"\",\"\",INDEX(E_SourceStreams!$A:$N,EI39,BD$7)))","v":""},{"$f":"IF($E39=\"\",\"\",IF(INDEX(E_SourceStreams!$A:$N,EJ39,BE$7)=\"\",\"\",INDEX(E_SourceStreams!$A:$N,EJ39,BE$7)))","v":""},{"$f":"IF($E39=\"\",\"\",IF(INDEX(E_SourceStreams!$A:$N,EK39,BF$7)=\"\",\"\",INDEX(E_SourceStreams!$A:$N,EK39,BF$7)))","v":""},{"$f":"IF($E39=\"\",\"\",IF(INDEX(E_SourceStreams!$A:$N,EL39,BG$7)=\"\",\"\",INDEX(E_SourceStreams!$A:$N,EL39,BG$7)))","v":""},{"$f":"IF($E39=\"\",\"\",IF(INDEX(E_SourceStreams!$A:$N,EM39,BH$7)=\"\",\"\",INDEX(E_SourceStreams!$A:$N,EM39,BH$7)))","v":""},{"$f":"IF($E39=\"\",\"\",IF(INDEX(E_SourceStreams!$A:$N,EN39,BI$7)=\"\",\"\",INDEX(E_SourceStreams!$A:$N,EN39,BI$7)))","v":""},{"$f":"IF($E39=\"\",\"\",IF(INDEX(E_SourceStreams!$A:$N,EO39,BJ$7)=\"\",\"\",INDEX(E_SourceStreams!$A:$N,EO39,BJ$7)))","v":""},{"$f":"IF($E39=\"\",\"\",IF(INDEX(E_SourceStreams!$A:$N,EP39,BK$7)=\"\",\"\",INDEX(E_SourceStreams!$A:$N,EP39,BK$7)))","v":""},{"$f":"IF($E39=\"\",\"\",IF(INDEX(E_SourceStreams!$A:$N,EQ39,BL$7)=\"\",\"\",INDEX(E_SourceStreams!$A:$N,EQ39,BL$7)))","v":""},{"$f":"IF($E39=\"\",\"\",IF(INDEX(E_SourceStreams!$A:$N,ER39,BM$7)=\"\",\"\",INDEX(E_SourceStreams!$A:$N,ER39,BM$7)))","v":""},{"$f":"IF($E39=\"\",\"\",IF(INDEX(E_SourceStreams!$A:$N,ES39,BN$7)=\"\",\"\",INDEX(E_SourceStreams!$A:$N,ES39,BN$7)))","v":""},{"$f":"IF($E39=\"\",\"\",IF(INDEX(E_SourceStreams!$A:$N,ET39,BO$7)=\"\",\"\",INDEX(E_SourceStreams!$A:$N,ET39,BO$7)))","v":""},{"$f":"IF($E39=\"\",\"\",IF(INDEX(E_SourceStreams!$A:$N,EU39,BP$7)=\"\",\"\",INDEX(E_SourceStreams!$A:$N,EU39,BP$7)))","v":""},{"$f":"IF($E39=\"\",\"\",IF(INDEX(E_SourceStreams!$A:$N,EV39,BQ$7)=\"\",\"\",INDEX(E_SourceStreams!$A:$N,EV39,BQ$7)))","v":""},{"$f":"IF($E39=\"\",\"\",IF(INDEX(E_SourceStreams!$A:$N,EW39,BR$7)=\"\",\"\",INDEX(E_SourceStreams!$A:$N,EW39,BR$7)))","v":""},{"$f":"IF($E39=\"\",\"\",IF(INDEX(E_SourceStreams!$A:$N,EX39,BS$7)=\"\",\"\",INDEX(E_SourceStreams!$A:$N,EX39,BS$7)))","v":""},{"$f":"IF($E39=\"\",\"\",IF(INDEX(E_SourceStreams!$A:$N,EY39,BT$7)=\"\",\"\",INDEX(E_SourceStreams!$A:$N,EY39,BT$7)))","v":""},null,null,null,null,null,null,null,null,null,null,null,null,null,null,null,"SourceCategory_",{"$f":"INDEX(C_InstallationDescription!$A$226:$A$332,ROWS($CI$11:CI39))=\"ausblenden\"","v":false},"SourceStreamName_",null,1983,1985,1987,1989,1991,1993,1995,1995,1995,1995,1995,1998,2002,2003,2004,2011,2021,2021,2021,2021,2021,2021,2021,2012,2022,2022,2022,2022,2022,2022,2022,2013,2023,2023,2023,2023,2023,2023,2023,2014,2024,2024,2024,2024,2024,2024,2024,2015,2025,2025,2025,2025,2025,2025,2025,2016,2026,2026,2026,2026,2026,2026,2026,2032]
[null,{"$f":"IF(COUNTIF($CK$10:CK40,TRUE)>0,\"\",INDEX(C_InstallationDescription!$E$226:$E$242,ROWS($A$11:A40)))","v":""},{"$f":"IF($E40=\"\",\"\",INDEX(C_InstallationDescription!F:F,MATCH($B40,C_InstallationDescription!$E:$E,0)))","v":""},{"$f":"IF($E40=\"\",\"\",INDEX(C_InstallationDescription!I:I,MATCH($B40,C_InstallationDescription!$E:$E,0)))","v":""},{"$f":"IF($B40=\"\",\"\",INDEX(C_InstallationDescription!F:F,MATCH($CJ40,C_InstallationDescription!$Q:$Q,0)))","v":""},{"$f":"IF($E40=\"\",\"\",INDEX(C_InstallationDescription!L:L,MATCH($CJ40,C_InstallationDescription!$Q:$Q,0)))","v":""},{"$f":"IF($E40=\"\",\"\",INDEX(C_InstallationDescription!M:M,MATCH($CJ40,C_InstallationDescription!$Q:$Q,0)))","v":""},{"$f":"IF($E40=\"\",\"\",INDEX(C_InstallationDescription!N:N,MATCH($CJ40,C_InstallationDescription!$Q:$Q,0)))","v":""},{"$f":"IF($E40=\"\",\"\",IF(INDEX(E_SourceStreams!$A:$N,CN40,I$7)=\"\",\"\",INDEX(E_SourceStreams!$A:$N,CN40,I$7)))","v":""},{"$f":"IF($E40=\"\",\"\",IF(INDEX(E_SourceStreams!$A:$N,CO40,J$7)=\"\",\"\",INDEX(E_SourceStreams!$A:$N,CO40,J$7)))","v":""},{"$f":"IF($E40=\"\",\"\",IF(INDEX(E_SourceStreams!$A:$N,CP40,K$7)=\"\",\"\",INDEX(E_SourceStreams!$A:$N,CP40,K$7)))","v":""},{"$f":"IF($E40=\"\",\"\",IF(INDEX(E_SourceStreams!$A:$N,CQ40,L$7)=\"\",\"\",INDEX(E_SourceStreams!$A:$N,CQ40,L$7)))","v":""},{"$f":"IF($E40=\"\",\"\",IF(INDEX(E_SourceStreams!$A:$N,CR40,M$7)=\"\",\"\",INDEX(E_SourceStreams!$A:$N,CR40,M$7)))","v":""},{"$f":"IF($E40=\"\",\"\",IF(INDEX(E_SourceStreams!$A:$N,CS40,N$7)=\"\",\"\",INDEX(E_SourceStreams!$A:$N,CS40,N$7)))","v":""},{"$f":"IF($E40=\"\",\"\",IF(INDEX(E_SourceStreams!$A:$N,CT40,O$7)=\"\",\"\",INDEX(E_SourceStreams!$A:$N,CT40,O$7)))","v":""},{"$f":"IF($E40=\"\",\"\",IF(INDEX(E_SourceStreams!$A:$N,CU40,P$7)=\"\",\"\",INDEX(E_SourceStreams!$A:$N,CU40,P$7)))","v":""},{"$f":"IF($E40=\"\",\"\",IF(INDEX(E_SourceStreams!$A:$N,CV40,Q$7)=\"\",\"\",INDEX(E_SourceStreams!$A:$N,CV40,Q$7)))","v":""},{"$f":"IF($E40=\"\",\"\",IF(INDEX(E_SourceStreams!$A:$N,CW40,R$7)=\"\",\"\",INDEX(E_SourceStreams!$A:$N,CW40,R$7)))","v":""},{"$f":"IF($E40=\"\",\"\",IF(INDEX(E_SourceStreams!$A:$N,CX40,S$7)=\"\",\"\",INDEX(E_SourceStreams!$A:$N,CX40,S$7)))","v":""},{"$f":"IF($E40=\"\",\"\",IF(INDEX(E_SourceStreams!$A:$N,CY40,T$7)=\"\",\"\",INDEX(E_SourceStreams!$A:$N,CY40,T$7)))","v":""},{"$f":"IF($E40=\"\",\"\",IF(INDEX(E_SourceStreams!$A:$N,CZ40,U$7)=\"\",\"\",INDEX(E_SourceStreams!$A:$N,CZ40,U$7)))","v":""},{"$f":"IF($E40=\"\",\"\",IF(INDEX(E_SourceStreams!$A:$N,DA40,V$7)=\"\",\"\",INDEX(E_SourceStreams!$A:$N,DA40,V$7)))","v":""},{"$f":"IF($E40=\"\",\"\",IF(INDEX(E_SourceStreams!$A:$N,DB40,W$7)=\"\",\"\",INDEX(E_SourceStreams!$A:$N,DB40,W$7)))","v":""},{"$f":"IF($E40=\"\",\"\",IF(INDEX(E_SourceStreams!$A:$N,DC40,X$7)=\"\",\"\",INDEX(E_SourceStreams!$A:$N,DC40,X$7)))","v":""},{"$f":"IF($E40=\"\",\"\",IF(INDEX(E_SourceStreams!$A:$N,DD40,Y$7)=\"\",\"\",INDEX(E_SourceStreams!$A:$N,DD40,Y$7)))","v":""},{"$f":"IF($E40=\"\",\"\",IF(INDEX(E_SourceStreams!$A:$N,DE40,Z$7)=\"\",\"\",INDEX(E_SourceStreams!$A:$N,DE40,Z$7)))","v":""},{"$f":"IF($E40=\"\",\"\",IF(INDEX(E_SourceStreams!$A:$N,DF40,AA$7)=\"\",\"\",INDEX(E_SourceStreams!$A:$N,DF40,AA$7)))","v":""},{"$f":"IF($E40=\"\",\"\",IF(INDEX(E_SourceStreams!$A:$N,DG40,AB$7)=\"\",\"\",INDEX(E_SourceStreams!$A:$N,DG40,AB$7)))","v":""},{"$f":"IF($E40=\"\",\"\",IF(INDEX(E_SourceStreams!$A:$N,DH40,AC$7)=\"\",\"\",INDEX(E_SourceStreams!$A:$N,DH40,AC$7)))","v":""},{"$f":"IF($E40=\"\",\"\",IF(INDEX(E_SourceStreams!$A:$N,DI40,AD$7)=\"\",\"\",INDEX(E_SourceStreams!$A:$N,DI40,AD$7)))","v":""},{"$f":"IF($E40=\"\",\"\",IF(INDEX(E_SourceStreams!$A:$N,DJ40,AE$7)=\"\",\"\",INDEX(E_SourceStreams!$A:$N,DJ40,AE$7)))","v":""},{"$f":"IF($E40=\"\",\"\",IF(INDEX(E_SourceStreams!$A:$N,DK40,AF$7)=\"\",\"\",INDEX(E_SourceStreams!$A:$N,DK40,AF$7)))","v":""},{"$f":"IF($E40=\"\",\"\",IF(INDEX(E_SourceStreams!$A:$N,DL40,AG$7)=\"\",\"\",INDEX(E_SourceStreams!$A:$N,DL40,AG$7)))","v":""},{"$f":"IF($E40=\"\",\"\",IF(INDEX(E_SourceStreams!$A:$N,DM40,AH$7)=\"\",\"\",INDEX(E_SourceStreams!$A:$N,DM40,AH$7)))","v":""},{"$f":"IF($E40=\"\",\"\",IF(INDEX(E_SourceStreams!$A:$N,DN40,AI$7)=\"\",\"\",INDEX(E_SourceStreams!$A:$N,DN40,AI$7)))","v":""},{"$f":"IF($E40=\"\",\"\",IF(INDEX(E_SourceStreams!$A:$N,DO40,AJ$7)=\"\",\"\",INDEX(E_SourceStreams!$A:$N,DO40,AJ$7)))","v":""},{"$f":"IF($E40=\"\",\"\",IF(INDEX(E_SourceStreams!$A:$N,DP40,AK$7)=\"\",\"\",INDEX(E_SourceStreams!$A:$N,DP40,AK$7)))","v":""},{"$f":"IF($E40=\"\",\"\",IF(INDEX(E_SourceStreams!$A:$N,DQ40,AL$7)=\"\",\"\",INDEX(E_SourceStreams!$A:$N,DQ40,AL$7)))","v":""},{"$f":"IF($E40=\"\",\"\",IF(INDEX(E_SourceStreams!$A:$N,DR40,AM$7)=\"\",\"\",INDEX(E_SourceStreams!$A:$N,DR40,AM$7)))","v":""},{"$f":"IF($E40=\"\",\"\",IF(INDEX(E_SourceStreams!$A:$N,DS40,AN$7)=\"\",\"\",INDEX(E_SourceStreams!$A:$N,DS40,AN$7)))","v":""},{"$f":"IF($E40=\"\",\"\",IF(INDEX(E_SourceStreams!$A:$N,DT40,AO$7)=\"\",\"\",INDEX(E_SourceStreams!$A:$N,DT40,AO$7)))","v":""},{"$f":"IF($E40=\"\",\"\",IF(INDEX(E_SourceStreams!$A:$N,DU40,AP$7)=\"\",\"\",INDEX(E_SourceStreams!$A:$N,DU40,AP$7)))","v":""},{"$f":"IF($E40=\"\",\"\",IF(INDEX(E_SourceStreams!$A:$N,DV40,AQ$7)=\"\",\"\",INDEX(E_SourceStreams!$A:$N,DV40,AQ$7)))","v":""},{"$f":"IF($E40=\"\",\"\",IF(INDEX(E_SourceStreams!$A:$N,DW40,AR$7)=\"\",\"\",INDEX(E_SourceStreams!$A:$N,DW40,AR$7)))","v":""},{"$f":"IF($E40=\"\",\"\",IF(INDEX(E_SourceStreams!$A:$N,DX40,AS$7)=\"\",\"\",INDEX(E_SourceStreams!$A:$N,DX40,AS$7)))","v":""},{"$f":"IF($E40=\"\",\"\",IF(INDEX(E_SourceStreams!$A:$N,DY40,AT$7)=\"\",\"\",INDEX(E_SourceStreams!$A:$N,DY40,AT$7)))","v":""},{"$f":"IF($E40=\"\",\"\",IF(INDEX(E_SourceStreams!$A:$N,DZ40,AU$7)=\"\",\"\",INDEX(E_SourceStreams!$A:$N,DZ40,AU$7)))","v":""},{"$f":"IF($E40=\"\",\"\",IF(INDEX(E_SourceStreams!$A:$N,EA40,AV$7)=\"\",\"\",INDEX(E_SourceStreams!$A:$N,EA40,AV$7)))","v":""},{"$f":"IF($E40=\"\",\"\",IF(INDEX(E_SourceStreams!$A:$N,EB40,AW$7)=\"\",\"\",INDEX(E_SourceStreams!$A:$N,EB40,AW$7)))","v":""},{"$f":"IF($E40=\"\",\"\",IF(INDEX(E_SourceStreams!$A:$N,EC40,AX$7)=\"\",\"\",INDEX(E_SourceStreams!$A:$N,EC40,AX$7)))","v":""},{"$f":"IF($E40=\"\",\"\",IF(INDEX(E_SourceStreams!$A:$N,ED40,AY$7)=\"\",\"\",INDEX(E_SourceStreams!$A:$N,ED40,AY$7)))","v":""},{"$f":"IF($E40=\"\",\"\",IF(INDEX(E_SourceStreams!$A:$N,EE40,AZ$7)=\"\",\"\",INDEX(E_SourceStreams!$A:$N,EE40,AZ$7)))","v":""},{"$f":"IF($E40=\"\",\"\",IF(INDEX(E_SourceStreams!$A:$N,EF40,BA$7)=\"\",\"\",INDEX(E_SourceStreams!$A:$N,EF40,BA$7)))","v":""},{"$f":"IF($E40=\"\",\"\",IF(INDEX(E_SourceStreams!$A:$N,EG40,BB$7)=\"\",\"\",INDEX(E_SourceStreams!$A:$N,EG40,BB$7)))","v":""},{"$f":"IF($E40=\"\",\"\",IF(INDEX(E_SourceStreams!$A:$N,EH40,BC$7)=\"\",\"\",INDEX(E_SourceStreams!$A:$N,EH40,BC$7)))","v":""},{"$f":"IF($E40=\"\",\"\",IF(INDEX(E_SourceStreams!$A:$N,EI40,BD$7)=\"\",\"\",INDEX(E_SourceStreams!$A:$N,EI40,BD$7)))","v":""},{"$f":"IF($E40=\"\",\"\",IF(INDEX(E_SourceStreams!$A:$N,EJ40,BE$7)=\"\",\"\",INDEX(E_SourceStreams!$A:$N,EJ40,BE$7)))","v":""},{"$f":"IF($E40=\"\",\"\",IF(INDEX(E_SourceStreams!$A:$N,EK40,BF$7)=\"\",\"\",INDEX(E_SourceStreams!$A:$N,EK40,BF$7)))","v":""},{"$f":"IF($E40=\"\",\"\",IF(INDEX(E_SourceStreams!$A:$N,EL40,BG$7)=\"\",\"\",INDEX(E_SourceStreams!$A:$N,EL40,BG$7)))","v":""},{"$f":"IF($E40=\"\",\"\",IF(INDEX(E_SourceStreams!$A:$N,EM40,BH$7)=\"\",\"\",INDEX(E_SourceStreams!$A:$N,EM40,BH$7)))","v":""},{"$f":"IF($E40=\"\",\"\",IF(INDEX(E_SourceStreams!$A:$N,EN40,BI$7)=\"\",\"\",INDEX(E_SourceStreams!$A:$N,EN40,BI$7)))","v":""},{"$f":"IF($E40=\"\",\"\",IF(INDEX(E_SourceStreams!$A:$N,EO40,BJ$7)=\"\",\"\",INDEX(E_SourceStreams!$A:$N,EO40,BJ$7)))","v":""},{"$f":"IF($E40=\"\",\"\",IF(INDEX(E_SourceStreams!$A:$N,EP40,BK$7)=\"\",\"\",INDEX(E_SourceStreams!$A:$N,EP40,BK$7)))","v":""},{"$f":"IF($E40=\"\",\"\",IF(INDEX(E_SourceStreams!$A:$N,EQ40,BL$7)=\"\",\"\",INDEX(E_SourceStreams!$A:$N,EQ40,BL$7)))","v":""},{"$f":"IF($E40=\"\",\"\",IF(INDEX(E_SourceStreams!$A:$N,ER40,BM$7)=\"\",\"\",INDEX(E_SourceStreams!$A:$N,ER40,BM$7)))","v":""},{"$f":"IF($E40=\"\",\"\",IF(INDEX(E_SourceStreams!$A:$N,ES40,BN$7)=\"\",\"\",INDEX(E_SourceStreams!$A:$N,ES40,BN$7)))","v":""},{"$f":"IF($E40=\"\",\"\",IF(INDEX(E_SourceStreams!$A:$N,ET40,BO$7)=\"\",\"\",INDEX(E_SourceStreams!$A:$N,ET40,BO$7)))","v":""},{"$f":"IF($E40=\"\",\"\",IF(INDEX(E_SourceStreams!$A:$N,EU40,BP$7)=\"\",\"\",INDEX(E_SourceStreams!$A:$N,EU40,BP$7)))","v":""},{"$f":"IF($E40=\"\",\"\",IF(INDEX(E_SourceStreams!$A:$N,EV40,BQ$7)=\"\",\"\",INDEX(E_SourceStreams!$A:$N,EV40,BQ$7)))","v":""},{"$f":"IF($E40=\"\",\"\",IF(INDEX(E_SourceStreams!$A:$N,EW40,BR$7)=\"\",\"\",INDEX(E_SourceStreams!$A:$N,EW40,BR$7)))","v":""},{"$f":"IF($E40=\"\",\"\",IF(INDEX(E_SourceStreams!$A:$N,EX40,BS$7)=\"\",\"\",INDEX(E_SourceStreams!$A:$N,EX40,BS$7)))","v":""},{"$f":"IF($E40=\"\",\"\",IF(INDEX(E_SourceStreams!$A:$N,EY40,BT$7)=\"\",\"\",INDEX(E_SourceStreams!$A:$N,EY40,BT$7)))","v":""},null,null,null,null,null,null,null,null,null,null,null,null,null,null,null,"SourceCategory_",{"$f":"INDEX(C_InstallationDescription!$A$226:$A$332,ROWS($CI$11:CI40))=\"ausblenden\"","v":false},"SourceStreamName_",null,2049,2051,2053,2055,2057,2059,2061,2061,2061,2061,2061,2064,2068,2069,2070,2077,2087,2087,2087,2087,2087,2087,2087,2078,2088,2088,2088,2088,2088,2088,2088,2079,2089,2089,2089,2089,2089,2089,2089,2080,2090,2090,2090,2090,2090,2090,2090,2081,2091,2091,2091,2091,2091,2091,2091,2082,2092,2092,2092,2092,2092,2092,2092,2098]
[null,{"$f":"IF(COUNTIF($CK$10:CK41,TRUE)>0,\"\",INDEX(C_InstallationDescription!$E$226:$E$242,ROWS($A$11:A41)))","v":""},{"$f":"IF($E41=\"\",\"\",INDEX(C_InstallationDescription!F:F,MATCH($B41,C_InstallationDescription!$E:$E,0)))","v":""},{"$f":"IF($E41=\"\",\"\",INDEX(C_InstallationDescription!I:I,MATCH($B41,C_InstallationDescription!$E:$E,0)))","v":""},{"$f":"IF($B41=\"\",\"\",INDEX(C_InstallationDescription!F:F,MATCH($CJ41,C_InstallationDescription!$Q:$Q,0)))","v":""},{"$f":"IF($E41=\"\",\"\",INDEX(C_InstallationDescription!L:L,MATCH($CJ41,C_InstallationDescription!$Q:$Q,0)))","v":""},{"$f":"IF($E41=\"\",\"\",INDEX(C_InstallationDescription!M:M,MATCH($CJ41,C_InstallationDescription!$Q:$Q,0)))","v":""},{"$f":"IF($E41=\"\",\"\",INDEX(C_InstallationDescription!N:N,MATCH($CJ41,C_InstallationDescription!$Q:$Q,0)))","v":""},{"$f":"IF($E41=\"\",\"\",IF(INDEX(E_SourceStreams!$A:$N,CN41,I$7)=\"\",\"\",INDEX(E_SourceStreams!$A:$N,CN41,I$7)))","v":""},{"$f":"IF($E41=\"\",\"\",IF(INDEX(E_SourceStreams!$A:$N,CO41,J$7)=\"\",\"\",INDEX(E_SourceStreams!$A:$N,CO41,J$7)))","v":""},{"$f":"IF($E41=\"\",\"\",IF(INDEX(E_SourceStreams!$A:$N,CP41,K$7)=\"\",\"\",INDEX(E_SourceStreams!$A:$N,CP41,K$7)))","v":""},{"$f":"IF($E41=\"\",\"\",IF(INDEX(E_SourceStreams!$A:$N,CQ41,L$7)=\"\",\"\",INDEX(E_SourceStreams!$A:$N,CQ41,L$7)))","v":""},{"$f":"IF($E41=\"\",\"\",IF(INDEX(E_SourceStreams!$A:$N,CR41,M$7)=\"\",\"\",INDEX(E_SourceStreams!$A:$N,CR41,M$7)))","v":""},{"$f":"IF($E41=\"\",\"\",IF(INDEX(E_SourceStreams!$A:$N,CS41,N$7)=\"\",\"\",INDEX(E_SourceStreams!$A:$N,CS41,N$7)))","v":""},{"$f":"IF($E41=\"\",\"\",IF(INDEX(E_SourceStreams!$A:$N,CT41,O$7)=\"\",\"\",INDEX(E_SourceStreams!$A:$N,CT41,O$7)))","v":""},{"$f":"IF($E41=\"\",\"\",IF(INDEX(E_SourceStreams!$A:$N,CU41,P$7)=\"\",\"\",INDEX(E_SourceStreams!$A:$N,CU41,P$7)))","v":""},{"$f":"IF($E41=\"\",\"\",IF(INDEX(E_SourceStreams!$A:$N,CV41,Q$7)=\"\",\"\",INDEX(E_SourceStreams!$A:$N,CV41,Q$7)))","v":""},{"$f":"IF($E41=\"\",\"\",IF(INDEX(E_SourceStreams!$A:$N,CW41,R$7)=\"\",\"\",INDEX(E_SourceStreams!$A:$N,CW41,R$7)))","v":""},{"$f":"IF($E41=\"\",\"\",IF(INDEX(E_SourceStreams!$A:$N,CX41,S$7)=\"\",\"\",INDEX(E_SourceStreams!$A:$N,CX41,S$7)))","v":""},{"$f":"IF($E41=\"\",\"\",IF(INDEX(E_SourceStreams!$A:$N,CY41,T$7)=\"\",\"\",INDEX(E_SourceStreams!$A:$N,CY41,T$7)))","v":""},{"$f":"IF($E41=\"\",\"\",IF(INDEX(E_SourceStreams!$A:$N,CZ41,U$7)=\"\",\"\",INDEX(E_SourceStreams!$A:$N,CZ41,U$7)))","v":""},{"$f":"IF($E41=\"\",\"\",IF(INDEX(E_SourceStreams!$A:$N,DA41,V$7)=\"\",\"\",INDEX(E_SourceStreams!$A:$N,DA41,V$7)))","v":""},{"$f":"IF($E41=\"\",\"\",IF(INDEX(E_SourceStreams!$A:$N,DB41,W$7)=\"\",\"\",INDEX(E_SourceStreams!$A:$N,DB41,W$7)))","v":""},{"$f":"IF($E41=\"\",\"\",IF(INDEX(E_SourceStreams!$A:$N,DC41,X$7)=\"\",\"\",INDEX(E_SourceStreams!$A:$N,DC41,X$7)))","v":""},{"$f":"IF($E41=\"\",\"\",IF(INDEX(E_SourceStreams!$A:$N,DD41,Y$7)=\"\",\"\",INDEX(E_SourceStreams!$A:$N,DD41,Y$7)))","v":""},{"$f":"IF($E41=\"\",\"\",IF(INDEX(E_SourceStreams!$A:$N,DE41,Z$7)=\"\",\"\",INDEX(E_SourceStreams!$A:$N,DE41,Z$7)))","v":""},{"$f":"IF($E41=\"\",\"\",IF(INDEX(E_SourceStreams!$A:$N,DF41,AA$7)=\"\",\"\",INDEX(E_SourceStreams!$A:$N,DF41,AA$7)))","v":""},{"$f":"IF($E41=\"\",\"\",IF(INDEX(E_SourceStreams!$A:$N,DG41,AB$7)=\"\",\"\",INDEX(E_SourceStreams!$A:$N,DG41,AB$7)))","v":""},{"$f":"IF($E41=\"\",\"\",IF(INDEX(E_SourceStreams!$A:$N,DH41,AC$7)=\"\",\"\",INDEX(E_SourceStreams!$A:$N,DH41,AC$7)))","v":""},{"$f":"IF($E41=\"\",\"\",IF(INDEX(E_SourceStreams!$A:$N,DI41,AD$7)=\"\",\"\",INDEX(E_SourceStreams!$A:$N,DI41,AD$7)))","v":""},{"$f":"IF($E41=\"\",\"\",IF(INDEX(E_SourceStreams!$A:$N,DJ41,AE$7)=\"\",\"\",INDEX(E_SourceStreams!$A:$N,DJ41,AE$7)))","v":""},{"$f":"IF($E41=\"\",\"\",IF(INDEX(E_SourceStreams!$A:$N,DK41,AF$7)=\"\",\"\",INDEX(E_SourceStreams!$A:$N,DK41,AF$7)))","v":""},{"$f":"IF($E41=\"\",\"\",IF(INDEX(E_SourceStreams!$A:$N,DL41,AG$7)=\"\",\"\",INDEX(E_SourceStreams!$A:$N,DL41,AG$7)))","v":""},{"$f":"IF($E41=\"\",\"\",IF(INDEX(E_SourceStreams!$A:$N,DM41,AH$7)=\"\",\"\",INDEX(E_SourceStreams!$A:$N,DM41,AH$7)))","v":""},{"$f":"IF($E41=\"\",\"\",IF(INDEX(E_SourceStreams!$A:$N,DN41,AI$7)=\"\",\"\",INDEX(E_SourceStreams!$A:$N,DN41,AI$7)))","v":""},{"$f":"IF($E41=\"\",\"\",IF(INDEX(E_SourceStreams!$A:$N,DO41,AJ$7)=\"\",\"\",INDEX(E_SourceStreams!$A:$N,DO41,AJ$7)))","v":""},{"$f":"IF($E41=\"\",\"\",IF(INDEX(E_SourceStreams!$A:$N,DP41,AK$7)=\"\",\"\",INDEX(E_SourceStreams!$A:$N,DP41,AK$7)))","v":""},{"$f":"IF($E41=\"\",\"\",IF(INDEX(E_SourceStreams!$A:$N,DQ41,AL$7)=\"\",\"\",INDEX(E_SourceStreams!$A:$N,DQ41,AL$7)))","v":""},{"$f":"IF($E41=\"\",\"\",IF(INDEX(E_SourceStreams!$A:$N,DR41,AM$7)=\"\",\"\",INDEX(E_SourceStreams!$A:$N,DR41,AM$7)))","v":""},{"$f":"IF($E41=\"\",\"\",IF(INDEX(E_SourceStreams!$A:$N,DS41,AN$7)=\"\",\"\",INDEX(E_SourceStreams!$A:$N,DS41,AN$7)))","v":""},{"$f":"IF($E41=\"\",\"\",IF(INDEX(E_SourceStreams!$A:$N,DT41,AO$7)=\"\",\"\",INDEX(E_SourceStreams!$A:$N,DT41,AO$7)))","v":""},{"$f":"IF($E41=\"\",\"\",IF(INDEX(E_SourceStreams!$A:$N,DU41,AP$7)=\"\",\"\",INDEX(E_SourceStreams!$A:$N,DU41,AP$7)))","v":""},{"$f":"IF($E41=\"\",\"\",IF(INDEX(E_SourceStreams!$A:$N,DV41,AQ$7)=\"\",\"\",INDEX(E_SourceStreams!$A:$N,DV41,AQ$7)))","v":""},{"$f":"IF($E41=\"\",\"\",IF(INDEX(E_SourceStreams!$A:$N,DW41,AR$7)=\"\",\"\",INDEX(E_SourceStreams!$A:$N,DW41,AR$7)))","v":""},{"$f":"IF($E41=\"\",\"\",IF(INDEX(E_SourceStreams!$A:$N,DX41,AS$7)=\"\",\"\",INDEX(E_SourceStreams!$A:$N,DX41,AS$7)))","v":""},{"$f":"IF($E41=\"\",\"\",IF(INDEX(E_SourceStreams!$A:$N,DY41,AT$7)=\"\",\"\",INDEX(E_SourceStreams!$A:$N,DY41,AT$7)))","v":""},{"$f":"IF($E41=\"\",\"\",IF(INDEX(E_SourceStreams!$A:$N,DZ41,AU$7)=\"\",\"\",INDEX(E_SourceStreams!$A:$N,DZ41,AU$7)))","v":""},{"$f":"IF($E41=\"\",\"\",IF(INDEX(E_SourceStreams!$A:$N,EA41,AV$7)=\"\",\"\",INDEX(E_SourceStreams!$A:$N,EA41,AV$7)))","v":""},{"$f":"IF($E41=\"\",\"\",IF(INDEX(E_SourceStreams!$A:$N,EB41,AW$7)=\"\",\"\",INDEX(E_SourceStreams!$A:$N,EB41,AW$7)))","v":""},{"$f":"IF($E41=\"\",\"\",IF(INDEX(E_SourceStreams!$A:$N,EC41,AX$7)=\"\",\"\",INDEX(E_SourceStreams!$A:$N,EC41,AX$7)))","v":""},{"$f":"IF($E41=\"\",\"\",IF(INDEX(E_SourceStreams!$A:$N,ED41,AY$7)=\"\",\"\",INDEX(E_SourceStreams!$A:$N,ED41,AY$7)))","v":""},{"$f":"IF($E41=\"\",\"\",IF(INDEX(E_SourceStreams!$A:$N,EE41,AZ$7)=\"\",\"\",INDEX(E_SourceStreams!$A:$N,EE41,AZ$7)))","v":""},{"$f":"IF($E41=\"\",\"\",IF(INDEX(E_SourceStreams!$A:$N,EF41,BA$7)=\"\",\"\",INDEX(E_SourceStreams!$A:$N,EF41,BA$7)))","v":""},{"$f":"IF($E41=\"\",\"\",IF(INDEX(E_SourceStreams!$A:$N,EG41,BB$7)=\"\",\"\",INDEX(E_SourceStreams!$A:$N,EG41,BB$7)))","v":""},{"$f":"IF($E41=\"\",\"\",IF(INDEX(E_SourceStreams!$A:$N,EH41,BC$7)=\"\",\"\",INDEX(E_SourceStreams!$A:$N,EH41,BC$7)))","v":""},{"$f":"IF($E41=\"\",\"\",IF(INDEX(E_SourceStreams!$A:$N,EI41,BD$7)=\"\",\"\",INDEX(E_SourceStreams!$A:$N,EI41,BD$7)))","v":""},{"$f":"IF($E41=\"\",\"\",IF(INDEX(E_SourceStreams!$A:$N,EJ41,BE$7)=\"\",\"\",INDEX(E_SourceStreams!$A:$N,EJ41,BE$7)))","v":""},{"$f":"IF($E41=\"\",\"\",IF(INDEX(E_SourceStreams!$A:$N,EK41,BF$7)=\"\",\"\",INDEX(E_SourceStreams!$A:$N,EK41,BF$7)))","v":""},{"$f":"IF($E41=\"\",\"\",IF(INDEX(E_SourceStreams!$A:$N,EL41,BG$7)=\"\",\"\",INDEX(E_SourceStreams!$A:$N,EL41,BG$7)))","v":""},{"$f":"IF($E41=\"\",\"\",IF(INDEX(E_SourceStreams!$A:$N,EM41,BH$7)=\"\",\"\",INDEX(E_SourceStreams!$A:$N,EM41,BH$7)))","v":""},{"$f":"IF($E41=\"\",\"\",IF(INDEX(E_SourceStreams!$A:$N,EN41,BI$7)=\"\",\"\",INDEX(E_SourceStreams!$A:$N,EN41,BI$7)))","v":""},{"$f":"IF($E41=\"\",\"\",IF(INDEX(E_SourceStreams!$A:$N,EO41,BJ$7)=\"\",\"\",INDEX(E_SourceStreams!$A:$N,EO41,BJ$7)))","v":""},{"$f":"IF($E41=\"\",\"\",IF(INDEX(E_SourceStreams!$A:$N,EP41,BK$7)=\"\",\"\",INDEX(E_SourceStreams!$A:$N,EP41,BK$7)))","v":""},{"$f":"IF($E41=\"\",\"\",IF(INDEX(E_SourceStreams!$A:$N,EQ41,BL$7)=\"\",\"\",INDEX(E_SourceStreams!$A:$N,EQ41,BL$7)))","v":""},{"$f":"IF($E41=\"\",\"\",IF(INDEX(E_SourceStreams!$A:$N,ER41,BM$7)=\"\",\"\",INDEX(E_SourceStreams!$A:$N,ER41,BM$7)))","v":""},{"$f":"IF($E41=\"\",\"\",IF(INDEX(E_SourceStreams!$A:$N,ES41,BN$7)=\"\",\"\",INDEX(E_SourceStreams!$A:$N,ES41,BN$7)))","v":""},{"$f":"IF($E41=\"\",\"\",IF(INDEX(E_SourceStreams!$A:$N,ET41,BO$7)=\"\",\"\",INDEX(E_SourceStreams!$A:$N,ET41,BO$7)))","v":""},{"$f":"IF($E41=\"\",\"\",IF(INDEX(E_SourceStreams!$A:$N,EU41,BP$7)=\"\",\"\",INDEX(E_SourceStreams!$A:$N,EU41,BP$7)))","v":""},{"$f":"IF($E41=\"\",\"\",IF(INDEX(E_SourceStreams!$A:$N,EV41,BQ$7)=\"\",\"\",INDEX(E_SourceStreams!$A:$N,EV41,BQ$7)))","v":""},{"$f":"IF($E41=\"\",\"\",IF(INDEX(E_SourceStreams!$A:$N,EW41,BR$7)=\"\",\"\",INDEX(E_SourceStreams!$A:$N,EW41,BR$7)))","v":""},{"$f":"IF($E41=\"\",\"\",IF(INDEX(E_SourceStreams!$A:$N,EX41,BS$7)=\"\",\"\",INDEX(E_SourceStreams!$A:$N,EX41,BS$7)))","v":""},{"$f":"IF($E41=\"\",\"\",IF(INDEX(E_SourceStreams!$A:$N,EY41,BT$7)=\"\",\"\",INDEX(E_SourceStreams!$A:$N,EY41,BT$7)))","v":""},null,null,null,null,null,null,null,null,null,null,null,null,null,null,null,"SourceCategory_",{"$f":"INDEX(C_InstallationDescription!$A$226:$A$332,ROWS($CI$11:CI41))=\"ausblenden\"","v":false},"SourceStreamName_",null,2115,2117,2119,2121,2123,2125,2127,2127,2127,2127,2127,2130,2134,2135,2136,2143,2153,2153,2153,2153,2153,2153,2153,2144,2154,2154,2154,2154,2154,2154,2154,2145,2155,2155,2155,2155,2155,2155,2155,2146,2156,2156,2156,2156,2156,2156,2156,2147,2157,2157,2157,2157,2157,2157,2157,2148,2158,2158,2158,2158,2158,2158,2158,2164]
[null,{"$f":"IF(COUNTIF($CK$10:CK42,TRUE)>0,\"\",INDEX(C_InstallationDescription!$E$226:$E$242,ROWS($A$11:A42)))","v":""},{"$f":"IF($E42=\"\",\"\",INDEX(C_InstallationDescription!F:F,MATCH($B42,C_InstallationDescription!$E:$E,0)))","v":""},{"$f":"IF($E42=\"\",\"\",INDEX(C_InstallationDescription!I:I,MATCH($B42,C_InstallationDescription!$E:$E,0)))","v":""},{"$f":"IF($B42=\"\",\"\",INDEX(C_InstallationDescription!F:F,MATCH($CJ42,C_InstallationDescription!$Q:$Q,0)))","v":""},{"$f":"IF($E42=\"\",\"\",INDEX(C_InstallationDescription!L:L,MATCH($CJ42,C_InstallationDescription!$Q:$Q,0)))","v":""},{"$f":"IF($E42=\"\",\"\",INDEX(C_InstallationDescription!M:M,MATCH($CJ42,C_InstallationDescription!$Q:$Q,0)))","v":""},{"$f":"IF($E42=\"\",\"\",INDEX(C_InstallationDescription!N:N,MATCH($CJ42,C_InstallationDescription!$Q:$Q,0)))","v":""},{"$f":"IF($E42=\"\",\"\",IF(INDEX(E_SourceStreams!$A:$N,CN42,I$7)=\"\",\"\",INDEX(E_SourceStreams!$A:$N,CN42,I$7)))","v":""},{"$f":"IF($E42=\"\",\"\",IF(INDEX(E_SourceStreams!$A:$N,CO42,J$7)=\"\",\"\",INDEX(E_SourceStreams!$A:$N,CO42,J$7)))","v":""},{"$f":"IF($E42=\"\",\"\",IF(INDEX(E_SourceStreams!$A:$N,CP42,K$7)=\"\",\"\",INDEX(E_SourceStreams!$A:$N,CP42,K$7)))","v":""},{"$f":"IF($E42=\"\",\"\",IF(INDEX(E_SourceStreams!$A:$N,CQ42,L$7)=\"\",\"\",INDEX(E_SourceStreams!$A:$N,CQ42,L$7)))","v":""},{"$f":"IF($E42=\"\",\"\",IF(INDEX(E_SourceStreams!$A:$N,CR42,M$7)=\"\",\"\",INDEX(E_SourceStreams!$A:$N,CR42,M$7)))","v":""},{"$f":"IF($E42=\"\",\"\",IF(INDEX(E_SourceStreams!$A:$N,CS42,N$7)=\"\",\"\",INDEX(E_SourceStreams!$A:$N,CS42,N$7)))","v":""},{"$f":"IF($E42=\"\",\"\",IF(INDEX(E_SourceStreams!$A:$N,CT42,O$7)=\"\",\"\",INDEX(E_SourceStreams!$A:$N,CT42,O$7)))","v":""},{"$f":"IF($E42=\"\",\"\",IF(INDEX(E_SourceStreams!$A:$N,CU42,P$7)=\"\",\"\",INDEX(E_SourceStreams!$A:$N,CU42,P$7)))","v":""},{"$f":"IF($E42=\"\",\"\",IF(INDEX(E_SourceStreams!$A:$N,CV42,Q$7)=\"\",\"\",INDEX(E_SourceStreams!$A:$N,CV42,Q$7)))","v":""},{"$f":"IF($E42=\"\",\"\",IF(INDEX(E_SourceStreams!$A:$N,CW42,R$7)=\"\",\"\",INDEX(E_SourceStreams!$A:$N,CW42,R$7)))","v":""},{"$f":"IF($E42=\"\",\"\",IF(INDEX(E_SourceStreams!$A:$N,CX42,S$7)=\"\",\"\",INDEX(E_SourceStreams!$A:$N,CX42,S$7)))","v":""},{"$f":"IF($E42=\"\",\"\",IF(INDEX(E_SourceStreams!$A:$N,CY42,T$7)=\"\",\"\",INDEX(E_SourceStreams!$A:$N,CY42,T$7)))","v":""},{"$f":"IF($E42=\"\",\"\",IF(INDEX(E_SourceStreams!$A:$N,CZ42,U$7)=\"\",\"\",INDEX(E_SourceStreams!$A:$N,CZ42,U$7)))","v":""},{"$f":"IF($E42=\"\",\"\",IF(INDEX(E_SourceStreams!$A:$N,DA42,V$7)=\"\",\"\",INDEX(E_SourceStreams!$A:$N,DA42,V$7)))","v":""},{"$f":"IF($E42=\"\",\"\",IF(INDEX(E_SourceStreams!$A:$N,DB42,W$7)=\"\",\"\",INDEX(E_SourceStreams!$A:$N,DB42,W$7)))","v":""},{"$f":"IF($E42=\"\",\"\",IF(INDEX(E_SourceStreams!$A:$N,DC42,X$7)=\"\",\"\",INDEX(E_SourceStreams!$A:$N,DC42,X$7)))","v":""},{"$f":"IF($E42=\"\",\"\",IF(INDEX(E_SourceStreams!$A:$N,DD42,Y$7)=\"\",\"\",INDEX(E_SourceStreams!$A:$N,DD42,Y$7)))","v":""},{"$f":"IF($E42=\"\",\"\",IF(INDEX(E_SourceStreams!$A:$N,DE42,Z$7)=\"\",\"\",INDEX(E_SourceStreams!$A:$N,DE42,Z$7)))","v":""},{"$f":"IF($E42=\"\",\"\",IF(INDEX(E_SourceStreams!$A:$N,DF42,AA$7)=\"\",\"\",INDEX(E_SourceStreams!$A:$N,DF42,AA$7)))","v":""},{"$f":"IF($E42=\"\",\"\",IF(INDEX(E_SourceStreams!$A:$N,DG42,AB$7)=\"\",\"\",INDEX(E_SourceStreams!$A:$N,DG42,AB$7)))","v":""},{"$f":"IF($E42=\"\",\"\",IF(INDEX(E_SourceStreams!$A:$N,DH42,AC$7)=\"\",\"\",INDEX(E_SourceStreams!$A:$N,DH42,AC$7)))","v":""},{"$f":"IF($E42=\"\",\"\",IF(INDEX(E_SourceStreams!$A:$N,DI42,AD$7)=\"\",\"\",INDEX(E_SourceStreams!$A:$N,DI42,AD$7)))","v":""},{"$f":"IF($E42=\"\",\"\",IF(INDEX(E_SourceStreams!$A:$N,DJ42,AE$7)=\"\",\"\",INDEX(E_SourceStreams!$A:$N,DJ42,AE$7)))","v":""},{"$f":"IF($E42=\"\",\"\",IF(INDEX(E_SourceStreams!$A:$N,DK42,AF$7)=\"\",\"\",INDEX(E_SourceStreams!$A:$N,DK42,AF$7)))","v":""},{"$f":"IF($E42=\"\",\"\",IF(INDEX(E_SourceStreams!$A:$N,DL42,AG$7)=\"\",\"\",INDEX(E_SourceStreams!$A:$N,DL42,AG$7)))","v":""},{"$f":"IF($E42=\"\",\"\",IF(INDEX(E_SourceStreams!$A:$N,DM42,AH$7)=\"\",\"\",INDEX(E_SourceStreams!$A:$N,DM42,AH$7)))","v":""},{"$f":"IF($E42=\"\",\"\",IF(INDEX(E_SourceStreams!$A:$N,DN42,AI$7)=\"\",\"\",INDEX(E_SourceStreams!$A:$N,DN42,AI$7)))","v":""},{"$f":"IF($E42=\"\",\"\",IF(INDEX(E_SourceStreams!$A:$N,DO42,AJ$7)=\"\",\"\",INDEX(E_SourceStreams!$A:$N,DO42,AJ$7)))","v":""},{"$f":"IF($E42=\"\",\"\",IF(INDEX(E_SourceStreams!$A:$N,DP42,AK$7)=\"\",\"\",INDEX(E_SourceStreams!$A:$N,DP42,AK$7)))","v":""},{"$f":"IF($E42=\"\",\"\",IF(INDEX(E_SourceStreams!$A:$N,DQ42,AL$7)=\"\",\"\",INDEX(E_SourceStreams!$A:$N,DQ42,AL$7)))","v":""},{"$f":"IF($E42=\"\",\"\",IF(INDEX(E_SourceStreams!$A:$N,DR42,AM$7)=\"\",\"\",INDEX(E_SourceStreams!$A:$N,DR42,AM$7)))","v":""},{"$f":"IF($E42=\"\",\"\",IF(INDEX(E_SourceStreams!$A:$N,DS42,AN$7)=\"\",\"\",INDEX(E_SourceStreams!$A:$N,DS42,AN$7)))","v":""},{"$f":"IF($E42=\"\",\"\",IF(INDEX(E_SourceStreams!$A:$N,DT42,AO$7)=\"\",\"\",INDEX(E_SourceStreams!$A:$N,DT42,AO$7)))","v":""},{"$f":"IF($E42=\"\",\"\",IF(INDEX(E_SourceStreams!$A:$N,DU42,AP$7)=\"\",\"\",INDEX(E_SourceStreams!$A:$N,DU42,AP$7)))","v":""},{"$f":"IF($E42=\"\",\"\",IF(INDEX(E_SourceStreams!$A:$N,DV42,AQ$7)=\"\",\"\",INDEX(E_SourceStreams!$A:$N,DV42,AQ$7)))","v":""},{"$f":"IF($E42=\"\",\"\",IF(INDEX(E_SourceStreams!$A:$N,DW42,AR$7)=\"\",\"\",INDEX(E_SourceStreams!$A:$N,DW42,AR$7)))","v":""},{"$f":"IF($E42=\"\",\"\",IF(INDEX(E_SourceStreams!$A:$N,DX42,AS$7)=\"\",\"\",INDEX(E_SourceStreams!$A:$N,DX42,AS$7)))","v":""},{"$f":"IF($E42=\"\",\"\",IF(INDEX(E_SourceStreams!$A:$N,DY42,AT$7)=\"\",\"\",INDEX(E_SourceStreams!$A:$N,DY42,AT$7)))","v":""},{"$f":"IF($E42=\"\",\"\",IF(INDEX(E_SourceStreams!$A:$N,DZ42,AU$7)=\"\",\"\",INDEX(E_SourceStreams!$A:$N,DZ42,AU$7)))","v":""},{"$f":"IF($E42=\"\",\"\",IF(INDEX(E_SourceStreams!$A:$N,EA42,AV$7)=\"\",\"\",INDEX(E_SourceStreams!$A:$N,EA42,AV$7)))","v":""},{"$f":"IF($E42=\"\",\"\",IF(INDEX(E_SourceStreams!$A:$N,EB42,AW$7)=\"\",\"\",INDEX(E_SourceStreams!$A:$N,EB42,AW$7)))","v":""},{"$f":"IF($E42=\"\",\"\",IF(INDEX(E_SourceStreams!$A:$N,EC42,AX$7)=\"\",\"\",INDEX(E_SourceStreams!$A:$N,EC42,AX$7)))","v":""},{"$f":"IF($E42=\"\",\"\",IF(INDEX(E_SourceStreams!$A:$N,ED42,AY$7)=\"\",\"\",INDEX(E_SourceStreams!$A:$N,ED42,AY$7)))","v":""},{"$f":"IF($E42=\"\",\"\",IF(INDEX(E_SourceStreams!$A:$N,EE42,AZ$7)=\"\",\"\",INDEX(E_SourceStreams!$A:$N,EE42,AZ$7)))","v":""},{"$f":"IF($E42=\"\",\"\",IF(INDEX(E_SourceStreams!$A:$N,EF42,BA$7)=\"\",\"\",INDEX(E_SourceStreams!$A:$N,EF42,BA$7)))","v":""},{"$f":"IF($E42=\"\",\"\",IF(INDEX(E_SourceStreams!$A:$N,EG42,BB$7)=\"\",\"\",INDEX(E_SourceStreams!$A:$N,EG42,BB$7)))","v":""},{"$f":"IF($E42=\"\",\"\",IF(INDEX(E_SourceStreams!$A:$N,EH42,BC$7)=\"\",\"\",INDEX(E_SourceStreams!$A:$N,EH42,BC$7)))","v":""},{"$f":"IF($E42=\"\",\"\",IF(INDEX(E_SourceStreams!$A:$N,EI42,BD$7)=\"\",\"\",INDEX(E_SourceStreams!$A:$N,EI42,BD$7)))","v":""},{"$f":"IF($E42=\"\",\"\",IF(INDEX(E_SourceStreams!$A:$N,EJ42,BE$7)=\"\",\"\",INDEX(E_SourceStreams!$A:$N,EJ42,BE$7)))","v":""},{"$f":"IF($E42=\"\",\"\",IF(INDEX(E_SourceStreams!$A:$N,EK42,BF$7)=\"\",\"\",INDEX(E_SourceStreams!$A:$N,EK42,BF$7)))","v":""},{"$f":"IF($E42=\"\",\"\",IF(INDEX(E_SourceStreams!$A:$N,EL42,BG$7)=\"\",\"\",INDEX(E_SourceStreams!$A:$N,EL42,BG$7)))","v":""},{"$f":"IF($E42=\"\",\"\",IF(INDEX(E_SourceStreams!$A:$N,EM42,BH$7)=\"\",\"\",INDEX(E_SourceStreams!$A:$N,EM42,BH$7)))","v":""},{"$f":"IF($E42=\"\",\"\",IF(INDEX(E_SourceStreams!$A:$N,EN42,BI$7)=\"\",\"\",INDEX(E_SourceStreams!$A:$N,EN42,BI$7)))","v":""},{"$f":"IF($E42=\"\",\"\",IF(INDEX(E_SourceStreams!$A:$N,EO42,BJ$7)=\"\",\"\",INDEX(E_SourceStreams!$A:$N,EO42,BJ$7)))","v":""},{"$f":"IF($E42=\"\",\"\",IF(INDEX(E_SourceStreams!$A:$N,EP42,BK$7)=\"\",\"\",INDEX(E_SourceStreams!$A:$N,EP42,BK$7)))","v":""},{"$f":"IF($E42=\"\",\"\",IF(INDEX(E_SourceStreams!$A:$N,EQ42,BL$7)=\"\",\"\",INDEX(E_SourceStreams!$A:$N,EQ42,BL$7)))","v":""},{"$f":"IF($E42=\"\",\"\",IF(INDEX(E_SourceStreams!$A:$N,ER42,BM$7)=\"\",\"\",INDEX(E_SourceStreams!$A:$N,ER42,BM$7)))","v":""},{"$f":"IF($E42=\"\",\"\",IF(INDEX(E_SourceStreams!$A:$N,ES42,BN$7)=\"\",\"\",INDEX(E_SourceStreams!$A:$N,ES42,BN$7)))","v":""},{"$f":"IF($E42=\"\",\"\",IF(INDEX(E_SourceStreams!$A:$N,ET42,BO$7)=\"\",\"\",INDEX(E_SourceStreams!$A:$N,ET42,BO$7)))","v":""},{"$f":"IF($E42=\"\",\"\",IF(INDEX(E_SourceStreams!$A:$N,EU42,BP$7)=\"\",\"\",INDEX(E_SourceStreams!$A:$N,EU42,BP$7)))","v":""},{"$f":"IF($E42=\"\",\"\",IF(INDEX(E_SourceStreams!$A:$N,EV42,BQ$7)=\"\",\"\",INDEX(E_SourceStreams!$A:$N,EV42,BQ$7)))","v":""},{"$f":"IF($E42=\"\",\"\",IF(INDEX(E_SourceStreams!$A:$N,EW42,BR$7)=\"\",\"\",INDEX(E_SourceStreams!$A:$N,EW42,BR$7)))","v":""},{"$f":"IF($E42=\"\",\"\",IF(INDEX(E_SourceStreams!$A:$N,EX42,BS$7)=\"\",\"\",INDEX(E_SourceStreams!$A:$N,EX42,BS$7)))","v":""},{"$f":"IF($E42=\"\",\"\",IF(INDEX(E_SourceStreams!$A:$N,EY42,BT$7)=\"\",\"\",INDEX(E_SourceStreams!$A:$N,EY42,BT$7)))","v":""},null,null,null,null,null,null,null,null,null,null,null,null,null,null,null,"SourceCategory_",{"$f":"INDEX(C_InstallationDescription!$A$226:$A$332,ROWS($CI$11:CI42))=\"ausblenden\"","v":false},"SourceStreamName_",null,2181,2183,2185,2187,2189,2191,2193,2193,2193,2193,2193,2196,2200,2201,2202,2209,2219,2219,2219,2219,2219,2219,2219,2210,2220,2220,2220,2220,2220,2220,2220,2211,2221,2221,2221,2221,2221,2221,2221,2212,2222,2222,2222,2222,2222,2222,2222,2213,2223,2223,2223,2223,2223,2223,2223,2214,2224,2224,2224,2224,2224,2224,2224,2230]
[null,{"$f":"IF(COUNTIF($CK$10:CK43,TRUE)>0,\"\",INDEX(C_InstallationDescription!$E$226:$E$242,ROWS($A$11:A43)))","v":""},{"$f":"IF($E43=\"\",\"\",INDEX(C_InstallationDescription!F:F,MATCH($B43,C_InstallationDescription!$E:$E,0)))","v":""},{"$f":"IF($E43=\"\",\"\",INDEX(C_InstallationDescription!I:I,MATCH($B43,C_InstallationDescription!$E:$E,0)))","v":""},{"$f":"IF($B43=\"\",\"\",INDEX(C_InstallationDescription!F:F,MATCH($CJ43,C_InstallationDescription!$Q:$Q,0)))","v":""},{"$f":"IF($E43=\"\",\"\",INDEX(C_InstallationDescription!L:L,MATCH($CJ43,C_InstallationDescription!$Q:$Q,0)))","v":""},{"$f":"IF($E43=\"\",\"\",INDEX(C_InstallationDescription!M:M,MATCH($CJ43,C_InstallationDescription!$Q:$Q,0)))","v":""},{"$f":"IF($E43=\"\",\"\",INDEX(C_InstallationDescription!N:N,MATCH($CJ43,C_InstallationDescription!$Q:$Q,0)))","v":""},{"$f":"IF($E43=\"\",\"\",IF(INDEX(E_SourceStreams!$A:$N,CN43,I$7)=\"\",\"\",INDEX(E_SourceStreams!$A:$N,CN43,I$7)))","v":""},{"$f":"IF($E43=\"\",\"\",IF(INDEX(E_SourceStreams!$A:$N,CO43,J$7)=\"\",\"\",INDEX(E_SourceStreams!$A:$N,CO43,J$7)))","v":""},{"$f":"IF($E43=\"\",\"\",IF(INDEX(E_SourceStreams!$A:$N,CP43,K$7)=\"\",\"\",INDEX(E_SourceStreams!$A:$N,CP43,K$7)))","v":""},{"$f":"IF($E43=\"\",\"\",IF(INDEX(E_SourceStreams!$A:$N,CQ43,L$7)=\"\",\"\",INDEX(E_SourceStreams!$A:$N,CQ43,L$7)))","v":""},{"$f":"IF($E43=\"\",\"\",IF(INDEX(E_SourceStreams!$A:$N,CR43,M$7)=\"\",\"\",INDEX(E_SourceStreams!$A:$N,CR43,M$7)))","v":""},{"$f":"IF($E43=\"\",\"\",IF(INDEX(E_SourceStreams!$A:$N,CS43,N$7)=\"\",\"\",INDEX(E_SourceStreams!$A:$N,CS43,N$7)))","v":""},{"$f":"IF($E43=\"\",\"\",IF(INDEX(E_SourceStreams!$A:$N,CT43,O$7)=\"\",\"\",INDEX(E_SourceStreams!$A:$N,CT43,O$7)))","v":""},{"$f":"IF($E43=\"\",\"\",IF(INDEX(E_SourceStreams!$A:$N,CU43,P$7)=\"\",\"\",INDEX(E_SourceStreams!$A:$N,CU43,P$7)))","v":""},{"$f":"IF($E43=\"\",\"\",IF(INDEX(E_SourceStreams!$A:$N,CV43,Q$7)=\"\",\"\",INDEX(E_SourceStreams!$A:$N,CV43,Q$7)))","v":""},{"$f":"IF($E43=\"\",\"\",IF(INDEX(E_SourceStreams!$A:$N,CW43,R$7)=\"\",\"\",INDEX(E_SourceStreams!$A:$N,CW43,R$7)))","v":""},{"$f":"IF($E43=\"\",\"\",IF(INDEX(E_SourceStreams!$A:$N,CX43,S$7)=\"\",\"\",INDEX(E_SourceStreams!$A:$N,CX43,S$7)))","v":""},{"$f":"IF($E43=\"\",\"\",IF(INDEX(E_SourceStreams!$A:$N,CY43,T$7)=\"\",\"\",INDEX(E_SourceStreams!$A:$N,CY43,T$7)))","v":""},{"$f":"IF($E43=\"\",\"\",IF(INDEX(E_SourceStreams!$A:$N,CZ43,U$7)=\"\",\"\",INDEX(E_SourceStreams!$A:$N,CZ43,U$7)))","v":""},{"$f":"IF($E43=\"\",\"\",IF(INDEX(E_SourceStreams!$A:$N,DA43,V$7)=\"\",\"\",INDEX(E_SourceStreams!$A:$N,DA43,V$7)))","v":""},{"$f":"IF($E43=\"\",\"\",IF(INDEX(E_SourceStreams!$A:$N,DB43,W$7)=\"\",\"\",INDEX(E_SourceStreams!$A:$N,DB43,W$7)))","v":""},{"$f":"IF($E43=\"\",\"\",IF(INDEX(E_SourceStreams!$A:$N,DC43,X$7)=\"\",\"\",INDEX(E_SourceStreams!$A:$N,DC43,X$7)))","v":""},{"$f":"IF($E43=\"\",\"\",IF(INDEX(E_SourceStreams!$A:$N,DD43,Y$7)=\"\",\"\",INDEX(E_SourceStreams!$A:$N,DD43,Y$7)))","v":""},{"$f":"IF($E43=\"\",\"\",IF(INDEX(E_SourceStreams!$A:$N,DE43,Z$7)=\"\",\"\",INDEX(E_SourceStreams!$A:$N,DE43,Z$7)))","v":""},{"$f":"IF($E43=\"\",\"\",IF(INDEX(E_SourceStreams!$A:$N,DF43,AA$7)=\"\",\"\",INDEX(E_SourceStreams!$A:$N,DF43,AA$7)))","v":""},{"$f":"IF($E43=\"\",\"\",IF(INDEX(E_SourceStreams!$A:$N,DG43,AB$7)=\"\",\"\",INDEX(E_SourceStreams!$A:$N,DG43,AB$7)))","v":""},{"$f":"IF($E43=\"\",\"\",IF(INDEX(E_SourceStreams!$A:$N,DH43,AC$7)=\"\",\"\",INDEX(E_SourceStreams!$A:$N,DH43,AC$7)))","v":""},{"$f":"IF($E43=\"\",\"\",IF(INDEX(E_SourceStreams!$A:$N,DI43,AD$7)=\"\",\"\",INDEX(E_SourceStreams!$A:$N,DI43,AD$7)))","v":""},{"$f":"IF($E43=\"\",\"\",IF(INDEX(E_SourceStreams!$A:$N,DJ43,AE$7)=\"\",\"\",INDEX(E_SourceStreams!$A:$N,DJ43,AE$7)))","v":""},{"$f":"IF($E43=\"\",\"\",IF(INDEX(E_SourceStreams!$A:$N,DK43,AF$7)=\"\",\"\",INDEX(E_SourceStreams!$A:$N,DK43,AF$7)))","v":""},{"$f":"IF($E43=\"\",\"\",IF(INDEX(E_SourceStreams!$A:$N,DL43,AG$7)=\"\",\"\",INDEX(E_SourceStreams!$A:$N,DL43,AG$7)))","v":""},{"$f":"IF($E43=\"\",\"\",IF(INDEX(E_SourceStreams!$A:$N,DM43,AH$7)=\"\",\"\",INDEX(E_SourceStreams!$A:$N,DM43,AH$7)))","v":""},{"$f":"IF($E43=\"\",\"\",IF(INDEX(E_SourceStreams!$A:$N,DN43,AI$7)=\"\",\"\",INDEX(E_SourceStreams!$A:$N,DN43,AI$7)))","v":""},{"$f":"IF($E43=\"\",\"\",IF(INDEX(E_SourceStreams!$A:$N,DO43,AJ$7)=\"\",\"\",INDEX(E_SourceStreams!$A:$N,DO43,AJ$7)))","v":""},{"$f":"IF($E43=\"\",\"\",IF(INDEX(E_SourceStreams!$A:$N,DP43,AK$7)=\"\",\"\",INDEX(E_SourceStreams!$A:$N,DP43,AK$7)))","v":""},{"$f":"IF($E43=\"\",\"\",IF(INDEX(E_SourceStreams!$A:$N,DQ43,AL$7)=\"\",\"\",INDEX(E_SourceStreams!$A:$N,DQ43,AL$7)))","v":""},{"$f":"IF($E43=\"\",\"\",IF(INDEX(E_SourceStreams!$A:$N,DR43,AM$7)=\"\",\"\",INDEX(E_SourceStreams!$A:$N,DR43,AM$7)))","v":""},{"$f":"IF($E43=\"\",\"\",IF(INDEX(E_SourceStreams!$A:$N,DS43,AN$7)=\"\",\"\",INDEX(E_SourceStreams!$A:$N,DS43,AN$7)))","v":""},{"$f":"IF($E43=\"\",\"\",IF(INDEX(E_SourceStreams!$A:$N,DT43,AO$7)=\"\",\"\",INDEX(E_SourceStreams!$A:$N,DT43,AO$7)))","v":""},{"$f":"IF($E43=\"\",\"\",IF(INDEX(E_SourceStreams!$A:$N,DU43,AP$7)=\"\",\"\",INDEX(E_SourceStreams!$A:$N,DU43,AP$7)))","v":""},{"$f":"IF($E43=\"\",\"\",IF(INDEX(E_SourceStreams!$A:$N,DV43,AQ$7)=\"\",\"\",INDEX(E_SourceStreams!$A:$N,DV43,AQ$7)))","v":""},{"$f":"IF($E43=\"\",\"\",IF(INDEX(E_SourceStreams!$A:$N,DW43,AR$7)=\"\",\"\",INDEX(E_SourceStreams!$A:$N,DW43,AR$7)))","v":""},{"$f":"IF($E43=\"\",\"\",IF(INDEX(E_SourceStreams!$A:$N,DX43,AS$7)=\"\",\"\",INDEX(E_SourceStreams!$A:$N,DX43,AS$7)))","v":""},{"$f":"IF($E43=\"\",\"\",IF(INDEX(E_SourceStreams!$A:$N,DY43,AT$7)=\"\",\"\",INDEX(E_SourceStreams!$A:$N,DY43,AT$7)))","v":""},{"$f":"IF($E43=\"\",\"\",IF(INDEX(E_SourceStreams!$A:$N,DZ43,AU$7)=\"\",\"\",INDEX(E_SourceStreams!$A:$N,DZ43,AU$7)))","v":""},{"$f":"IF($E43=\"\",\"\",IF(INDEX(E_SourceStreams!$A:$N,EA43,AV$7)=\"\",\"\",INDEX(E_SourceStreams!$A:$N,EA43,AV$7)))","v":""},{"$f":"IF($E43=\"\",\"\",IF(INDEX(E_SourceStreams!$A:$N,EB43,AW$7)=\"\",\"\",INDEX(E_SourceStreams!$A:$N,EB43,AW$7)))","v":""},{"$f":"IF($E43=\"\",\"\",IF(INDEX(E_SourceStreams!$A:$N,EC43,AX$7)=\"\",\"\",INDEX(E_SourceStreams!$A:$N,EC43,AX$7)))","v":""},{"$f":"IF($E43=\"\",\"\",IF(INDEX(E_SourceStreams!$A:$N,ED43,AY$7)=\"\",\"\",INDEX(E_SourceStreams!$A:$N,ED43,AY$7)))","v":""},{"$f":"IF($E43=\"\",\"\",IF(INDEX(E_SourceStreams!$A:$N,EE43,AZ$7)=\"\",\"\",INDEX(E_SourceStreams!$A:$N,EE43,AZ$7)))","v":""},{"$f":"IF($E43=\"\",\"\",IF(INDEX(E_SourceStreams!$A:$N,EF43,BA$7)=\"\",\"\",INDEX(E_SourceStreams!$A:$N,EF43,BA$7)))","v":""},{"$f":"IF($E43=\"\",\"\",IF(INDEX(E_SourceStreams!$A:$N,EG43,BB$7)=\"\",\"\",INDEX(E_SourceStreams!$A:$N,EG43,BB$7)))","v":""},{"$f":"IF($E43=\"\",\"\",IF(INDEX(E_SourceStreams!$A:$N,EH43,BC$7)=\"\",\"\",INDEX(E_SourceStreams!$A:$N,EH43,BC$7)))","v":""},{"$f":"IF($E43=\"\",\"\",IF(INDEX(E_SourceStreams!$A:$N,EI43,BD$7)=\"\",\"\",INDEX(E_SourceStreams!$A:$N,EI43,BD$7)))","v":""},{"$f":"IF($E43=\"\",\"\",IF(INDEX(E_SourceStreams!$A:$N,EJ43,BE$7)=\"\",\"\",INDEX(E_SourceStreams!$A:$N,EJ43,BE$7)))","v":""},{"$f":"IF($E43=\"\",\"\",IF(INDEX(E_SourceStreams!$A:$N,EK43,BF$7)=\"\",\"\",INDEX(E_SourceStreams!$A:$N,EK43,BF$7)))","v":""},{"$f":"IF($E43=\"\",\"\",IF(INDEX(E_SourceStreams!$A:$N,EL43,BG$7)=\"\",\"\",INDEX(E_SourceStreams!$A:$N,EL43,BG$7)))","v":""},{"$f":"IF($E43=\"\",\"\",IF(INDEX(E_SourceStreams!$A:$N,EM43,BH$7)=\"\",\"\",INDEX(E_SourceStreams!$A:$N,EM43,BH$7)))","v":""},{"$f":"IF($E43=\"\",\"\",IF(INDEX(E_SourceStreams!$A:$N,EN43,BI$7)=\"\",\"\",INDEX(E_SourceStreams!$A:$N,EN43,BI$7)))","v":""},{"$f":"IF($E43=\"\",\"\",IF(INDEX(E_SourceStreams!$A:$N,EO43,BJ$7)=\"\",\"\",INDEX(E_SourceStreams!$A:$N,EO43,BJ$7)))","v":""},{"$f":"IF($E43=\"\",\"\",IF(INDEX(E_SourceStreams!$A:$N,EP43,BK$7)=\"\",\"\",INDEX(E_SourceStreams!$A:$N,EP43,BK$7)))","v":""},{"$f":"IF($E43=\"\",\"\",IF(INDEX(E_SourceStreams!$A:$N,EQ43,BL$7)=\"\",\"\",INDEX(E_SourceStreams!$A:$N,EQ43,BL$7)))","v":""},{"$f":"IF($E43=\"\",\"\",IF(INDEX(E_SourceStreams!$A:$N,ER43,BM$7)=\"\",\"\",INDEX(E_SourceStreams!$A:$N,ER43,BM$7)))","v":""},{"$f":"IF($E43=\"\",\"\",IF(INDEX(E_SourceStreams!$A:$N,ES43,BN$7)=\"\",\"\",INDEX(E_SourceStreams!$A:$N,ES43,BN$7)))","v":""},{"$f":"IF($E43=\"\",\"\",IF(INDEX(E_SourceStreams!$A:$N,ET43,BO$7)=\"\",\"\",INDEX(E_SourceStreams!$A:$N,ET43,BO$7)))","v":""},{"$f":"IF($E43=\"\",\"\",IF(INDEX(E_SourceStreams!$A:$N,EU43,BP$7)=\"\",\"\",INDEX(E_SourceStreams!$A:$N,EU43,BP$7)))","v":""},{"$f":"IF($E43=\"\",\"\",IF(INDEX(E_SourceStreams!$A:$N,EV43,BQ$7)=\"\",\"\",INDEX(E_SourceStreams!$A:$N,EV43,BQ$7)))","v":""},{"$f":"IF($E43=\"\",\"\",IF(INDEX(E_SourceStreams!$A:$N,EW43,BR$7)=\"\",\"\",INDEX(E_SourceStreams!$A:$N,EW43,BR$7)))","v":""},{"$f":"IF($E43=\"\",\"\",IF(INDEX(E_SourceStreams!$A:$N,EX43,BS$7)=\"\",\"\",INDEX(E_SourceStreams!$A:$N,EX43,BS$7)))","v":""},{"$f":"IF($E43=\"\",\"\",IF(INDEX(E_SourceStreams!$A:$N,EY43,BT$7)=\"\",\"\",INDEX(E_SourceStreams!$A:$N,EY43,BT$7)))","v":""},null,null,null,null,null,null,null,null,null,null,null,null,null,null,null,{"$f":"EUconst_CNTR_SourceCategory&B43","v":"SourceCategory_"},{"$f":"INDEX(C_InstallationDescription!$A$226:$A$332,ROWS($CI$11:CI43))=\"ausblenden\"","v":false},{"$f":"EUconst_CNTR_SourceStreamName&B43","v":"SourceStreamName_"},null,2247,2249,2251,2253,2255,2257,2259,2259,2259,2259,2259,2262,2266,2267,2268,2275,2285,2285,2285,2285,2285,2285,2285,2276,2286,2286,2286,2286,2286,2286,2286,2277,2287,2287,2287,2287,2287,2287,2287,2278,2288,2288,2288,2288,2288,2288,2288,2279,2289,2289,2289,2289,2289,2289,2289,2280,2290,2290,2290,2290,2290,2290,2290,2296]
[null,{"$f":"IF(COUNTIF($CK$10:CK44,TRUE)>0,\"\",INDEX(C_InstallationDescription!$E$226:$E$242,ROWS($A$11:A44)))","v":""},{"$f":"IF($E44=\"\",\"\",INDEX(C_InstallationDescription!F:F,MATCH($B44,C_InstallationDescription!$E:$E,0)))","v":""},{"$f":"IF($E44=\"\",\"\",INDEX(C_InstallationDescription!I:I,MATCH($B44,C_InstallationDescription!$E:$E,0)))","v":""},{"$f":"IF($B44=\"\",\"\",INDEX(C_InstallationDescription!F:F,MATCH($CJ44,C_InstallationDescription!$Q:$Q,0)))","v":""},{"$f":"IF($E44=\"\",\"\",INDEX(C_InstallationDescription!L:L,MATCH($CJ44,C_InstallationDescription!$Q:$Q,0)))","v":""},{"$f":"IF($E44=\"\",\"\",INDEX(C_InstallationDescription!M:M,MATCH($CJ44,C_InstallationDescription!$Q:$Q,0)))","v":""},{"$f":"IF($E44=\"\",\"\",INDEX(C_InstallationDescription!N:N,MATCH($CJ44,C_InstallationDescription!$Q:$Q,0)))","v":""},{"$f":"IF($E44=\"\",\"\",IF(INDEX(E_SourceStreams!$A:$N,CN44,I$7)=\"\",\"\",INDEX(E_SourceStreams!$A:$N,CN44,I$7)))","v":""},{"$f":"IF($E44=\"\",\"\",IF(INDEX(E_SourceStreams!$A:$N,CO44,J$7)=\"\",\"\",INDEX(E_SourceStreams!$A:$N,CO44,J$7)))","v":""},{"$f":"IF($E44=\"\",\"\",IF(INDEX(E_SourceStreams!$A:$N,CP44,K$7)=\"\",\"\",INDEX(E_SourceStreams!$A:$N,CP44,K$7)))","v":""},{"$f":"IF($E44=\"\",\"\",IF(INDEX(E_SourceStreams!$A:$N,CQ44,L$7)=\"\",\"\",INDEX(E_SourceStreams!$A:$N,CQ44,L$7)))","v":""},{"$f":"IF($E44=\"\",\"\",IF(INDEX(E_SourceStreams!$A:$N,CR44,M$7)=\"\",\"\",INDEX(E_SourceStreams!$A:$N,CR44,M$7)))","v":""},{"$f":"IF($E44=\"\",\"\",IF(INDEX(E_SourceStreams!$A:$N,CS44,N$7)=\"\",\"\",INDEX(E_SourceStreams!$A:$N,CS44,N$7)))","v":""},{"$f":"IF($E44=\"\",\"\",IF(INDEX(E_SourceStreams!$A:$N,CT44,O$7)=\"\",\"\",INDEX(E_SourceStreams!$A:$N,CT44,O$7)))","v":""},{"$f":"IF($E44=\"\",\"\",IF(INDEX(E_SourceStreams!$A:$N,CU44,P$7)=\"\",\"\",INDEX(E_SourceStreams!$A:$N,CU44,P$7)))","v":""},{"$f":"IF($E44=\"\",\"\",IF(INDEX(E_SourceStreams!$A:$N,CV44,Q$7)=\"\",\"\",INDEX(E_SourceStreams!$A:$N,CV44,Q$7)))","v":""},{"$f":"IF($E44=\"\",\"\",IF(INDEX(E_SourceStreams!$A:$N,CW44,R$7)=\"\",\"\",INDEX(E_SourceStreams!$A:$N,CW44,R$7)))","v":""},{"$f":"IF($E44=\"\",\"\",IF(INDEX(E_SourceStreams!$A:$N,CX44,S$7)=\"\",\"\",INDEX(E_SourceStreams!$A:$N,CX44,S$7)))","v":""},{"$f":"IF($E44=\"\",\"\",IF(INDEX(E_SourceStreams!$A:$N,CY44,T$7)=\"\",\"\",INDEX(E_SourceStreams!$A:$N,CY44,T$7)))","v":""},{"$f":"IF($E44=\"\",\"\",IF(INDEX(E_SourceStreams!$A:$N,CZ44,U$7)=\"\",\"\",INDEX(E_SourceStreams!$A:$N,CZ44,U$7)))","v":""},{"$f":"IF($E44=\"\",\"\",IF(INDEX(E_SourceStreams!$A:$N,DA44,V$7)=\"\",\"\",INDEX(E_SourceStreams!$A:$N,DA44,V$7)))","v":""},{"$f":"IF($E44=\"\",\"\",IF(INDEX(E_SourceStreams!$A:$N,DB44,W$7)=\"\",\"\",INDEX(E_SourceStreams!$A:$N,DB44,W$7)))","v":""},{"$f":"IF($E44=\"\",\"\",IF(INDEX(E_SourceStreams!$A:$N,DC44,X$7)=\"\",\"\",INDEX(E_SourceStreams!$A:$N,DC44,X$7)))","v":""},{"$f":"IF($E44=\"\",\"\",IF(INDEX(E_SourceStreams!$A:$N,DD44,Y$7)=\"\",\"\",INDEX(E_SourceStreams!$A:$N,DD44,Y$7)))","v":""},{"$f":"IF($E44=\"\",\"\",IF(INDEX(E_SourceStreams!$A:$N,DE44,Z$7)=\"\",\"\",INDEX(E_SourceStreams!$A:$N,DE44,Z$7)))","v":""},{"$f":"IF($E44=\"\",\"\",IF(INDEX(E_SourceStreams!$A:$N,DF44,AA$7)=\"\",\"\",INDEX(E_SourceStreams!$A:$N,DF44,AA$7)))","v":""},{"$f":"IF($E44=\"\",\"\",IF(INDEX(E_SourceStreams!$A:$N,DG44,AB$7)=\"\",\"\",INDEX(E_SourceStreams!$A:$N,DG44,AB$7)))","v":""},{"$f":"IF($E44=\"\",\"\",IF(INDEX(E_SourceStreams!$A:$N,DH44,AC$7)=\"\",\"\",INDEX(E_SourceStreams!$A:$N,DH44,AC$7)))","v":""},{"$f":"IF($E44=\"\",\"\",IF(INDEX(E_SourceStreams!$A:$N,DI44,AD$7)=\"\",\"\",INDEX(E_SourceStreams!$A:$N,DI44,AD$7)))","v":""},{"$f":"IF($E44=\"\",\"\",IF(INDEX(E_SourceStreams!$A:$N,DJ44,AE$7)=\"\",\"\",INDEX(E_SourceStreams!$A:$N,DJ44,AE$7)))","v":""},{"$f":"IF($E44=\"\",\"\",IF(INDEX(E_SourceStreams!$A:$N,DK44,AF$7)=\"\",\"\",INDEX(E_SourceStreams!$A:$N,DK44,AF$7)))","v":""},{"$f":"IF($E44=\"\",\"\",IF(INDEX(E_SourceStreams!$A:$N,DL44,AG$7)=\"\",\"\",INDEX(E_SourceStreams!$A:$N,DL44,AG$7)))","v":""},{"$f":"IF($E44=\"\",\"\",IF(INDEX(E_SourceStreams!$A:$N,DM44,AH$7)=\"\",\"\",INDEX(E_SourceStreams!$A:$N,DM44,AH$7)))","v":""},{"$f":"IF($E44=\"\",\"\",IF(INDEX(E_SourceStreams!$A:$N,DN44,AI$7)=\"\",\"\",INDEX(E_SourceStreams!$A:$N,DN44,AI$7)))","v":""},{"$f":"IF($E44=\"\",\"\",IF(INDEX(E_SourceStreams!$A:$N,DO44,AJ$7)=\"\",\"\",INDEX(E_SourceStreams!$A:$N,DO44,AJ$7)))","v":""},{"$f":"IF($E44=\"\",\"\",IF(INDEX(E_SourceStreams!$A:$N,DP44,AK$7)=\"\",\"\",INDEX(E_SourceStreams!$A:$N,DP44,AK$7)))","v":""},{"$f":"IF($E44=\"\",\"\",IF(INDEX(E_SourceStreams!$A:$N,DQ44,AL$7)=\"\",\"\",INDEX(E_SourceStreams!$A:$N,DQ44,AL$7)))","v":""},{"$f":"IF($E44=\"\",\"\",IF(INDEX(E_SourceStreams!$A:$N,DR44,AM$7)=\"\",\"\",INDEX(E_SourceStreams!$A:$N,DR44,AM$7)))","v":""},{"$f":"IF($E44=\"\",\"\",IF(INDEX(E_SourceStreams!$A:$N,DS44,AN$7)=\"\",\"\",INDEX(E_SourceStreams!$A:$N,DS44,AN$7)))","v":""},{"$f":"IF($E44=\"\",\"\",IF(INDEX(E_SourceStreams!$A:$N,DT44,AO$7)=\"\",\"\",INDEX(E_SourceStreams!$A:$N,DT44,AO$7)))","v":""},{"$f":"IF($E44=\"\",\"\",IF(INDEX(E_SourceStreams!$A:$N,DU44,AP$7)=\"\",\"\",INDEX(E_SourceStreams!$A:$N,DU44,AP$7)))","v":""},{"$f":"IF($E44=\"\",\"\",IF(INDEX(E_SourceStreams!$A:$N,DV44,AQ$7)=\"\",\"\",INDEX(E_SourceStreams!$A:$N,DV44,AQ$7)))","v":""},{"$f":"IF($E44=\"\",\"\",IF(INDEX(E_SourceStreams!$A:$N,DW44,AR$7)=\"\",\"\",INDEX(E_SourceStreams!$A:$N,DW44,AR$7)))","v":""},{"$f":"IF($E44=\"\",\"\",IF(INDEX(E_SourceStreams!$A:$N,DX44,AS$7)=\"\",\"\",INDEX(E_SourceStreams!$A:$N,DX44,AS$7)))","v":""},{"$f":"IF($E44=\"\",\"\",IF(INDEX(E_SourceStreams!$A:$N,DY44,AT$7)=\"\",\"\",INDEX(E_SourceStreams!$A:$N,DY44,AT$7)))","v":""},{"$f":"IF($E44=\"\",\"\",IF(INDEX(E_SourceStreams!$A:$N,DZ44,AU$7)=\"\",\"\",INDEX(E_SourceStreams!$A:$N,DZ44,AU$7)))","v":""},{"$f":"IF($E44=\"\",\"\",IF(INDEX(E_SourceStreams!$A:$N,EA44,AV$7)=\"\",\"\",INDEX(E_SourceStreams!$A:$N,EA44,AV$7)))","v":""},{"$f":"IF($E44=\"\",\"\",IF(INDEX(E_SourceStreams!$A:$N,EB44,AW$7)=\"\",\"\",INDEX(E_SourceStreams!$A:$N,EB44,AW$7)))","v":""},{"$f":"IF($E44=\"\",\"\",IF(INDEX(E_SourceStreams!$A:$N,EC44,AX$7)=\"\",\"\",INDEX(E_SourceStreams!$A:$N,EC44,AX$7)))","v":""},{"$f":"IF($E44=\"\",\"\",IF(INDEX(E_SourceStreams!$A:$N,ED44,AY$7)=\"\",\"\",INDEX(E_SourceStreams!$A:$N,ED44,AY$7)))","v":""},{"$f":"IF($E44=\"\",\"\",IF(INDEX(E_SourceStreams!$A:$N,EE44,AZ$7)=\"\",\"\",INDEX(E_SourceStreams!$A:$N,EE44,AZ$7)))","v":""},{"$f":"IF($E44=\"\",\"\",IF(INDEX(E_SourceStreams!$A:$N,EF44,BA$7)=\"\",\"\",INDEX(E_SourceStreams!$A:$N,EF44,BA$7)))","v":""},{"$f":"IF($E44=\"\",\"\",IF(INDEX(E_SourceStreams!$A:$N,EG44,BB$7)=\"\",\"\",INDEX(E_SourceStreams!$A:$N,EG44,BB$7)))","v":""},{"$f":"IF($E44=\"\",\"\",IF(INDEX(E_SourceStreams!$A:$N,EH44,BC$7)=\"\",\"\",INDEX(E_SourceStreams!$A:$N,EH44,BC$7)))","v":""},{"$f":"IF($E44=\"\",\"\",IF(INDEX(E_SourceStreams!$A:$N,EI44,BD$7)=\"\",\"\",INDEX(E_SourceStreams!$A:$N,EI44,BD$7)))","v":""},{"$f":"IF($E44=\"\",\"\",IF(INDEX(E_SourceStreams!$A:$N,EJ44,BE$7)=\"\",\"\",INDEX(E_SourceStreams!$A:$N,EJ44,BE$7)))","v":""},{"$f":"IF($E44=\"\",\"\",IF(INDEX(E_SourceStreams!$A:$N,EK44,BF$7)=\"\",\"\",INDEX(E_SourceStreams!$A:$N,EK44,BF$7)))","v":""},{"$f":"IF($E44=\"\",\"\",IF(INDEX(E_SourceStreams!$A:$N,EL44,BG$7)=\"\",\"\",INDEX(E_SourceStreams!$A:$N,EL44,BG$7)))","v":""},{"$f":"IF($E44=\"\",\"\",IF(INDEX(E_SourceStreams!$A:$N,EM44,BH$7)=\"\",\"\",INDEX(E_SourceStreams!$A:$N,EM44,BH$7)))","v":""},{"$f":"IF($E44=\"\",\"\",IF(INDEX(E_SourceStreams!$A:$N,EN44,BI$7)=\"\",\"\",INDEX(E_SourceStreams!$A:$N,EN44,BI$7)))","v":""},{"$f":"IF($E44=\"\",\"\",IF(INDEX(E_SourceStreams!$A:$N,EO44,BJ$7)=\"\",\"\",INDEX(E_SourceStreams!$A:$N,EO44,BJ$7)))","v":""},{"$f":"IF($E44=\"\",\"\",IF(INDEX(E_SourceStreams!$A:$N,EP44,BK$7)=\"\",\"\",INDEX(E_SourceStreams!$A:$N,EP44,BK$7)))","v":""},{"$f":"IF($E44=\"\",\"\",IF(INDEX(E_SourceStreams!$A:$N,EQ44,BL$7)=\"\",\"\",INDEX(E_SourceStreams!$A:$N,EQ44,BL$7)))","v":""},{"$f":"IF($E44=\"\",\"\",IF(INDEX(E_SourceStreams!$A:$N,ER44,BM$7)=\"\",\"\",INDEX(E_SourceStreams!$A:$N,ER44,BM$7)))","v":""},{"$f":"IF($E44=\"\",\"\",IF(INDEX(E_SourceStreams!$A:$N,ES44,BN$7)=\"\",\"\",INDEX(E_SourceStreams!$A:$N,ES44,BN$7)))","v":""},{"$f":"IF($E44=\"\",\"\",IF(INDEX(E_SourceStreams!$A:$N,ET44,BO$7)=\"\",\"\",INDEX(E_SourceStreams!$A:$N,ET44,BO$7)))","v":""},{"$f":"IF($E44=\"\",\"\",IF(INDEX(E_SourceStreams!$A:$N,EU44,BP$7)=\"\",\"\",INDEX(E_SourceStreams!$A:$N,EU44,BP$7)))","v":""},{"$f":"IF($E44=\"\",\"\",IF(INDEX(E_SourceStreams!$A:$N,EV44,BQ$7)=\"\",\"\",INDEX(E_SourceStreams!$A:$N,EV44,BQ$7)))","v":""},{"$f":"IF($E44=\"\",\"\",IF(INDEX(E_SourceStreams!$A:$N,EW44,BR$7)=\"\",\"\",INDEX(E_SourceStreams!$A:$N,EW44,BR$7)))","v":""},{"$f":"IF($E44=\"\",\"\",IF(INDEX(E_SourceStreams!$A:$N,EX44,BS$7)=\"\",\"\",INDEX(E_SourceStreams!$A:$N,EX44,BS$7)))","v":""},{"$f":"IF($E44=\"\",\"\",IF(INDEX(E_SourceStreams!$A:$N,EY44,BT$7)=\"\",\"\",INDEX(E_SourceStreams!$A:$N,EY44,BT$7)))","v":""},null,null,null,null,null,null,null,null,null,null,null,null,null,null,null,"SourceCategory_",{"$f":"INDEX(C_InstallationDescription!$A$226:$A$332,ROWS($CI$11:CI44))=\"ausblenden\"","v":false},"SourceStreamName_",null,2313,2315,2317,2319,2321,2323,2325,2325,2325,2325,2325,2328,2332,2333,2334,2341,2351,2351,2351,2351,2351,2351,2351,2342,2352,2352,2352,2352,2352,2352,2352,2343,2353,2353,2353,2353,2353,2353,2353,2344,2354,2354,2354,2354,2354,2354,2354,2345,2355,2355,2355,2355,2355,2355,2355,2346,2356,2356,2356,2356,2356,2356,2356,2362]
[null,{"$f":"IF(COUNTIF($CK$10:CK45,TRUE)>0,\"\",INDEX(C_InstallationDescription!$E$226:$E$242,ROWS($A$11:A45)))","v":""},{"$f":"IF($E45=\"\",\"\",INDEX(C_InstallationDescription!F:F,MATCH($B45,C_InstallationDescription!$E:$E,0)))","v":""},{"$f":"IF($E45=\"\",\"\",INDEX(C_InstallationDescription!I:I,MATCH($B45,C_InstallationDescription!$E:$E,0)))","v":""},{"$f":"IF($B45=\"\",\"\",INDEX(C_InstallationDescription!F:F,MATCH($CJ45,C_InstallationDescription!$Q:$Q,0)))","v":""},{"$f":"IF($E45=\"\",\"\",INDEX(C_InstallationDescription!L:L,MATCH($CJ45,C_InstallationDescription!$Q:$Q,0)))","v":""},{"$f":"IF($E45=\"\",\"\",INDEX(C_InstallationDescription!M:M,MATCH($CJ45,C_InstallationDescription!$Q:$Q,0)))","v":""},{"$f":"IF($E45=\"\",\"\",INDEX(C_InstallationDescription!N:N,MATCH($CJ45,C_InstallationDescription!$Q:$Q,0)))","v":""},{"$f":"IF($E45=\"\",\"\",IF(INDEX(E_SourceStreams!$A:$N,CN45,I$7)=\"\",\"\",INDEX(E_SourceStreams!$A:$N,CN45,I$7)))","v":""},{"$f":"IF($E45=\"\",\"\",IF(INDEX(E_SourceStreams!$A:$N,CO45,J$7)=\"\",\"\",INDEX(E_SourceStreams!$A:$N,CO45,J$7)))","v":""},{"$f":"IF($E45=\"\",\"\",IF(INDEX(E_SourceStreams!$A:$N,CP45,K$7)=\"\",\"\",INDEX(E_SourceStreams!$A:$N,CP45,K$7)))","v":""},{"$f":"IF($E45=\"\",\"\",IF(INDEX(E_SourceStreams!$A:$N,CQ45,L$7)=\"\",\"\",INDEX(E_SourceStreams!$A:$N,CQ45,L$7)))","v":""},{"$f":"IF($E45=\"\",\"\",IF(INDEX(E_SourceStreams!$A:$N,CR45,M$7)=\"\",\"\",INDEX(E_SourceStreams!$A:$N,CR45,M$7)))","v":""},{"$f":"IF($E45=\"\",\"\",IF(INDEX(E_SourceStreams!$A:$N,CS45,N$7)=\"\",\"\",INDEX(E_SourceStreams!$A:$N,CS45,N$7)))","v":""},{"$f":"IF($E45=\"\",\"\",IF(INDEX(E_SourceStreams!$A:$N,CT45,O$7)=\"\",\"\",INDEX(E_SourceStreams!$A:$N,CT45,O$7)))","v":""},{"$f":"IF($E45=\"\",\"\",IF(INDEX(E_SourceStreams!$A:$N,CU45,P$7)=\"\",\"\",INDEX(E_SourceStreams!$A:$N,CU45,P$7)))","v":""},{"$f":"IF($E45=\"\",\"\",IF(INDEX(E_SourceStreams!$A:$N,CV45,Q$7)=\"\",\"\",INDEX(E_SourceStreams!$A:$N,CV45,Q$7)))","v":""},{"$f":"IF($E45=\"\",\"\",IF(INDEX(E_SourceStreams!$A:$N,CW45,R$7)=\"\",\"\",INDEX(E_SourceStreams!$A:$N,CW45,R$7)))","v":""},{"$f":"IF($E45=\"\",\"\",IF(INDEX(E_SourceStreams!$A:$N,CX45,S$7)=\"\",\"\",INDEX(E_SourceStreams!$A:$N,CX45,S$7)))","v":""},{"$f":"IF($E45=\"\",\"\",IF(INDEX(E_SourceStreams!$A:$N,CY45,T$7)=\"\",\"\",INDEX(E_SourceStreams!$A:$N,CY45,T$7)))","v":""},{"$f":"IF($E45=\"\",\"\",IF(INDEX(E_SourceStreams!$A:$N,CZ45,U$7)=\"\",\"\",INDEX(E_SourceStreams!$A:$N,CZ45,U$7)))","v":""},{"$f":"IF($E45=\"\",\"\",IF(INDEX(E_SourceStreams!$A:$N,DA45,V$7)=\"\",\"\",INDEX(E_SourceStreams!$A:$N,DA45,V$7)))","v":""},{"$f":"IF($E45=\"\",\"\",IF(INDEX(E_SourceStreams!$A:$N,DB45,W$7)=\"\",\"\",INDEX(E_SourceStreams!$A:$N,DB45,W$7)))","v":""},{"$f":"IF($E45=\"\",\"\",IF(INDEX(E_SourceStreams!$A:$N,DC45,X$7)=\"\",\"\",INDEX(E_SourceStreams!$A:$N,DC45,X$7)))","v":""},{"$f":"IF($E45=\"\",\"\",IF(INDEX(E_SourceStreams!$A:$N,DD45,Y$7)=\"\",\"\",INDEX(E_SourceStreams!$A:$N,DD45,Y$7)))","v":""},{"$f":"IF($E45=\"\",\"\",IF(INDEX(E_SourceStreams!$A:$N,DE45,Z$7)=\"\",\"\",INDEX(E_SourceStreams!$A:$N,DE45,Z$7)))","v":""},{"$f":"IF($E45=\"\",\"\",IF(INDEX(E_SourceStreams!$A:$N,DF45,AA$7)=\"\",\"\",INDEX(E_SourceStreams!$A:$N,DF45,AA$7)))","v":""},{"$f":"IF($E45=\"\",\"\",IF(INDEX(E_SourceStreams!$A:$N,DG45,AB$7)=\"\",\"\",INDEX(E_SourceStreams!$A:$N,DG45,AB$7)))","v":""},{"$f":"IF($E45=\"\",\"\",IF(INDEX(E_SourceStreams!$A:$N,DH45,AC$7)=\"\",\"\",INDEX(E_SourceStreams!$A:$N,DH45,AC$7)))","v":""},{"$f":"IF($E45=\"\",\"\",IF(INDEX(E_SourceStreams!$A:$N,DI45,AD$7)=\"\",\"\",INDEX(E_SourceStreams!$A:$N,DI45,AD$7)))","v":""},{"$f":"IF($E45=\"\",\"\",IF(INDEX(E_SourceStreams!$A:$N,DJ45,AE$7)=\"\",\"\",INDEX(E_SourceStreams!$A:$N,DJ45,AE$7)))","v":""},{"$f":"IF($E45=\"\",\"\",IF(INDEX(E_SourceStreams!$A:$N,DK45,AF$7)=\"\",\"\",INDEX(E_SourceStreams!$A:$N,DK45,AF$7)))","v":""},{"$f":"IF($E45=\"\",\"\",IF(INDEX(E_SourceStreams!$A:$N,DL45,AG$7)=\"\",\"\",INDEX(E_SourceStreams!$A:$N,DL45,AG$7)))","v":""},{"$f":"IF($E45=\"\",\"\",IF(INDEX(E_SourceStreams!$A:$N,DM45,AH$7)=\"\",\"\",INDEX(E_SourceStreams!$A:$N,DM45,AH$7)))","v":""},{"$f":"IF($E45=\"\",\"\",IF(INDEX(E_SourceStreams!$A:$N,DN45,AI$7)=\"\",\"\",INDEX(E_SourceStreams!$A:$N,DN45,AI$7)))","v":""},{"$f":"IF($E45=\"\",\"\",IF(INDEX(E_SourceStreams!$A:$N,DO45,AJ$7)=\"\",\"\",INDEX(E_SourceStreams!$A:$N,DO45,AJ$7)))","v":""},{"$f":"IF($E45=\"\",\"\",IF(INDEX(E_SourceStreams!$A:$N,DP45,AK$7)=\"\",\"\",INDEX(E_SourceStreams!$A:$N,DP45,AK$7)))","v":""},{"$f":"IF($E45=\"\",\"\",IF(INDEX(E_SourceStreams!$A:$N,DQ45,AL$7)=\"\",\"\",INDEX(E_SourceStreams!$A:$N,DQ45,AL$7)))","v":""},{"$f":"IF($E45=\"\",\"\",IF(INDEX(E_SourceStreams!$A:$N,DR45,AM$7)=\"\",\"\",INDEX(E_SourceStreams!$A:$N,DR45,AM$7)))","v":""},{"$f":"IF($E45=\"\",\"\",IF(INDEX(E_SourceStreams!$A:$N,DS45,AN$7)=\"\",\"\",INDEX(E_SourceStreams!$A:$N,DS45,AN$7)))","v":""},{"$f":"IF($E45=\"\",\"\",IF(INDEX(E_SourceStreams!$A:$N,DT45,AO$7)=\"\",\"\",INDEX(E_SourceStreams!$A:$N,DT45,AO$7)))","v":""},{"$f":"IF($E45=\"\",\"\",IF(INDEX(E_SourceStreams!$A:$N,DU45,AP$7)=\"\",\"\",INDEX(E_SourceStreams!$A:$N,DU45,AP$7)))","v":""},{"$f":"IF($E45=\"\",\"\",IF(INDEX(E_SourceStreams!$A:$N,DV45,AQ$7)=\"\",\"\",INDEX(E_SourceStreams!$A:$N,DV45,AQ$7)))","v":""},{"$f":"IF($E45=\"\",\"\",IF(INDEX(E_SourceStreams!$A:$N,DW45,AR$7)=\"\",\"\",INDEX(E_SourceStreams!$A:$N,DW45,AR$7)))","v":""},{"$f":"IF($E45=\"\",\"\",IF(INDEX(E_SourceStreams!$A:$N,DX45,AS$7)=\"\",\"\",INDEX(E_SourceStreams!$A:$N,DX45,AS$7)))","v":""},{"$f":"IF($E45=\"\",\"\",IF(INDEX(E_SourceStreams!$A:$N,DY45,AT$7)=\"\",\"\",INDEX(E_SourceStreams!$A:$N,DY45,AT$7)))","v":""},{"$f":"IF($E45=\"\",\"\",IF(INDEX(E_SourceStreams!$A:$N,DZ45,AU$7)=\"\",\"\",INDEX(E_SourceStreams!$A:$N,DZ45,AU$7)))","v":""},{"$f":"IF($E45=\"\",\"\",IF(INDEX(E_SourceStreams!$A:$N,EA45,AV$7)=\"\",\"\",INDEX(E_SourceStreams!$A:$N,EA45,AV$7)))","v":""},{"$f":"IF($E45=\"\",\"\",IF(INDEX(E_SourceStreams!$A:$N,EB45,AW$7)=\"\",\"\",INDEX(E_SourceStreams!$A:$N,EB45,AW$7)))","v":""},{"$f":"IF($E45=\"\",\"\",IF(INDEX(E_SourceStreams!$A:$N,EC45,AX$7)=\"\",\"\",INDEX(E_SourceStreams!$A:$N,EC45,AX$7)))","v":""},{"$f":"IF($E45=\"\",\"\",IF(INDEX(E_SourceStreams!$A:$N,ED45,AY$7)=\"\",\"\",INDEX(E_SourceStreams!$A:$N,ED45,AY$7)))","v":""},{"$f":"IF($E45=\"\",\"\",IF(INDEX(E_SourceStreams!$A:$N,EE45,AZ$7)=\"\",\"\",INDEX(E_SourceStreams!$A:$N,EE45,AZ$7)))","v":""},{"$f":"IF($E45=\"\",\"\",IF(INDEX(E_SourceStreams!$A:$N,EF45,BA$7)=\"\",\"\",INDEX(E_SourceStreams!$A:$N,EF45,BA$7)))","v":""},{"$f":"IF($E45=\"\",\"\",IF(INDEX(E_SourceStreams!$A:$N,EG45,BB$7)=\"\",\"\",INDEX(E_SourceStreams!$A:$N,EG45,BB$7)))","v":""},{"$f":"IF($E45=\"\",\"\",IF(INDEX(E_SourceStreams!$A:$N,EH45,BC$7)=\"\",\"\",INDEX(E_SourceStreams!$A:$N,EH45,BC$7)))","v":""},{"$f":"IF($E45=\"\",\"\",IF(INDEX(E_SourceStreams!$A:$N,EI45,BD$7)=\"\",\"\",INDEX(E_SourceStreams!$A:$N,EI45,BD$7)))","v":""},{"$f":"IF($E45=\"\",\"\",IF(INDEX(E_SourceStreams!$A:$N,EJ45,BE$7)=\"\",\"\",INDEX(E_SourceStreams!$A:$N,EJ45,BE$7)))","v":""},{"$f":"IF($E45=\"\",\"\",IF(INDEX(E_SourceStreams!$A:$N,EK45,BF$7)=\"\",\"\",INDEX(E_SourceStreams!$A:$N,EK45,BF$7)))","v":""},{"$f":"IF($E45=\"\",\"\",IF(INDEX(E_SourceStreams!$A:$N,EL45,BG$7)=\"\",\"\",INDEX(E_SourceStreams!$A:$N,EL45,BG$7)))","v":""},{"$f":"IF($E45=\"\",\"\",IF(INDEX(E_SourceStreams!$A:$N,EM45,BH$7)=\"\",\"\",INDEX(E_SourceStreams!$A:$N,EM45,BH$7)))","v":""},{"$f":"IF($E45=\"\",\"\",IF(INDEX(E_SourceStreams!$A:$N,EN45,BI$7)=\"\",\"\",INDEX(E_SourceStreams!$A:$N,EN45,BI$7)))","v":""},{"$f":"IF($E45=\"\",\"\",IF(INDEX(E_SourceStreams!$A:$N,EO45,BJ$7)=\"\",\"\",INDEX(E_SourceStreams!$A:$N,EO45,BJ$7)))","v":""},{"$f":"IF($E45=\"\",\"\",IF(INDEX(E_SourceStreams!$A:$N,EP45,BK$7)=\"\",\"\",INDEX(E_SourceStreams!$A:$N,EP45,BK$7)))","v":""},{"$f":"IF($E45=\"\",\"\",IF(INDEX(E_SourceStreams!$A:$N,EQ45,BL$7)=\"\",\"\",INDEX(E_SourceStreams!$A:$N,EQ45,BL$7)))","v":""},{"$f":"IF($E45=\"\",\"\",IF(INDEX(E_SourceStreams!$A:$N,ER45,BM$7)=\"\",\"\",INDEX(E_SourceStreams!$A:$N,ER45,BM$7)))","v":""},{"$f":"IF($E45=\"\",\"\",IF(INDEX(E_SourceStreams!$A:$N,ES45,BN$7)=\"\",\"\",INDEX(E_SourceStreams!$A:$N,ES45,BN$7)))","v":""},{"$f":"IF($E45=\"\",\"\",IF(INDEX(E_SourceStreams!$A:$N,ET45,BO$7)=\"\",\"\",INDEX(E_SourceStreams!$A:$N,ET45,BO$7)))","v":""},{"$f":"IF($E45=\"\",\"\",IF(INDEX(E_SourceStreams!$A:$N,EU45,BP$7)=\"\",\"\",INDEX(E_SourceStreams!$A:$N,EU45,BP$7)))","v":""},{"$f":"IF($E45=\"\",\"\",IF(INDEX(E_SourceStreams!$A:$N,EV45,BQ$7)=\"\",\"\",INDEX(E_SourceStreams!$A:$N,EV45,BQ$7)))","v":""},{"$f":"IF($E45=\"\",\"\",IF(INDEX(E_SourceStreams!$A:$N,EW45,BR$7)=\"\",\"\",INDEX(E_SourceStreams!$A:$N,EW45,BR$7)))","v":""},{"$f":"IF($E45=\"\",\"\",IF(INDEX(E_SourceStreams!$A:$N,EX45,BS$7)=\"\",\"\",INDEX(E_SourceStreams!$A:$N,EX45,BS$7)))","v":""},{"$f":"IF($E45=\"\",\"\",IF(INDEX(E_SourceStreams!$A:$N,EY45,BT$7)=\"\",\"\",INDEX(E_SourceStreams!$A:$N,EY45,BT$7)))","v":""},null,null,null,null,null,null,null,null,null,null,null,null,null,null,null,"SourceCategory_",{"$f":"INDEX(C_InstallationDescription!$A$226:$A$332,ROWS($CI$11:CI45))=\"ausblenden\"","v":true},"SourceStreamName_",null,2379,2381,2383,2385,2387,2389,2391,2391,2391,2391,2391,2394,2398,2399,2400,2407,2417,2417,2417,2417,2417,2417,2417,2408,2418,2418,2418,2418,2418,2418,2418,2409,2419,2419,2419,2419,2419,2419,2419,2410,2420,2420,2420,2420,2420,2420,2420,2411,2421,2421,2421,2421,2421,2421,2421,2412,2422,2422,2422,2422,2422,2422,2422,2428]
[null,{"$f":"IF(COUNTIF($CK$10:CK46,TRUE)>0,\"\",INDEX(C_InstallationDescription!$E$226:$E$242,ROWS($A$11:A46)))","v":""},{"$f":"IF($E46=\"\",\"\",INDEX(C_InstallationDescription!F:F,MATCH($B46,C_InstallationDescription!$E:$E,0)))","v":""},{"$f":"IF($E46=\"\",\"\",INDEX(C_InstallationDescription!I:I,MATCH($B46,C_InstallationDescription!$E:$E,0)))","v":""},{"$f":"IF($B46=\"\",\"\",INDEX(C_InstallationDescription!F:F,MATCH($CJ46,C_InstallationDescription!$Q:$Q,0)))","v":""},{"$f":"IF($E46=\"\",\"\",INDEX(C_InstallationDescription!L:L,MATCH($CJ46,C_InstallationDescription!$Q:$Q,0)))","v":""},{"$f":"IF($E46=\"\",\"\",INDEX(C_InstallationDescription!M:M,MATCH($CJ46,C_InstallationDescription!$Q:$Q,0)))","v":""},{"$f":"IF($E46=\"\",\"\",INDEX(C_InstallationDescription!N:N,MATCH($CJ46,C_InstallationDescription!$Q:$Q,0)))","v":""},{"$f":"IF($E46=\"\",\"\",IF(INDEX(E_SourceStreams!$A:$N,CN46,I$7)=\"\",\"\",INDEX(E_SourceStreams!$A:$N,CN46,I$7)))","v":""},{"$f":"IF($E46=\"\",\"\",IF(INDEX(E_SourceStreams!$A:$N,CO46,J$7)=\"\",\"\",INDEX(E_SourceStreams!$A:$N,CO46,J$7)))","v":""},{"$f":"IF($E46=\"\",\"\",IF(INDEX(E_SourceStreams!$A:$N,CP46,K$7)=\"\",\"\",INDEX(E_SourceStreams!$A:$N,CP46,K$7)))","v":""},{"$f":"IF($E46=\"\",\"\",IF(INDEX(E_SourceStreams!$A:$N,CQ46,L$7)=\"\",\"\",INDEX(E_SourceStreams!$A:$N,CQ46,L$7)))","v":""},{"$f":"IF($E46=\"\",\"\",IF(INDEX(E_SourceStreams!$A:$N,CR46,M$7)=\"\",\"\",INDEX(E_SourceStreams!$A:$N,CR46,M$7)))","v":""},{"$f":"IF($E46=\"\",\"\",IF(INDEX(E_SourceStreams!$A:$N,CS46,N$7)=\"\",\"\",INDEX(E_SourceStreams!$A:$N,CS46,N$7)))","v":""},{"$f":"IF($E46=\"\",\"\",IF(INDEX(E_SourceStreams!$A:$N,CT46,O$7)=\"\",\"\",INDEX(E_SourceStreams!$A:$N,CT46,O$7)))","v":""},{"$f":"IF($E46=\"\",\"\",IF(INDEX(E_SourceStreams!$A:$N,CU46,P$7)=\"\",\"\",INDEX(E_SourceStreams!$A:$N,CU46,P$7)))","v":""},{"$f":"IF($E46=\"\",\"\",IF(INDEX(E_SourceStreams!$A:$N,CV46,Q$7)=\"\",\"\",INDEX(E_SourceStreams!$A:$N,CV46,Q$7)))","v":""},{"$f":"IF($E46=\"\",\"\",IF(INDEX(E_SourceStreams!$A:$N,CW46,R$7)=\"\",\"\",INDEX(E_SourceStreams!$A:$N,CW46,R$7)))","v":""},{"$f":"IF($E46=\"\",\"\",IF(INDEX(E_SourceStreams!$A:$N,CX46,S$7)=\"\",\"\",INDEX(E_SourceStreams!$A:$N,CX46,S$7)))","v":""},{"$f":"IF($E46=\"\",\"\",IF(INDEX(E_SourceStreams!$A:$N,CY46,T$7)=\"\",\"\",INDEX(E_SourceStreams!$A:$N,CY46,T$7)))","v":""},{"$f":"IF($E46=\"\",\"\",IF(INDEX(E_SourceStreams!$A:$N,CZ46,U$7)=\"\",\"\",INDEX(E_SourceStreams!$A:$N,CZ46,U$7)))","v":""},{"$f":"IF($E46=\"\",\"\",IF(INDEX(E_SourceStreams!$A:$N,DA46,V$7)=\"\",\"\",INDEX(E_SourceStreams!$A:$N,DA46,V$7)))","v":""},{"$f":"IF($E46=\"\",\"\",IF(INDEX(E_SourceStreams!$A:$N,DB46,W$7)=\"\",\"\",INDEX(E_SourceStreams!$A:$N,DB46,W$7)))","v":""},{"$f":"IF($E46=\"\",\"\",IF(INDEX(E_SourceStreams!$A:$N,DC46,X$7)=\"\",\"\",INDEX(E_SourceStreams!$A:$N,DC46,X$7)))","v":""},{"$f":"IF($E46=\"\",\"\",IF(INDEX(E_SourceStreams!$A:$N,DD46,Y$7)=\"\",\"\",INDEX(E_SourceStreams!$A:$N,DD46,Y$7)))","v":""},{"$f":"IF($E46=\"\",\"\",IF(INDEX(E_SourceStreams!$A:$N,DE46,Z$7)=\"\",\"\",INDEX(E_SourceStreams!$A:$N,DE46,Z$7)))","v":""},{"$f":"IF($E46=\"\",\"\",IF(INDEX(E_SourceStreams!$A:$N,DF46,AA$7)=\"\",\"\",INDEX(E_SourceStreams!$A:$N,DF46,AA$7)))","v":""},{"$f":"IF($E46=\"\",\"\",IF(INDEX(E_SourceStreams!$A:$N,DG46,AB$7)=\"\",\"\",INDEX(E_SourceStreams!$A:$N,DG46,AB$7)))","v":""},{"$f":"IF($E46=\"\",\"\",IF(INDEX(E_SourceStreams!$A:$N,DH46,AC$7)=\"\",\"\",INDEX(E_SourceStreams!$A:$N,DH46,AC$7)))","v":""},{"$f":"IF($E46=\"\",\"\",IF(INDEX(E_SourceStreams!$A:$N,DI46,AD$7)=\"\",\"\",INDEX(E_SourceStreams!$A:$N,DI46,AD$7)))","v":""},{"$f":"IF($E46=\"\",\"\",IF(INDEX(E_SourceStreams!$A:$N,DJ46,AE$7)=\"\",\"\",INDEX(E_SourceStreams!$A:$N,DJ46,AE$7)))","v":""},{"$f":"IF($E46=\"\",\"\",IF(INDEX(E_SourceStreams!$A:$N,DK46,AF$7)=\"\",\"\",INDEX(E_SourceStreams!$A:$N,DK46,AF$7)))","v":""},{"$f":"IF($E46=\"\",\"\",IF(INDEX(E_SourceStreams!$A:$N,DL46,AG$7)=\"\",\"\",INDEX(E_SourceStreams!$A:$N,DL46,AG$7)))","v":""},{"$f":"IF($E46=\"\",\"\",IF(INDEX(E_SourceStreams!$A:$N,DM46,AH$7)=\"\",\"\",INDEX(E_SourceStreams!$A:$N,DM46,AH$7)))","v":""},{"$f":"IF($E46=\"\",\"\",IF(INDEX(E_SourceStreams!$A:$N,DN46,AI$7)=\"\",\"\",INDEX(E_SourceStreams!$A:$N,DN46,AI$7)))","v":""},{"$f":"IF($E46=\"\",\"\",IF(INDEX(E_SourceStreams!$A:$N,DO46,AJ$7)=\"\",\"\",INDEX(E_SourceStreams!$A:$N,DO46,AJ$7)))","v":""},{"$f":"IF($E46=\"\",\"\",IF(INDEX(E_SourceStreams!$A:$N,DP46,AK$7)=\"\",\"\",INDEX(E_SourceStreams!$A:$N,DP46,AK$7)))","v":""},{"$f":"IF($E46=\"\",\"\",IF(INDEX(E_SourceStreams!$A:$N,DQ46,AL$7)=\"\",\"\",INDEX(E_SourceStreams!$A:$N,DQ46,AL$7)))","v":""},{"$f":"IF($E46=\"\",\"\",IF(INDEX(E_SourceStreams!$A:$N,DR46,AM$7)=\"\",\"\",INDEX(E_SourceStreams!$A:$N,DR46,AM$7)))","v":""},{"$f":"IF($E46=\"\",\"\",IF(INDEX(E_SourceStreams!$A:$N,DS46,AN$7)=\"\",\"\",INDEX(E_SourceStreams!$A:$N,DS46,AN$7)))","v":""},{"$f":"IF($E46=\"\",\"\",IF(INDEX(E_SourceStreams!$A:$N,DT46,AO$7)=\"\",\"\",INDEX(E_SourceStreams!$A:$N,DT46,AO$7)))","v":""},{"$f":"IF($E46=\"\",\"\",IF(INDEX(E_SourceStreams!$A:$N,DU46,AP$7)=\"\",\"\",INDEX(E_SourceStreams!$A:$N,DU46,AP$7)))","v":""},{"$f":"IF($E46=\"\",\"\",IF(INDEX(E_SourceStreams!$A:$N,DV46,AQ$7)=\"\",\"\",INDEX(E_SourceStreams!$A:$N,DV46,AQ$7)))","v":""},{"$f":"IF($E46=\"\",\"\",IF(INDEX(E_SourceStreams!$A:$N,DW46,AR$7)=\"\",\"\",INDEX(E_SourceStreams!$A:$N,DW46,AR$7)))","v":""},{"$f":"IF($E46=\"\",\"\",IF(INDEX(E_SourceStreams!$A:$N,DX46,AS$7)=\"\",\"\",INDEX(E_SourceStreams!$A:$N,DX46,AS$7)))","v":""},{"$f":"IF($E46=\"\",\"\",IF(INDEX(E_SourceStreams!$A:$N,DY46,AT$7)=\"\",\"\",INDEX(E_SourceStreams!$A:$N,DY46,AT$7)))","v":""},{"$f":"IF($E46=\"\",\"\",IF(INDEX(E_SourceStreams!$A:$N,DZ46,AU$7)=\"\",\"\",INDEX(E_SourceStreams!$A:$N,DZ46,AU$7)))","v":""},{"$f":"IF($E46=\"\",\"\",IF(INDEX(E_SourceStreams!$A:$N,EA46,AV$7)=\"\",\"\",INDEX(E_SourceStreams!$A:$N,EA46,AV$7)))","v":""},{"$f":"IF($E46=\"\",\"\",IF(INDEX(E_SourceStreams!$A:$N,EB46,AW$7)=\"\",\"\",INDEX(E_SourceStreams!$A:$N,EB46,AW$7)))","v":""},{"$f":"IF($E46=\"\",\"\",IF(INDEX(E_SourceStreams!$A:$N,EC46,AX$7)=\"\",\"\",INDEX(E_SourceStreams!$A:$N,EC46,AX$7)))","v":""},{"$f":"IF($E46=\"\",\"\",IF(INDEX(E_SourceStreams!$A:$N,ED46,AY$7)=\"\",\"\",INDEX(E_SourceStreams!$A:$N,ED46,AY$7)))","v":""},{"$f":"IF($E46=\"\",\"\",IF(INDEX(E_SourceStreams!$A:$N,EE46,AZ$7)=\"\",\"\",INDEX(E_SourceStreams!$A:$N,EE46,AZ$7)))","v":""},{"$f":"IF($E46=\"\",\"\",IF(INDEX(E_SourceStreams!$A:$N,EF46,BA$7)=\"\",\"\",INDEX(E_SourceStreams!$A:$N,EF46,BA$7)))","v":""},{"$f":"IF($E46=\"\",\"\",IF(INDEX(E_SourceStreams!$A:$N,EG46,BB$7)=\"\",\"\",INDEX(E_SourceStreams!$A:$N,EG46,BB$7)))","v":""},{"$f":"IF($E46=\"\",\"\",IF(INDEX(E_SourceStreams!$A:$N,EH46,BC$7)=\"\",\"\",INDEX(E_SourceStreams!$A:$N,EH46,BC$7)))","v":""},{"$f":"IF($E46=\"\",\"\",IF(INDEX(E_SourceStreams!$A:$N,EI46,BD$7)=\"\",\"\",INDEX(E_SourceStreams!$A:$N,EI46,BD$7)))","v":""},{"$f":"IF($E46=\"\",\"\",IF(INDEX(E_SourceStreams!$A:$N,EJ46,BE$7)=\"\",\"\",INDEX(E_SourceStreams!$A:$N,EJ46,BE$7)))","v":""},{"$f":"IF($E46=\"\",\"\",IF(INDEX(E_SourceStreams!$A:$N,EK46,BF$7)=\"\",\"\",INDEX(E_SourceStreams!$A:$N,EK46,BF$7)))","v":""},{"$f":"IF($E46=\"\",\"\",IF(INDEX(E_SourceStreams!$A:$N,EL46,BG$7)=\"\",\"\",INDEX(E_SourceStreams!$A:$N,EL46,BG$7)))","v":""},{"$f":"IF($E46=\"\",\"\",IF(INDEX(E_SourceStreams!$A:$N,EM46,BH$7)=\"\",\"\",INDEX(E_SourceStreams!$A:$N,EM46,BH$7)))","v":""},{"$f":"IF($E46=\"\",\"\",IF(INDEX(E_SourceStreams!$A:$N,EN46,BI$7)=\"\",\"\",INDEX(E_SourceStreams!$A:$N,EN46,BI$7)))","v":""},{"$f":"IF($E46=\"\",\"\",IF(INDEX(E_SourceStreams!$A:$N,EO46,BJ$7)=\"\",\"\",INDEX(E_SourceStreams!$A:$N,EO46,BJ$7)))","v":""},{"$f":"IF($E46=\"\",\"\",IF(INDEX(E_SourceStreams!$A:$N,EP46,BK$7)=\"\",\"\",INDEX(E_SourceStreams!$A:$N,EP46,BK$7)))","v":""},{"$f":"IF($E46=\"\",\"\",IF(INDEX(E_SourceStreams!$A:$N,EQ46,BL$7)=\"\",\"\",INDEX(E_SourceStreams!$A:$N,EQ46,BL$7)))","v":""},{"$f":"IF($E46=\"\",\"\",IF(INDEX(E_SourceStreams!$A:$N,ER46,BM$7)=\"\",\"\",INDEX(E_SourceStreams!$A:$N,ER46,BM$7)))","v":""},{"$f":"IF($E46=\"\",\"\",IF(INDEX(E_SourceStreams!$A:$N,ES46,BN$7)=\"\",\"\",INDEX(E_SourceStreams!$A:$N,ES46,BN$7)))","v":""},{"$f":"IF($E46=\"\",\"\",IF(INDEX(E_SourceStreams!$A:$N,ET46,BO$7)=\"\",\"\",INDEX(E_SourceStreams!$A:$N,ET46,BO$7)))","v":""},{"$f":"IF($E46=\"\",\"\",IF(INDEX(E_SourceStreams!$A:$N,EU46,BP$7)=\"\",\"\",INDEX(E_SourceStreams!$A:$N,EU46,BP$7)))","v":""},{"$f":"IF($E46=\"\",\"\",IF(INDEX(E_SourceStreams!$A:$N,EV46,BQ$7)=\"\",\"\",INDEX(E_SourceStreams!$A:$N,EV46,BQ$7)))","v":""},{"$f":"IF($E46=\"\",\"\",IF(INDEX(E_SourceStreams!$A:$N,EW46,BR$7)=\"\",\"\",INDEX(E_SourceStreams!$A:$N,EW46,BR$7)))","v":""},{"$f":"IF($E46=\"\",\"\",IF(INDEX(E_SourceStreams!$A:$N,EX46,BS$7)=\"\",\"\",INDEX(E_SourceStreams!$A:$N,EX46,BS$7)))","v":""},{"$f":"IF($E46=\"\",\"\",IF(INDEX(E_SourceStreams!$A:$N,EY46,BT$7)=\"\",\"\",INDEX(E_SourceStreams!$A:$N,EY46,BT$7)))","v":""},null,null,null,null,null,null,null,null,null,null,null,null,null,null,null,"SourceCategory_",{"$f":"INDEX(C_InstallationDescription!$A$226:$A$332,ROWS($CI$11:CI46))=\"ausblenden\"","v":false},"SourceStreamName_",null,2445,2447,2449,2451,2453,2455,2457,2457,2457,2457,2457,2460,2464,2465,2466,2473,2483,2483,2483,2483,2483,2483,2483,2474,2484,2484,2484,2484,2484,2484,2484,2475,2485,2485,2485,2485,2485,2485,2485,2476,2486,2486,2486,2486,2486,2486,2486,2477,2487,2487,2487,2487,2487,2487,2487,2478,2488,2488,2488,2488,2488,2488,2488,2494]
[null,{"$f":"IF(COUNTIF($CK$10:CK47,TRUE)>0,\"\",INDEX(C_InstallationDescription!$E$226:$E$242,ROWS($A$11:A47)))","v":""},{"$f":"IF($E47=\"\",\"\",INDEX(C_InstallationDescription!F:F,MATCH($B47,C_InstallationDescription!$E:$E,0)))","v":""},{"$f":"IF($E47=\"\",\"\",INDEX(C_InstallationDescription!I:I,MATCH($B47,C_InstallationDescription!$E:$E,0)))","v":""},{"$f":"IF($B47=\"\",\"\",INDEX(C_InstallationDescription!F:F,MATCH($CJ47,C_InstallationDescription!$Q:$Q,0)))","v":""},{"$f":"IF($E47=\"\",\"\",INDEX(C_InstallationDescription!L:L,MATCH($CJ47,C_InstallationDescription!$Q:$Q,0)))","v":""},{"$f":"IF($E47=\"\",\"\",INDEX(C_InstallationDescription!M:M,MATCH($CJ47,C_InstallationDescription!$Q:$Q,0)))","v":""},{"$f":"IF($E47=\"\",\"\",INDEX(C_InstallationDescription!N:N,MATCH($CJ47,C_InstallationDescription!$Q:$Q,0)))","v":""},{"$f":"IF($E47=\"\",\"\",IF(INDEX(E_SourceStreams!$A:$N,CN47,I$7)=\"\",\"\",INDEX(E_SourceStreams!$A:$N,CN47,I$7)))","v":""},{"$f":"IF($E47=\"\",\"\",IF(INDEX(E_SourceStreams!$A:$N,CO47,J$7)=\"\",\"\",INDEX(E_SourceStreams!$A:$N,CO47,J$7)))","v":""},{"$f":"IF($E47=\"\",\"\",IF(INDEX(E_SourceStreams!$A:$N,CP47,K$7)=\"\",\"\",INDEX(E_SourceStreams!$A:$N,CP47,K$7)))","v":""},{"$f":"IF($E47=\"\",\"\",IF(INDEX(E_SourceStreams!$A:$N,CQ47,L$7)=\"\",\"\",INDEX(E_SourceStreams!$A:$N,CQ47,L$7)))","v":""},{"$f":"IF($E47=\"\",\"\",IF(INDEX(E_SourceStreams!$A:$N,CR47,M$7)=\"\",\"\",INDEX(E_SourceStreams!$A:$N,CR47,M$7)))","v":""},{"$f":"IF($E47=\"\",\"\",IF(INDEX(E_SourceStreams!$A:$N,CS47,N$7)=\"\",\"\",INDEX(E_SourceStreams!$A:$N,CS47,N$7)))","v":""},{"$f":"IF($E47=\"\",\"\",IF(INDEX(E_SourceStreams!$A:$N,CT47,O$7)=\"\",\"\",INDEX(E_SourceStreams!$A:$N,CT47,O$7)))","v":""},{"$f":"IF($E47=\"\",\"\",IF(INDEX(E_SourceStreams!$A:$N,CU47,P$7)=\"\",\"\",INDEX(E_SourceStreams!$A:$N,CU47,P$7)))","v":""},{"$f":"IF($E47=\"\",\"\",IF(INDEX(E_SourceStreams!$A:$N,CV47,Q$7)=\"\",\"\",INDEX(E_SourceStreams!$A:$N,CV47,Q$7)))","v":""},{"$f":"IF($E47=\"\",\"\",IF(INDEX(E_SourceStreams!$A:$N,CW47,R$7)=\"\",\"\",INDEX(E_SourceStreams!$A:$N,CW47,R$7)))","v":""},{"$f":"IF($E47=\"\",\"\",IF(INDEX(E_SourceStreams!$A:$N,CX47,S$7)=\"\",\"\",INDEX(E_SourceStreams!$A:$N,CX47,S$7)))","v":""},{"$f":"IF($E47=\"\",\"\",IF(INDEX(E_SourceStreams!$A:$N,CY47,T$7)=\"\",\"\",INDEX(E_SourceStreams!$A:$N,CY47,T$7)))","v":""},{"$f":"IF($E47=\"\",\"\",IF(INDEX(E_SourceStreams!$A:$N,CZ47,U$7)=\"\",\"\",INDEX(E_SourceStreams!$A:$N,CZ47,U$7)))","v":""},{"$f":"IF($E47=\"\",\"\",IF(INDEX(E_SourceStreams!$A:$N,DA47,V$7)=\"\",\"\",INDEX(E_SourceStreams!$A:$N,DA47,V$7)))","v":""},{"$f":"IF($E47=\"\",\"\",IF(INDEX(E_SourceStreams!$A:$N,DB47,W$7)=\"\",\"\",INDEX(E_SourceStreams!$A:$N,DB47,W$7)))","v":""},{"$f":"IF($E47=\"\",\"\",IF(INDEX(E_SourceStreams!$A:$N,DC47,X$7)=\"\",\"\",INDEX(E_SourceStreams!$A:$N,DC47,X$7)))","v":""},{"$f":"IF($E47=\"\",\"\",IF(INDEX(E_SourceStreams!$A:$N,DD47,Y$7)=\"\",\"\",INDEX(E_SourceStreams!$A:$N,DD47,Y$7)))","v":""},{"$f":"IF($E47=\"\",\"\",IF(INDEX(E_SourceStreams!$A:$N,DE47,Z$7)=\"\",\"\",INDEX(E_SourceStreams!$A:$N,DE47,Z$7)))","v":""},{"$f":"IF($E47=\"\",\"\",IF(INDEX(E_SourceStreams!$A:$N,DF47,AA$7)=\"\",\"\",INDEX(E_SourceStreams!$A:$N,DF47,AA$7)))","v":""},{"$f":"IF($E47=\"\",\"\",IF(INDEX(E_SourceStreams!$A:$N,DG47,AB$7)=\"\",\"\",INDEX(E_SourceStreams!$A:$N,DG47,AB$7)))","v":""},{"$f":"IF($E47=\"\",\"\",IF(INDEX(E_SourceStreams!$A:$N,DH47,AC$7)=\"\",\"\",INDEX(E_SourceStreams!$A:$N,DH47,AC$7)))","v":""},{"$f":"IF($E47=\"\",\"\",IF(INDEX(E_SourceStreams!$A:$N,DI47,AD$7)=\"\",\"\",INDEX(E_SourceStreams!$A:$N,DI47,AD$7)))","v":""},{"$f":"IF($E47=\"\",\"\",IF(INDEX(E_SourceStreams!$A:$N,DJ47,AE$7)=\"\",\"\",INDEX(E_SourceStreams!$A:$N,DJ47,AE$7)))","v":""},{"$f":"IF($E47=\"\",\"\",IF(INDEX(E_SourceStreams!$A:$N,DK47,AF$7)=\"\",\"\",INDEX(E_SourceStreams!$A:$N,DK47,AF$7)))","v":""},{"$f":"IF($E47=\"\",\"\",IF(INDEX(E_SourceStreams!$A:$N,DL47,AG$7)=\"\",\"\",INDEX(E_SourceStreams!$A:$N,DL47,AG$7)))","v":""},{"$f":"IF($E47=\"\",\"\",IF(INDEX(E_SourceStreams!$A:$N,DM47,AH$7)=\"\",\"\",INDEX(E_SourceStreams!$A:$N,DM47,AH$7)))","v":""},{"$f":"IF($E47=\"\",\"\",IF(INDEX(E_SourceStreams!$A:$N,DN47,AI$7)=\"\",\"\",INDEX(E_SourceStreams!$A:$N,DN47,AI$7)))","v":""},{"$f":"IF($E47=\"\",\"\",IF(INDEX(E_SourceStreams!$A:$N,DO47,AJ$7)=\"\",\"\",INDEX(E_SourceStreams!$A:$N,DO47,AJ$7)))","v":""},{"$f":"IF($E47=\"\",\"\",IF(INDEX(E_SourceStreams!$A:$N,DP47,AK$7)=\"\",\"\",INDEX(E_SourceStreams!$A:$N,DP47,AK$7)))","v":""},{"$f":"IF($E47=\"\",\"\",IF(INDEX(E_SourceStreams!$A:$N,DQ47,AL$7)=\"\",\"\",INDEX(E_SourceStreams!$A:$N,DQ47,AL$7)))","v":""},{"$f":"IF($E47=\"\",\"\",IF(INDEX(E_SourceStreams!$A:$N,DR47,AM$7)=\"\",\"\",INDEX(E_SourceStreams!$A:$N,DR47,AM$7)))","v":""},{"$f":"IF($E47=\"\",\"\",IF(INDEX(E_SourceStreams!$A:$N,DS47,AN$7)=\"\",\"\",INDEX(E_SourceStreams!$A:$N,DS47,AN$7)))","v":""},{"$f":"IF($E47=\"\",\"\",IF(INDEX(E_SourceStreams!$A:$N,DT47,AO$7)=\"\",\"\",INDEX(E_SourceStreams!$A:$N,DT47,AO$7)))","v":""},{"$f":"IF($E47=\"\",\"\",IF(INDEX(E_SourceStreams!$A:$N,DU47,AP$7)=\"\",\"\",INDEX(E_SourceStreams!$A:$N,DU47,AP$7)))","v":""},{"$f":"IF($E47=\"\",\"\",IF(INDEX(E_SourceStreams!$A:$N,DV47,AQ$7)=\"\",\"\",INDEX(E_SourceStreams!$A:$N,DV47,AQ$7)))","v":""},{"$f":"IF($E47=\"\",\"\",IF(INDEX(E_SourceStreams!$A:$N,DW47,AR$7)=\"\",\"\",INDEX(E_SourceStreams!$A:$N,DW47,AR$7)))","v":""},{"$f":"IF($E47=\"\",\"\",IF(INDEX(E_SourceStreams!$A:$N,DX47,AS$7)=\"\",\"\",INDEX(E_SourceStreams!$A:$N,DX47,AS$7)))","v":""},{"$f":"IF($E47=\"\",\"\",IF(INDEX(E_SourceStreams!$A:$N,DY47,AT$7)=\"\",\"\",INDEX(E_SourceStreams!$A:$N,DY47,AT$7)))","v":""},{"$f":"IF($E47=\"\",\"\",IF(INDEX(E_SourceStreams!$A:$N,DZ47,AU$7)=\"\",\"\",INDEX(E_SourceStreams!$A:$N,DZ47,AU$7)))","v":""},{"$f":"IF($E47=\"\",\"\",IF(INDEX(E_SourceStreams!$A:$N,EA47,AV$7)=\"\",\"\",INDEX(E_SourceStreams!$A:$N,EA47,AV$7)))","v":""},{"$f":"IF($E47=\"\",\"\",IF(INDEX(E_SourceStreams!$A:$N,EB47,AW$7)=\"\",\"\",INDEX(E_SourceStreams!$A:$N,EB47,AW$7)))","v":""},{"$f":"IF($E47=\"\",\"\",IF(INDEX(E_SourceStreams!$A:$N,EC47,AX$7)=\"\",\"\",INDEX(E_SourceStreams!$A:$N,EC47,AX$7)))","v":""},{"$f":"IF($E47=\"\",\"\",IF(INDEX(E_SourceStreams!$A:$N,ED47,AY$7)=\"\",\"\",INDEX(E_SourceStreams!$A:$N,ED47,AY$7)))","v":""},{"$f":"IF($E47=\"\",\"\",IF(INDEX(E_SourceStreams!$A:$N,EE47,AZ$7)=\"\",\"\",INDEX(E_SourceStreams!$A:$N,EE47,AZ$7)))","v":""},{"$f":"IF($E47=\"\",\"\",IF(INDEX(E_SourceStreams!$A:$N,EF47,BA$7)=\"\",\"\",INDEX(E_SourceStreams!$A:$N,EF47,BA$7)))","v":""},{"$f":"IF($E47=\"\",\"\",IF(INDEX(E_SourceStreams!$A:$N,EG47,BB$7)=\"\",\"\",INDEX(E_SourceStreams!$A:$N,EG47,BB$7)))","v":""},{"$f":"IF($E47=\"\",\"\",IF(INDEX(E_SourceStreams!$A:$N,EH47,BC$7)=\"\",\"\",INDEX(E_SourceStreams!$A:$N,EH47,BC$7)))","v":""},{"$f":"IF($E47=\"\",\"\",IF(INDEX(E_SourceStreams!$A:$N,EI47,BD$7)=\"\",\"\",INDEX(E_SourceStreams!$A:$N,EI47,BD$7)))","v":""},{"$f":"IF($E47=\"\",\"\",IF(INDEX(E_SourceStreams!$A:$N,EJ47,BE$7)=\"\",\"\",INDEX(E_SourceStreams!$A:$N,EJ47,BE$7)))","v":""},{"$f":"IF($E47=\"\",\"\",IF(INDEX(E_SourceStreams!$A:$N,EK47,BF$7)=\"\",\"\",INDEX(E_SourceStreams!$A:$N,EK47,BF$7)))","v":""},{"$f":"IF($E47=\"\",\"\",IF(INDEX(E_SourceStreams!$A:$N,EL47,BG$7)=\"\",\"\",INDEX(E_SourceStreams!$A:$N,EL47,BG$7)))","v":""},{"$f":"IF($E47=\"\",\"\",IF(INDEX(E_SourceStreams!$A:$N,EM47,BH$7)=\"\",\"\",INDEX(E_SourceStreams!$A:$N,EM47,BH$7)))","v":""},{"$f":"IF($E47=\"\",\"\",IF(INDEX(E_SourceStreams!$A:$N,EN47,BI$7)=\"\",\"\",INDEX(E_SourceStreams!$A:$N,EN47,BI$7)))","v":""},{"$f":"IF($E47=\"\",\"\",IF(INDEX(E_SourceStreams!$A:$N,EO47,BJ$7)=\"\",\"\",INDEX(E_SourceStreams!$A:$N,EO47,BJ$7)))","v":""},{"$f":"IF($E47=\"\",\"\",IF(INDEX(E_SourceStreams!$A:$N,EP47,BK$7)=\"\",\"\",INDEX(E_SourceStreams!$A:$N,EP47,BK$7)))","v":""},{"$f":"IF($E47=\"\",\"\",IF(INDEX(E_SourceStreams!$A:$N,EQ47,BL$7)=\"\",\"\",INDEX(E_SourceStreams!$A:$N,EQ47,BL$7)))","v":""},{"$f":"IF($E47=\"\",\"\",IF(INDEX(E_SourceStreams!$A:$N,ER47,BM$7)=\"\",\"\",INDEX(E_SourceStreams!$A:$N,ER47,BM$7)))","v":""},{"$f":"IF($E47=\"\",\"\",IF(INDEX(E_SourceStreams!$A:$N,ES47,BN$7)=\"\",\"\",INDEX(E_SourceStreams!$A:$N,ES47,BN$7)))","v":""},{"$f":"IF($E47=\"\",\"\",IF(INDEX(E_SourceStreams!$A:$N,ET47,BO$7)=\"\",\"\",INDEX(E_SourceStreams!$A:$N,ET47,BO$7)))","v":""},{"$f":"IF($E47=\"\",\"\",IF(INDEX(E_SourceStreams!$A:$N,EU47,BP$7)=\"\",\"\",INDEX(E_SourceStreams!$A:$N,EU47,BP$7)))","v":""},{"$f":"IF($E47=\"\",\"\",IF(INDEX(E_SourceStreams!$A:$N,EV47,BQ$7)=\"\",\"\",INDEX(E_SourceStreams!$A:$N,EV47,BQ$7)))","v":""},{"$f":"IF($E47=\"\",\"\",IF(INDEX(E_SourceStreams!$A:$N,EW47,BR$7)=\"\",\"\",INDEX(E_SourceStreams!$A:$N,EW47,BR$7)))","v":""},{"$f":"IF($E47=\"\",\"\",IF(INDEX(E_SourceStreams!$A:$N,EX47,BS$7)=\"\",\"\",INDEX(E_SourceStreams!$A:$N,EX47,BS$7)))","v":""},{"$f":"IF($E47=\"\",\"\",IF(INDEX(E_SourceStreams!$A:$N,EY47,BT$7)=\"\",\"\",INDEX(E_SourceStreams!$A:$N,EY47,BT$7)))","v":""},null,null,null,null,null,null,null,null,null,null,null,null,null,null,null,"SourceCategory_",{"$f":"INDEX(C_InstallationDescription!$A$226:$A$332,ROWS($CI$11:CI47))=\"ausblenden\"","v":false},"SourceStreamName_",null,2511,2513,2515,2517,2519,2521,2523,2523,2523,2523,2523,2526,2530,2531,2532,2539,2549,2549,2549,2549,2549,2549,2549,2540,2550,2550,2550,2550,2550,2550,2550,2541,2551,2551,2551,2551,2551,2551,2551,2542,2552,2552,2552,2552,2552,2552,2552,2543,2553,2553,2553,2553,2553,2553,2553,2544,2554,2554,2554,2554,2554,2554,2554,2560]
[null,{"$f":"IF(COUNTIF($CK$10:CK48,TRUE)>0,\"\",INDEX(C_InstallationDescription!$E$226:$E$242,ROWS($A$11:A48)))","v":""},{"$f":"IF($E48=\"\",\"\",INDEX(C_InstallationDescription!F:F,MATCH($B48,C_InstallationDescription!$E:$E,0)))","v":""},{"$f":"IF($E48=\"\",\"\",INDEX(C_InstallationDescription!I:I,MATCH($B48,C_InstallationDescription!$E:$E,0)))","v":""},{"$f":"IF($B48=\"\",\"\",INDEX(C_InstallationDescription!F:F,MATCH($CJ48,C_InstallationDescription!$Q:$Q,0)))","v":""},{"$f":"IF($E48=\"\",\"\",INDEX(C_InstallationDescription!L:L,MATCH($CJ48,C_InstallationDescription!$Q:$Q,0)))","v":""},{"$f":"IF($E48=\"\",\"\",INDEX(C_InstallationDescription!M:M,MATCH($CJ48,C_InstallationDescription!$Q:$Q,0)))","v":""},{"$f":"IF($E48=\"\",\"\",INDEX(C_InstallationDescription!N:N,MATCH($CJ48,C_InstallationDescription!$Q:$Q,0)))","v":""},{"$f":"IF($E48=\"\",\"\",IF(INDEX(E_SourceStreams!$A:$N,CN48,I$7)=\"\",\"\",INDEX(E_SourceStreams!$A:$N,CN48,I$7)))","v":""},{"$f":"IF($E48=\"\",\"\",IF(INDEX(E_SourceStreams!$A:$N,CO48,J$7)=\"\",\"\",INDEX(E_SourceStreams!$A:$N,CO48,J$7)))","v":""},{"$f":"IF($E48=\"\",\"\",IF(INDEX(E_SourceStreams!$A:$N,CP48,K$7)=\"\",\"\",INDEX(E_SourceStreams!$A:$N,CP48,K$7)))","v":""},{"$f":"IF($E48=\"\",\"\",IF(INDEX(E_SourceStreams!$A:$N,CQ48,L$7)=\"\",\"\",INDEX(E_SourceStreams!$A:$N,CQ48,L$7)))","v":""},{"$f":"IF($E48=\"\",\"\",IF(INDEX(E_SourceStreams!$A:$N,CR48,M$7)=\"\",\"\",INDEX(E_SourceStreams!$A:$N,CR48,M$7)))","v":""},{"$f":"IF($E48=\"\",\"\",IF(INDEX(E_SourceStreams!$A:$N,CS48,N$7)=\"\",\"\",INDEX(E_SourceStreams!$A:$N,CS48,N$7)))","v":""},{"$f":"IF($E48=\"\",\"\",IF(INDEX(E_SourceStreams!$A:$N,CT48,O$7)=\"\",\"\",INDEX(E_SourceStreams!$A:$N,CT48,O$7)))","v":""},{"$f":"IF($E48=\"\",\"\",IF(INDEX(E_SourceStreams!$A:$N,CU48,P$7)=\"\",\"\",INDEX(E_SourceStreams!$A:$N,CU48,P$7)))","v":""},{"$f":"IF($E48=\"\",\"\",IF(INDEX(E_SourceStreams!$A:$N,CV48,Q$7)=\"\",\"\",INDEX(E_SourceStreams!$A:$N,CV48,Q$7)))","v":""},{"$f":"IF($E48=\"\",\"\",IF(INDEX(E_SourceStreams!$A:$N,CW48,R$7)=\"\",\"\",INDEX(E_SourceStreams!$A:$N,CW48,R$7)))","v":""},{"$f":"IF($E48=\"\",\"\",IF(INDEX(E_SourceStreams!$A:$N,CX48,S$7)=\"\",\"\",INDEX(E_SourceStreams!$A:$N,CX48,S$7)))","v":""},{"$f":"IF($E48=\"\",\"\",IF(INDEX(E_SourceStreams!$A:$N,CY48,T$7)=\"\",\"\",INDEX(E_SourceStreams!$A:$N,CY48,T$7)))","v":""},{"$f":"IF($E48=\"\",\"\",IF(INDEX(E_SourceStreams!$A:$N,CZ48,U$7)=\"\",\"\",INDEX(E_SourceStreams!$A:$N,CZ48,U$7)))","v":""},{"$f":"IF($E48=\"\",\"\",IF(INDEX(E_SourceStreams!$A:$N,DA48,V$7)=\"\",\"\",INDEX(E_SourceStreams!$A:$N,DA48,V$7)))","v":""},{"$f":"IF($E48=\"\",\"\",IF(INDEX(E_SourceStreams!$A:$N,DB48,W$7)=\"\",\"\",INDEX(E_SourceStreams!$A:$N,DB48,W$7)))","v":""},{"$f":"IF($E48=\"\",\"\",IF(INDEX(E_SourceStreams!$A:$N,DC48,X$7)=\"\",\"\",INDEX(E_SourceStreams!$A:$N,DC48,X$7)))","v":""},{"$f":"IF($E48=\"\",\"\",IF(INDEX(E_SourceStreams!$A:$N,DD48,Y$7)=\"\",\"\",INDEX(E_SourceStreams!$A:$N,DD48,Y$7)))","v":""},{"$f":"IF($E48=\"\",\"\",IF(INDEX(E_SourceStreams!$A:$N,DE48,Z$7)=\"\",\"\",INDEX(E_SourceStreams!$A:$N,DE48,Z$7)))","v":""},{"$f":"IF($E48=\"\",\"\",IF(INDEX(E_SourceStreams!$A:$N,DF48,AA$7)=\"\",\"\",INDEX(E_SourceStreams!$A:$N,DF48,AA$7)))","v":""},{"$f":"IF($E48=\"\",\"\",IF(INDEX(E_SourceStreams!$A:$N,DG48,AB$7)=\"\",\"\",INDEX(E_SourceStreams!$A:$N,DG48,AB$7)))","v":""},{"$f":"IF($E48=\"\",\"\",IF(INDEX(E_SourceStreams!$A:$N,DH48,AC$7)=\"\",\"\",INDEX(E_SourceStreams!$A:$N,DH48,AC$7)))","v":""},{"$f":"IF($E48=\"\",\"\",IF(INDEX(E_SourceStreams!$A:$N,DI48,AD$7)=\"\",\"\",INDEX(E_SourceStreams!$A:$N,DI48,AD$7)))","v":""},{"$f":"IF($E48=\"\",\"\",IF(INDEX(E_SourceStreams!$A:$N,DJ48,AE$7)=\"\",\"\",INDEX(E_SourceStreams!$A:$N,DJ48,AE$7)))","v":""},{"$f":"IF($E48=\"\",\"\",IF(INDEX(E_SourceStreams!$A:$N,DK48,AF$7)=\"\",\"\",INDEX(E_SourceStreams!$A:$N,DK48,AF$7)))","v":""},{"$f":"IF($E48=\"\",\"\",IF(INDEX(E_SourceStreams!$A:$N,DL48,AG$7)=\"\",\"\",INDEX(E_SourceStreams!$A:$N,DL48,AG$7)))","v":""},{"$f":"IF($E48=\"\",\"\",IF(INDEX(E_SourceStreams!$A:$N,DM48,AH$7)=\"\",\"\",INDEX(E_SourceStreams!$A:$N,DM48,AH$7)))","v":""},{"$f":"IF($E48=\"\",\"\",IF(INDEX(E_SourceStreams!$A:$N,DN48,AI$7)=\"\",\"\",INDEX(E_SourceStreams!$A:$N,DN48,AI$7)))","v":""},{"$f":"IF($E48=\"\",\"\",IF(INDEX(E_SourceStreams!$A:$N,DO48,AJ$7)=\"\",\"\",INDEX(E_SourceStreams!$A:$N,DO48,AJ$7)))","v":""},{"$f":"IF($E48=\"\",\"\",IF(INDEX(E_SourceStreams!$A:$N,DP48,AK$7)=\"\",\"\",INDEX(E_SourceStreams!$A:$N,DP48,AK$7)))","v":""},{"$f":"IF($E48=\"\",\"\",IF(INDEX(E_SourceStreams!$A:$N,DQ48,AL$7)=\"\",\"\",INDEX(E_SourceStreams!$A:$N,DQ48,AL$7)))","v":""},{"$f":"IF($E48=\"\",\"\",IF(INDEX(E_SourceStreams!$A:$N,DR48,AM$7)=\"\",\"\",INDEX(E_SourceStreams!$A:$N,DR48,AM$7)))","v":""},{"$f":"IF($E48=\"\",\"\",IF(INDEX(E_SourceStreams!$A:$N,DS48,AN$7)=\"\",\"\",INDEX(E_SourceStreams!$A:$N,DS48,AN$7)))","v":""},{"$f":"IF($E48=\"\",\"\",IF(INDEX(E_SourceStreams!$A:$N,DT48,AO$7)=\"\",\"\",INDEX(E_SourceStreams!$A:$N,DT48,AO$7)))","v":""},{"$f":"IF($E48=\"\",\"\",IF(INDEX(E_SourceStreams!$A:$N,DU48,AP$7)=\"\",\"\",INDEX(E_SourceStreams!$A:$N,DU48,AP$7)))","v":""},{"$f":"IF($E48=\"\",\"\",IF(INDEX(E_SourceStreams!$A:$N,DV48,AQ$7)=\"\",\"\",INDEX(E_SourceStreams!$A:$N,DV48,AQ$7)))","v":""},{"$f":"IF($E48=\"\",\"\",IF(INDEX(E_SourceStreams!$A:$N,DW48,AR$7)=\"\",\"\",INDEX(E_SourceStreams!$A:$N,DW48,AR$7)))","v":""},{"$f":"IF($E48=\"\",\"\",IF(INDEX(E_SourceStreams!$A:$N,DX48,AS$7)=\"\",\"\",INDEX(E_SourceStreams!$A:$N,DX48,AS$7)))","v":""},{"$f":"IF($E48=\"\",\"\",IF(INDEX(E_SourceStreams!$A:$N,DY48,AT$7)=\"\",\"\",INDEX(E_SourceStreams!$A:$N,DY48,AT$7)))","v":""},{"$f":"IF($E48=\"\",\"\",IF(INDEX(E_SourceStreams!$A:$N,DZ48,AU$7)=\"\",\"\",INDEX(E_SourceStreams!$A:$N,DZ48,AU$7)))","v":""},{"$f":"IF($E48=\"\",\"\",IF(INDEX(E_SourceStreams!$A:$N,EA48,AV$7)=\"\",\"\",INDEX(E_SourceStreams!$A:$N,EA48,AV$7)))","v":""},{"$f":"IF($E48=\"\",\"\",IF(INDEX(E_SourceStreams!$A:$N,EB48,AW$7)=\"\",\"\",INDEX(E_SourceStreams!$A:$N,EB48,AW$7)))","v":""},{"$f":"IF($E48=\"\",\"\",IF(INDEX(E_SourceStreams!$A:$N,EC48,AX$7)=\"\",\"\",INDEX(E_SourceStreams!$A:$N,EC48,AX$7)))","v":""},{"$f":"IF($E48=\"\",\"\",IF(INDEX(E_SourceStreams!$A:$N,ED48,AY$7)=\"\",\"\",INDEX(E_SourceStreams!$A:$N,ED48,AY$7)))","v":""},{"$f":"IF($E48=\"\",\"\",IF(INDEX(E_SourceStreams!$A:$N,EE48,AZ$7)=\"\",\"\",INDEX(E_SourceStreams!$A:$N,EE48,AZ$7)))","v":""},{"$f":"IF($E48=\"\",\"\",IF(INDEX(E_SourceStreams!$A:$N,EF48,BA$7)=\"\",\"\",INDEX(E_SourceStreams!$A:$N,EF48,BA$7)))","v":""},{"$f":"IF($E48=\"\",\"\",IF(INDEX(E_SourceStreams!$A:$N,EG48,BB$7)=\"\",\"\",INDEX(E_SourceStreams!$A:$N,EG48,BB$7)))","v":""},{"$f":"IF($E48=\"\",\"\",IF(INDEX(E_SourceStreams!$A:$N,EH48,BC$7)=\"\",\"\",INDEX(E_SourceStreams!$A:$N,EH48,BC$7)))","v":""},{"$f":"IF($E48=\"\",\"\",IF(INDEX(E_SourceStreams!$A:$N,EI48,BD$7)=\"\",\"\",INDEX(E_SourceStreams!$A:$N,EI48,BD$7)))","v":""},{"$f":"IF($E48=\"\",\"\",IF(INDEX(E_SourceStreams!$A:$N,EJ48,BE$7)=\"\",\"\",INDEX(E_SourceStreams!$A:$N,EJ48,BE$7)))","v":""},{"$f":"IF($E48=\"\",\"\",IF(INDEX(E_SourceStreams!$A:$N,EK48,BF$7)=\"\",\"\",INDEX(E_SourceStreams!$A:$N,EK48,BF$7)))","v":""},{"$f":"IF($E48=\"\",\"\",IF(INDEX(E_SourceStreams!$A:$N,EL48,BG$7)=\"\",\"\",INDEX(E_SourceStreams!$A:$N,EL48,BG$7)))","v":""},{"$f":"IF($E48=\"\",\"\",IF(INDEX(E_SourceStreams!$A:$N,EM48,BH$7)=\"\",\"\",INDEX(E_SourceStreams!$A:$N,EM48,BH$7)))","v":""},{"$f":"IF($E48=\"\",\"\",IF(INDEX(E_SourceStreams!$A:$N,EN48,BI$7)=\"\",\"\",INDEX(E_SourceStreams!$A:$N,EN48,BI$7)))","v":""},{"$f":"IF($E48=\"\",\"\",IF(INDEX(E_SourceStreams!$A:$N,EO48,BJ$7)=\"\",\"\",INDEX(E_SourceStreams!$A:$N,EO48,BJ$7)))","v":""},{"$f":"IF($E48=\"\",\"\",IF(INDEX(E_SourceStreams!$A:$N,EP48,BK$7)=\"\",\"\",INDEX(E_SourceStreams!$A:$N,EP48,BK$7)))","v":""},{"$f":"IF($E48=\"\",\"\",IF(INDEX(E_SourceStreams!$A:$N,EQ48,BL$7)=\"\",\"\",INDEX(E_SourceStreams!$A:$N,EQ48,BL$7)))","v":""},{"$f":"IF($E48=\"\",\"\",IF(INDEX(E_SourceStreams!$A:$N,ER48,BM$7)=\"\",\"\",INDEX(E_SourceStreams!$A:$N,ER48,BM$7)))","v":""},{"$f":"IF($E48=\"\",\"\",IF(INDEX(E_SourceStreams!$A:$N,ES48,BN$7)=\"\",\"\",INDEX(E_SourceStreams!$A:$N,ES48,BN$7)))","v":""},{"$f":"IF($E48=\"\",\"\",IF(INDEX(E_SourceStreams!$A:$N,ET48,BO$7)=\"\",\"\",INDEX(E_SourceStreams!$A:$N,ET48,BO$7)))","v":""},{"$f":"IF($E48=\"\",\"\",IF(INDEX(E_SourceStreams!$A:$N,EU48,BP$7)=\"\",\"\",INDEX(E_SourceStreams!$A:$N,EU48,BP$7)))","v":""},{"$f":"IF($E48=\"\",\"\",IF(INDEX(E_SourceStreams!$A:$N,EV48,BQ$7)=\"\",\"\",INDEX(E_SourceStreams!$A:$N,EV48,BQ$7)))","v":""},{"$f":"IF($E48=\"\",\"\",IF(INDEX(E_SourceStreams!$A:$N,EW48,BR$7)=\"\",\"\",INDEX(E_SourceStreams!$A:$N,EW48,BR$7)))","v":""},{"$f":"IF($E48=\"\",\"\",IF(INDEX(E_SourceStreams!$A:$N,EX48,BS$7)=\"\",\"\",INDEX(E_SourceStreams!$A:$N,EX48,BS$7)))","v":""},{"$f":"IF($E48=\"\",\"\",IF(INDEX(E_SourceStreams!$A:$N,EY48,BT$7)=\"\",\"\",INDEX(E_SourceStreams!$A:$N,EY48,BT$7)))","v":""},null,null,null,null,null,null,null,null,null,null,null,null,null,null,null,"SourceCategory_",{"$f":"INDEX(C_InstallationDescription!$A$226:$A$332,ROWS($CI$11:CI48))=\"ausblenden\"","v":false},"SourceStreamName_",null,2577,2579,2581,2583,2585,2587,2589,2589,2589,2589,2589,2592,2596,2597,2598,2605,2615,2615,2615,2615,2615,2615,2615,2606,2616,2616,2616,2616,2616,2616,2616,2607,2617,2617,2617,2617,2617,2617,2617,2608,2618,2618,2618,2618,2618,2618,2618,2609,2619,2619,2619,2619,2619,2619,2619,2610,2620,2620,2620,2620,2620,2620,2620,2626]
[null,{"$f":"IF(COUNTIF($CK$10:CK49,TRUE)>0,\"\",INDEX(C_InstallationDescription!$E$226:$E$242,ROWS($A$11:A49)))","v":""},{"$f":"IF($E49=\"\",\"\",INDEX(C_InstallationDescription!F:F,MATCH($B49,C_InstallationDescription!$E:$E,0)))","v":""},{"$f":"IF($E49=\"\",\"\",INDEX(C_InstallationDescription!I:I,MATCH($B49,C_InstallationDescription!$E:$E,0)))","v":""},{"$f":"IF($B49=\"\",\"\",INDEX(C_InstallationDescription!F:F,MATCH($CJ49,C_InstallationDescription!$Q:$Q,0)))","v":""},{"$f":"IF($E49=\"\",\"\",INDEX(C_InstallationDescription!L:L,MATCH($CJ49,C_InstallationDescription!$Q:$Q,0)))","v":""},{"$f":"IF($E49=\"\",\"\",INDEX(C_InstallationDescription!M:M,MATCH($CJ49,C_InstallationDescription!$Q:$Q,0)))","v":""},{"$f":"IF($E49=\"\",\"\",INDEX(C_InstallationDescription!N:N,MATCH($CJ49,C_InstallationDescription!$Q:$Q,0)))","v":""},{"$f":"IF($E49=\"\",\"\",IF(INDEX(E_SourceStreams!$A:$N,CN49,I$7)=\"\",\"\",INDEX(E_SourceStreams!$A:$N,CN49,I$7)))","v":""},{"$f":"IF($E49=\"\",\"\",IF(INDEX(E_SourceStreams!$A:$N,CO49,J$7)=\"\",\"\",INDEX(E_SourceStreams!$A:$N,CO49,J$7)))","v":""},{"$f":"IF($E49=\"\",\"\",IF(INDEX(E_SourceStreams!$A:$N,CP49,K$7)=\"\",\"\",INDEX(E_SourceStreams!$A:$N,CP49,K$7)))","v":""},{"$f":"IF($E49=\"\",\"\",IF(INDEX(E_SourceStreams!$A:$N,CQ49,L$7)=\"\",\"\",INDEX(E_SourceStreams!$A:$N,CQ49,L$7)))","v":""},{"$f":"IF($E49=\"\",\"\",IF(INDEX(E_SourceStreams!$A:$N,CR49,M$7)=\"\",\"\",INDEX(E_SourceStreams!$A:$N,CR49,M$7)))","v":""},{"$f":"IF($E49=\"\",\"\",IF(INDEX(E_SourceStreams!$A:$N,CS49,N$7)=\"\",\"\",INDEX(E_SourceStreams!$A:$N,CS49,N$7)))","v":""},{"$f":"IF($E49=\"\",\"\",IF(INDEX(E_SourceStreams!$A:$N,CT49,O$7)=\"\",\"\",INDEX(E_SourceStreams!$A:$N,CT49,O$7)))","v":""},{"$f":"IF($E49=\"\",\"\",IF(INDEX(E_SourceStreams!$A:$N,CU49,P$7)=\"\",\"\",INDEX(E_SourceStreams!$A:$N,CU49,P$7)))","v":""},{"$f":"IF($E49=\"\",\"\",IF(INDEX(E_SourceStreams!$A:$N,CV49,Q$7)=\"\",\"\",INDEX(E_SourceStreams!$A:$N,CV49,Q$7)))","v":""},{"$f":"IF($E49=\"\",\"\",IF(INDEX(E_SourceStreams!$A:$N,CW49,R$7)=\"\",\"\",INDEX(E_SourceStreams!$A:$N,CW49,R$7)))","v":""},{"$f":"IF($E49=\"\",\"\",IF(INDEX(E_SourceStreams!$A:$N,CX49,S$7)=\"\",\"\",INDEX(E_SourceStreams!$A:$N,CX49,S$7)))","v":""},{"$f":"IF($E49=\"\",\"\",IF(INDEX(E_SourceStreams!$A:$N,CY49,T$7)=\"\",\"\",INDEX(E_SourceStreams!$A:$N,CY49,T$7)))","v":""},{"$f":"IF($E49=\"\",\"\",IF(INDEX(E_SourceStreams!$A:$N,CZ49,U$7)=\"\",\"\",INDEX(E_SourceStreams!$A:$N,CZ49,U$7)))","v":""},{"$f":"IF($E49=\"\",\"\",IF(INDEX(E_SourceStreams!$A:$N,DA49,V$7)=\"\",\"\",INDEX(E_SourceStreams!$A:$N,DA49,V$7)))","v":""},{"$f":"IF($E49=\"\",\"\",IF(INDEX(E_SourceStreams!$A:$N,DB49,W$7)=\"\",\"\",INDEX(E_SourceStreams!$A:$N,DB49,W$7)))","v":""},{"$f":"IF($E49=\"\",\"\",IF(INDEX(E_SourceStreams!$A:$N,DC49,X$7)=\"\",\"\",INDEX(E_SourceStreams!$A:$N,DC49,X$7)))","v":""},{"$f":"IF($E49=\"\",\"\",IF(INDEX(E_SourceStreams!$A:$N,DD49,Y$7)=\"\",\"\",INDEX(E_SourceStreams!$A:$N,DD49,Y$7)))","v":""},{"$f":"IF($E49=\"\",\"\",IF(INDEX(E_SourceStreams!$A:$N,DE49,Z$7)=\"\",\"\",INDEX(E_SourceStreams!$A:$N,DE49,Z$7)))","v":""},{"$f":"IF($E49=\"\",\"\",IF(INDEX(E_SourceStreams!$A:$N,DF49,AA$7)=\"\",\"\",INDEX(E_SourceStreams!$A:$N,DF49,AA$7)))","v":""},{"$f":"IF($E49=\"\",\"\",IF(INDEX(E_SourceStreams!$A:$N,DG49,AB$7)=\"\",\"\",INDEX(E_SourceStreams!$A:$N,DG49,AB$7)))","v":""},{"$f":"IF($E49=\"\",\"\",IF(INDEX(E_SourceStreams!$A:$N,DH49,AC$7)=\"\",\"\",INDEX(E_SourceStreams!$A:$N,DH49,AC$7)))","v":""},{"$f":"IF($E49=\"\",\"\",IF(INDEX(E_SourceStreams!$A:$N,DI49,AD$7)=\"\",\"\",INDEX(E_SourceStreams!$A:$N,DI49,AD$7)))","v":""},{"$f":"IF($E49=\"\",\"\",IF(INDEX(E_SourceStreams!$A:$N,DJ49,AE$7)=\"\",\"\",INDEX(E_SourceStreams!$A:$N,DJ49,AE$7)))","v":""},{"$f":"IF($E49=\"\",\"\",IF(INDEX(E_SourceStreams!$A:$N,DK49,AF$7)=\"\",\"\",INDEX(E_SourceStreams!$A:$N,DK49,AF$7)))","v":""},{"$f":"IF($E49=\"\",\"\",IF(INDEX(E_SourceStreams!$A:$N,DL49,AG$7)=\"\",\"\",INDEX(E_SourceStreams!$A:$N,DL49,AG$7)))","v":""},{"$f":"IF($E49=\"\",\"\",IF(INDEX(E_SourceStreams!$A:$N,DM49,AH$7)=\"\",\"\",INDEX(E_SourceStreams!$A:$N,DM49,AH$7)))","v":""},{"$f":"IF($E49=\"\",\"\",IF(INDEX(E_SourceStreams!$A:$N,DN49,AI$7)=\"\",\"\",INDEX(E_SourceStreams!$A:$N,DN49,AI$7)))","v":""},{"$f":"IF($E49=\"\",\"\",IF(INDEX(E_SourceStreams!$A:$N,DO49,AJ$7)=\"\",\"\",INDEX(E_SourceStreams!$A:$N,DO49,AJ$7)))","v":""},{"$f":"IF($E49=\"\",\"\",IF(INDEX(E_SourceStreams!$A:$N,DP49,AK$7)=\"\",\"\",INDEX(E_SourceStreams!$A:$N,DP49,AK$7)))","v":""},{"$f":"IF($E49=\"\",\"\",IF(INDEX(E_SourceStreams!$A:$N,DQ49,AL$7)=\"\",\"\",INDEX(E_SourceStreams!$A:$N,DQ49,AL$7)))","v":""},{"$f":"IF($E49=\"\",\"\",IF(INDEX(E_SourceStreams!$A:$N,DR49,AM$7)=\"\",\"\",INDEX(E_SourceStreams!$A:$N,DR49,AM$7)))","v":""},{"$f":"IF($E49=\"\",\"\",IF(INDEX(E_SourceStreams!$A:$N,DS49,AN$7)=\"\",\"\",INDEX(E_SourceStreams!$A:$N,DS49,AN$7)))","v":""},{"$f":"IF($E49=\"\",\"\",IF(INDEX(E_SourceStreams!$A:$N,DT49,AO$7)=\"\",\"\",INDEX(E_SourceStreams!$A:$N,DT49,AO$7)))","v":""},{"$f":"IF($E49=\"\",\"\",IF(INDEX(E_SourceStreams!$A:$N,DU49,AP$7)=\"\",\"\",INDEX(E_SourceStreams!$A:$N,DU49,AP$7)))","v":""},{"$f":"IF($E49=\"\",\"\",IF(INDEX(E_SourceStreams!$A:$N,DV49,AQ$7)=\"\",\"\",INDEX(E_SourceStreams!$A:$N,DV49,AQ$7)))","v":""},{"$f":"IF($E49=\"\",\"\",IF(INDEX(E_SourceStreams!$A:$N,DW49,AR$7)=\"\",\"\",INDEX(E_SourceStreams!$A:$N,DW49,AR$7)))","v":""},{"$f":"IF($E49=\"\",\"\",IF(INDEX(E_SourceStreams!$A:$N,DX49,AS$7)=\"\",\"\",INDEX(E_SourceStreams!$A:$N,DX49,AS$7)))","v":""},{"$f":"IF($E49=\"\",\"\",IF(INDEX(E_SourceStreams!$A:$N,DY49,AT$7)=\"\",\"\",INDEX(E_SourceStreams!$A:$N,DY49,AT$7)))","v":""},{"$f":"IF($E49=\"\",\"\",IF(INDEX(E_SourceStreams!$A:$N,DZ49,AU$7)=\"\",\"\",INDEX(E_SourceStreams!$A:$N,DZ49,AU$7)))","v":""},{"$f":"IF($E49=\"\",\"\",IF(INDEX(E_SourceStreams!$A:$N,EA49,AV$7)=\"\",\"\",INDEX(E_SourceStreams!$A:$N,EA49,AV$7)))","v":""},{"$f":"IF($E49=\"\",\"\",IF(INDEX(E_SourceStreams!$A:$N,EB49,AW$7)=\"\",\"\",INDEX(E_SourceStreams!$A:$N,EB49,AW$7)))","v":""},{"$f":"IF($E49=\"\",\"\",IF(INDEX(E_SourceStreams!$A:$N,EC49,AX$7)=\"\",\"\",INDEX(E_SourceStreams!$A:$N,EC49,AX$7)))","v":""},{"$f":"IF($E49=\"\",\"\",IF(INDEX(E_SourceStreams!$A:$N,ED49,AY$7)=\"\",\"\",INDEX(E_SourceStreams!$A:$N,ED49,AY$7)))","v":""},{"$f":"IF($E49=\"\",\"\",IF(INDEX(E_SourceStreams!$A:$N,EE49,AZ$7)=\"\",\"\",INDEX(E_SourceStreams!$A:$N,EE49,AZ$7)))","v":""},{"$f":"IF($E49=\"\",\"\",IF(INDEX(E_SourceStreams!$A:$N,EF49,BA$7)=\"\",\"\",INDEX(E_SourceStreams!$A:$N,EF49,BA$7)))","v":""},{"$f":"IF($E49=\"\",\"\",IF(INDEX(E_SourceStreams!$A:$N,EG49,BB$7)=\"\",\"\",INDEX(E_SourceStreams!$A:$N,EG49,BB$7)))","v":""},{"$f":"IF($E49=\"\",\"\",IF(INDEX(E_SourceStreams!$A:$N,EH49,BC$7)=\"\",\"\",INDEX(E_SourceStreams!$A:$N,EH49,BC$7)))","v":""},{"$f":"IF($E49=\"\",\"\",IF(INDEX(E_SourceStreams!$A:$N,EI49,BD$7)=\"\",\"\",INDEX(E_SourceStreams!$A:$N,EI49,BD$7)))","v":""},{"$f":"IF($E49=\"\",\"\",IF(INDEX(E_SourceStreams!$A:$N,EJ49,BE$7)=\"\",\"\",INDEX(E_SourceStreams!$A:$N,EJ49,BE$7)))","v":""},{"$f":"IF($E49=\"\",\"\",IF(INDEX(E_SourceStreams!$A:$N,EK49,BF$7)=\"\",\"\",INDEX(E_SourceStreams!$A:$N,EK49,BF$7)))","v":""},{"$f":"IF($E49=\"\",\"\",IF(INDEX(E_SourceStreams!$A:$N,EL49,BG$7)=\"\",\"\",INDEX(E_SourceStreams!$A:$N,EL49,BG$7)))","v":""},{"$f":"IF($E49=\"\",\"\",IF(INDEX(E_SourceStreams!$A:$N,EM49,BH$7)=\"\",\"\",INDEX(E_SourceStreams!$A:$N,EM49,BH$7)))","v":""},{"$f":"IF($E49=\"\",\"\",IF(INDEX(E_SourceStreams!$A:$N,EN49,BI$7)=\"\",\"\",INDEX(E_SourceStreams!$A:$N,EN49,BI$7)))","v":""},{"$f":"IF($E49=\"\",\"\",IF(INDEX(E_SourceStreams!$A:$N,EO49,BJ$7)=\"\",\"\",INDEX(E_SourceStreams!$A:$N,EO49,BJ$7)))","v":""},{"$f":"IF($E49=\"\",\"\",IF(INDEX(E_SourceStreams!$A:$N,EP49,BK$7)=\"\",\"\",INDEX(E_SourceStreams!$A:$N,EP49,BK$7)))","v":""},{"$f":"IF($E49=\"\",\"\",IF(INDEX(E_SourceStreams!$A:$N,EQ49,BL$7)=\"\",\"\",INDEX(E_SourceStreams!$A:$N,EQ49,BL$7)))","v":""},{"$f":"IF($E49=\"\",\"\",IF(INDEX(E_SourceStreams!$A:$N,ER49,BM$7)=\"\",\"\",INDEX(E_SourceStreams!$A:$N,ER49,BM$7)))","v":""},{"$f":"IF($E49=\"\",\"\",IF(INDEX(E_SourceStreams!$A:$N,ES49,BN$7)=\"\",\"\",INDEX(E_SourceStreams!$A:$N,ES49,BN$7)))","v":""},{"$f":"IF($E49=\"\",\"\",IF(INDEX(E_SourceStreams!$A:$N,ET49,BO$7)=\"\",\"\",INDEX(E_SourceStreams!$A:$N,ET49,BO$7)))","v":""},{"$f":"IF($E49=\"\",\"\",IF(INDEX(E_SourceStreams!$A:$N,EU49,BP$7)=\"\",\"\",INDEX(E_SourceStreams!$A:$N,EU49,BP$7)))","v":""},{"$f":"IF($E49=\"\",\"\",IF(INDEX(E_SourceStreams!$A:$N,EV49,BQ$7)=\"\",\"\",INDEX(E_SourceStreams!$A:$N,EV49,BQ$7)))","v":""},{"$f":"IF($E49=\"\",\"\",IF(INDEX(E_SourceStreams!$A:$N,EW49,BR$7)=\"\",\"\",INDEX(E_SourceStreams!$A:$N,EW49,BR$7)))","v":""},{"$f":"IF($E49=\"\",\"\",IF(INDEX(E_SourceStreams!$A:$N,EX49,BS$7)=\"\",\"\",INDEX(E_SourceStreams!$A:$N,EX49,BS$7)))","v":""},{"$f":"IF($E49=\"\",\"\",IF(INDEX(E_SourceStreams!$A:$N,EY49,BT$7)=\"\",\"\",INDEX(E_SourceStreams!$A:$N,EY49,BT$7)))","v":""},null,null,null,null,null,null,null,null,null,null,null,null,null,null,null,"SourceCategory_",{"$f":"INDEX(C_InstallationDescription!$A$226:$A$332,ROWS($CI$11:CI49))=\"ausblenden\"","v":false},"SourceStreamName_",null,2643,2645,2647,2649,2651,2653,2655,2655,2655,2655,2655,2658,2662,2663,2664,2671,2681,2681,2681,2681,2681,2681,2681,2672,2682,2682,2682,2682,2682,2682,2682,2673,2683,2683,2683,2683,2683,2683,2683,2674,2684,2684,2684,2684,2684,2684,2684,2675,2685,2685,2685,2685,2685,2685,2685,2676,2686,2686,2686,2686,2686,2686,2686,2692]
[null,{"$f":"IF(COUNTIF($CK$10:CK50,TRUE)>0,\"\",INDEX(C_InstallationDescription!$E$226:$E$242,ROWS($A$11:A50)))","v":""},{"$f":"IF($E50=\"\",\"\",INDEX(C_InstallationDescription!F:F,MATCH($B50,C_InstallationDescription!$E:$E,0)))","v":""},{"$f":"IF($E50=\"\",\"\",INDEX(C_InstallationDescription!I:I,MATCH($B50,C_InstallationDescription!$E:$E,0)))","v":""},{"$f":"IF($B50=\"\",\"\",INDEX(C_InstallationDescription!F:F,MATCH($CJ50,C_InstallationDescription!$Q:$Q,0)))","v":""},{"$f":"IF($E50=\"\",\"\",INDEX(C_InstallationDescription!L:L,MATCH($CJ50,C_InstallationDescription!$Q:$Q,0)))","v":""},{"$f":"IF($E50=\"\",\"\",INDEX(C_InstallationDescription!M:M,MATCH($CJ50,C_InstallationDescription!$Q:$Q,0)))","v":""},{"$f":"IF($E50=\"\",\"\",INDEX(C_InstallationDescription!N:N,MATCH($CJ50,C_InstallationDescription!$Q:$Q,0)))","v":""},{"$f":"IF($E50=\"\",\"\",IF(INDEX(E_SourceStreams!$A:$N,CN50,I$7)=\"\",\"\",INDEX(E_SourceStreams!$A:$N,CN50,I$7)))","v":""},{"$f":"IF($E50=\"\",\"\",IF(INDEX(E_SourceStreams!$A:$N,CO50,J$7)=\"\",\"\",INDEX(E_SourceStreams!$A:$N,CO50,J$7)))","v":""},{"$f":"IF($E50=\"\",\"\",IF(INDEX(E_SourceStreams!$A:$N,CP50,K$7)=\"\",\"\",INDEX(E_SourceStreams!$A:$N,CP50,K$7)))","v":""},{"$f":"IF($E50=\"\",\"\",IF(INDEX(E_SourceStreams!$A:$N,CQ50,L$7)=\"\",\"\",INDEX(E_SourceStreams!$A:$N,CQ50,L$7)))","v":""},{"$f":"IF($E50=\"\",\"\",IF(INDEX(E_SourceStreams!$A:$N,CR50,M$7)=\"\",\"\",INDEX(E_SourceStreams!$A:$N,CR50,M$7)))","v":""},{"$f":"IF($E50=\"\",\"\",IF(INDEX(E_SourceStreams!$A:$N,CS50,N$7)=\"\",\"\",INDEX(E_SourceStreams!$A:$N,CS50,N$7)))","v":""},{"$f":"IF($E50=\"\",\"\",IF(INDEX(E_SourceStreams!$A:$N,CT50,O$7)=\"\",\"\",INDEX(E_SourceStreams!$A:$N,CT50,O$7)))","v":""},{"$f":"IF($E50=\"\",\"\",IF(INDEX(E_SourceStreams!$A:$N,CU50,P$7)=\"\",\"\",INDEX(E_SourceStreams!$A:$N,CU50,P$7)))","v":""},{"$f":"IF($E50=\"\",\"\",IF(INDEX(E_SourceStreams!$A:$N,CV50,Q$7)=\"\",\"\",INDEX(E_SourceStreams!$A:$N,CV50,Q$7)))","v":""},{"$f":"IF($E50=\"\",\"\",IF(INDEX(E_SourceStreams!$A:$N,CW50,R$7)=\"\",\"\",INDEX(E_SourceStreams!$A:$N,CW50,R$7)))","v":""},{"$f":"IF($E50=\"\",\"\",IF(INDEX(E_SourceStreams!$A:$N,CX50,S$7)=\"\",\"\",INDEX(E_SourceStreams!$A:$N,CX50,S$7)))","v":""},{"$f":"IF($E50=\"\",\"\",IF(INDEX(E_SourceStreams!$A:$N,CY50,T$7)=\"\",\"\",INDEX(E_SourceStreams!$A:$N,CY50,T$7)))","v":""},{"$f":"IF($E50=\"\",\"\",IF(INDEX(E_SourceStreams!$A:$N,CZ50,U$7)=\"\",\"\",INDEX(E_SourceStreams!$A:$N,CZ50,U$7)))","v":""},{"$f":"IF($E50=\"\",\"\",IF(INDEX(E_SourceStreams!$A:$N,DA50,V$7)=\"\",\"\",INDEX(E_SourceStreams!$A:$N,DA50,V$7)))","v":""},{"$f":"IF($E50=\"\",\"\",IF(INDEX(E_SourceStreams!$A:$N,DB50,W$7)=\"\",\"\",INDEX(E_SourceStreams!$A:$N,DB50,W$7)))","v":""},{"$f":"IF($E50=\"\",\"\",IF(INDEX(E_SourceStreams!$A:$N,DC50,X$7)=\"\",\"\",INDEX(E_SourceStreams!$A:$N,DC50,X$7)))","v":""},{"$f":"IF($E50=\"\",\"\",IF(INDEX(E_SourceStreams!$A:$N,DD50,Y$7)=\"\",\"\",INDEX(E_SourceStreams!$A:$N,DD50,Y$7)))","v":""},{"$f":"IF($E50=\"\",\"\",IF(INDEX(E_SourceStreams!$A:$N,DE50,Z$7)=\"\",\"\",INDEX(E_SourceStreams!$A:$N,DE50,Z$7)))","v":""},{"$f":"IF($E50=\"\",\"\",IF(INDEX(E_SourceStreams!$A:$N,DF50,AA$7)=\"\",\"\",INDEX(E_SourceStreams!$A:$N,DF50,AA$7)))","v":""},{"$f":"IF($E50=\"\",\"\",IF(INDEX(E_SourceStreams!$A:$N,DG50,AB$7)=\"\",\"\",INDEX(E_SourceStreams!$A:$N,DG50,AB$7)))","v":""},{"$f":"IF($E50=\"\",\"\",IF(INDEX(E_SourceStreams!$A:$N,DH50,AC$7)=\"\",\"\",INDEX(E_SourceStreams!$A:$N,DH50,AC$7)))","v":""},{"$f":"IF($E50=\"\",\"\",IF(INDEX(E_SourceStreams!$A:$N,DI50,AD$7)=\"\",\"\",INDEX(E_SourceStreams!$A:$N,DI50,AD$7)))","v":""},{"$f":"IF($E50=\"\",\"\",IF(INDEX(E_SourceStreams!$A:$N,DJ50,AE$7)=\"\",\"\",INDEX(E_SourceStreams!$A:$N,DJ50,AE$7)))","v":""},{"$f":"IF($E50=\"\",\"\",IF(INDEX(E_SourceStreams!$A:$N,DK50,AF$7)=\"\",\"\",INDEX(E_SourceStreams!$A:$N,DK50,AF$7)))","v":""},{"$f":"IF($E50=\"\",\"\",IF(INDEX(E_SourceStreams!$A:$N,DL50,AG$7)=\"\",\"\",INDEX(E_SourceStreams!$A:$N,DL50,AG$7)))","v":""},{"$f":"IF($E50=\"\",\"\",IF(INDEX(E_SourceStreams!$A:$N,DM50,AH$7)=\"\",\"\",INDEX(E_SourceStreams!$A:$N,DM50,AH$7)))","v":""},{"$f":"IF($E50=\"\",\"\",IF(INDEX(E_SourceStreams!$A:$N,DN50,AI$7)=\"\",\"\",INDEX(E_SourceStreams!$A:$N,DN50,AI$7)))","v":""},{"$f":"IF($E50=\"\",\"\",IF(INDEX(E_SourceStreams!$A:$N,DO50,AJ$7)=\"\",\"\",INDEX(E_SourceStreams!$A:$N,DO50,AJ$7)))","v":""},{"$f":"IF($E50=\"\",\"\",IF(INDEX(E_SourceStreams!$A:$N,DP50,AK$7)=\"\",\"\",INDEX(E_SourceStreams!$A:$N,DP50,AK$7)))","v":""},{"$f":"IF($E50=\"\",\"\",IF(INDEX(E_SourceStreams!$A:$N,DQ50,AL$7)=\"\",\"\",INDEX(E_SourceStreams!$A:$N,DQ50,AL$7)))","v":""},{"$f":"IF($E50=\"\",\"\",IF(INDEX(E_SourceStreams!$A:$N,DR50,AM$7)=\"\",\"\",INDEX(E_SourceStreams!$A:$N,DR50,AM$7)))","v":""},{"$f":"IF($E50=\"\",\"\",IF(INDEX(E_SourceStreams!$A:$N,DS50,AN$7)=\"\",\"\",INDEX(E_SourceStreams!$A:$N,DS50,AN$7)))","v":""},{"$f":"IF($E50=\"\",\"\",IF(INDEX(E_SourceStreams!$A:$N,DT50,AO$7)=\"\",\"\",INDEX(E_SourceStreams!$A:$N,DT50,AO$7)))","v":""},{"$f":"IF($E50=\"\",\"\",IF(INDEX(E_SourceStreams!$A:$N,DU50,AP$7)=\"\",\"\",INDEX(E_SourceStreams!$A:$N,DU50,AP$7)))","v":""},{"$f":"IF($E50=\"\",\"\",IF(INDEX(E_SourceStreams!$A:$N,DV50,AQ$7)=\"\",\"\",INDEX(E_SourceStreams!$A:$N,DV50,AQ$7)))","v":""},{"$f":"IF($E50=\"\",\"\",IF(INDEX(E_SourceStreams!$A:$N,DW50,AR$7)=\"\",\"\",INDEX(E_SourceStreams!$A:$N,DW50,AR$7)))","v":""},{"$f":"IF($E50=\"\",\"\",IF(INDEX(E_SourceStreams!$A:$N,DX50,AS$7)=\"\",\"\",INDEX(E_SourceStreams!$A:$N,DX50,AS$7)))","v":""},{"$f":"IF($E50=\"\",\"\",IF(INDEX(E_SourceStreams!$A:$N,DY50,AT$7)=\"\",\"\",INDEX(E_SourceStreams!$A:$N,DY50,AT$7)))","v":""},{"$f":"IF($E50=\"\",\"\",IF(INDEX(E_SourceStreams!$A:$N,DZ50,AU$7)=\"\",\"\",INDEX(E_SourceStreams!$A:$N,DZ50,AU$7)))","v":""},{"$f":"IF($E50=\"\",\"\",IF(INDEX(E_SourceStreams!$A:$N,EA50,AV$7)=\"\",\"\",INDEX(E_SourceStreams!$A:$N,EA50,AV$7)))","v":""},{"$f":"IF($E50=\"\",\"\",IF(INDEX(E_SourceStreams!$A:$N,EB50,AW$7)=\"\",\"\",INDEX(E_SourceStreams!$A:$N,EB50,AW$7)))","v":""},{"$f":"IF($E50=\"\",\"\",IF(INDEX(E_SourceStreams!$A:$N,EC50,AX$7)=\"\",\"\",INDEX(E_SourceStreams!$A:$N,EC50,AX$7)))","v":""},{"$f":"IF($E50=\"\",\"\",IF(INDEX(E_SourceStreams!$A:$N,ED50,AY$7)=\"\",\"\",INDEX(E_SourceStreams!$A:$N,ED50,AY$7)))","v":""},{"$f":"IF($E50=\"\",\"\",IF(INDEX(E_SourceStreams!$A:$N,EE50,AZ$7)=\"\",\"\",INDEX(E_SourceStreams!$A:$N,EE50,AZ$7)))","v":""},{"$f":"IF($E50=\"\",\"\",IF(INDEX(E_SourceStreams!$A:$N,EF50,BA$7)=\"\",\"\",INDEX(E_SourceStreams!$A:$N,EF50,BA$7)))","v":""},{"$f":"IF($E50=\"\",\"\",IF(INDEX(E_SourceStreams!$A:$N,EG50,BB$7)=\"\",\"\",INDEX(E_SourceStreams!$A:$N,EG50,BB$7)))","v":""},{"$f":"IF($E50=\"\",\"\",IF(INDEX(E_SourceStreams!$A:$N,EH50,BC$7)=\"\",\"\",INDEX(E_SourceStreams!$A:$N,EH50,BC$7)))","v":""},{"$f":"IF($E50=\"\",\"\",IF(INDEX(E_SourceStreams!$A:$N,EI50,BD$7)=\"\",\"\",INDEX(E_SourceStreams!$A:$N,EI50,BD$7)))","v":""},{"$f":"IF($E50=\"\",\"\",IF(INDEX(E_SourceStreams!$A:$N,EJ50,BE$7)=\"\",\"\",INDEX(E_SourceStreams!$A:$N,EJ50,BE$7)))","v":""},{"$f":"IF($E50=\"\",\"\",IF(INDEX(E_SourceStreams!$A:$N,EK50,BF$7)=\"\",\"\",INDEX(E_SourceStreams!$A:$N,EK50,BF$7)))","v":""},{"$f":"IF($E50=\"\",\"\",IF(INDEX(E_SourceStreams!$A:$N,EL50,BG$7)=\"\",\"\",INDEX(E_SourceStreams!$A:$N,EL50,BG$7)))","v":""},{"$f":"IF($E50=\"\",\"\",IF(INDEX(E_SourceStreams!$A:$N,EM50,BH$7)=\"\",\"\",INDEX(E_SourceStreams!$A:$N,EM50,BH$7)))","v":""},{"$f":"IF($E50=\"\",\"\",IF(INDEX(E_SourceStreams!$A:$N,EN50,BI$7)=\"\",\"\",INDEX(E_SourceStreams!$A:$N,EN50,BI$7)))","v":""},{"$f":"IF($E50=\"\",\"\",IF(INDEX(E_SourceStreams!$A:$N,EO50,BJ$7)=\"\",\"\",INDEX(E_SourceStreams!$A:$N,EO50,BJ$7)))","v":""},{"$f":"IF($E50=\"\",\"\",IF(INDEX(E_SourceStreams!$A:$N,EP50,BK$7)=\"\",\"\",INDEX(E_SourceStreams!$A:$N,EP50,BK$7)))","v":""},{"$f":"IF($E50=\"\",\"\",IF(INDEX(E_SourceStreams!$A:$N,EQ50,BL$7)=\"\",\"\",INDEX(E_SourceStreams!$A:$N,EQ50,BL$7)))","v":""},{"$f":"IF($E50=\"\",\"\",IF(INDEX(E_SourceStreams!$A:$N,ER50,BM$7)=\"\",\"\",INDEX(E_SourceStreams!$A:$N,ER50,BM$7)))","v":""},{"$f":"IF($E50=\"\",\"\",IF(INDEX(E_SourceStreams!$A:$N,ES50,BN$7)=\"\",\"\",INDEX(E_SourceStreams!$A:$N,ES50,BN$7)))","v":""},{"$f":"IF($E50=\"\",\"\",IF(INDEX(E_SourceStreams!$A:$N,ET50,BO$7)=\"\",\"\",INDEX(E_SourceStreams!$A:$N,ET50,BO$7)))","v":""},{"$f":"IF($E50=\"\",\"\",IF(INDEX(E_SourceStreams!$A:$N,EU50,BP$7)=\"\",\"\",INDEX(E_SourceStreams!$A:$N,EU50,BP$7)))","v":""},{"$f":"IF($E50=\"\",\"\",IF(INDEX(E_SourceStreams!$A:$N,EV50,BQ$7)=\"\",\"\",INDEX(E_SourceStreams!$A:$N,EV50,BQ$7)))","v":""},{"$f":"IF($E50=\"\",\"\",IF(INDEX(E_SourceStreams!$A:$N,EW50,BR$7)=\"\",\"\",INDEX(E_SourceStreams!$A:$N,EW50,BR$7)))","v":""},{"$f":"IF($E50=\"\",\"\",IF(INDEX(E_SourceStreams!$A:$N,EX50,BS$7)=\"\",\"\",INDEX(E_SourceStreams!$A:$N,EX50,BS$7)))","v":""},{"$f":"IF($E50=\"\",\"\",IF(INDEX(E_SourceStreams!$A:$N,EY50,BT$7)=\"\",\"\",INDEX(E_SourceStreams!$A:$N,EY50,BT$7)))","v":""},null,null,null,null,null,null,null,null,null,null,null,null,null,null,null,"SourceCategory_",{"$f":"INDEX(C_InstallationDescription!$A$226:$A$332,ROWS($CI$11:CI50))=\"ausblenden\"","v":false},"SourceStreamName_",null,2709,2711,2713,2715,2717,2719,2721,2721,2721,2721,2721,2724,2728,2729,2730,2737,2747,2747,2747,2747,2747,2747,2747,2738,2748,2748,2748,2748,2748,2748,2748,2739,2749,2749,2749,2749,2749,2749,2749,2740,2750,2750,2750,2750,2750,2750,2750,2741,2751,2751,2751,2751,2751,2751,2751,2742,2752,2752,2752,2752,2752,2752,2752,2758]
[null,{"$f":"IF(COUNTIF($CK$10:CK51,TRUE)>0,\"\",INDEX(C_InstallationDescription!$E$226:$E$242,ROWS($A$11:A51)))","v":""},{"$f":"IF($E51=\"\",\"\",INDEX(C_InstallationDescription!F:F,MATCH($B51,C_InstallationDescription!$E:$E,0)))","v":""},{"$f":"IF($E51=\"\",\"\",INDEX(C_InstallationDescription!I:I,MATCH($B51,C_InstallationDescription!$E:$E,0)))","v":""},{"$f":"IF($B51=\"\",\"\",INDEX(C_InstallationDescription!F:F,MATCH($CJ51,C_InstallationDescription!$Q:$Q,0)))","v":""},{"$f":"IF($E51=\"\",\"\",INDEX(C_InstallationDescription!L:L,MATCH($CJ51,C_InstallationDescription!$Q:$Q,0)))","v":""},{"$f":"IF($E51=\"\",\"\",INDEX(C_InstallationDescription!M:M,MATCH($CJ51,C_InstallationDescription!$Q:$Q,0)))","v":""},{"$f":"IF($E51=\"\",\"\",INDEX(C_InstallationDescription!N:N,MATCH($CJ51,C_InstallationDescription!$Q:$Q,0)))","v":""},{"$f":"IF($E51=\"\",\"\",IF(INDEX(E_SourceStreams!$A:$N,CN51,I$7)=\"\",\"\",INDEX(E_SourceStreams!$A:$N,CN51,I$7)))","v":""},{"$f":"IF($E51=\"\",\"\",IF(INDEX(E_SourceStreams!$A:$N,CO51,J$7)=\"\",\"\",INDEX(E_SourceStreams!$A:$N,CO51,J$7)))","v":""},{"$f":"IF($E51=\"\",\"\",IF(INDEX(E_SourceStreams!$A:$N,CP51,K$7)=\"\",\"\",INDEX(E_SourceStreams!$A:$N,CP51,K$7)))","v":""},{"$f":"IF($E51=\"\",\"\",IF(INDEX(E_SourceStreams!$A:$N,CQ51,L$7)=\"\",\"\",INDEX(E_SourceStreams!$A:$N,CQ51,L$7)))","v":""},{"$f":"IF($E51=\"\",\"\",IF(INDEX(E_SourceStreams!$A:$N,CR51,M$7)=\"\",\"\",INDEX(E_SourceStreams!$A:$N,CR51,M$7)))","v":""},{"$f":"IF($E51=\"\",\"\",IF(INDEX(E_SourceStreams!$A:$N,CS51,N$7)=\"\",\"\",INDEX(E_SourceStreams!$A:$N,CS51,N$7)))","v":""},{"$f":"IF($E51=\"\",\"\",IF(INDEX(E_SourceStreams!$A:$N,CT51,O$7)=\"\",\"\",INDEX(E_SourceStreams!$A:$N,CT51,O$7)))","v":""},{"$f":"IF($E51=\"\",\"\",IF(INDEX(E_SourceStreams!$A:$N,CU51,P$7)=\"\",\"\",INDEX(E_SourceStreams!$A:$N,CU51,P$7)))","v":""},{"$f":"IF($E51=\"\",\"\",IF(INDEX(E_SourceStreams!$A:$N,CV51,Q$7)=\"\",\"\",INDEX(E_SourceStreams!$A:$N,CV51,Q$7)))","v":""},{"$f":"IF($E51=\"\",\"\",IF(INDEX(E_SourceStreams!$A:$N,CW51,R$7)=\"\",\"\",INDEX(E_SourceStreams!$A:$N,CW51,R$7)))","v":""},{"$f":"IF($E51=\"\",\"\",IF(INDEX(E_SourceStreams!$A:$N,CX51,S$7)=\"\",\"\",INDEX(E_SourceStreams!$A:$N,CX51,S$7)))","v":""},{"$f":"IF($E51=\"\",\"\",IF(INDEX(E_SourceStreams!$A:$N,CY51,T$7)=\"\",\"\",INDEX(E_SourceStreams!$A:$N,CY51,T$7)))","v":""},{"$f":"IF($E51=\"\",\"\",IF(INDEX(E_SourceStreams!$A:$N,CZ51,U$7)=\"\",\"\",INDEX(E_SourceStreams!$A:$N,CZ51,U$7)))","v":""},{"$f":"IF($E51=\"\",\"\",IF(INDEX(E_SourceStreams!$A:$N,DA51,V$7)=\"\",\"\",INDEX(E_SourceStreams!$A:$N,DA51,V$7)))","v":""},{"$f":"IF($E51=\"\",\"\",IF(INDEX(E_SourceStreams!$A:$N,DB51,W$7)=\"\",\"\",INDEX(E_SourceStreams!$A:$N,DB51,W$7)))","v":""},{"$f":"IF($E51=\"\",\"\",IF(INDEX(E_SourceStreams!$A:$N,DC51,X$7)=\"\",\"\",INDEX(E_SourceStreams!$A:$N,DC51,X$7)))","v":""},{"$f":"IF($E51=\"\",\"\",IF(INDEX(E_SourceStreams!$A:$N,DD51,Y$7)=\"\",\"\",INDEX(E_SourceStreams!$A:$N,DD51,Y$7)))","v":""},{"$f":"IF($E51=\"\",\"\",IF(INDEX(E_SourceStreams!$A:$N,DE51,Z$7)=\"\",\"\",INDEX(E_SourceStreams!$A:$N,DE51,Z$7)))","v":""},{"$f":"IF($E51=\"\",\"\",IF(INDEX(E_SourceStreams!$A:$N,DF51,AA$7)=\"\",\"\",INDEX(E_SourceStreams!$A:$N,DF51,AA$7)))","v":""},{"$f":"IF($E51=\"\",\"\",IF(INDEX(E_SourceStreams!$A:$N,DG51,AB$7)=\"\",\"\",INDEX(E_SourceStreams!$A:$N,DG51,AB$7)))","v":""},{"$f":"IF($E51=\"\",\"\",IF(INDEX(E_SourceStreams!$A:$N,DH51,AC$7)=\"\",\"\",INDEX(E_SourceStreams!$A:$N,DH51,AC$7)))","v":""},{"$f":"IF($E51=\"\",\"\",IF(INDEX(E_SourceStreams!$A:$N,DI51,AD$7)=\"\",\"\",INDEX(E_SourceStreams!$A:$N,DI51,AD$7)))","v":""},{"$f":"IF($E51=\"\",\"\",IF(INDEX(E_SourceStreams!$A:$N,DJ51,AE$7)=\"\",\"\",INDEX(E_SourceStreams!$A:$N,DJ51,AE$7)))","v":""},{"$f":"IF($E51=\"\",\"\",IF(INDEX(E_SourceStreams!$A:$N,DK51,AF$7)=\"\",\"\",INDEX(E_SourceStreams!$A:$N,DK51,AF$7)))","v":""},{"$f":"IF($E51=\"\",\"\",IF(INDEX(E_SourceStreams!$A:$N,DL51,AG$7)=\"\",\"\",INDEX(E_SourceStreams!$A:$N,DL51,AG$7)))","v":""},{"$f":"IF($E51=\"\",\"\",IF(INDEX(E_SourceStreams!$A:$N,DM51,AH$7)=\"\",\"\",INDEX(E_SourceStreams!$A:$N,DM51,AH$7)))","v":""},{"$f":"IF($E51=\"\",\"\",IF(INDEX(E_SourceStreams!$A:$N,DN51,AI$7)=\"\",\"\",INDEX(E_SourceStreams!$A:$N,DN51,AI$7)))","v":""},{"$f":"IF($E51=\"\",\"\",IF(INDEX(E_SourceStreams!$A:$N,DO51,AJ$7)=\"\",\"\",INDEX(E_SourceStreams!$A:$N,DO51,AJ$7)))","v":""},{"$f":"IF($E51=\"\",\"\",IF(INDEX(E_SourceStreams!$A:$N,DP51,AK$7)=\"\",\"\",INDEX(E_SourceStreams!$A:$N,DP51,AK$7)))","v":""},{"$f":"IF($E51=\"\",\"\",IF(INDEX(E_SourceStreams!$A:$N,DQ51,AL$7)=\"\",\"\",INDEX(E_SourceStreams!$A:$N,DQ51,AL$7)))","v":""},{"$f":"IF($E51=\"\",\"\",IF(INDEX(E_SourceStreams!$A:$N,DR51,AM$7)=\"\",\"\",INDEX(E_SourceStreams!$A:$N,DR51,AM$7)))","v":""},{"$f":"IF($E51=\"\",\"\",IF(INDEX(E_SourceStreams!$A:$N,DS51,AN$7)=\"\",\"\",INDEX(E_SourceStreams!$A:$N,DS51,AN$7)))","v":""},{"$f":"IF($E51=\"\",\"\",IF(INDEX(E_SourceStreams!$A:$N,DT51,AO$7)=\"\",\"\",INDEX(E_SourceStreams!$A:$N,DT51,AO$7)))","v":""},{"$f":"IF($E51=\"\",\"\",IF(INDEX(E_SourceStreams!$A:$N,DU51,AP$7)=\"\",\"\",INDEX(E_SourceStreams!$A:$N,DU51,AP$7)))","v":""},{"$f":"IF($E51=\"\",\"\",IF(INDEX(E_SourceStreams!$A:$N,DV51,AQ$7)=\"\",\"\",INDEX(E_SourceStreams!$A:$N,DV51,AQ$7)))","v":""},{"$f":"IF($E51=\"\",\"\",IF(INDEX(E_SourceStreams!$A:$N,DW51,AR$7)=\"\",\"\",INDEX(E_SourceStreams!$A:$N,DW51,AR$7)))","v":""},{"$f":"IF($E51=\"\",\"\",IF(INDEX(E_SourceStreams!$A:$N,DX51,AS$7)=\"\",\"\",INDEX(E_SourceStreams!$A:$N,DX51,AS$7)))","v":""},{"$f":"IF($E51=\"\",\"\",IF(INDEX(E_SourceStreams!$A:$N,DY51,AT$7)=\"\",\"\",INDEX(E_SourceStreams!$A:$N,DY51,AT$7)))","v":""},{"$f":"IF($E51=\"\",\"\",IF(INDEX(E_SourceStreams!$A:$N,DZ51,AU$7)=\"\",\"\",INDEX(E_SourceStreams!$A:$N,DZ51,AU$7)))","v":""},{"$f":"IF($E51=\"\",\"\",IF(INDEX(E_SourceStreams!$A:$N,EA51,AV$7)=\"\",\"\",INDEX(E_SourceStreams!$A:$N,EA51,AV$7)))","v":""},{"$f":"IF($E51=\"\",\"\",IF(INDEX(E_SourceStreams!$A:$N,EB51,AW$7)=\"\",\"\",INDEX(E_SourceStreams!$A:$N,EB51,AW$7)))","v":""},{"$f":"IF($E51=\"\",\"\",IF(INDEX(E_SourceStreams!$A:$N,EC51,AX$7)=\"\",\"\",INDEX(E_SourceStreams!$A:$N,EC51,AX$7)))","v":""},{"$f":"IF($E51=\"\",\"\",IF(INDEX(E_SourceStreams!$A:$N,ED51,AY$7)=\"\",\"\",INDEX(E_SourceStreams!$A:$N,ED51,AY$7)))","v":""},{"$f":"IF($E51=\"\",\"\",IF(INDEX(E_SourceStreams!$A:$N,EE51,AZ$7)=\"\",\"\",INDEX(E_SourceStreams!$A:$N,EE51,AZ$7)))","v":""},{"$f":"IF($E51=\"\",\"\",IF(INDEX(E_SourceStreams!$A:$N,EF51,BA$7)=\"\",\"\",INDEX(E_SourceStreams!$A:$N,EF51,BA$7)))","v":""},{"$f":"IF($E51=\"\",\"\",IF(INDEX(E_SourceStreams!$A:$N,EG51,BB$7)=\"\",\"\",INDEX(E_SourceStreams!$A:$N,EG51,BB$7)))","v":""},{"$f":"IF($E51=\"\",\"\",IF(INDEX(E_SourceStreams!$A:$N,EH51,BC$7)=\"\",\"\",INDEX(E_SourceStreams!$A:$N,EH51,BC$7)))","v":""},{"$f":"IF($E51=\"\",\"\",IF(INDEX(E_SourceStreams!$A:$N,EI51,BD$7)=\"\",\"\",INDEX(E_SourceStreams!$A:$N,EI51,BD$7)))","v":""},{"$f":"IF($E51=\"\",\"\",IF(INDEX(E_SourceStreams!$A:$N,EJ51,BE$7)=\"\",\"\",INDEX(E_SourceStreams!$A:$N,EJ51,BE$7)))","v":""},{"$f":"IF($E51=\"\",\"\",IF(INDEX(E_SourceStreams!$A:$N,EK51,BF$7)=\"\",\"\",INDEX(E_SourceStreams!$A:$N,EK51,BF$7)))","v":""},{"$f":"IF($E51=\"\",\"\",IF(INDEX(E_SourceStreams!$A:$N,EL51,BG$7)=\"\",\"\",INDEX(E_SourceStreams!$A:$N,EL51,BG$7)))","v":""},{"$f":"IF($E51=\"\",\"\",IF(INDEX(E_SourceStreams!$A:$N,EM51,BH$7)=\"\",\"\",INDEX(E_SourceStreams!$A:$N,EM51,BH$7)))","v":""},{"$f":"IF($E51=\"\",\"\",IF(INDEX(E_SourceStreams!$A:$N,EN51,BI$7)=\"\",\"\",INDEX(E_SourceStreams!$A:$N,EN51,BI$7)))","v":""},{"$f":"IF($E51=\"\",\"\",IF(INDEX(E_SourceStreams!$A:$N,EO51,BJ$7)=\"\",\"\",INDEX(E_SourceStreams!$A:$N,EO51,BJ$7)))","v":""},{"$f":"IF($E51=\"\",\"\",IF(INDEX(E_SourceStreams!$A:$N,EP51,BK$7)=\"\",\"\",INDEX(E_SourceStreams!$A:$N,EP51,BK$7)))","v":""},{"$f":"IF($E51=\"\",\"\",IF(INDEX(E_SourceStreams!$A:$N,EQ51,BL$7)=\"\",\"\",INDEX(E_SourceStreams!$A:$N,EQ51,BL$7)))","v":""},{"$f":"IF($E51=\"\",\"\",IF(INDEX(E_SourceStreams!$A:$N,ER51,BM$7)=\"\",\"\",INDEX(E_SourceStreams!$A:$N,ER51,BM$7)))","v":""},{"$f":"IF($E51=\"\",\"\",IF(INDEX(E_SourceStreams!$A:$N,ES51,BN$7)=\"\",\"\",INDEX(E_SourceStreams!$A:$N,ES51,BN$7)))","v":""},{"$f":"IF($E51=\"\",\"\",IF(INDEX(E_SourceStreams!$A:$N,ET51,BO$7)=\"\",\"\",INDEX(E_SourceStreams!$A:$N,ET51,BO$7)))","v":""},{"$f":"IF($E51=\"\",\"\",IF(INDEX(E_SourceStreams!$A:$N,EU51,BP$7)=\"\",\"\",INDEX(E_SourceStreams!$A:$N,EU51,BP$7)))","v":""},{"$f":"IF($E51=\"\",\"\",IF(INDEX(E_SourceStreams!$A:$N,EV51,BQ$7)=\"\",\"\",INDEX(E_SourceStreams!$A:$N,EV51,BQ$7)))","v":""},{"$f":"IF($E51=\"\",\"\",IF(INDEX(E_SourceStreams!$A:$N,EW51,BR$7)=\"\",\"\",INDEX(E_SourceStreams!$A:$N,EW51,BR$7)))","v":""},{"$f":"IF($E51=\"\",\"\",IF(INDEX(E_SourceStreams!$A:$N,EX51,BS$7)=\"\",\"\",INDEX(E_SourceStreams!$A:$N,EX51,BS$7)))","v":""},{"$f":"IF($E51=\"\",\"\",IF(INDEX(E_SourceStreams!$A:$N,EY51,BT$7)=\"\",\"\",INDEX(E_SourceStreams!$A:$N,EY51,BT$7)))","v":""},null,null,null,null,null,null,null,null,null,null,null,null,null,null,null,"SourceCategory_",{"$f":"INDEX(C_InstallationDescription!$A$226:$A$332,ROWS($CI$11:CI51))=\"ausblenden\"","v":false},"SourceStreamName_",null,2775,2777,2779,2781,2783,2785,2787,2787,2787,2787,2787,2790,2794,2795,2796,2803,2813,2813,2813,2813,2813,2813,2813,2804,2814,2814,2814,2814,2814,2814,2814,2805,2815,2815,2815,2815,2815,2815,2815,2806,2816,2816,2816,2816,2816,2816,2816,2807,2817,2817,2817,2817,2817,2817,2817,2808,2818,2818,2818,2818,2818,2818,2818,2824]
[null,{"$f":"IF(COUNTIF($CK$10:CK52,TRUE)>0,\"\",INDEX(C_InstallationDescription!$E$226:$E$242,ROWS($A$11:A52)))","v":""},{"$f":"IF($E52=\"\",\"\",INDEX(C_InstallationDescription!F:F,MATCH($B52,C_InstallationDescription!$E:$E,0)))","v":""},{"$f":"IF($E52=\"\",\"\",INDEX(C_InstallationDescription!I:I,MATCH($B52,C_InstallationDescription!$E:$E,0)))","v":""},{"$f":"IF($B52=\"\",\"\",INDEX(C_InstallationDescription!F:F,MATCH($CJ52,C_InstallationDescription!$Q:$Q,0)))","v":""},{"$f":"IF($E52=\"\",\"\",INDEX(C_InstallationDescription!L:L,MATCH($CJ52,C_InstallationDescription!$Q:$Q,0)))","v":""},{"$f":"IF($E52=\"\",\"\",INDEX(C_InstallationDescription!M:M,MATCH($CJ52,C_InstallationDescription!$Q:$Q,0)))","v":""},{"$f":"IF($E52=\"\",\"\",INDEX(C_InstallationDescription!N:N,MATCH($CJ52,C_InstallationDescription!$Q:$Q,0)))","v":""},{"$f":"IF($E52=\"\",\"\",IF(INDEX(E_SourceStreams!$A:$N,CN52,I$7)=\"\",\"\",INDEX(E_SourceStreams!$A:$N,CN52,I$7)))","v":""},{"$f":"IF($E52=\"\",\"\",IF(INDEX(E_SourceStreams!$A:$N,CO52,J$7)=\"\",\"\",INDEX(E_SourceStreams!$A:$N,CO52,J$7)))","v":""},{"$f":"IF($E52=\"\",\"\",IF(INDEX(E_SourceStreams!$A:$N,CP52,K$7)=\"\",\"\",INDEX(E_SourceStreams!$A:$N,CP52,K$7)))","v":""},{"$f":"IF($E52=\"\",\"\",IF(INDEX(E_SourceStreams!$A:$N,CQ52,L$7)=\"\",\"\",INDEX(E_SourceStreams!$A:$N,CQ52,L$7)))","v":""},{"$f":"IF($E52=\"\",\"\",IF(INDEX(E_SourceStreams!$A:$N,CR52,M$7)=\"\",\"\",INDEX(E_SourceStreams!$A:$N,CR52,M$7)))","v":""},{"$f":"IF($E52=\"\",\"\",IF(INDEX(E_SourceStreams!$A:$N,CS52,N$7)=\"\",\"\",INDEX(E_SourceStreams!$A:$N,CS52,N$7)))","v":""},{"$f":"IF($E52=\"\",\"\",IF(INDEX(E_SourceStreams!$A:$N,CT52,O$7)=\"\",\"\",INDEX(E_SourceStreams!$A:$N,CT52,O$7)))","v":""},{"$f":"IF($E52=\"\",\"\",IF(INDEX(E_SourceStreams!$A:$N,CU52,P$7)=\"\",\"\",INDEX(E_SourceStreams!$A:$N,CU52,P$7)))","v":""},{"$f":"IF($E52=\"\",\"\",IF(INDEX(E_SourceStreams!$A:$N,CV52,Q$7)=\"\",\"\",INDEX(E_SourceStreams!$A:$N,CV52,Q$7)))","v":""},{"$f":"IF($E52=\"\",\"\",IF(INDEX(E_SourceStreams!$A:$N,CW52,R$7)=\"\",\"\",INDEX(E_SourceStreams!$A:$N,CW52,R$7)))","v":""},{"$f":"IF($E52=\"\",\"\",IF(INDEX(E_SourceStreams!$A:$N,CX52,S$7)=\"\",\"\",INDEX(E_SourceStreams!$A:$N,CX52,S$7)))","v":""},{"$f":"IF($E52=\"\",\"\",IF(INDEX(E_SourceStreams!$A:$N,CY52,T$7)=\"\",\"\",INDEX(E_SourceStreams!$A:$N,CY52,T$7)))","v":""},{"$f":"IF($E52=\"\",\"\",IF(INDEX(E_SourceStreams!$A:$N,CZ52,U$7)=\"\",\"\",INDEX(E_SourceStreams!$A:$N,CZ52,U$7)))","v":""},{"$f":"IF($E52=\"\",\"\",IF(INDEX(E_SourceStreams!$A:$N,DA52,V$7)=\"\",\"\",INDEX(E_SourceStreams!$A:$N,DA52,V$7)))","v":""},{"$f":"IF($E52=\"\",\"\",IF(INDEX(E_SourceStreams!$A:$N,DB52,W$7)=\"\",\"\",INDEX(E_SourceStreams!$A:$N,DB52,W$7)))","v":""},{"$f":"IF($E52=\"\",\"\",IF(INDEX(E_SourceStreams!$A:$N,DC52,X$7)=\"\",\"\",INDEX(E_SourceStreams!$A:$N,DC52,X$7)))","v":""},{"$f":"IF($E52=\"\",\"\",IF(INDEX(E_SourceStreams!$A:$N,DD52,Y$7)=\"\",\"\",INDEX(E_SourceStreams!$A:$N,DD52,Y$7)))","v":""},{"$f":"IF($E52=\"\",\"\",IF(INDEX(E_SourceStreams!$A:$N,DE52,Z$7)=\"\",\"\",INDEX(E_SourceStreams!$A:$N,DE52,Z$7)))","v":""},{"$f":"IF($E52=\"\",\"\",IF(INDEX(E_SourceStreams!$A:$N,DF52,AA$7)=\"\",\"\",INDEX(E_SourceStreams!$A:$N,DF52,AA$7)))","v":""},{"$f":"IF($E52=\"\",\"\",IF(INDEX(E_SourceStreams!$A:$N,DG52,AB$7)=\"\",\"\",INDEX(E_SourceStreams!$A:$N,DG52,AB$7)))","v":""},{"$f":"IF($E52=\"\",\"\",IF(INDEX(E_SourceStreams!$A:$N,DH52,AC$7)=\"\",\"\",INDEX(E_SourceStreams!$A:$N,DH52,AC$7)))","v":""},{"$f":"IF($E52=\"\",\"\",IF(INDEX(E_SourceStreams!$A:$N,DI52,AD$7)=\"\",\"\",INDEX(E_SourceStreams!$A:$N,DI52,AD$7)))","v":""},{"$f":"IF($E52=\"\",\"\",IF(INDEX(E_SourceStreams!$A:$N,DJ52,AE$7)=\"\",\"\",INDEX(E_SourceStreams!$A:$N,DJ52,AE$7)))","v":""},{"$f":"IF($E52=\"\",\"\",IF(INDEX(E_SourceStreams!$A:$N,DK52,AF$7)=\"\",\"\",INDEX(E_SourceStreams!$A:$N,DK52,AF$7)))","v":""},{"$f":"IF($E52=\"\",\"\",IF(INDEX(E_SourceStreams!$A:$N,DL52,AG$7)=\"\",\"\",INDEX(E_SourceStreams!$A:$N,DL52,AG$7)))","v":""},{"$f":"IF($E52=\"\",\"\",IF(INDEX(E_SourceStreams!$A:$N,DM52,AH$7)=\"\",\"\",INDEX(E_SourceStreams!$A:$N,DM52,AH$7)))","v":""},{"$f":"IF($E52=\"\",\"\",IF(INDEX(E_SourceStreams!$A:$N,DN52,AI$7)=\"\",\"\",INDEX(E_SourceStreams!$A:$N,DN52,AI$7)))","v":""},{"$f":"IF($E52=\"\",\"\",IF(INDEX(E_SourceStreams!$A:$N,DO52,AJ$7)=\"\",\"\",INDEX(E_SourceStreams!$A:$N,DO52,AJ$7)))","v":""},{"$f":"IF($E52=\"\",\"\",IF(INDEX(E_SourceStreams!$A:$N,DP52,AK$7)=\"\",\"\",INDEX(E_SourceStreams!$A:$N,DP52,AK$7)))","v":""},{"$f":"IF($E52=\"\",\"\",IF(INDEX(E_SourceStreams!$A:$N,DQ52,AL$7)=\"\",\"\",INDEX(E_SourceStreams!$A:$N,DQ52,AL$7)))","v":""},{"$f":"IF($E52=\"\",\"\",IF(INDEX(E_SourceStreams!$A:$N,DR52,AM$7)=\"\",\"\",INDEX(E_SourceStreams!$A:$N,DR52,AM$7)))","v":""},{"$f":"IF($E52=\"\",\"\",IF(INDEX(E_SourceStreams!$A:$N,DS52,AN$7)=\"\",\"\",INDEX(E_SourceStreams!$A:$N,DS52,AN$7)))","v":""},{"$f":"IF($E52=\"\",\"\",IF(INDEX(E_SourceStreams!$A:$N,DT52,AO$7)=\"\",\"\",INDEX(E_SourceStreams!$A:$N,DT52,AO$7)))","v":""},{"$f":"IF($E52=\"\",\"\",IF(INDEX(E_SourceStreams!$A:$N,DU52,AP$7)=\"\",\"\",INDEX(E_SourceStreams!$A:$N,DU52,AP$7)))","v":""},{"$f":"IF($E52=\"\",\"\",IF(INDEX(E_SourceStreams!$A:$N,DV52,AQ$7)=\"\",\"\",INDEX(E_SourceStreams!$A:$N,DV52,AQ$7)))","v":""},{"$f":"IF($E52=\"\",\"\",IF(INDEX(E_SourceStreams!$A:$N,DW52,AR$7)=\"\",\"\",INDEX(E_SourceStreams!$A:$N,DW52,AR$7)))","v":""},{"$f":"IF($E52=\"\",\"\",IF(INDEX(E_SourceStreams!$A:$N,DX52,AS$7)=\"\",\"\",INDEX(E_SourceStreams!$A:$N,DX52,AS$7)))","v":""},{"$f":"IF($E52=\"\",\"\",IF(INDEX(E_SourceStreams!$A:$N,DY52,AT$7)=\"\",\"\",INDEX(E_SourceStreams!$A:$N,DY52,AT$7)))","v":""},{"$f":"IF($E52=\"\",\"\",IF(INDEX(E_SourceStreams!$A:$N,DZ52,AU$7)=\"\",\"\",INDEX(E_SourceStreams!$A:$N,DZ52,AU$7)))","v":""},{"$f":"IF($E52=\"\",\"\",IF(INDEX(E_SourceStreams!$A:$N,EA52,AV$7)=\"\",\"\",INDEX(E_SourceStreams!$A:$N,EA52,AV$7)))","v":""},{"$f":"IF($E52=\"\",\"\",IF(INDEX(E_SourceStreams!$A:$N,EB52,AW$7)=\"\",\"\",INDEX(E_SourceStreams!$A:$N,EB52,AW$7)))","v":""},{"$f":"IF($E52=\"\",\"\",IF(INDEX(E_SourceStreams!$A:$N,EC52,AX$7)=\"\",\"\",INDEX(E_SourceStreams!$A:$N,EC52,AX$7)))","v":""},{"$f":"IF($E52=\"\",\"\",IF(INDEX(E_SourceStreams!$A:$N,ED52,AY$7)=\"\",\"\",INDEX(E_SourceStreams!$A:$N,ED52,AY$7)))","v":""},{"$f":"IF($E52=\"\",\"\",IF(INDEX(E_SourceStreams!$A:$N,EE52,AZ$7)=\"\",\"\",INDEX(E_SourceStreams!$A:$N,EE52,AZ$7)))","v":""},{"$f":"IF($E52=\"\",\"\",IF(INDEX(E_SourceStreams!$A:$N,EF52,BA$7)=\"\",\"\",INDEX(E_SourceStreams!$A:$N,EF52,BA$7)))","v":""},{"$f":"IF($E52=\"\",\"\",IF(INDEX(E_SourceStreams!$A:$N,EG52,BB$7)=\"\",\"\",INDEX(E_SourceStreams!$A:$N,EG52,BB$7)))","v":""},{"$f":"IF($E52=\"\",\"\",IF(INDEX(E_SourceStreams!$A:$N,EH52,BC$7)=\"\",\"\",INDEX(E_SourceStreams!$A:$N,EH52,BC$7)))","v":""},{"$f":"IF($E52=\"\",\"\",IF(INDEX(E_SourceStreams!$A:$N,EI52,BD$7)=\"\",\"\",INDEX(E_SourceStreams!$A:$N,EI52,BD$7)))","v":""},{"$f":"IF($E52=\"\",\"\",IF(INDEX(E_SourceStreams!$A:$N,EJ52,BE$7)=\"\",\"\",INDEX(E_SourceStreams!$A:$N,EJ52,BE$7)))","v":""},{"$f":"IF($E52=\"\",\"\",IF(INDEX(E_SourceStreams!$A:$N,EK52,BF$7)=\"\",\"\",INDEX(E_SourceStreams!$A:$N,EK52,BF$7)))","v":""},{"$f":"IF($E52=\"\",\"\",IF(INDEX(E_SourceStreams!$A:$N,EL52,BG$7)=\"\",\"\",INDEX(E_SourceStreams!$A:$N,EL52,BG$7)))","v":""},{"$f":"IF($E52=\"\",\"\",IF(INDEX(E_SourceStreams!$A:$N,EM52,BH$7)=\"\",\"\",INDEX(E_SourceStreams!$A:$N,EM52,BH$7)))","v":""},{"$f":"IF($E52=\"\",\"\",IF(INDEX(E_SourceStreams!$A:$N,EN52,BI$7)=\"\",\"\",INDEX(E_SourceStreams!$A:$N,EN52,BI$7)))","v":""},{"$f":"IF($E52=\"\",\"\",IF(INDEX(E_SourceStreams!$A:$N,EO52,BJ$7)=\"\",\"\",INDEX(E_SourceStreams!$A:$N,EO52,BJ$7)))","v":""},{"$f":"IF($E52=\"\",\"\",IF(INDEX(E_SourceStreams!$A:$N,EP52,BK$7)=\"\",\"\",INDEX(E_SourceStreams!$A:$N,EP52,BK$7)))","v":""},{"$f":"IF($E52=\"\",\"\",IF(INDEX(E_SourceStreams!$A:$N,EQ52,BL$7)=\"\",\"\",INDEX(E_SourceStreams!$A:$N,EQ52,BL$7)))","v":""},{"$f":"IF($E52=\"\",\"\",IF(INDEX(E_SourceStreams!$A:$N,ER52,BM$7)=\"\",\"\",INDEX(E_SourceStreams!$A:$N,ER52,BM$7)))","v":""},{"$f":"IF($E52=\"\",\"\",IF(INDEX(E_SourceStreams!$A:$N,ES52,BN$7)=\"\",\"\",INDEX(E_SourceStreams!$A:$N,ES52,BN$7)))","v":""},{"$f":"IF($E52=\"\",\"\",IF(INDEX(E_SourceStreams!$A:$N,ET52,BO$7)=\"\",\"\",INDEX(E_SourceStreams!$A:$N,ET52,BO$7)))","v":""},{"$f":"IF($E52=\"\",\"\",IF(INDEX(E_SourceStreams!$A:$N,EU52,BP$7)=\"\",\"\",INDEX(E_SourceStreams!$A:$N,EU52,BP$7)))","v":""},{"$f":"IF($E52=\"\",\"\",IF(INDEX(E_SourceStreams!$A:$N,EV52,BQ$7)=\"\",\"\",INDEX(E_SourceStreams!$A:$N,EV52,BQ$7)))","v":""},{"$f":"IF($E52=\"\",\"\",IF(INDEX(E_SourceStreams!$A:$N,EW52,BR$7)=\"\",\"\",INDEX(E_SourceStreams!$A:$N,EW52,BR$7)))","v":""},{"$f":"IF($E52=\"\",\"\",IF(INDEX(E_SourceStreams!$A:$N,EX52,BS$7)=\"\",\"\",INDEX(E_SourceStreams!$A:$N,EX52,BS$7)))","v":""},{"$f":"IF($E52=\"\",\"\",IF(INDEX(E_SourceStreams!$A:$N,EY52,BT$7)=\"\",\"\",INDEX(E_SourceStreams!$A:$N,EY52,BT$7)))","v":""},null,null,null,null,null,null,null,null,null,null,null,null,null,null,null,"SourceCategory_",{"$f":"INDEX(C_InstallationDescription!$A$226:$A$332,ROWS($CI$11:CI52))=\"ausblenden\"","v":false},"SourceStreamName_",null,2841,2843,2845,2847,2849,2851,2853,2853,2853,2853,2853,2856,2860,2861,2862,2869,2879,2879,2879,2879,2879,2879,2879,2870,2880,2880,2880,2880,2880,2880,2880,2871,2881,2881,2881,2881,2881,2881,2881,2872,2882,2882,2882,2882,2882,2882,2882,2873,2883,2883,2883,2883,2883,2883,2883,2874,2884,2884,2884,2884,2884,2884,2884,2890]
[null,{"$f":"IF(COUNTIF($CK$10:CK53,TRUE)>0,\"\",INDEX(C_InstallationDescription!$E$226:$E$242,ROWS($A$11:A53)))","v":""},{"$f":"IF($E53=\"\",\"\",INDEX(C_InstallationDescription!F:F,MATCH($B53,C_InstallationDescription!$E:$E,0)))","v":""},{"$f":"IF($E53=\"\",\"\",INDEX(C_InstallationDescription!I:I,MATCH($B53,C_InstallationDescription!$E:$E,0)))","v":""},{"$f":"IF($B53=\"\",\"\",INDEX(C_InstallationDescription!F:F,MATCH($CJ53,C_InstallationDescription!$Q:$Q,0)))","v":""},{"$f":"IF($E53=\"\",\"\",INDEX(C_InstallationDescription!L:L,MATCH($CJ53,C_InstallationDescription!$Q:$Q,0)))","v":""},{"$f":"IF($E53=\"\",\"\",INDEX(C_InstallationDescription!M:M,MATCH($CJ53,C_InstallationDescription!$Q:$Q,0)))","v":""},{"$f":"IF($E53=\"\",\"\",INDEX(C_InstallationDescription!N:N,MATCH($CJ53,C_InstallationDescription!$Q:$Q,0)))","v":""},{"$f":"IF($E53=\"\",\"\",IF(INDEX(E_SourceStreams!$A:$N,CN53,I$7)=\"\",\"\",INDEX(E_SourceStreams!$A:$N,CN53,I$7)))","v":""},{"$f":"IF($E53=\"\",\"\",IF(INDEX(E_SourceStreams!$A:$N,CO53,J$7)=\"\",\"\",INDEX(E_SourceStreams!$A:$N,CO53,J$7)))","v":""},{"$f":"IF($E53=\"\",\"\",IF(INDEX(E_SourceStreams!$A:$N,CP53,K$7)=\"\",\"\",INDEX(E_SourceStreams!$A:$N,CP53,K$7)))","v":""},{"$f":"IF($E53=\"\",\"\",IF(INDEX(E_SourceStreams!$A:$N,CQ53,L$7)=\"\",\"\",INDEX(E_SourceStreams!$A:$N,CQ53,L$7)))","v":""},{"$f":"IF($E53=\"\",\"\",IF(INDEX(E_SourceStreams!$A:$N,CR53,M$7)=\"\",\"\",INDEX(E_SourceStreams!$A:$N,CR53,M$7)))","v":""},{"$f":"IF($E53=\"\",\"\",IF(INDEX(E_SourceStreams!$A:$N,CS53,N$7)=\"\",\"\",INDEX(E_SourceStreams!$A:$N,CS53,N$7)))","v":""},{"$f":"IF($E53=\"\",\"\",IF(INDEX(E_SourceStreams!$A:$N,CT53,O$7)=\"\",\"\",INDEX(E_SourceStreams!$A:$N,CT53,O$7)))","v":""},{"$f":"IF($E53=\"\",\"\",IF(INDEX(E_SourceStreams!$A:$N,CU53,P$7)=\"\",\"\",INDEX(E_SourceStreams!$A:$N,CU53,P$7)))","v":""},{"$f":"IF($E53=\"\",\"\",IF(INDEX(E_SourceStreams!$A:$N,CV53,Q$7)=\"\",\"\",INDEX(E_SourceStreams!$A:$N,CV53,Q$7)))","v":""},{"$f":"IF($E53=\"\",\"\",IF(INDEX(E_SourceStreams!$A:$N,CW53,R$7)=\"\",\"\",INDEX(E_SourceStreams!$A:$N,CW53,R$7)))","v":""},{"$f":"IF($E53=\"\",\"\",IF(INDEX(E_SourceStreams!$A:$N,CX53,S$7)=\"\",\"\",INDEX(E_SourceStreams!$A:$N,CX53,S$7)))","v":""},{"$f":"IF($E53=\"\",\"\",IF(INDEX(E_SourceStreams!$A:$N,CY53,T$7)=\"\",\"\",INDEX(E_SourceStreams!$A:$N,CY53,T$7)))","v":""},{"$f":"IF($E53=\"\",\"\",IF(INDEX(E_SourceStreams!$A:$N,CZ53,U$7)=\"\",\"\",INDEX(E_SourceStreams!$A:$N,CZ53,U$7)))","v":""},{"$f":"IF($E53=\"\",\"\",IF(INDEX(E_SourceStreams!$A:$N,DA53,V$7)=\"\",\"\",INDEX(E_SourceStreams!$A:$N,DA53,V$7)))","v":""},{"$f":"IF($E53=\"\",\"\",IF(INDEX(E_SourceStreams!$A:$N,DB53,W$7)=\"\",\"\",INDEX(E_SourceStreams!$A:$N,DB53,W$7)))","v":""},{"$f":"IF($E53=\"\",\"\",IF(INDEX(E_SourceStreams!$A:$N,DC53,X$7)=\"\",\"\",INDEX(E_SourceStreams!$A:$N,DC53,X$7)))","v":""},{"$f":"IF($E53=\"\",\"\",IF(INDEX(E_SourceStreams!$A:$N,DD53,Y$7)=\"\",\"\",INDEX(E_SourceStreams!$A:$N,DD53,Y$7)))","v":""},{"$f":"IF($E53=\"\",\"\",IF(INDEX(E_SourceStreams!$A:$N,DE53,Z$7)=\"\",\"\",INDEX(E_SourceStreams!$A:$N,DE53,Z$7)))","v":""},{"$f":"IF($E53=\"\",\"\",IF(INDEX(E_SourceStreams!$A:$N,DF53,AA$7)=\"\",\"\",INDEX(E_SourceStreams!$A:$N,DF53,AA$7)))","v":""},{"$f":"IF($E53=\"\",\"\",IF(INDEX(E_SourceStreams!$A:$N,DG53,AB$7)=\"\",\"\",INDEX(E_SourceStreams!$A:$N,DG53,AB$7)))","v":""},{"$f":"IF($E53=\"\",\"\",IF(INDEX(E_SourceStreams!$A:$N,DH53,AC$7)=\"\",\"\",INDEX(E_SourceStreams!$A:$N,DH53,AC$7)))","v":""},{"$f":"IF($E53=\"\",\"\",IF(INDEX(E_SourceStreams!$A:$N,DI53,AD$7)=\"\",\"\",INDEX(E_SourceStreams!$A:$N,DI53,AD$7)))","v":""},{"$f":"IF($E53=\"\",\"\",IF(INDEX(E_SourceStreams!$A:$N,DJ53,AE$7)=\"\",\"\",INDEX(E_SourceStreams!$A:$N,DJ53,AE$7)))","v":""},{"$f":"IF($E53=\"\",\"\",IF(INDEX(E_SourceStreams!$A:$N,DK53,AF$7)=\"\",\"\",INDEX(E_SourceStreams!$A:$N,DK53,AF$7)))","v":""},{"$f":"IF($E53=\"\",\"\",IF(INDEX(E_SourceStreams!$A:$N,DL53,AG$7)=\"\",\"\",INDEX(E_SourceStreams!$A:$N,DL53,AG$7)))","v":""},{"$f":"IF($E53=\"\",\"\",IF(INDEX(E_SourceStreams!$A:$N,DM53,AH$7)=\"\",\"\",INDEX(E_SourceStreams!$A:$N,DM53,AH$7)))","v":""},{"$f":"IF($E53=\"\",\"\",IF(INDEX(E_SourceStreams!$A:$N,DN53,AI$7)=\"\",\"\",INDEX(E_SourceStreams!$A:$N,DN53,AI$7)))","v":""},{"$f":"IF($E53=\"\",\"\",IF(INDEX(E_SourceStreams!$A:$N,DO53,AJ$7)=\"\",\"\",INDEX(E_SourceStreams!$A:$N,DO53,AJ$7)))","v":""},{"$f":"IF($E53=\"\",\"\",IF(INDEX(E_SourceStreams!$A:$N,DP53,AK$7)=\"\",\"\",INDEX(E_SourceStreams!$A:$N,DP53,AK$7)))","v":""},{"$f":"IF($E53=\"\",\"\",IF(INDEX(E_SourceStreams!$A:$N,DQ53,AL$7)=\"\",\"\",INDEX(E_SourceStreams!$A:$N,DQ53,AL$7)))","v":""},{"$f":"IF($E53=\"\",\"\",IF(INDEX(E_SourceStreams!$A:$N,DR53,AM$7)=\"\",\"\",INDEX(E_SourceStreams!$A:$N,DR53,AM$7)))","v":""},{"$f":"IF($E53=\"\",\"\",IF(INDEX(E_SourceStreams!$A:$N,DS53,AN$7)=\"\",\"\",INDEX(E_SourceStreams!$A:$N,DS53,AN$7)))","v":""},{"$f":"IF($E53=\"\",\"\",IF(INDEX(E_SourceStreams!$A:$N,DT53,AO$7)=\"\",\"\",INDEX(E_SourceStreams!$A:$N,DT53,AO$7)))","v":""},{"$f":"IF($E53=\"\",\"\",IF(INDEX(E_SourceStreams!$A:$N,DU53,AP$7)=\"\",\"\",INDEX(E_SourceStreams!$A:$N,DU53,AP$7)))","v":""},{"$f":"IF($E53=\"\",\"\",IF(INDEX(E_SourceStreams!$A:$N,DV53,AQ$7)=\"\",\"\",INDEX(E_SourceStreams!$A:$N,DV53,AQ$7)))","v":""},{"$f":"IF($E53=\"\",\"\",IF(INDEX(E_SourceStreams!$A:$N,DW53,AR$7)=\"\",\"\",INDEX(E_SourceStreams!$A:$N,DW53,AR$7)))","v":""},{"$f":"IF($E53=\"\",\"\",IF(INDEX(E_SourceStreams!$A:$N,DX53,AS$7)=\"\",\"\",INDEX(E_SourceStreams!$A:$N,DX53,AS$7)))","v":""},{"$f":"IF($E53=\"\",\"\",IF(INDEX(E_SourceStreams!$A:$N,DY53,AT$7)=\"\",\"\",INDEX(E_SourceStreams!$A:$N,DY53,AT$7)))","v":""},{"$f":"IF($E53=\"\",\"\",IF(INDEX(E_SourceStreams!$A:$N,DZ53,AU$7)=\"\",\"\",INDEX(E_SourceStreams!$A:$N,DZ53,AU$7)))","v":""},{"$f":"IF($E53=\"\",\"\",IF(INDEX(E_SourceStreams!$A:$N,EA53,AV$7)=\"\",\"\",INDEX(E_SourceStreams!$A:$N,EA53,AV$7)))","v":""},{"$f":"IF($E53=\"\",\"\",IF(INDEX(E_SourceStreams!$A:$N,EB53,AW$7)=\"\",\"\",INDEX(E_SourceStreams!$A:$N,EB53,AW$7)))","v":""},{"$f":"IF($E53=\"\",\"\",IF(INDEX(E_SourceStreams!$A:$N,EC53,AX$7)=\"\",\"\",INDEX(E_SourceStreams!$A:$N,EC53,AX$7)))","v":""},{"$f":"IF($E53=\"\",\"\",IF(INDEX(E_SourceStreams!$A:$N,ED53,AY$7)=\"\",\"\",INDEX(E_SourceStreams!$A:$N,ED53,AY$7)))","v":""},{"$f":"IF($E53=\"\",\"\",IF(INDEX(E_SourceStreams!$A:$N,EE53,AZ$7)=\"\",\"\",INDEX(E_SourceStreams!$A:$N,EE53,AZ$7)))","v":""},{"$f":"IF($E53=\"\",\"\",IF(INDEX(E_SourceStreams!$A:$N,EF53,BA$7)=\"\",\"\",INDEX(E_SourceStreams!$A:$N,EF53,BA$7)))","v":""},{"$f":"IF($E53=\"\",\"\",IF(INDEX(E_SourceStreams!$A:$N,EG53,BB$7)=\"\",\"\",INDEX(E_SourceStreams!$A:$N,EG53,BB$7)))","v":""},{"$f":"IF($E53=\"\",\"\",IF(INDEX(E_SourceStreams!$A:$N,EH53,BC$7)=\"\",\"\",INDEX(E_SourceStreams!$A:$N,EH53,BC$7)))","v":""},{"$f":"IF($E53=\"\",\"\",IF(INDEX(E_SourceStreams!$A:$N,EI53,BD$7)=\"\",\"\",INDEX(E_SourceStreams!$A:$N,EI53,BD$7)))","v":""},{"$f":"IF($E53=\"\",\"\",IF(INDEX(E_SourceStreams!$A:$N,EJ53,BE$7)=\"\",\"\",INDEX(E_SourceStreams!$A:$N,EJ53,BE$7)))","v":""},{"$f":"IF($E53=\"\",\"\",IF(INDEX(E_SourceStreams!$A:$N,EK53,BF$7)=\"\",\"\",INDEX(E_SourceStreams!$A:$N,EK53,BF$7)))","v":""},{"$f":"IF($E53=\"\",\"\",IF(INDEX(E_SourceStreams!$A:$N,EL53,BG$7)=\"\",\"\",INDEX(E_SourceStreams!$A:$N,EL53,BG$7)))","v":""},{"$f":"IF($E53=\"\",\"\",IF(INDEX(E_SourceStreams!$A:$N,EM53,BH$7)=\"\",\"\",INDEX(E_SourceStreams!$A:$N,EM53,BH$7)))","v":""},{"$f":"IF($E53=\"\",\"\",IF(INDEX(E_SourceStreams!$A:$N,EN53,BI$7)=\"\",\"\",INDEX(E_SourceStreams!$A:$N,EN53,BI$7)))","v":""},{"$f":"IF($E53=\"\",\"\",IF(INDEX(E_SourceStreams!$A:$N,EO53,BJ$7)=\"\",\"\",INDEX(E_SourceStreams!$A:$N,EO53,BJ$7)))","v":""},{"$f":"IF($E53=\"\",\"\",IF(INDEX(E_SourceStreams!$A:$N,EP53,BK$7)=\"\",\"\",INDEX(E_SourceStreams!$A:$N,EP53,BK$7)))","v":""},{"$f":"IF($E53=\"\",\"\",IF(INDEX(E_SourceStreams!$A:$N,EQ53,BL$7)=\"\",\"\",INDEX(E_SourceStreams!$A:$N,EQ53,BL$7)))","v":""},{"$f":"IF($E53=\"\",\"\",IF(INDEX(E_SourceStreams!$A:$N,ER53,BM$7)=\"\",\"\",INDEX(E_SourceStreams!$A:$N,ER53,BM$7)))","v":""},{"$f":"IF($E53=\"\",\"\",IF(INDEX(E_SourceStreams!$A:$N,ES53,BN$7)=\"\",\"\",INDEX(E_SourceStreams!$A:$N,ES53,BN$7)))","v":""},{"$f":"IF($E53=\"\",\"\",IF(INDEX(E_SourceStreams!$A:$N,ET53,BO$7)=\"\",\"\",INDEX(E_SourceStreams!$A:$N,ET53,BO$7)))","v":""},{"$f":"IF($E53=\"\",\"\",IF(INDEX(E_SourceStreams!$A:$N,EU53,BP$7)=\"\",\"\",INDEX(E_SourceStreams!$A:$N,EU53,BP$7)))","v":""},{"$f":"IF($E53=\"\",\"\",IF(INDEX(E_SourceStreams!$A:$N,EV53,BQ$7)=\"\",\"\",INDEX(E_SourceStreams!$A:$N,EV53,BQ$7)))","v":""},{"$f":"IF($E53=\"\",\"\",IF(INDEX(E_SourceStreams!$A:$N,EW53,BR$7)=\"\",\"\",INDEX(E_SourceStreams!$A:$N,EW53,BR$7)))","v":""},{"$f":"IF($E53=\"\",\"\",IF(INDEX(E_SourceStreams!$A:$N,EX53,BS$7)=\"\",\"\",INDEX(E_SourceStreams!$A:$N,EX53,BS$7)))","v":""},{"$f":"IF($E53=\"\",\"\",IF(INDEX(E_SourceStreams!$A:$N,EY53,BT$7)=\"\",\"\",INDEX(E_SourceStreams!$A:$N,EY53,BT$7)))","v":""},null,null,null,null,null,null,null,null,null,null,null,null,null,null,null,"SourceCategory_",{"$f":"INDEX(C_InstallationDescription!$A$226:$A$332,ROWS($CI$11:CI53))=\"ausblenden\"","v":false},"SourceStreamName_",null,2907,2909,2911,2913,2915,2917,2919,2919,2919,2919,2919,2922,2926,2927,2928,2935,2945,2945,2945,2945,2945,2945,2945,2936,2946,2946,2946,2946,2946,2946,2946,2937,2947,2947,2947,2947,2947,2947,2947,2938,2948,2948,2948,2948,2948,2948,2948,2939,2949,2949,2949,2949,2949,2949,2949,2940,2950,2950,2950,2950,2950,2950,2950,2956]
[null,{"$f":"IF(COUNTIF($CK$10:CK54,TRUE)>0,\"\",INDEX(C_InstallationDescription!$E$226:$E$242,ROWS($A$11:A54)))","v":""},{"$f":"IF($E54=\"\",\"\",INDEX(C_InstallationDescription!F:F,MATCH($B54,C_InstallationDescription!$E:$E,0)))","v":""},{"$f":"IF($E54=\"\",\"\",INDEX(C_InstallationDescription!I:I,MATCH($B54,C_InstallationDescription!$E:$E,0)))","v":""},{"$f":"IF($B54=\"\",\"\",INDEX(C_InstallationDescription!F:F,MATCH($CJ54,C_InstallationDescription!$Q:$Q,0)))","v":""},{"$f":"IF($E54=\"\",\"\",INDEX(C_InstallationDescription!L:L,MATCH($CJ54,C_InstallationDescription!$Q:$Q,0)))","v":""},{"$f":"IF($E54=\"\",\"\",INDEX(C_InstallationDescription!M:M,MATCH($CJ54,C_InstallationDescription!$Q:$Q,0)))","v":""},{"$f":"IF($E54=\"\",\"\",INDEX(C_InstallationDescription!N:N,MATCH($CJ54,C_InstallationDescription!$Q:$Q,0)))","v":""},{"$f":"IF($E54=\"\",\"\",IF(INDEX(E_SourceStreams!$A:$N,CN54,I$7)=\"\",\"\",INDEX(E_SourceStreams!$A:$N,CN54,I$7)))","v":""},{"$f":"IF($E54=\"\",\"\",IF(INDEX(E_SourceStreams!$A:$N,CO54,J$7)=\"\",\"\",INDEX(E_SourceStreams!$A:$N,CO54,J$7)))","v":""},{"$f":"IF($E54=\"\",\"\",IF(INDEX(E_SourceStreams!$A:$N,CP54,K$7)=\"\",\"\",INDEX(E_SourceStreams!$A:$N,CP54,K$7)))","v":""},{"$f":"IF($E54=\"\",\"\",IF(INDEX(E_SourceStreams!$A:$N,CQ54,L$7)=\"\",\"\",INDEX(E_SourceStreams!$A:$N,CQ54,L$7)))","v":""},{"$f":"IF($E54=\"\",\"\",IF(INDEX(E_SourceStreams!$A:$N,CR54,M$7)=\"\",\"\",INDEX(E_SourceStreams!$A:$N,CR54,M$7)))","v":""},{"$f":"IF($E54=\"\",\"\",IF(INDEX(E_SourceStreams!$A:$N,CS54,N$7)=\"\",\"\",INDEX(E_SourceStreams!$A:$N,CS54,N$7)))","v":""},{"$f":"IF($E54=\"\",\"\",IF(INDEX(E_SourceStreams!$A:$N,CT54,O$7)=\"\",\"\",INDEX(E_SourceStreams!$A:$N,CT54,O$7)))","v":""},{"$f":"IF($E54=\"\",\"\",IF(INDEX(E_SourceStreams!$A:$N,CU54,P$7)=\"\",\"\",INDEX(E_SourceStreams!$A:$N,CU54,P$7)))","v":""},{"$f":"IF($E54=\"\",\"\",IF(INDEX(E_SourceStreams!$A:$N,CV54,Q$7)=\"\",\"\",INDEX(E_SourceStreams!$A:$N,CV54,Q$7)))","v":""},{"$f":"IF($E54=\"\",\"\",IF(INDEX(E_SourceStreams!$A:$N,CW54,R$7)=\"\",\"\",INDEX(E_SourceStreams!$A:$N,CW54,R$7)))","v":""},{"$f":"IF($E54=\"\",\"\",IF(INDEX(E_SourceStreams!$A:$N,CX54,S$7)=\"\",\"\",INDEX(E_SourceStreams!$A:$N,CX54,S$7)))","v":""},{"$f":"IF($E54=\"\",\"\",IF(INDEX(E_SourceStreams!$A:$N,CY54,T$7)=\"\",\"\",INDEX(E_SourceStreams!$A:$N,CY54,T$7)))","v":""},{"$f":"IF($E54=\"\",\"\",IF(INDEX(E_SourceStreams!$A:$N,CZ54,U$7)=\"\",\"\",INDEX(E_SourceStreams!$A:$N,CZ54,U$7)))","v":""},{"$f":"IF($E54=\"\",\"\",IF(INDEX(E_SourceStreams!$A:$N,DA54,V$7)=\"\",\"\",INDEX(E_SourceStreams!$A:$N,DA54,V$7)))","v":""},{"$f":"IF($E54=\"\",\"\",IF(INDEX(E_SourceStreams!$A:$N,DB54,W$7)=\"\",\"\",INDEX(E_SourceStreams!$A:$N,DB54,W$7)))","v":""},{"$f":"IF($E54=\"\",\"\",IF(INDEX(E_SourceStreams!$A:$N,DC54,X$7)=\"\",\"\",INDEX(E_SourceStreams!$A:$N,DC54,X$7)))","v":""},{"$f":"IF($E54=\"\",\"\",IF(INDEX(E_SourceStreams!$A:$N,DD54,Y$7)=\"\",\"\",INDEX(E_SourceStreams!$A:$N,DD54,Y$7)))","v":""},{"$f":"IF($E54=\"\",\"\",IF(INDEX(E_SourceStreams!$A:$N,DE54,Z$7)=\"\",\"\",INDEX(E_SourceStreams!$A:$N,DE54,Z$7)))","v":""},{"$f":"IF($E54=\"\",\"\",IF(INDEX(E_SourceStreams!$A:$N,DF54,AA$7)=\"\",\"\",INDEX(E_SourceStreams!$A:$N,DF54,AA$7)))","v":""},{"$f":"IF($E54=\"\",\"\",IF(INDEX(E_SourceStreams!$A:$N,DG54,AB$7)=\"\",\"\",INDEX(E_SourceStreams!$A:$N,DG54,AB$7)))","v":""},{"$f":"IF($E54=\"\",\"\",IF(INDEX(E_SourceStreams!$A:$N,DH54,AC$7)=\"\",\"\",INDEX(E_SourceStreams!$A:$N,DH54,AC$7)))","v":""},{"$f":"IF($E54=\"\",\"\",IF(INDEX(E_SourceStreams!$A:$N,DI54,AD$7)=\"\",\"\",INDEX(E_SourceStreams!$A:$N,DI54,AD$7)))","v":""},{"$f":"IF($E54=\"\",\"\",IF(INDEX(E_SourceStreams!$A:$N,DJ54,AE$7)=\"\",\"\",INDEX(E_SourceStreams!$A:$N,DJ54,AE$7)))","v":""},{"$f":"IF($E54=\"\",\"\",IF(INDEX(E_SourceStreams!$A:$N,DK54,AF$7)=\"\",\"\",INDEX(E_SourceStreams!$A:$N,DK54,AF$7)))","v":""},{"$f":"IF($E54=\"\",\"\",IF(INDEX(E_SourceStreams!$A:$N,DL54,AG$7)=\"\",\"\",INDEX(E_SourceStreams!$A:$N,DL54,AG$7)))","v":""},{"$f":"IF($E54=\"\",\"\",IF(INDEX(E_SourceStreams!$A:$N,DM54,AH$7)=\"\",\"\",INDEX(E_SourceStreams!$A:$N,DM54,AH$7)))","v":""},{"$f":"IF($E54=\"\",\"\",IF(INDEX(E_SourceStreams!$A:$N,DN54,AI$7)=\"\",\"\",INDEX(E_SourceStreams!$A:$N,DN54,AI$7)))","v":""},{"$f":"IF($E54=\"\",\"\",IF(INDEX(E_SourceStreams!$A:$N,DO54,AJ$7)=\"\",\"\",INDEX(E_SourceStreams!$A:$N,DO54,AJ$7)))","v":""},{"$f":"IF($E54=\"\",\"\",IF(INDEX(E_SourceStreams!$A:$N,DP54,AK$7)=\"\",\"\",INDEX(E_SourceStreams!$A:$N,DP54,AK$7)))","v":""},{"$f":"IF($E54=\"\",\"\",IF(INDEX(E_SourceStreams!$A:$N,DQ54,AL$7)=\"\",\"\",INDEX(E_SourceStreams!$A:$N,DQ54,AL$7)))","v":""},{"$f":"IF($E54=\"\",\"\",IF(INDEX(E_SourceStreams!$A:$N,DR54,AM$7)=\"\",\"\",INDEX(E_SourceStreams!$A:$N,DR54,AM$7)))","v":""},{"$f":"IF($E54=\"\",\"\",IF(INDEX(E_SourceStreams!$A:$N,DS54,AN$7)=\"\",\"\",INDEX(E_SourceStreams!$A:$N,DS54,AN$7)))","v":""},{"$f":"IF($E54=\"\",\"\",IF(INDEX(E_SourceStreams!$A:$N,DT54,AO$7)=\"\",\"\",INDEX(E_SourceStreams!$A:$N,DT54,AO$7)))","v":""},{"$f":"IF($E54=\"\",\"\",IF(INDEX(E_SourceStreams!$A:$N,DU54,AP$7)=\"\",\"\",INDEX(E_SourceStreams!$A:$N,DU54,AP$7)))","v":""},{"$f":"IF($E54=\"\",\"\",IF(INDEX(E_SourceStreams!$A:$N,DV54,AQ$7)=\"\",\"\",INDEX(E_SourceStreams!$A:$N,DV54,AQ$7)))","v":""},{"$f":"IF($E54=\"\",\"\",IF(INDEX(E_SourceStreams!$A:$N,DW54,AR$7)=\"\",\"\",INDEX(E_SourceStreams!$A:$N,DW54,AR$7)))","v":""},{"$f":"IF($E54=\"\",\"\",IF(INDEX(E_SourceStreams!$A:$N,DX54,AS$7)=\"\",\"\",INDEX(E_SourceStreams!$A:$N,DX54,AS$7)))","v":""},{"$f":"IF($E54=\"\",\"\",IF(INDEX(E_SourceStreams!$A:$N,DY54,AT$7)=\"\",\"\",INDEX(E_SourceStreams!$A:$N,DY54,AT$7)))","v":""},{"$f":"IF($E54=\"\",\"\",IF(INDEX(E_SourceStreams!$A:$N,DZ54,AU$7)=\"\",\"\",INDEX(E_SourceStreams!$A:$N,DZ54,AU$7)))","v":""},{"$f":"IF($E54=\"\",\"\",IF(INDEX(E_SourceStreams!$A:$N,EA54,AV$7)=\"\",\"\",INDEX(E_SourceStreams!$A:$N,EA54,AV$7)))","v":""},{"$f":"IF($E54=\"\",\"\",IF(INDEX(E_SourceStreams!$A:$N,EB54,AW$7)=\"\",\"\",INDEX(E_SourceStreams!$A:$N,EB54,AW$7)))","v":""},{"$f":"IF($E54=\"\",\"\",IF(INDEX(E_SourceStreams!$A:$N,EC54,AX$7)=\"\",\"\",INDEX(E_SourceStreams!$A:$N,EC54,AX$7)))","v":""},{"$f":"IF($E54=\"\",\"\",IF(INDEX(E_SourceStreams!$A:$N,ED54,AY$7)=\"\",\"\",INDEX(E_SourceStreams!$A:$N,ED54,AY$7)))","v":""},{"$f":"IF($E54=\"\",\"\",IF(INDEX(E_SourceStreams!$A:$N,EE54,AZ$7)=\"\",\"\",INDEX(E_SourceStreams!$A:$N,EE54,AZ$7)))","v":""},{"$f":"IF($E54=\"\",\"\",IF(INDEX(E_SourceStreams!$A:$N,EF54,BA$7)=\"\",\"\",INDEX(E_SourceStreams!$A:$N,EF54,BA$7)))","v":""},{"$f":"IF($E54=\"\",\"\",IF(INDEX(E_SourceStreams!$A:$N,EG54,BB$7)=\"\",\"\",INDEX(E_SourceStreams!$A:$N,EG54,BB$7)))","v":""},{"$f":"IF($E54=\"\",\"\",IF(INDEX(E_SourceStreams!$A:$N,EH54,BC$7)=\"\",\"\",INDEX(E_SourceStreams!$A:$N,EH54,BC$7)))","v":""},{"$f":"IF($E54=\"\",\"\",IF(INDEX(E_SourceStreams!$A:$N,EI54,BD$7)=\"\",\"\",INDEX(E_SourceStreams!$A:$N,EI54,BD$7)))","v":""},{"$f":"IF($E54=\"\",\"\",IF(INDEX(E_SourceStreams!$A:$N,EJ54,BE$7)=\"\",\"\",INDEX(E_SourceStreams!$A:$N,EJ54,BE$7)))","v":""},{"$f":"IF($E54=\"\",\"\",IF(INDEX(E_SourceStreams!$A:$N,EK54,BF$7)=\"\",\"\",INDEX(E_SourceStreams!$A:$N,EK54,BF$7)))","v":""},{"$f":"IF($E54=\"\",\"\",IF(INDEX(E_SourceStreams!$A:$N,EL54,BG$7)=\"\",\"\",INDEX(E_SourceStreams!$A:$N,EL54,BG$7)))","v":""},{"$f":"IF($E54=\"\",\"\",IF(INDEX(E_SourceStreams!$A:$N,EM54,BH$7)=\"\",\"\",INDEX(E_SourceStreams!$A:$N,EM54,BH$7)))","v":""},{"$f":"IF($E54=\"\",\"\",IF(INDEX(E_SourceStreams!$A:$N,EN54,BI$7)=\"\",\"\",INDEX(E_SourceStreams!$A:$N,EN54,BI$7)))","v":""},{"$f":"IF($E54=\"\",\"\",IF(INDEX(E_SourceStreams!$A:$N,EO54,BJ$7)=\"\",\"\",INDEX(E_SourceStreams!$A:$N,EO54,BJ$7)))","v":""},{"$f":"IF($E54=\"\",\"\",IF(INDEX(E_SourceStreams!$A:$N,EP54,BK$7)=\"\",\"\",INDEX(E_SourceStreams!$A:$N,EP54,BK$7)))","v":""},{"$f":"IF($E54=\"\",\"\",IF(INDEX(E_SourceStreams!$A:$N,EQ54,BL$7)=\"\",\"\",INDEX(E_SourceStreams!$A:$N,EQ54,BL$7)))","v":""},{"$f":"IF($E54=\"\",\"\",IF(INDEX(E_SourceStreams!$A:$N,ER54,BM$7)=\"\",\"\",INDEX(E_SourceStreams!$A:$N,ER54,BM$7)))","v":""},{"$f":"IF($E54=\"\",\"\",IF(INDEX(E_SourceStreams!$A:$N,ES54,BN$7)=\"\",\"\",INDEX(E_SourceStreams!$A:$N,ES54,BN$7)))","v":""},{"$f":"IF($E54=\"\",\"\",IF(INDEX(E_SourceStreams!$A:$N,ET54,BO$7)=\"\",\"\",INDEX(E_SourceStreams!$A:$N,ET54,BO$7)))","v":""},{"$f":"IF($E54=\"\",\"\",IF(INDEX(E_SourceStreams!$A:$N,EU54,BP$7)=\"\",\"\",INDEX(E_SourceStreams!$A:$N,EU54,BP$7)))","v":""},{"$f":"IF($E54=\"\",\"\",IF(INDEX(E_SourceStreams!$A:$N,EV54,BQ$7)=\"\",\"\",INDEX(E_SourceStreams!$A:$N,EV54,BQ$7)))","v":""},{"$f":"IF($E54=\"\",\"\",IF(INDEX(E_SourceStreams!$A:$N,EW54,BR$7)=\"\",\"\",INDEX(E_SourceStreams!$A:$N,EW54,BR$7)))","v":""},{"$f":"IF($E54=\"\",\"\",IF(INDEX(E_SourceStreams!$A:$N,EX54,BS$7)=\"\",\"\",INDEX(E_SourceStreams!$A:$N,EX54,BS$7)))","v":""},{"$f":"IF($E54=\"\",\"\",IF(INDEX(E_SourceStreams!$A:$N,EY54,BT$7)=\"\",\"\",INDEX(E_SourceStreams!$A:$N,EY54,BT$7)))","v":""},null,null,null,null,null,null,null,null,null,null,null,null,null,null,null,"SourceCategory_",{"$f":"INDEX(C_InstallationDescription!$A$226:$A$332,ROWS($CI$11:CI54))=\"ausblenden\"","v":true},"SourceStreamName_",null,2973,2975,2977,2979,2981,2983,2985,2985,2985,2985,2985,2988,2992,2993,2994,3001,3011,3011,3011,3011,3011,3011,3011,3002,3012,3012,3012,3012,3012,3012,3012,3003,3013,3013,3013,3013,3013,3013,3013,3004,3014,3014,3014,3014,3014,3014,3014,3005,3015,3015,3015,3015,3015,3015,3015,3006,3016,3016,3016,3016,3016,3016,3016,3022]
[null,{"$f":"IF(COUNTIF($CK$10:CK55,TRUE)>0,\"\",INDEX(C_InstallationDescription!$E$226:$E$242,ROWS($A$11:A55)))","v":""},{"$f":"IF($E55=\"\",\"\",INDEX(C_InstallationDescription!F:F,MATCH($B55,C_InstallationDescription!$E:$E,0)))","v":""},{"$f":"IF($E55=\"\",\"\",INDEX(C_InstallationDescription!I:I,MATCH($B55,C_InstallationDescription!$E:$E,0)))","v":""},{"$f":"IF($B55=\"\",\"\",INDEX(C_InstallationDescription!F:F,MATCH($CJ55,C_InstallationDescription!$Q:$Q,0)))","v":""},{"$f":"IF($E55=\"\",\"\",INDEX(C_InstallationDescription!L:L,MATCH($CJ55,C_InstallationDescription!$Q:$Q,0)))","v":""},{"$f":"IF($E55=\"\",\"\",INDEX(C_InstallationDescription!M:M,MATCH($CJ55,C_InstallationDescription!$Q:$Q,0)))","v":""},{"$f":"IF($E55=\"\",\"\",INDEX(C_InstallationDescription!N:N,MATCH($CJ55,C_InstallationDescription!$Q:$Q,0)))","v":""},{"$f":"IF($E55=\"\",\"\",IF(INDEX(E_SourceStreams!$A:$N,CN55,I$7)=\"\",\"\",INDEX(E_SourceStreams!$A:$N,CN55,I$7)))","v":""},{"$f":"IF($E55=\"\",\"\",IF(INDEX(E_SourceStreams!$A:$N,CO55,J$7)=\"\",\"\",INDEX(E_SourceStreams!$A:$N,CO55,J$7)))","v":""},{"$f":"IF($E55=\"\",\"\",IF(INDEX(E_SourceStreams!$A:$N,CP55,K$7)=\"\",\"\",INDEX(E_SourceStreams!$A:$N,CP55,K$7)))","v":""},{"$f":"IF($E55=\"\",\"\",IF(INDEX(E_SourceStreams!$A:$N,CQ55,L$7)=\"\",\"\",INDEX(E_SourceStreams!$A:$N,CQ55,L$7)))","v":""},{"$f":"IF($E55=\"\",\"\",IF(INDEX(E_SourceStreams!$A:$N,CR55,M$7)=\"\",\"\",INDEX(E_SourceStreams!$A:$N,CR55,M$7)))","v":""},{"$f":"IF($E55=\"\",\"\",IF(INDEX(E_SourceStreams!$A:$N,CS55,N$7)=\"\",\"\",INDEX(E_SourceStreams!$A:$N,CS55,N$7)))","v":""},{"$f":"IF($E55=\"\",\"\",IF(INDEX(E_SourceStreams!$A:$N,CT55,O$7)=\"\",\"\",INDEX(E_SourceStreams!$A:$N,CT55,O$7)))","v":""},{"$f":"IF($E55=\"\",\"\",IF(INDEX(E_SourceStreams!$A:$N,CU55,P$7)=\"\",\"\",INDEX(E_SourceStreams!$A:$N,CU55,P$7)))","v":""},{"$f":"IF($E55=\"\",\"\",IF(INDEX(E_SourceStreams!$A:$N,CV55,Q$7)=\"\",\"\",INDEX(E_SourceStreams!$A:$N,CV55,Q$7)))","v":""},{"$f":"IF($E55=\"\",\"\",IF(INDEX(E_SourceStreams!$A:$N,CW55,R$7)=\"\",\"\",INDEX(E_SourceStreams!$A:$N,CW55,R$7)))","v":""},{"$f":"IF($E55=\"\",\"\",IF(INDEX(E_SourceStreams!$A:$N,CX55,S$7)=\"\",\"\",INDEX(E_SourceStreams!$A:$N,CX55,S$7)))","v":""},{"$f":"IF($E55=\"\",\"\",IF(INDEX(E_SourceStreams!$A:$N,CY55,T$7)=\"\",\"\",INDEX(E_SourceStreams!$A:$N,CY55,T$7)))","v":""},{"$f":"IF($E55=\"\",\"\",IF(INDEX(E_SourceStreams!$A:$N,CZ55,U$7)=\"\",\"\",INDEX(E_SourceStreams!$A:$N,CZ55,U$7)))","v":""},{"$f":"IF($E55=\"\",\"\",IF(INDEX(E_SourceStreams!$A:$N,DA55,V$7)=\"\",\"\",INDEX(E_SourceStreams!$A:$N,DA55,V$7)))","v":""},{"$f":"IF($E55=\"\",\"\",IF(INDEX(E_SourceStreams!$A:$N,DB55,W$7)=\"\",\"\",INDEX(E_SourceStreams!$A:$N,DB55,W$7)))","v":""},{"$f":"IF($E55=\"\",\"\",IF(INDEX(E_SourceStreams!$A:$N,DC55,X$7)=\"\",\"\",INDEX(E_SourceStreams!$A:$N,DC55,X$7)))","v":""},{"$f":"IF($E55=\"\",\"\",IF(INDEX(E_SourceStreams!$A:$N,DD55,Y$7)=\"\",\"\",INDEX(E_SourceStreams!$A:$N,DD55,Y$7)))","v":""},{"$f":"IF($E55=\"\",\"\",IF(INDEX(E_SourceStreams!$A:$N,DE55,Z$7)=\"\",\"\",INDEX(E_SourceStreams!$A:$N,DE55,Z$7)))","v":""},{"$f":"IF($E55=\"\",\"\",IF(INDEX(E_SourceStreams!$A:$N,DF55,AA$7)=\"\",\"\",INDEX(E_SourceStreams!$A:$N,DF55,AA$7)))","v":""},{"$f":"IF($E55=\"\",\"\",IF(INDEX(E_SourceStreams!$A:$N,DG55,AB$7)=\"\",\"\",INDEX(E_SourceStreams!$A:$N,DG55,AB$7)))","v":""},{"$f":"IF($E55=\"\",\"\",IF(INDEX(E_SourceStreams!$A:$N,DH55,AC$7)=\"\",\"\",INDEX(E_SourceStreams!$A:$N,DH55,AC$7)))","v":""},{"$f":"IF($E55=\"\",\"\",IF(INDEX(E_SourceStreams!$A:$N,DI55,AD$7)=\"\",\"\",INDEX(E_SourceStreams!$A:$N,DI55,AD$7)))","v":""},{"$f":"IF($E55=\"\",\"\",IF(INDEX(E_SourceStreams!$A:$N,DJ55,AE$7)=\"\",\"\",INDEX(E_SourceStreams!$A:$N,DJ55,AE$7)))","v":""},{"$f":"IF($E55=\"\",\"\",IF(INDEX(E_SourceStreams!$A:$N,DK55,AF$7)=\"\",\"\",INDEX(E_SourceStreams!$A:$N,DK55,AF$7)))","v":""},{"$f":"IF($E55=\"\",\"\",IF(INDEX(E_SourceStreams!$A:$N,DL55,AG$7)=\"\",\"\",INDEX(E_SourceStreams!$A:$N,DL55,AG$7)))","v":""},{"$f":"IF($E55=\"\",\"\",IF(INDEX(E_SourceStreams!$A:$N,DM55,AH$7)=\"\",\"\",INDEX(E_SourceStreams!$A:$N,DM55,AH$7)))","v":""},{"$f":"IF($E55=\"\",\"\",IF(INDEX(E_SourceStreams!$A:$N,DN55,AI$7)=\"\",\"\",INDEX(E_SourceStreams!$A:$N,DN55,AI$7)))","v":""},{"$f":"IF($E55=\"\",\"\",IF(INDEX(E_SourceStreams!$A:$N,DO55,AJ$7)=\"\",\"\",INDEX(E_SourceStreams!$A:$N,DO55,AJ$7)))","v":""},{"$f":"IF($E55=\"\",\"\",IF(INDEX(E_SourceStreams!$A:$N,DP55,AK$7)=\"\",\"\",INDEX(E_SourceStreams!$A:$N,DP55,AK$7)))","v":""},{"$f":"IF($E55=\"\",\"\",IF(INDEX(E_SourceStreams!$A:$N,DQ55,AL$7)=\"\",\"\",INDEX(E_SourceStreams!$A:$N,DQ55,AL$7)))","v":""},{"$f":"IF($E55=\"\",\"\",IF(INDEX(E_SourceStreams!$A:$N,DR55,AM$7)=\"\",\"\",INDEX(E_SourceStreams!$A:$N,DR55,AM$7)))","v":""},{"$f":"IF($E55=\"\",\"\",IF(INDEX(E_SourceStreams!$A:$N,DS55,AN$7)=\"\",\"\",INDEX(E_SourceStreams!$A:$N,DS55,AN$7)))","v":""},{"$f":"IF($E55=\"\",\"\",IF(INDEX(E_SourceStreams!$A:$N,DT55,AO$7)=\"\",\"\",INDEX(E_SourceStreams!$A:$N,DT55,AO$7)))","v":""},{"$f":"IF($E55=\"\",\"\",IF(INDEX(E_SourceStreams!$A:$N,DU55,AP$7)=\"\",\"\",INDEX(E_SourceStreams!$A:$N,DU55,AP$7)))","v":""},{"$f":"IF($E55=\"\",\"\",IF(INDEX(E_SourceStreams!$A:$N,DV55,AQ$7)=\"\",\"\",INDEX(E_SourceStreams!$A:$N,DV55,AQ$7)))","v":""},{"$f":"IF($E55=\"\",\"\",IF(INDEX(E_SourceStreams!$A:$N,DW55,AR$7)=\"\",\"\",INDEX(E_SourceStreams!$A:$N,DW55,AR$7)))","v":""},{"$f":"IF($E55=\"\",\"\",IF(INDEX(E_SourceStreams!$A:$N,DX55,AS$7)=\"\",\"\",INDEX(E_SourceStreams!$A:$N,DX55,AS$7)))","v":""},{"$f":"IF($E55=\"\",\"\",IF(INDEX(E_SourceStreams!$A:$N,DY55,AT$7)=\"\",\"\",INDEX(E_SourceStreams!$A:$N,DY55,AT$7)))","v":""},{"$f":"IF($E55=\"\",\"\",IF(INDEX(E_SourceStreams!$A:$N,DZ55,AU$7)=\"\",\"\",INDEX(E_SourceStreams!$A:$N,DZ55,AU$7)))","v":""},{"$f":"IF($E55=\"\",\"\",IF(INDEX(E_SourceStreams!$A:$N,EA55,AV$7)=\"\",\"\",INDEX(E_SourceStreams!$A:$N,EA55,AV$7)))","v":""},{"$f":"IF($E55=\"\",\"\",IF(INDEX(E_SourceStreams!$A:$N,EB55,AW$7)=\"\",\"\",INDEX(E_SourceStreams!$A:$N,EB55,AW$7)))","v":""},{"$f":"IF($E55=\"\",\"\",IF(INDEX(E_SourceStreams!$A:$N,EC55,AX$7)=\"\",\"\",INDEX(E_SourceStreams!$A:$N,EC55,AX$7)))","v":""},{"$f":"IF($E55=\"\",\"\",IF(INDEX(E_SourceStreams!$A:$N,ED55,AY$7)=\"\",\"\",INDEX(E_SourceStreams!$A:$N,ED55,AY$7)))","v":""},{"$f":"IF($E55=\"\",\"\",IF(INDEX(E_SourceStreams!$A:$N,EE55,AZ$7)=\"\",\"\",INDEX(E_SourceStreams!$A:$N,EE55,AZ$7)))","v":""},{"$f":"IF($E55=\"\",\"\",IF(INDEX(E_SourceStreams!$A:$N,EF55,BA$7)=\"\",\"\",INDEX(E_SourceStreams!$A:$N,EF55,BA$7)))","v":""},{"$f":"IF($E55=\"\",\"\",IF(INDEX(E_SourceStreams!$A:$N,EG55,BB$7)=\"\",\"\",INDEX(E_SourceStreams!$A:$N,EG55,BB$7)))","v":""},{"$f":"IF($E55=\"\",\"\",IF(INDEX(E_SourceStreams!$A:$N,EH55,BC$7)=\"\",\"\",INDEX(E_SourceStreams!$A:$N,EH55,BC$7)))","v":""},{"$f":"IF($E55=\"\",\"\",IF(INDEX(E_SourceStreams!$A:$N,EI55,BD$7)=\"\",\"\",INDEX(E_SourceStreams!$A:$N,EI55,BD$7)))","v":""},{"$f":"IF($E55=\"\",\"\",IF(INDEX(E_SourceStreams!$A:$N,EJ55,BE$7)=\"\",\"\",INDEX(E_SourceStreams!$A:$N,EJ55,BE$7)))","v":""},{"$f":"IF($E55=\"\",\"\",IF(INDEX(E_SourceStreams!$A:$N,EK55,BF$7)=\"\",\"\",INDEX(E_SourceStreams!$A:$N,EK55,BF$7)))","v":""},{"$f":"IF($E55=\"\",\"\",IF(INDEX(E_SourceStreams!$A:$N,EL55,BG$7)=\"\",\"\",INDEX(E_SourceStreams!$A:$N,EL55,BG$7)))","v":""},{"$f":"IF($E55=\"\",\"\",IF(INDEX(E_SourceStreams!$A:$N,EM55,BH$7)=\"\",\"\",INDEX(E_SourceStreams!$A:$N,EM55,BH$7)))","v":""},{"$f":"IF($E55=\"\",\"\",IF(INDEX(E_SourceStreams!$A:$N,EN55,BI$7)=\"\",\"\",INDEX(E_SourceStreams!$A:$N,EN55,BI$7)))","v":""},{"$f":"IF($E55=\"\",\"\",IF(INDEX(E_SourceStreams!$A:$N,EO55,BJ$7)=\"\",\"\",INDEX(E_SourceStreams!$A:$N,EO55,BJ$7)))","v":""},{"$f":"IF($E55=\"\",\"\",IF(INDEX(E_SourceStreams!$A:$N,EP55,BK$7)=\"\",\"\",INDEX(E_SourceStreams!$A:$N,EP55,BK$7)))","v":""},{"$f":"IF($E55=\"\",\"\",IF(INDEX(E_SourceStreams!$A:$N,EQ55,BL$7)=\"\",\"\",INDEX(E_SourceStreams!$A:$N,EQ55,BL$7)))","v":""},{"$f":"IF($E55=\"\",\"\",IF(INDEX(E_SourceStreams!$A:$N,ER55,BM$7)=\"\",\"\",INDEX(E_SourceStreams!$A:$N,ER55,BM$7)))","v":""},{"$f":"IF($E55=\"\",\"\",IF(INDEX(E_SourceStreams!$A:$N,ES55,BN$7)=\"\",\"\",INDEX(E_SourceStreams!$A:$N,ES55,BN$7)))","v":""},{"$f":"IF($E55=\"\",\"\",IF(INDEX(E_SourceStreams!$A:$N,ET55,BO$7)=\"\",\"\",INDEX(E_SourceStreams!$A:$N,ET55,BO$7)))","v":""},{"$f":"IF($E55=\"\",\"\",IF(INDEX(E_SourceStreams!$A:$N,EU55,BP$7)=\"\",\"\",INDEX(E_SourceStreams!$A:$N,EU55,BP$7)))","v":""},{"$f":"IF($E55=\"\",\"\",IF(INDEX(E_SourceStreams!$A:$N,EV55,BQ$7)=\"\",\"\",INDEX(E_SourceStreams!$A:$N,EV55,BQ$7)))","v":""},{"$f":"IF($E55=\"\",\"\",IF(INDEX(E_SourceStreams!$A:$N,EW55,BR$7)=\"\",\"\",INDEX(E_SourceStreams!$A:$N,EW55,BR$7)))","v":""},{"$f":"IF($E55=\"\",\"\",IF(INDEX(E_SourceStreams!$A:$N,EX55,BS$7)=\"\",\"\",INDEX(E_SourceStreams!$A:$N,EX55,BS$7)))","v":""},{"$f":"IF($E55=\"\",\"\",IF(INDEX(E_SourceStreams!$A:$N,EY55,BT$7)=\"\",\"\",INDEX(E_SourceStreams!$A:$N,EY55,BT$7)))","v":""},null,null,null,null,null,null,null,null,null,null,null,null,null,null,null,"SourceCategory_",{"$f":"INDEX(C_InstallationDescription!$A$226:$A$332,ROWS($CI$11:CI55))=\"ausblenden\"","v":true},"SourceStreamName_",null,3039,3041,3043,3045,3047,3049,3051,3051,3051,3051,3051,3054,3058,3059,3060,3067,3077,3077,3077,3077,3077,3077,3077,3068,3078,3078,3078,3078,3078,3078,3078,3069,3079,3079,3079,3079,3079,3079,3079,3070,3080,3080,3080,3080,3080,3080,3080,3071,3081,3081,3081,3081,3081,3081,3081,3072,3082,3082,3082,3082,3082,3082,3082,3088]
[null,{"$f":"IF(COUNTIF($CK$10:CK56,TRUE)>0,\"\",INDEX(C_InstallationDescription!$E$226:$E$242,ROWS($A$11:A56)))","v":""},{"$f":"IF($E56=\"\",\"\",INDEX(C_InstallationDescription!F:F,MATCH($B56,C_InstallationDescription!$E:$E,0)))","v":""},{"$f":"IF($E56=\"\",\"\",INDEX(C_InstallationDescription!I:I,MATCH($B56,C_InstallationDescription!$E:$E,0)))","v":""},{"$f":"IF($B56=\"\",\"\",INDEX(C_InstallationDescription!F:F,MATCH($CJ56,C_InstallationDescription!$Q:$Q,0)))","v":""},{"$f":"IF($E56=\"\",\"\",INDEX(C_InstallationDescription!L:L,MATCH($CJ56,C_InstallationDescription!$Q:$Q,0)))","v":""},{"$f":"IF($E56=\"\",\"\",INDEX(C_InstallationDescription!M:M,MATCH($CJ56,C_InstallationDescription!$Q:$Q,0)))","v":""},{"$f":"IF($E56=\"\",\"\",INDEX(C_InstallationDescription!N:N,MATCH($CJ56,C_InstallationDescription!$Q:$Q,0)))","v":""},{"$f":"IF($E56=\"\",\"\",IF(INDEX(E_SourceStreams!$A:$N,CN56,I$7)=\"\",\"\",INDEX(E_SourceStreams!$A:$N,CN56,I$7)))","v":""},{"$f":"IF($E56=\"\",\"\",IF(INDEX(E_SourceStreams!$A:$N,CO56,J$7)=\"\",\"\",INDEX(E_SourceStreams!$A:$N,CO56,J$7)))","v":""},{"$f":"IF($E56=\"\",\"\",IF(INDEX(E_SourceStreams!$A:$N,CP56,K$7)=\"\",\"\",INDEX(E_SourceStreams!$A:$N,CP56,K$7)))","v":""},{"$f":"IF($E56=\"\",\"\",IF(INDEX(E_SourceStreams!$A:$N,CQ56,L$7)=\"\",\"\",INDEX(E_SourceStreams!$A:$N,CQ56,L$7)))","v":""},{"$f":"IF($E56=\"\",\"\",IF(INDEX(E_SourceStreams!$A:$N,CR56,M$7)=\"\",\"\",INDEX(E_SourceStreams!$A:$N,CR56,M$7)))","v":""},{"$f":"IF($E56=\"\",\"\",IF(INDEX(E_SourceStreams!$A:$N,CS56,N$7)=\"\",\"\",INDEX(E_SourceStreams!$A:$N,CS56,N$7)))","v":""},{"$f":"IF($E56=\"\",\"\",IF(INDEX(E_SourceStreams!$A:$N,CT56,O$7)=\"\",\"\",INDEX(E_SourceStreams!$A:$N,CT56,O$7)))","v":""},{"$f":"IF($E56=\"\",\"\",IF(INDEX(E_SourceStreams!$A:$N,CU56,P$7)=\"\",\"\",INDEX(E_SourceStreams!$A:$N,CU56,P$7)))","v":""},{"$f":"IF($E56=\"\",\"\",IF(INDEX(E_SourceStreams!$A:$N,CV56,Q$7)=\"\",\"\",INDEX(E_SourceStreams!$A:$N,CV56,Q$7)))","v":""},{"$f":"IF($E56=\"\",\"\",IF(INDEX(E_SourceStreams!$A:$N,CW56,R$7)=\"\",\"\",INDEX(E_SourceStreams!$A:$N,CW56,R$7)))","v":""},{"$f":"IF($E56=\"\",\"\",IF(INDEX(E_SourceStreams!$A:$N,CX56,S$7)=\"\",\"\",INDEX(E_SourceStreams!$A:$N,CX56,S$7)))","v":""},{"$f":"IF($E56=\"\",\"\",IF(INDEX(E_SourceStreams!$A:$N,CY56,T$7)=\"\",\"\",INDEX(E_SourceStreams!$A:$N,CY56,T$7)))","v":""},{"$f":"IF($E56=\"\",\"\",IF(INDEX(E_SourceStreams!$A:$N,CZ56,U$7)=\"\",\"\",INDEX(E_SourceStreams!$A:$N,CZ56,U$7)))","v":""},{"$f":"IF($E56=\"\",\"\",IF(INDEX(E_SourceStreams!$A:$N,DA56,V$7)=\"\",\"\",INDEX(E_SourceStreams!$A:$N,DA56,V$7)))","v":""},{"$f":"IF($E56=\"\",\"\",IF(INDEX(E_SourceStreams!$A:$N,DB56,W$7)=\"\",\"\",INDEX(E_SourceStreams!$A:$N,DB56,W$7)))","v":""},{"$f":"IF($E56=\"\",\"\",IF(INDEX(E_SourceStreams!$A:$N,DC56,X$7)=\"\",\"\",INDEX(E_SourceStreams!$A:$N,DC56,X$7)))","v":""},{"$f":"IF($E56=\"\",\"\",IF(INDEX(E_SourceStreams!$A:$N,DD56,Y$7)=\"\",\"\",INDEX(E_SourceStreams!$A:$N,DD56,Y$7)))","v":""},{"$f":"IF($E56=\"\",\"\",IF(INDEX(E_SourceStreams!$A:$N,DE56,Z$7)=\"\",\"\",INDEX(E_SourceStreams!$A:$N,DE56,Z$7)))","v":""},{"$f":"IF($E56=\"\",\"\",IF(INDEX(E_SourceStreams!$A:$N,DF56,AA$7)=\"\",\"\",INDEX(E_SourceStreams!$A:$N,DF56,AA$7)))","v":""},{"$f":"IF($E56=\"\",\"\",IF(INDEX(E_SourceStreams!$A:$N,DG56,AB$7)=\"\",\"\",INDEX(E_SourceStreams!$A:$N,DG56,AB$7)))","v":""},{"$f":"IF($E56=\"\",\"\",IF(INDEX(E_SourceStreams!$A:$N,DH56,AC$7)=\"\",\"\",INDEX(E_SourceStreams!$A:$N,DH56,AC$7)))","v":""},{"$f":"IF($E56=\"\",\"\",IF(INDEX(E_SourceStreams!$A:$N,DI56,AD$7)=\"\",\"\",INDEX(E_SourceStreams!$A:$N,DI56,AD$7)))","v":""},{"$f":"IF($E56=\"\",\"\",IF(INDEX(E_SourceStreams!$A:$N,DJ56,AE$7)=\"\",\"\",INDEX(E_SourceStreams!$A:$N,DJ56,AE$7)))","v":""},{"$f":"IF($E56=\"\",\"\",IF(INDEX(E_SourceStreams!$A:$N,DK56,AF$7)=\"\",\"\",INDEX(E_SourceStreams!$A:$N,DK56,AF$7)))","v":""},{"$f":"IF($E56=\"\",\"\",IF(INDEX(E_SourceStreams!$A:$N,DL56,AG$7)=\"\",\"\",INDEX(E_SourceStreams!$A:$N,DL56,AG$7)))","v":""},{"$f":"IF($E56=\"\",\"\",IF(INDEX(E_SourceStreams!$A:$N,DM56,AH$7)=\"\",\"\",INDEX(E_SourceStreams!$A:$N,DM56,AH$7)))","v":""},{"$f":"IF($E56=\"\",\"\",IF(INDEX(E_SourceStreams!$A:$N,DN56,AI$7)=\"\",\"\",INDEX(E_SourceStreams!$A:$N,DN56,AI$7)))","v":""},{"$f":"IF($E56=\"\",\"\",IF(INDEX(E_SourceStreams!$A:$N,DO56,AJ$7)=\"\",\"\",INDEX(E_SourceStreams!$A:$N,DO56,AJ$7)))","v":""},{"$f":"IF($E56=\"\",\"\",IF(INDEX(E_SourceStreams!$A:$N,DP56,AK$7)=\"\",\"\",INDEX(E_SourceStreams!$A:$N,DP56,AK$7)))","v":""},{"$f":"IF($E56=\"\",\"\",IF(INDEX(E_SourceStreams!$A:$N,DQ56,AL$7)=\"\",\"\",INDEX(E_SourceStreams!$A:$N,DQ56,AL$7)))","v":""},{"$f":"IF($E56=\"\",\"\",IF(INDEX(E_SourceStreams!$A:$N,DR56,AM$7)=\"\",\"\",INDEX(E_SourceStreams!$A:$N,DR56,AM$7)))","v":""},{"$f":"IF($E56=\"\",\"\",IF(INDEX(E_SourceStreams!$A:$N,DS56,AN$7)=\"\",\"\",INDEX(E_SourceStreams!$A:$N,DS56,AN$7)))","v":""},{"$f":"IF($E56=\"\",\"\",IF(INDEX(E_SourceStreams!$A:$N,DT56,AO$7)=\"\",\"\",INDEX(E_SourceStreams!$A:$N,DT56,AO$7)))","v":""},{"$f":"IF($E56=\"\",\"\",IF(INDEX(E_SourceStreams!$A:$N,DU56,AP$7)=\"\",\"\",INDEX(E_SourceStreams!$A:$N,DU56,AP$7)))","v":""},{"$f":"IF($E56=\"\",\"\",IF(INDEX(E_SourceStreams!$A:$N,DV56,AQ$7)=\"\",\"\",INDEX(E_SourceStreams!$A:$N,DV56,AQ$7)))","v":""},{"$f":"IF($E56=\"\",\"\",IF(INDEX(E_SourceStreams!$A:$N,DW56,AR$7)=\"\",\"\",INDEX(E_SourceStreams!$A:$N,DW56,AR$7)))","v":""},{"$f":"IF($E56=\"\",\"\",IF(INDEX(E_SourceStreams!$A:$N,DX56,AS$7)=\"\",\"\",INDEX(E_SourceStreams!$A:$N,DX56,AS$7)))","v":""},{"$f":"IF($E56=\"\",\"\",IF(INDEX(E_SourceStreams!$A:$N,DY56,AT$7)=\"\",\"\",INDEX(E_SourceStreams!$A:$N,DY56,AT$7)))","v":""},{"$f":"IF($E56=\"\",\"\",IF(INDEX(E_SourceStreams!$A:$N,DZ56,AU$7)=\"\",\"\",INDEX(E_SourceStreams!$A:$N,DZ56,AU$7)))","v":""},{"$f":"IF($E56=\"\",\"\",IF(INDEX(E_SourceStreams!$A:$N,EA56,AV$7)=\"\",\"\",INDEX(E_SourceStreams!$A:$N,EA56,AV$7)))","v":""},{"$f":"IF($E56=\"\",\"\",IF(INDEX(E_SourceStreams!$A:$N,EB56,AW$7)=\"\",\"\",INDEX(E_SourceStreams!$A:$N,EB56,AW$7)))","v":""},{"$f":"IF($E56=\"\",\"\",IF(INDEX(E_SourceStreams!$A:$N,EC56,AX$7)=\"\",\"\",INDEX(E_SourceStreams!$A:$N,EC56,AX$7)))","v":""},{"$f":"IF($E56=\"\",\"\",IF(INDEX(E_SourceStreams!$A:$N,ED56,AY$7)=\"\",\"\",INDEX(E_SourceStreams!$A:$N,ED56,AY$7)))","v":""},{"$f":"IF($E56=\"\",\"\",IF(INDEX(E_SourceStreams!$A:$N,EE56,AZ$7)=\"\",\"\",INDEX(E_SourceStreams!$A:$N,EE56,AZ$7)))","v":""},{"$f":"IF($E56=\"\",\"\",IF(INDEX(E_SourceStreams!$A:$N,EF56,BA$7)=\"\",\"\",INDEX(E_SourceStreams!$A:$N,EF56,BA$7)))","v":""},{"$f":"IF($E56=\"\",\"\",IF(INDEX(E_SourceStreams!$A:$N,EG56,BB$7)=\"\",\"\",INDEX(E_SourceStreams!$A:$N,EG56,BB$7)))","v":""},{"$f":"IF($E56=\"\",\"\",IF(INDEX(E_SourceStreams!$A:$N,EH56,BC$7)=\"\",\"\",INDEX(E_SourceStreams!$A:$N,EH56,BC$7)))","v":""},{"$f":"IF($E56=\"\",\"\",IF(INDEX(E_SourceStreams!$A:$N,EI56,BD$7)=\"\",\"\",INDEX(E_SourceStreams!$A:$N,EI56,BD$7)))","v":""},{"$f":"IF($E56=\"\",\"\",IF(INDEX(E_SourceStreams!$A:$N,EJ56,BE$7)=\"\",\"\",INDEX(E_SourceStreams!$A:$N,EJ56,BE$7)))","v":""},{"$f":"IF($E56=\"\",\"\",IF(INDEX(E_SourceStreams!$A:$N,EK56,BF$7)=\"\",\"\",INDEX(E_SourceStreams!$A:$N,EK56,BF$7)))","v":""},{"$f":"IF($E56=\"\",\"\",IF(INDEX(E_SourceStreams!$A:$N,EL56,BG$7)=\"\",\"\",INDEX(E_SourceStreams!$A:$N,EL56,BG$7)))","v":""},{"$f":"IF($E56=\"\",\"\",IF(INDEX(E_SourceStreams!$A:$N,EM56,BH$7)=\"\",\"\",INDEX(E_SourceStreams!$A:$N,EM56,BH$7)))","v":""},{"$f":"IF($E56=\"\",\"\",IF(INDEX(E_SourceStreams!$A:$N,EN56,BI$7)=\"\",\"\",INDEX(E_SourceStreams!$A:$N,EN56,BI$7)))","v":""},{"$f":"IF($E56=\"\",\"\",IF(INDEX(E_SourceStreams!$A:$N,EO56,BJ$7)=\"\",\"\",INDEX(E_SourceStreams!$A:$N,EO56,BJ$7)))","v":""},{"$f":"IF($E56=\"\",\"\",IF(INDEX(E_SourceStreams!$A:$N,EP56,BK$7)=\"\",\"\",INDEX(E_SourceStreams!$A:$N,EP56,BK$7)))","v":""},{"$f":"IF($E56=\"\",\"\",IF(INDEX(E_SourceStreams!$A:$N,EQ56,BL$7)=\"\",\"\",INDEX(E_SourceStreams!$A:$N,EQ56,BL$7)))","v":""},{"$f":"IF($E56=\"\",\"\",IF(INDEX(E_SourceStreams!$A:$N,ER56,BM$7)=\"\",\"\",INDEX(E_SourceStreams!$A:$N,ER56,BM$7)))","v":""},{"$f":"IF($E56=\"\",\"\",IF(INDEX(E_SourceStreams!$A:$N,ES56,BN$7)=\"\",\"\",INDEX(E_SourceStreams!$A:$N,ES56,BN$7)))","v":""},{"$f":"IF($E56=\"\",\"\",IF(INDEX(E_SourceStreams!$A:$N,ET56,BO$7)=\"\",\"\",INDEX(E_SourceStreams!$A:$N,ET56,BO$7)))","v":""},{"$f":"IF($E56=\"\",\"\",IF(INDEX(E_SourceStreams!$A:$N,EU56,BP$7)=\"\",\"\",INDEX(E_SourceStreams!$A:$N,EU56,BP$7)))","v":""},{"$f":"IF($E56=\"\",\"\",IF(INDEX(E_SourceStreams!$A:$N,EV56,BQ$7)=\"\",\"\",INDEX(E_SourceStreams!$A:$N,EV56,BQ$7)))","v":""},{"$f":"IF($E56=\"\",\"\",IF(INDEX(E_SourceStreams!$A:$N,EW56,BR$7)=\"\",\"\",INDEX(E_SourceStreams!$A:$N,EW56,BR$7)))","v":""},{"$f":"IF($E56=\"\",\"\",IF(INDEX(E_SourceStreams!$A:$N,EX56,BS$7)=\"\",\"\",INDEX(E_SourceStreams!$A:$N,EX56,BS$7)))","v":""},{"$f":"IF($E56=\"\",\"\",IF(INDEX(E_SourceStreams!$A:$N,EY56,BT$7)=\"\",\"\",INDEX(E_SourceStreams!$A:$N,EY56,BT$7)))","v":""},null,null,null,null,null,null,null,null,null,null,null,null,null,null,null,"SourceCategory_",{"$f":"INDEX(C_InstallationDescription!$A$226:$A$332,ROWS($CI$11:CI56))=\"ausblenden\"","v":true},"SourceStreamName_",null,3105,3107,3109,3111,3113,3115,3117,3117,3117,3117,3117,3120,3124,3125,3126,3133,3143,3143,3143,3143,3143,3143,3143,3134,3144,3144,3144,3144,3144,3144,3144,3135,3145,3145,3145,3145,3145,3145,3145,3136,3146,3146,3146,3146,3146,3146,3146,3137,3147,3147,3147,3147,3147,3147,3147,3138,3148,3148,3148,3148,3148,3148,3148,3154]
[null,{"$f":"IF(COUNTIF($CK$10:CK57,TRUE)>0,\"\",INDEX(C_InstallationDescription!$E$226:$E$242,ROWS($A$11:A57)))","v":""},{"$f":"IF($E57=\"\",\"\",INDEX(C_InstallationDescription!F:F,MATCH($B57,C_InstallationDescription!$E:$E,0)))","v":""},{"$f":"IF($E57=\"\",\"\",INDEX(C_InstallationDescription!I:I,MATCH($B57,C_InstallationDescription!$E:$E,0)))","v":""},{"$f":"IF($B57=\"\",\"\",INDEX(C_InstallationDescription!F:F,MATCH($CJ57,C_InstallationDescription!$Q:$Q,0)))","v":""},{"$f":"IF($E57=\"\",\"\",INDEX(C_InstallationDescription!L:L,MATCH($CJ57,C_InstallationDescription!$Q:$Q,0)))","v":""},{"$f":"IF($E57=\"\",\"\",INDEX(C_InstallationDescription!M:M,MATCH($CJ57,C_InstallationDescription!$Q:$Q,0)))","v":""},{"$f":"IF($E57=\"\",\"\",INDEX(C_InstallationDescription!N:N,MATCH($CJ57,C_InstallationDescription!$Q:$Q,0)))","v":""},{"$f":"IF($E57=\"\",\"\",IF(INDEX(E_SourceStreams!$A:$N,CN57,I$7)=\"\",\"\",INDEX(E_SourceStreams!$A:$N,CN57,I$7)))","v":""},{"$f":"IF($E57=\"\",\"\",IF(INDEX(E_SourceStreams!$A:$N,CO57,J$7)=\"\",\"\",INDEX(E_SourceStreams!$A:$N,CO57,J$7)))","v":""},{"$f":"IF($E57=\"\",\"\",IF(INDEX(E_SourceStreams!$A:$N,CP57,K$7)=\"\",\"\",INDEX(E_SourceStreams!$A:$N,CP57,K$7)))","v":""},{"$f":"IF($E57=\"\",\"\",IF(INDEX(E_SourceStreams!$A:$N,CQ57,L$7)=\"\",\"\",INDEX(E_SourceStreams!$A:$N,CQ57,L$7)))","v":""},{"$f":"IF($E57=\"\",\"\",IF(INDEX(E_SourceStreams!$A:$N,CR57,M$7)=\"\",\"\",INDEX(E_SourceStreams!$A:$N,CR57,M$7)))","v":""},{"$f":"IF($E57=\"\",\"\",IF(INDEX(E_SourceStreams!$A:$N,CS57,N$7)=\"\",\"\",INDEX(E_SourceStreams!$A:$N,CS57,N$7)))","v":""},{"$f":"IF($E57=\"\",\"\",IF(INDEX(E_SourceStreams!$A:$N,CT57,O$7)=\"\",\"\",INDEX(E_SourceStreams!$A:$N,CT57,O$7)))","v":""},{"$f":"IF($E57=\"\",\"\",IF(INDEX(E_SourceStreams!$A:$N,CU57,P$7)=\"\",\"\",INDEX(E_SourceStreams!$A:$N,CU57,P$7)))","v":""},{"$f":"IF($E57=\"\",\"\",IF(INDEX(E_SourceStreams!$A:$N,CV57,Q$7)=\"\",\"\",INDEX(E_SourceStreams!$A:$N,CV57,Q$7)))","v":""},{"$f":"IF($E57=\"\",\"\",IF(INDEX(E_SourceStreams!$A:$N,CW57,R$7)=\"\",\"\",INDEX(E_SourceStreams!$A:$N,CW57,R$7)))","v":""},{"$f":"IF($E57=\"\",\"\",IF(INDEX(E_SourceStreams!$A:$N,CX57,S$7)=\"\",\"\",INDEX(E_SourceStreams!$A:$N,CX57,S$7)))","v":""},{"$f":"IF($E57=\"\",\"\",IF(INDEX(E_SourceStreams!$A:$N,CY57,T$7)=\"\",\"\",INDEX(E_SourceStreams!$A:$N,CY57,T$7)))","v":""},{"$f":"IF($E57=\"\",\"\",IF(INDEX(E_SourceStreams!$A:$N,CZ57,U$7)=\"\",\"\",INDEX(E_SourceStreams!$A:$N,CZ57,U$7)))","v":""},{"$f":"IF($E57=\"\",\"\",IF(INDEX(E_SourceStreams!$A:$N,DA57,V$7)=\"\",\"\",INDEX(E_SourceStreams!$A:$N,DA57,V$7)))","v":""},{"$f":"IF($E57=\"\",\"\",IF(INDEX(E_SourceStreams!$A:$N,DB57,W$7)=\"\",\"\",INDEX(E_SourceStreams!$A:$N,DB57,W$7)))","v":""},{"$f":"IF($E57=\"\",\"\",IF(INDEX(E_SourceStreams!$A:$N,DC57,X$7)=\"\",\"\",INDEX(E_SourceStreams!$A:$N,DC57,X$7)))","v":""},{"$f":"IF($E57=\"\",\"\",IF(INDEX(E_SourceStreams!$A:$N,DD57,Y$7)=\"\",\"\",INDEX(E_SourceStreams!$A:$N,DD57,Y$7)))","v":""},{"$f":"IF($E57=\"\",\"\",IF(INDEX(E_SourceStreams!$A:$N,DE57,Z$7)=\"\",\"\",INDEX(E_SourceStreams!$A:$N,DE57,Z$7)))","v":""},{"$f":"IF($E57=\"\",\"\",IF(INDEX(E_SourceStreams!$A:$N,DF57,AA$7)=\"\",\"\",INDEX(E_SourceStreams!$A:$N,DF57,AA$7)))","v":""},{"$f":"IF($E57=\"\",\"\",IF(INDEX(E_SourceStreams!$A:$N,DG57,AB$7)=\"\",\"\",INDEX(E_SourceStreams!$A:$N,DG57,AB$7)))","v":""},{"$f":"IF($E57=\"\",\"\",IF(INDEX(E_SourceStreams!$A:$N,DH57,AC$7)=\"\",\"\",INDEX(E_SourceStreams!$A:$N,DH57,AC$7)))","v":""},{"$f":"IF($E57=\"\",\"\",IF(INDEX(E_SourceStreams!$A:$N,DI57,AD$7)=\"\",\"\",INDEX(E_SourceStreams!$A:$N,DI57,AD$7)))","v":""},{"$f":"IF($E57=\"\",\"\",IF(INDEX(E_SourceStreams!$A:$N,DJ57,AE$7)=\"\",\"\",INDEX(E_SourceStreams!$A:$N,DJ57,AE$7)))","v":""},{"$f":"IF($E57=\"\",\"\",IF(INDEX(E_SourceStreams!$A:$N,DK57,AF$7)=\"\",\"\",INDEX(E_SourceStreams!$A:$N,DK57,AF$7)))","v":""},{"$f":"IF($E57=\"\",\"\",IF(INDEX(E_SourceStreams!$A:$N,DL57,AG$7)=\"\",\"\",INDEX(E_SourceStreams!$A:$N,DL57,AG$7)))","v":""},{"$f":"IF($E57=\"\",\"\",IF(INDEX(E_SourceStreams!$A:$N,DM57,AH$7)=\"\",\"\",INDEX(E_SourceStreams!$A:$N,DM57,AH$7)))","v":""},{"$f":"IF($E57=\"\",\"\",IF(INDEX(E_SourceStreams!$A:$N,DN57,AI$7)=\"\",\"\",INDEX(E_SourceStreams!$A:$N,DN57,AI$7)))","v":""},{"$f":"IF($E57=\"\",\"\",IF(INDEX(E_SourceStreams!$A:$N,DO57,AJ$7)=\"\",\"\",INDEX(E_SourceStreams!$A:$N,DO57,AJ$7)))","v":""},{"$f":"IF($E57=\"\",\"\",IF(INDEX(E_SourceStreams!$A:$N,DP57,AK$7)=\"\",\"\",INDEX(E_SourceStreams!$A:$N,DP57,AK$7)))","v":""},{"$f":"IF($E57=\"\",\"\",IF(INDEX(E_SourceStreams!$A:$N,DQ57,AL$7)=\"\",\"\",INDEX(E_SourceStreams!$A:$N,DQ57,AL$7)))","v":""},{"$f":"IF($E57=\"\",\"\",IF(INDEX(E_SourceStreams!$A:$N,DR57,AM$7)=\"\",\"\",INDEX(E_SourceStreams!$A:$N,DR57,AM$7)))","v":""},{"$f":"IF($E57=\"\",\"\",IF(INDEX(E_SourceStreams!$A:$N,DS57,AN$7)=\"\",\"\",INDEX(E_SourceStreams!$A:$N,DS57,AN$7)))","v":""},{"$f":"IF($E57=\"\",\"\",IF(INDEX(E_SourceStreams!$A:$N,DT57,AO$7)=\"\",\"\",INDEX(E_SourceStreams!$A:$N,DT57,AO$7)))","v":""},{"$f":"IF($E57=\"\",\"\",IF(INDEX(E_SourceStreams!$A:$N,DU57,AP$7)=\"\",\"\",INDEX(E_SourceStreams!$A:$N,DU57,AP$7)))","v":""},{"$f":"IF($E57=\"\",\"\",IF(INDEX(E_SourceStreams!$A:$N,DV57,AQ$7)=\"\",\"\",INDEX(E_SourceStreams!$A:$N,DV57,AQ$7)))","v":""},{"$f":"IF($E57=\"\",\"\",IF(INDEX(E_SourceStreams!$A:$N,DW57,AR$7)=\"\",\"\",INDEX(E_SourceStreams!$A:$N,DW57,AR$7)))","v":""},{"$f":"IF($E57=\"\",\"\",IF(INDEX(E_SourceStreams!$A:$N,DX57,AS$7)=\"\",\"\",INDEX(E_SourceStreams!$A:$N,DX57,AS$7)))","v":""},{"$f":"IF($E57=\"\",\"\",IF(INDEX(E_SourceStreams!$A:$N,DY57,AT$7)=\"\",\"\",INDEX(E_SourceStreams!$A:$N,DY57,AT$7)))","v":""},{"$f":"IF($E57=\"\",\"\",IF(INDEX(E_SourceStreams!$A:$N,DZ57,AU$7)=\"\",\"\",INDEX(E_SourceStreams!$A:$N,DZ57,AU$7)))","v":""},{"$f":"IF($E57=\"\",\"\",IF(INDEX(E_SourceStreams!$A:$N,EA57,AV$7)=\"\",\"\",INDEX(E_SourceStreams!$A:$N,EA57,AV$7)))","v":""},{"$f":"IF($E57=\"\",\"\",IF(INDEX(E_SourceStreams!$A:$N,EB57,AW$7)=\"\",\"\",INDEX(E_SourceStreams!$A:$N,EB57,AW$7)))","v":""},{"$f":"IF($E57=\"\",\"\",IF(INDEX(E_SourceStreams!$A:$N,EC57,AX$7)=\"\",\"\",INDEX(E_SourceStreams!$A:$N,EC57,AX$7)))","v":""},{"$f":"IF($E57=\"\",\"\",IF(INDEX(E_SourceStreams!$A:$N,ED57,AY$7)=\"\",\"\",INDEX(E_SourceStreams!$A:$N,ED57,AY$7)))","v":""},{"$f":"IF($E57=\"\",\"\",IF(INDEX(E_SourceStreams!$A:$N,EE57,AZ$7)=\"\",\"\",INDEX(E_SourceStreams!$A:$N,EE57,AZ$7)))","v":""},{"$f":"IF($E57=\"\",\"\",IF(INDEX(E_SourceStreams!$A:$N,EF57,BA$7)=\"\",\"\",INDEX(E_SourceStreams!$A:$N,EF57,BA$7)))","v":""},{"$f":"IF($E57=\"\",\"\",IF(INDEX(E_SourceStreams!$A:$N,EG57,BB$7)=\"\",\"\",INDEX(E_SourceStreams!$A:$N,EG57,BB$7)))","v":""},{"$f":"IF($E57=\"\",\"\",IF(INDEX(E_SourceStreams!$A:$N,EH57,BC$7)=\"\",\"\",INDEX(E_SourceStreams!$A:$N,EH57,BC$7)))","v":""},{"$f":"IF($E57=\"\",\"\",IF(INDEX(E_SourceStreams!$A:$N,EI57,BD$7)=\"\",\"\",INDEX(E_SourceStreams!$A:$N,EI57,BD$7)))","v":""},{"$f":"IF($E57=\"\",\"\",IF(INDEX(E_SourceStreams!$A:$N,EJ57,BE$7)=\"\",\"\",INDEX(E_SourceStreams!$A:$N,EJ57,BE$7)))","v":""},{"$f":"IF($E57=\"\",\"\",IF(INDEX(E_SourceStreams!$A:$N,EK57,BF$7)=\"\",\"\",INDEX(E_SourceStreams!$A:$N,EK57,BF$7)))","v":""},{"$f":"IF($E57=\"\",\"\",IF(INDEX(E_SourceStreams!$A:$N,EL57,BG$7)=\"\",\"\",INDEX(E_SourceStreams!$A:$N,EL57,BG$7)))","v":""},{"$f":"IF($E57=\"\",\"\",IF(INDEX(E_SourceStreams!$A:$N,EM57,BH$7)=\"\",\"\",INDEX(E_SourceStreams!$A:$N,EM57,BH$7)))","v":""},{"$f":"IF($E57=\"\",\"\",IF(INDEX(E_SourceStreams!$A:$N,EN57,BI$7)=\"\",\"\",INDEX(E_SourceStreams!$A:$N,EN57,BI$7)))","v":""},{"$f":"IF($E57=\"\",\"\",IF(INDEX(E_SourceStreams!$A:$N,EO57,BJ$7)=\"\",\"\",INDEX(E_SourceStreams!$A:$N,EO57,BJ$7)))","v":""},{"$f":"IF($E57=\"\",\"\",IF(INDEX(E_SourceStreams!$A:$N,EP57,BK$7)=\"\",\"\",INDEX(E_SourceStreams!$A:$N,EP57,BK$7)))","v":""},{"$f":"IF($E57=\"\",\"\",IF(INDEX(E_SourceStreams!$A:$N,EQ57,BL$7)=\"\",\"\",INDEX(E_SourceStreams!$A:$N,EQ57,BL$7)))","v":""},{"$f":"IF($E57=\"\",\"\",IF(INDEX(E_SourceStreams!$A:$N,ER57,BM$7)=\"\",\"\",INDEX(E_SourceStreams!$A:$N,ER57,BM$7)))","v":""},{"$f":"IF($E57=\"\",\"\",IF(INDEX(E_SourceStreams!$A:$N,ES57,BN$7)=\"\",\"\",INDEX(E_SourceStreams!$A:$N,ES57,BN$7)))","v":""},{"$f":"IF($E57=\"\",\"\",IF(INDEX(E_SourceStreams!$A:$N,ET57,BO$7)=\"\",\"\",INDEX(E_SourceStreams!$A:$N,ET57,BO$7)))","v":""},{"$f":"IF($E57=\"\",\"\",IF(INDEX(E_SourceStreams!$A:$N,EU57,BP$7)=\"\",\"\",INDEX(E_SourceStreams!$A:$N,EU57,BP$7)))","v":""},{"$f":"IF($E57=\"\",\"\",IF(INDEX(E_SourceStreams!$A:$N,EV57,BQ$7)=\"\",\"\",INDEX(E_SourceStreams!$A:$N,EV57,BQ$7)))","v":""},{"$f":"IF($E57=\"\",\"\",IF(INDEX(E_SourceStreams!$A:$N,EW57,BR$7)=\"\",\"\",INDEX(E_SourceStreams!$A:$N,EW57,BR$7)))","v":""},{"$f":"IF($E57=\"\",\"\",IF(INDEX(E_SourceStreams!$A:$N,EX57,BS$7)=\"\",\"\",INDEX(E_SourceStreams!$A:$N,EX57,BS$7)))","v":""},{"$f":"IF($E57=\"\",\"\",IF(INDEX(E_SourceStreams!$A:$N,EY57,BT$7)=\"\",\"\",INDEX(E_SourceStreams!$A:$N,EY57,BT$7)))","v":""},null,null,null,null,null,null,null,null,null,null,null,null,null,null,null,"SourceCategory_",{"$f":"INDEX(C_InstallationDescription!$A$226:$A$332,ROWS($CI$11:CI57))=\"ausblenden\"","v":true},"SourceStreamName_",null,3171,3173,3175,3177,3179,3181,3183,3183,3183,3183,3183,3186,3190,3191,3192,3199,3209,3209,3209,3209,3209,3209,3209,3200,3210,3210,3210,3210,3210,3210,3210,3201,3211,3211,3211,3211,3211,3211,3211,3202,3212,3212,3212,3212,3212,3212,3212,3203,3213,3213,3213,3213,3213,3213,3213,3204,3214,3214,3214,3214,3214,3214,3214,3220]
[null,{"$f":"IF(COUNTIF($CK$10:CK58,TRUE)>0,\"\",INDEX(C_InstallationDescription!$E$226:$E$242,ROWS($A$11:A58)))","v":""},{"$f":"IF($E58=\"\",\"\",INDEX(C_InstallationDescription!F:F,MATCH($B58,C_InstallationDescription!$E:$E,0)))","v":""},{"$f":"IF($E58=\"\",\"\",INDEX(C_InstallationDescription!I:I,MATCH($B58,C_InstallationDescription!$E:$E,0)))","v":""},{"$f":"IF($B58=\"\",\"\",INDEX(C_InstallationDescription!F:F,MATCH($CJ58,C_InstallationDescription!$Q:$Q,0)))","v":""},{"$f":"IF($E58=\"\",\"\",INDEX(C_InstallationDescription!L:L,MATCH($CJ58,C_InstallationDescription!$Q:$Q,0)))","v":""},{"$f":"IF($E58=\"\",\"\",INDEX(C_InstallationDescription!M:M,MATCH($CJ58,C_InstallationDescription!$Q:$Q,0)))","v":""},{"$f":"IF($E58=\"\",\"\",INDEX(C_InstallationDescription!N:N,MATCH($CJ58,C_InstallationDescription!$Q:$Q,0)))","v":""},{"$f":"IF($E58=\"\",\"\",IF(INDEX(E_SourceStreams!$A:$N,CN58,I$7)=\"\",\"\",INDEX(E_SourceStreams!$A:$N,CN58,I$7)))","v":""},{"$f":"IF($E58=\"\",\"\",IF(INDEX(E_SourceStreams!$A:$N,CO58,J$7)=\"\",\"\",INDEX(E_SourceStreams!$A:$N,CO58,J$7)))","v":""},{"$f":"IF($E58=\"\",\"\",IF(INDEX(E_SourceStreams!$A:$N,CP58,K$7)=\"\",\"\",INDEX(E_SourceStreams!$A:$N,CP58,K$7)))","v":""},{"$f":"IF($E58=\"\",\"\",IF(INDEX(E_SourceStreams!$A:$N,CQ58,L$7)=\"\",\"\",INDEX(E_SourceStreams!$A:$N,CQ58,L$7)))","v":""},{"$f":"IF($E58=\"\",\"\",IF(INDEX(E_SourceStreams!$A:$N,CR58,M$7)=\"\",\"\",INDEX(E_SourceStreams!$A:$N,CR58,M$7)))","v":""},{"$f":"IF($E58=\"\",\"\",IF(INDEX(E_SourceStreams!$A:$N,CS58,N$7)=\"\",\"\",INDEX(E_SourceStreams!$A:$N,CS58,N$7)))","v":""},{"$f":"IF($E58=\"\",\"\",IF(INDEX(E_SourceStreams!$A:$N,CT58,O$7)=\"\",\"\",INDEX(E_SourceStreams!$A:$N,CT58,O$7)))","v":""},{"$f":"IF($E58=\"\",\"\",IF(INDEX(E_SourceStreams!$A:$N,CU58,P$7)=\"\",\"\",INDEX(E_SourceStreams!$A:$N,CU58,P$7)))","v":""},{"$f":"IF($E58=\"\",\"\",IF(INDEX(E_SourceStreams!$A:$N,CV58,Q$7)=\"\",\"\",INDEX(E_SourceStreams!$A:$N,CV58,Q$7)))","v":""},{"$f":"IF($E58=\"\",\"\",IF(INDEX(E_SourceStreams!$A:$N,CW58,R$7)=\"\",\"\",INDEX(E_SourceStreams!$A:$N,CW58,R$7)))","v":""},{"$f":"IF($E58=\"\",\"\",IF(INDEX(E_SourceStreams!$A:$N,CX58,S$7)=\"\",\"\",INDEX(E_SourceStreams!$A:$N,CX58,S$7)))","v":""},{"$f":"IF($E58=\"\",\"\",IF(INDEX(E_SourceStreams!$A:$N,CY58,T$7)=\"\",\"\",INDEX(E_SourceStreams!$A:$N,CY58,T$7)))","v":""},{"$f":"IF($E58=\"\",\"\",IF(INDEX(E_SourceStreams!$A:$N,CZ58,U$7)=\"\",\"\",INDEX(E_SourceStreams!$A:$N,CZ58,U$7)))","v":""},{"$f":"IF($E58=\"\",\"\",IF(INDEX(E_SourceStreams!$A:$N,DA58,V$7)=\"\",\"\",INDEX(E_SourceStreams!$A:$N,DA58,V$7)))","v":""},{"$f":"IF($E58=\"\",\"\",IF(INDEX(E_SourceStreams!$A:$N,DB58,W$7)=\"\",\"\",INDEX(E_SourceStreams!$A:$N,DB58,W$7)))","v":""},{"$f":"IF($E58=\"\",\"\",IF(INDEX(E_SourceStreams!$A:$N,DC58,X$7)=\"\",\"\",INDEX(E_SourceStreams!$A:$N,DC58,X$7)))","v":""},{"$f":"IF($E58=\"\",\"\",IF(INDEX(E_SourceStreams!$A:$N,DD58,Y$7)=\"\",\"\",INDEX(E_SourceStreams!$A:$N,DD58,Y$7)))","v":""},{"$f":"IF($E58=\"\",\"\",IF(INDEX(E_SourceStreams!$A:$N,DE58,Z$7)=\"\",\"\",INDEX(E_SourceStreams!$A:$N,DE58,Z$7)))","v":""},{"$f":"IF($E58=\"\",\"\",IF(INDEX(E_SourceStreams!$A:$N,DF58,AA$7)=\"\",\"\",INDEX(E_SourceStreams!$A:$N,DF58,AA$7)))","v":""},{"$f":"IF($E58=\"\",\"\",IF(INDEX(E_SourceStreams!$A:$N,DG58,AB$7)=\"\",\"\",INDEX(E_SourceStreams!$A:$N,DG58,AB$7)))","v":""},{"$f":"IF($E58=\"\",\"\",IF(INDEX(E_SourceStreams!$A:$N,DH58,AC$7)=\"\",\"\",INDEX(E_SourceStreams!$A:$N,DH58,AC$7)))","v":""},{"$f":"IF($E58=\"\",\"\",IF(INDEX(E_SourceStreams!$A:$N,DI58,AD$7)=\"\",\"\",INDEX(E_SourceStreams!$A:$N,DI58,AD$7)))","v":""},{"$f":"IF($E58=\"\",\"\",IF(INDEX(E_SourceStreams!$A:$N,DJ58,AE$7)=\"\",\"\",INDEX(E_SourceStreams!$A:$N,DJ58,AE$7)))","v":""},{"$f":"IF($E58=\"\",\"\",IF(INDEX(E_SourceStreams!$A:$N,DK58,AF$7)=\"\",\"\",INDEX(E_SourceStreams!$A:$N,DK58,AF$7)))","v":""},{"$f":"IF($E58=\"\",\"\",IF(INDEX(E_SourceStreams!$A:$N,DL58,AG$7)=\"\",\"\",INDEX(E_SourceStreams!$A:$N,DL58,AG$7)))","v":""},{"$f":"IF($E58=\"\",\"\",IF(INDEX(E_SourceStreams!$A:$N,DM58,AH$7)=\"\",\"\",INDEX(E_SourceStreams!$A:$N,DM58,AH$7)))","v":""},{"$f":"IF($E58=\"\",\"\",IF(INDEX(E_SourceStreams!$A:$N,DN58,AI$7)=\"\",\"\",INDEX(E_SourceStreams!$A:$N,DN58,AI$7)))","v":""},{"$f":"IF($E58=\"\",\"\",IF(INDEX(E_SourceStreams!$A:$N,DO58,AJ$7)=\"\",\"\",INDEX(E_SourceStreams!$A:$N,DO58,AJ$7)))","v":""},{"$f":"IF($E58=\"\",\"\",IF(INDEX(E_SourceStreams!$A:$N,DP58,AK$7)=\"\",\"\",INDEX(E_SourceStreams!$A:$N,DP58,AK$7)))","v":""},{"$f":"IF($E58=\"\",\"\",IF(INDEX(E_SourceStreams!$A:$N,DQ58,AL$7)=\"\",\"\",INDEX(E_SourceStreams!$A:$N,DQ58,AL$7)))","v":""},{"$f":"IF($E58=\"\",\"\",IF(INDEX(E_SourceStreams!$A:$N,DR58,AM$7)=\"\",\"\",INDEX(E_SourceStreams!$A:$N,DR58,AM$7)))","v":""},{"$f":"IF($E58=\"\",\"\",IF(INDEX(E_SourceStreams!$A:$N,DS58,AN$7)=\"\",\"\",INDEX(E_SourceStreams!$A:$N,DS58,AN$7)))","v":""},{"$f":"IF($E58=\"\",\"\",IF(INDEX(E_SourceStreams!$A:$N,DT58,AO$7)=\"\",\"\",INDEX(E_SourceStreams!$A:$N,DT58,AO$7)))","v":""},{"$f":"IF($E58=\"\",\"\",IF(INDEX(E_SourceStreams!$A:$N,DU58,AP$7)=\"\",\"\",INDEX(E_SourceStreams!$A:$N,DU58,AP$7)))","v":""},{"$f":"IF($E58=\"\",\"\",IF(INDEX(E_SourceStreams!$A:$N,DV58,AQ$7)=\"\",\"\",INDEX(E_SourceStreams!$A:$N,DV58,AQ$7)))","v":""},{"$f":"IF($E58=\"\",\"\",IF(INDEX(E_SourceStreams!$A:$N,DW58,AR$7)=\"\",\"\",INDEX(E_SourceStreams!$A:$N,DW58,AR$7)))","v":""},{"$f":"IF($E58=\"\",\"\",IF(INDEX(E_SourceStreams!$A:$N,DX58,AS$7)=\"\",\"\",INDEX(E_SourceStreams!$A:$N,DX58,AS$7)))","v":""},{"$f":"IF($E58=\"\",\"\",IF(INDEX(E_SourceStreams!$A:$N,DY58,AT$7)=\"\",\"\",INDEX(E_SourceStreams!$A:$N,DY58,AT$7)))","v":""},{"$f":"IF($E58=\"\",\"\",IF(INDEX(E_SourceStreams!$A:$N,DZ58,AU$7)=\"\",\"\",INDEX(E_SourceStreams!$A:$N,DZ58,AU$7)))","v":""},{"$f":"IF($E58=\"\",\"\",IF(INDEX(E_SourceStreams!$A:$N,EA58,AV$7)=\"\",\"\",INDEX(E_SourceStreams!$A:$N,EA58,AV$7)))","v":""},{"$f":"IF($E58=\"\",\"\",IF(INDEX(E_SourceStreams!$A:$N,EB58,AW$7)=\"\",\"\",INDEX(E_SourceStreams!$A:$N,EB58,AW$7)))","v":""},{"$f":"IF($E58=\"\",\"\",IF(INDEX(E_SourceStreams!$A:$N,EC58,AX$7)=\"\",\"\",INDEX(E_SourceStreams!$A:$N,EC58,AX$7)))","v":""},{"$f":"IF($E58=\"\",\"\",IF(INDEX(E_SourceStreams!$A:$N,ED58,AY$7)=\"\",\"\",INDEX(E_SourceStreams!$A:$N,ED58,AY$7)))","v":""},{"$f":"IF($E58=\"\",\"\",IF(INDEX(E_SourceStreams!$A:$N,EE58,AZ$7)=\"\",\"\",INDEX(E_SourceStreams!$A:$N,EE58,AZ$7)))","v":""},{"$f":"IF($E58=\"\",\"\",IF(INDEX(E_SourceStreams!$A:$N,EF58,BA$7)=\"\",\"\",INDEX(E_SourceStreams!$A:$N,EF58,BA$7)))","v":""},{"$f":"IF($E58=\"\",\"\",IF(INDEX(E_SourceStreams!$A:$N,EG58,BB$7)=\"\",\"\",INDEX(E_SourceStreams!$A:$N,EG58,BB$7)))","v":""},{"$f":"IF($E58=\"\",\"\",IF(INDEX(E_SourceStreams!$A:$N,EH58,BC$7)=\"\",\"\",INDEX(E_SourceStreams!$A:$N,EH58,BC$7)))","v":""},{"$f":"IF($E58=\"\",\"\",IF(INDEX(E_SourceStreams!$A:$N,EI58,BD$7)=\"\",\"\",INDEX(E_SourceStreams!$A:$N,EI58,BD$7)))","v":""},{"$f":"IF($E58=\"\",\"\",IF(INDEX(E_SourceStreams!$A:$N,EJ58,BE$7)=\"\",\"\",INDEX(E_SourceStreams!$A:$N,EJ58,BE$7)))","v":""},{"$f":"IF($E58=\"\",\"\",IF(INDEX(E_SourceStreams!$A:$N,EK58,BF$7)=\"\",\"\",INDEX(E_SourceStreams!$A:$N,EK58,BF$7)))","v":""},{"$f":"IF($E58=\"\",\"\",IF(INDEX(E_SourceStreams!$A:$N,EL58,BG$7)=\"\",\"\",INDEX(E_SourceStreams!$A:$N,EL58,BG$7)))","v":""},{"$f":"IF($E58=\"\",\"\",IF(INDEX(E_SourceStreams!$A:$N,EM58,BH$7)=\"\",\"\",INDEX(E_SourceStreams!$A:$N,EM58,BH$7)))","v":""},{"$f":"IF($E58=\"\",\"\",IF(INDEX(E_SourceStreams!$A:$N,EN58,BI$7)=\"\",\"\",INDEX(E_SourceStreams!$A:$N,EN58,BI$7)))","v":""},{"$f":"IF($E58=\"\",\"\",IF(INDEX(E_SourceStreams!$A:$N,EO58,BJ$7)=\"\",\"\",INDEX(E_SourceStreams!$A:$N,EO58,BJ$7)))","v":""},{"$f":"IF($E58=\"\",\"\",IF(INDEX(E_SourceStreams!$A:$N,EP58,BK$7)=\"\",\"\",INDEX(E_SourceStreams!$A:$N,EP58,BK$7)))","v":""},{"$f":"IF($E58=\"\",\"\",IF(INDEX(E_SourceStreams!$A:$N,EQ58,BL$7)=\"\",\"\",INDEX(E_SourceStreams!$A:$N,EQ58,BL$7)))","v":""},{"$f":"IF($E58=\"\",\"\",IF(INDEX(E_SourceStreams!$A:$N,ER58,BM$7)=\"\",\"\",INDEX(E_SourceStreams!$A:$N,ER58,BM$7)))","v":""},{"$f":"IF($E58=\"\",\"\",IF(INDEX(E_SourceStreams!$A:$N,ES58,BN$7)=\"\",\"\",INDEX(E_SourceStreams!$A:$N,ES58,BN$7)))","v":""},{"$f":"IF($E58=\"\",\"\",IF(INDEX(E_SourceStreams!$A:$N,ET58,BO$7)=\"\",\"\",INDEX(E_SourceStreams!$A:$N,ET58,BO$7)))","v":""},{"$f":"IF($E58=\"\",\"\",IF(INDEX(E_SourceStreams!$A:$N,EU58,BP$7)=\"\",\"\",INDEX(E_SourceStreams!$A:$N,EU58,BP$7)))","v":""},{"$f":"IF($E58=\"\",\"\",IF(INDEX(E_SourceStreams!$A:$N,EV58,BQ$7)=\"\",\"\",INDEX(E_SourceStreams!$A:$N,EV58,BQ$7)))","v":""},{"$f":"IF($E58=\"\",\"\",IF(INDEX(E_SourceStreams!$A:$N,EW58,BR$7)=\"\",\"\",INDEX(E_SourceStreams!$A:$N,EW58,BR$7)))","v":""},{"$f":"IF($E58=\"\",\"\",IF(INDEX(E_SourceStreams!$A:$N,EX58,BS$7)=\"\",\"\",INDEX(E_SourceStreams!$A:$N,EX58,BS$7)))","v":""},{"$f":"IF($E58=\"\",\"\",IF(INDEX(E_SourceStreams!$A:$N,EY58,BT$7)=\"\",\"\",INDEX(E_SourceStreams!$A:$N,EY58,BT$7)))","v":""},null,null,null,null,null,null,null,null,null,null,null,null,null,null,null,"SourceCategory_",{"$f":"INDEX(C_InstallationDescription!$A$226:$A$332,ROWS($CI$11:CI58))=\"ausblenden\"","v":true},"SourceStreamName_",null,3237,3239,3241,3243,3245,3247,3249,3249,3249,3249,3249,3252,3256,3257,3258,3265,3275,3275,3275,3275,3275,3275,3275,3266,3276,3276,3276,3276,3276,3276,3276,3267,3277,3277,3277,3277,3277,3277,3277,3268,3278,3278,3278,3278,3278,3278,3278,3269,3279,3279,3279,3279,3279,3279,3279,3270,3280,3280,3280,3280,3280,3280,3280,3286]
[null,{"$f":"IF(COUNTIF($CK$10:CK59,TRUE)>0,\"\",INDEX(C_InstallationDescription!$E$226:$E$242,ROWS($A$11:A59)))","v":""},{"$f":"IF($E59=\"\",\"\",INDEX(C_InstallationDescription!F:F,MATCH($B59,C_InstallationDescription!$E:$E,0)))","v":""},{"$f":"IF($E59=\"\",\"\",INDEX(C_InstallationDescription!I:I,MATCH($B59,C_InstallationDescription!$E:$E,0)))","v":""},{"$f":"IF($B59=\"\",\"\",INDEX(C_InstallationDescription!F:F,MATCH($CJ59,C_InstallationDescription!$Q:$Q,0)))","v":""},{"$f":"IF($E59=\"\",\"\",INDEX(C_InstallationDescription!L:L,MATCH($CJ59,C_InstallationDescription!$Q:$Q,0)))","v":""},{"$f":"IF($E59=\"\",\"\",INDEX(C_InstallationDescription!M:M,MATCH($CJ59,C_InstallationDescription!$Q:$Q,0)))","v":""},{"$f":"IF($E59=\"\",\"\",INDEX(C_InstallationDescription!N:N,MATCH($CJ59,C_InstallationDescription!$Q:$Q,0)))","v":""},{"$f":"IF($E59=\"\",\"\",IF(INDEX(E_SourceStreams!$A:$N,CN59,I$7)=\"\",\"\",INDEX(E_SourceStreams!$A:$N,CN59,I$7)))","v":""},{"$f":"IF($E59=\"\",\"\",IF(INDEX(E_SourceStreams!$A:$N,CO59,J$7)=\"\",\"\",INDEX(E_SourceStreams!$A:$N,CO59,J$7)))","v":""},{"$f":"IF($E59=\"\",\"\",IF(INDEX(E_SourceStreams!$A:$N,CP59,K$7)=\"\",\"\",INDEX(E_SourceStreams!$A:$N,CP59,K$7)))","v":""},{"$f":"IF($E59=\"\",\"\",IF(INDEX(E_SourceStreams!$A:$N,CQ59,L$7)=\"\",\"\",INDEX(E_SourceStreams!$A:$N,CQ59,L$7)))","v":""},{"$f":"IF($E59=\"\",\"\",IF(INDEX(E_SourceStreams!$A:$N,CR59,M$7)=\"\",\"\",INDEX(E_SourceStreams!$A:$N,CR59,M$7)))","v":""},{"$f":"IF($E59=\"\",\"\",IF(INDEX(E_SourceStreams!$A:$N,CS59,N$7)=\"\",\"\",INDEX(E_SourceStreams!$A:$N,CS59,N$7)))","v":""},{"$f":"IF($E59=\"\",\"\",IF(INDEX(E_SourceStreams!$A:$N,CT59,O$7)=\"\",\"\",INDEX(E_SourceStreams!$A:$N,CT59,O$7)))","v":""},{"$f":"IF($E59=\"\",\"\",IF(INDEX(E_SourceStreams!$A:$N,CU59,P$7)=\"\",\"\",INDEX(E_SourceStreams!$A:$N,CU59,P$7)))","v":""},{"$f":"IF($E59=\"\",\"\",IF(INDEX(E_SourceStreams!$A:$N,CV59,Q$7)=\"\",\"\",INDEX(E_SourceStreams!$A:$N,CV59,Q$7)))","v":""},{"$f":"IF($E59=\"\",\"\",IF(INDEX(E_SourceStreams!$A:$N,CW59,R$7)=\"\",\"\",INDEX(E_SourceStreams!$A:$N,CW59,R$7)))","v":""},{"$f":"IF($E59=\"\",\"\",IF(INDEX(E_SourceStreams!$A:$N,CX59,S$7)=\"\",\"\",INDEX(E_SourceStreams!$A:$N,CX59,S$7)))","v":""},{"$f":"IF($E59=\"\",\"\",IF(INDEX(E_SourceStreams!$A:$N,CY59,T$7)=\"\",\"\",INDEX(E_SourceStreams!$A:$N,CY59,T$7)))","v":""},{"$f":"IF($E59=\"\",\"\",IF(INDEX(E_SourceStreams!$A:$N,CZ59,U$7)=\"\",\"\",INDEX(E_SourceStreams!$A:$N,CZ59,U$7)))","v":""},{"$f":"IF($E59=\"\",\"\",IF(INDEX(E_SourceStreams!$A:$N,DA59,V$7)=\"\",\"\",INDEX(E_SourceStreams!$A:$N,DA59,V$7)))","v":""},{"$f":"IF($E59=\"\",\"\",IF(INDEX(E_SourceStreams!$A:$N,DB59,W$7)=\"\",\"\",INDEX(E_SourceStreams!$A:$N,DB59,W$7)))","v":""},{"$f":"IF($E59=\"\",\"\",IF(INDEX(E_SourceStreams!$A:$N,DC59,X$7)=\"\",\"\",INDEX(E_SourceStreams!$A:$N,DC59,X$7)))","v":""},{"$f":"IF($E59=\"\",\"\",IF(INDEX(E_SourceStreams!$A:$N,DD59,Y$7)=\"\",\"\",INDEX(E_SourceStreams!$A:$N,DD59,Y$7)))","v":""},{"$f":"IF($E59=\"\",\"\",IF(INDEX(E_SourceStreams!$A:$N,DE59,Z$7)=\"\",\"\",INDEX(E_SourceStreams!$A:$N,DE59,Z$7)))","v":""},{"$f":"IF($E59=\"\",\"\",IF(INDEX(E_SourceStreams!$A:$N,DF59,AA$7)=\"\",\"\",INDEX(E_SourceStreams!$A:$N,DF59,AA$7)))","v":""},{"$f":"IF($E59=\"\",\"\",IF(INDEX(E_SourceStreams!$A:$N,DG59,AB$7)=\"\",\"\",INDEX(E_SourceStreams!$A:$N,DG59,AB$7)))","v":""},{"$f":"IF($E59=\"\",\"\",IF(INDEX(E_SourceStreams!$A:$N,DH59,AC$7)=\"\",\"\",INDEX(E_SourceStreams!$A:$N,DH59,AC$7)))","v":""},{"$f":"IF($E59=\"\",\"\",IF(INDEX(E_SourceStreams!$A:$N,DI59,AD$7)=\"\",\"\",INDEX(E_SourceStreams!$A:$N,DI59,AD$7)))","v":""},{"$f":"IF($E59=\"\",\"\",IF(INDEX(E_SourceStreams!$A:$N,DJ59,AE$7)=\"\",\"\",INDEX(E_SourceStreams!$A:$N,DJ59,AE$7)))","v":""},{"$f":"IF($E59=\"\",\"\",IF(INDEX(E_SourceStreams!$A:$N,DK59,AF$7)=\"\",\"\",INDEX(E_SourceStreams!$A:$N,DK59,AF$7)))","v":""},{"$f":"IF($E59=\"\",\"\",IF(INDEX(E_SourceStreams!$A:$N,DL59,AG$7)=\"\",\"\",INDEX(E_SourceStreams!$A:$N,DL59,AG$7)))","v":""},{"$f":"IF($E59=\"\",\"\",IF(INDEX(E_SourceStreams!$A:$N,DM59,AH$7)=\"\",\"\",INDEX(E_SourceStreams!$A:$N,DM59,AH$7)))","v":""},{"$f":"IF($E59=\"\",\"\",IF(INDEX(E_SourceStreams!$A:$N,DN59,AI$7)=\"\",\"\",INDEX(E_SourceStreams!$A:$N,DN59,AI$7)))","v":""},{"$f":"IF($E59=\"\",\"\",IF(INDEX(E_SourceStreams!$A:$N,DO59,AJ$7)=\"\",\"\",INDEX(E_SourceStreams!$A:$N,DO59,AJ$7)))","v":""},{"$f":"IF($E59=\"\",\"\",IF(INDEX(E_SourceStreams!$A:$N,DP59,AK$7)=\"\",\"\",INDEX(E_SourceStreams!$A:$N,DP59,AK$7)))","v":""},{"$f":"IF($E59=\"\",\"\",IF(INDEX(E_SourceStreams!$A:$N,DQ59,AL$7)=\"\",\"\",INDEX(E_SourceStreams!$A:$N,DQ59,AL$7)))","v":""},{"$f":"IF($E59=\"\",\"\",IF(INDEX(E_SourceStreams!$A:$N,DR59,AM$7)=\"\",\"\",INDEX(E_SourceStreams!$A:$N,DR59,AM$7)))","v":""},{"$f":"IF($E59=\"\",\"\",IF(INDEX(E_SourceStreams!$A:$N,DS59,AN$7)=\"\",\"\",INDEX(E_SourceStreams!$A:$N,DS59,AN$7)))","v":""},{"$f":"IF($E59=\"\",\"\",IF(INDEX(E_SourceStreams!$A:$N,DT59,AO$7)=\"\",\"\",INDEX(E_SourceStreams!$A:$N,DT59,AO$7)))","v":""},{"$f":"IF($E59=\"\",\"\",IF(INDEX(E_SourceStreams!$A:$N,DU59,AP$7)=\"\",\"\",INDEX(E_SourceStreams!$A:$N,DU59,AP$7)))","v":""},{"$f":"IF($E59=\"\",\"\",IF(INDEX(E_SourceStreams!$A:$N,DV59,AQ$7)=\"\",\"\",INDEX(E_SourceStreams!$A:$N,DV59,AQ$7)))","v":""},{"$f":"IF($E59=\"\",\"\",IF(INDEX(E_SourceStreams!$A:$N,DW59,AR$7)=\"\",\"\",INDEX(E_SourceStreams!$A:$N,DW59,AR$7)))","v":""},{"$f":"IF($E59=\"\",\"\",IF(INDEX(E_SourceStreams!$A:$N,DX59,AS$7)=\"\",\"\",INDEX(E_SourceStreams!$A:$N,DX59,AS$7)))","v":""},{"$f":"IF($E59=\"\",\"\",IF(INDEX(E_SourceStreams!$A:$N,DY59,AT$7)=\"\",\"\",INDEX(E_SourceStreams!$A:$N,DY59,AT$7)))","v":""},{"$f":"IF($E59=\"\",\"\",IF(INDEX(E_SourceStreams!$A:$N,DZ59,AU$7)=\"\",\"\",INDEX(E_SourceStreams!$A:$N,DZ59,AU$7)))","v":""},{"$f":"IF($E59=\"\",\"\",IF(INDEX(E_SourceStreams!$A:$N,EA59,AV$7)=\"\",\"\",INDEX(E_SourceStreams!$A:$N,EA59,AV$7)))","v":""},{"$f":"IF($E59=\"\",\"\",IF(INDEX(E_SourceStreams!$A:$N,EB59,AW$7)=\"\",\"\",INDEX(E_SourceStreams!$A:$N,EB59,AW$7)))","v":""},{"$f":"IF($E59=\"\",\"\",IF(INDEX(E_SourceStreams!$A:$N,EC59,AX$7)=\"\",\"\",INDEX(E_SourceStreams!$A:$N,EC59,AX$7)))","v":""},{"$f":"IF($E59=\"\",\"\",IF(INDEX(E_SourceStreams!$A:$N,ED59,AY$7)=\"\",\"\",INDEX(E_SourceStreams!$A:$N,ED59,AY$7)))","v":""},{"$f":"IF($E59=\"\",\"\",IF(INDEX(E_SourceStreams!$A:$N,EE59,AZ$7)=\"\",\"\",INDEX(E_SourceStreams!$A:$N,EE59,AZ$7)))","v":""},{"$f":"IF($E59=\"\",\"\",IF(INDEX(E_SourceStreams!$A:$N,EF59,BA$7)=\"\",\"\",INDEX(E_SourceStreams!$A:$N,EF59,BA$7)))","v":""},{"$f":"IF($E59=\"\",\"\",IF(INDEX(E_SourceStreams!$A:$N,EG59,BB$7)=\"\",\"\",INDEX(E_SourceStreams!$A:$N,EG59,BB$7)))","v":""},{"$f":"IF($E59=\"\",\"\",IF(INDEX(E_SourceStreams!$A:$N,EH59,BC$7)=\"\",\"\",INDEX(E_SourceStreams!$A:$N,EH59,BC$7)))","v":""},{"$f":"IF($E59=\"\",\"\",IF(INDEX(E_SourceStreams!$A:$N,EI59,BD$7)=\"\",\"\",INDEX(E_SourceStreams!$A:$N,EI59,BD$7)))","v":""},{"$f":"IF($E59=\"\",\"\",IF(INDEX(E_SourceStreams!$A:$N,EJ59,BE$7)=\"\",\"\",INDEX(E_SourceStreams!$A:$N,EJ59,BE$7)))","v":""},{"$f":"IF($E59=\"\",\"\",IF(INDEX(E_SourceStreams!$A:$N,EK59,BF$7)=\"\",\"\",INDEX(E_SourceStreams!$A:$N,EK59,BF$7)))","v":""},{"$f":"IF($E59=\"\",\"\",IF(INDEX(E_SourceStreams!$A:$N,EL59,BG$7)=\"\",\"\",INDEX(E_SourceStreams!$A:$N,EL59,BG$7)))","v":""},{"$f":"IF($E59=\"\",\"\",IF(INDEX(E_SourceStreams!$A:$N,EM59,BH$7)=\"\",\"\",INDEX(E_SourceStreams!$A:$N,EM59,BH$7)))","v":""},{"$f":"IF($E59=\"\",\"\",IF(INDEX(E_SourceStreams!$A:$N,EN59,BI$7)=\"\",\"\",INDEX(E_SourceStreams!$A:$N,EN59,BI$7)))","v":""},{"$f":"IF($E59=\"\",\"\",IF(INDEX(E_SourceStreams!$A:$N,EO59,BJ$7)=\"\",\"\",INDEX(E_SourceStreams!$A:$N,EO59,BJ$7)))","v":""},{"$f":"IF($E59=\"\",\"\",IF(INDEX(E_SourceStreams!$A:$N,EP59,BK$7)=\"\",\"\",INDEX(E_SourceStreams!$A:$N,EP59,BK$7)))","v":""},{"$f":"IF($E59=\"\",\"\",IF(INDEX(E_SourceStreams!$A:$N,EQ59,BL$7)=\"\",\"\",INDEX(E_SourceStreams!$A:$N,EQ59,BL$7)))","v":""},{"$f":"IF($E59=\"\",\"\",IF(INDEX(E_SourceStreams!$A:$N,ER59,BM$7)=\"\",\"\",INDEX(E_SourceStreams!$A:$N,ER59,BM$7)))","v":""},{"$f":"IF($E59=\"\",\"\",IF(INDEX(E_SourceStreams!$A:$N,ES59,BN$7)=\"\",\"\",INDEX(E_SourceStreams!$A:$N,ES59,BN$7)))","v":""},{"$f":"IF($E59=\"\",\"\",IF(INDEX(E_SourceStreams!$A:$N,ET59,BO$7)=\"\",\"\",INDEX(E_SourceStreams!$A:$N,ET59,BO$7)))","v":""},{"$f":"IF($E59=\"\",\"\",IF(INDEX(E_SourceStreams!$A:$N,EU59,BP$7)=\"\",\"\",INDEX(E_SourceStreams!$A:$N,EU59,BP$7)))","v":""},{"$f":"IF($E59=\"\",\"\",IF(INDEX(E_SourceStreams!$A:$N,EV59,BQ$7)=\"\",\"\",INDEX(E_SourceStreams!$A:$N,EV59,BQ$7)))","v":""},{"$f":"IF($E59=\"\",\"\",IF(INDEX(E_SourceStreams!$A:$N,EW59,BR$7)=\"\",\"\",INDEX(E_SourceStreams!$A:$N,EW59,BR$7)))","v":""},{"$f":"IF($E59=\"\",\"\",IF(INDEX(E_SourceStreams!$A:$N,EX59,BS$7)=\"\",\"\",INDEX(E_SourceStreams!$A:$N,EX59,BS$7)))","v":""},{"$f":"IF($E59=\"\",\"\",IF(INDEX(E_SourceStreams!$A:$N,EY59,BT$7)=\"\",\"\",INDEX(E_SourceStreams!$A:$N,EY59,BT$7)))","v":""},null,null,null,null,null,null,null,null,null,null,null,null,null,null,null,"SourceCategory_",{"$f":"INDEX(C_InstallationDescription!$A$226:$A$332,ROWS($CI$11:CI59))=\"ausblenden\"","v":true},"SourceStreamName_",null,3303,3305,3307,3309,3311,3313,3315,3315,3315,3315,3315,3318,3322,3323,3324,3331,3341,3341,3341,3341,3341,3341,3341,3332,3342,3342,3342,3342,3342,3342,3342,3333,3343,3343,3343,3343,3343,3343,3343,3334,3344,3344,3344,3344,3344,3344,3344,3335,3345,3345,3345,3345,3345,3345,3345,3336,3346,3346,3346,3346,3346,3346,3346,3352]
[null,{"$f":"IF(COUNTIF($CK$10:CK60,TRUE)>0,\"\",INDEX(C_InstallationDescription!$E$226:$E$242,ROWS($A$11:A60)))","v":""},{"$f":"IF($E60=\"\",\"\",INDEX(C_InstallationDescription!F:F,MATCH($B60,C_InstallationDescription!$E:$E,0)))","v":""},{"$f":"IF($E60=\"\",\"\",INDEX(C_InstallationDescription!I:I,MATCH($B60,C_InstallationDescription!$E:$E,0)))","v":""},{"$f":"IF($B60=\"\",\"\",INDEX(C_InstallationDescription!F:F,MATCH($CJ60,C_InstallationDescription!$Q:$Q,0)))","v":""},{"$f":"IF($E60=\"\",\"\",INDEX(C_InstallationDescription!L:L,MATCH($CJ60,C_InstallationDescription!$Q:$Q,0)))","v":""},{"$f":"IF($E60=\"\",\"\",INDEX(C_InstallationDescription!M:M,MATCH($CJ60,C_InstallationDescription!$Q:$Q,0)))","v":""},{"$f":"IF($E60=\"\",\"\",INDEX(C_InstallationDescription!N:N,MATCH($CJ60,C_InstallationDescription!$Q:$Q,0)))","v":""},{"$f":"IF($E60=\"\",\"\",IF(INDEX(E_SourceStreams!$A:$N,CN60,I$7)=\"\",\"\",INDEX(E_SourceStreams!$A:$N,CN60,I$7)))","v":""},{"$f":"IF($E60=\"\",\"\",IF(INDEX(E_SourceStreams!$A:$N,CO60,J$7)=\"\",\"\",INDEX(E_SourceStreams!$A:$N,CO60,J$7)))","v":""},{"$f":"IF($E60=\"\",\"\",IF(INDEX(E_SourceStreams!$A:$N,CP60,K$7)=\"\",\"\",INDEX(E_SourceStreams!$A:$N,CP60,K$7)))","v":""},{"$f":"IF($E60=\"\",\"\",IF(INDEX(E_SourceStreams!$A:$N,CQ60,L$7)=\"\",\"\",INDEX(E_SourceStreams!$A:$N,CQ60,L$7)))","v":""},{"$f":"IF($E60=\"\",\"\",IF(INDEX(E_SourceStreams!$A:$N,CR60,M$7)=\"\",\"\",INDEX(E_SourceStreams!$A:$N,CR60,M$7)))","v":""},{"$f":"IF($E60=\"\",\"\",IF(INDEX(E_SourceStreams!$A:$N,CS60,N$7)=\"\",\"\",INDEX(E_SourceStreams!$A:$N,CS60,N$7)))","v":""},{"$f":"IF($E60=\"\",\"\",IF(INDEX(E_SourceStreams!$A:$N,CT60,O$7)=\"\",\"\",INDEX(E_SourceStreams!$A:$N,CT60,O$7)))","v":""},{"$f":"IF($E60=\"\",\"\",IF(INDEX(E_SourceStreams!$A:$N,CU60,P$7)=\"\",\"\",INDEX(E_SourceStreams!$A:$N,CU60,P$7)))","v":""},{"$f":"IF($E60=\"\",\"\",IF(INDEX(E_SourceStreams!$A:$N,CV60,Q$7)=\"\",\"\",INDEX(E_SourceStreams!$A:$N,CV60,Q$7)))","v":""},{"$f":"IF($E60=\"\",\"\",IF(INDEX(E_SourceStreams!$A:$N,CW60,R$7)=\"\",\"\",INDEX(E_SourceStreams!$A:$N,CW60,R$7)))","v":""},{"$f":"IF($E60=\"\",\"\",IF(INDEX(E_SourceStreams!$A:$N,CX60,S$7)=\"\",\"\",INDEX(E_SourceStreams!$A:$N,CX60,S$7)))","v":""},{"$f":"IF($E60=\"\",\"\",IF(INDEX(E_SourceStreams!$A:$N,CY60,T$7)=\"\",\"\",INDEX(E_SourceStreams!$A:$N,CY60,T$7)))","v":""},{"$f":"IF($E60=\"\",\"\",IF(INDEX(E_SourceStreams!$A:$N,CZ60,U$7)=\"\",\"\",INDEX(E_SourceStreams!$A:$N,CZ60,U$7)))","v":""},{"$f":"IF($E60=\"\",\"\",IF(INDEX(E_SourceStreams!$A:$N,DA60,V$7)=\"\",\"\",INDEX(E_SourceStreams!$A:$N,DA60,V$7)))","v":""},{"$f":"IF($E60=\"\",\"\",IF(INDEX(E_SourceStreams!$A:$N,DB60,W$7)=\"\",\"\",INDEX(E_SourceStreams!$A:$N,DB60,W$7)))","v":""},{"$f":"IF($E60=\"\",\"\",IF(INDEX(E_SourceStreams!$A:$N,DC60,X$7)=\"\",\"\",INDEX(E_SourceStreams!$A:$N,DC60,X$7)))","v":""},{"$f":"IF($E60=\"\",\"\",IF(INDEX(E_SourceStreams!$A:$N,DD60,Y$7)=\"\",\"\",INDEX(E_SourceStreams!$A:$N,DD60,Y$7)))","v":""},{"$f":"IF($E60=\"\",\"\",IF(INDEX(E_SourceStreams!$A:$N,DE60,Z$7)=\"\",\"\",INDEX(E_SourceStreams!$A:$N,DE60,Z$7)))","v":""},{"$f":"IF($E60=\"\",\"\",IF(INDEX(E_SourceStreams!$A:$N,DF60,AA$7)=\"\",\"\",INDEX(E_SourceStreams!$A:$N,DF60,AA$7)))","v":""},{"$f":"IF($E60=\"\",\"\",IF(INDEX(E_SourceStreams!$A:$N,DG60,AB$7)=\"\",\"\",INDEX(E_SourceStreams!$A:$N,DG60,AB$7)))","v":""},{"$f":"IF($E60=\"\",\"\",IF(INDEX(E_SourceStreams!$A:$N,DH60,AC$7)=\"\",\"\",INDEX(E_SourceStreams!$A:$N,DH60,AC$7)))","v":""},{"$f":"IF($E60=\"\",\"\",IF(INDEX(E_SourceStreams!$A:$N,DI60,AD$7)=\"\",\"\",INDEX(E_SourceStreams!$A:$N,DI60,AD$7)))","v":""},{"$f":"IF($E60=\"\",\"\",IF(INDEX(E_SourceStreams!$A:$N,DJ60,AE$7)=\"\",\"\",INDEX(E_SourceStreams!$A:$N,DJ60,AE$7)))","v":""},{"$f":"IF($E60=\"\",\"\",IF(INDEX(E_SourceStreams!$A:$N,DK60,AF$7)=\"\",\"\",INDEX(E_SourceStreams!$A:$N,DK60,AF$7)))","v":""},{"$f":"IF($E60=\"\",\"\",IF(INDEX(E_SourceStreams!$A:$N,DL60,AG$7)=\"\",\"\",INDEX(E_SourceStreams!$A:$N,DL60,AG$7)))","v":""},{"$f":"IF($E60=\"\",\"\",IF(INDEX(E_SourceStreams!$A:$N,DM60,AH$7)=\"\",\"\",INDEX(E_SourceStreams!$A:$N,DM60,AH$7)))","v":""},{"$f":"IF($E60=\"\",\"\",IF(INDEX(E_SourceStreams!$A:$N,DN60,AI$7)=\"\",\"\",INDEX(E_SourceStreams!$A:$N,DN60,AI$7)))","v":""},{"$f":"IF($E60=\"\",\"\",IF(INDEX(E_SourceStreams!$A:$N,DO60,AJ$7)=\"\",\"\",INDEX(E_SourceStreams!$A:$N,DO60,AJ$7)))","v":""},{"$f":"IF($E60=\"\",\"\",IF(INDEX(E_SourceStreams!$A:$N,DP60,AK$7)=\"\",\"\",INDEX(E_SourceStreams!$A:$N,DP60,AK$7)))","v":""},{"$f":"IF($E60=\"\",\"\",IF(INDEX(E_SourceStreams!$A:$N,DQ60,AL$7)=\"\",\"\",INDEX(E_SourceStreams!$A:$N,DQ60,AL$7)))","v":""},{"$f":"IF($E60=\"\",\"\",IF(INDEX(E_SourceStreams!$A:$N,DR60,AM$7)=\"\",\"\",INDEX(E_SourceStreams!$A:$N,DR60,AM$7)))","v":""},{"$f":"IF($E60=\"\",\"\",IF(INDEX(E_SourceStreams!$A:$N,DS60,AN$7)=\"\",\"\",INDEX(E_SourceStreams!$A:$N,DS60,AN$7)))","v":""},{"$f":"IF($E60=\"\",\"\",IF(INDEX(E_SourceStreams!$A:$N,DT60,AO$7)=\"\",\"\",INDEX(E_SourceStreams!$A:$N,DT60,AO$7)))","v":""},{"$f":"IF($E60=\"\",\"\",IF(INDEX(E_SourceStreams!$A:$N,DU60,AP$7)=\"\",\"\",INDEX(E_SourceStreams!$A:$N,DU60,AP$7)))","v":""},{"$f":"IF($E60=\"\",\"\",IF(INDEX(E_SourceStreams!$A:$N,DV60,AQ$7)=\"\",\"\",INDEX(E_SourceStreams!$A:$N,DV60,AQ$7)))","v":""},{"$f":"IF($E60=\"\",\"\",IF(INDEX(E_SourceStreams!$A:$N,DW60,AR$7)=\"\",\"\",INDEX(E_SourceStreams!$A:$N,DW60,AR$7)))","v":""},{"$f":"IF($E60=\"\",\"\",IF(INDEX(E_SourceStreams!$A:$N,DX60,AS$7)=\"\",\"\",INDEX(E_SourceStreams!$A:$N,DX60,AS$7)))","v":""},{"$f":"IF($E60=\"\",\"\",IF(INDEX(E_SourceStreams!$A:$N,DY60,AT$7)=\"\",\"\",INDEX(E_SourceStreams!$A:$N,DY60,AT$7)))","v":""},{"$f":"IF($E60=\"\",\"\",IF(INDEX(E_SourceStreams!$A:$N,DZ60,AU$7)=\"\",\"\",INDEX(E_SourceStreams!$A:$N,DZ60,AU$7)))","v":""},{"$f":"IF($E60=\"\",\"\",IF(INDEX(E_SourceStreams!$A:$N,EA60,AV$7)=\"\",\"\",INDEX(E_SourceStreams!$A:$N,EA60,AV$7)))","v":""},{"$f":"IF($E60=\"\",\"\",IF(INDEX(E_SourceStreams!$A:$N,EB60,AW$7)=\"\",\"\",INDEX(E_SourceStreams!$A:$N,EB60,AW$7)))","v":""},{"$f":"IF($E60=\"\",\"\",IF(INDEX(E_SourceStreams!$A:$N,EC60,AX$7)=\"\",\"\",INDEX(E_SourceStreams!$A:$N,EC60,AX$7)))","v":""},{"$f":"IF($E60=\"\",\"\",IF(INDEX(E_SourceStreams!$A:$N,ED60,AY$7)=\"\",\"\",INDEX(E_SourceStreams!$A:$N,ED60,AY$7)))","v":""},{"$f":"IF($E60=\"\",\"\",IF(INDEX(E_SourceStreams!$A:$N,EE60,AZ$7)=\"\",\"\",INDEX(E_SourceStreams!$A:$N,EE60,AZ$7)))","v":""},{"$f":"IF($E60=\"\",\"\",IF(INDEX(E_SourceStreams!$A:$N,EF60,BA$7)=\"\",\"\",INDEX(E_SourceStreams!$A:$N,EF60,BA$7)))","v":""},{"$f":"IF($E60=\"\",\"\",IF(INDEX(E_SourceStreams!$A:$N,EG60,BB$7)=\"\",\"\",INDEX(E_SourceStreams!$A:$N,EG60,BB$7)))","v":""},{"$f":"IF($E60=\"\",\"\",IF(INDEX(E_SourceStreams!$A:$N,EH60,BC$7)=\"\",\"\",INDEX(E_SourceStreams!$A:$N,EH60,BC$7)))","v":""},{"$f":"IF($E60=\"\",\"\",IF(INDEX(E_SourceStreams!$A:$N,EI60,BD$7)=\"\",\"\",INDEX(E_SourceStreams!$A:$N,EI60,BD$7)))","v":""},{"$f":"IF($E60=\"\",\"\",IF(INDEX(E_SourceStreams!$A:$N,EJ60,BE$7)=\"\",\"\",INDEX(E_SourceStreams!$A:$N,EJ60,BE$7)))","v":""},{"$f":"IF($E60=\"\",\"\",IF(INDEX(E_SourceStreams!$A:$N,EK60,BF$7)=\"\",\"\",INDEX(E_SourceStreams!$A:$N,EK60,BF$7)))","v":""},{"$f":"IF($E60=\"\",\"\",IF(INDEX(E_SourceStreams!$A:$N,EL60,BG$7)=\"\",\"\",INDEX(E_SourceStreams!$A:$N,EL60,BG$7)))","v":""},{"$f":"IF($E60=\"\",\"\",IF(INDEX(E_SourceStreams!$A:$N,EM60,BH$7)=\"\",\"\",INDEX(E_SourceStreams!$A:$N,EM60,BH$7)))","v":""},{"$f":"IF($E60=\"\",\"\",IF(INDEX(E_SourceStreams!$A:$N,EN60,BI$7)=\"\",\"\",INDEX(E_SourceStreams!$A:$N,EN60,BI$7)))","v":""},{"$f":"IF($E60=\"\",\"\",IF(INDEX(E_SourceStreams!$A:$N,EO60,BJ$7)=\"\",\"\",INDEX(E_SourceStreams!$A:$N,EO60,BJ$7)))","v":""},{"$f":"IF($E60=\"\",\"\",IF(INDEX(E_SourceStreams!$A:$N,EP60,BK$7)=\"\",\"\",INDEX(E_SourceStreams!$A:$N,EP60,BK$7)))","v":""},{"$f":"IF($E60=\"\",\"\",IF(INDEX(E_SourceStreams!$A:$N,EQ60,BL$7)=\"\",\"\",INDEX(E_SourceStreams!$A:$N,EQ60,BL$7)))","v":""},{"$f":"IF($E60=\"\",\"\",IF(INDEX(E_SourceStreams!$A:$N,ER60,BM$7)=\"\",\"\",INDEX(E_SourceStreams!$A:$N,ER60,BM$7)))","v":""},{"$f":"IF($E60=\"\",\"\",IF(INDEX(E_SourceStreams!$A:$N,ES60,BN$7)=\"\",\"\",INDEX(E_SourceStreams!$A:$N,ES60,BN$7)))","v":""},{"$f":"IF($E60=\"\",\"\",IF(INDEX(E_SourceStreams!$A:$N,ET60,BO$7)=\"\",\"\",INDEX(E_SourceStreams!$A:$N,ET60,BO$7)))","v":""},{"$f":"IF($E60=\"\",\"\",IF(INDEX(E_SourceStreams!$A:$N,EU60,BP$7)=\"\",\"\",INDEX(E_SourceStreams!$A:$N,EU60,BP$7)))","v":""},{"$f":"IF($E60=\"\",\"\",IF(INDEX(E_SourceStreams!$A:$N,EV60,BQ$7)=\"\",\"\",INDEX(E_SourceStreams!$A:$N,EV60,BQ$7)))","v":""},{"$f":"IF($E60=\"\",\"\",IF(INDEX(E_SourceStreams!$A:$N,EW60,BR$7)=\"\",\"\",INDEX(E_SourceStreams!$A:$N,EW60,BR$7)))","v":""},{"$f":"IF($E60=\"\",\"\",IF(INDEX(E_SourceStreams!$A:$N,EX60,BS$7)=\"\",\"\",INDEX(E_SourceStreams!$A:$N,EX60,BS$7)))","v":""},{"$f":"IF($E60=\"\",\"\",IF(INDEX(E_SourceStreams!$A:$N,EY60,BT$7)=\"\",\"\",INDEX(E_SourceStreams!$A:$N,EY60,BT$7)))","v":""},null,null,null,null,null,null,null,null,null,null,null,null,null,null,null,"SourceCategory_",{"$f":"INDEX(C_InstallationDescription!$A$226:$A$332,ROWS($CI$11:CI60))=\"ausblenden\"","v":true},"SourceStreamName_",null,3369,3371,3373,3375,3377,3379,3381,3381,3381,3381,3381,3384,3388,3389,3390,3397,3407,3407,3407,3407,3407,3407,3407,3398,3408,3408,3408,3408,3408,3408,3408,3399,3409,3409,3409,3409,3409,3409,3409,3400,3410,3410,3410,3410,3410,3410,3410,3401,3411,3411,3411,3411,3411,3411,3411,3402,3412,3412,3412,3412,3412,3412,3412,3418]
[null,{"$f":"IF(COUNTIF($CK$10:CK61,TRUE)>0,\"\",INDEX(C_InstallationDescription!$E$226:$E$242,ROWS($A$11:A61)))","v":""},{"$f":"IF($E61=\"\",\"\",INDEX(C_InstallationDescription!F:F,MATCH($B61,C_InstallationDescription!$E:$E,0)))","v":""},{"$f":"IF($E61=\"\",\"\",INDEX(C_InstallationDescription!I:I,MATCH($B61,C_InstallationDescription!$E:$E,0)))","v":""},{"$f":"IF($B61=\"\",\"\",INDEX(C_InstallationDescription!F:F,MATCH($CJ61,C_InstallationDescription!$Q:$Q,0)))","v":""},{"$f":"IF($E61=\"\",\"\",INDEX(C_InstallationDescription!L:L,MATCH($CJ61,C_InstallationDescription!$Q:$Q,0)))","v":""},{"$f":"IF($E61=\"\",\"\",INDEX(C_InstallationDescription!M:M,MATCH($CJ61,C_InstallationDescription!$Q:$Q,0)))","v":""},{"$f":"IF($E61=\"\",\"\",INDEX(C_InstallationDescription!N:N,MATCH($CJ61,C_InstallationDescription!$Q:$Q,0)))","v":""},{"$f":"IF($E61=\"\",\"\",IF(INDEX(E_SourceStreams!$A:$N,CN61,I$7)=\"\",\"\",INDEX(E_SourceStreams!$A:$N,CN61,I$7)))","v":""},{"$f":"IF($E61=\"\",\"\",IF(INDEX(E_SourceStreams!$A:$N,CO61,J$7)=\"\",\"\",INDEX(E_SourceStreams!$A:$N,CO61,J$7)))","v":""},{"$f":"IF($E61=\"\",\"\",IF(INDEX(E_SourceStreams!$A:$N,CP61,K$7)=\"\",\"\",INDEX(E_SourceStreams!$A:$N,CP61,K$7)))","v":""},{"$f":"IF($E61=\"\",\"\",IF(INDEX(E_SourceStreams!$A:$N,CQ61,L$7)=\"\",\"\",INDEX(E_SourceStreams!$A:$N,CQ61,L$7)))","v":""},{"$f":"IF($E61=\"\",\"\",IF(INDEX(E_SourceStreams!$A:$N,CR61,M$7)=\"\",\"\",INDEX(E_SourceStreams!$A:$N,CR61,M$7)))","v":""},{"$f":"IF($E61=\"\",\"\",IF(INDEX(E_SourceStreams!$A:$N,CS61,N$7)=\"\",\"\",INDEX(E_SourceStreams!$A:$N,CS61,N$7)))","v":""},{"$f":"IF($E61=\"\",\"\",IF(INDEX(E_SourceStreams!$A:$N,CT61,O$7)=\"\",\"\",INDEX(E_SourceStreams!$A:$N,CT61,O$7)))","v":""},{"$f":"IF($E61=\"\",\"\",IF(INDEX(E_SourceStreams!$A:$N,CU61,P$7)=\"\",\"\",INDEX(E_SourceStreams!$A:$N,CU61,P$7)))","v":""},{"$f":"IF($E61=\"\",\"\",IF(INDEX(E_SourceStreams!$A:$N,CV61,Q$7)=\"\",\"\",INDEX(E_SourceStreams!$A:$N,CV61,Q$7)))","v":""},{"$f":"IF($E61=\"\",\"\",IF(INDEX(E_SourceStreams!$A:$N,CW61,R$7)=\"\",\"\",INDEX(E_SourceStreams!$A:$N,CW61,R$7)))","v":""},{"$f":"IF($E61=\"\",\"\",IF(INDEX(E_SourceStreams!$A:$N,CX61,S$7)=\"\",\"\",INDEX(E_SourceStreams!$A:$N,CX61,S$7)))","v":""},{"$f":"IF($E61=\"\",\"\",IF(INDEX(E_SourceStreams!$A:$N,CY61,T$7)=\"\",\"\",INDEX(E_SourceStreams!$A:$N,CY61,T$7)))","v":""},{"$f":"IF($E61=\"\",\"\",IF(INDEX(E_SourceStreams!$A:$N,CZ61,U$7)=\"\",\"\",INDEX(E_SourceStreams!$A:$N,CZ61,U$7)))","v":""},{"$f":"IF($E61=\"\",\"\",IF(INDEX(E_SourceStreams!$A:$N,DA61,V$7)=\"\",\"\",INDEX(E_SourceStreams!$A:$N,DA61,V$7)))","v":""},{"$f":"IF($E61=\"\",\"\",IF(INDEX(E_SourceStreams!$A:$N,DB61,W$7)=\"\",\"\",INDEX(E_SourceStreams!$A:$N,DB61,W$7)))","v":""},{"$f":"IF($E61=\"\",\"\",IF(INDEX(E_SourceStreams!$A:$N,DC61,X$7)=\"\",\"\",INDEX(E_SourceStreams!$A:$N,DC61,X$7)))","v":""},{"$f":"IF($E61=\"\",\"\",IF(INDEX(E_SourceStreams!$A:$N,DD61,Y$7)=\"\",\"\",INDEX(E_SourceStreams!$A:$N,DD61,Y$7)))","v":""},{"$f":"IF($E61=\"\",\"\",IF(INDEX(E_SourceStreams!$A:$N,DE61,Z$7)=\"\",\"\",INDEX(E_SourceStreams!$A:$N,DE61,Z$7)))","v":""},{"$f":"IF($E61=\"\",\"\",IF(INDEX(E_SourceStreams!$A:$N,DF61,AA$7)=\"\",\"\",INDEX(E_SourceStreams!$A:$N,DF61,AA$7)))","v":""},{"$f":"IF($E61=\"\",\"\",IF(INDEX(E_SourceStreams!$A:$N,DG61,AB$7)=\"\",\"\",INDEX(E_SourceStreams!$A:$N,DG61,AB$7)))","v":""},{"$f":"IF($E61=\"\",\"\",IF(INDEX(E_SourceStreams!$A:$N,DH61,AC$7)=\"\",\"\",INDEX(E_SourceStreams!$A:$N,DH61,AC$7)))","v":""},{"$f":"IF($E61=\"\",\"\",IF(INDEX(E_SourceStreams!$A:$N,DI61,AD$7)=\"\",\"\",INDEX(E_SourceStreams!$A:$N,DI61,AD$7)))","v":""},{"$f":"IF($E61=\"\",\"\",IF(INDEX(E_SourceStreams!$A:$N,DJ61,AE$7)=\"\",\"\",INDEX(E_SourceStreams!$A:$N,DJ61,AE$7)))","v":""},{"$f":"IF($E61=\"\",\"\",IF(INDEX(E_SourceStreams!$A:$N,DK61,AF$7)=\"\",\"\",INDEX(E_SourceStreams!$A:$N,DK61,AF$7)))","v":""},{"$f":"IF($E61=\"\",\"\",IF(INDEX(E_SourceStreams!$A:$N,DL61,AG$7)=\"\",\"\",INDEX(E_SourceStreams!$A:$N,DL61,AG$7)))","v":""},{"$f":"IF($E61=\"\",\"\",IF(INDEX(E_SourceStreams!$A:$N,DM61,AH$7)=\"\",\"\",INDEX(E_SourceStreams!$A:$N,DM61,AH$7)))","v":""},{"$f":"IF($E61=\"\",\"\",IF(INDEX(E_SourceStreams!$A:$N,DN61,AI$7)=\"\",\"\",INDEX(E_SourceStreams!$A:$N,DN61,AI$7)))","v":""},{"$f":"IF($E61=\"\",\"\",IF(INDEX(E_SourceStreams!$A:$N,DO61,AJ$7)=\"\",\"\",INDEX(E_SourceStreams!$A:$N,DO61,AJ$7)))","v":""},{"$f":"IF($E61=\"\",\"\",IF(INDEX(E_SourceStreams!$A:$N,DP61,AK$7)=\"\",\"\",INDEX(E_SourceStreams!$A:$N,DP61,AK$7)))","v":""},{"$f":"IF($E61=\"\",\"\",IF(INDEX(E_SourceStreams!$A:$N,DQ61,AL$7)=\"\",\"\",INDEX(E_SourceStreams!$A:$N,DQ61,AL$7)))","v":""},{"$f":"IF($E61=\"\",\"\",IF(INDEX(E_SourceStreams!$A:$N,DR61,AM$7)=\"\",\"\",INDEX(E_SourceStreams!$A:$N,DR61,AM$7)))","v":""},{"$f":"IF($E61=\"\",\"\",IF(INDEX(E_SourceStreams!$A:$N,DS61,AN$7)=\"\",\"\",INDEX(E_SourceStreams!$A:$N,DS61,AN$7)))","v":""},{"$f":"IF($E61=\"\",\"\",IF(INDEX(E_SourceStreams!$A:$N,DT61,AO$7)=\"\",\"\",INDEX(E_SourceStreams!$A:$N,DT61,AO$7)))","v":""},{"$f":"IF($E61=\"\",\"\",IF(INDEX(E_SourceStreams!$A:$N,DU61,AP$7)=\"\",\"\",INDEX(E_SourceStreams!$A:$N,DU61,AP$7)))","v":""},{"$f":"IF($E61=\"\",\"\",IF(INDEX(E_SourceStreams!$A:$N,DV61,AQ$7)=\"\",\"\",INDEX(E_SourceStreams!$A:$N,DV61,AQ$7)))","v":""},{"$f":"IF($E61=\"\",\"\",IF(INDEX(E_SourceStreams!$A:$N,DW61,AR$7)=\"\",\"\",INDEX(E_SourceStreams!$A:$N,DW61,AR$7)))","v":""},{"$f":"IF($E61=\"\",\"\",IF(INDEX(E_SourceStreams!$A:$N,DX61,AS$7)=\"\",\"\",INDEX(E_SourceStreams!$A:$N,DX61,AS$7)))","v":""},{"$f":"IF($E61=\"\",\"\",IF(INDEX(E_SourceStreams!$A:$N,DY61,AT$7)=\"\",\"\",INDEX(E_SourceStreams!$A:$N,DY61,AT$7)))","v":""},{"$f":"IF($E61=\"\",\"\",IF(INDEX(E_SourceStreams!$A:$N,DZ61,AU$7)=\"\",\"\",INDEX(E_SourceStreams!$A:$N,DZ61,AU$7)))","v":""},{"$f":"IF($E61=\"\",\"\",IF(INDEX(E_SourceStreams!$A:$N,EA61,AV$7)=\"\",\"\",INDEX(E_SourceStreams!$A:$N,EA61,AV$7)))","v":""},{"$f":"IF($E61=\"\",\"\",IF(INDEX(E_SourceStreams!$A:$N,EB61,AW$7)=\"\",\"\",INDEX(E_SourceStreams!$A:$N,EB61,AW$7)))","v":""},{"$f":"IF($E61=\"\",\"\",IF(INDEX(E_SourceStreams!$A:$N,EC61,AX$7)=\"\",\"\",INDEX(E_SourceStreams!$A:$N,EC61,AX$7)))","v":""},{"$f":"IF($E61=\"\",\"\",IF(INDEX(E_SourceStreams!$A:$N,ED61,AY$7)=\"\",\"\",INDEX(E_SourceStreams!$A:$N,ED61,AY$7)))","v":""},{"$f":"IF($E61=\"\",\"\",IF(INDEX(E_SourceStreams!$A:$N,EE61,AZ$7)=\"\",\"\",INDEX(E_SourceStreams!$A:$N,EE61,AZ$7)))","v":""},{"$f":"IF($E61=\"\",\"\",IF(INDEX(E_SourceStreams!$A:$N,EF61,BA$7)=\"\",\"\",INDEX(E_SourceStreams!$A:$N,EF61,BA$7)))","v":""},{"$f":"IF($E61=\"\",\"\",IF(INDEX(E_SourceStreams!$A:$N,EG61,BB$7)=\"\",\"\",INDEX(E_SourceStreams!$A:$N,EG61,BB$7)))","v":""},{"$f":"IF($E61=\"\",\"\",IF(INDEX(E_SourceStreams!$A:$N,EH61,BC$7)=\"\",\"\",INDEX(E_SourceStreams!$A:$N,EH61,BC$7)))","v":""},{"$f":"IF($E61=\"\",\"\",IF(INDEX(E_SourceStreams!$A:$N,EI61,BD$7)=\"\",\"\",INDEX(E_SourceStreams!$A:$N,EI61,BD$7)))","v":""},{"$f":"IF($E61=\"\",\"\",IF(INDEX(E_SourceStreams!$A:$N,EJ61,BE$7)=\"\",\"\",INDEX(E_SourceStreams!$A:$N,EJ61,BE$7)))","v":""},{"$f":"IF($E61=\"\",\"\",IF(INDEX(E_SourceStreams!$A:$N,EK61,BF$7)=\"\",\"\",INDEX(E_SourceStreams!$A:$N,EK61,BF$7)))","v":""},{"$f":"IF($E61=\"\",\"\",IF(INDEX(E_SourceStreams!$A:$N,EL61,BG$7)=\"\",\"\",INDEX(E_SourceStreams!$A:$N,EL61,BG$7)))","v":""},{"$f":"IF($E61=\"\",\"\",IF(INDEX(E_SourceStreams!$A:$N,EM61,BH$7)=\"\",\"\",INDEX(E_SourceStreams!$A:$N,EM61,BH$7)))","v":""},{"$f":"IF($E61=\"\",\"\",IF(INDEX(E_SourceStreams!$A:$N,EN61,BI$7)=\"\",\"\",INDEX(E_SourceStreams!$A:$N,EN61,BI$7)))","v":""},{"$f":"IF($E61=\"\",\"\",IF(INDEX(E_SourceStreams!$A:$N,EO61,BJ$7)=\"\",\"\",INDEX(E_SourceStreams!$A:$N,EO61,BJ$7)))","v":""},{"$f":"IF($E61=\"\",\"\",IF(INDEX(E_SourceStreams!$A:$N,EP61,BK$7)=\"\",\"\",INDEX(E_SourceStreams!$A:$N,EP61,BK$7)))","v":""},{"$f":"IF($E61=\"\",\"\",IF(INDEX(E_SourceStreams!$A:$N,EQ61,BL$7)=\"\",\"\",INDEX(E_SourceStreams!$A:$N,EQ61,BL$7)))","v":""},{"$f":"IF($E61=\"\",\"\",IF(INDEX(E_SourceStreams!$A:$N,ER61,BM$7)=\"\",\"\",INDEX(E_SourceStreams!$A:$N,ER61,BM$7)))","v":""},{"$f":"IF($E61=\"\",\"\",IF(INDEX(E_SourceStreams!$A:$N,ES61,BN$7)=\"\",\"\",INDEX(E_SourceStreams!$A:$N,ES61,BN$7)))","v":""},{"$f":"IF($E61=\"\",\"\",IF(INDEX(E_SourceStreams!$A:$N,ET61,BO$7)=\"\",\"\",INDEX(E_SourceStreams!$A:$N,ET61,BO$7)))","v":""},{"$f":"IF($E61=\"\",\"\",IF(INDEX(E_SourceStreams!$A:$N,EU61,BP$7)=\"\",\"\",INDEX(E_SourceStreams!$A:$N,EU61,BP$7)))","v":""},{"$f":"IF($E61=\"\",\"\",IF(INDEX(E_SourceStreams!$A:$N,EV61,BQ$7)=\"\",\"\",INDEX(E_SourceStreams!$A:$N,EV61,BQ$7)))","v":""},{"$f":"IF($E61=\"\",\"\",IF(INDEX(E_SourceStreams!$A:$N,EW61,BR$7)=\"\",\"\",INDEX(E_SourceStreams!$A:$N,EW61,BR$7)))","v":""},{"$f":"IF($E61=\"\",\"\",IF(INDEX(E_SourceStreams!$A:$N,EX61,BS$7)=\"\",\"\",INDEX(E_SourceStreams!$A:$N,EX61,BS$7)))","v":""},{"$f":"IF($E61=\"\",\"\",IF(INDEX(E_SourceStreams!$A:$N,EY61,BT$7)=\"\",\"\",INDEX(E_SourceStreams!$A:$N,EY61,BT$7)))","v":""},null,null,null,null,null,null,null,null,null,null,null,null,null,null,null,"SourceCategory_",{"$f":"INDEX(C_InstallationDescription!$A$226:$A$332,ROWS($CI$11:CI61))=\"ausblenden\"","v":true},"SourceStreamName_",null,3435,3437,3439,3441,3443,3445,3447,3447,3447,3447,3447,3450,3454,3455,3456,3463,3473,3473,3473,3473,3473,3473,3473,3464,3474,3474,3474,3474,3474,3474,3474,3465,3475,3475,3475,3475,3475,3475,3475,3466,3476,3476,3476,3476,3476,3476,3476,3467,3477,3477,3477,3477,3477,3477,3477,3468,3478,3478,3478,3478,3478,3478,3478,3484]
[null,{"$f":"IF(COUNTIF($CK$10:CK62,TRUE)>0,\"\",INDEX(C_InstallationDescription!$E$226:$E$242,ROWS($A$11:A62)))","v":""},{"$f":"IF($E62=\"\",\"\",INDEX(C_InstallationDescription!F:F,MATCH($B62,C_InstallationDescription!$E:$E,0)))","v":""},{"$f":"IF($E62=\"\",\"\",INDEX(C_InstallationDescription!I:I,MATCH($B62,C_InstallationDescription!$E:$E,0)))","v":""},{"$f":"IF($B62=\"\",\"\",INDEX(C_InstallationDescription!F:F,MATCH($CJ62,C_InstallationDescription!$Q:$Q,0)))","v":""},{"$f":"IF($E62=\"\",\"\",INDEX(C_InstallationDescription!L:L,MATCH($CJ62,C_InstallationDescription!$Q:$Q,0)))","v":""},{"$f":"IF($E62=\"\",\"\",INDEX(C_InstallationDescription!M:M,MATCH($CJ62,C_InstallationDescription!$Q:$Q,0)))","v":""},{"$f":"IF($E62=\"\",\"\",INDEX(C_InstallationDescription!N:N,MATCH($CJ62,C_InstallationDescription!$Q:$Q,0)))","v":""},{"$f":"IF($E62=\"\",\"\",IF(INDEX(E_SourceStreams!$A:$N,CN62,I$7)=\"\",\"\",INDEX(E_SourceStreams!$A:$N,CN62,I$7)))","v":""},{"$f":"IF($E62=\"\",\"\",IF(INDEX(E_SourceStreams!$A:$N,CO62,J$7)=\"\",\"\",INDEX(E_SourceStreams!$A:$N,CO62,J$7)))","v":""},{"$f":"IF($E62=\"\",\"\",IF(INDEX(E_SourceStreams!$A:$N,CP62,K$7)=\"\",\"\",INDEX(E_SourceStreams!$A:$N,CP62,K$7)))","v":""},{"$f":"IF($E62=\"\",\"\",IF(INDEX(E_SourceStreams!$A:$N,CQ62,L$7)=\"\",\"\",INDEX(E_SourceStreams!$A:$N,CQ62,L$7)))","v":""},{"$f":"IF($E62=\"\",\"\",IF(INDEX(E_SourceStreams!$A:$N,CR62,M$7)=\"\",\"\",INDEX(E_SourceStreams!$A:$N,CR62,M$7)))","v":""},{"$f":"IF($E62=\"\",\"\",IF(INDEX(E_SourceStreams!$A:$N,CS62,N$7)=\"\",\"\",INDEX(E_SourceStreams!$A:$N,CS62,N$7)))","v":""},{"$f":"IF($E62=\"\",\"\",IF(INDEX(E_SourceStreams!$A:$N,CT62,O$7)=\"\",\"\",INDEX(E_SourceStreams!$A:$N,CT62,O$7)))","v":""},{"$f":"IF($E62=\"\",\"\",IF(INDEX(E_SourceStreams!$A:$N,CU62,P$7)=\"\",\"\",INDEX(E_SourceStreams!$A:$N,CU62,P$7)))","v":""},{"$f":"IF($E62=\"\",\"\",IF(INDEX(E_SourceStreams!$A:$N,CV62,Q$7)=\"\",\"\",INDEX(E_SourceStreams!$A:$N,CV62,Q$7)))","v":""},{"$f":"IF($E62=\"\",\"\",IF(INDEX(E_SourceStreams!$A:$N,CW62,R$7)=\"\",\"\",INDEX(E_SourceStreams!$A:$N,CW62,R$7)))","v":""},{"$f":"IF($E62=\"\",\"\",IF(INDEX(E_SourceStreams!$A:$N,CX62,S$7)=\"\",\"\",INDEX(E_SourceStreams!$A:$N,CX62,S$7)))","v":""},{"$f":"IF($E62=\"\",\"\",IF(INDEX(E_SourceStreams!$A:$N,CY62,T$7)=\"\",\"\",INDEX(E_SourceStreams!$A:$N,CY62,T$7)))","v":""},{"$f":"IF($E62=\"\",\"\",IF(INDEX(E_SourceStreams!$A:$N,CZ62,U$7)=\"\",\"\",INDEX(E_SourceStreams!$A:$N,CZ62,U$7)))","v":""},{"$f":"IF($E62=\"\",\"\",IF(INDEX(E_SourceStreams!$A:$N,DA62,V$7)=\"\",\"\",INDEX(E_SourceStreams!$A:$N,DA62,V$7)))","v":""},{"$f":"IF($E62=\"\",\"\",IF(INDEX(E_SourceStreams!$A:$N,DB62,W$7)=\"\",\"\",INDEX(E_SourceStreams!$A:$N,DB62,W$7)))","v":""},{"$f":"IF($E62=\"\",\"\",IF(INDEX(E_SourceStreams!$A:$N,DC62,X$7)=\"\",\"\",INDEX(E_SourceStreams!$A:$N,DC62,X$7)))","v":""},{"$f":"IF($E62=\"\",\"\",IF(INDEX(E_SourceStreams!$A:$N,DD62,Y$7)=\"\",\"\",INDEX(E_SourceStreams!$A:$N,DD62,Y$7)))","v":""},{"$f":"IF($E62=\"\",\"\",IF(INDEX(E_SourceStreams!$A:$N,DE62,Z$7)=\"\",\"\",INDEX(E_SourceStreams!$A:$N,DE62,Z$7)))","v":""},{"$f":"IF($E62=\"\",\"\",IF(INDEX(E_SourceStreams!$A:$N,DF62,AA$7)=\"\",\"\",INDEX(E_SourceStreams!$A:$N,DF62,AA$7)))","v":""},{"$f":"IF($E62=\"\",\"\",IF(INDEX(E_SourceStreams!$A:$N,DG62,AB$7)=\"\",\"\",INDEX(E_SourceStreams!$A:$N,DG62,AB$7)))","v":""},{"$f":"IF($E62=\"\",\"\",IF(INDEX(E_SourceStreams!$A:$N,DH62,AC$7)=\"\",\"\",INDEX(E_SourceStreams!$A:$N,DH62,AC$7)))","v":""},{"$f":"IF($E62=\"\",\"\",IF(INDEX(E_SourceStreams!$A:$N,DI62,AD$7)=\"\",\"\",INDEX(E_SourceStreams!$A:$N,DI62,AD$7)))","v":""},{"$f":"IF($E62=\"\",\"\",IF(INDEX(E_SourceStreams!$A:$N,DJ62,AE$7)=\"\",\"\",INDEX(E_SourceStreams!$A:$N,DJ62,AE$7)))","v":""},{"$f":"IF($E62=\"\",\"\",IF(INDEX(E_SourceStreams!$A:$N,DK62,AF$7)=\"\",\"\",INDEX(E_SourceStreams!$A:$N,DK62,AF$7)))","v":""},{"$f":"IF($E62=\"\",\"\",IF(INDEX(E_SourceStreams!$A:$N,DL62,AG$7)=\"\",\"\",INDEX(E_SourceStreams!$A:$N,DL62,AG$7)))","v":""},{"$f":"IF($E62=\"\",\"\",IF(INDEX(E_SourceStreams!$A:$N,DM62,AH$7)=\"\",\"\",INDEX(E_SourceStreams!$A:$N,DM62,AH$7)))","v":""},{"$f":"IF($E62=\"\",\"\",IF(INDEX(E_SourceStreams!$A:$N,DN62,AI$7)=\"\",\"\",INDEX(E_SourceStreams!$A:$N,DN62,AI$7)))","v":""},{"$f":"IF($E62=\"\",\"\",IF(INDEX(E_SourceStreams!$A:$N,DO62,AJ$7)=\"\",\"\",INDEX(E_SourceStreams!$A:$N,DO62,AJ$7)))","v":""},{"$f":"IF($E62=\"\",\"\",IF(INDEX(E_SourceStreams!$A:$N,DP62,AK$7)=\"\",\"\",INDEX(E_SourceStreams!$A:$N,DP62,AK$7)))","v":""},{"$f":"IF($E62=\"\",\"\",IF(INDEX(E_SourceStreams!$A:$N,DQ62,AL$7)=\"\",\"\",INDEX(E_SourceStreams!$A:$N,DQ62,AL$7)))","v":""},{"$f":"IF($E62=\"\",\"\",IF(INDEX(E_SourceStreams!$A:$N,DR62,AM$7)=\"\",\"\",INDEX(E_SourceStreams!$A:$N,DR62,AM$7)))","v":""},{"$f":"IF($E62=\"\",\"\",IF(INDEX(E_SourceStreams!$A:$N,DS62,AN$7)=\"\",\"\",INDEX(E_SourceStreams!$A:$N,DS62,AN$7)))","v":""},{"$f":"IF($E62=\"\",\"\",IF(INDEX(E_SourceStreams!$A:$N,DT62,AO$7)=\"\",\"\",INDEX(E_SourceStreams!$A:$N,DT62,AO$7)))","v":""},{"$f":"IF($E62=\"\",\"\",IF(INDEX(E_SourceStreams!$A:$N,DU62,AP$7)=\"\",\"\",INDEX(E_SourceStreams!$A:$N,DU62,AP$7)))","v":""},{"$f":"IF($E62=\"\",\"\",IF(INDEX(E_SourceStreams!$A:$N,DV62,AQ$7)=\"\",\"\",INDEX(E_SourceStreams!$A:$N,DV62,AQ$7)))","v":""},{"$f":"IF($E62=\"\",\"\",IF(INDEX(E_SourceStreams!$A:$N,DW62,AR$7)=\"\",\"\",INDEX(E_SourceStreams!$A:$N,DW62,AR$7)))","v":""},{"$f":"IF($E62=\"\",\"\",IF(INDEX(E_SourceStreams!$A:$N,DX62,AS$7)=\"\",\"\",INDEX(E_SourceStreams!$A:$N,DX62,AS$7)))","v":""},{"$f":"IF($E62=\"\",\"\",IF(INDEX(E_SourceStreams!$A:$N,DY62,AT$7)=\"\",\"\",INDEX(E_SourceStreams!$A:$N,DY62,AT$7)))","v":""},{"$f":"IF($E62=\"\",\"\",IF(INDEX(E_SourceStreams!$A:$N,DZ62,AU$7)=\"\",\"\",INDEX(E_SourceStreams!$A:$N,DZ62,AU$7)))","v":""},{"$f":"IF($E62=\"\",\"\",IF(INDEX(E_SourceStreams!$A:$N,EA62,AV$7)=\"\",\"\",INDEX(E_SourceStreams!$A:$N,EA62,AV$7)))","v":""},{"$f":"IF($E62=\"\",\"\",IF(INDEX(E_SourceStreams!$A:$N,EB62,AW$7)=\"\",\"\",INDEX(E_SourceStreams!$A:$N,EB62,AW$7)))","v":""},{"$f":"IF($E62=\"\",\"\",IF(INDEX(E_SourceStreams!$A:$N,EC62,AX$7)=\"\",\"\",INDEX(E_SourceStreams!$A:$N,EC62,AX$7)))","v":""},{"$f":"IF($E62=\"\",\"\",IF(INDEX(E_SourceStreams!$A:$N,ED62,AY$7)=\"\",\"\",INDEX(E_SourceStreams!$A:$N,ED62,AY$7)))","v":""},{"$f":"IF($E62=\"\",\"\",IF(INDEX(E_SourceStreams!$A:$N,EE62,AZ$7)=\"\",\"\",INDEX(E_SourceStreams!$A:$N,EE62,AZ$7)))","v":""},{"$f":"IF($E62=\"\",\"\",IF(INDEX(E_SourceStreams!$A:$N,EF62,BA$7)=\"\",\"\",INDEX(E_SourceStreams!$A:$N,EF62,BA$7)))","v":""},{"$f":"IF($E62=\"\",\"\",IF(INDEX(E_SourceStreams!$A:$N,EG62,BB$7)=\"\",\"\",INDEX(E_SourceStreams!$A:$N,EG62,BB$7)))","v":""},{"$f":"IF($E62=\"\",\"\",IF(INDEX(E_SourceStreams!$A:$N,EH62,BC$7)=\"\",\"\",INDEX(E_SourceStreams!$A:$N,EH62,BC$7)))","v":""},{"$f":"IF($E62=\"\",\"\",IF(INDEX(E_SourceStreams!$A:$N,EI62,BD$7)=\"\",\"\",INDEX(E_SourceStreams!$A:$N,EI62,BD$7)))","v":""},{"$f":"IF($E62=\"\",\"\",IF(INDEX(E_SourceStreams!$A:$N,EJ62,BE$7)=\"\",\"\",INDEX(E_SourceStreams!$A:$N,EJ62,BE$7)))","v":""},{"$f":"IF($E62=\"\",\"\",IF(INDEX(E_SourceStreams!$A:$N,EK62,BF$7)=\"\",\"\",INDEX(E_SourceStreams!$A:$N,EK62,BF$7)))","v":""},{"$f":"IF($E62=\"\",\"\",IF(INDEX(E_SourceStreams!$A:$N,EL62,BG$7)=\"\",\"\",INDEX(E_SourceStreams!$A:$N,EL62,BG$7)))","v":""},{"$f":"IF($E62=\"\",\"\",IF(INDEX(E_SourceStreams!$A:$N,EM62,BH$7)=\"\",\"\",INDEX(E_SourceStreams!$A:$N,EM62,BH$7)))","v":""},{"$f":"IF($E62=\"\",\"\",IF(INDEX(E_SourceStreams!$A:$N,EN62,BI$7)=\"\",\"\",INDEX(E_SourceStreams!$A:$N,EN62,BI$7)))","v":""},{"$f":"IF($E62=\"\",\"\",IF(INDEX(E_SourceStreams!$A:$N,EO62,BJ$7)=\"\",\"\",INDEX(E_SourceStreams!$A:$N,EO62,BJ$7)))","v":""},{"$f":"IF($E62=\"\",\"\",IF(INDEX(E_SourceStreams!$A:$N,EP62,BK$7)=\"\",\"\",INDEX(E_SourceStreams!$A:$N,EP62,BK$7)))","v":""},{"$f":"IF($E62=\"\",\"\",IF(INDEX(E_SourceStreams!$A:$N,EQ62,BL$7)=\"\",\"\",INDEX(E_SourceStreams!$A:$N,EQ62,BL$7)))","v":""},{"$f":"IF($E62=\"\",\"\",IF(INDEX(E_SourceStreams!$A:$N,ER62,BM$7)=\"\",\"\",INDEX(E_SourceStreams!$A:$N,ER62,BM$7)))","v":""},{"$f":"IF($E62=\"\",\"\",IF(INDEX(E_SourceStreams!$A:$N,ES62,BN$7)=\"\",\"\",INDEX(E_SourceStreams!$A:$N,ES62,BN$7)))","v":""},{"$f":"IF($E62=\"\",\"\",IF(INDEX(E_SourceStreams!$A:$N,ET62,BO$7)=\"\",\"\",INDEX(E_SourceStreams!$A:$N,ET62,BO$7)))","v":""},{"$f":"IF($E62=\"\",\"\",IF(INDEX(E_SourceStreams!$A:$N,EU62,BP$7)=\"\",\"\",INDEX(E_SourceStreams!$A:$N,EU62,BP$7)))","v":""},{"$f":"IF($E62=\"\",\"\",IF(INDEX(E_SourceStreams!$A:$N,EV62,BQ$7)=\"\",\"\",INDEX(E_SourceStreams!$A:$N,EV62,BQ$7)))","v":""},{"$f":"IF($E62=\"\",\"\",IF(INDEX(E_SourceStreams!$A:$N,EW62,BR$7)=\"\",\"\",INDEX(E_SourceStreams!$A:$N,EW62,BR$7)))","v":""},{"$f":"IF($E62=\"\",\"\",IF(INDEX(E_SourceStreams!$A:$N,EX62,BS$7)=\"\",\"\",INDEX(E_SourceStreams!$A:$N,EX62,BS$7)))","v":""},{"$f":"IF($E62=\"\",\"\",IF(INDEX(E_SourceStreams!$A:$N,EY62,BT$7)=\"\",\"\",INDEX(E_SourceStreams!$A:$N,EY62,BT$7)))","v":""},null,null,null,null,null,null,null,null,null,null,null,null,null,null,null,"SourceCategory_",{"$f":"INDEX(C_InstallationDescription!$A$226:$A$332,ROWS($CI$11:CI62))=\"ausblenden\"","v":true},"SourceStreamName_",null,3501,3503,3505,3507,3509,3511,3513,3513,3513,3513,3513,3516,3520,3521,3522,3529,3539,3539,3539,3539,3539,3539,3539,3530,3540,3540,3540,3540,3540,3540,3540,3531,3541,3541,3541,3541,3541,3541,3541,3532,3542,3542,3542,3542,3542,3542,3542,3533,3543,3543,3543,3543,3543,3543,3543,3534,3544,3544,3544,3544,3544,3544,3544,3550]
[null,{"$f":"IF(COUNTIF($CK$10:CK63,TRUE)>0,\"\",INDEX(C_InstallationDescription!$E$226:$E$242,ROWS($A$11:A63)))","v":""},{"$f":"IF($E63=\"\",\"\",INDEX(C_InstallationDescription!F:F,MATCH($B63,C_InstallationDescription!$E:$E,0)))","v":""},{"$f":"IF($E63=\"\",\"\",INDEX(C_InstallationDescription!I:I,MATCH($B63,C_InstallationDescription!$E:$E,0)))","v":""},{"$f":"IF($B63=\"\",\"\",INDEX(C_InstallationDescription!F:F,MATCH($CJ63,C_InstallationDescription!$Q:$Q,0)))","v":""},{"$f":"IF($E63=\"\",\"\",INDEX(C_InstallationDescription!L:L,MATCH($CJ63,C_InstallationDescription!$Q:$Q,0)))","v":""},{"$f":"IF($E63=\"\",\"\",INDEX(C_InstallationDescription!M:M,MATCH($CJ63,C_InstallationDescription!$Q:$Q,0)))","v":""},{"$f":"IF($E63=\"\",\"\",INDEX(C_InstallationDescription!N:N,MATCH($CJ63,C_InstallationDescription!$Q:$Q,0)))","v":""},{"$f":"IF($E63=\"\",\"\",IF(INDEX(E_SourceStreams!$A:$N,CN63,I$7)=\"\",\"\",INDEX(E_SourceStreams!$A:$N,CN63,I$7)))","v":""},{"$f":"IF($E63=\"\",\"\",IF(INDEX(E_SourceStreams!$A:$N,CO63,J$7)=\"\",\"\",INDEX(E_SourceStreams!$A:$N,CO63,J$7)))","v":""},{"$f":"IF($E63=\"\",\"\",IF(INDEX(E_SourceStreams!$A:$N,CP63,K$7)=\"\",\"\",INDEX(E_SourceStreams!$A:$N,CP63,K$7)))","v":""},{"$f":"IF($E63=\"\",\"\",IF(INDEX(E_SourceStreams!$A:$N,CQ63,L$7)=\"\",\"\",INDEX(E_SourceStreams!$A:$N,CQ63,L$7)))","v":""},{"$f":"IF($E63=\"\",\"\",IF(INDEX(E_SourceStreams!$A:$N,CR63,M$7)=\"\",\"\",INDEX(E_SourceStreams!$A:$N,CR63,M$7)))","v":""},{"$f":"IF($E63=\"\",\"\",IF(INDEX(E_SourceStreams!$A:$N,CS63,N$7)=\"\",\"\",INDEX(E_SourceStreams!$A:$N,CS63,N$7)))","v":""},{"$f":"IF($E63=\"\",\"\",IF(INDEX(E_SourceStreams!$A:$N,CT63,O$7)=\"\",\"\",INDEX(E_SourceStreams!$A:$N,CT63,O$7)))","v":""},{"$f":"IF($E63=\"\",\"\",IF(INDEX(E_SourceStreams!$A:$N,CU63,P$7)=\"\",\"\",INDEX(E_SourceStreams!$A:$N,CU63,P$7)))","v":""},{"$f":"IF($E63=\"\",\"\",IF(INDEX(E_SourceStreams!$A:$N,CV63,Q$7)=\"\",\"\",INDEX(E_SourceStreams!$A:$N,CV63,Q$7)))","v":""},{"$f":"IF($E63=\"\",\"\",IF(INDEX(E_SourceStreams!$A:$N,CW63,R$7)=\"\",\"\",INDEX(E_SourceStreams!$A:$N,CW63,R$7)))","v":""},{"$f":"IF($E63=\"\",\"\",IF(INDEX(E_SourceStreams!$A:$N,CX63,S$7)=\"\",\"\",INDEX(E_SourceStreams!$A:$N,CX63,S$7)))","v":""},{"$f":"IF($E63=\"\",\"\",IF(INDEX(E_SourceStreams!$A:$N,CY63,T$7)=\"\",\"\",INDEX(E_SourceStreams!$A:$N,CY63,T$7)))","v":""},{"$f":"IF($E63=\"\",\"\",IF(INDEX(E_SourceStreams!$A:$N,CZ63,U$7)=\"\",\"\",INDEX(E_SourceStreams!$A:$N,CZ63,U$7)))","v":""},{"$f":"IF($E63=\"\",\"\",IF(INDEX(E_SourceStreams!$A:$N,DA63,V$7)=\"\",\"\",INDEX(E_SourceStreams!$A:$N,DA63,V$7)))","v":""},{"$f":"IF($E63=\"\",\"\",IF(INDEX(E_SourceStreams!$A:$N,DB63,W$7)=\"\",\"\",INDEX(E_SourceStreams!$A:$N,DB63,W$7)))","v":""},{"$f":"IF($E63=\"\",\"\",IF(INDEX(E_SourceStreams!$A:$N,DC63,X$7)=\"\",\"\",INDEX(E_SourceStreams!$A:$N,DC63,X$7)))","v":""},{"$f":"IF($E63=\"\",\"\",IF(INDEX(E_SourceStreams!$A:$N,DD63,Y$7)=\"\",\"\",INDEX(E_SourceStreams!$A:$N,DD63,Y$7)))","v":""},{"$f":"IF($E63=\"\",\"\",IF(INDEX(E_SourceStreams!$A:$N,DE63,Z$7)=\"\",\"\",INDEX(E_SourceStreams!$A:$N,DE63,Z$7)))","v":""},{"$f":"IF($E63=\"\",\"\",IF(INDEX(E_SourceStreams!$A:$N,DF63,AA$7)=\"\",\"\",INDEX(E_SourceStreams!$A:$N,DF63,AA$7)))","v":""},{"$f":"IF($E63=\"\",\"\",IF(INDEX(E_SourceStreams!$A:$N,DG63,AB$7)=\"\",\"\",INDEX(E_SourceStreams!$A:$N,DG63,AB$7)))","v":""},{"$f":"IF($E63=\"\",\"\",IF(INDEX(E_SourceStreams!$A:$N,DH63,AC$7)=\"\",\"\",INDEX(E_SourceStreams!$A:$N,DH63,AC$7)))","v":""},{"$f":"IF($E63=\"\",\"\",IF(INDEX(E_SourceStreams!$A:$N,DI63,AD$7)=\"\",\"\",INDEX(E_SourceStreams!$A:$N,DI63,AD$7)))","v":""},{"$f":"IF($E63=\"\",\"\",IF(INDEX(E_SourceStreams!$A:$N,DJ63,AE$7)=\"\",\"\",INDEX(E_SourceStreams!$A:$N,DJ63,AE$7)))","v":""},{"$f":"IF($E63=\"\",\"\",IF(INDEX(E_SourceStreams!$A:$N,DK63,AF$7)=\"\",\"\",INDEX(E_SourceStreams!$A:$N,DK63,AF$7)))","v":""},{"$f":"IF($E63=\"\",\"\",IF(INDEX(E_SourceStreams!$A:$N,DL63,AG$7)=\"\",\"\",INDEX(E_SourceStreams!$A:$N,DL63,AG$7)))","v":""},{"$f":"IF($E63=\"\",\"\",IF(INDEX(E_SourceStreams!$A:$N,DM63,AH$7)=\"\",\"\",INDEX(E_SourceStreams!$A:$N,DM63,AH$7)))","v":""},{"$f":"IF($E63=\"\",\"\",IF(INDEX(E_SourceStreams!$A:$N,DN63,AI$7)=\"\",\"\",INDEX(E_SourceStreams!$A:$N,DN63,AI$7)))","v":""},{"$f":"IF($E63=\"\",\"\",IF(INDEX(E_SourceStreams!$A:$N,DO63,AJ$7)=\"\",\"\",INDEX(E_SourceStreams!$A:$N,DO63,AJ$7)))","v":""},{"$f":"IF($E63=\"\",\"\",IF(INDEX(E_SourceStreams!$A:$N,DP63,AK$7)=\"\",\"\",INDEX(E_SourceStreams!$A:$N,DP63,AK$7)))","v":""},{"$f":"IF($E63=\"\",\"\",IF(INDEX(E_SourceStreams!$A:$N,DQ63,AL$7)=\"\",\"\",INDEX(E_SourceStreams!$A:$N,DQ63,AL$7)))","v":""},{"$f":"IF($E63=\"\",\"\",IF(INDEX(E_SourceStreams!$A:$N,DR63,AM$7)=\"\",\"\",INDEX(E_SourceStreams!$A:$N,DR63,AM$7)))","v":""},{"$f":"IF($E63=\"\",\"\",IF(INDEX(E_SourceStreams!$A:$N,DS63,AN$7)=\"\",\"\",INDEX(E_SourceStreams!$A:$N,DS63,AN$7)))","v":""},{"$f":"IF($E63=\"\",\"\",IF(INDEX(E_SourceStreams!$A:$N,DT63,AO$7)=\"\",\"\",INDEX(E_SourceStreams!$A:$N,DT63,AO$7)))","v":""},{"$f":"IF($E63=\"\",\"\",IF(INDEX(E_SourceStreams!$A:$N,DU63,AP$7)=\"\",\"\",INDEX(E_SourceStreams!$A:$N,DU63,AP$7)))","v":""},{"$f":"IF($E63=\"\",\"\",IF(INDEX(E_SourceStreams!$A:$N,DV63,AQ$7)=\"\",\"\",INDEX(E_SourceStreams!$A:$N,DV63,AQ$7)))","v":""},{"$f":"IF($E63=\"\",\"\",IF(INDEX(E_SourceStreams!$A:$N,DW63,AR$7)=\"\",\"\",INDEX(E_SourceStreams!$A:$N,DW63,AR$7)))","v":""},{"$f":"IF($E63=\"\",\"\",IF(INDEX(E_SourceStreams!$A:$N,DX63,AS$7)=\"\",\"\",INDEX(E_SourceStreams!$A:$N,DX63,AS$7)))","v":""},{"$f":"IF($E63=\"\",\"\",IF(INDEX(E_SourceStreams!$A:$N,DY63,AT$7)=\"\",\"\",INDEX(E_SourceStreams!$A:$N,DY63,AT$7)))","v":""},{"$f":"IF($E63=\"\",\"\",IF(INDEX(E_SourceStreams!$A:$N,DZ63,AU$7)=\"\",\"\",INDEX(E_SourceStreams!$A:$N,DZ63,AU$7)))","v":""},{"$f":"IF($E63=\"\",\"\",IF(INDEX(E_SourceStreams!$A:$N,EA63,AV$7)=\"\",\"\",INDEX(E_SourceStreams!$A:$N,EA63,AV$7)))","v":""},{"$f":"IF($E63=\"\",\"\",IF(INDEX(E_SourceStreams!$A:$N,EB63,AW$7)=\"\",\"\",INDEX(E_SourceStreams!$A:$N,EB63,AW$7)))","v":""},{"$f":"IF($E63=\"\",\"\",IF(INDEX(E_SourceStreams!$A:$N,EC63,AX$7)=\"\",\"\",INDEX(E_SourceStreams!$A:$N,EC63,AX$7)))","v":""},{"$f":"IF($E63=\"\",\"\",IF(INDEX(E_SourceStreams!$A:$N,ED63,AY$7)=\"\",\"\",INDEX(E_SourceStreams!$A:$N,ED63,AY$7)))","v":""},{"$f":"IF($E63=\"\",\"\",IF(INDEX(E_SourceStreams!$A:$N,EE63,AZ$7)=\"\",\"\",INDEX(E_SourceStreams!$A:$N,EE63,AZ$7)))","v":""},{"$f":"IF($E63=\"\",\"\",IF(INDEX(E_SourceStreams!$A:$N,EF63,BA$7)=\"\",\"\",INDEX(E_SourceStreams!$A:$N,EF63,BA$7)))","v":""},{"$f":"IF($E63=\"\",\"\",IF(INDEX(E_SourceStreams!$A:$N,EG63,BB$7)=\"\",\"\",INDEX(E_SourceStreams!$A:$N,EG63,BB$7)))","v":""},{"$f":"IF($E63=\"\",\"\",IF(INDEX(E_SourceStreams!$A:$N,EH63,BC$7)=\"\",\"\",INDEX(E_SourceStreams!$A:$N,EH63,BC$7)))","v":""},{"$f":"IF($E63=\"\",\"\",IF(INDEX(E_SourceStreams!$A:$N,EI63,BD$7)=\"\",\"\",INDEX(E_SourceStreams!$A:$N,EI63,BD$7)))","v":""},{"$f":"IF($E63=\"\",\"\",IF(INDEX(E_SourceStreams!$A:$N,EJ63,BE$7)=\"\",\"\",INDEX(E_SourceStreams!$A:$N,EJ63,BE$7)))","v":""},{"$f":"IF($E63=\"\",\"\",IF(INDEX(E_SourceStreams!$A:$N,EK63,BF$7)=\"\",\"\",INDEX(E_SourceStreams!$A:$N,EK63,BF$7)))","v":""},{"$f":"IF($E63=\"\",\"\",IF(INDEX(E_SourceStreams!$A:$N,EL63,BG$7)=\"\",\"\",INDEX(E_SourceStreams!$A:$N,EL63,BG$7)))","v":""},{"$f":"IF($E63=\"\",\"\",IF(INDEX(E_SourceStreams!$A:$N,EM63,BH$7)=\"\",\"\",INDEX(E_SourceStreams!$A:$N,EM63,BH$7)))","v":""},{"$f":"IF($E63=\"\",\"\",IF(INDEX(E_SourceStreams!$A:$N,EN63,BI$7)=\"\",\"\",INDEX(E_SourceStreams!$A:$N,EN63,BI$7)))","v":""},{"$f":"IF($E63=\"\",\"\",IF(INDEX(E_SourceStreams!$A:$N,EO63,BJ$7)=\"\",\"\",INDEX(E_SourceStreams!$A:$N,EO63,BJ$7)))","v":""},{"$f":"IF($E63=\"\",\"\",IF(INDEX(E_SourceStreams!$A:$N,EP63,BK$7)=\"\",\"\",INDEX(E_SourceStreams!$A:$N,EP63,BK$7)))","v":""},{"$f":"IF($E63=\"\",\"\",IF(INDEX(E_SourceStreams!$A:$N,EQ63,BL$7)=\"\",\"\",INDEX(E_SourceStreams!$A:$N,EQ63,BL$7)))","v":""},{"$f":"IF($E63=\"\",\"\",IF(INDEX(E_SourceStreams!$A:$N,ER63,BM$7)=\"\",\"\",INDEX(E_SourceStreams!$A:$N,ER63,BM$7)))","v":""},{"$f":"IF($E63=\"\",\"\",IF(INDEX(E_SourceStreams!$A:$N,ES63,BN$7)=\"\",\"\",INDEX(E_SourceStreams!$A:$N,ES63,BN$7)))","v":""},{"$f":"IF($E63=\"\",\"\",IF(INDEX(E_SourceStreams!$A:$N,ET63,BO$7)=\"\",\"\",INDEX(E_SourceStreams!$A:$N,ET63,BO$7)))","v":""},{"$f":"IF($E63=\"\",\"\",IF(INDEX(E_SourceStreams!$A:$N,EU63,BP$7)=\"\",\"\",INDEX(E_SourceStreams!$A:$N,EU63,BP$7)))","v":""},{"$f":"IF($E63=\"\",\"\",IF(INDEX(E_SourceStreams!$A:$N,EV63,BQ$7)=\"\",\"\",INDEX(E_SourceStreams!$A:$N,EV63,BQ$7)))","v":""},{"$f":"IF($E63=\"\",\"\",IF(INDEX(E_SourceStreams!$A:$N,EW63,BR$7)=\"\",\"\",INDEX(E_SourceStreams!$A:$N,EW63,BR$7)))","v":""},{"$f":"IF($E63=\"\",\"\",IF(INDEX(E_SourceStreams!$A:$N,EX63,BS$7)=\"\",\"\",INDEX(E_SourceStreams!$A:$N,EX63,BS$7)))","v":""},{"$f":"IF($E63=\"\",\"\",IF(INDEX(E_SourceStreams!$A:$N,EY63,BT$7)=\"\",\"\",INDEX(E_SourceStreams!$A:$N,EY63,BT$7)))","v":""},null,null,null,null,null,null,null,null,null,null,null,null,null,null,null,"SourceCategory_",{"$f":"INDEX(C_InstallationDescription!$A$226:$A$332,ROWS($CI$11:CI63))=\"ausblenden\"","v":true},"SourceStreamName_",null,3567,3569,3571,3573,3575,3577,3579,3579,3579,3579,3579,3582,3586,3587,3588,3595,3605,3605,3605,3605,3605,3605,3605,3596,3606,3606,3606,3606,3606,3606,3606,3597,3607,3607,3607,3607,3607,3607,3607,3598,3608,3608,3608,3608,3608,3608,3608,3599,3609,3609,3609,3609,3609,3609,3609,3600,3610,3610,3610,3610,3610,3610,3610,3616]
[null,{"$f":"IF(COUNTIF($CK$10:CK64,TRUE)>0,\"\",INDEX(C_InstallationDescription!$E$226:$E$242,ROWS($A$11:A64)))","v":""},{"$f":"IF($E64=\"\",\"\",INDEX(C_InstallationDescription!F:F,MATCH($B64,C_InstallationDescription!$E:$E,0)))","v":""},{"$f":"IF($E64=\"\",\"\",INDEX(C_InstallationDescription!I:I,MATCH($B64,C_InstallationDescription!$E:$E,0)))","v":""},{"$f":"IF($B64=\"\",\"\",INDEX(C_InstallationDescription!F:F,MATCH($CJ64,C_InstallationDescription!$Q:$Q,0)))","v":""},{"$f":"IF($E64=\"\",\"\",INDEX(C_InstallationDescription!L:L,MATCH($CJ64,C_InstallationDescription!$Q:$Q,0)))","v":""},{"$f":"IF($E64=\"\",\"\",INDEX(C_InstallationDescription!M:M,MATCH($CJ64,C_InstallationDescription!$Q:$Q,0)))","v":""},{"$f":"IF($E64=\"\",\"\",INDEX(C_InstallationDescription!N:N,MATCH($CJ64,C_InstallationDescription!$Q:$Q,0)))","v":""},{"$f":"IF($E64=\"\",\"\",IF(INDEX(E_SourceStreams!$A:$N,CN64,I$7)=\"\",\"\",INDEX(E_SourceStreams!$A:$N,CN64,I$7)))","v":""},{"$f":"IF($E64=\"\",\"\",IF(INDEX(E_SourceStreams!$A:$N,CO64,J$7)=\"\",\"\",INDEX(E_SourceStreams!$A:$N,CO64,J$7)))","v":""},{"$f":"IF($E64=\"\",\"\",IF(INDEX(E_SourceStreams!$A:$N,CP64,K$7)=\"\",\"\",INDEX(E_SourceStreams!$A:$N,CP64,K$7)))","v":""},{"$f":"IF($E64=\"\",\"\",IF(INDEX(E_SourceStreams!$A:$N,CQ64,L$7)=\"\",\"\",INDEX(E_SourceStreams!$A:$N,CQ64,L$7)))","v":""},{"$f":"IF($E64=\"\",\"\",IF(INDEX(E_SourceStreams!$A:$N,CR64,M$7)=\"\",\"\",INDEX(E_SourceStreams!$A:$N,CR64,M$7)))","v":""},{"$f":"IF($E64=\"\",\"\",IF(INDEX(E_SourceStreams!$A:$N,CS64,N$7)=\"\",\"\",INDEX(E_SourceStreams!$A:$N,CS64,N$7)))","v":""},{"$f":"IF($E64=\"\",\"\",IF(INDEX(E_SourceStreams!$A:$N,CT64,O$7)=\"\",\"\",INDEX(E_SourceStreams!$A:$N,CT64,O$7)))","v":""},{"$f":"IF($E64=\"\",\"\",IF(INDEX(E_SourceStreams!$A:$N,CU64,P$7)=\"\",\"\",INDEX(E_SourceStreams!$A:$N,CU64,P$7)))","v":""},{"$f":"IF($E64=\"\",\"\",IF(INDEX(E_SourceStreams!$A:$N,CV64,Q$7)=\"\",\"\",INDEX(E_SourceStreams!$A:$N,CV64,Q$7)))","v":""},{"$f":"IF($E64=\"\",\"\",IF(INDEX(E_SourceStreams!$A:$N,CW64,R$7)=\"\",\"\",INDEX(E_SourceStreams!$A:$N,CW64,R$7)))","v":""},{"$f":"IF($E64=\"\",\"\",IF(INDEX(E_SourceStreams!$A:$N,CX64,S$7)=\"\",\"\",INDEX(E_SourceStreams!$A:$N,CX64,S$7)))","v":""},{"$f":"IF($E64=\"\",\"\",IF(INDEX(E_SourceStreams!$A:$N,CY64,T$7)=\"\",\"\",INDEX(E_SourceStreams!$A:$N,CY64,T$7)))","v":""},{"$f":"IF($E64=\"\",\"\",IF(INDEX(E_SourceStreams!$A:$N,CZ64,U$7)=\"\",\"\",INDEX(E_SourceStreams!$A:$N,CZ64,U$7)))","v":""},{"$f":"IF($E64=\"\",\"\",IF(INDEX(E_SourceStreams!$A:$N,DA64,V$7)=\"\",\"\",INDEX(E_SourceStreams!$A:$N,DA64,V$7)))","v":""},{"$f":"IF($E64=\"\",\"\",IF(INDEX(E_SourceStreams!$A:$N,DB64,W$7)=\"\",\"\",INDEX(E_SourceStreams!$A:$N,DB64,W$7)))","v":""},{"$f":"IF($E64=\"\",\"\",IF(INDEX(E_SourceStreams!$A:$N,DC64,X$7)=\"\",\"\",INDEX(E_SourceStreams!$A:$N,DC64,X$7)))","v":""},{"$f":"IF($E64=\"\",\"\",IF(INDEX(E_SourceStreams!$A:$N,DD64,Y$7)=\"\",\"\",INDEX(E_SourceStreams!$A:$N,DD64,Y$7)))","v":""},{"$f":"IF($E64=\"\",\"\",IF(INDEX(E_SourceStreams!$A:$N,DE64,Z$7)=\"\",\"\",INDEX(E_SourceStreams!$A:$N,DE64,Z$7)))","v":""},{"$f":"IF($E64=\"\",\"\",IF(INDEX(E_SourceStreams!$A:$N,DF64,AA$7)=\"\",\"\",INDEX(E_SourceStreams!$A:$N,DF64,AA$7)))","v":""},{"$f":"IF($E64=\"\",\"\",IF(INDEX(E_SourceStreams!$A:$N,DG64,AB$7)=\"\",\"\",INDEX(E_SourceStreams!$A:$N,DG64,AB$7)))","v":""},{"$f":"IF($E64=\"\",\"\",IF(INDEX(E_SourceStreams!$A:$N,DH64,AC$7)=\"\",\"\",INDEX(E_SourceStreams!$A:$N,DH64,AC$7)))","v":""},{"$f":"IF($E64=\"\",\"\",IF(INDEX(E_SourceStreams!$A:$N,DI64,AD$7)=\"\",\"\",INDEX(E_SourceStreams!$A:$N,DI64,AD$7)))","v":""},{"$f":"IF($E64=\"\",\"\",IF(INDEX(E_SourceStreams!$A:$N,DJ64,AE$7)=\"\",\"\",INDEX(E_SourceStreams!$A:$N,DJ64,AE$7)))","v":""},{"$f":"IF($E64=\"\",\"\",IF(INDEX(E_SourceStreams!$A:$N,DK64,AF$7)=\"\",\"\",INDEX(E_SourceStreams!$A:$N,DK64,AF$7)))","v":""},{"$f":"IF($E64=\"\",\"\",IF(INDEX(E_SourceStreams!$A:$N,DL64,AG$7)=\"\",\"\",INDEX(E_SourceStreams!$A:$N,DL64,AG$7)))","v":""},{"$f":"IF($E64=\"\",\"\",IF(INDEX(E_SourceStreams!$A:$N,DM64,AH$7)=\"\",\"\",INDEX(E_SourceStreams!$A:$N,DM64,AH$7)))","v":""},{"$f":"IF($E64=\"\",\"\",IF(INDEX(E_SourceStreams!$A:$N,DN64,AI$7)=\"\",\"\",INDEX(E_SourceStreams!$A:$N,DN64,AI$7)))","v":""},{"$f":"IF($E64=\"\",\"\",IF(INDEX(E_SourceStreams!$A:$N,DO64,AJ$7)=\"\",\"\",INDEX(E_SourceStreams!$A:$N,DO64,AJ$7)))","v":""},{"$f":"IF($E64=\"\",\"\",IF(INDEX(E_SourceStreams!$A:$N,DP64,AK$7)=\"\",\"\",INDEX(E_SourceStreams!$A:$N,DP64,AK$7)))","v":""},{"$f":"IF($E64=\"\",\"\",IF(INDEX(E_SourceStreams!$A:$N,DQ64,AL$7)=\"\",\"\",INDEX(E_SourceStreams!$A:$N,DQ64,AL$7)))","v":""},{"$f":"IF($E64=\"\",\"\",IF(INDEX(E_SourceStreams!$A:$N,DR64,AM$7)=\"\",\"\",INDEX(E_SourceStreams!$A:$N,DR64,AM$7)))","v":""},{"$f":"IF($E64=\"\",\"\",IF(INDEX(E_SourceStreams!$A:$N,DS64,AN$7)=\"\",\"\",INDEX(E_SourceStreams!$A:$N,DS64,AN$7)))","v":""},{"$f":"IF($E64=\"\",\"\",IF(INDEX(E_SourceStreams!$A:$N,DT64,AO$7)=\"\",\"\",INDEX(E_SourceStreams!$A:$N,DT64,AO$7)))","v":""},{"$f":"IF($E64=\"\",\"\",IF(INDEX(E_SourceStreams!$A:$N,DU64,AP$7)=\"\",\"\",INDEX(E_SourceStreams!$A:$N,DU64,AP$7)))","v":""},{"$f":"IF($E64=\"\",\"\",IF(INDEX(E_SourceStreams!$A:$N,DV64,AQ$7)=\"\",\"\",INDEX(E_SourceStreams!$A:$N,DV64,AQ$7)))","v":""},{"$f":"IF($E64=\"\",\"\",IF(INDEX(E_SourceStreams!$A:$N,DW64,AR$7)=\"\",\"\",INDEX(E_SourceStreams!$A:$N,DW64,AR$7)))","v":""},{"$f":"IF($E64=\"\",\"\",IF(INDEX(E_SourceStreams!$A:$N,DX64,AS$7)=\"\",\"\",INDEX(E_SourceStreams!$A:$N,DX64,AS$7)))","v":""},{"$f":"IF($E64=\"\",\"\",IF(INDEX(E_SourceStreams!$A:$N,DY64,AT$7)=\"\",\"\",INDEX(E_SourceStreams!$A:$N,DY64,AT$7)))","v":""},{"$f":"IF($E64=\"\",\"\",IF(INDEX(E_SourceStreams!$A:$N,DZ64,AU$7)=\"\",\"\",INDEX(E_SourceStreams!$A:$N,DZ64,AU$7)))","v":""},{"$f":"IF($E64=\"\",\"\",IF(INDEX(E_SourceStreams!$A:$N,EA64,AV$7)=\"\",\"\",INDEX(E_SourceStreams!$A:$N,EA64,AV$7)))","v":""},{"$f":"IF($E64=\"\",\"\",IF(INDEX(E_SourceStreams!$A:$N,EB64,AW$7)=\"\",\"\",INDEX(E_SourceStreams!$A:$N,EB64,AW$7)))","v":""},{"$f":"IF($E64=\"\",\"\",IF(INDEX(E_SourceStreams!$A:$N,EC64,AX$7)=\"\",\"\",INDEX(E_SourceStreams!$A:$N,EC64,AX$7)))","v":""},{"$f":"IF($E64=\"\",\"\",IF(INDEX(E_SourceStreams!$A:$N,ED64,AY$7)=\"\",\"\",INDEX(E_SourceStreams!$A:$N,ED64,AY$7)))","v":""},{"$f":"IF($E64=\"\",\"\",IF(INDEX(E_SourceStreams!$A:$N,EE64,AZ$7)=\"\",\"\",INDEX(E_SourceStreams!$A:$N,EE64,AZ$7)))","v":""},{"$f":"IF($E64=\"\",\"\",IF(INDEX(E_SourceStreams!$A:$N,EF64,BA$7)=\"\",\"\",INDEX(E_SourceStreams!$A:$N,EF64,BA$7)))","v":""},{"$f":"IF($E64=\"\",\"\",IF(INDEX(E_SourceStreams!$A:$N,EG64,BB$7)=\"\",\"\",INDEX(E_SourceStreams!$A:$N,EG64,BB$7)))","v":""},{"$f":"IF($E64=\"\",\"\",IF(INDEX(E_SourceStreams!$A:$N,EH64,BC$7)=\"\",\"\",INDEX(E_SourceStreams!$A:$N,EH64,BC$7)))","v":""},{"$f":"IF($E64=\"\",\"\",IF(INDEX(E_SourceStreams!$A:$N,EI64,BD$7)=\"\",\"\",INDEX(E_SourceStreams!$A:$N,EI64,BD$7)))","v":""},{"$f":"IF($E64=\"\",\"\",IF(INDEX(E_SourceStreams!$A:$N,EJ64,BE$7)=\"\",\"\",INDEX(E_SourceStreams!$A:$N,EJ64,BE$7)))","v":""},{"$f":"IF($E64=\"\",\"\",IF(INDEX(E_SourceStreams!$A:$N,EK64,BF$7)=\"\",\"\",INDEX(E_SourceStreams!$A:$N,EK64,BF$7)))","v":""},{"$f":"IF($E64=\"\",\"\",IF(INDEX(E_SourceStreams!$A:$N,EL64,BG$7)=\"\",\"\",INDEX(E_SourceStreams!$A:$N,EL64,BG$7)))","v":""},{"$f":"IF($E64=\"\",\"\",IF(INDEX(E_SourceStreams!$A:$N,EM64,BH$7)=\"\",\"\",INDEX(E_SourceStreams!$A:$N,EM64,BH$7)))","v":""},{"$f":"IF($E64=\"\",\"\",IF(INDEX(E_SourceStreams!$A:$N,EN64,BI$7)=\"\",\"\",INDEX(E_SourceStreams!$A:$N,EN64,BI$7)))","v":""},{"$f":"IF($E64=\"\",\"\",IF(INDEX(E_SourceStreams!$A:$N,EO64,BJ$7)=\"\",\"\",INDEX(E_SourceStreams!$A:$N,EO64,BJ$7)))","v":""},{"$f":"IF($E64=\"\",\"\",IF(INDEX(E_SourceStreams!$A:$N,EP64,BK$7)=\"\",\"\",INDEX(E_SourceStreams!$A:$N,EP64,BK$7)))","v":""},{"$f":"IF($E64=\"\",\"\",IF(INDEX(E_SourceStreams!$A:$N,EQ64,BL$7)=\"\",\"\",INDEX(E_SourceStreams!$A:$N,EQ64,BL$7)))","v":""},{"$f":"IF($E64=\"\",\"\",IF(INDEX(E_SourceStreams!$A:$N,ER64,BM$7)=\"\",\"\",INDEX(E_SourceStreams!$A:$N,ER64,BM$7)))","v":""},{"$f":"IF($E64=\"\",\"\",IF(INDEX(E_SourceStreams!$A:$N,ES64,BN$7)=\"\",\"\",INDEX(E_SourceStreams!$A:$N,ES64,BN$7)))","v":""},{"$f":"IF($E64=\"\",\"\",IF(INDEX(E_SourceStreams!$A:$N,ET64,BO$7)=\"\",\"\",INDEX(E_SourceStreams!$A:$N,ET64,BO$7)))","v":""},{"$f":"IF($E64=\"\",\"\",IF(INDEX(E_SourceStreams!$A:$N,EU64,BP$7)=\"\",\"\",INDEX(E_SourceStreams!$A:$N,EU64,BP$7)))","v":""},{"$f":"IF($E64=\"\",\"\",IF(INDEX(E_SourceStreams!$A:$N,EV64,BQ$7)=\"\",\"\",INDEX(E_SourceStreams!$A:$N,EV64,BQ$7)))","v":""},{"$f":"IF($E64=\"\",\"\",IF(INDEX(E_SourceStreams!$A:$N,EW64,BR$7)=\"\",\"\",INDEX(E_SourceStreams!$A:$N,EW64,BR$7)))","v":""},{"$f":"IF($E64=\"\",\"\",IF(INDEX(E_SourceStreams!$A:$N,EX64,BS$7)=\"\",\"\",INDEX(E_SourceStreams!$A:$N,EX64,BS$7)))","v":""},{"$f":"IF($E64=\"\",\"\",IF(INDEX(E_SourceStreams!$A:$N,EY64,BT$7)=\"\",\"\",INDEX(E_SourceStreams!$A:$N,EY64,BT$7)))","v":""},null,null,null,null,null,null,null,null,null,null,null,null,null,null,null,"SourceCategory_",{"$f":"INDEX(C_InstallationDescription!$A$226:$A$332,ROWS($CI$11:CI64))=\"ausblenden\"","v":true},"SourceStreamName_",null,3633,3635,3637,3639,3641,3643,3645,3645,3645,3645,3645,3648,3652,3653,3654,3661,3671,3671,3671,3671,3671,3671,3671,3662,3672,3672,3672,3672,3672,3672,3672,3663,3673,3673,3673,3673,3673,3673,3673,3664,3674,3674,3674,3674,3674,3674,3674,3665,3675,3675,3675,3675,3675,3675,3675,3666,3676,3676,3676,3676,3676,3676,3676,3682]
[null,{"$f":"IF(COUNTIF($CK$10:CK65,TRUE)>0,\"\",INDEX(C_InstallationDescription!$E$226:$E$242,ROWS($A$11:A65)))","v":""},{"$f":"IF($E65=\"\",\"\",INDEX(C_InstallationDescription!F:F,MATCH($B65,C_InstallationDescription!$E:$E,0)))","v":""},{"$f":"IF($E65=\"\",\"\",INDEX(C_InstallationDescription!I:I,MATCH($B65,C_InstallationDescription!$E:$E,0)))","v":""},{"$f":"IF($B65=\"\",\"\",INDEX(C_InstallationDescription!F:F,MATCH($CJ65,C_InstallationDescription!$Q:$Q,0)))","v":""},{"$f":"IF($E65=\"\",\"\",INDEX(C_InstallationDescription!L:L,MATCH($CJ65,C_InstallationDescription!$Q:$Q,0)))","v":""},{"$f":"IF($E65=\"\",\"\",INDEX(C_InstallationDescription!M:M,MATCH($CJ65,C_InstallationDescription!$Q:$Q,0)))","v":""},{"$f":"IF($E65=\"\",\"\",INDEX(C_InstallationDescription!N:N,MATCH($CJ65,C_InstallationDescription!$Q:$Q,0)))","v":""},{"$f":"IF($E65=\"\",\"\",IF(INDEX(E_SourceStreams!$A:$N,CN65,I$7)=\"\",\"\",INDEX(E_SourceStreams!$A:$N,CN65,I$7)))","v":""},{"$f":"IF($E65=\"\",\"\",IF(INDEX(E_SourceStreams!$A:$N,CO65,J$7)=\"\",\"\",INDEX(E_SourceStreams!$A:$N,CO65,J$7)))","v":""},{"$f":"IF($E65=\"\",\"\",IF(INDEX(E_SourceStreams!$A:$N,CP65,K$7)=\"\",\"\",INDEX(E_SourceStreams!$A:$N,CP65,K$7)))","v":""},{"$f":"IF($E65=\"\",\"\",IF(INDEX(E_SourceStreams!$A:$N,CQ65,L$7)=\"\",\"\",INDEX(E_SourceStreams!$A:$N,CQ65,L$7)))","v":""},{"$f":"IF($E65=\"\",\"\",IF(INDEX(E_SourceStreams!$A:$N,CR65,M$7)=\"\",\"\",INDEX(E_SourceStreams!$A:$N,CR65,M$7)))","v":""},{"$f":"IF($E65=\"\",\"\",IF(INDEX(E_SourceStreams!$A:$N,CS65,N$7)=\"\",\"\",INDEX(E_SourceStreams!$A:$N,CS65,N$7)))","v":""},{"$f":"IF($E65=\"\",\"\",IF(INDEX(E_SourceStreams!$A:$N,CT65,O$7)=\"\",\"\",INDEX(E_SourceStreams!$A:$N,CT65,O$7)))","v":""},{"$f":"IF($E65=\"\",\"\",IF(INDEX(E_SourceStreams!$A:$N,CU65,P$7)=\"\",\"\",INDEX(E_SourceStreams!$A:$N,CU65,P$7)))","v":""},{"$f":"IF($E65=\"\",\"\",IF(INDEX(E_SourceStreams!$A:$N,CV65,Q$7)=\"\",\"\",INDEX(E_SourceStreams!$A:$N,CV65,Q$7)))","v":""},{"$f":"IF($E65=\"\",\"\",IF(INDEX(E_SourceStreams!$A:$N,CW65,R$7)=\"\",\"\",INDEX(E_SourceStreams!$A:$N,CW65,R$7)))","v":""},{"$f":"IF($E65=\"\",\"\",IF(INDEX(E_SourceStreams!$A:$N,CX65,S$7)=\"\",\"\",INDEX(E_SourceStreams!$A:$N,CX65,S$7)))","v":""},{"$f":"IF($E65=\"\",\"\",IF(INDEX(E_SourceStreams!$A:$N,CY65,T$7)=\"\",\"\",INDEX(E_SourceStreams!$A:$N,CY65,T$7)))","v":""},{"$f":"IF($E65=\"\",\"\",IF(INDEX(E_SourceStreams!$A:$N,CZ65,U$7)=\"\",\"\",INDEX(E_SourceStreams!$A:$N,CZ65,U$7)))","v":""},{"$f":"IF($E65=\"\",\"\",IF(INDEX(E_SourceStreams!$A:$N,DA65,V$7)=\"\",\"\",INDEX(E_SourceStreams!$A:$N,DA65,V$7)))","v":""},{"$f":"IF($E65=\"\",\"\",IF(INDEX(E_SourceStreams!$A:$N,DB65,W$7)=\"\",\"\",INDEX(E_SourceStreams!$A:$N,DB65,W$7)))","v":""},{"$f":"IF($E65=\"\",\"\",IF(INDEX(E_SourceStreams!$A:$N,DC65,X$7)=\"\",\"\",INDEX(E_SourceStreams!$A:$N,DC65,X$7)))","v":""},{"$f":"IF($E65=\"\",\"\",IF(INDEX(E_SourceStreams!$A:$N,DD65,Y$7)=\"\",\"\",INDEX(E_SourceStreams!$A:$N,DD65,Y$7)))","v":""},{"$f":"IF($E65=\"\",\"\",IF(INDEX(E_SourceStreams!$A:$N,DE65,Z$7)=\"\",\"\",INDEX(E_SourceStreams!$A:$N,DE65,Z$7)))","v":""},{"$f":"IF($E65=\"\",\"\",IF(INDEX(E_SourceStreams!$A:$N,DF65,AA$7)=\"\",\"\",INDEX(E_SourceStreams!$A:$N,DF65,AA$7)))","v":""},{"$f":"IF($E65=\"\",\"\",IF(INDEX(E_SourceStreams!$A:$N,DG65,AB$7)=\"\",\"\",INDEX(E_SourceStreams!$A:$N,DG65,AB$7)))","v":""},{"$f":"IF($E65=\"\",\"\",IF(INDEX(E_SourceStreams!$A:$N,DH65,AC$7)=\"\",\"\",INDEX(E_SourceStreams!$A:$N,DH65,AC$7)))","v":""},{"$f":"IF($E65=\"\",\"\",IF(INDEX(E_SourceStreams!$A:$N,DI65,AD$7)=\"\",\"\",INDEX(E_SourceStreams!$A:$N,DI65,AD$7)))","v":""},{"$f":"IF($E65=\"\",\"\",IF(INDEX(E_SourceStreams!$A:$N,DJ65,AE$7)=\"\",\"\",INDEX(E_SourceStreams!$A:$N,DJ65,AE$7)))","v":""},{"$f":"IF($E65=\"\",\"\",IF(INDEX(E_SourceStreams!$A:$N,DK65,AF$7)=\"\",\"\",INDEX(E_SourceStreams!$A:$N,DK65,AF$7)))","v":""},{"$f":"IF($E65=\"\",\"\",IF(INDEX(E_SourceStreams!$A:$N,DL65,AG$7)=\"\",\"\",INDEX(E_SourceStreams!$A:$N,DL65,AG$7)))","v":""},{"$f":"IF($E65=\"\",\"\",IF(INDEX(E_SourceStreams!$A:$N,DM65,AH$7)=\"\",\"\",INDEX(E_SourceStreams!$A:$N,DM65,AH$7)))","v":""},{"$f":"IF($E65=\"\",\"\",IF(INDEX(E_SourceStreams!$A:$N,DN65,AI$7)=\"\",\"\",INDEX(E_SourceStreams!$A:$N,DN65,AI$7)))","v":""},{"$f":"IF($E65=\"\",\"\",IF(INDEX(E_SourceStreams!$A:$N,DO65,AJ$7)=\"\",\"\",INDEX(E_SourceStreams!$A:$N,DO65,AJ$7)))","v":""},{"$f":"IF($E65=\"\",\"\",IF(INDEX(E_SourceStreams!$A:$N,DP65,AK$7)=\"\",\"\",INDEX(E_SourceStreams!$A:$N,DP65,AK$7)))","v":""},{"$f":"IF($E65=\"\",\"\",IF(INDEX(E_SourceStreams!$A:$N,DQ65,AL$7)=\"\",\"\",INDEX(E_SourceStreams!$A:$N,DQ65,AL$7)))","v":""},{"$f":"IF($E65=\"\",\"\",IF(INDEX(E_SourceStreams!$A:$N,DR65,AM$7)=\"\",\"\",INDEX(E_SourceStreams!$A:$N,DR65,AM$7)))","v":""},{"$f":"IF($E65=\"\",\"\",IF(INDEX(E_SourceStreams!$A:$N,DS65,AN$7)=\"\",\"\",INDEX(E_SourceStreams!$A:$N,DS65,AN$7)))","v":""},{"$f":"IF($E65=\"\",\"\",IF(INDEX(E_SourceStreams!$A:$N,DT65,AO$7)=\"\",\"\",INDEX(E_SourceStreams!$A:$N,DT65,AO$7)))","v":""},{"$f":"IF($E65=\"\",\"\",IF(INDEX(E_SourceStreams!$A:$N,DU65,AP$7)=\"\",\"\",INDEX(E_SourceStreams!$A:$N,DU65,AP$7)))","v":""},{"$f":"IF($E65=\"\",\"\",IF(INDEX(E_SourceStreams!$A:$N,DV65,AQ$7)=\"\",\"\",INDEX(E_SourceStreams!$A:$N,DV65,AQ$7)))","v":""},{"$f":"IF($E65=\"\",\"\",IF(INDEX(E_SourceStreams!$A:$N,DW65,AR$7)=\"\",\"\",INDEX(E_SourceStreams!$A:$N,DW65,AR$7)))","v":""},{"$f":"IF($E65=\"\",\"\",IF(INDEX(E_SourceStreams!$A:$N,DX65,AS$7)=\"\",\"\",INDEX(E_SourceStreams!$A:$N,DX65,AS$7)))","v":""},{"$f":"IF($E65=\"\",\"\",IF(INDEX(E_SourceStreams!$A:$N,DY65,AT$7)=\"\",\"\",INDEX(E_SourceStreams!$A:$N,DY65,AT$7)))","v":""},{"$f":"IF($E65=\"\",\"\",IF(INDEX(E_SourceStreams!$A:$N,DZ65,AU$7)=\"\",\"\",INDEX(E_SourceStreams!$A:$N,DZ65,AU$7)))","v":""},{"$f":"IF($E65=\"\",\"\",IF(INDEX(E_SourceStreams!$A:$N,EA65,AV$7)=\"\",\"\",INDEX(E_SourceStreams!$A:$N,EA65,AV$7)))","v":""},{"$f":"IF($E65=\"\",\"\",IF(INDEX(E_SourceStreams!$A:$N,EB65,AW$7)=\"\",\"\",INDEX(E_SourceStreams!$A:$N,EB65,AW$7)))","v":""},{"$f":"IF($E65=\"\",\"\",IF(INDEX(E_SourceStreams!$A:$N,EC65,AX$7)=\"\",\"\",INDEX(E_SourceStreams!$A:$N,EC65,AX$7)))","v":""},{"$f":"IF($E65=\"\",\"\",IF(INDEX(E_SourceStreams!$A:$N,ED65,AY$7)=\"\",\"\",INDEX(E_SourceStreams!$A:$N,ED65,AY$7)))","v":""},{"$f":"IF($E65=\"\",\"\",IF(INDEX(E_SourceStreams!$A:$N,EE65,AZ$7)=\"\",\"\",INDEX(E_SourceStreams!$A:$N,EE65,AZ$7)))","v":""},{"$f":"IF($E65=\"\",\"\",IF(INDEX(E_SourceStreams!$A:$N,EF65,BA$7)=\"\",\"\",INDEX(E_SourceStreams!$A:$N,EF65,BA$7)))","v":""},{"$f":"IF($E65=\"\",\"\",IF(INDEX(E_SourceStreams!$A:$N,EG65,BB$7)=\"\",\"\",INDEX(E_SourceStreams!$A:$N,EG65,BB$7)))","v":""},{"$f":"IF($E65=\"\",\"\",IF(INDEX(E_SourceStreams!$A:$N,EH65,BC$7)=\"\",\"\",INDEX(E_SourceStreams!$A:$N,EH65,BC$7)))","v":""},{"$f":"IF($E65=\"\",\"\",IF(INDEX(E_SourceStreams!$A:$N,EI65,BD$7)=\"\",\"\",INDEX(E_SourceStreams!$A:$N,EI65,BD$7)))","v":""},{"$f":"IF($E65=\"\",\"\",IF(INDEX(E_SourceStreams!$A:$N,EJ65,BE$7)=\"\",\"\",INDEX(E_SourceStreams!$A:$N,EJ65,BE$7)))","v":""},{"$f":"IF($E65=\"\",\"\",IF(INDEX(E_SourceStreams!$A:$N,EK65,BF$7)=\"\",\"\",INDEX(E_SourceStreams!$A:$N,EK65,BF$7)))","v":""},{"$f":"IF($E65=\"\",\"\",IF(INDEX(E_SourceStreams!$A:$N,EL65,BG$7)=\"\",\"\",INDEX(E_SourceStreams!$A:$N,EL65,BG$7)))","v":""},{"$f":"IF($E65=\"\",\"\",IF(INDEX(E_SourceStreams!$A:$N,EM65,BH$7)=\"\",\"\",INDEX(E_SourceStreams!$A:$N,EM65,BH$7)))","v":""},{"$f":"IF($E65=\"\",\"\",IF(INDEX(E_SourceStreams!$A:$N,EN65,BI$7)=\"\",\"\",INDEX(E_SourceStreams!$A:$N,EN65,BI$7)))","v":""},{"$f":"IF($E65=\"\",\"\",IF(INDEX(E_SourceStreams!$A:$N,EO65,BJ$7)=\"\",\"\",INDEX(E_SourceStreams!$A:$N,EO65,BJ$7)))","v":""},{"$f":"IF($E65=\"\",\"\",IF(INDEX(E_SourceStreams!$A:$N,EP65,BK$7)=\"\",\"\",INDEX(E_SourceStreams!$A:$N,EP65,BK$7)))","v":""},{"$f":"IF($E65=\"\",\"\",IF(INDEX(E_SourceStreams!$A:$N,EQ65,BL$7)=\"\",\"\",INDEX(E_SourceStreams!$A:$N,EQ65,BL$7)))","v":""},{"$f":"IF($E65=\"\",\"\",IF(INDEX(E_SourceStreams!$A:$N,ER65,BM$7)=\"\",\"\",INDEX(E_SourceStreams!$A:$N,ER65,BM$7)))","v":""},{"$f":"IF($E65=\"\",\"\",IF(INDEX(E_SourceStreams!$A:$N,ES65,BN$7)=\"\",\"\",INDEX(E_SourceStreams!$A:$N,ES65,BN$7)))","v":""},{"$f":"IF($E65=\"\",\"\",IF(INDEX(E_SourceStreams!$A:$N,ET65,BO$7)=\"\",\"\",INDEX(E_SourceStreams!$A:$N,ET65,BO$7)))","v":""},{"$f":"IF($E65=\"\",\"\",IF(INDEX(E_SourceStreams!$A:$N,EU65,BP$7)=\"\",\"\",INDEX(E_SourceStreams!$A:$N,EU65,BP$7)))","v":""},{"$f":"IF($E65=\"\",\"\",IF(INDEX(E_SourceStreams!$A:$N,EV65,BQ$7)=\"\",\"\",INDEX(E_SourceStreams!$A:$N,EV65,BQ$7)))","v":""},{"$f":"IF($E65=\"\",\"\",IF(INDEX(E_SourceStreams!$A:$N,EW65,BR$7)=\"\",\"\",INDEX(E_SourceStreams!$A:$N,EW65,BR$7)))","v":""},{"$f":"IF($E65=\"\",\"\",IF(INDEX(E_SourceStreams!$A:$N,EX65,BS$7)=\"\",\"\",INDEX(E_SourceStreams!$A:$N,EX65,BS$7)))","v":""},{"$f":"IF($E65=\"\",\"\",IF(INDEX(E_SourceStreams!$A:$N,EY65,BT$7)=\"\",\"\",INDEX(E_SourceStreams!$A:$N,EY65,BT$7)))","v":""},null,null,null,null,null,null,null,null,null,null,null,null,null,null,null,"SourceCategory_",{"$f":"INDEX(C_InstallationDescription!$A$226:$A$332,ROWS($CI$11:CI65))=\"ausblenden\"","v":true},"SourceStreamName_",null,3699,3701,3703,3705,3707,3709,3711,3711,3711,3711,3711,3714,3718,3719,3720,3727,3737,3737,3737,3737,3737,3737,3737,3728,3738,3738,3738,3738,3738,3738,3738,3729,3739,3739,3739,3739,3739,3739,3739,3730,3740,3740,3740,3740,3740,3740,3740,3731,3741,3741,3741,3741,3741,3741,3741,3732,3742,3742,3742,3742,3742,3742,3742,3748]
[null,{"$f":"IF(COUNTIF($CK$10:CK66,TRUE)>0,\"\",INDEX(C_InstallationDescription!$E$226:$E$242,ROWS($A$11:A66)))","v":""},{"$f":"IF($E66=\"\",\"\",INDEX(C_InstallationDescription!F:F,MATCH($B66,C_InstallationDescription!$E:$E,0)))","v":""},{"$f":"IF($E66=\"\",\"\",INDEX(C_InstallationDescription!I:I,MATCH($B66,C_InstallationDescription!$E:$E,0)))","v":""},{"$f":"IF($B66=\"\",\"\",INDEX(C_InstallationDescription!F:F,MATCH($CJ66,C_InstallationDescription!$Q:$Q,0)))","v":""},{"$f":"IF($E66=\"\",\"\",INDEX(C_InstallationDescription!L:L,MATCH($CJ66,C_InstallationDescription!$Q:$Q,0)))","v":""},{"$f":"IF($E66=\"\",\"\",INDEX(C_InstallationDescription!M:M,MATCH($CJ66,C_InstallationDescription!$Q:$Q,0)))","v":""},{"$f":"IF($E66=\"\",\"\",INDEX(C_InstallationDescription!N:N,MATCH($CJ66,C_InstallationDescription!$Q:$Q,0)))","v":""},{"$f":"IF($E66=\"\",\"\",IF(INDEX(E_SourceStreams!$A:$N,CN66,I$7)=\"\",\"\",INDEX(E_SourceStreams!$A:$N,CN66,I$7)))","v":""},{"$f":"IF($E66=\"\",\"\",IF(INDEX(E_SourceStreams!$A:$N,CO66,J$7)=\"\",\"\",INDEX(E_SourceStreams!$A:$N,CO66,J$7)))","v":""},{"$f":"IF($E66=\"\",\"\",IF(INDEX(E_SourceStreams!$A:$N,CP66,K$7)=\"\",\"\",INDEX(E_SourceStreams!$A:$N,CP66,K$7)))","v":""},{"$f":"IF($E66=\"\",\"\",IF(INDEX(E_SourceStreams!$A:$N,CQ66,L$7)=\"\",\"\",INDEX(E_SourceStreams!$A:$N,CQ66,L$7)))","v":""},{"$f":"IF($E66=\"\",\"\",IF(INDEX(E_SourceStreams!$A:$N,CR66,M$7)=\"\",\"\",INDEX(E_SourceStreams!$A:$N,CR66,M$7)))","v":""},{"$f":"IF($E66=\"\",\"\",IF(INDEX(E_SourceStreams!$A:$N,CS66,N$7)=\"\",\"\",INDEX(E_SourceStreams!$A:$N,CS66,N$7)))","v":""},{"$f":"IF($E66=\"\",\"\",IF(INDEX(E_SourceStreams!$A:$N,CT66,O$7)=\"\",\"\",INDEX(E_SourceStreams!$A:$N,CT66,O$7)))","v":""},{"$f":"IF($E66=\"\",\"\",IF(INDEX(E_SourceStreams!$A:$N,CU66,P$7)=\"\",\"\",INDEX(E_SourceStreams!$A:$N,CU66,P$7)))","v":""},{"$f":"IF($E66=\"\",\"\",IF(INDEX(E_SourceStreams!$A:$N,CV66,Q$7)=\"\",\"\",INDEX(E_SourceStreams!$A:$N,CV66,Q$7)))","v":""},{"$f":"IF($E66=\"\",\"\",IF(INDEX(E_SourceStreams!$A:$N,CW66,R$7)=\"\",\"\",INDEX(E_SourceStreams!$A:$N,CW66,R$7)))","v":""},{"$f":"IF($E66=\"\",\"\",IF(INDEX(E_SourceStreams!$A:$N,CX66,S$7)=\"\",\"\",INDEX(E_SourceStreams!$A:$N,CX66,S$7)))","v":""},{"$f":"IF($E66=\"\",\"\",IF(INDEX(E_SourceStreams!$A:$N,CY66,T$7)=\"\",\"\",INDEX(E_SourceStreams!$A:$N,CY66,T$7)))","v":""},{"$f":"IF($E66=\"\",\"\",IF(INDEX(E_SourceStreams!$A:$N,CZ66,U$7)=\"\",\"\",INDEX(E_SourceStreams!$A:$N,CZ66,U$7)))","v":""},{"$f":"IF($E66=\"\",\"\",IF(INDEX(E_SourceStreams!$A:$N,DA66,V$7)=\"\",\"\",INDEX(E_SourceStreams!$A:$N,DA66,V$7)))","v":""},{"$f":"IF($E66=\"\",\"\",IF(INDEX(E_SourceStreams!$A:$N,DB66,W$7)=\"\",\"\",INDEX(E_SourceStreams!$A:$N,DB66,W$7)))","v":""},{"$f":"IF($E66=\"\",\"\",IF(INDEX(E_SourceStreams!$A:$N,DC66,X$7)=\"\",\"\",INDEX(E_SourceStreams!$A:$N,DC66,X$7)))","v":""},{"$f":"IF($E66=\"\",\"\",IF(INDEX(E_SourceStreams!$A:$N,DD66,Y$7)=\"\",\"\",INDEX(E_SourceStreams!$A:$N,DD66,Y$7)))","v":""},{"$f":"IF($E66=\"\",\"\",IF(INDEX(E_SourceStreams!$A:$N,DE66,Z$7)=\"\",\"\",INDEX(E_SourceStreams!$A:$N,DE66,Z$7)))","v":""},{"$f":"IF($E66=\"\",\"\",IF(INDEX(E_SourceStreams!$A:$N,DF66,AA$7)=\"\",\"\",INDEX(E_SourceStreams!$A:$N,DF66,AA$7)))","v":""},{"$f":"IF($E66=\"\",\"\",IF(INDEX(E_SourceStreams!$A:$N,DG66,AB$7)=\"\",\"\",INDEX(E_SourceStreams!$A:$N,DG66,AB$7)))","v":""},{"$f":"IF($E66=\"\",\"\",IF(INDEX(E_SourceStreams!$A:$N,DH66,AC$7)=\"\",\"\",INDEX(E_SourceStreams!$A:$N,DH66,AC$7)))","v":""},{"$f":"IF($E66=\"\",\"\",IF(INDEX(E_SourceStreams!$A:$N,DI66,AD$7)=\"\",\"\",INDEX(E_SourceStreams!$A:$N,DI66,AD$7)))","v":""},{"$f":"IF($E66=\"\",\"\",IF(INDEX(E_SourceStreams!$A:$N,DJ66,AE$7)=\"\",\"\",INDEX(E_SourceStreams!$A:$N,DJ66,AE$7)))","v":""},{"$f":"IF($E66=\"\",\"\",IF(INDEX(E_SourceStreams!$A:$N,DK66,AF$7)=\"\",\"\",INDEX(E_SourceStreams!$A:$N,DK66,AF$7)))","v":""},{"$f":"IF($E66=\"\",\"\",IF(INDEX(E_SourceStreams!$A:$N,DL66,AG$7)=\"\",\"\",INDEX(E_SourceStreams!$A:$N,DL66,AG$7)))","v":""},{"$f":"IF($E66=\"\",\"\",IF(INDEX(E_SourceStreams!$A:$N,DM66,AH$7)=\"\",\"\",INDEX(E_SourceStreams!$A:$N,DM66,AH$7)))","v":""},{"$f":"IF($E66=\"\",\"\",IF(INDEX(E_SourceStreams!$A:$N,DN66,AI$7)=\"\",\"\",INDEX(E_SourceStreams!$A:$N,DN66,AI$7)))","v":""},{"$f":"IF($E66=\"\",\"\",IF(INDEX(E_SourceStreams!$A:$N,DO66,AJ$7)=\"\",\"\",INDEX(E_SourceStreams!$A:$N,DO66,AJ$7)))","v":""},{"$f":"IF($E66=\"\",\"\",IF(INDEX(E_SourceStreams!$A:$N,DP66,AK$7)=\"\",\"\",INDEX(E_SourceStreams!$A:$N,DP66,AK$7)))","v":""},{"$f":"IF($E66=\"\",\"\",IF(INDEX(E_SourceStreams!$A:$N,DQ66,AL$7)=\"\",\"\",INDEX(E_SourceStreams!$A:$N,DQ66,AL$7)))","v":""},{"$f":"IF($E66=\"\",\"\",IF(INDEX(E_SourceStreams!$A:$N,DR66,AM$7)=\"\",\"\",INDEX(E_SourceStreams!$A:$N,DR66,AM$7)))","v":""},{"$f":"IF($E66=\"\",\"\",IF(INDEX(E_SourceStreams!$A:$N,DS66,AN$7)=\"\",\"\",INDEX(E_SourceStreams!$A:$N,DS66,AN$7)))","v":""},{"$f":"IF($E66=\"\",\"\",IF(INDEX(E_SourceStreams!$A:$N,DT66,AO$7)=\"\",\"\",INDEX(E_SourceStreams!$A:$N,DT66,AO$7)))","v":""},{"$f":"IF($E66=\"\",\"\",IF(INDEX(E_SourceStreams!$A:$N,DU66,AP$7)=\"\",\"\",INDEX(E_SourceStreams!$A:$N,DU66,AP$7)))","v":""},{"$f":"IF($E66=\"\",\"\",IF(INDEX(E_SourceStreams!$A:$N,DV66,AQ$7)=\"\",\"\",INDEX(E_SourceStreams!$A:$N,DV66,AQ$7)))","v":""},{"$f":"IF($E66=\"\",\"\",IF(INDEX(E_SourceStreams!$A:$N,DW66,AR$7)=\"\",\"\",INDEX(E_SourceStreams!$A:$N,DW66,AR$7)))","v":""},{"$f":"IF($E66=\"\",\"\",IF(INDEX(E_SourceStreams!$A:$N,DX66,AS$7)=\"\",\"\",INDEX(E_SourceStreams!$A:$N,DX66,AS$7)))","v":""},{"$f":"IF($E66=\"\",\"\",IF(INDEX(E_SourceStreams!$A:$N,DY66,AT$7)=\"\",\"\",INDEX(E_SourceStreams!$A:$N,DY66,AT$7)))","v":""},{"$f":"IF($E66=\"\",\"\",IF(INDEX(E_SourceStreams!$A:$N,DZ66,AU$7)=\"\",\"\",INDEX(E_SourceStreams!$A:$N,DZ66,AU$7)))","v":""},{"$f":"IF($E66=\"\",\"\",IF(INDEX(E_SourceStreams!$A:$N,EA66,AV$7)=\"\",\"\",INDEX(E_SourceStreams!$A:$N,EA66,AV$7)))","v":""},{"$f":"IF($E66=\"\",\"\",IF(INDEX(E_SourceStreams!$A:$N,EB66,AW$7)=\"\",\"\",INDEX(E_SourceStreams!$A:$N,EB66,AW$7)))","v":""},{"$f":"IF($E66=\"\",\"\",IF(INDEX(E_SourceStreams!$A:$N,EC66,AX$7)=\"\",\"\",INDEX(E_SourceStreams!$A:$N,EC66,AX$7)))","v":""},{"$f":"IF($E66=\"\",\"\",IF(INDEX(E_SourceStreams!$A:$N,ED66,AY$7)=\"\",\"\",INDEX(E_SourceStreams!$A:$N,ED66,AY$7)))","v":""},{"$f":"IF($E66=\"\",\"\",IF(INDEX(E_SourceStreams!$A:$N,EE66,AZ$7)=\"\",\"\",INDEX(E_SourceStreams!$A:$N,EE66,AZ$7)))","v":""},{"$f":"IF($E66=\"\",\"\",IF(INDEX(E_SourceStreams!$A:$N,EF66,BA$7)=\"\",\"\",INDEX(E_SourceStreams!$A:$N,EF66,BA$7)))","v":""},{"$f":"IF($E66=\"\",\"\",IF(INDEX(E_SourceStreams!$A:$N,EG66,BB$7)=\"\",\"\",INDEX(E_SourceStreams!$A:$N,EG66,BB$7)))","v":""},{"$f":"IF($E66=\"\",\"\",IF(INDEX(E_SourceStreams!$A:$N,EH66,BC$7)=\"\",\"\",INDEX(E_SourceStreams!$A:$N,EH66,BC$7)))","v":""},{"$f":"IF($E66=\"\",\"\",IF(INDEX(E_SourceStreams!$A:$N,EI66,BD$7)=\"\",\"\",INDEX(E_SourceStreams!$A:$N,EI66,BD$7)))","v":""},{"$f":"IF($E66=\"\",\"\",IF(INDEX(E_SourceStreams!$A:$N,EJ66,BE$7)=\"\",\"\",INDEX(E_SourceStreams!$A:$N,EJ66,BE$7)))","v":""},{"$f":"IF($E66=\"\",\"\",IF(INDEX(E_SourceStreams!$A:$N,EK66,BF$7)=\"\",\"\",INDEX(E_SourceStreams!$A:$N,EK66,BF$7)))","v":""},{"$f":"IF($E66=\"\",\"\",IF(INDEX(E_SourceStreams!$A:$N,EL66,BG$7)=\"\",\"\",INDEX(E_SourceStreams!$A:$N,EL66,BG$7)))","v":""},{"$f":"IF($E66=\"\",\"\",IF(INDEX(E_SourceStreams!$A:$N,EM66,BH$7)=\"\",\"\",INDEX(E_SourceStreams!$A:$N,EM66,BH$7)))","v":""},{"$f":"IF($E66=\"\",\"\",IF(INDEX(E_SourceStreams!$A:$N,EN66,BI$7)=\"\",\"\",INDEX(E_SourceStreams!$A:$N,EN66,BI$7)))","v":""},{"$f":"IF($E66=\"\",\"\",IF(INDEX(E_SourceStreams!$A:$N,EO66,BJ$7)=\"\",\"\",INDEX(E_SourceStreams!$A:$N,EO66,BJ$7)))","v":""},{"$f":"IF($E66=\"\",\"\",IF(INDEX(E_SourceStreams!$A:$N,EP66,BK$7)=\"\",\"\",INDEX(E_SourceStreams!$A:$N,EP66,BK$7)))","v":""},{"$f":"IF($E66=\"\",\"\",IF(INDEX(E_SourceStreams!$A:$N,EQ66,BL$7)=\"\",\"\",INDEX(E_SourceStreams!$A:$N,EQ66,BL$7)))","v":""},{"$f":"IF($E66=\"\",\"\",IF(INDEX(E_SourceStreams!$A:$N,ER66,BM$7)=\"\",\"\",INDEX(E_SourceStreams!$A:$N,ER66,BM$7)))","v":""},{"$f":"IF($E66=\"\",\"\",IF(INDEX(E_SourceStreams!$A:$N,ES66,BN$7)=\"\",\"\",INDEX(E_SourceStreams!$A:$N,ES66,BN$7)))","v":""},{"$f":"IF($E66=\"\",\"\",IF(INDEX(E_SourceStreams!$A:$N,ET66,BO$7)=\"\",\"\",INDEX(E_SourceStreams!$A:$N,ET66,BO$7)))","v":""},{"$f":"IF($E66=\"\",\"\",IF(INDEX(E_SourceStreams!$A:$N,EU66,BP$7)=\"\",\"\",INDEX(E_SourceStreams!$A:$N,EU66,BP$7)))","v":""},{"$f":"IF($E66=\"\",\"\",IF(INDEX(E_SourceStreams!$A:$N,EV66,BQ$7)=\"\",\"\",INDEX(E_SourceStreams!$A:$N,EV66,BQ$7)))","v":""},{"$f":"IF($E66=\"\",\"\",IF(INDEX(E_SourceStreams!$A:$N,EW66,BR$7)=\"\",\"\",INDEX(E_SourceStreams!$A:$N,EW66,BR$7)))","v":""},{"$f":"IF($E66=\"\",\"\",IF(INDEX(E_SourceStreams!$A:$N,EX66,BS$7)=\"\",\"\",INDEX(E_SourceStreams!$A:$N,EX66,BS$7)))","v":""},{"$f":"IF($E66=\"\",\"\",IF(INDEX(E_SourceStreams!$A:$N,EY66,BT$7)=\"\",\"\",INDEX(E_SourceStreams!$A:$N,EY66,BT$7)))","v":""},null,null,null,null,null,null,null,null,null,null,null,null,null,null,null,"SourceCategory_",{"$f":"INDEX(C_InstallationDescription!$A$226:$A$332,ROWS($CI$11:CI66))=\"ausblenden\"","v":true},"SourceStreamName_",null,3765,3767,3769,3771,3773,3775,3777,3777,3777,3777,3777,3780,3784,3785,3786,3793,3803,3803,3803,3803,3803,3803,3803,3794,3804,3804,3804,3804,3804,3804,3804,3795,3805,3805,3805,3805,3805,3805,3805,3796,3806,3806,3806,3806,3806,3806,3806,3797,3807,3807,3807,3807,3807,3807,3807,3798,3808,3808,3808,3808,3808,3808,3808,3814]
[null,{"$f":"IF(COUNTIF($CK$10:CK67,TRUE)>0,\"\",INDEX(C_InstallationDescription!$E$226:$E$242,ROWS($A$11:A67)))","v":""},{"$f":"IF($E67=\"\",\"\",INDEX(C_InstallationDescription!F:F,MATCH($B67,C_InstallationDescription!$E:$E,0)))","v":""},{"$f":"IF($E67=\"\",\"\",INDEX(C_InstallationDescription!I:I,MATCH($B67,C_InstallationDescription!$E:$E,0)))","v":""},{"$f":"IF($B67=\"\",\"\",INDEX(C_InstallationDescription!F:F,MATCH($CJ67,C_InstallationDescription!$Q:$Q,0)))","v":""},{"$f":"IF($E67=\"\",\"\",INDEX(C_InstallationDescription!L:L,MATCH($CJ67,C_InstallationDescription!$Q:$Q,0)))","v":""},{"$f":"IF($E67=\"\",\"\",INDEX(C_InstallationDescription!M:M,MATCH($CJ67,C_InstallationDescription!$Q:$Q,0)))","v":""},{"$f":"IF($E67=\"\",\"\",INDEX(C_InstallationDescription!N:N,MATCH($CJ67,C_InstallationDescription!$Q:$Q,0)))","v":""},{"$f":"IF($E67=\"\",\"\",IF(INDEX(E_SourceStreams!$A:$N,CN67,I$7)=\"\",\"\",INDEX(E_SourceStreams!$A:$N,CN67,I$7)))","v":""},{"$f":"IF($E67=\"\",\"\",IF(INDEX(E_SourceStreams!$A:$N,CO67,J$7)=\"\",\"\",INDEX(E_SourceStreams!$A:$N,CO67,J$7)))","v":""},{"$f":"IF($E67=\"\",\"\",IF(INDEX(E_SourceStreams!$A:$N,CP67,K$7)=\"\",\"\",INDEX(E_SourceStreams!$A:$N,CP67,K$7)))","v":""},{"$f":"IF($E67=\"\",\"\",IF(INDEX(E_SourceStreams!$A:$N,CQ67,L$7)=\"\",\"\",INDEX(E_SourceStreams!$A:$N,CQ67,L$7)))","v":""},{"$f":"IF($E67=\"\",\"\",IF(INDEX(E_SourceStreams!$A:$N,CR67,M$7)=\"\",\"\",INDEX(E_SourceStreams!$A:$N,CR67,M$7)))","v":""},{"$f":"IF($E67=\"\",\"\",IF(INDEX(E_SourceStreams!$A:$N,CS67,N$7)=\"\",\"\",INDEX(E_SourceStreams!$A:$N,CS67,N$7)))","v":""},{"$f":"IF($E67=\"\",\"\",IF(INDEX(E_SourceStreams!$A:$N,CT67,O$7)=\"\",\"\",INDEX(E_SourceStreams!$A:$N,CT67,O$7)))","v":""},{"$f":"IF($E67=\"\",\"\",IF(INDEX(E_SourceStreams!$A:$N,CU67,P$7)=\"\",\"\",INDEX(E_SourceStreams!$A:$N,CU67,P$7)))","v":""},{"$f":"IF($E67=\"\",\"\",IF(INDEX(E_SourceStreams!$A:$N,CV67,Q$7)=\"\",\"\",INDEX(E_SourceStreams!$A:$N,CV67,Q$7)))","v":""},{"$f":"IF($E67=\"\",\"\",IF(INDEX(E_SourceStreams!$A:$N,CW67,R$7)=\"\",\"\",INDEX(E_SourceStreams!$A:$N,CW67,R$7)))","v":""},{"$f":"IF($E67=\"\",\"\",IF(INDEX(E_SourceStreams!$A:$N,CX67,S$7)=\"\",\"\",INDEX(E_SourceStreams!$A:$N,CX67,S$7)))","v":""},{"$f":"IF($E67=\"\",\"\",IF(INDEX(E_SourceStreams!$A:$N,CY67,T$7)=\"\",\"\",INDEX(E_SourceStreams!$A:$N,CY67,T$7)))","v":""},{"$f":"IF($E67=\"\",\"\",IF(INDEX(E_SourceStreams!$A:$N,CZ67,U$7)=\"\",\"\",INDEX(E_SourceStreams!$A:$N,CZ67,U$7)))","v":""},{"$f":"IF($E67=\"\",\"\",IF(INDEX(E_SourceStreams!$A:$N,DA67,V$7)=\"\",\"\",INDEX(E_SourceStreams!$A:$N,DA67,V$7)))","v":""},{"$f":"IF($E67=\"\",\"\",IF(INDEX(E_SourceStreams!$A:$N,DB67,W$7)=\"\",\"\",INDEX(E_SourceStreams!$A:$N,DB67,W$7)))","v":""},{"$f":"IF($E67=\"\",\"\",IF(INDEX(E_SourceStreams!$A:$N,DC67,X$7)=\"\",\"\",INDEX(E_SourceStreams!$A:$N,DC67,X$7)))","v":""},{"$f":"IF($E67=\"\",\"\",IF(INDEX(E_SourceStreams!$A:$N,DD67,Y$7)=\"\",\"\",INDEX(E_SourceStreams!$A:$N,DD67,Y$7)))","v":""},{"$f":"IF($E67=\"\",\"\",IF(INDEX(E_SourceStreams!$A:$N,DE67,Z$7)=\"\",\"\",INDEX(E_SourceStreams!$A:$N,DE67,Z$7)))","v":""},{"$f":"IF($E67=\"\",\"\",IF(INDEX(E_SourceStreams!$A:$N,DF67,AA$7)=\"\",\"\",INDEX(E_SourceStreams!$A:$N,DF67,AA$7)))","v":""},{"$f":"IF($E67=\"\",\"\",IF(INDEX(E_SourceStreams!$A:$N,DG67,AB$7)=\"\",\"\",INDEX(E_SourceStreams!$A:$N,DG67,AB$7)))","v":""},{"$f":"IF($E67=\"\",\"\",IF(INDEX(E_SourceStreams!$A:$N,DH67,AC$7)=\"\",\"\",INDEX(E_SourceStreams!$A:$N,DH67,AC$7)))","v":""},{"$f":"IF($E67=\"\",\"\",IF(INDEX(E_SourceStreams!$A:$N,DI67,AD$7)=\"\",\"\",INDEX(E_SourceStreams!$A:$N,DI67,AD$7)))","v":""},{"$f":"IF($E67=\"\",\"\",IF(INDEX(E_SourceStreams!$A:$N,DJ67,AE$7)=\"\",\"\",INDEX(E_SourceStreams!$A:$N,DJ67,AE$7)))","v":""},{"$f":"IF($E67=\"\",\"\",IF(INDEX(E_SourceStreams!$A:$N,DK67,AF$7)=\"\",\"\",INDEX(E_SourceStreams!$A:$N,DK67,AF$7)))","v":""},{"$f":"IF($E67=\"\",\"\",IF(INDEX(E_SourceStreams!$A:$N,DL67,AG$7)=\"\",\"\",INDEX(E_SourceStreams!$A:$N,DL67,AG$7)))","v":""},{"$f":"IF($E67=\"\",\"\",IF(INDEX(E_SourceStreams!$A:$N,DM67,AH$7)=\"\",\"\",INDEX(E_SourceStreams!$A:$N,DM67,AH$7)))","v":""},{"$f":"IF($E67=\"\",\"\",IF(INDEX(E_SourceStreams!$A:$N,DN67,AI$7)=\"\",\"\",INDEX(E_SourceStreams!$A:$N,DN67,AI$7)))","v":""},{"$f":"IF($E67=\"\",\"\",IF(INDEX(E_SourceStreams!$A:$N,DO67,AJ$7)=\"\",\"\",INDEX(E_SourceStreams!$A:$N,DO67,AJ$7)))","v":""},{"$f":"IF($E67=\"\",\"\",IF(INDEX(E_SourceStreams!$A:$N,DP67,AK$7)=\"\",\"\",INDEX(E_SourceStreams!$A:$N,DP67,AK$7)))","v":""},{"$f":"IF($E67=\"\",\"\",IF(INDEX(E_SourceStreams!$A:$N,DQ67,AL$7)=\"\",\"\",INDEX(E_SourceStreams!$A:$N,DQ67,AL$7)))","v":""},{"$f":"IF($E67=\"\",\"\",IF(INDEX(E_SourceStreams!$A:$N,DR67,AM$7)=\"\",\"\",INDEX(E_SourceStreams!$A:$N,DR67,AM$7)))","v":""},{"$f":"IF($E67=\"\",\"\",IF(INDEX(E_SourceStreams!$A:$N,DS67,AN$7)=\"\",\"\",INDEX(E_SourceStreams!$A:$N,DS67,AN$7)))","v":""},{"$f":"IF($E67=\"\",\"\",IF(INDEX(E_SourceStreams!$A:$N,DT67,AO$7)=\"\",\"\",INDEX(E_SourceStreams!$A:$N,DT67,AO$7)))","v":""},{"$f":"IF($E67=\"\",\"\",IF(INDEX(E_SourceStreams!$A:$N,DU67,AP$7)=\"\",\"\",INDEX(E_SourceStreams!$A:$N,DU67,AP$7)))","v":""},{"$f":"IF($E67=\"\",\"\",IF(INDEX(E_SourceStreams!$A:$N,DV67,AQ$7)=\"\",\"\",INDEX(E_SourceStreams!$A:$N,DV67,AQ$7)))","v":""},{"$f":"IF($E67=\"\",\"\",IF(INDEX(E_SourceStreams!$A:$N,DW67,AR$7)=\"\",\"\",INDEX(E_SourceStreams!$A:$N,DW67,AR$7)))","v":""},{"$f":"IF($E67=\"\",\"\",IF(INDEX(E_SourceStreams!$A:$N,DX67,AS$7)=\"\",\"\",INDEX(E_SourceStreams!$A:$N,DX67,AS$7)))","v":""},{"$f":"IF($E67=\"\",\"\",IF(INDEX(E_SourceStreams!$A:$N,DY67,AT$7)=\"\",\"\",INDEX(E_SourceStreams!$A:$N,DY67,AT$7)))","v":""},{"$f":"IF($E67=\"\",\"\",IF(INDEX(E_SourceStreams!$A:$N,DZ67,AU$7)=\"\",\"\",INDEX(E_SourceStreams!$A:$N,DZ67,AU$7)))","v":""},{"$f":"IF($E67=\"\",\"\",IF(INDEX(E_SourceStreams!$A:$N,EA67,AV$7)=\"\",\"\",INDEX(E_SourceStreams!$A:$N,EA67,AV$7)))","v":""},{"$f":"IF($E67=\"\",\"\",IF(INDEX(E_SourceStreams!$A:$N,EB67,AW$7)=\"\",\"\",INDEX(E_SourceStreams!$A:$N,EB67,AW$7)))","v":""},{"$f":"IF($E67=\"\",\"\",IF(INDEX(E_SourceStreams!$A:$N,EC67,AX$7)=\"\",\"\",INDEX(E_SourceStreams!$A:$N,EC67,AX$7)))","v":""},{"$f":"IF($E67=\"\",\"\",IF(INDEX(E_SourceStreams!$A:$N,ED67,AY$7)=\"\",\"\",INDEX(E_SourceStreams!$A:$N,ED67,AY$7)))","v":""},{"$f":"IF($E67=\"\",\"\",IF(INDEX(E_SourceStreams!$A:$N,EE67,AZ$7)=\"\",\"\",INDEX(E_SourceStreams!$A:$N,EE67,AZ$7)))","v":""},{"$f":"IF($E67=\"\",\"\",IF(INDEX(E_SourceStreams!$A:$N,EF67,BA$7)=\"\",\"\",INDEX(E_SourceStreams!$A:$N,EF67,BA$7)))","v":""},{"$f":"IF($E67=\"\",\"\",IF(INDEX(E_SourceStreams!$A:$N,EG67,BB$7)=\"\",\"\",INDEX(E_SourceStreams!$A:$N,EG67,BB$7)))","v":""},{"$f":"IF($E67=\"\",\"\",IF(INDEX(E_SourceStreams!$A:$N,EH67,BC$7)=\"\",\"\",INDEX(E_SourceStreams!$A:$N,EH67,BC$7)))","v":""},{"$f":"IF($E67=\"\",\"\",IF(INDEX(E_SourceStreams!$A:$N,EI67,BD$7)=\"\",\"\",INDEX(E_SourceStreams!$A:$N,EI67,BD$7)))","v":""},{"$f":"IF($E67=\"\",\"\",IF(INDEX(E_SourceStreams!$A:$N,EJ67,BE$7)=\"\",\"\",INDEX(E_SourceStreams!$A:$N,EJ67,BE$7)))","v":""},{"$f":"IF($E67=\"\",\"\",IF(INDEX(E_SourceStreams!$A:$N,EK67,BF$7)=\"\",\"\",INDEX(E_SourceStreams!$A:$N,EK67,BF$7)))","v":""},{"$f":"IF($E67=\"\",\"\",IF(INDEX(E_SourceStreams!$A:$N,EL67,BG$7)=\"\",\"\",INDEX(E_SourceStreams!$A:$N,EL67,BG$7)))","v":""},{"$f":"IF($E67=\"\",\"\",IF(INDEX(E_SourceStreams!$A:$N,EM67,BH$7)=\"\",\"\",INDEX(E_SourceStreams!$A:$N,EM67,BH$7)))","v":""},{"$f":"IF($E67=\"\",\"\",IF(INDEX(E_SourceStreams!$A:$N,EN67,BI$7)=\"\",\"\",INDEX(E_SourceStreams!$A:$N,EN67,BI$7)))","v":""},{"$f":"IF($E67=\"\",\"\",IF(INDEX(E_SourceStreams!$A:$N,EO67,BJ$7)=\"\",\"\",INDEX(E_SourceStreams!$A:$N,EO67,BJ$7)))","v":""},{"$f":"IF($E67=\"\",\"\",IF(INDEX(E_SourceStreams!$A:$N,EP67,BK$7)=\"\",\"\",INDEX(E_SourceStreams!$A:$N,EP67,BK$7)))","v":""},{"$f":"IF($E67=\"\",\"\",IF(INDEX(E_SourceStreams!$A:$N,EQ67,BL$7)=\"\",\"\",INDEX(E_SourceStreams!$A:$N,EQ67,BL$7)))","v":""},{"$f":"IF($E67=\"\",\"\",IF(INDEX(E_SourceStreams!$A:$N,ER67,BM$7)=\"\",\"\",INDEX(E_SourceStreams!$A:$N,ER67,BM$7)))","v":""},{"$f":"IF($E67=\"\",\"\",IF(INDEX(E_SourceStreams!$A:$N,ES67,BN$7)=\"\",\"\",INDEX(E_SourceStreams!$A:$N,ES67,BN$7)))","v":""},{"$f":"IF($E67=\"\",\"\",IF(INDEX(E_SourceStreams!$A:$N,ET67,BO$7)=\"\",\"\",INDEX(E_SourceStreams!$A:$N,ET67,BO$7)))","v":""},{"$f":"IF($E67=\"\",\"\",IF(INDEX(E_SourceStreams!$A:$N,EU67,BP$7)=\"\",\"\",INDEX(E_SourceStreams!$A:$N,EU67,BP$7)))","v":""},{"$f":"IF($E67=\"\",\"\",IF(INDEX(E_SourceStreams!$A:$N,EV67,BQ$7)=\"\",\"\",INDEX(E_SourceStreams!$A:$N,EV67,BQ$7)))","v":""},{"$f":"IF($E67=\"\",\"\",IF(INDEX(E_SourceStreams!$A:$N,EW67,BR$7)=\"\",\"\",INDEX(E_SourceStreams!$A:$N,EW67,BR$7)))","v":""},{"$f":"IF($E67=\"\",\"\",IF(INDEX(E_SourceStreams!$A:$N,EX67,BS$7)=\"\",\"\",INDEX(E_SourceStreams!$A:$N,EX67,BS$7)))","v":""},{"$f":"IF($E67=\"\",\"\",IF(INDEX(E_SourceStreams!$A:$N,EY67,BT$7)=\"\",\"\",INDEX(E_SourceStreams!$A:$N,EY67,BT$7)))","v":""},null,null,null,null,null,null,null,null,null,null,null,null,null,null,null,"SourceCategory_",{"$f":"INDEX(C_InstallationDescription!$A$226:$A$332,ROWS($CI$11:CI67))=\"ausblenden\"","v":true},"SourceStreamName_",null,3831,3833,3835,3837,3839,3841,3843,3843,3843,3843,3843,3846,3850,3851,3852,3859,3869,3869,3869,3869,3869,3869,3869,3860,3870,3870,3870,3870,3870,3870,3870,3861,3871,3871,3871,3871,3871,3871,3871,3862,3872,3872,3872,3872,3872,3872,3872,3863,3873,3873,3873,3873,3873,3873,3873,3864,3874,3874,3874,3874,3874,3874,3874,3880]
[null,{"$f":"IF(COUNTIF($CK$10:CK68,TRUE)>0,\"\",INDEX(C_InstallationDescription!$E$226:$E$242,ROWS($A$11:A68)))","v":""},{"$f":"IF($E68=\"\",\"\",INDEX(C_InstallationDescription!F:F,MATCH($B68,C_InstallationDescription!$E:$E,0)))","v":""},{"$f":"IF($E68=\"\",\"\",INDEX(C_InstallationDescription!I:I,MATCH($B68,C_InstallationDescription!$E:$E,0)))","v":""},{"$f":"IF($B68=\"\",\"\",INDEX(C_InstallationDescription!F:F,MATCH($CJ68,C_InstallationDescription!$Q:$Q,0)))","v":""},{"$f":"IF($E68=\"\",\"\",INDEX(C_InstallationDescription!L:L,MATCH($CJ68,C_InstallationDescription!$Q:$Q,0)))","v":""},{"$f":"IF($E68=\"\",\"\",INDEX(C_InstallationDescription!M:M,MATCH($CJ68,C_InstallationDescription!$Q:$Q,0)))","v":""},{"$f":"IF($E68=\"\",\"\",INDEX(C_InstallationDescription!N:N,MATCH($CJ68,C_InstallationDescription!$Q:$Q,0)))","v":""},{"$f":"IF($E68=\"\",\"\",IF(INDEX(E_SourceStreams!$A:$N,CN68,I$7)=\"\",\"\",INDEX(E_SourceStreams!$A:$N,CN68,I$7)))","v":""},{"$f":"IF($E68=\"\",\"\",IF(INDEX(E_SourceStreams!$A:$N,CO68,J$7)=\"\",\"\",INDEX(E_SourceStreams!$A:$N,CO68,J$7)))","v":""},{"$f":"IF($E68=\"\",\"\",IF(INDEX(E_SourceStreams!$A:$N,CP68,K$7)=\"\",\"\",INDEX(E_SourceStreams!$A:$N,CP68,K$7)))","v":""},{"$f":"IF($E68=\"\",\"\",IF(INDEX(E_SourceStreams!$A:$N,CQ68,L$7)=\"\",\"\",INDEX(E_SourceStreams!$A:$N,CQ68,L$7)))","v":""},{"$f":"IF($E68=\"\",\"\",IF(INDEX(E_SourceStreams!$A:$N,CR68,M$7)=\"\",\"\",INDEX(E_SourceStreams!$A:$N,CR68,M$7)))","v":""},{"$f":"IF($E68=\"\",\"\",IF(INDEX(E_SourceStreams!$A:$N,CS68,N$7)=\"\",\"\",INDEX(E_SourceStreams!$A:$N,CS68,N$7)))","v":""},{"$f":"IF($E68=\"\",\"\",IF(INDEX(E_SourceStreams!$A:$N,CT68,O$7)=\"\",\"\",INDEX(E_SourceStreams!$A:$N,CT68,O$7)))","v":""},{"$f":"IF($E68=\"\",\"\",IF(INDEX(E_SourceStreams!$A:$N,CU68,P$7)=\"\",\"\",INDEX(E_SourceStreams!$A:$N,CU68,P$7)))","v":""},{"$f":"IF($E68=\"\",\"\",IF(INDEX(E_SourceStreams!$A:$N,CV68,Q$7)=\"\",\"\",INDEX(E_SourceStreams!$A:$N,CV68,Q$7)))","v":""},{"$f":"IF($E68=\"\",\"\",IF(INDEX(E_SourceStreams!$A:$N,CW68,R$7)=\"\",\"\",INDEX(E_SourceStreams!$A:$N,CW68,R$7)))","v":""},{"$f":"IF($E68=\"\",\"\",IF(INDEX(E_SourceStreams!$A:$N,CX68,S$7)=\"\",\"\",INDEX(E_SourceStreams!$A:$N,CX68,S$7)))","v":""},{"$f":"IF($E68=\"\",\"\",IF(INDEX(E_SourceStreams!$A:$N,CY68,T$7)=\"\",\"\",INDEX(E_SourceStreams!$A:$N,CY68,T$7)))","v":""},{"$f":"IF($E68=\"\",\"\",IF(INDEX(E_SourceStreams!$A:$N,CZ68,U$7)=\"\",\"\",INDEX(E_SourceStreams!$A:$N,CZ68,U$7)))","v":""},{"$f":"IF($E68=\"\",\"\",IF(INDEX(E_SourceStreams!$A:$N,DA68,V$7)=\"\",\"\",INDEX(E_SourceStreams!$A:$N,DA68,V$7)))","v":""},{"$f":"IF($E68=\"\",\"\",IF(INDEX(E_SourceStreams!$A:$N,DB68,W$7)=\"\",\"\",INDEX(E_SourceStreams!$A:$N,DB68,W$7)))","v":""},{"$f":"IF($E68=\"\",\"\",IF(INDEX(E_SourceStreams!$A:$N,DC68,X$7)=\"\",\"\",INDEX(E_SourceStreams!$A:$N,DC68,X$7)))","v":""},{"$f":"IF($E68=\"\",\"\",IF(INDEX(E_SourceStreams!$A:$N,DD68,Y$7)=\"\",\"\",INDEX(E_SourceStreams!$A:$N,DD68,Y$7)))","v":""},{"$f":"IF($E68=\"\",\"\",IF(INDEX(E_SourceStreams!$A:$N,DE68,Z$7)=\"\",\"\",INDEX(E_SourceStreams!$A:$N,DE68,Z$7)))","v":""},{"$f":"IF($E68=\"\",\"\",IF(INDEX(E_SourceStreams!$A:$N,DF68,AA$7)=\"\",\"\",INDEX(E_SourceStreams!$A:$N,DF68,AA$7)))","v":""},{"$f":"IF($E68=\"\",\"\",IF(INDEX(E_SourceStreams!$A:$N,DG68,AB$7)=\"\",\"\",INDEX(E_SourceStreams!$A:$N,DG68,AB$7)))","v":""},{"$f":"IF($E68=\"\",\"\",IF(INDEX(E_SourceStreams!$A:$N,DH68,AC$7)=\"\",\"\",INDEX(E_SourceStreams!$A:$N,DH68,AC$7)))","v":""},{"$f":"IF($E68=\"\",\"\",IF(INDEX(E_SourceStreams!$A:$N,DI68,AD$7)=\"\",\"\",INDEX(E_SourceStreams!$A:$N,DI68,AD$7)))","v":""},{"$f":"IF($E68=\"\",\"\",IF(INDEX(E_SourceStreams!$A:$N,DJ68,AE$7)=\"\",\"\",INDEX(E_SourceStreams!$A:$N,DJ68,AE$7)))","v":""},{"$f":"IF($E68=\"\",\"\",IF(INDEX(E_SourceStreams!$A:$N,DK68,AF$7)=\"\",\"\",INDEX(E_SourceStreams!$A:$N,DK68,AF$7)))","v":""},{"$f":"IF($E68=\"\",\"\",IF(INDEX(E_SourceStreams!$A:$N,DL68,AG$7)=\"\",\"\",INDEX(E_SourceStreams!$A:$N,DL68,AG$7)))","v":""},{"$f":"IF($E68=\"\",\"\",IF(INDEX(E_SourceStreams!$A:$N,DM68,AH$7)=\"\",\"\",INDEX(E_SourceStreams!$A:$N,DM68,AH$7)))","v":""},{"$f":"IF($E68=\"\",\"\",IF(INDEX(E_SourceStreams!$A:$N,DN68,AI$7)=\"\",\"\",INDEX(E_SourceStreams!$A:$N,DN68,AI$7)))","v":""},{"$f":"IF($E68=\"\",\"\",IF(INDEX(E_SourceStreams!$A:$N,DO68,AJ$7)=\"\",\"\",INDEX(E_SourceStreams!$A:$N,DO68,AJ$7)))","v":""},{"$f":"IF($E68=\"\",\"\",IF(INDEX(E_SourceStreams!$A:$N,DP68,AK$7)=\"\",\"\",INDEX(E_SourceStreams!$A:$N,DP68,AK$7)))","v":""},{"$f":"IF($E68=\"\",\"\",IF(INDEX(E_SourceStreams!$A:$N,DQ68,AL$7)=\"\",\"\",INDEX(E_SourceStreams!$A:$N,DQ68,AL$7)))","v":""},{"$f":"IF($E68=\"\",\"\",IF(INDEX(E_SourceStreams!$A:$N,DR68,AM$7)=\"\",\"\",INDEX(E_SourceStreams!$A:$N,DR68,AM$7)))","v":""},{"$f":"IF($E68=\"\",\"\",IF(INDEX(E_SourceStreams!$A:$N,DS68,AN$7)=\"\",\"\",INDEX(E_SourceStreams!$A:$N,DS68,AN$7)))","v":""},{"$f":"IF($E68=\"\",\"\",IF(INDEX(E_SourceStreams!$A:$N,DT68,AO$7)=\"\",\"\",INDEX(E_SourceStreams!$A:$N,DT68,AO$7)))","v":""},{"$f":"IF($E68=\"\",\"\",IF(INDEX(E_SourceStreams!$A:$N,DU68,AP$7)=\"\",\"\",INDEX(E_SourceStreams!$A:$N,DU68,AP$7)))","v":""},{"$f":"IF($E68=\"\",\"\",IF(INDEX(E_SourceStreams!$A:$N,DV68,AQ$7)=\"\",\"\",INDEX(E_SourceStreams!$A:$N,DV68,AQ$7)))","v":""},{"$f":"IF($E68=\"\",\"\",IF(INDEX(E_SourceStreams!$A:$N,DW68,AR$7)=\"\",\"\",INDEX(E_SourceStreams!$A:$N,DW68,AR$7)))","v":""},{"$f":"IF($E68=\"\",\"\",IF(INDEX(E_SourceStreams!$A:$N,DX68,AS$7)=\"\",\"\",INDEX(E_SourceStreams!$A:$N,DX68,AS$7)))","v":""},{"$f":"IF($E68=\"\",\"\",IF(INDEX(E_SourceStreams!$A:$N,DY68,AT$7)=\"\",\"\",INDEX(E_SourceStreams!$A:$N,DY68,AT$7)))","v":""},{"$f":"IF($E68=\"\",\"\",IF(INDEX(E_SourceStreams!$A:$N,DZ68,AU$7)=\"\",\"\",INDEX(E_SourceStreams!$A:$N,DZ68,AU$7)))","v":""},{"$f":"IF($E68=\"\",\"\",IF(INDEX(E_SourceStreams!$A:$N,EA68,AV$7)=\"\",\"\",INDEX(E_SourceStreams!$A:$N,EA68,AV$7)))","v":""},{"$f":"IF($E68=\"\",\"\",IF(INDEX(E_SourceStreams!$A:$N,EB68,AW$7)=\"\",\"\",INDEX(E_SourceStreams!$A:$N,EB68,AW$7)))","v":""},{"$f":"IF($E68=\"\",\"\",IF(INDEX(E_SourceStreams!$A:$N,EC68,AX$7)=\"\",\"\",INDEX(E_SourceStreams!$A:$N,EC68,AX$7)))","v":""},{"$f":"IF($E68=\"\",\"\",IF(INDEX(E_SourceStreams!$A:$N,ED68,AY$7)=\"\",\"\",INDEX(E_SourceStreams!$A:$N,ED68,AY$7)))","v":""},{"$f":"IF($E68=\"\",\"\",IF(INDEX(E_SourceStreams!$A:$N,EE68,AZ$7)=\"\",\"\",INDEX(E_SourceStreams!$A:$N,EE68,AZ$7)))","v":""},{"$f":"IF($E68=\"\",\"\",IF(INDEX(E_SourceStreams!$A:$N,EF68,BA$7)=\"\",\"\",INDEX(E_SourceStreams!$A:$N,EF68,BA$7)))","v":""},{"$f":"IF($E68=\"\",\"\",IF(INDEX(E_SourceStreams!$A:$N,EG68,BB$7)=\"\",\"\",INDEX(E_SourceStreams!$A:$N,EG68,BB$7)))","v":""},{"$f":"IF($E68=\"\",\"\",IF(INDEX(E_SourceStreams!$A:$N,EH68,BC$7)=\"\",\"\",INDEX(E_SourceStreams!$A:$N,EH68,BC$7)))","v":""},{"$f":"IF($E68=\"\",\"\",IF(INDEX(E_SourceStreams!$A:$N,EI68,BD$7)=\"\",\"\",INDEX(E_SourceStreams!$A:$N,EI68,BD$7)))","v":""},{"$f":"IF($E68=\"\",\"\",IF(INDEX(E_SourceStreams!$A:$N,EJ68,BE$7)=\"\",\"\",INDEX(E_SourceStreams!$A:$N,EJ68,BE$7)))","v":""},{"$f":"IF($E68=\"\",\"\",IF(INDEX(E_SourceStreams!$A:$N,EK68,BF$7)=\"\",\"\",INDEX(E_SourceStreams!$A:$N,EK68,BF$7)))","v":""},{"$f":"IF($E68=\"\",\"\",IF(INDEX(E_SourceStreams!$A:$N,EL68,BG$7)=\"\",\"\",INDEX(E_SourceStreams!$A:$N,EL68,BG$7)))","v":""},{"$f":"IF($E68=\"\",\"\",IF(INDEX(E_SourceStreams!$A:$N,EM68,BH$7)=\"\",\"\",INDEX(E_SourceStreams!$A:$N,EM68,BH$7)))","v":""},{"$f":"IF($E68=\"\",\"\",IF(INDEX(E_SourceStreams!$A:$N,EN68,BI$7)=\"\",\"\",INDEX(E_SourceStreams!$A:$N,EN68,BI$7)))","v":""},{"$f":"IF($E68=\"\",\"\",IF(INDEX(E_SourceStreams!$A:$N,EO68,BJ$7)=\"\",\"\",INDEX(E_SourceStreams!$A:$N,EO68,BJ$7)))","v":""},{"$f":"IF($E68=\"\",\"\",IF(INDEX(E_SourceStreams!$A:$N,EP68,BK$7)=\"\",\"\",INDEX(E_SourceStreams!$A:$N,EP68,BK$7)))","v":""},{"$f":"IF($E68=\"\",\"\",IF(INDEX(E_SourceStreams!$A:$N,EQ68,BL$7)=\"\",\"\",INDEX(E_SourceStreams!$A:$N,EQ68,BL$7)))","v":""},{"$f":"IF($E68=\"\",\"\",IF(INDEX(E_SourceStreams!$A:$N,ER68,BM$7)=\"\",\"\",INDEX(E_SourceStreams!$A:$N,ER68,BM$7)))","v":""},{"$f":"IF($E68=\"\",\"\",IF(INDEX(E_SourceStreams!$A:$N,ES68,BN$7)=\"\",\"\",INDEX(E_SourceStreams!$A:$N,ES68,BN$7)))","v":""},{"$f":"IF($E68=\"\",\"\",IF(INDEX(E_SourceStreams!$A:$N,ET68,BO$7)=\"\",\"\",INDEX(E_SourceStreams!$A:$N,ET68,BO$7)))","v":""},{"$f":"IF($E68=\"\",\"\",IF(INDEX(E_SourceStreams!$A:$N,EU68,BP$7)=\"\",\"\",INDEX(E_SourceStreams!$A:$N,EU68,BP$7)))","v":""},{"$f":"IF($E68=\"\",\"\",IF(INDEX(E_SourceStreams!$A:$N,EV68,BQ$7)=\"\",\"\",INDEX(E_SourceStreams!$A:$N,EV68,BQ$7)))","v":""},{"$f":"IF($E68=\"\",\"\",IF(INDEX(E_SourceStreams!$A:$N,EW68,BR$7)=\"\",\"\",INDEX(E_SourceStreams!$A:$N,EW68,BR$7)))","v":""},{"$f":"IF($E68=\"\",\"\",IF(INDEX(E_SourceStreams!$A:$N,EX68,BS$7)=\"\",\"\",INDEX(E_SourceStreams!$A:$N,EX68,BS$7)))","v":""},{"$f":"IF($E68=\"\",\"\",IF(INDEX(E_SourceStreams!$A:$N,EY68,BT$7)=\"\",\"\",INDEX(E_SourceStreams!$A:$N,EY68,BT$7)))","v":""},null,null,null,null,null,null,null,null,null,null,null,null,null,null,null,"SourceCategory_",{"$f":"INDEX(C_InstallationDescription!$A$226:$A$332,ROWS($CI$11:CI68))=\"ausblenden\"","v":true},"SourceStreamName_",null,3897,3899,3901,3903,3905,3907,3909,3909,3909,3909,3909,3912,3916,3917,3918,3925,3935,3935,3935,3935,3935,3935,3935,3926,3936,3936,3936,3936,3936,3936,3936,3927,3937,3937,3937,3937,3937,3937,3937,3928,3938,3938,3938,3938,3938,3938,3938,3929,3939,3939,3939,3939,3939,3939,3939,3930,3940,3940,3940,3940,3940,3940,3940,3946]
[null,{"$f":"IF(COUNTIF($CK$10:CK69,TRUE)>0,\"\",INDEX(C_InstallationDescription!$E$226:$E$242,ROWS($A$11:A69)))","v":""},{"$f":"IF($E69=\"\",\"\",INDEX(C_InstallationDescription!F:F,MATCH($B69,C_InstallationDescription!$E:$E,0)))","v":""},{"$f":"IF($E69=\"\",\"\",INDEX(C_InstallationDescription!I:I,MATCH($B69,C_InstallationDescription!$E:$E,0)))","v":""},{"$f":"IF($B69=\"\",\"\",INDEX(C_InstallationDescription!F:F,MATCH($CJ69,C_InstallationDescription!$Q:$Q,0)))","v":""},{"$f":"IF($E69=\"\",\"\",INDEX(C_InstallationDescription!L:L,MATCH($CJ69,C_InstallationDescription!$Q:$Q,0)))","v":""},{"$f":"IF($E69=\"\",\"\",INDEX(C_InstallationDescription!M:M,MATCH($CJ69,C_InstallationDescription!$Q:$Q,0)))","v":""},{"$f":"IF($E69=\"\",\"\",INDEX(C_InstallationDescription!N:N,MATCH($CJ69,C_InstallationDescription!$Q:$Q,0)))","v":""},{"$f":"IF($E69=\"\",\"\",IF(INDEX(E_SourceStreams!$A:$N,CN69,I$7)=\"\",\"\",INDEX(E_SourceStreams!$A:$N,CN69,I$7)))","v":""},{"$f":"IF($E69=\"\",\"\",IF(INDEX(E_SourceStreams!$A:$N,CO69,J$7)=\"\",\"\",INDEX(E_SourceStreams!$A:$N,CO69,J$7)))","v":""},{"$f":"IF($E69=\"\",\"\",IF(INDEX(E_SourceStreams!$A:$N,CP69,K$7)=\"\",\"\",INDEX(E_SourceStreams!$A:$N,CP69,K$7)))","v":""},{"$f":"IF($E69=\"\",\"\",IF(INDEX(E_SourceStreams!$A:$N,CQ69,L$7)=\"\",\"\",INDEX(E_SourceStreams!$A:$N,CQ69,L$7)))","v":""},{"$f":"IF($E69=\"\",\"\",IF(INDEX(E_SourceStreams!$A:$N,CR69,M$7)=\"\",\"\",INDEX(E_SourceStreams!$A:$N,CR69,M$7)))","v":""},{"$f":"IF($E69=\"\",\"\",IF(INDEX(E_SourceStreams!$A:$N,CS69,N$7)=\"\",\"\",INDEX(E_SourceStreams!$A:$N,CS69,N$7)))","v":""},{"$f":"IF($E69=\"\",\"\",IF(INDEX(E_SourceStreams!$A:$N,CT69,O$7)=\"\",\"\",INDEX(E_SourceStreams!$A:$N,CT69,O$7)))","v":""},{"$f":"IF($E69=\"\",\"\",IF(INDEX(E_SourceStreams!$A:$N,CU69,P$7)=\"\",\"\",INDEX(E_SourceStreams!$A:$N,CU69,P$7)))","v":""},{"$f":"IF($E69=\"\",\"\",IF(INDEX(E_SourceStreams!$A:$N,CV69,Q$7)=\"\",\"\",INDEX(E_SourceStreams!$A:$N,CV69,Q$7)))","v":""},{"$f":"IF($E69=\"\",\"\",IF(INDEX(E_SourceStreams!$A:$N,CW69,R$7)=\"\",\"\",INDEX(E_SourceStreams!$A:$N,CW69,R$7)))","v":""},{"$f":"IF($E69=\"\",\"\",IF(INDEX(E_SourceStreams!$A:$N,CX69,S$7)=\"\",\"\",INDEX(E_SourceStreams!$A:$N,CX69,S$7)))","v":""},{"$f":"IF($E69=\"\",\"\",IF(INDEX(E_SourceStreams!$A:$N,CY69,T$7)=\"\",\"\",INDEX(E_SourceStreams!$A:$N,CY69,T$7)))","v":""},{"$f":"IF($E69=\"\",\"\",IF(INDEX(E_SourceStreams!$A:$N,CZ69,U$7)=\"\",\"\",INDEX(E_SourceStreams!$A:$N,CZ69,U$7)))","v":""},{"$f":"IF($E69=\"\",\"\",IF(INDEX(E_SourceStreams!$A:$N,DA69,V$7)=\"\",\"\",INDEX(E_SourceStreams!$A:$N,DA69,V$7)))","v":""},{"$f":"IF($E69=\"\",\"\",IF(INDEX(E_SourceStreams!$A:$N,DB69,W$7)=\"\",\"\",INDEX(E_SourceStreams!$A:$N,DB69,W$7)))","v":""},{"$f":"IF($E69=\"\",\"\",IF(INDEX(E_SourceStreams!$A:$N,DC69,X$7)=\"\",\"\",INDEX(E_SourceStreams!$A:$N,DC69,X$7)))","v":""},{"$f":"IF($E69=\"\",\"\",IF(INDEX(E_SourceStreams!$A:$N,DD69,Y$7)=\"\",\"\",INDEX(E_SourceStreams!$A:$N,DD69,Y$7)))","v":""},{"$f":"IF($E69=\"\",\"\",IF(INDEX(E_SourceStreams!$A:$N,DE69,Z$7)=\"\",\"\",INDEX(E_SourceStreams!$A:$N,DE69,Z$7)))","v":""},{"$f":"IF($E69=\"\",\"\",IF(INDEX(E_SourceStreams!$A:$N,DF69,AA$7)=\"\",\"\",INDEX(E_SourceStreams!$A:$N,DF69,AA$7)))","v":""},{"$f":"IF($E69=\"\",\"\",IF(INDEX(E_SourceStreams!$A:$N,DG69,AB$7)=\"\",\"\",INDEX(E_SourceStreams!$A:$N,DG69,AB$7)))","v":""},{"$f":"IF($E69=\"\",\"\",IF(INDEX(E_SourceStreams!$A:$N,DH69,AC$7)=\"\",\"\",INDEX(E_SourceStreams!$A:$N,DH69,AC$7)))","v":""},{"$f":"IF($E69=\"\",\"\",IF(INDEX(E_SourceStreams!$A:$N,DI69,AD$7)=\"\",\"\",INDEX(E_SourceStreams!$A:$N,DI69,AD$7)))","v":""},{"$f":"IF($E69=\"\",\"\",IF(INDEX(E_SourceStreams!$A:$N,DJ69,AE$7)=\"\",\"\",INDEX(E_SourceStreams!$A:$N,DJ69,AE$7)))","v":""},{"$f":"IF($E69=\"\",\"\",IF(INDEX(E_SourceStreams!$A:$N,DK69,AF$7)=\"\",\"\",INDEX(E_SourceStreams!$A:$N,DK69,AF$7)))","v":""},{"$f":"IF($E69=\"\",\"\",IF(INDEX(E_SourceStreams!$A:$N,DL69,AG$7)=\"\",\"\",INDEX(E_SourceStreams!$A:$N,DL69,AG$7)))","v":""},{"$f":"IF($E69=\"\",\"\",IF(INDEX(E_SourceStreams!$A:$N,DM69,AH$7)=\"\",\"\",INDEX(E_SourceStreams!$A:$N,DM69,AH$7)))","v":""},{"$f":"IF($E69=\"\",\"\",IF(INDEX(E_SourceStreams!$A:$N,DN69,AI$7)=\"\",\"\",INDEX(E_SourceStreams!$A:$N,DN69,AI$7)))","v":""},{"$f":"IF($E69=\"\",\"\",IF(INDEX(E_SourceStreams!$A:$N,DO69,AJ$7)=\"\",\"\",INDEX(E_SourceStreams!$A:$N,DO69,AJ$7)))","v":""},{"$f":"IF($E69=\"\",\"\",IF(INDEX(E_SourceStreams!$A:$N,DP69,AK$7)=\"\",\"\",INDEX(E_SourceStreams!$A:$N,DP69,AK$7)))","v":""},{"$f":"IF($E69=\"\",\"\",IF(INDEX(E_SourceStreams!$A:$N,DQ69,AL$7)=\"\",\"\",INDEX(E_SourceStreams!$A:$N,DQ69,AL$7)))","v":""},{"$f":"IF($E69=\"\",\"\",IF(INDEX(E_SourceStreams!$A:$N,DR69,AM$7)=\"\",\"\",INDEX(E_SourceStreams!$A:$N,DR69,AM$7)))","v":""},{"$f":"IF($E69=\"\",\"\",IF(INDEX(E_SourceStreams!$A:$N,DS69,AN$7)=\"\",\"\",INDEX(E_SourceStreams!$A:$N,DS69,AN$7)))","v":""},{"$f":"IF($E69=\"\",\"\",IF(INDEX(E_SourceStreams!$A:$N,DT69,AO$7)=\"\",\"\",INDEX(E_SourceStreams!$A:$N,DT69,AO$7)))","v":""},{"$f":"IF($E69=\"\",\"\",IF(INDEX(E_SourceStreams!$A:$N,DU69,AP$7)=\"\",\"\",INDEX(E_SourceStreams!$A:$N,DU69,AP$7)))","v":""},{"$f":"IF($E69=\"\",\"\",IF(INDEX(E_SourceStreams!$A:$N,DV69,AQ$7)=\"\",\"\",INDEX(E_SourceStreams!$A:$N,DV69,AQ$7)))","v":""},{"$f":"IF($E69=\"\",\"\",IF(INDEX(E_SourceStreams!$A:$N,DW69,AR$7)=\"\",\"\",INDEX(E_SourceStreams!$A:$N,DW69,AR$7)))","v":""},{"$f":"IF($E69=\"\",\"\",IF(INDEX(E_SourceStreams!$A:$N,DX69,AS$7)=\"\",\"\",INDEX(E_SourceStreams!$A:$N,DX69,AS$7)))","v":""},{"$f":"IF($E69=\"\",\"\",IF(INDEX(E_SourceStreams!$A:$N,DY69,AT$7)=\"\",\"\",INDEX(E_SourceStreams!$A:$N,DY69,AT$7)))","v":""},{"$f":"IF($E69=\"\",\"\",IF(INDEX(E_SourceStreams!$A:$N,DZ69,AU$7)=\"\",\"\",INDEX(E_SourceStreams!$A:$N,DZ69,AU$7)))","v":""},{"$f":"IF($E69=\"\",\"\",IF(INDEX(E_SourceStreams!$A:$N,EA69,AV$7)=\"\",\"\",INDEX(E_SourceStreams!$A:$N,EA69,AV$7)))","v":""},{"$f":"IF($E69=\"\",\"\",IF(INDEX(E_SourceStreams!$A:$N,EB69,AW$7)=\"\",\"\",INDEX(E_SourceStreams!$A:$N,EB69,AW$7)))","v":""},{"$f":"IF($E69=\"\",\"\",IF(INDEX(E_SourceStreams!$A:$N,EC69,AX$7)=\"\",\"\",INDEX(E_SourceStreams!$A:$N,EC69,AX$7)))","v":""},{"$f":"IF($E69=\"\",\"\",IF(INDEX(E_SourceStreams!$A:$N,ED69,AY$7)=\"\",\"\",INDEX(E_SourceStreams!$A:$N,ED69,AY$7)))","v":""},{"$f":"IF($E69=\"\",\"\",IF(INDEX(E_SourceStreams!$A:$N,EE69,AZ$7)=\"\",\"\",INDEX(E_SourceStreams!$A:$N,EE69,AZ$7)))","v":""},{"$f":"IF($E69=\"\",\"\",IF(INDEX(E_SourceStreams!$A:$N,EF69,BA$7)=\"\",\"\",INDEX(E_SourceStreams!$A:$N,EF69,BA$7)))","v":""},{"$f":"IF($E69=\"\",\"\",IF(INDEX(E_SourceStreams!$A:$N,EG69,BB$7)=\"\",\"\",INDEX(E_SourceStreams!$A:$N,EG69,BB$7)))","v":""},{"$f":"IF($E69=\"\",\"\",IF(INDEX(E_SourceStreams!$A:$N,EH69,BC$7)=\"\",\"\",INDEX(E_SourceStreams!$A:$N,EH69,BC$7)))","v":""},{"$f":"IF($E69=\"\",\"\",IF(INDEX(E_SourceStreams!$A:$N,EI69,BD$7)=\"\",\"\",INDEX(E_SourceStreams!$A:$N,EI69,BD$7)))","v":""},{"$f":"IF($E69=\"\",\"\",IF(INDEX(E_SourceStreams!$A:$N,EJ69,BE$7)=\"\",\"\",INDEX(E_SourceStreams!$A:$N,EJ69,BE$7)))","v":""},{"$f":"IF($E69=\"\",\"\",IF(INDEX(E_SourceStreams!$A:$N,EK69,BF$7)=\"\",\"\",INDEX(E_SourceStreams!$A:$N,EK69,BF$7)))","v":""},{"$f":"IF($E69=\"\",\"\",IF(INDEX(E_SourceStreams!$A:$N,EL69,BG$7)=\"\",\"\",INDEX(E_SourceStreams!$A:$N,EL69,BG$7)))","v":""},{"$f":"IF($E69=\"\",\"\",IF(INDEX(E_SourceStreams!$A:$N,EM69,BH$7)=\"\",\"\",INDEX(E_SourceStreams!$A:$N,EM69,BH$7)))","v":""},{"$f":"IF($E69=\"\",\"\",IF(INDEX(E_SourceStreams!$A:$N,EN69,BI$7)=\"\",\"\",INDEX(E_SourceStreams!$A:$N,EN69,BI$7)))","v":""},{"$f":"IF($E69=\"\",\"\",IF(INDEX(E_SourceStreams!$A:$N,EO69,BJ$7)=\"\",\"\",INDEX(E_SourceStreams!$A:$N,EO69,BJ$7)))","v":""},{"$f":"IF($E69=\"\",\"\",IF(INDEX(E_SourceStreams!$A:$N,EP69,BK$7)=\"\",\"\",INDEX(E_SourceStreams!$A:$N,EP69,BK$7)))","v":""},{"$f":"IF($E69=\"\",\"\",IF(INDEX(E_SourceStreams!$A:$N,EQ69,BL$7)=\"\",\"\",INDEX(E_SourceStreams!$A:$N,EQ69,BL$7)))","v":""},{"$f":"IF($E69=\"\",\"\",IF(INDEX(E_SourceStreams!$A:$N,ER69,BM$7)=\"\",\"\",INDEX(E_SourceStreams!$A:$N,ER69,BM$7)))","v":""},{"$f":"IF($E69=\"\",\"\",IF(INDEX(E_SourceStreams!$A:$N,ES69,BN$7)=\"\",\"\",INDEX(E_SourceStreams!$A:$N,ES69,BN$7)))","v":""},{"$f":"IF($E69=\"\",\"\",IF(INDEX(E_SourceStreams!$A:$N,ET69,BO$7)=\"\",\"\",INDEX(E_SourceStreams!$A:$N,ET69,BO$7)))","v":""},{"$f":"IF($E69=\"\",\"\",IF(INDEX(E_SourceStreams!$A:$N,EU69,BP$7)=\"\",\"\",INDEX(E_SourceStreams!$A:$N,EU69,BP$7)))","v":""},{"$f":"IF($E69=\"\",\"\",IF(INDEX(E_SourceStreams!$A:$N,EV69,BQ$7)=\"\",\"\",INDEX(E_SourceStreams!$A:$N,EV69,BQ$7)))","v":""},{"$f":"IF($E69=\"\",\"\",IF(INDEX(E_SourceStreams!$A:$N,EW69,BR$7)=\"\",\"\",INDEX(E_SourceStreams!$A:$N,EW69,BR$7)))","v":""},{"$f":"IF($E69=\"\",\"\",IF(INDEX(E_SourceStreams!$A:$N,EX69,BS$7)=\"\",\"\",INDEX(E_SourceStreams!$A:$N,EX69,BS$7)))","v":""},{"$f":"IF($E69=\"\",\"\",IF(INDEX(E_SourceStreams!$A:$N,EY69,BT$7)=\"\",\"\",INDEX(E_SourceStreams!$A:$N,EY69,BT$7)))","v":""},null,null,null,null,null,null,null,null,null,null,null,null,null,null,null,"SourceCategory_",{"$f":"INDEX(C_InstallationDescription!$A$226:$A$332,ROWS($CI$11:CI69))=\"ausblenden\"","v":true},"SourceStreamName_",null,3963,3965,3967,3969,3971,3973,3975,3975,3975,3975,3975,3978,3982,3983,3984,3991,4001,4001,4001,4001,4001,4001,4001,3992,4002,4002,4002,4002,4002,4002,4002,3993,4003,4003,4003,4003,4003,4003,4003,3994,4004,4004,4004,4004,4004,4004,4004,3995,4005,4005,4005,4005,4005,4005,4005,3996,4006,4006,4006,4006,4006,4006,4006,4012]
[null,{"$f":"IF(COUNTIF($CK$10:CK70,TRUE)>0,\"\",INDEX(C_InstallationDescription!$E$226:$E$242,ROWS($A$11:A70)))","v":""},{"$f":"IF($E70=\"\",\"\",INDEX(C_InstallationDescription!F:F,MATCH($B70,C_InstallationDescription!$E:$E,0)))","v":""},{"$f":"IF($E70=\"\",\"\",INDEX(C_InstallationDescription!I:I,MATCH($B70,C_InstallationDescription!$E:$E,0)))","v":""},{"$f":"IF($B70=\"\",\"\",INDEX(C_InstallationDescription!F:F,MATCH($CJ70,C_InstallationDescription!$Q:$Q,0)))","v":""},{"$f":"IF($E70=\"\",\"\",INDEX(C_InstallationDescription!L:L,MATCH($CJ70,C_InstallationDescription!$Q:$Q,0)))","v":""},{"$f":"IF($E70=\"\",\"\",INDEX(C_InstallationDescription!M:M,MATCH($CJ70,C_InstallationDescription!$Q:$Q,0)))","v":""},{"$f":"IF($E70=\"\",\"\",INDEX(C_InstallationDescription!N:N,MATCH($CJ70,C_InstallationDescription!$Q:$Q,0)))","v":""},{"$f":"IF($E70=\"\",\"\",IF(INDEX(E_SourceStreams!$A:$N,CN70,I$7)=\"\",\"\",INDEX(E_SourceStreams!$A:$N,CN70,I$7)))","v":""},{"$f":"IF($E70=\"\",\"\",IF(INDEX(E_SourceStreams!$A:$N,CO70,J$7)=\"\",\"\",INDEX(E_SourceStreams!$A:$N,CO70,J$7)))","v":""},{"$f":"IF($E70=\"\",\"\",IF(INDEX(E_SourceStreams!$A:$N,CP70,K$7)=\"\",\"\",INDEX(E_SourceStreams!$A:$N,CP70,K$7)))","v":""},{"$f":"IF($E70=\"\",\"\",IF(INDEX(E_SourceStreams!$A:$N,CQ70,L$7)=\"\",\"\",INDEX(E_SourceStreams!$A:$N,CQ70,L$7)))","v":""},{"$f":"IF($E70=\"\",\"\",IF(INDEX(E_SourceStreams!$A:$N,CR70,M$7)=\"\",\"\",INDEX(E_SourceStreams!$A:$N,CR70,M$7)))","v":""},{"$f":"IF($E70=\"\",\"\",IF(INDEX(E_SourceStreams!$A:$N,CS70,N$7)=\"\",\"\",INDEX(E_SourceStreams!$A:$N,CS70,N$7)))","v":""},{"$f":"IF($E70=\"\",\"\",IF(INDEX(E_SourceStreams!$A:$N,CT70,O$7)=\"\",\"\",INDEX(E_SourceStreams!$A:$N,CT70,O$7)))","v":""},{"$f":"IF($E70=\"\",\"\",IF(INDEX(E_SourceStreams!$A:$N,CU70,P$7)=\"\",\"\",INDEX(E_SourceStreams!$A:$N,CU70,P$7)))","v":""},{"$f":"IF($E70=\"\",\"\",IF(INDEX(E_SourceStreams!$A:$N,CV70,Q$7)=\"\",\"\",INDEX(E_SourceStreams!$A:$N,CV70,Q$7)))","v":""},{"$f":"IF($E70=\"\",\"\",IF(INDEX(E_SourceStreams!$A:$N,CW70,R$7)=\"\",\"\",INDEX(E_SourceStreams!$A:$N,CW70,R$7)))","v":""},{"$f":"IF($E70=\"\",\"\",IF(INDEX(E_SourceStreams!$A:$N,CX70,S$7)=\"\",\"\",INDEX(E_SourceStreams!$A:$N,CX70,S$7)))","v":""},{"$f":"IF($E70=\"\",\"\",IF(INDEX(E_SourceStreams!$A:$N,CY70,T$7)=\"\",\"\",INDEX(E_SourceStreams!$A:$N,CY70,T$7)))","v":""},{"$f":"IF($E70=\"\",\"\",IF(INDEX(E_SourceStreams!$A:$N,CZ70,U$7)=\"\",\"\",INDEX(E_SourceStreams!$A:$N,CZ70,U$7)))","v":""},{"$f":"IF($E70=\"\",\"\",IF(INDEX(E_SourceStreams!$A:$N,DA70,V$7)=\"\",\"\",INDEX(E_SourceStreams!$A:$N,DA70,V$7)))","v":""},{"$f":"IF($E70=\"\",\"\",IF(INDEX(E_SourceStreams!$A:$N,DB70,W$7)=\"\",\"\",INDEX(E_SourceStreams!$A:$N,DB70,W$7)))","v":""},{"$f":"IF($E70=\"\",\"\",IF(INDEX(E_SourceStreams!$A:$N,DC70,X$7)=\"\",\"\",INDEX(E_SourceStreams!$A:$N,DC70,X$7)))","v":""},{"$f":"IF($E70=\"\",\"\",IF(INDEX(E_SourceStreams!$A:$N,DD70,Y$7)=\"\",\"\",INDEX(E_SourceStreams!$A:$N,DD70,Y$7)))","v":""},{"$f":"IF($E70=\"\",\"\",IF(INDEX(E_SourceStreams!$A:$N,DE70,Z$7)=\"\",\"\",INDEX(E_SourceStreams!$A:$N,DE70,Z$7)))","v":""},{"$f":"IF($E70=\"\",\"\",IF(INDEX(E_SourceStreams!$A:$N,DF70,AA$7)=\"\",\"\",INDEX(E_SourceStreams!$A:$N,DF70,AA$7)))","v":""},{"$f":"IF($E70=\"\",\"\",IF(INDEX(E_SourceStreams!$A:$N,DG70,AB$7)=\"\",\"\",INDEX(E_SourceStreams!$A:$N,DG70,AB$7)))","v":""},{"$f":"IF($E70=\"\",\"\",IF(INDEX(E_SourceStreams!$A:$N,DH70,AC$7)=\"\",\"\",INDEX(E_SourceStreams!$A:$N,DH70,AC$7)))","v":""},{"$f":"IF($E70=\"\",\"\",IF(INDEX(E_SourceStreams!$A:$N,DI70,AD$7)=\"\",\"\",INDEX(E_SourceStreams!$A:$N,DI70,AD$7)))","v":""},{"$f":"IF($E70=\"\",\"\",IF(INDEX(E_SourceStreams!$A:$N,DJ70,AE$7)=\"\",\"\",INDEX(E_SourceStreams!$A:$N,DJ70,AE$7)))","v":""},{"$f":"IF($E70=\"\",\"\",IF(INDEX(E_SourceStreams!$A:$N,DK70,AF$7)=\"\",\"\",INDEX(E_SourceStreams!$A:$N,DK70,AF$7)))","v":""},{"$f":"IF($E70=\"\",\"\",IF(INDEX(E_SourceStreams!$A:$N,DL70,AG$7)=\"\",\"\",INDEX(E_SourceStreams!$A:$N,DL70,AG$7)))","v":""},{"$f":"IF($E70=\"\",\"\",IF(INDEX(E_SourceStreams!$A:$N,DM70,AH$7)=\"\",\"\",INDEX(E_SourceStreams!$A:$N,DM70,AH$7)))","v":""},{"$f":"IF($E70=\"\",\"\",IF(INDEX(E_SourceStreams!$A:$N,DN70,AI$7)=\"\",\"\",INDEX(E_SourceStreams!$A:$N,DN70,AI$7)))","v":""},{"$f":"IF($E70=\"\",\"\",IF(INDEX(E_SourceStreams!$A:$N,DO70,AJ$7)=\"\",\"\",INDEX(E_SourceStreams!$A:$N,DO70,AJ$7)))","v":""},{"$f":"IF($E70=\"\",\"\",IF(INDEX(E_SourceStreams!$A:$N,DP70,AK$7)=\"\",\"\",INDEX(E_SourceStreams!$A:$N,DP70,AK$7)))","v":""},{"$f":"IF($E70=\"\",\"\",IF(INDEX(E_SourceStreams!$A:$N,DQ70,AL$7)=\"\",\"\",INDEX(E_SourceStreams!$A:$N,DQ70,AL$7)))","v":""},{"$f":"IF($E70=\"\",\"\",IF(INDEX(E_SourceStreams!$A:$N,DR70,AM$7)=\"\",\"\",INDEX(E_SourceStreams!$A:$N,DR70,AM$7)))","v":""},{"$f":"IF($E70=\"\",\"\",IF(INDEX(E_SourceStreams!$A:$N,DS70,AN$7)=\"\",\"\",INDEX(E_SourceStreams!$A:$N,DS70,AN$7)))","v":""},{"$f":"IF($E70=\"\",\"\",IF(INDEX(E_SourceStreams!$A:$N,DT70,AO$7)=\"\",\"\",INDEX(E_SourceStreams!$A:$N,DT70,AO$7)))","v":""},{"$f":"IF($E70=\"\",\"\",IF(INDEX(E_SourceStreams!$A:$N,DU70,AP$7)=\"\",\"\",INDEX(E_SourceStreams!$A:$N,DU70,AP$7)))","v":""},{"$f":"IF($E70=\"\",\"\",IF(INDEX(E_SourceStreams!$A:$N,DV70,AQ$7)=\"\",\"\",INDEX(E_SourceStreams!$A:$N,DV70,AQ$7)))","v":""},{"$f":"IF($E70=\"\",\"\",IF(INDEX(E_SourceStreams!$A:$N,DW70,AR$7)=\"\",\"\",INDEX(E_SourceStreams!$A:$N,DW70,AR$7)))","v":""},{"$f":"IF($E70=\"\",\"\",IF(INDEX(E_SourceStreams!$A:$N,DX70,AS$7)=\"\",\"\",INDEX(E_SourceStreams!$A:$N,DX70,AS$7)))","v":""},{"$f":"IF($E70=\"\",\"\",IF(INDEX(E_SourceStreams!$A:$N,DY70,AT$7)=\"\",\"\",INDEX(E_SourceStreams!$A:$N,DY70,AT$7)))","v":""},{"$f":"IF($E70=\"\",\"\",IF(INDEX(E_SourceStreams!$A:$N,DZ70,AU$7)=\"\",\"\",INDEX(E_SourceStreams!$A:$N,DZ70,AU$7)))","v":""},{"$f":"IF($E70=\"\",\"\",IF(INDEX(E_SourceStreams!$A:$N,EA70,AV$7)=\"\",\"\",INDEX(E_SourceStreams!$A:$N,EA70,AV$7)))","v":""},{"$f":"IF($E70=\"\",\"\",IF(INDEX(E_SourceStreams!$A:$N,EB70,AW$7)=\"\",\"\",INDEX(E_SourceStreams!$A:$N,EB70,AW$7)))","v":""},{"$f":"IF($E70=\"\",\"\",IF(INDEX(E_SourceStreams!$A:$N,EC70,AX$7)=\"\",\"\",INDEX(E_SourceStreams!$A:$N,EC70,AX$7)))","v":""},{"$f":"IF($E70=\"\",\"\",IF(INDEX(E_SourceStreams!$A:$N,ED70,AY$7)=\"\",\"\",INDEX(E_SourceStreams!$A:$N,ED70,AY$7)))","v":""},{"$f":"IF($E70=\"\",\"\",IF(INDEX(E_SourceStreams!$A:$N,EE70,AZ$7)=\"\",\"\",INDEX(E_SourceStreams!$A:$N,EE70,AZ$7)))","v":""},{"$f":"IF($E70=\"\",\"\",IF(INDEX(E_SourceStreams!$A:$N,EF70,BA$7)=\"\",\"\",INDEX(E_SourceStreams!$A:$N,EF70,BA$7)))","v":""},{"$f":"IF($E70=\"\",\"\",IF(INDEX(E_SourceStreams!$A:$N,EG70,BB$7)=\"\",\"\",INDEX(E_SourceStreams!$A:$N,EG70,BB$7)))","v":""},{"$f":"IF($E70=\"\",\"\",IF(INDEX(E_SourceStreams!$A:$N,EH70,BC$7)=\"\",\"\",INDEX(E_SourceStreams!$A:$N,EH70,BC$7)))","v":""},{"$f":"IF($E70=\"\",\"\",IF(INDEX(E_SourceStreams!$A:$N,EI70,BD$7)=\"\",\"\",INDEX(E_SourceStreams!$A:$N,EI70,BD$7)))","v":""},{"$f":"IF($E70=\"\",\"\",IF(INDEX(E_SourceStreams!$A:$N,EJ70,BE$7)=\"\",\"\",INDEX(E_SourceStreams!$A:$N,EJ70,BE$7)))","v":""},{"$f":"IF($E70=\"\",\"\",IF(INDEX(E_SourceStreams!$A:$N,EK70,BF$7)=\"\",\"\",INDEX(E_SourceStreams!$A:$N,EK70,BF$7)))","v":""},{"$f":"IF($E70=\"\",\"\",IF(INDEX(E_SourceStreams!$A:$N,EL70,BG$7)=\"\",\"\",INDEX(E_SourceStreams!$A:$N,EL70,BG$7)))","v":""},{"$f":"IF($E70=\"\",\"\",IF(INDEX(E_SourceStreams!$A:$N,EM70,BH$7)=\"\",\"\",INDEX(E_SourceStreams!$A:$N,EM70,BH$7)))","v":""},{"$f":"IF($E70=\"\",\"\",IF(INDEX(E_SourceStreams!$A:$N,EN70,BI$7)=\"\",\"\",INDEX(E_SourceStreams!$A:$N,EN70,BI$7)))","v":""},{"$f":"IF($E70=\"\",\"\",IF(INDEX(E_SourceStreams!$A:$N,EO70,BJ$7)=\"\",\"\",INDEX(E_SourceStreams!$A:$N,EO70,BJ$7)))","v":""},{"$f":"IF($E70=\"\",\"\",IF(INDEX(E_SourceStreams!$A:$N,EP70,BK$7)=\"\",\"\",INDEX(E_SourceStreams!$A:$N,EP70,BK$7)))","v":""},{"$f":"IF($E70=\"\",\"\",IF(INDEX(E_SourceStreams!$A:$N,EQ70,BL$7)=\"\",\"\",INDEX(E_SourceStreams!$A:$N,EQ70,BL$7)))","v":""},{"$f":"IF($E70=\"\",\"\",IF(INDEX(E_SourceStreams!$A:$N,ER70,BM$7)=\"\",\"\",INDEX(E_SourceStreams!$A:$N,ER70,BM$7)))","v":""},{"$f":"IF($E70=\"\",\"\",IF(INDEX(E_SourceStreams!$A:$N,ES70,BN$7)=\"\",\"\",INDEX(E_SourceStreams!$A:$N,ES70,BN$7)))","v":""},{"$f":"IF($E70=\"\",\"\",IF(INDEX(E_SourceStreams!$A:$N,ET70,BO$7)=\"\",\"\",INDEX(E_SourceStreams!$A:$N,ET70,BO$7)))","v":""},{"$f":"IF($E70=\"\",\"\",IF(INDEX(E_SourceStreams!$A:$N,EU70,BP$7)=\"\",\"\",INDEX(E_SourceStreams!$A:$N,EU70,BP$7)))","v":""},{"$f":"IF($E70=\"\",\"\",IF(INDEX(E_SourceStreams!$A:$N,EV70,BQ$7)=\"\",\"\",INDEX(E_SourceStreams!$A:$N,EV70,BQ$7)))","v":""},{"$f":"IF($E70=\"\",\"\",IF(INDEX(E_SourceStreams!$A:$N,EW70,BR$7)=\"\",\"\",INDEX(E_SourceStreams!$A:$N,EW70,BR$7)))","v":""},{"$f":"IF($E70=\"\",\"\",IF(INDEX(E_SourceStreams!$A:$N,EX70,BS$7)=\"\",\"\",INDEX(E_SourceStreams!$A:$N,EX70,BS$7)))","v":""},{"$f":"IF($E70=\"\",\"\",IF(INDEX(E_SourceStreams!$A:$N,EY70,BT$7)=\"\",\"\",INDEX(E_SourceStreams!$A:$N,EY70,BT$7)))","v":""},null,null,null,null,null,null,null,null,null,null,null,null,null,null,null,"SourceCategory_",{"$f":"INDEX(C_InstallationDescription!$A$226:$A$332,ROWS($CI$11:CI70))=\"ausblenden\"","v":true},"SourceStreamName_",null,4029,4031,4033,4035,4037,4039,4041,4041,4041,4041,4041,4044,4048,4049,4050,4057,4067,4067,4067,4067,4067,4067,4067,4058,4068,4068,4068,4068,4068,4068,4068,4059,4069,4069,4069,4069,4069,4069,4069,4060,4070,4070,4070,4070,4070,4070,4070,4061,4071,4071,4071,4071,4071,4071,4071,4062,4072,4072,4072,4072,4072,4072,4072,4078]
[null,{"$f":"IF(COUNTIF($CK$10:CK71,TRUE)>0,\"\",INDEX(C_InstallationDescription!$E$226:$E$242,ROWS($A$11:A71)))","v":""},{"$f":"IF($E71=\"\",\"\",INDEX(C_InstallationDescription!F:F,MATCH($B71,C_InstallationDescription!$E:$E,0)))","v":""},{"$f":"IF($E71=\"\",\"\",INDEX(C_InstallationDescription!I:I,MATCH($B71,C_InstallationDescription!$E:$E,0)))","v":""},{"$f":"IF($B71=\"\",\"\",INDEX(C_InstallationDescription!F:F,MATCH($CJ71,C_InstallationDescription!$Q:$Q,0)))","v":""},{"$f":"IF($E71=\"\",\"\",INDEX(C_InstallationDescription!L:L,MATCH($CJ71,C_InstallationDescription!$Q:$Q,0)))","v":""},{"$f":"IF($E71=\"\",\"\",INDEX(C_InstallationDescription!M:M,MATCH($CJ71,C_InstallationDescription!$Q:$Q,0)))","v":""},{"$f":"IF($E71=\"\",\"\",INDEX(C_InstallationDescription!N:N,MATCH($CJ71,C_InstallationDescription!$Q:$Q,0)))","v":""},{"$f":"IF($E71=\"\",\"\",IF(INDEX(E_SourceStreams!$A:$N,CN71,I$7)=\"\",\"\",INDEX(E_SourceStreams!$A:$N,CN71,I$7)))","v":""},{"$f":"IF($E71=\"\",\"\",IF(INDEX(E_SourceStreams!$A:$N,CO71,J$7)=\"\",\"\",INDEX(E_SourceStreams!$A:$N,CO71,J$7)))","v":""},{"$f":"IF($E71=\"\",\"\",IF(INDEX(E_SourceStreams!$A:$N,CP71,K$7)=\"\",\"\",INDEX(E_SourceStreams!$A:$N,CP71,K$7)))","v":""},{"$f":"IF($E71=\"\",\"\",IF(INDEX(E_SourceStreams!$A:$N,CQ71,L$7)=\"\",\"\",INDEX(E_SourceStreams!$A:$N,CQ71,L$7)))","v":""},{"$f":"IF($E71=\"\",\"\",IF(INDEX(E_SourceStreams!$A:$N,CR71,M$7)=\"\",\"\",INDEX(E_SourceStreams!$A:$N,CR71,M$7)))","v":""},{"$f":"IF($E71=\"\",\"\",IF(INDEX(E_SourceStreams!$A:$N,CS71,N$7)=\"\",\"\",INDEX(E_SourceStreams!$A:$N,CS71,N$7)))","v":""},{"$f":"IF($E71=\"\",\"\",IF(INDEX(E_SourceStreams!$A:$N,CT71,O$7)=\"\",\"\",INDEX(E_SourceStreams!$A:$N,CT71,O$7)))","v":""},{"$f":"IF($E71=\"\",\"\",IF(INDEX(E_SourceStreams!$A:$N,CU71,P$7)=\"\",\"\",INDEX(E_SourceStreams!$A:$N,CU71,P$7)))","v":""},{"$f":"IF($E71=\"\",\"\",IF(INDEX(E_SourceStreams!$A:$N,CV71,Q$7)=\"\",\"\",INDEX(E_SourceStreams!$A:$N,CV71,Q$7)))","v":""},{"$f":"IF($E71=\"\",\"\",IF(INDEX(E_SourceStreams!$A:$N,CW71,R$7)=\"\",\"\",INDEX(E_SourceStreams!$A:$N,CW71,R$7)))","v":""},{"$f":"IF($E71=\"\",\"\",IF(INDEX(E_SourceStreams!$A:$N,CX71,S$7)=\"\",\"\",INDEX(E_SourceStreams!$A:$N,CX71,S$7)))","v":""},{"$f":"IF($E71=\"\",\"\",IF(INDEX(E_SourceStreams!$A:$N,CY71,T$7)=\"\",\"\",INDEX(E_SourceStreams!$A:$N,CY71,T$7)))","v":""},{"$f":"IF($E71=\"\",\"\",IF(INDEX(E_SourceStreams!$A:$N,CZ71,U$7)=\"\",\"\",INDEX(E_SourceStreams!$A:$N,CZ71,U$7)))","v":""},{"$f":"IF($E71=\"\",\"\",IF(INDEX(E_SourceStreams!$A:$N,DA71,V$7)=\"\",\"\",INDEX(E_SourceStreams!$A:$N,DA71,V$7)))","v":""},{"$f":"IF($E71=\"\",\"\",IF(INDEX(E_SourceStreams!$A:$N,DB71,W$7)=\"\",\"\",INDEX(E_SourceStreams!$A:$N,DB71,W$7)))","v":""},{"$f":"IF($E71=\"\",\"\",IF(INDEX(E_SourceStreams!$A:$N,DC71,X$7)=\"\",\"\",INDEX(E_SourceStreams!$A:$N,DC71,X$7)))","v":""},{"$f":"IF($E71=\"\",\"\",IF(INDEX(E_SourceStreams!$A:$N,DD71,Y$7)=\"\",\"\",INDEX(E_SourceStreams!$A:$N,DD71,Y$7)))","v":""},{"$f":"IF($E71=\"\",\"\",IF(INDEX(E_SourceStreams!$A:$N,DE71,Z$7)=\"\",\"\",INDEX(E_SourceStreams!$A:$N,DE71,Z$7)))","v":""},{"$f":"IF($E71=\"\",\"\",IF(INDEX(E_SourceStreams!$A:$N,DF71,AA$7)=\"\",\"\",INDEX(E_SourceStreams!$A:$N,DF71,AA$7)))","v":""},{"$f":"IF($E71=\"\",\"\",IF(INDEX(E_SourceStreams!$A:$N,DG71,AB$7)=\"\",\"\",INDEX(E_SourceStreams!$A:$N,DG71,AB$7)))","v":""},{"$f":"IF($E71=\"\",\"\",IF(INDEX(E_SourceStreams!$A:$N,DH71,AC$7)=\"\",\"\",INDEX(E_SourceStreams!$A:$N,DH71,AC$7)))","v":""},{"$f":"IF($E71=\"\",\"\",IF(INDEX(E_SourceStreams!$A:$N,DI71,AD$7)=\"\",\"\",INDEX(E_SourceStreams!$A:$N,DI71,AD$7)))","v":""},{"$f":"IF($E71=\"\",\"\",IF(INDEX(E_SourceStreams!$A:$N,DJ71,AE$7)=\"\",\"\",INDEX(E_SourceStreams!$A:$N,DJ71,AE$7)))","v":""},{"$f":"IF($E71=\"\",\"\",IF(INDEX(E_SourceStreams!$A:$N,DK71,AF$7)=\"\",\"\",INDEX(E_SourceStreams!$A:$N,DK71,AF$7)))","v":""},{"$f":"IF($E71=\"\",\"\",IF(INDEX(E_SourceStreams!$A:$N,DL71,AG$7)=\"\",\"\",INDEX(E_SourceStreams!$A:$N,DL71,AG$7)))","v":""},{"$f":"IF($E71=\"\",\"\",IF(INDEX(E_SourceStreams!$A:$N,DM71,AH$7)=\"\",\"\",INDEX(E_SourceStreams!$A:$N,DM71,AH$7)))","v":""},{"$f":"IF($E71=\"\",\"\",IF(INDEX(E_SourceStreams!$A:$N,DN71,AI$7)=\"\",\"\",INDEX(E_SourceStreams!$A:$N,DN71,AI$7)))","v":""},{"$f":"IF($E71=\"\",\"\",IF(INDEX(E_SourceStreams!$A:$N,DO71,AJ$7)=\"\",\"\",INDEX(E_SourceStreams!$A:$N,DO71,AJ$7)))","v":""},{"$f":"IF($E71=\"\",\"\",IF(INDEX(E_SourceStreams!$A:$N,DP71,AK$7)=\"\",\"\",INDEX(E_SourceStreams!$A:$N,DP71,AK$7)))","v":""},{"$f":"IF($E71=\"\",\"\",IF(INDEX(E_SourceStreams!$A:$N,DQ71,AL$7)=\"\",\"\",INDEX(E_SourceStreams!$A:$N,DQ71,AL$7)))","v":""},{"$f":"IF($E71=\"\",\"\",IF(INDEX(E_SourceStreams!$A:$N,DR71,AM$7)=\"\",\"\",INDEX(E_SourceStreams!$A:$N,DR71,AM$7)))","v":""},{"$f":"IF($E71=\"\",\"\",IF(INDEX(E_SourceStreams!$A:$N,DS71,AN$7)=\"\",\"\",INDEX(E_SourceStreams!$A:$N,DS71,AN$7)))","v":""},{"$f":"IF($E71=\"\",\"\",IF(INDEX(E_SourceStreams!$A:$N,DT71,AO$7)=\"\",\"\",INDEX(E_SourceStreams!$A:$N,DT71,AO$7)))","v":""},{"$f":"IF($E71=\"\",\"\",IF(INDEX(E_SourceStreams!$A:$N,DU71,AP$7)=\"\",\"\",INDEX(E_SourceStreams!$A:$N,DU71,AP$7)))","v":""},{"$f":"IF($E71=\"\",\"\",IF(INDEX(E_SourceStreams!$A:$N,DV71,AQ$7)=\"\",\"\",INDEX(E_SourceStreams!$A:$N,DV71,AQ$7)))","v":""},{"$f":"IF($E71=\"\",\"\",IF(INDEX(E_SourceStreams!$A:$N,DW71,AR$7)=\"\",\"\",INDEX(E_SourceStreams!$A:$N,DW71,AR$7)))","v":""},{"$f":"IF($E71=\"\",\"\",IF(INDEX(E_SourceStreams!$A:$N,DX71,AS$7)=\"\",\"\",INDEX(E_SourceStreams!$A:$N,DX71,AS$7)))","v":""},{"$f":"IF($E71=\"\",\"\",IF(INDEX(E_SourceStreams!$A:$N,DY71,AT$7)=\"\",\"\",INDEX(E_SourceStreams!$A:$N,DY71,AT$7)))","v":""},{"$f":"IF($E71=\"\",\"\",IF(INDEX(E_SourceStreams!$A:$N,DZ71,AU$7)=\"\",\"\",INDEX(E_SourceStreams!$A:$N,DZ71,AU$7)))","v":""},{"$f":"IF($E71=\"\",\"\",IF(INDEX(E_SourceStreams!$A:$N,EA71,AV$7)=\"\",\"\",INDEX(E_SourceStreams!$A:$N,EA71,AV$7)))","v":""},{"$f":"IF($E71=\"\",\"\",IF(INDEX(E_SourceStreams!$A:$N,EB71,AW$7)=\"\",\"\",INDEX(E_SourceStreams!$A:$N,EB71,AW$7)))","v":""},{"$f":"IF($E71=\"\",\"\",IF(INDEX(E_SourceStreams!$A:$N,EC71,AX$7)=\"\",\"\",INDEX(E_SourceStreams!$A:$N,EC71,AX$7)))","v":""},{"$f":"IF($E71=\"\",\"\",IF(INDEX(E_SourceStreams!$A:$N,ED71,AY$7)=\"\",\"\",INDEX(E_SourceStreams!$A:$N,ED71,AY$7)))","v":""},{"$f":"IF($E71=\"\",\"\",IF(INDEX(E_SourceStreams!$A:$N,EE71,AZ$7)=\"\",\"\",INDEX(E_SourceStreams!$A:$N,EE71,AZ$7)))","v":""},{"$f":"IF($E71=\"\",\"\",IF(INDEX(E_SourceStreams!$A:$N,EF71,BA$7)=\"\",\"\",INDEX(E_SourceStreams!$A:$N,EF71,BA$7)))","v":""},{"$f":"IF($E71=\"\",\"\",IF(INDEX(E_SourceStreams!$A:$N,EG71,BB$7)=\"\",\"\",INDEX(E_SourceStreams!$A:$N,EG71,BB$7)))","v":""},{"$f":"IF($E71=\"\",\"\",IF(INDEX(E_SourceStreams!$A:$N,EH71,BC$7)=\"\",\"\",INDEX(E_SourceStreams!$A:$N,EH71,BC$7)))","v":""},{"$f":"IF($E71=\"\",\"\",IF(INDEX(E_SourceStreams!$A:$N,EI71,BD$7)=\"\",\"\",INDEX(E_SourceStreams!$A:$N,EI71,BD$7)))","v":""},{"$f":"IF($E71=\"\",\"\",IF(INDEX(E_SourceStreams!$A:$N,EJ71,BE$7)=\"\",\"\",INDEX(E_SourceStreams!$A:$N,EJ71,BE$7)))","v":""},{"$f":"IF($E71=\"\",\"\",IF(INDEX(E_SourceStreams!$A:$N,EK71,BF$7)=\"\",\"\",INDEX(E_SourceStreams!$A:$N,EK71,BF$7)))","v":""},{"$f":"IF($E71=\"\",\"\",IF(INDEX(E_SourceStreams!$A:$N,EL71,BG$7)=\"\",\"\",INDEX(E_SourceStreams!$A:$N,EL71,BG$7)))","v":""},{"$f":"IF($E71=\"\",\"\",IF(INDEX(E_SourceStreams!$A:$N,EM71,BH$7)=\"\",\"\",INDEX(E_SourceStreams!$A:$N,EM71,BH$7)))","v":""},{"$f":"IF($E71=\"\",\"\",IF(INDEX(E_SourceStreams!$A:$N,EN71,BI$7)=\"\",\"\",INDEX(E_SourceStreams!$A:$N,EN71,BI$7)))","v":""},{"$f":"IF($E71=\"\",\"\",IF(INDEX(E_SourceStreams!$A:$N,EO71,BJ$7)=\"\",\"\",INDEX(E_SourceStreams!$A:$N,EO71,BJ$7)))","v":""},{"$f":"IF($E71=\"\",\"\",IF(INDEX(E_SourceStreams!$A:$N,EP71,BK$7)=\"\",\"\",INDEX(E_SourceStreams!$A:$N,EP71,BK$7)))","v":""},{"$f":"IF($E71=\"\",\"\",IF(INDEX(E_SourceStreams!$A:$N,EQ71,BL$7)=\"\",\"\",INDEX(E_SourceStreams!$A:$N,EQ71,BL$7)))","v":""},{"$f":"IF($E71=\"\",\"\",IF(INDEX(E_SourceStreams!$A:$N,ER71,BM$7)=\"\",\"\",INDEX(E_SourceStreams!$A:$N,ER71,BM$7)))","v":""},{"$f":"IF($E71=\"\",\"\",IF(INDEX(E_SourceStreams!$A:$N,ES71,BN$7)=\"\",\"\",INDEX(E_SourceStreams!$A:$N,ES71,BN$7)))","v":""},{"$f":"IF($E71=\"\",\"\",IF(INDEX(E_SourceStreams!$A:$N,ET71,BO$7)=\"\",\"\",INDEX(E_SourceStreams!$A:$N,ET71,BO$7)))","v":""},{"$f":"IF($E71=\"\",\"\",IF(INDEX(E_SourceStreams!$A:$N,EU71,BP$7)=\"\",\"\",INDEX(E_SourceStreams!$A:$N,EU71,BP$7)))","v":""},{"$f":"IF($E71=\"\",\"\",IF(INDEX(E_SourceStreams!$A:$N,EV71,BQ$7)=\"\",\"\",INDEX(E_SourceStreams!$A:$N,EV71,BQ$7)))","v":""},{"$f":"IF($E71=\"\",\"\",IF(INDEX(E_SourceStreams!$A:$N,EW71,BR$7)=\"\",\"\",INDEX(E_SourceStreams!$A:$N,EW71,BR$7)))","v":""},{"$f":"IF($E71=\"\",\"\",IF(INDEX(E_SourceStreams!$A:$N,EX71,BS$7)=\"\",\"\",INDEX(E_SourceStreams!$A:$N,EX71,BS$7)))","v":""},{"$f":"IF($E71=\"\",\"\",IF(INDEX(E_SourceStreams!$A:$N,EY71,BT$7)=\"\",\"\",INDEX(E_SourceStreams!$A:$N,EY71,BT$7)))","v":""},null,null,null,null,null,null,null,null,null,null,null,null,null,null,null,"SourceCategory_",{"$f":"INDEX(C_InstallationDescription!$A$226:$A$332,ROWS($CI$11:CI71))=\"ausblenden\"","v":true},"SourceStreamName_",null,4095,4097,4099,4101,4103,4105,4107,4107,4107,4107,4107,4110,4114,4115,4116,4123,4133,4133,4133,4133,4133,4133,4133,4124,4134,4134,4134,4134,4134,4134,4134,4125,4135,4135,4135,4135,4135,4135,4135,4126,4136,4136,4136,4136,4136,4136,4136,4127,4137,4137,4137,4137,4137,4137,4137,4128,4138,4138,4138,4138,4138,4138,4138,4144]
[null,{"$f":"IF(COUNTIF($CK$10:CK72,TRUE)>0,\"\",INDEX(C_InstallationDescription!$E$226:$E$242,ROWS($A$11:A72)))","v":""},{"$f":"IF($E72=\"\",\"\",INDEX(C_InstallationDescription!F:F,MATCH($B72,C_InstallationDescription!$E:$E,0)))","v":""},{"$f":"IF($E72=\"\",\"\",INDEX(C_InstallationDescription!I:I,MATCH($B72,C_InstallationDescription!$E:$E,0)))","v":""},{"$f":"IF($B72=\"\",\"\",INDEX(C_InstallationDescription!F:F,MATCH($CJ72,C_InstallationDescription!$Q:$Q,0)))","v":""},{"$f":"IF($E72=\"\",\"\",INDEX(C_InstallationDescription!L:L,MATCH($CJ72,C_InstallationDescription!$Q:$Q,0)))","v":""},{"$f":"IF($E72=\"\",\"\",INDEX(C_InstallationDescription!M:M,MATCH($CJ72,C_InstallationDescription!$Q:$Q,0)))","v":""},{"$f":"IF($E72=\"\",\"\",INDEX(C_InstallationDescription!N:N,MATCH($CJ72,C_InstallationDescription!$Q:$Q,0)))","v":""},{"$f":"IF($E72=\"\",\"\",IF(INDEX(E_SourceStreams!$A:$N,CN72,I$7)=\"\",\"\",INDEX(E_SourceStreams!$A:$N,CN72,I$7)))","v":""},{"$f":"IF($E72=\"\",\"\",IF(INDEX(E_SourceStreams!$A:$N,CO72,J$7)=\"\",\"\",INDEX(E_SourceStreams!$A:$N,CO72,J$7)))","v":""},{"$f":"IF($E72=\"\",\"\",IF(INDEX(E_SourceStreams!$A:$N,CP72,K$7)=\"\",\"\",INDEX(E_SourceStreams!$A:$N,CP72,K$7)))","v":""},{"$f":"IF($E72=\"\",\"\",IF(INDEX(E_SourceStreams!$A:$N,CQ72,L$7)=\"\",\"\",INDEX(E_SourceStreams!$A:$N,CQ72,L$7)))","v":""},{"$f":"IF($E72=\"\",\"\",IF(INDEX(E_SourceStreams!$A:$N,CR72,M$7)=\"\",\"\",INDEX(E_SourceStreams!$A:$N,CR72,M$7)))","v":""},{"$f":"IF($E72=\"\",\"\",IF(INDEX(E_SourceStreams!$A:$N,CS72,N$7)=\"\",\"\",INDEX(E_SourceStreams!$A:$N,CS72,N$7)))","v":""},{"$f":"IF($E72=\"\",\"\",IF(INDEX(E_SourceStreams!$A:$N,CT72,O$7)=\"\",\"\",INDEX(E_SourceStreams!$A:$N,CT72,O$7)))","v":""},{"$f":"IF($E72=\"\",\"\",IF(INDEX(E_SourceStreams!$A:$N,CU72,P$7)=\"\",\"\",INDEX(E_SourceStreams!$A:$N,CU72,P$7)))","v":""},{"$f":"IF($E72=\"\",\"\",IF(INDEX(E_SourceStreams!$A:$N,CV72,Q$7)=\"\",\"\",INDEX(E_SourceStreams!$A:$N,CV72,Q$7)))","v":""},{"$f":"IF($E72=\"\",\"\",IF(INDEX(E_SourceStreams!$A:$N,CW72,R$7)=\"\",\"\",INDEX(E_SourceStreams!$A:$N,CW72,R$7)))","v":""},{"$f":"IF($E72=\"\",\"\",IF(INDEX(E_SourceStreams!$A:$N,CX72,S$7)=\"\",\"\",INDEX(E_SourceStreams!$A:$N,CX72,S$7)))","v":""},{"$f":"IF($E72=\"\",\"\",IF(INDEX(E_SourceStreams!$A:$N,CY72,T$7)=\"\",\"\",INDEX(E_SourceStreams!$A:$N,CY72,T$7)))","v":""},{"$f":"IF($E72=\"\",\"\",IF(INDEX(E_SourceStreams!$A:$N,CZ72,U$7)=\"\",\"\",INDEX(E_SourceStreams!$A:$N,CZ72,U$7)))","v":""},{"$f":"IF($E72=\"\",\"\",IF(INDEX(E_SourceStreams!$A:$N,DA72,V$7)=\"\",\"\",INDEX(E_SourceStreams!$A:$N,DA72,V$7)))","v":""},{"$f":"IF($E72=\"\",\"\",IF(INDEX(E_SourceStreams!$A:$N,DB72,W$7)=\"\",\"\",INDEX(E_SourceStreams!$A:$N,DB72,W$7)))","v":""},{"$f":"IF($E72=\"\",\"\",IF(INDEX(E_SourceStreams!$A:$N,DC72,X$7)=\"\",\"\",INDEX(E_SourceStreams!$A:$N,DC72,X$7)))","v":""},{"$f":"IF($E72=\"\",\"\",IF(INDEX(E_SourceStreams!$A:$N,DD72,Y$7)=\"\",\"\",INDEX(E_SourceStreams!$A:$N,DD72,Y$7)))","v":""},{"$f":"IF($E72=\"\",\"\",IF(INDEX(E_SourceStreams!$A:$N,DE72,Z$7)=\"\",\"\",INDEX(E_SourceStreams!$A:$N,DE72,Z$7)))","v":""},{"$f":"IF($E72=\"\",\"\",IF(INDEX(E_SourceStreams!$A:$N,DF72,AA$7)=\"\",\"\",INDEX(E_SourceStreams!$A:$N,DF72,AA$7)))","v":""},{"$f":"IF($E72=\"\",\"\",IF(INDEX(E_SourceStreams!$A:$N,DG72,AB$7)=\"\",\"\",INDEX(E_SourceStreams!$A:$N,DG72,AB$7)))","v":""},{"$f":"IF($E72=\"\",\"\",IF(INDEX(E_SourceStreams!$A:$N,DH72,AC$7)=\"\",\"\",INDEX(E_SourceStreams!$A:$N,DH72,AC$7)))","v":""},{"$f":"IF($E72=\"\",\"\",IF(INDEX(E_SourceStreams!$A:$N,DI72,AD$7)=\"\",\"\",INDEX(E_SourceStreams!$A:$N,DI72,AD$7)))","v":""},{"$f":"IF($E72=\"\",\"\",IF(INDEX(E_SourceStreams!$A:$N,DJ72,AE$7)=\"\",\"\",INDEX(E_SourceStreams!$A:$N,DJ72,AE$7)))","v":""},{"$f":"IF($E72=\"\",\"\",IF(INDEX(E_SourceStreams!$A:$N,DK72,AF$7)=\"\",\"\",INDEX(E_SourceStreams!$A:$N,DK72,AF$7)))","v":""},{"$f":"IF($E72=\"\",\"\",IF(INDEX(E_SourceStreams!$A:$N,DL72,AG$7)=\"\",\"\",INDEX(E_SourceStreams!$A:$N,DL72,AG$7)))","v":""},{"$f":"IF($E72=\"\",\"\",IF(INDEX(E_SourceStreams!$A:$N,DM72,AH$7)=\"\",\"\",INDEX(E_SourceStreams!$A:$N,DM72,AH$7)))","v":""},{"$f":"IF($E72=\"\",\"\",IF(INDEX(E_SourceStreams!$A:$N,DN72,AI$7)=\"\",\"\",INDEX(E_SourceStreams!$A:$N,DN72,AI$7)))","v":""},{"$f":"IF($E72=\"\",\"\",IF(INDEX(E_SourceStreams!$A:$N,DO72,AJ$7)=\"\",\"\",INDEX(E_SourceStreams!$A:$N,DO72,AJ$7)))","v":""},{"$f":"IF($E72=\"\",\"\",IF(INDEX(E_SourceStreams!$A:$N,DP72,AK$7)=\"\",\"\",INDEX(E_SourceStreams!$A:$N,DP72,AK$7)))","v":""},{"$f":"IF($E72=\"\",\"\",IF(INDEX(E_SourceStreams!$A:$N,DQ72,AL$7)=\"\",\"\",INDEX(E_SourceStreams!$A:$N,DQ72,AL$7)))","v":""},{"$f":"IF($E72=\"\",\"\",IF(INDEX(E_SourceStreams!$A:$N,DR72,AM$7)=\"\",\"\",INDEX(E_SourceStreams!$A:$N,DR72,AM$7)))","v":""},{"$f":"IF($E72=\"\",\"\",IF(INDEX(E_SourceStreams!$A:$N,DS72,AN$7)=\"\",\"\",INDEX(E_SourceStreams!$A:$N,DS72,AN$7)))","v":""},{"$f":"IF($E72=\"\",\"\",IF(INDEX(E_SourceStreams!$A:$N,DT72,AO$7)=\"\",\"\",INDEX(E_SourceStreams!$A:$N,DT72,AO$7)))","v":""},{"$f":"IF($E72=\"\",\"\",IF(INDEX(E_SourceStreams!$A:$N,DU72,AP$7)=\"\",\"\",INDEX(E_SourceStreams!$A:$N,DU72,AP$7)))","v":""},{"$f":"IF($E72=\"\",\"\",IF(INDEX(E_SourceStreams!$A:$N,DV72,AQ$7)=\"\",\"\",INDEX(E_SourceStreams!$A:$N,DV72,AQ$7)))","v":""},{"$f":"IF($E72=\"\",\"\",IF(INDEX(E_SourceStreams!$A:$N,DW72,AR$7)=\"\",\"\",INDEX(E_SourceStreams!$A:$N,DW72,AR$7)))","v":""},{"$f":"IF($E72=\"\",\"\",IF(INDEX(E_SourceStreams!$A:$N,DX72,AS$7)=\"\",\"\",INDEX(E_SourceStreams!$A:$N,DX72,AS$7)))","v":""},{"$f":"IF($E72=\"\",\"\",IF(INDEX(E_SourceStreams!$A:$N,DY72,AT$7)=\"\",\"\",INDEX(E_SourceStreams!$A:$N,DY72,AT$7)))","v":""},{"$f":"IF($E72=\"\",\"\",IF(INDEX(E_SourceStreams!$A:$N,DZ72,AU$7)=\"\",\"\",INDEX(E_SourceStreams!$A:$N,DZ72,AU$7)))","v":""},{"$f":"IF($E72=\"\",\"\",IF(INDEX(E_SourceStreams!$A:$N,EA72,AV$7)=\"\",\"\",INDEX(E_SourceStreams!$A:$N,EA72,AV$7)))","v":""},{"$f":"IF($E72=\"\",\"\",IF(INDEX(E_SourceStreams!$A:$N,EB72,AW$7)=\"\",\"\",INDEX(E_SourceStreams!$A:$N,EB72,AW$7)))","v":""},{"$f":"IF($E72=\"\",\"\",IF(INDEX(E_SourceStreams!$A:$N,EC72,AX$7)=\"\",\"\",INDEX(E_SourceStreams!$A:$N,EC72,AX$7)))","v":""},{"$f":"IF($E72=\"\",\"\",IF(INDEX(E_SourceStreams!$A:$N,ED72,AY$7)=\"\",\"\",INDEX(E_SourceStreams!$A:$N,ED72,AY$7)))","v":""},{"$f":"IF($E72=\"\",\"\",IF(INDEX(E_SourceStreams!$A:$N,EE72,AZ$7)=\"\",\"\",INDEX(E_SourceStreams!$A:$N,EE72,AZ$7)))","v":""},{"$f":"IF($E72=\"\",\"\",IF(INDEX(E_SourceStreams!$A:$N,EF72,BA$7)=\"\",\"\",INDEX(E_SourceStreams!$A:$N,EF72,BA$7)))","v":""},{"$f":"IF($E72=\"\",\"\",IF(INDEX(E_SourceStreams!$A:$N,EG72,BB$7)=\"\",\"\",INDEX(E_SourceStreams!$A:$N,EG72,BB$7)))","v":""},{"$f":"IF($E72=\"\",\"\",IF(INDEX(E_SourceStreams!$A:$N,EH72,BC$7)=\"\",\"\",INDEX(E_SourceStreams!$A:$N,EH72,BC$7)))","v":""},{"$f":"IF($E72=\"\",\"\",IF(INDEX(E_SourceStreams!$A:$N,EI72,BD$7)=\"\",\"\",INDEX(E_SourceStreams!$A:$N,EI72,BD$7)))","v":""},{"$f":"IF($E72=\"\",\"\",IF(INDEX(E_SourceStreams!$A:$N,EJ72,BE$7)=\"\",\"\",INDEX(E_SourceStreams!$A:$N,EJ72,BE$7)))","v":""},{"$f":"IF($E72=\"\",\"\",IF(INDEX(E_SourceStreams!$A:$N,EK72,BF$7)=\"\",\"\",INDEX(E_SourceStreams!$A:$N,EK72,BF$7)))","v":""},{"$f":"IF($E72=\"\",\"\",IF(INDEX(E_SourceStreams!$A:$N,EL72,BG$7)=\"\",\"\",INDEX(E_SourceStreams!$A:$N,EL72,BG$7)))","v":""},{"$f":"IF($E72=\"\",\"\",IF(INDEX(E_SourceStreams!$A:$N,EM72,BH$7)=\"\",\"\",INDEX(E_SourceStreams!$A:$N,EM72,BH$7)))","v":""},{"$f":"IF($E72=\"\",\"\",IF(INDEX(E_SourceStreams!$A:$N,EN72,BI$7)=\"\",\"\",INDEX(E_SourceStreams!$A:$N,EN72,BI$7)))","v":""},{"$f":"IF($E72=\"\",\"\",IF(INDEX(E_SourceStreams!$A:$N,EO72,BJ$7)=\"\",\"\",INDEX(E_SourceStreams!$A:$N,EO72,BJ$7)))","v":""},{"$f":"IF($E72=\"\",\"\",IF(INDEX(E_SourceStreams!$A:$N,EP72,BK$7)=\"\",\"\",INDEX(E_SourceStreams!$A:$N,EP72,BK$7)))","v":""},{"$f":"IF($E72=\"\",\"\",IF(INDEX(E_SourceStreams!$A:$N,EQ72,BL$7)=\"\",\"\",INDEX(E_SourceStreams!$A:$N,EQ72,BL$7)))","v":""},{"$f":"IF($E72=\"\",\"\",IF(INDEX(E_SourceStreams!$A:$N,ER72,BM$7)=\"\",\"\",INDEX(E_SourceStreams!$A:$N,ER72,BM$7)))","v":""},{"$f":"IF($E72=\"\",\"\",IF(INDEX(E_SourceStreams!$A:$N,ES72,BN$7)=\"\",\"\",INDEX(E_SourceStreams!$A:$N,ES72,BN$7)))","v":""},{"$f":"IF($E72=\"\",\"\",IF(INDEX(E_SourceStreams!$A:$N,ET72,BO$7)=\"\",\"\",INDEX(E_SourceStreams!$A:$N,ET72,BO$7)))","v":""},{"$f":"IF($E72=\"\",\"\",IF(INDEX(E_SourceStreams!$A:$N,EU72,BP$7)=\"\",\"\",INDEX(E_SourceStreams!$A:$N,EU72,BP$7)))","v":""},{"$f":"IF($E72=\"\",\"\",IF(INDEX(E_SourceStreams!$A:$N,EV72,BQ$7)=\"\",\"\",INDEX(E_SourceStreams!$A:$N,EV72,BQ$7)))","v":""},{"$f":"IF($E72=\"\",\"\",IF(INDEX(E_SourceStreams!$A:$N,EW72,BR$7)=\"\",\"\",INDEX(E_SourceStreams!$A:$N,EW72,BR$7)))","v":""},{"$f":"IF($E72=\"\",\"\",IF(INDEX(E_SourceStreams!$A:$N,EX72,BS$7)=\"\",\"\",INDEX(E_SourceStreams!$A:$N,EX72,BS$7)))","v":""},{"$f":"IF($E72=\"\",\"\",IF(INDEX(E_SourceStreams!$A:$N,EY72,BT$7)=\"\",\"\",INDEX(E_SourceStreams!$A:$N,EY72,BT$7)))","v":""},null,null,null,null,null,null,null,null,null,null,null,null,null,null,null,"SourceCategory_",{"$f":"INDEX(C_InstallationDescription!$A$226:$A$332,ROWS($CI$11:CI72))=\"ausblenden\"","v":true},"SourceStreamName_",null,4161,4163,4165,4167,4169,4171,4173,4173,4173,4173,4173,4176,4180,4181,4182,4189,4199,4199,4199,4199,4199,4199,4199,4190,4200,4200,4200,4200,4200,4200,4200,4191,4201,4201,4201,4201,4201,4201,4201,4192,4202,4202,4202,4202,4202,4202,4202,4193,4203,4203,4203,4203,4203,4203,4203,4194,4204,4204,4204,4204,4204,4204,4204,4210]
[null,{"$f":"IF(COUNTIF($CK$10:CK73,TRUE)>0,\"\",INDEX(C_InstallationDescription!$E$226:$E$242,ROWS($A$11:A73)))","v":""},{"$f":"IF($E73=\"\",\"\",INDEX(C_InstallationDescription!F:F,MATCH($B73,C_InstallationDescription!$E:$E,0)))","v":""},{"$f":"IF($E73=\"\",\"\",INDEX(C_InstallationDescription!I:I,MATCH($B73,C_InstallationDescription!$E:$E,0)))","v":""},{"$f":"IF($B73=\"\",\"\",INDEX(C_InstallationDescription!F:F,MATCH($CJ73,C_InstallationDescription!$Q:$Q,0)))","v":""},{"$f":"IF($E73=\"\",\"\",INDEX(C_InstallationDescription!L:L,MATCH($CJ73,C_InstallationDescription!$Q:$Q,0)))","v":""},{"$f":"IF($E73=\"\",\"\",INDEX(C_InstallationDescription!M:M,MATCH($CJ73,C_InstallationDescription!$Q:$Q,0)))","v":""},{"$f":"IF($E73=\"\",\"\",INDEX(C_InstallationDescription!N:N,MATCH($CJ73,C_InstallationDescription!$Q:$Q,0)))","v":""},{"$f":"IF($E73=\"\",\"\",IF(INDEX(E_SourceStreams!$A:$N,CN73,I$7)=\"\",\"\",INDEX(E_SourceStreams!$A:$N,CN73,I$7)))","v":""},{"$f":"IF($E73=\"\",\"\",IF(INDEX(E_SourceStreams!$A:$N,CO73,J$7)=\"\",\"\",INDEX(E_SourceStreams!$A:$N,CO73,J$7)))","v":""},{"$f":"IF($E73=\"\",\"\",IF(INDEX(E_SourceStreams!$A:$N,CP73,K$7)=\"\",\"\",INDEX(E_SourceStreams!$A:$N,CP73,K$7)))","v":""},{"$f":"IF($E73=\"\",\"\",IF(INDEX(E_SourceStreams!$A:$N,CQ73,L$7)=\"\",\"\",INDEX(E_SourceStreams!$A:$N,CQ73,L$7)))","v":""},{"$f":"IF($E73=\"\",\"\",IF(INDEX(E_SourceStreams!$A:$N,CR73,M$7)=\"\",\"\",INDEX(E_SourceStreams!$A:$N,CR73,M$7)))","v":""},{"$f":"IF($E73=\"\",\"\",IF(INDEX(E_SourceStreams!$A:$N,CS73,N$7)=\"\",\"\",INDEX(E_SourceStreams!$A:$N,CS73,N$7)))","v":""},{"$f":"IF($E73=\"\",\"\",IF(INDEX(E_SourceStreams!$A:$N,CT73,O$7)=\"\",\"\",INDEX(E_SourceStreams!$A:$N,CT73,O$7)))","v":""},{"$f":"IF($E73=\"\",\"\",IF(INDEX(E_SourceStreams!$A:$N,CU73,P$7)=\"\",\"\",INDEX(E_SourceStreams!$A:$N,CU73,P$7)))","v":""},{"$f":"IF($E73=\"\",\"\",IF(INDEX(E_SourceStreams!$A:$N,CV73,Q$7)=\"\",\"\",INDEX(E_SourceStreams!$A:$N,CV73,Q$7)))","v":""},{"$f":"IF($E73=\"\",\"\",IF(INDEX(E_SourceStreams!$A:$N,CW73,R$7)=\"\",\"\",INDEX(E_SourceStreams!$A:$N,CW73,R$7)))","v":""},{"$f":"IF($E73=\"\",\"\",IF(INDEX(E_SourceStreams!$A:$N,CX73,S$7)=\"\",\"\",INDEX(E_SourceStreams!$A:$N,CX73,S$7)))","v":""},{"$f":"IF($E73=\"\",\"\",IF(INDEX(E_SourceStreams!$A:$N,CY73,T$7)=\"\",\"\",INDEX(E_SourceStreams!$A:$N,CY73,T$7)))","v":""},{"$f":"IF($E73=\"\",\"\",IF(INDEX(E_SourceStreams!$A:$N,CZ73,U$7)=\"\",\"\",INDEX(E_SourceStreams!$A:$N,CZ73,U$7)))","v":""},{"$f":"IF($E73=\"\",\"\",IF(INDEX(E_SourceStreams!$A:$N,DA73,V$7)=\"\",\"\",INDEX(E_SourceStreams!$A:$N,DA73,V$7)))","v":""},{"$f":"IF($E73=\"\",\"\",IF(INDEX(E_SourceStreams!$A:$N,DB73,W$7)=\"\",\"\",INDEX(E_SourceStreams!$A:$N,DB73,W$7)))","v":""},{"$f":"IF($E73=\"\",\"\",IF(INDEX(E_SourceStreams!$A:$N,DC73,X$7)=\"\",\"\",INDEX(E_SourceStreams!$A:$N,DC73,X$7)))","v":""},{"$f":"IF($E73=\"\",\"\",IF(INDEX(E_SourceStreams!$A:$N,DD73,Y$7)=\"\",\"\",INDEX(E_SourceStreams!$A:$N,DD73,Y$7)))","v":""},{"$f":"IF($E73=\"\",\"\",IF(INDEX(E_SourceStreams!$A:$N,DE73,Z$7)=\"\",\"\",INDEX(E_SourceStreams!$A:$N,DE73,Z$7)))","v":""},{"$f":"IF($E73=\"\",\"\",IF(INDEX(E_SourceStreams!$A:$N,DF73,AA$7)=\"\",\"\",INDEX(E_SourceStreams!$A:$N,DF73,AA$7)))","v":""},{"$f":"IF($E73=\"\",\"\",IF(INDEX(E_SourceStreams!$A:$N,DG73,AB$7)=\"\",\"\",INDEX(E_SourceStreams!$A:$N,DG73,AB$7)))","v":""},{"$f":"IF($E73=\"\",\"\",IF(INDEX(E_SourceStreams!$A:$N,DH73,AC$7)=\"\",\"\",INDEX(E_SourceStreams!$A:$N,DH73,AC$7)))","v":""},{"$f":"IF($E73=\"\",\"\",IF(INDEX(E_SourceStreams!$A:$N,DI73,AD$7)=\"\",\"\",INDEX(E_SourceStreams!$A:$N,DI73,AD$7)))","v":""},{"$f":"IF($E73=\"\",\"\",IF(INDEX(E_SourceStreams!$A:$N,DJ73,AE$7)=\"\",\"\",INDEX(E_SourceStreams!$A:$N,DJ73,AE$7)))","v":""},{"$f":"IF($E73=\"\",\"\",IF(INDEX(E_SourceStreams!$A:$N,DK73,AF$7)=\"\",\"\",INDEX(E_SourceStreams!$A:$N,DK73,AF$7)))","v":""},{"$f":"IF($E73=\"\",\"\",IF(INDEX(E_SourceStreams!$A:$N,DL73,AG$7)=\"\",\"\",INDEX(E_SourceStreams!$A:$N,DL73,AG$7)))","v":""},{"$f":"IF($E73=\"\",\"\",IF(INDEX(E_SourceStreams!$A:$N,DM73,AH$7)=\"\",\"\",INDEX(E_SourceStreams!$A:$N,DM73,AH$7)))","v":""},{"$f":"IF($E73=\"\",\"\",IF(INDEX(E_SourceStreams!$A:$N,DN73,AI$7)=\"\",\"\",INDEX(E_SourceStreams!$A:$N,DN73,AI$7)))","v":""},{"$f":"IF($E73=\"\",\"\",IF(INDEX(E_SourceStreams!$A:$N,DO73,AJ$7)=\"\",\"\",INDEX(E_SourceStreams!$A:$N,DO73,AJ$7)))","v":""},{"$f":"IF($E73=\"\",\"\",IF(INDEX(E_SourceStreams!$A:$N,DP73,AK$7)=\"\",\"\",INDEX(E_SourceStreams!$A:$N,DP73,AK$7)))","v":""},{"$f":"IF($E73=\"\",\"\",IF(INDEX(E_SourceStreams!$A:$N,DQ73,AL$7)=\"\",\"\",INDEX(E_SourceStreams!$A:$N,DQ73,AL$7)))","v":""},{"$f":"IF($E73=\"\",\"\",IF(INDEX(E_SourceStreams!$A:$N,DR73,AM$7)=\"\",\"\",INDEX(E_SourceStreams!$A:$N,DR73,AM$7)))","v":""},{"$f":"IF($E73=\"\",\"\",IF(INDEX(E_SourceStreams!$A:$N,DS73,AN$7)=\"\",\"\",INDEX(E_SourceStreams!$A:$N,DS73,AN$7)))","v":""},{"$f":"IF($E73=\"\",\"\",IF(INDEX(E_SourceStreams!$A:$N,DT73,AO$7)=\"\",\"\",INDEX(E_SourceStreams!$A:$N,DT73,AO$7)))","v":""},{"$f":"IF($E73=\"\",\"\",IF(INDEX(E_SourceStreams!$A:$N,DU73,AP$7)=\"\",\"\",INDEX(E_SourceStreams!$A:$N,DU73,AP$7)))","v":""},{"$f":"IF($E73=\"\",\"\",IF(INDEX(E_SourceStreams!$A:$N,DV73,AQ$7)=\"\",\"\",INDEX(E_SourceStreams!$A:$N,DV73,AQ$7)))","v":""},{"$f":"IF($E73=\"\",\"\",IF(INDEX(E_SourceStreams!$A:$N,DW73,AR$7)=\"\",\"\",INDEX(E_SourceStreams!$A:$N,DW73,AR$7)))","v":""},{"$f":"IF($E73=\"\",\"\",IF(INDEX(E_SourceStreams!$A:$N,DX73,AS$7)=\"\",\"\",INDEX(E_SourceStreams!$A:$N,DX73,AS$7)))","v":""},{"$f":"IF($E73=\"\",\"\",IF(INDEX(E_SourceStreams!$A:$N,DY73,AT$7)=\"\",\"\",INDEX(E_SourceStreams!$A:$N,DY73,AT$7)))","v":""},{"$f":"IF($E73=\"\",\"\",IF(INDEX(E_SourceStreams!$A:$N,DZ73,AU$7)=\"\",\"\",INDEX(E_SourceStreams!$A:$N,DZ73,AU$7)))","v":""},{"$f":"IF($E73=\"\",\"\",IF(INDEX(E_SourceStreams!$A:$N,EA73,AV$7)=\"\",\"\",INDEX(E_SourceStreams!$A:$N,EA73,AV$7)))","v":""},{"$f":"IF($E73=\"\",\"\",IF(INDEX(E_SourceStreams!$A:$N,EB73,AW$7)=\"\",\"\",INDEX(E_SourceStreams!$A:$N,EB73,AW$7)))","v":""},{"$f":"IF($E73=\"\",\"\",IF(INDEX(E_SourceStreams!$A:$N,EC73,AX$7)=\"\",\"\",INDEX(E_SourceStreams!$A:$N,EC73,AX$7)))","v":""},{"$f":"IF($E73=\"\",\"\",IF(INDEX(E_SourceStreams!$A:$N,ED73,AY$7)=\"\",\"\",INDEX(E_SourceStreams!$A:$N,ED73,AY$7)))","v":""},{"$f":"IF($E73=\"\",\"\",IF(INDEX(E_SourceStreams!$A:$N,EE73,AZ$7)=\"\",\"\",INDEX(E_SourceStreams!$A:$N,EE73,AZ$7)))","v":""},{"$f":"IF($E73=\"\",\"\",IF(INDEX(E_SourceStreams!$A:$N,EF73,BA$7)=\"\",\"\",INDEX(E_SourceStreams!$A:$N,EF73,BA$7)))","v":""},{"$f":"IF($E73=\"\",\"\",IF(INDEX(E_SourceStreams!$A:$N,EG73,BB$7)=\"\",\"\",INDEX(E_SourceStreams!$A:$N,EG73,BB$7)))","v":""},{"$f":"IF($E73=\"\",\"\",IF(INDEX(E_SourceStreams!$A:$N,EH73,BC$7)=\"\",\"\",INDEX(E_SourceStreams!$A:$N,EH73,BC$7)))","v":""},{"$f":"IF($E73=\"\",\"\",IF(INDEX(E_SourceStreams!$A:$N,EI73,BD$7)=\"\",\"\",INDEX(E_SourceStreams!$A:$N,EI73,BD$7)))","v":""},{"$f":"IF($E73=\"\",\"\",IF(INDEX(E_SourceStreams!$A:$N,EJ73,BE$7)=\"\",\"\",INDEX(E_SourceStreams!$A:$N,EJ73,BE$7)))","v":""},{"$f":"IF($E73=\"\",\"\",IF(INDEX(E_SourceStreams!$A:$N,EK73,BF$7)=\"\",\"\",INDEX(E_SourceStreams!$A:$N,EK73,BF$7)))","v":""},{"$f":"IF($E73=\"\",\"\",IF(INDEX(E_SourceStreams!$A:$N,EL73,BG$7)=\"\",\"\",INDEX(E_SourceStreams!$A:$N,EL73,BG$7)))","v":""},{"$f":"IF($E73=\"\",\"\",IF(INDEX(E_SourceStreams!$A:$N,EM73,BH$7)=\"\",\"\",INDEX(E_SourceStreams!$A:$N,EM73,BH$7)))","v":""},{"$f":"IF($E73=\"\",\"\",IF(INDEX(E_SourceStreams!$A:$N,EN73,BI$7)=\"\",\"\",INDEX(E_SourceStreams!$A:$N,EN73,BI$7)))","v":""},{"$f":"IF($E73=\"\",\"\",IF(INDEX(E_SourceStreams!$A:$N,EO73,BJ$7)=\"\",\"\",INDEX(E_SourceStreams!$A:$N,EO73,BJ$7)))","v":""},{"$f":"IF($E73=\"\",\"\",IF(INDEX(E_SourceStreams!$A:$N,EP73,BK$7)=\"\",\"\",INDEX(E_SourceStreams!$A:$N,EP73,BK$7)))","v":""},{"$f":"IF($E73=\"\",\"\",IF(INDEX(E_SourceStreams!$A:$N,EQ73,BL$7)=\"\",\"\",INDEX(E_SourceStreams!$A:$N,EQ73,BL$7)))","v":""},{"$f":"IF($E73=\"\",\"\",IF(INDEX(E_SourceStreams!$A:$N,ER73,BM$7)=\"\",\"\",INDEX(E_SourceStreams!$A:$N,ER73,BM$7)))","v":""},{"$f":"IF($E73=\"\",\"\",IF(INDEX(E_SourceStreams!$A:$N,ES73,BN$7)=\"\",\"\",INDEX(E_SourceStreams!$A:$N,ES73,BN$7)))","v":""},{"$f":"IF($E73=\"\",\"\",IF(INDEX(E_SourceStreams!$A:$N,ET73,BO$7)=\"\",\"\",INDEX(E_SourceStreams!$A:$N,ET73,BO$7)))","v":""},{"$f":"IF($E73=\"\",\"\",IF(INDEX(E_SourceStreams!$A:$N,EU73,BP$7)=\"\",\"\",INDEX(E_SourceStreams!$A:$N,EU73,BP$7)))","v":""},{"$f":"IF($E73=\"\",\"\",IF(INDEX(E_SourceStreams!$A:$N,EV73,BQ$7)=\"\",\"\",INDEX(E_SourceStreams!$A:$N,EV73,BQ$7)))","v":""},{"$f":"IF($E73=\"\",\"\",IF(INDEX(E_SourceStreams!$A:$N,EW73,BR$7)=\"\",\"\",INDEX(E_SourceStreams!$A:$N,EW73,BR$7)))","v":""},{"$f":"IF($E73=\"\",\"\",IF(INDEX(E_SourceStreams!$A:$N,EX73,BS$7)=\"\",\"\",INDEX(E_SourceStreams!$A:$N,EX73,BS$7)))","v":""},{"$f":"IF($E73=\"\",\"\",IF(INDEX(E_SourceStreams!$A:$N,EY73,BT$7)=\"\",\"\",INDEX(E_SourceStreams!$A:$N,EY73,BT$7)))","v":""},null,null,null,null,null,null,null,null,null,null,null,null,null,null,null,"SourceCategory_",{"$f":"INDEX(C_InstallationDescription!$A$226:$A$332,ROWS($CI$11:CI73))=\"ausblenden\"","v":true},"SourceStreamName_",null,4227,4229,4231,4233,4235,4237,4239,4239,4239,4239,4239,4242,4246,4247,4248,4255,4265,4265,4265,4265,4265,4265,4265,4256,4266,4266,4266,4266,4266,4266,4266,4257,4267,4267,4267,4267,4267,4267,4267,4258,4268,4268,4268,4268,4268,4268,4268,4259,4269,4269,4269,4269,4269,4269,4269,4260,4270,4270,4270,4270,4270,4270,4270,4276]
[null,{"$f":"IF(COUNTIF($CK$10:CK74,TRUE)>0,\"\",INDEX(C_InstallationDescription!$E$226:$E$242,ROWS($A$11:A74)))","v":""},{"$f":"IF($E74=\"\",\"\",INDEX(C_InstallationDescription!F:F,MATCH($B74,C_InstallationDescription!$E:$E,0)))","v":""},{"$f":"IF($E74=\"\",\"\",INDEX(C_InstallationDescription!I:I,MATCH($B74,C_InstallationDescription!$E:$E,0)))","v":""},{"$f":"IF($B74=\"\",\"\",INDEX(C_InstallationDescription!F:F,MATCH($CJ74,C_InstallationDescription!$Q:$Q,0)))","v":""},{"$f":"IF($E74=\"\",\"\",INDEX(C_InstallationDescription!L:L,MATCH($CJ74,C_InstallationDescription!$Q:$Q,0)))","v":""},{"$f":"IF($E74=\"\",\"\",INDEX(C_InstallationDescription!M:M,MATCH($CJ74,C_InstallationDescription!$Q:$Q,0)))","v":""},{"$f":"IF($E74=\"\",\"\",INDEX(C_InstallationDescription!N:N,MATCH($CJ74,C_InstallationDescription!$Q:$Q,0)))","v":""},{"$f":"IF($E74=\"\",\"\",IF(INDEX(E_SourceStreams!$A:$N,CN74,I$7)=\"\",\"\",INDEX(E_SourceStreams!$A:$N,CN74,I$7)))","v":""},{"$f":"IF($E74=\"\",\"\",IF(INDEX(E_SourceStreams!$A:$N,CO74,J$7)=\"\",\"\",INDEX(E_SourceStreams!$A:$N,CO74,J$7)))","v":""},{"$f":"IF($E74=\"\",\"\",IF(INDEX(E_SourceStreams!$A:$N,CP74,K$7)=\"\",\"\",INDEX(E_SourceStreams!$A:$N,CP74,K$7)))","v":""},{"$f":"IF($E74=\"\",\"\",IF(INDEX(E_SourceStreams!$A:$N,CQ74,L$7)=\"\",\"\",INDEX(E_SourceStreams!$A:$N,CQ74,L$7)))","v":""},{"$f":"IF($E74=\"\",\"\",IF(INDEX(E_SourceStreams!$A:$N,CR74,M$7)=\"\",\"\",INDEX(E_SourceStreams!$A:$N,CR74,M$7)))","v":""},{"$f":"IF($E74=\"\",\"\",IF(INDEX(E_SourceStreams!$A:$N,CS74,N$7)=\"\",\"\",INDEX(E_SourceStreams!$A:$N,CS74,N$7)))","v":""},{"$f":"IF($E74=\"\",\"\",IF(INDEX(E_SourceStreams!$A:$N,CT74,O$7)=\"\",\"\",INDEX(E_SourceStreams!$A:$N,CT74,O$7)))","v":""},{"$f":"IF($E74=\"\",\"\",IF(INDEX(E_SourceStreams!$A:$N,CU74,P$7)=\"\",\"\",INDEX(E_SourceStreams!$A:$N,CU74,P$7)))","v":""},{"$f":"IF($E74=\"\",\"\",IF(INDEX(E_SourceStreams!$A:$N,CV74,Q$7)=\"\",\"\",INDEX(E_SourceStreams!$A:$N,CV74,Q$7)))","v":""},{"$f":"IF($E74=\"\",\"\",IF(INDEX(E_SourceStreams!$A:$N,CW74,R$7)=\"\",\"\",INDEX(E_SourceStreams!$A:$N,CW74,R$7)))","v":""},{"$f":"IF($E74=\"\",\"\",IF(INDEX(E_SourceStreams!$A:$N,CX74,S$7)=\"\",\"\",INDEX(E_SourceStreams!$A:$N,CX74,S$7)))","v":""},{"$f":"IF($E74=\"\",\"\",IF(INDEX(E_SourceStreams!$A:$N,CY74,T$7)=\"\",\"\",INDEX(E_SourceStreams!$A:$N,CY74,T$7)))","v":""},{"$f":"IF($E74=\"\",\"\",IF(INDEX(E_SourceStreams!$A:$N,CZ74,U$7)=\"\",\"\",INDEX(E_SourceStreams!$A:$N,CZ74,U$7)))","v":""},{"$f":"IF($E74=\"\",\"\",IF(INDEX(E_SourceStreams!$A:$N,DA74,V$7)=\"\",\"\",INDEX(E_SourceStreams!$A:$N,DA74,V$7)))","v":""},{"$f":"IF($E74=\"\",\"\",IF(INDEX(E_SourceStreams!$A:$N,DB74,W$7)=\"\",\"\",INDEX(E_SourceStreams!$A:$N,DB74,W$7)))","v":""},{"$f":"IF($E74=\"\",\"\",IF(INDEX(E_SourceStreams!$A:$N,DC74,X$7)=\"\",\"\",INDEX(E_SourceStreams!$A:$N,DC74,X$7)))","v":""},{"$f":"IF($E74=\"\",\"\",IF(INDEX(E_SourceStreams!$A:$N,DD74,Y$7)=\"\",\"\",INDEX(E_SourceStreams!$A:$N,DD74,Y$7)))","v":""},{"$f":"IF($E74=\"\",\"\",IF(INDEX(E_SourceStreams!$A:$N,DE74,Z$7)=\"\",\"\",INDEX(E_SourceStreams!$A:$N,DE74,Z$7)))","v":""},{"$f":"IF($E74=\"\",\"\",IF(INDEX(E_SourceStreams!$A:$N,DF74,AA$7)=\"\",\"\",INDEX(E_SourceStreams!$A:$N,DF74,AA$7)))","v":""},{"$f":"IF($E74=\"\",\"\",IF(INDEX(E_SourceStreams!$A:$N,DG74,AB$7)=\"\",\"\",INDEX(E_SourceStreams!$A:$N,DG74,AB$7)))","v":""},{"$f":"IF($E74=\"\",\"\",IF(INDEX(E_SourceStreams!$A:$N,DH74,AC$7)=\"\",\"\",INDEX(E_SourceStreams!$A:$N,DH74,AC$7)))","v":""},{"$f":"IF($E74=\"\",\"\",IF(INDEX(E_SourceStreams!$A:$N,DI74,AD$7)=\"\",\"\",INDEX(E_SourceStreams!$A:$N,DI74,AD$7)))","v":""},{"$f":"IF($E74=\"\",\"\",IF(INDEX(E_SourceStreams!$A:$N,DJ74,AE$7)=\"\",\"\",INDEX(E_SourceStreams!$A:$N,DJ74,AE$7)))","v":""},{"$f":"IF($E74=\"\",\"\",IF(INDEX(E_SourceStreams!$A:$N,DK74,AF$7)=\"\",\"\",INDEX(E_SourceStreams!$A:$N,DK74,AF$7)))","v":""},{"$f":"IF($E74=\"\",\"\",IF(INDEX(E_SourceStreams!$A:$N,DL74,AG$7)=\"\",\"\",INDEX(E_SourceStreams!$A:$N,DL74,AG$7)))","v":""},{"$f":"IF($E74=\"\",\"\",IF(INDEX(E_SourceStreams!$A:$N,DM74,AH$7)=\"\",\"\",INDEX(E_SourceStreams!$A:$N,DM74,AH$7)))","v":""},{"$f":"IF($E74=\"\",\"\",IF(INDEX(E_SourceStreams!$A:$N,DN74,AI$7)=\"\",\"\",INDEX(E_SourceStreams!$A:$N,DN74,AI$7)))","v":""},{"$f":"IF($E74=\"\",\"\",IF(INDEX(E_SourceStreams!$A:$N,DO74,AJ$7)=\"\",\"\",INDEX(E_SourceStreams!$A:$N,DO74,AJ$7)))","v":""},{"$f":"IF($E74=\"\",\"\",IF(INDEX(E_SourceStreams!$A:$N,DP74,AK$7)=\"\",\"\",INDEX(E_SourceStreams!$A:$N,DP74,AK$7)))","v":""},{"$f":"IF($E74=\"\",\"\",IF(INDEX(E_SourceStreams!$A:$N,DQ74,AL$7)=\"\",\"\",INDEX(E_SourceStreams!$A:$N,DQ74,AL$7)))","v":""},{"$f":"IF($E74=\"\",\"\",IF(INDEX(E_SourceStreams!$A:$N,DR74,AM$7)=\"\",\"\",INDEX(E_SourceStreams!$A:$N,DR74,AM$7)))","v":""},{"$f":"IF($E74=\"\",\"\",IF(INDEX(E_SourceStreams!$A:$N,DS74,AN$7)=\"\",\"\",INDEX(E_SourceStreams!$A:$N,DS74,AN$7)))","v":""},{"$f":"IF($E74=\"\",\"\",IF(INDEX(E_SourceStreams!$A:$N,DT74,AO$7)=\"\",\"\",INDEX(E_SourceStreams!$A:$N,DT74,AO$7)))","v":""},{"$f":"IF($E74=\"\",\"\",IF(INDEX(E_SourceStreams!$A:$N,DU74,AP$7)=\"\",\"\",INDEX(E_SourceStreams!$A:$N,DU74,AP$7)))","v":""},{"$f":"IF($E74=\"\",\"\",IF(INDEX(E_SourceStreams!$A:$N,DV74,AQ$7)=\"\",\"\",INDEX(E_SourceStreams!$A:$N,DV74,AQ$7)))","v":""},{"$f":"IF($E74=\"\",\"\",IF(INDEX(E_SourceStreams!$A:$N,DW74,AR$7)=\"\",\"\",INDEX(E_SourceStreams!$A:$N,DW74,AR$7)))","v":""},{"$f":"IF($E74=\"\",\"\",IF(INDEX(E_SourceStreams!$A:$N,DX74,AS$7)=\"\",\"\",INDEX(E_SourceStreams!$A:$N,DX74,AS$7)))","v":""},{"$f":"IF($E74=\"\",\"\",IF(INDEX(E_SourceStreams!$A:$N,DY74,AT$7)=\"\",\"\",INDEX(E_SourceStreams!$A:$N,DY74,AT$7)))","v":""},{"$f":"IF($E74=\"\",\"\",IF(INDEX(E_SourceStreams!$A:$N,DZ74,AU$7)=\"\",\"\",INDEX(E_SourceStreams!$A:$N,DZ74,AU$7)))","v":""},{"$f":"IF($E74=\"\",\"\",IF(INDEX(E_SourceStreams!$A:$N,EA74,AV$7)=\"\",\"\",INDEX(E_SourceStreams!$A:$N,EA74,AV$7)))","v":""},{"$f":"IF($E74=\"\",\"\",IF(INDEX(E_SourceStreams!$A:$N,EB74,AW$7)=\"\",\"\",INDEX(E_SourceStreams!$A:$N,EB74,AW$7)))","v":""},{"$f":"IF($E74=\"\",\"\",IF(INDEX(E_SourceStreams!$A:$N,EC74,AX$7)=\"\",\"\",INDEX(E_SourceStreams!$A:$N,EC74,AX$7)))","v":""},{"$f":"IF($E74=\"\",\"\",IF(INDEX(E_SourceStreams!$A:$N,ED74,AY$7)=\"\",\"\",INDEX(E_SourceStreams!$A:$N,ED74,AY$7)))","v":""},{"$f":"IF($E74=\"\",\"\",IF(INDEX(E_SourceStreams!$A:$N,EE74,AZ$7)=\"\",\"\",INDEX(E_SourceStreams!$A:$N,EE74,AZ$7)))","v":""},{"$f":"IF($E74=\"\",\"\",IF(INDEX(E_SourceStreams!$A:$N,EF74,BA$7)=\"\",\"\",INDEX(E_SourceStreams!$A:$N,EF74,BA$7)))","v":""},{"$f":"IF($E74=\"\",\"\",IF(INDEX(E_SourceStreams!$A:$N,EG74,BB$7)=\"\",\"\",INDEX(E_SourceStreams!$A:$N,EG74,BB$7)))","v":""},{"$f":"IF($E74=\"\",\"\",IF(INDEX(E_SourceStreams!$A:$N,EH74,BC$7)=\"\",\"\",INDEX(E_SourceStreams!$A:$N,EH74,BC$7)))","v":""},{"$f":"IF($E74=\"\",\"\",IF(INDEX(E_SourceStreams!$A:$N,EI74,BD$7)=\"\",\"\",INDEX(E_SourceStreams!$A:$N,EI74,BD$7)))","v":""},{"$f":"IF($E74=\"\",\"\",IF(INDEX(E_SourceStreams!$A:$N,EJ74,BE$7)=\"\",\"\",INDEX(E_SourceStreams!$A:$N,EJ74,BE$7)))","v":""},{"$f":"IF($E74=\"\",\"\",IF(INDEX(E_SourceStreams!$A:$N,EK74,BF$7)=\"\",\"\",INDEX(E_SourceStreams!$A:$N,EK74,BF$7)))","v":""},{"$f":"IF($E74=\"\",\"\",IF(INDEX(E_SourceStreams!$A:$N,EL74,BG$7)=\"\",\"\",INDEX(E_SourceStreams!$A:$N,EL74,BG$7)))","v":""},{"$f":"IF($E74=\"\",\"\",IF(INDEX(E_SourceStreams!$A:$N,EM74,BH$7)=\"\",\"\",INDEX(E_SourceStreams!$A:$N,EM74,BH$7)))","v":""},{"$f":"IF($E74=\"\",\"\",IF(INDEX(E_SourceStreams!$A:$N,EN74,BI$7)=\"\",\"\",INDEX(E_SourceStreams!$A:$N,EN74,BI$7)))","v":""},{"$f":"IF($E74=\"\",\"\",IF(INDEX(E_SourceStreams!$A:$N,EO74,BJ$7)=\"\",\"\",INDEX(E_SourceStreams!$A:$N,EO74,BJ$7)))","v":""},{"$f":"IF($E74=\"\",\"\",IF(INDEX(E_SourceStreams!$A:$N,EP74,BK$7)=\"\",\"\",INDEX(E_SourceStreams!$A:$N,EP74,BK$7)))","v":""},{"$f":"IF($E74=\"\",\"\",IF(INDEX(E_SourceStreams!$A:$N,EQ74,BL$7)=\"\",\"\",INDEX(E_SourceStreams!$A:$N,EQ74,BL$7)))","v":""},{"$f":"IF($E74=\"\",\"\",IF(INDEX(E_SourceStreams!$A:$N,ER74,BM$7)=\"\",\"\",INDEX(E_SourceStreams!$A:$N,ER74,BM$7)))","v":""},{"$f":"IF($E74=\"\",\"\",IF(INDEX(E_SourceStreams!$A:$N,ES74,BN$7)=\"\",\"\",INDEX(E_SourceStreams!$A:$N,ES74,BN$7)))","v":""},{"$f":"IF($E74=\"\",\"\",IF(INDEX(E_SourceStreams!$A:$N,ET74,BO$7)=\"\",\"\",INDEX(E_SourceStreams!$A:$N,ET74,BO$7)))","v":""},{"$f":"IF($E74=\"\",\"\",IF(INDEX(E_SourceStreams!$A:$N,EU74,BP$7)=\"\",\"\",INDEX(E_SourceStreams!$A:$N,EU74,BP$7)))","v":""},{"$f":"IF($E74=\"\",\"\",IF(INDEX(E_SourceStreams!$A:$N,EV74,BQ$7)=\"\",\"\",INDEX(E_SourceStreams!$A:$N,EV74,BQ$7)))","v":""},{"$f":"IF($E74=\"\",\"\",IF(INDEX(E_SourceStreams!$A:$N,EW74,BR$7)=\"\",\"\",INDEX(E_SourceStreams!$A:$N,EW74,BR$7)))","v":""},{"$f":"IF($E74=\"\",\"\",IF(INDEX(E_SourceStreams!$A:$N,EX74,BS$7)=\"\",\"\",INDEX(E_SourceStreams!$A:$N,EX74,BS$7)))","v":""},{"$f":"IF($E74=\"\",\"\",IF(INDEX(E_SourceStreams!$A:$N,EY74,BT$7)=\"\",\"\",INDEX(E_SourceStreams!$A:$N,EY74,BT$7)))","v":""},null,null,null,null,null,null,null,null,null,null,null,null,null,null,null,"SourceCategory_",{"$f":"INDEX(C_InstallationDescription!$A$226:$A$332,ROWS($CI$11:CI74))=\"ausblenden\"","v":true},"SourceStreamName_",null,4293,4295,4297,4299,4301,4303,4305,4305,4305,4305,4305,4308,4312,4313,4314,4321,4331,4331,4331,4331,4331,4331,4331,4322,4332,4332,4332,4332,4332,4332,4332,4323,4333,4333,4333,4333,4333,4333,4333,4324,4334,4334,4334,4334,4334,4334,4334,4325,4335,4335,4335,4335,4335,4335,4335,4326,4336,4336,4336,4336,4336,4336,4336,4342]
[null,{"$f":"IF(COUNTIF($CK$10:CK75,TRUE)>0,\"\",INDEX(C_InstallationDescription!$E$226:$E$242,ROWS($A$11:A75)))","v":""},{"$f":"IF($E75=\"\",\"\",INDEX(C_InstallationDescription!F:F,MATCH($B75,C_InstallationDescription!$E:$E,0)))","v":""},{"$f":"IF($E75=\"\",\"\",INDEX(C_InstallationDescription!I:I,MATCH($B75,C_InstallationDescription!$E:$E,0)))","v":""},{"$f":"IF($B75=\"\",\"\",INDEX(C_InstallationDescription!F:F,MATCH($CJ75,C_InstallationDescription!$Q:$Q,0)))","v":""},{"$f":"IF($E75=\"\",\"\",INDEX(C_InstallationDescription!L:L,MATCH($CJ75,C_InstallationDescription!$Q:$Q,0)))","v":""},{"$f":"IF($E75=\"\",\"\",INDEX(C_InstallationDescription!M:M,MATCH($CJ75,C_InstallationDescription!$Q:$Q,0)))","v":""},{"$f":"IF($E75=\"\",\"\",INDEX(C_InstallationDescription!N:N,MATCH($CJ75,C_InstallationDescription!$Q:$Q,0)))","v":""},{"$f":"IF($E75=\"\",\"\",IF(INDEX(E_SourceStreams!$A:$N,CN75,I$7)=\"\",\"\",INDEX(E_SourceStreams!$A:$N,CN75,I$7)))","v":""},{"$f":"IF($E75=\"\",\"\",IF(INDEX(E_SourceStreams!$A:$N,CO75,J$7)=\"\",\"\",INDEX(E_SourceStreams!$A:$N,CO75,J$7)))","v":""},{"$f":"IF($E75=\"\",\"\",IF(INDEX(E_SourceStreams!$A:$N,CP75,K$7)=\"\",\"\",INDEX(E_SourceStreams!$A:$N,CP75,K$7)))","v":""},{"$f":"IF($E75=\"\",\"\",IF(INDEX(E_SourceStreams!$A:$N,CQ75,L$7)=\"\",\"\",INDEX(E_SourceStreams!$A:$N,CQ75,L$7)))","v":""},{"$f":"IF($E75=\"\",\"\",IF(INDEX(E_SourceStreams!$A:$N,CR75,M$7)=\"\",\"\",INDEX(E_SourceStreams!$A:$N,CR75,M$7)))","v":""},{"$f":"IF($E75=\"\",\"\",IF(INDEX(E_SourceStreams!$A:$N,CS75,N$7)=\"\",\"\",INDEX(E_SourceStreams!$A:$N,CS75,N$7)))","v":""},{"$f":"IF($E75=\"\",\"\",IF(INDEX(E_SourceStreams!$A:$N,CT75,O$7)=\"\",\"\",INDEX(E_SourceStreams!$A:$N,CT75,O$7)))","v":""},{"$f":"IF($E75=\"\",\"\",IF(INDEX(E_SourceStreams!$A:$N,CU75,P$7)=\"\",\"\",INDEX(E_SourceStreams!$A:$N,CU75,P$7)))","v":""},{"$f":"IF($E75=\"\",\"\",IF(INDEX(E_SourceStreams!$A:$N,CV75,Q$7)=\"\",\"\",INDEX(E_SourceStreams!$A:$N,CV75,Q$7)))","v":""},{"$f":"IF($E75=\"\",\"\",IF(INDEX(E_SourceStreams!$A:$N,CW75,R$7)=\"\",\"\",INDEX(E_SourceStreams!$A:$N,CW75,R$7)))","v":""},{"$f":"IF($E75=\"\",\"\",IF(INDEX(E_SourceStreams!$A:$N,CX75,S$7)=\"\",\"\",INDEX(E_SourceStreams!$A:$N,CX75,S$7)))","v":""},{"$f":"IF($E75=\"\",\"\",IF(INDEX(E_SourceStreams!$A:$N,CY75,T$7)=\"\",\"\",INDEX(E_SourceStreams!$A:$N,CY75,T$7)))","v":""},{"$f":"IF($E75=\"\",\"\",IF(INDEX(E_SourceStreams!$A:$N,CZ75,U$7)=\"\",\"\",INDEX(E_SourceStreams!$A:$N,CZ75,U$7)))","v":""},{"$f":"IF($E75=\"\",\"\",IF(INDEX(E_SourceStreams!$A:$N,DA75,V$7)=\"\",\"\",INDEX(E_SourceStreams!$A:$N,DA75,V$7)))","v":""},{"$f":"IF($E75=\"\",\"\",IF(INDEX(E_SourceStreams!$A:$N,DB75,W$7)=\"\",\"\",INDEX(E_SourceStreams!$A:$N,DB75,W$7)))","v":""},{"$f":"IF($E75=\"\",\"\",IF(INDEX(E_SourceStreams!$A:$N,DC75,X$7)=\"\",\"\",INDEX(E_SourceStreams!$A:$N,DC75,X$7)))","v":""},{"$f":"IF($E75=\"\",\"\",IF(INDEX(E_SourceStreams!$A:$N,DD75,Y$7)=\"\",\"\",INDEX(E_SourceStreams!$A:$N,DD75,Y$7)))","v":""},{"$f":"IF($E75=\"\",\"\",IF(INDEX(E_SourceStreams!$A:$N,DE75,Z$7)=\"\",\"\",INDEX(E_SourceStreams!$A:$N,DE75,Z$7)))","v":""},{"$f":"IF($E75=\"\",\"\",IF(INDEX(E_SourceStreams!$A:$N,DF75,AA$7)=\"\",\"\",INDEX(E_SourceStreams!$A:$N,DF75,AA$7)))","v":""},{"$f":"IF($E75=\"\",\"\",IF(INDEX(E_SourceStreams!$A:$N,DG75,AB$7)=\"\",\"\",INDEX(E_SourceStreams!$A:$N,DG75,AB$7)))","v":""},{"$f":"IF($E75=\"\",\"\",IF(INDEX(E_SourceStreams!$A:$N,DH75,AC$7)=\"\",\"\",INDEX(E_SourceStreams!$A:$N,DH75,AC$7)))","v":""},{"$f":"IF($E75=\"\",\"\",IF(INDEX(E_SourceStreams!$A:$N,DI75,AD$7)=\"\",\"\",INDEX(E_SourceStreams!$A:$N,DI75,AD$7)))","v":""},{"$f":"IF($E75=\"\",\"\",IF(INDEX(E_SourceStreams!$A:$N,DJ75,AE$7)=\"\",\"\",INDEX(E_SourceStreams!$A:$N,DJ75,AE$7)))","v":""},{"$f":"IF($E75=\"\",\"\",IF(INDEX(E_SourceStreams!$A:$N,DK75,AF$7)=\"\",\"\",INDEX(E_SourceStreams!$A:$N,DK75,AF$7)))","v":""},{"$f":"IF($E75=\"\",\"\",IF(INDEX(E_SourceStreams!$A:$N,DL75,AG$7)=\"\",\"\",INDEX(E_SourceStreams!$A:$N,DL75,AG$7)))","v":""},{"$f":"IF($E75=\"\",\"\",IF(INDEX(E_SourceStreams!$A:$N,DM75,AH$7)=\"\",\"\",INDEX(E_SourceStreams!$A:$N,DM75,AH$7)))","v":""},{"$f":"IF($E75=\"\",\"\",IF(INDEX(E_SourceStreams!$A:$N,DN75,AI$7)=\"\",\"\",INDEX(E_SourceStreams!$A:$N,DN75,AI$7)))","v":""},{"$f":"IF($E75=\"\",\"\",IF(INDEX(E_SourceStreams!$A:$N,DO75,AJ$7)=\"\",\"\",INDEX(E_SourceStreams!$A:$N,DO75,AJ$7)))","v":""},{"$f":"IF($E75=\"\",\"\",IF(INDEX(E_SourceStreams!$A:$N,DP75,AK$7)=\"\",\"\",INDEX(E_SourceStreams!$A:$N,DP75,AK$7)))","v":""},{"$f":"IF($E75=\"\",\"\",IF(INDEX(E_SourceStreams!$A:$N,DQ75,AL$7)=\"\",\"\",INDEX(E_SourceStreams!$A:$N,DQ75,AL$7)))","v":""},{"$f":"IF($E75=\"\",\"\",IF(INDEX(E_SourceStreams!$A:$N,DR75,AM$7)=\"\",\"\",INDEX(E_SourceStreams!$A:$N,DR75,AM$7)))","v":""},{"$f":"IF($E75=\"\",\"\",IF(INDEX(E_SourceStreams!$A:$N,DS75,AN$7)=\"\",\"\",INDEX(E_SourceStreams!$A:$N,DS75,AN$7)))","v":""},{"$f":"IF($E75=\"\",\"\",IF(INDEX(E_SourceStreams!$A:$N,DT75,AO$7)=\"\",\"\",INDEX(E_SourceStreams!$A:$N,DT75,AO$7)))","v":""},{"$f":"IF($E75=\"\",\"\",IF(INDEX(E_SourceStreams!$A:$N,DU75,AP$7)=\"\",\"\",INDEX(E_SourceStreams!$A:$N,DU75,AP$7)))","v":""},{"$f":"IF($E75=\"\",\"\",IF(INDEX(E_SourceStreams!$A:$N,DV75,AQ$7)=\"\",\"\",INDEX(E_SourceStreams!$A:$N,DV75,AQ$7)))","v":""},{"$f":"IF($E75=\"\",\"\",IF(INDEX(E_SourceStreams!$A:$N,DW75,AR$7)=\"\",\"\",INDEX(E_SourceStreams!$A:$N,DW75,AR$7)))","v":""},{"$f":"IF($E75=\"\",\"\",IF(INDEX(E_SourceStreams!$A:$N,DX75,AS$7)=\"\",\"\",INDEX(E_SourceStreams!$A:$N,DX75,AS$7)))","v":""},{"$f":"IF($E75=\"\",\"\",IF(INDEX(E_SourceStreams!$A:$N,DY75,AT$7)=\"\",\"\",INDEX(E_SourceStreams!$A:$N,DY75,AT$7)))","v":""},{"$f":"IF($E75=\"\",\"\",IF(INDEX(E_SourceStreams!$A:$N,DZ75,AU$7)=\"\",\"\",INDEX(E_SourceStreams!$A:$N,DZ75,AU$7)))","v":""},{"$f":"IF($E75=\"\",\"\",IF(INDEX(E_SourceStreams!$A:$N,EA75,AV$7)=\"\",\"\",INDEX(E_SourceStreams!$A:$N,EA75,AV$7)))","v":""},{"$f":"IF($E75=\"\",\"\",IF(INDEX(E_SourceStreams!$A:$N,EB75,AW$7)=\"\",\"\",INDEX(E_SourceStreams!$A:$N,EB75,AW$7)))","v":""},{"$f":"IF($E75=\"\",\"\",IF(INDEX(E_SourceStreams!$A:$N,EC75,AX$7)=\"\",\"\",INDEX(E_SourceStreams!$A:$N,EC75,AX$7)))","v":""},{"$f":"IF($E75=\"\",\"\",IF(INDEX(E_SourceStreams!$A:$N,ED75,AY$7)=\"\",\"\",INDEX(E_SourceStreams!$A:$N,ED75,AY$7)))","v":""},{"$f":"IF($E75=\"\",\"\",IF(INDEX(E_SourceStreams!$A:$N,EE75,AZ$7)=\"\",\"\",INDEX(E_SourceStreams!$A:$N,EE75,AZ$7)))","v":""},{"$f":"IF($E75=\"\",\"\",IF(INDEX(E_SourceStreams!$A:$N,EF75,BA$7)=\"\",\"\",INDEX(E_SourceStreams!$A:$N,EF75,BA$7)))","v":""},{"$f":"IF($E75=\"\",\"\",IF(INDEX(E_SourceStreams!$A:$N,EG75,BB$7)=\"\",\"\",INDEX(E_SourceStreams!$A:$N,EG75,BB$7)))","v":""},{"$f":"IF($E75=\"\",\"\",IF(INDEX(E_SourceStreams!$A:$N,EH75,BC$7)=\"\",\"\",INDEX(E_SourceStreams!$A:$N,EH75,BC$7)))","v":""},{"$f":"IF($E75=\"\",\"\",IF(INDEX(E_SourceStreams!$A:$N,EI75,BD$7)=\"\",\"\",INDEX(E_SourceStreams!$A:$N,EI75,BD$7)))","v":""},{"$f":"IF($E75=\"\",\"\",IF(INDEX(E_SourceStreams!$A:$N,EJ75,BE$7)=\"\",\"\",INDEX(E_SourceStreams!$A:$N,EJ75,BE$7)))","v":""},{"$f":"IF($E75=\"\",\"\",IF(INDEX(E_SourceStreams!$A:$N,EK75,BF$7)=\"\",\"\",INDEX(E_SourceStreams!$A:$N,EK75,BF$7)))","v":""},{"$f":"IF($E75=\"\",\"\",IF(INDEX(E_SourceStreams!$A:$N,EL75,BG$7)=\"\",\"\",INDEX(E_SourceStreams!$A:$N,EL75,BG$7)))","v":""},{"$f":"IF($E75=\"\",\"\",IF(INDEX(E_SourceStreams!$A:$N,EM75,BH$7)=\"\",\"\",INDEX(E_SourceStreams!$A:$N,EM75,BH$7)))","v":""},{"$f":"IF($E75=\"\",\"\",IF(INDEX(E_SourceStreams!$A:$N,EN75,BI$7)=\"\",\"\",INDEX(E_SourceStreams!$A:$N,EN75,BI$7)))","v":""},{"$f":"IF($E75=\"\",\"\",IF(INDEX(E_SourceStreams!$A:$N,EO75,BJ$7)=\"\",\"\",INDEX(E_SourceStreams!$A:$N,EO75,BJ$7)))","v":""},{"$f":"IF($E75=\"\",\"\",IF(INDEX(E_SourceStreams!$A:$N,EP75,BK$7)=\"\",\"\",INDEX(E_SourceStreams!$A:$N,EP75,BK$7)))","v":""},{"$f":"IF($E75=\"\",\"\",IF(INDEX(E_SourceStreams!$A:$N,EQ75,BL$7)=\"\",\"\",INDEX(E_SourceStreams!$A:$N,EQ75,BL$7)))","v":""},{"$f":"IF($E75=\"\",\"\",IF(INDEX(E_SourceStreams!$A:$N,ER75,BM$7)=\"\",\"\",INDEX(E_SourceStreams!$A:$N,ER75,BM$7)))","v":""},{"$f":"IF($E75=\"\",\"\",IF(INDEX(E_SourceStreams!$A:$N,ES75,BN$7)=\"\",\"\",INDEX(E_SourceStreams!$A:$N,ES75,BN$7)))","v":""},{"$f":"IF($E75=\"\",\"\",IF(INDEX(E_SourceStreams!$A:$N,ET75,BO$7)=\"\",\"\",INDEX(E_SourceStreams!$A:$N,ET75,BO$7)))","v":""},{"$f":"IF($E75=\"\",\"\",IF(INDEX(E_SourceStreams!$A:$N,EU75,BP$7)=\"\",\"\",INDEX(E_SourceStreams!$A:$N,EU75,BP$7)))","v":""},{"$f":"IF($E75=\"\",\"\",IF(INDEX(E_SourceStreams!$A:$N,EV75,BQ$7)=\"\",\"\",INDEX(E_SourceStreams!$A:$N,EV75,BQ$7)))","v":""},{"$f":"IF($E75=\"\",\"\",IF(INDEX(E_SourceStreams!$A:$N,EW75,BR$7)=\"\",\"\",INDEX(E_SourceStreams!$A:$N,EW75,BR$7)))","v":""},{"$f":"IF($E75=\"\",\"\",IF(INDEX(E_SourceStreams!$A:$N,EX75,BS$7)=\"\",\"\",INDEX(E_SourceStreams!$A:$N,EX75,BS$7)))","v":""},{"$f":"IF($E75=\"\",\"\",IF(INDEX(E_SourceStreams!$A:$N,EY75,BT$7)=\"\",\"\",INDEX(E_SourceStreams!$A:$N,EY75,BT$7)))","v":""},null,null,null,null,null,null,null,null,null,null,null,null,null,null,null,{"$f":"EUconst_CNTR_SourceCategory&B75","v":"SourceCategory_"},{"$f":"INDEX(C_InstallationDescription!$A$226:$A$332,ROWS($CI$11:CI75))=\"ausblenden\"","v":true},{"$f":"EUconst_CNTR_SourceStreamName&B75","v":"SourceStreamName_"},null,4359,4361,4363,4365,4367,4369,4371,4371,4371,4371,4371,4374,4378,4379,4380,4387,4397,4397,4397,4397,4397,4397,4397,4388,4398,4398,4398,4398,4398,4398,4398,4389,4399,4399,4399,4399,4399,4399,4399,4390,4400,4400,4400,4400,4400,4400,4400,4391,4401,4401,4401,4401,4401,4401,4401,4392,4402,4402,4402,4402,4402,4402,4402,4408]
[null,{"$f":"IF(COUNTIF($CK$10:CK76,TRUE)>0,\"\",INDEX(C_InstallationDescription!$E$226:$E$242,ROWS($A$11:A76)))","v":""},{"$f":"IF($E76=\"\",\"\",INDEX(C_InstallationDescription!F:F,MATCH($B76,C_InstallationDescription!$E:$E,0)))","v":""},{"$f":"IF($E76=\"\",\"\",INDEX(C_InstallationDescription!I:I,MATCH($B76,C_InstallationDescription!$E:$E,0)))","v":""},{"$f":"IF($B76=\"\",\"\",INDEX(C_InstallationDescription!F:F,MATCH($CJ76,C_InstallationDescription!$Q:$Q,0)))","v":""},{"$f":"IF($E76=\"\",\"\",INDEX(C_InstallationDescription!L:L,MATCH($CJ76,C_InstallationDescription!$Q:$Q,0)))","v":""},{"$f":"IF($E76=\"\",\"\",INDEX(C_InstallationDescription!M:M,MATCH($CJ76,C_InstallationDescription!$Q:$Q,0)))","v":""},{"$f":"IF($E76=\"\",\"\",INDEX(C_InstallationDescription!N:N,MATCH($CJ76,C_InstallationDescription!$Q:$Q,0)))","v":""},{"$f":"IF($E76=\"\",\"\",IF(INDEX(E_SourceStreams!$A:$N,CN76,I$7)=\"\",\"\",INDEX(E_SourceStreams!$A:$N,CN76,I$7)))","v":""},{"$f":"IF($E76=\"\",\"\",IF(INDEX(E_SourceStreams!$A:$N,CO76,J$7)=\"\",\"\",INDEX(E_SourceStreams!$A:$N,CO76,J$7)))","v":""},{"$f":"IF($E76=\"\",\"\",IF(INDEX(E_SourceStreams!$A:$N,CP76,K$7)=\"\",\"\",INDEX(E_SourceStreams!$A:$N,CP76,K$7)))","v":""},{"$f":"IF($E76=\"\",\"\",IF(INDEX(E_SourceStreams!$A:$N,CQ76,L$7)=\"\",\"\",INDEX(E_SourceStreams!$A:$N,CQ76,L$7)))","v":""},{"$f":"IF($E76=\"\",\"\",IF(INDEX(E_SourceStreams!$A:$N,CR76,M$7)=\"\",\"\",INDEX(E_SourceStreams!$A:$N,CR76,M$7)))","v":""},{"$f":"IF($E76=\"\",\"\",IF(INDEX(E_SourceStreams!$A:$N,CS76,N$7)=\"\",\"\",INDEX(E_SourceStreams!$A:$N,CS76,N$7)))","v":""},{"$f":"IF($E76=\"\",\"\",IF(INDEX(E_SourceStreams!$A:$N,CT76,O$7)=\"\",\"\",INDEX(E_SourceStreams!$A:$N,CT76,O$7)))","v":""},{"$f":"IF($E76=\"\",\"\",IF(INDEX(E_SourceStreams!$A:$N,CU76,P$7)=\"\",\"\",INDEX(E_SourceStreams!$A:$N,CU76,P$7)))","v":""},{"$f":"IF($E76=\"\",\"\",IF(INDEX(E_SourceStreams!$A:$N,CV76,Q$7)=\"\",\"\",INDEX(E_SourceStreams!$A:$N,CV76,Q$7)))","v":""},{"$f":"IF($E76=\"\",\"\",IF(INDEX(E_SourceStreams!$A:$N,CW76,R$7)=\"\",\"\",INDEX(E_SourceStreams!$A:$N,CW76,R$7)))","v":""},{"$f":"IF($E76=\"\",\"\",IF(INDEX(E_SourceStreams!$A:$N,CX76,S$7)=\"\",\"\",INDEX(E_SourceStreams!$A:$N,CX76,S$7)))","v":""},{"$f":"IF($E76=\"\",\"\",IF(INDEX(E_SourceStreams!$A:$N,CY76,T$7)=\"\",\"\",INDEX(E_SourceStreams!$A:$N,CY76,T$7)))","v":""},{"$f":"IF($E76=\"\",\"\",IF(INDEX(E_SourceStreams!$A:$N,CZ76,U$7)=\"\",\"\",INDEX(E_SourceStreams!$A:$N,CZ76,U$7)))","v":""},{"$f":"IF($E76=\"\",\"\",IF(INDEX(E_SourceStreams!$A:$N,DA76,V$7)=\"\",\"\",INDEX(E_SourceStreams!$A:$N,DA76,V$7)))","v":""},{"$f":"IF($E76=\"\",\"\",IF(INDEX(E_SourceStreams!$A:$N,DB76,W$7)=\"\",\"\",INDEX(E_SourceStreams!$A:$N,DB76,W$7)))","v":""},{"$f":"IF($E76=\"\",\"\",IF(INDEX(E_SourceStreams!$A:$N,DC76,X$7)=\"\",\"\",INDEX(E_SourceStreams!$A:$N,DC76,X$7)))","v":""},{"$f":"IF($E76=\"\",\"\",IF(INDEX(E_SourceStreams!$A:$N,DD76,Y$7)=\"\",\"\",INDEX(E_SourceStreams!$A:$N,DD76,Y$7)))","v":""},{"$f":"IF($E76=\"\",\"\",IF(INDEX(E_SourceStreams!$A:$N,DE76,Z$7)=\"\",\"\",INDEX(E_SourceStreams!$A:$N,DE76,Z$7)))","v":""},{"$f":"IF($E76=\"\",\"\",IF(INDEX(E_SourceStreams!$A:$N,DF76,AA$7)=\"\",\"\",INDEX(E_SourceStreams!$A:$N,DF76,AA$7)))","v":""},{"$f":"IF($E76=\"\",\"\",IF(INDEX(E_SourceStreams!$A:$N,DG76,AB$7)=\"\",\"\",INDEX(E_SourceStreams!$A:$N,DG76,AB$7)))","v":""},{"$f":"IF($E76=\"\",\"\",IF(INDEX(E_SourceStreams!$A:$N,DH76,AC$7)=\"\",\"\",INDEX(E_SourceStreams!$A:$N,DH76,AC$7)))","v":""},{"$f":"IF($E76=\"\",\"\",IF(INDEX(E_SourceStreams!$A:$N,DI76,AD$7)=\"\",\"\",INDEX(E_SourceStreams!$A:$N,DI76,AD$7)))","v":""},{"$f":"IF($E76=\"\",\"\",IF(INDEX(E_SourceStreams!$A:$N,DJ76,AE$7)=\"\",\"\",INDEX(E_SourceStreams!$A:$N,DJ76,AE$7)))","v":""},{"$f":"IF($E76=\"\",\"\",IF(INDEX(E_SourceStreams!$A:$N,DK76,AF$7)=\"\",\"\",INDEX(E_SourceStreams!$A:$N,DK76,AF$7)))","v":""},{"$f":"IF($E76=\"\",\"\",IF(INDEX(E_SourceStreams!$A:$N,DL76,AG$7)=\"\",\"\",INDEX(E_SourceStreams!$A:$N,DL76,AG$7)))","v":""},{"$f":"IF($E76=\"\",\"\",IF(INDEX(E_SourceStreams!$A:$N,DM76,AH$7)=\"\",\"\",INDEX(E_SourceStreams!$A:$N,DM76,AH$7)))","v":""},{"$f":"IF($E76=\"\",\"\",IF(INDEX(E_SourceStreams!$A:$N,DN76,AI$7)=\"\",\"\",INDEX(E_SourceStreams!$A:$N,DN76,AI$7)))","v":""},{"$f":"IF($E76=\"\",\"\",IF(INDEX(E_SourceStreams!$A:$N,DO76,AJ$7)=\"\",\"\",INDEX(E_SourceStreams!$A:$N,DO76,AJ$7)))","v":""},{"$f":"IF($E76=\"\",\"\",IF(INDEX(E_SourceStreams!$A:$N,DP76,AK$7)=\"\",\"\",INDEX(E_SourceStreams!$A:$N,DP76,AK$7)))","v":""},{"$f":"IF($E76=\"\",\"\",IF(INDEX(E_SourceStreams!$A:$N,DQ76,AL$7)=\"\",\"\",INDEX(E_SourceStreams!$A:$N,DQ76,AL$7)))","v":""},{"$f":"IF($E76=\"\",\"\",IF(INDEX(E_SourceStreams!$A:$N,DR76,AM$7)=\"\",\"\",INDEX(E_SourceStreams!$A:$N,DR76,AM$7)))","v":""},{"$f":"IF($E76=\"\",\"\",IF(INDEX(E_SourceStreams!$A:$N,DS76,AN$7)=\"\",\"\",INDEX(E_SourceStreams!$A:$N,DS76,AN$7)))","v":""},{"$f":"IF($E76=\"\",\"\",IF(INDEX(E_SourceStreams!$A:$N,DT76,AO$7)=\"\",\"\",INDEX(E_SourceStreams!$A:$N,DT76,AO$7)))","v":""},{"$f":"IF($E76=\"\",\"\",IF(INDEX(E_SourceStreams!$A:$N,DU76,AP$7)=\"\",\"\",INDEX(E_SourceStreams!$A:$N,DU76,AP$7)))","v":""},{"$f":"IF($E76=\"\",\"\",IF(INDEX(E_SourceStreams!$A:$N,DV76,AQ$7)=\"\",\"\",INDEX(E_SourceStreams!$A:$N,DV76,AQ$7)))","v":""},{"$f":"IF($E76=\"\",\"\",IF(INDEX(E_SourceStreams!$A:$N,DW76,AR$7)=\"\",\"\",INDEX(E_SourceStreams!$A:$N,DW76,AR$7)))","v":""},{"$f":"IF($E76=\"\",\"\",IF(INDEX(E_SourceStreams!$A:$N,DX76,AS$7)=\"\",\"\",INDEX(E_SourceStreams!$A:$N,DX76,AS$7)))","v":""},{"$f":"IF($E76=\"\",\"\",IF(INDEX(E_SourceStreams!$A:$N,DY76,AT$7)=\"\",\"\",INDEX(E_SourceStreams!$A:$N,DY76,AT$7)))","v":""},{"$f":"IF($E76=\"\",\"\",IF(INDEX(E_SourceStreams!$A:$N,DZ76,AU$7)=\"\",\"\",INDEX(E_SourceStreams!$A:$N,DZ76,AU$7)))","v":""},{"$f":"IF($E76=\"\",\"\",IF(INDEX(E_SourceStreams!$A:$N,EA76,AV$7)=\"\",\"\",INDEX(E_SourceStreams!$A:$N,EA76,AV$7)))","v":""},{"$f":"IF($E76=\"\",\"\",IF(INDEX(E_SourceStreams!$A:$N,EB76,AW$7)=\"\",\"\",INDEX(E_SourceStreams!$A:$N,EB76,AW$7)))","v":""},{"$f":"IF($E76=\"\",\"\",IF(INDEX(E_SourceStreams!$A:$N,EC76,AX$7)=\"\",\"\",INDEX(E_SourceStreams!$A:$N,EC76,AX$7)))","v":""},{"$f":"IF($E76=\"\",\"\",IF(INDEX(E_SourceStreams!$A:$N,ED76,AY$7)=\"\",\"\",INDEX(E_SourceStreams!$A:$N,ED76,AY$7)))","v":""},{"$f":"IF($E76=\"\",\"\",IF(INDEX(E_SourceStreams!$A:$N,EE76,AZ$7)=\"\",\"\",INDEX(E_SourceStreams!$A:$N,EE76,AZ$7)))","v":""},{"$f":"IF($E76=\"\",\"\",IF(INDEX(E_SourceStreams!$A:$N,EF76,BA$7)=\"\",\"\",INDEX(E_SourceStreams!$A:$N,EF76,BA$7)))","v":""},{"$f":"IF($E76=\"\",\"\",IF(INDEX(E_SourceStreams!$A:$N,EG76,BB$7)=\"\",\"\",INDEX(E_SourceStreams!$A:$N,EG76,BB$7)))","v":""},{"$f":"IF($E76=\"\",\"\",IF(INDEX(E_SourceStreams!$A:$N,EH76,BC$7)=\"\",\"\",INDEX(E_SourceStreams!$A:$N,EH76,BC$7)))","v":""},{"$f":"IF($E76=\"\",\"\",IF(INDEX(E_SourceStreams!$A:$N,EI76,BD$7)=\"\",\"\",INDEX(E_SourceStreams!$A:$N,EI76,BD$7)))","v":""},{"$f":"IF($E76=\"\",\"\",IF(INDEX(E_SourceStreams!$A:$N,EJ76,BE$7)=\"\",\"\",INDEX(E_SourceStreams!$A:$N,EJ76,BE$7)))","v":""},{"$f":"IF($E76=\"\",\"\",IF(INDEX(E_SourceStreams!$A:$N,EK76,BF$7)=\"\",\"\",INDEX(E_SourceStreams!$A:$N,EK76,BF$7)))","v":""},{"$f":"IF($E76=\"\",\"\",IF(INDEX(E_SourceStreams!$A:$N,EL76,BG$7)=\"\",\"\",INDEX(E_SourceStreams!$A:$N,EL76,BG$7)))","v":""},{"$f":"IF($E76=\"\",\"\",IF(INDEX(E_SourceStreams!$A:$N,EM76,BH$7)=\"\",\"\",INDEX(E_SourceStreams!$A:$N,EM76,BH$7)))","v":""},{"$f":"IF($E76=\"\",\"\",IF(INDEX(E_SourceStreams!$A:$N,EN76,BI$7)=\"\",\"\",INDEX(E_SourceStreams!$A:$N,EN76,BI$7)))","v":""},{"$f":"IF($E76=\"\",\"\",IF(INDEX(E_SourceStreams!$A:$N,EO76,BJ$7)=\"\",\"\",INDEX(E_SourceStreams!$A:$N,EO76,BJ$7)))","v":""},{"$f":"IF($E76=\"\",\"\",IF(INDEX(E_SourceStreams!$A:$N,EP76,BK$7)=\"\",\"\",INDEX(E_SourceStreams!$A:$N,EP76,BK$7)))","v":""},{"$f":"IF($E76=\"\",\"\",IF(INDEX(E_SourceStreams!$A:$N,EQ76,BL$7)=\"\",\"\",INDEX(E_SourceStreams!$A:$N,EQ76,BL$7)))","v":""},{"$f":"IF($E76=\"\",\"\",IF(INDEX(E_SourceStreams!$A:$N,ER76,BM$7)=\"\",\"\",INDEX(E_SourceStreams!$A:$N,ER76,BM$7)))","v":""},{"$f":"IF($E76=\"\",\"\",IF(INDEX(E_SourceStreams!$A:$N,ES76,BN$7)=\"\",\"\",INDEX(E_SourceStreams!$A:$N,ES76,BN$7)))","v":""},{"$f":"IF($E76=\"\",\"\",IF(INDEX(E_SourceStreams!$A:$N,ET76,BO$7)=\"\",\"\",INDEX(E_SourceStreams!$A:$N,ET76,BO$7)))","v":""},{"$f":"IF($E76=\"\",\"\",IF(INDEX(E_SourceStreams!$A:$N,EU76,BP$7)=\"\",\"\",INDEX(E_SourceStreams!$A:$N,EU76,BP$7)))","v":""},{"$f":"IF($E76=\"\",\"\",IF(INDEX(E_SourceStreams!$A:$N,EV76,BQ$7)=\"\",\"\",INDEX(E_SourceStreams!$A:$N,EV76,BQ$7)))","v":""},{"$f":"IF($E76=\"\",\"\",IF(INDEX(E_SourceStreams!$A:$N,EW76,BR$7)=\"\",\"\",INDEX(E_SourceStreams!$A:$N,EW76,BR$7)))","v":""},{"$f":"IF($E76=\"\",\"\",IF(INDEX(E_SourceStreams!$A:$N,EX76,BS$7)=\"\",\"\",INDEX(E_SourceStreams!$A:$N,EX76,BS$7)))","v":""},{"$f":"IF($E76=\"\",\"\",IF(INDEX(E_SourceStreams!$A:$N,EY76,BT$7)=\"\",\"\",INDEX(E_SourceStreams!$A:$N,EY76,BT$7)))","v":""},null,null,null,null,null,null,null,null,null,null,null,null,null,null,null,"SourceCategory_",{"$f":"INDEX(C_InstallationDescription!$A$226:$A$332,ROWS($CI$11:CI76))=\"ausblenden\"","v":true},"SourceStreamName_",null,4425,4427,4429,4431,4433,4435,4437,4437,4437,4437,4437,4440,4444,4445,4446,4453,4463,4463,4463,4463,4463,4463,4463,4454,4464,4464,4464,4464,4464,4464,4464,4455,4465,4465,4465,4465,4465,4465,4465,4456,4466,4466,4466,4466,4466,4466,4466,4457,4467,4467,4467,4467,4467,4467,4467,4458,4468,4468,4468,4468,4468,4468,4468,4474]
[null,{"$f":"IF(COUNTIF($CK$10:CK77,TRUE)>0,\"\",INDEX(C_InstallationDescription!$E$226:$E$242,ROWS($A$11:A77)))","v":""},{"$f":"IF($E77=\"\",\"\",INDEX(C_InstallationDescription!F:F,MATCH($B77,C_InstallationDescription!$E:$E,0)))","v":""},{"$f":"IF($E77=\"\",\"\",INDEX(C_InstallationDescription!I:I,MATCH($B77,C_InstallationDescription!$E:$E,0)))","v":""},{"$f":"IF($B77=\"\",\"\",INDEX(C_InstallationDescription!F:F,MATCH($CJ77,C_InstallationDescription!$Q:$Q,0)))","v":""},{"$f":"IF($E77=\"\",\"\",INDEX(C_InstallationDescription!L:L,MATCH($CJ77,C_InstallationDescription!$Q:$Q,0)))","v":""},{"$f":"IF($E77=\"\",\"\",INDEX(C_InstallationDescription!M:M,MATCH($CJ77,C_InstallationDescription!$Q:$Q,0)))","v":""},{"$f":"IF($E77=\"\",\"\",INDEX(C_InstallationDescription!N:N,MATCH($CJ77,C_InstallationDescription!$Q:$Q,0)))","v":""},{"$f":"IF($E77=\"\",\"\",IF(INDEX(E_SourceStreams!$A:$N,CN77,I$7)=\"\",\"\",INDEX(E_SourceStreams!$A:$N,CN77,I$7)))","v":""},{"$f":"IF($E77=\"\",\"\",IF(INDEX(E_SourceStreams!$A:$N,CO77,J$7)=\"\",\"\",INDEX(E_SourceStreams!$A:$N,CO77,J$7)))","v":""},{"$f":"IF($E77=\"\",\"\",IF(INDEX(E_SourceStreams!$A:$N,CP77,K$7)=\"\",\"\",INDEX(E_SourceStreams!$A:$N,CP77,K$7)))","v":""},{"$f":"IF($E77=\"\",\"\",IF(INDEX(E_SourceStreams!$A:$N,CQ77,L$7)=\"\",\"\",INDEX(E_SourceStreams!$A:$N,CQ77,L$7)))","v":""},{"$f":"IF($E77=\"\",\"\",IF(INDEX(E_SourceStreams!$A:$N,CR77,M$7)=\"\",\"\",INDEX(E_SourceStreams!$A:$N,CR77,M$7)))","v":""},{"$f":"IF($E77=\"\",\"\",IF(INDEX(E_SourceStreams!$A:$N,CS77,N$7)=\"\",\"\",INDEX(E_SourceStreams!$A:$N,CS77,N$7)))","v":""},{"$f":"IF($E77=\"\",\"\",IF(INDEX(E_SourceStreams!$A:$N,CT77,O$7)=\"\",\"\",INDEX(E_SourceStreams!$A:$N,CT77,O$7)))","v":""},{"$f":"IF($E77=\"\",\"\",IF(INDEX(E_SourceStreams!$A:$N,CU77,P$7)=\"\",\"\",INDEX(E_SourceStreams!$A:$N,CU77,P$7)))","v":""},{"$f":"IF($E77=\"\",\"\",IF(INDEX(E_SourceStreams!$A:$N,CV77,Q$7)=\"\",\"\",INDEX(E_SourceStreams!$A:$N,CV77,Q$7)))","v":""},{"$f":"IF($E77=\"\",\"\",IF(INDEX(E_SourceStreams!$A:$N,CW77,R$7)=\"\",\"\",INDEX(E_SourceStreams!$A:$N,CW77,R$7)))","v":""},{"$f":"IF($E77=\"\",\"\",IF(INDEX(E_SourceStreams!$A:$N,CX77,S$7)=\"\",\"\",INDEX(E_SourceStreams!$A:$N,CX77,S$7)))","v":""},{"$f":"IF($E77=\"\",\"\",IF(INDEX(E_SourceStreams!$A:$N,CY77,T$7)=\"\",\"\",INDEX(E_SourceStreams!$A:$N,CY77,T$7)))","v":""},{"$f":"IF($E77=\"\",\"\",IF(INDEX(E_SourceStreams!$A:$N,CZ77,U$7)=\"\",\"\",INDEX(E_SourceStreams!$A:$N,CZ77,U$7)))","v":""},{"$f":"IF($E77=\"\",\"\",IF(INDEX(E_SourceStreams!$A:$N,DA77,V$7)=\"\",\"\",INDEX(E_SourceStreams!$A:$N,DA77,V$7)))","v":""},{"$f":"IF($E77=\"\",\"\",IF(INDEX(E_SourceStreams!$A:$N,DB77,W$7)=\"\",\"\",INDEX(E_SourceStreams!$A:$N,DB77,W$7)))","v":""},{"$f":"IF($E77=\"\",\"\",IF(INDEX(E_SourceStreams!$A:$N,DC77,X$7)=\"\",\"\",INDEX(E_SourceStreams!$A:$N,DC77,X$7)))","v":""},{"$f":"IF($E77=\"\",\"\",IF(INDEX(E_SourceStreams!$A:$N,DD77,Y$7)=\"\",\"\",INDEX(E_SourceStreams!$A:$N,DD77,Y$7)))","v":""},{"$f":"IF($E77=\"\",\"\",IF(INDEX(E_SourceStreams!$A:$N,DE77,Z$7)=\"\",\"\",INDEX(E_SourceStreams!$A:$N,DE77,Z$7)))","v":""},{"$f":"IF($E77=\"\",\"\",IF(INDEX(E_SourceStreams!$A:$N,DF77,AA$7)=\"\",\"\",INDEX(E_SourceStreams!$A:$N,DF77,AA$7)))","v":""},{"$f":"IF($E77=\"\",\"\",IF(INDEX(E_SourceStreams!$A:$N,DG77,AB$7)=\"\",\"\",INDEX(E_SourceStreams!$A:$N,DG77,AB$7)))","v":""},{"$f":"IF($E77=\"\",\"\",IF(INDEX(E_SourceStreams!$A:$N,DH77,AC$7)=\"\",\"\",INDEX(E_SourceStreams!$A:$N,DH77,AC$7)))","v":""},{"$f":"IF($E77=\"\",\"\",IF(INDEX(E_SourceStreams!$A:$N,DI77,AD$7)=\"\",\"\",INDEX(E_SourceStreams!$A:$N,DI77,AD$7)))","v":""},{"$f":"IF($E77=\"\",\"\",IF(INDEX(E_SourceStreams!$A:$N,DJ77,AE$7)=\"\",\"\",INDEX(E_SourceStreams!$A:$N,DJ77,AE$7)))","v":""},{"$f":"IF($E77=\"\",\"\",IF(INDEX(E_SourceStreams!$A:$N,DK77,AF$7)=\"\",\"\",INDEX(E_SourceStreams!$A:$N,DK77,AF$7)))","v":""},{"$f":"IF($E77=\"\",\"\",IF(INDEX(E_SourceStreams!$A:$N,DL77,AG$7)=\"\",\"\",INDEX(E_SourceStreams!$A:$N,DL77,AG$7)))","v":""},{"$f":"IF($E77=\"\",\"\",IF(INDEX(E_SourceStreams!$A:$N,DM77,AH$7)=\"\",\"\",INDEX(E_SourceStreams!$A:$N,DM77,AH$7)))","v":""},{"$f":"IF($E77=\"\",\"\",IF(INDEX(E_SourceStreams!$A:$N,DN77,AI$7)=\"\",\"\",INDEX(E_SourceStreams!$A:$N,DN77,AI$7)))","v":""},{"$f":"IF($E77=\"\",\"\",IF(INDEX(E_SourceStreams!$A:$N,DO77,AJ$7)=\"\",\"\",INDEX(E_SourceStreams!$A:$N,DO77,AJ$7)))","v":""},{"$f":"IF($E77=\"\",\"\",IF(INDEX(E_SourceStreams!$A:$N,DP77,AK$7)=\"\",\"\",INDEX(E_SourceStreams!$A:$N,DP77,AK$7)))","v":""},{"$f":"IF($E77=\"\",\"\",IF(INDEX(E_SourceStreams!$A:$N,DQ77,AL$7)=\"\",\"\",INDEX(E_SourceStreams!$A:$N,DQ77,AL$7)))","v":""},{"$f":"IF($E77=\"\",\"\",IF(INDEX(E_SourceStreams!$A:$N,DR77,AM$7)=\"\",\"\",INDEX(E_SourceStreams!$A:$N,DR77,AM$7)))","v":""},{"$f":"IF($E77=\"\",\"\",IF(INDEX(E_SourceStreams!$A:$N,DS77,AN$7)=\"\",\"\",INDEX(E_SourceStreams!$A:$N,DS77,AN$7)))","v":""},{"$f":"IF($E77=\"\",\"\",IF(INDEX(E_SourceStreams!$A:$N,DT77,AO$7)=\"\",\"\",INDEX(E_SourceStreams!$A:$N,DT77,AO$7)))","v":""},{"$f":"IF($E77=\"\",\"\",IF(INDEX(E_SourceStreams!$A:$N,DU77,AP$7)=\"\",\"\",INDEX(E_SourceStreams!$A:$N,DU77,AP$7)))","v":""},{"$f":"IF($E77=\"\",\"\",IF(INDEX(E_SourceStreams!$A:$N,DV77,AQ$7)=\"\",\"\",INDEX(E_SourceStreams!$A:$N,DV77,AQ$7)))","v":""},{"$f":"IF($E77=\"\",\"\",IF(INDEX(E_SourceStreams!$A:$N,DW77,AR$7)=\"\",\"\",INDEX(E_SourceStreams!$A:$N,DW77,AR$7)))","v":""},{"$f":"IF($E77=\"\",\"\",IF(INDEX(E_SourceStreams!$A:$N,DX77,AS$7)=\"\",\"\",INDEX(E_SourceStreams!$A:$N,DX77,AS$7)))","v":""},{"$f":"IF($E77=\"\",\"\",IF(INDEX(E_SourceStreams!$A:$N,DY77,AT$7)=\"\",\"\",INDEX(E_SourceStreams!$A:$N,DY77,AT$7)))","v":""},{"$f":"IF($E77=\"\",\"\",IF(INDEX(E_SourceStreams!$A:$N,DZ77,AU$7)=\"\",\"\",INDEX(E_SourceStreams!$A:$N,DZ77,AU$7)))","v":""},{"$f":"IF($E77=\"\",\"\",IF(INDEX(E_SourceStreams!$A:$N,EA77,AV$7)=\"\",\"\",INDEX(E_SourceStreams!$A:$N,EA77,AV$7)))","v":""},{"$f":"IF($E77=\"\",\"\",IF(INDEX(E_SourceStreams!$A:$N,EB77,AW$7)=\"\",\"\",INDEX(E_SourceStreams!$A:$N,EB77,AW$7)))","v":""},{"$f":"IF($E77=\"\",\"\",IF(INDEX(E_SourceStreams!$A:$N,EC77,AX$7)=\"\",\"\",INDEX(E_SourceStreams!$A:$N,EC77,AX$7)))","v":""},{"$f":"IF($E77=\"\",\"\",IF(INDEX(E_SourceStreams!$A:$N,ED77,AY$7)=\"\",\"\",INDEX(E_SourceStreams!$A:$N,ED77,AY$7)))","v":""},{"$f":"IF($E77=\"\",\"\",IF(INDEX(E_SourceStreams!$A:$N,EE77,AZ$7)=\"\",\"\",INDEX(E_SourceStreams!$A:$N,EE77,AZ$7)))","v":""},{"$f":"IF($E77=\"\",\"\",IF(INDEX(E_SourceStreams!$A:$N,EF77,BA$7)=\"\",\"\",INDEX(E_SourceStreams!$A:$N,EF77,BA$7)))","v":""},{"$f":"IF($E77=\"\",\"\",IF(INDEX(E_SourceStreams!$A:$N,EG77,BB$7)=\"\",\"\",INDEX(E_SourceStreams!$A:$N,EG77,BB$7)))","v":""},{"$f":"IF($E77=\"\",\"\",IF(INDEX(E_SourceStreams!$A:$N,EH77,BC$7)=\"\",\"\",INDEX(E_SourceStreams!$A:$N,EH77,BC$7)))","v":""},{"$f":"IF($E77=\"\",\"\",IF(INDEX(E_SourceStreams!$A:$N,EI77,BD$7)=\"\",\"\",INDEX(E_SourceStreams!$A:$N,EI77,BD$7)))","v":""},{"$f":"IF($E77=\"\",\"\",IF(INDEX(E_SourceStreams!$A:$N,EJ77,BE$7)=\"\",\"\",INDEX(E_SourceStreams!$A:$N,EJ77,BE$7)))","v":""},{"$f":"IF($E77=\"\",\"\",IF(INDEX(E_SourceStreams!$A:$N,EK77,BF$7)=\"\",\"\",INDEX(E_SourceStreams!$A:$N,EK77,BF$7)))","v":""},{"$f":"IF($E77=\"\",\"\",IF(INDEX(E_SourceStreams!$A:$N,EL77,BG$7)=\"\",\"\",INDEX(E_SourceStreams!$A:$N,EL77,BG$7)))","v":""},{"$f":"IF($E77=\"\",\"\",IF(INDEX(E_SourceStreams!$A:$N,EM77,BH$7)=\"\",\"\",INDEX(E_SourceStreams!$A:$N,EM77,BH$7)))","v":""},{"$f":"IF($E77=\"\",\"\",IF(INDEX(E_SourceStreams!$A:$N,EN77,BI$7)=\"\",\"\",INDEX(E_SourceStreams!$A:$N,EN77,BI$7)))","v":""},{"$f":"IF($E77=\"\",\"\",IF(INDEX(E_SourceStreams!$A:$N,EO77,BJ$7)=\"\",\"\",INDEX(E_SourceStreams!$A:$N,EO77,BJ$7)))","v":""},{"$f":"IF($E77=\"\",\"\",IF(INDEX(E_SourceStreams!$A:$N,EP77,BK$7)=\"\",\"\",INDEX(E_SourceStreams!$A:$N,EP77,BK$7)))","v":""},{"$f":"IF($E77=\"\",\"\",IF(INDEX(E_SourceStreams!$A:$N,EQ77,BL$7)=\"\",\"\",INDEX(E_SourceStreams!$A:$N,EQ77,BL$7)))","v":""},{"$f":"IF($E77=\"\",\"\",IF(INDEX(E_SourceStreams!$A:$N,ER77,BM$7)=\"\",\"\",INDEX(E_SourceStreams!$A:$N,ER77,BM$7)))","v":""},{"$f":"IF($E77=\"\",\"\",IF(INDEX(E_SourceStreams!$A:$N,ES77,BN$7)=\"\",\"\",INDEX(E_SourceStreams!$A:$N,ES77,BN$7)))","v":""},{"$f":"IF($E77=\"\",\"\",IF(INDEX(E_SourceStreams!$A:$N,ET77,BO$7)=\"\",\"\",INDEX(E_SourceStreams!$A:$N,ET77,BO$7)))","v":""},{"$f":"IF($E77=\"\",\"\",IF(INDEX(E_SourceStreams!$A:$N,EU77,BP$7)=\"\",\"\",INDEX(E_SourceStreams!$A:$N,EU77,BP$7)))","v":""},{"$f":"IF($E77=\"\",\"\",IF(INDEX(E_SourceStreams!$A:$N,EV77,BQ$7)=\"\",\"\",INDEX(E_SourceStreams!$A:$N,EV77,BQ$7)))","v":""},{"$f":"IF($E77=\"\",\"\",IF(INDEX(E_SourceStreams!$A:$N,EW77,BR$7)=\"\",\"\",INDEX(E_SourceStreams!$A:$N,EW77,BR$7)))","v":""},{"$f":"IF($E77=\"\",\"\",IF(INDEX(E_SourceStreams!$A:$N,EX77,BS$7)=\"\",\"\",INDEX(E_SourceStreams!$A:$N,EX77,BS$7)))","v":""},{"$f":"IF($E77=\"\",\"\",IF(INDEX(E_SourceStreams!$A:$N,EY77,BT$7)=\"\",\"\",INDEX(E_SourceStreams!$A:$N,EY77,BT$7)))","v":""},null,null,null,null,null,null,null,null,null,null,null,null,null,null,null,"SourceCategory_",{"$f":"INDEX(C_InstallationDescription!$A$226:$A$332,ROWS($CI$11:CI77))=\"ausblenden\"","v":true},"SourceStreamName_",null,4491,{"$f":"CO76+66","v":4493},{"$f":"CP76+66","v":4495},{"$f":"CQ76+66","v":4497},{"$f":"CR76+66","v":4499},{"$f":"CS76+66","v":4501},{"$f":"CT76+66","v":4503},{"$f":"CU76+66","v":4503},{"$f":"CV76+66","v":4503},{"$f":"CW76+66","v":4503},{"$f":"CX76+66","v":4503},{"$f":"CY76+66","v":4506},{"$f":"CZ76+66","v":4510},{"$f":"DA76+66","v":4511},{"$f":"DB76+66","v":4512},{"$f":"DC76+66","v":4519},{"$f":"DD76+66","v":4529},{"$f":"DE76+66","v":4529},{"$f":"DF76+66","v":4529},{"$f":"DG76+66","v":4529},{"$f":"DH76+66","v":4529},{"$f":"DI76+66","v":4529},{"$f":"DJ76+66","v":4529},{"$f":"DK76+66","v":4520},{"$f":"DL76+66","v":4530},{"$f":"DM76+66","v":4530},{"$f":"DN76+66","v":4530},{"$f":"DO76+66","v":4530},{"$f":"DP76+66","v":4530},{"$f":"DQ76+66","v":4530},{"$f":"DR76+66","v":4530},{"$f":"DS76+66","v":4521},{"$f":"DT76+66","v":4531},{"$f":"DU76+66","v":4531},{"$f":"DV76+66","v":4531},{"$f":"DW76+66","v":4531},{"$f":"DX76+66","v":4531},{"$f":"DY76+66","v":4531},{"$f":"DZ76+66","v":4531},{"$f":"EA76+66","v":4522},{"$f":"EB76+66","v":4532},{"$f":"EC76+66","v":4532},{"$f":"ED76+66","v":4532},{"$f":"EE76+66","v":4532},{"$f":"EF76+66","v":4532},{"$f":"EG76+66","v":4532},{"$f":"EH76+66","v":4532},{"$f":"EI76+66","v":4523},{"$f":"EJ76+66","v":4533},{"$f":"EK76+66","v":4533},{"$f":"EL76+66","v":4533},{"$f":"EM76+66","v":4533},{"$f":"EN76+66","v":4533},{"$f":"EO76+66","v":4533},{"$f":"EP76+66","v":4533},{"$f":"EQ76+66","v":4524},{"$f":"ER76+66","v":4534},{"$f":"ES76+66","v":4534},{"$f":"ET76+66","v":4534},{"$f":"EU76+66","v":4534},{"$f":"EV76+66","v":4534},{"$f":"EW76+66","v":4534},{"$f":"EX76+66","v":4534},{"$f":"EY76+66","v":4540}]
[null,{"$f":"IF(COUNTIF($CK$10:CK78,TRUE)>0,\"\",INDEX(C_InstallationDescription!$E$226:$E$242,ROWS($A$11:A78)))","v":""},{"$f":"IF($E78=\"\",\"\",INDEX(C_InstallationDescription!F:F,MATCH($B78,C_InstallationDescription!$E:$E,0)))","v":""},{"$f":"IF($E78=\"\",\"\",INDEX(C_InstallationDescription!I:I,MATCH($B78,C_InstallationDescription!$E:$E,0)))","v":""},{"$f":"IF($B78=\"\",\"\",INDEX(C_InstallationDescription!F:F,MATCH($CJ78,C_InstallationDescription!$Q:$Q,0)))","v":""},{"$f":"IF($E78=\"\",\"\",INDEX(C_InstallationDescription!L:L,MATCH($CJ78,C_InstallationDescription!$Q:$Q,0)))","v":""},{"$f":"IF($E78=\"\",\"\",INDEX(C_InstallationDescription!M:M,MATCH($CJ78,C_InstallationDescription!$Q:$Q,0)))","v":""},{"$f":"IF($E78=\"\",\"\",INDEX(C_InstallationDescription!N:N,MATCH($CJ78,C_InstallationDescription!$Q:$Q,0)))","v":""},{"$f":"IF($E78=\"\",\"\",IF(INDEX(E_SourceStreams!$A:$N,CN78,I$7)=\"\",\"\",INDEX(E_SourceStreams!$A:$N,CN78,I$7)))","v":""},{"$f":"IF($E78=\"\",\"\",IF(INDEX(E_SourceStreams!$A:$N,CO78,J$7)=\"\",\"\",INDEX(E_SourceStreams!$A:$N,CO78,J$7)))","v":""},{"$f":"IF($E78=\"\",\"\",IF(INDEX(E_SourceStreams!$A:$N,CP78,K$7)=\"\",\"\",INDEX(E_SourceStreams!$A:$N,CP78,K$7)))","v":""},{"$f":"IF($E78=\"\",\"\",IF(INDEX(E_SourceStreams!$A:$N,CQ78,L$7)=\"\",\"\",INDEX(E_SourceStreams!$A:$N,CQ78,L$7)))","v":""},{"$f":"IF($E78=\"\",\"\",IF(INDEX(E_SourceStreams!$A:$N,CR78,M$7)=\"\",\"\",INDEX(E_SourceStreams!$A:$N,CR78,M$7)))","v":""},{"$f":"IF($E78=\"\",\"\",IF(INDEX(E_SourceStreams!$A:$N,CS78,N$7)=\"\",\"\",INDEX(E_SourceStreams!$A:$N,CS78,N$7)))","v":""},{"$f":"IF($E78=\"\",\"\",IF(INDEX(E_SourceStreams!$A:$N,CT78,O$7)=\"\",\"\",INDEX(E_SourceStreams!$A:$N,CT78,O$7)))","v":""},{"$f":"IF($E78=\"\",\"\",IF(INDEX(E_SourceStreams!$A:$N,CU78,P$7)=\"\",\"\",INDEX(E_SourceStreams!$A:$N,CU78,P$7)))","v":""},{"$f":"IF($E78=\"\",\"\",IF(INDEX(E_SourceStreams!$A:$N,CV78,Q$7)=\"\",\"\",INDEX(E_SourceStreams!$A:$N,CV78,Q$7)))","v":""},{"$f":"IF($E78=\"\",\"\",IF(INDEX(E_SourceStreams!$A:$N,CW78,R$7)=\"\",\"\",INDEX(E_SourceStreams!$A:$N,CW78,R$7)))","v":""},{"$f":"IF($E78=\"\",\"\",IF(INDEX(E_SourceStreams!$A:$N,CX78,S$7)=\"\",\"\",INDEX(E_SourceStreams!$A:$N,CX78,S$7)))","v":""},{"$f":"IF($E78=\"\",\"\",IF(INDEX(E_SourceStreams!$A:$N,CY78,T$7)=\"\",\"\",INDEX(E_SourceStreams!$A:$N,CY78,T$7)))","v":""},{"$f":"IF($E78=\"\",\"\",IF(INDEX(E_SourceStreams!$A:$N,CZ78,U$7)=\"\",\"\",INDEX(E_SourceStreams!$A:$N,CZ78,U$7)))","v":""},{"$f":"IF($E78=\"\",\"\",IF(INDEX(E_SourceStreams!$A:$N,DA78,V$7)=\"\",\"\",INDEX(E_SourceStreams!$A:$N,DA78,V$7)))","v":""},{"$f":"IF($E78=\"\",\"\",IF(INDEX(E_SourceStreams!$A:$N,DB78,W$7)=\"\",\"\",INDEX(E_SourceStreams!$A:$N,DB78,W$7)))","v":""},{"$f":"IF($E78=\"\",\"\",IF(INDEX(E_SourceStreams!$A:$N,DC78,X$7)=\"\",\"\",INDEX(E_SourceStreams!$A:$N,DC78,X$7)))","v":""},{"$f":"IF($E78=\"\",\"\",IF(INDEX(E_SourceStreams!$A:$N,DD78,Y$7)=\"\",\"\",INDEX(E_SourceStreams!$A:$N,DD78,Y$7)))","v":""},{"$f":"IF($E78=\"\",\"\",IF(INDEX(E_SourceStreams!$A:$N,DE78,Z$7)=\"\",\"\",INDEX(E_SourceStreams!$A:$N,DE78,Z$7)))","v":""},{"$f":"IF($E78=\"\",\"\",IF(INDEX(E_SourceStreams!$A:$N,DF78,AA$7)=\"\",\"\",INDEX(E_SourceStreams!$A:$N,DF78,AA$7)))","v":""},{"$f":"IF($E78=\"\",\"\",IF(INDEX(E_SourceStreams!$A:$N,DG78,AB$7)=\"\",\"\",INDEX(E_SourceStreams!$A:$N,DG78,AB$7)))","v":""},{"$f":"IF($E78=\"\",\"\",IF(INDEX(E_SourceStreams!$A:$N,DH78,AC$7)=\"\",\"\",INDEX(E_SourceStreams!$A:$N,DH78,AC$7)))","v":""},{"$f":"IF($E78=\"\",\"\",IF(INDEX(E_SourceStreams!$A:$N,DI78,AD$7)=\"\",\"\",INDEX(E_SourceStreams!$A:$N,DI78,AD$7)))","v":""},{"$f":"IF($E78=\"\",\"\",IF(INDEX(E_SourceStreams!$A:$N,DJ78,AE$7)=\"\",\"\",INDEX(E_SourceStreams!$A:$N,DJ78,AE$7)))","v":""},{"$f":"IF($E78=\"\",\"\",IF(INDEX(E_SourceStreams!$A:$N,DK78,AF$7)=\"\",\"\",INDEX(E_SourceStreams!$A:$N,DK78,AF$7)))","v":""},{"$f":"IF($E78=\"\",\"\",IF(INDEX(E_SourceStreams!$A:$N,DL78,AG$7)=\"\",\"\",INDEX(E_SourceStreams!$A:$N,DL78,AG$7)))","v":""},{"$f":"IF($E78=\"\",\"\",IF(INDEX(E_SourceStreams!$A:$N,DM78,AH$7)=\"\",\"\",INDEX(E_SourceStreams!$A:$N,DM78,AH$7)))","v":""},{"$f":"IF($E78=\"\",\"\",IF(INDEX(E_SourceStreams!$A:$N,DN78,AI$7)=\"\",\"\",INDEX(E_SourceStreams!$A:$N,DN78,AI$7)))","v":""},{"$f":"IF($E78=\"\",\"\",IF(INDEX(E_SourceStreams!$A:$N,DO78,AJ$7)=\"\",\"\",INDEX(E_SourceStreams!$A:$N,DO78,AJ$7)))","v":""},{"$f":"IF($E78=\"\",\"\",IF(INDEX(E_SourceStreams!$A:$N,DP78,AK$7)=\"\",\"\",INDEX(E_SourceStreams!$A:$N,DP78,AK$7)))","v":""},{"$f":"IF($E78=\"\",\"\",IF(INDEX(E_SourceStreams!$A:$N,DQ78,AL$7)=\"\",\"\",INDEX(E_SourceStreams!$A:$N,DQ78,AL$7)))","v":""},{"$f":"IF($E78=\"\",\"\",IF(INDEX(E_SourceStreams!$A:$N,DR78,AM$7)=\"\",\"\",INDEX(E_SourceStreams!$A:$N,DR78,AM$7)))","v":""},{"$f":"IF($E78=\"\",\"\",IF(INDEX(E_SourceStreams!$A:$N,DS78,AN$7)=\"\",\"\",INDEX(E_SourceStreams!$A:$N,DS78,AN$7)))","v":""},{"$f":"IF($E78=\"\",\"\",IF(INDEX(E_SourceStreams!$A:$N,DT78,AO$7)=\"\",\"\",INDEX(E_SourceStreams!$A:$N,DT78,AO$7)))","v":""},{"$f":"IF($E78=\"\",\"\",IF(INDEX(E_SourceStreams!$A:$N,DU78,AP$7)=\"\",\"\",INDEX(E_SourceStreams!$A:$N,DU78,AP$7)))","v":""},{"$f":"IF($E78=\"\",\"\",IF(INDEX(E_SourceStreams!$A:$N,DV78,AQ$7)=\"\",\"\",INDEX(E_SourceStreams!$A:$N,DV78,AQ$7)))","v":""},{"$f":"IF($E78=\"\",\"\",IF(INDEX(E_SourceStreams!$A:$N,DW78,AR$7)=\"\",\"\",INDEX(E_SourceStreams!$A:$N,DW78,AR$7)))","v":""},{"$f":"IF($E78=\"\",\"\",IF(INDEX(E_SourceStreams!$A:$N,DX78,AS$7)=\"\",\"\",INDEX(E_SourceStreams!$A:$N,DX78,AS$7)))","v":""},{"$f":"IF($E78=\"\",\"\",IF(INDEX(E_SourceStreams!$A:$N,DY78,AT$7)=\"\",\"\",INDEX(E_SourceStreams!$A:$N,DY78,AT$7)))","v":""},{"$f":"IF($E78=\"\",\"\",IF(INDEX(E_SourceStreams!$A:$N,DZ78,AU$7)=\"\",\"\",INDEX(E_SourceStreams!$A:$N,DZ78,AU$7)))","v":""},{"$f":"IF($E78=\"\",\"\",IF(INDEX(E_SourceStreams!$A:$N,EA78,AV$7)=\"\",\"\",INDEX(E_SourceStreams!$A:$N,EA78,AV$7)))","v":""},{"$f":"IF($E78=\"\",\"\",IF(INDEX(E_SourceStreams!$A:$N,EB78,AW$7)=\"\",\"\",INDEX(E_SourceStreams!$A:$N,EB78,AW$7)))","v":""},{"$f":"IF($E78=\"\",\"\",IF(INDEX(E_SourceStreams!$A:$N,EC78,AX$7)=\"\",\"\",INDEX(E_SourceStreams!$A:$N,EC78,AX$7)))","v":""},{"$f":"IF($E78=\"\",\"\",IF(INDEX(E_SourceStreams!$A:$N,ED78,AY$7)=\"\",\"\",INDEX(E_SourceStreams!$A:$N,ED78,AY$7)))","v":""},{"$f":"IF($E78=\"\",\"\",IF(INDEX(E_SourceStreams!$A:$N,EE78,AZ$7)=\"\",\"\",INDEX(E_SourceStreams!$A:$N,EE78,AZ$7)))","v":""},{"$f":"IF($E78=\"\",\"\",IF(INDEX(E_SourceStreams!$A:$N,EF78,BA$7)=\"\",\"\",INDEX(E_SourceStreams!$A:$N,EF78,BA$7)))","v":""},{"$f":"IF($E78=\"\",\"\",IF(INDEX(E_SourceStreams!$A:$N,EG78,BB$7)=\"\",\"\",INDEX(E_SourceStreams!$A:$N,EG78,BB$7)))","v":""},{"$f":"IF($E78=\"\",\"\",IF(INDEX(E_SourceStreams!$A:$N,EH78,BC$7)=\"\",\"\",INDEX(E_SourceStreams!$A:$N,EH78,BC$7)))","v":""},{"$f":"IF($E78=\"\",\"\",IF(INDEX(E_SourceStreams!$A:$N,EI78,BD$7)=\"\",\"\",INDEX(E_SourceStreams!$A:$N,EI78,BD$7)))","v":""},{"$f":"IF($E78=\"\",\"\",IF(INDEX(E_SourceStreams!$A:$N,EJ78,BE$7)=\"\",\"\",INDEX(E_SourceStreams!$A:$N,EJ78,BE$7)))","v":""},{"$f":"IF($E78=\"\",\"\",IF(INDEX(E_SourceStreams!$A:$N,EK78,BF$7)=\"\",\"\",INDEX(E_SourceStreams!$A:$N,EK78,BF$7)))","v":""},{"$f":"IF($E78=\"\",\"\",IF(INDEX(E_SourceStreams!$A:$N,EL78,BG$7)=\"\",\"\",INDEX(E_SourceStreams!$A:$N,EL78,BG$7)))","v":""},{"$f":"IF($E78=\"\",\"\",IF(INDEX(E_SourceStreams!$A:$N,EM78,BH$7)=\"\",\"\",INDEX(E_SourceStreams!$A:$N,EM78,BH$7)))","v":""},{"$f":"IF($E78=\"\",\"\",IF(INDEX(E_SourceStreams!$A:$N,EN78,BI$7)=\"\",\"\",INDEX(E_SourceStreams!$A:$N,EN78,BI$7)))","v":""},{"$f":"IF($E78=\"\",\"\",IF(INDEX(E_SourceStreams!$A:$N,EO78,BJ$7)=\"\",\"\",INDEX(E_SourceStreams!$A:$N,EO78,BJ$7)))","v":""},{"$f":"IF($E78=\"\",\"\",IF(INDEX(E_SourceStreams!$A:$N,EP78,BK$7)=\"\",\"\",INDEX(E_SourceStreams!$A:$N,EP78,BK$7)))","v":""},{"$f":"IF($E78=\"\",\"\",IF(INDEX(E_SourceStreams!$A:$N,EQ78,BL$7)=\"\",\"\",INDEX(E_SourceStreams!$A:$N,EQ78,BL$7)))","v":""},{"$f":"IF($E78=\"\",\"\",IF(INDEX(E_SourceStreams!$A:$N,ER78,BM$7)=\"\",\"\",INDEX(E_SourceStreams!$A:$N,ER78,BM$7)))","v":""},{"$f":"IF($E78=\"\",\"\",IF(INDEX(E_SourceStreams!$A:$N,ES78,BN$7)=\"\",\"\",INDEX(E_SourceStreams!$A:$N,ES78,BN$7)))","v":""},{"$f":"IF($E78=\"\",\"\",IF(INDEX(E_SourceStreams!$A:$N,ET78,BO$7)=\"\",\"\",INDEX(E_SourceStreams!$A:$N,ET78,BO$7)))","v":""},{"$f":"IF($E78=\"\",\"\",IF(INDEX(E_SourceStreams!$A:$N,EU78,BP$7)=\"\",\"\",INDEX(E_SourceStreams!$A:$N,EU78,BP$7)))","v":""},{"$f":"IF($E78=\"\",\"\",IF(INDEX(E_SourceStreams!$A:$N,EV78,BQ$7)=\"\",\"\",INDEX(E_SourceStreams!$A:$N,EV78,BQ$7)))","v":""},{"$f":"IF($E78=\"\",\"\",IF(INDEX(E_SourceStreams!$A:$N,EW78,BR$7)=\"\",\"\",INDEX(E_SourceStreams!$A:$N,EW78,BR$7)))","v":""},{"$f":"IF($E78=\"\",\"\",IF(INDEX(E_SourceStreams!$A:$N,EX78,BS$7)=\"\",\"\",INDEX(E_SourceStreams!$A:$N,EX78,BS$7)))","v":""},{"$f":"IF($E78=\"\",\"\",IF(INDEX(E_SourceStreams!$A:$N,EY78,BT$7)=\"\",\"\",INDEX(E_SourceStreams!$A:$N,EY78,BT$7)))","v":""},null,null,null,null,null,null,null,null,null,null,null,null,null,null,null,"SourceCategory_",{"$f":"INDEX(C_InstallationDescription!$A$226:$A$332,ROWS($CI$11:CI78))=\"ausblenden\"","v":true},"SourceStreamName_",null,{"$f":"CN77+66","v":4557},4559,4561,4563,4565,4567,4569,4569,4569,4569,4569,4572,4576,4577,4578,4585,4595,4595,4595,4595,4595,4595,4595,4586,4596,4596,4596,4596,4596,4596,4596,4587,4597,4597,4597,4597,4597,4597,4597,4588,4598,4598,4598,4598,4598,4598,4598,4589,4599,4599,4599,4599,4599,4599,4599,4590,4600,4600,4600,4600,4600,4600,4600,4606]
[null,{"$f":"IF(COUNTIF($CK$10:CK79,TRUE)>0,\"\",INDEX(C_InstallationDescription!$E$226:$E$242,ROWS($A$11:A79)))","v":""},{"$f":"IF($E79=\"\",\"\",INDEX(C_InstallationDescription!F:F,MATCH($B79,C_InstallationDescription!$E:$E,0)))","v":""},{"$f":"IF($E79=\"\",\"\",INDEX(C_InstallationDescription!I:I,MATCH($B79,C_InstallationDescription!$E:$E,0)))","v":""},{"$f":"IF($B79=\"\",\"\",INDEX(C_InstallationDescription!F:F,MATCH($CJ79,C_InstallationDescription!$Q:$Q,0)))","v":""},{"$f":"IF($E79=\"\",\"\",INDEX(C_InstallationDescription!L:L,MATCH($CJ79,C_InstallationDescription!$Q:$Q,0)))","v":""},{"$f":"IF($E79=\"\",\"\",INDEX(C_InstallationDescription!M:M,MATCH($CJ79,C_InstallationDescription!$Q:$Q,0)))","v":""},{"$f":"IF($E79=\"\",\"\",INDEX(C_InstallationDescription!N:N,MATCH($CJ79,C_InstallationDescription!$Q:$Q,0)))","v":""},{"$f":"IF($E79=\"\",\"\",IF(INDEX(E_SourceStreams!$A:$N,CN79,I$7)=\"\",\"\",INDEX(E_SourceStreams!$A:$N,CN79,I$7)))","v":""},{"$f":"IF($E79=\"\",\"\",IF(INDEX(E_SourceStreams!$A:$N,CO79,J$7)=\"\",\"\",INDEX(E_SourceStreams!$A:$N,CO79,J$7)))","v":""},{"$f":"IF($E79=\"\",\"\",IF(INDEX(E_SourceStreams!$A:$N,CP79,K$7)=\"\",\"\",INDEX(E_SourceStreams!$A:$N,CP79,K$7)))","v":""},{"$f":"IF($E79=\"\",\"\",IF(INDEX(E_SourceStreams!$A:$N,CQ79,L$7)=\"\",\"\",INDEX(E_SourceStreams!$A:$N,CQ79,L$7)))","v":""},{"$f":"IF($E79=\"\",\"\",IF(INDEX(E_SourceStreams!$A:$N,CR79,M$7)=\"\",\"\",INDEX(E_SourceStreams!$A:$N,CR79,M$7)))","v":""},{"$f":"IF($E79=\"\",\"\",IF(INDEX(E_SourceStreams!$A:$N,CS79,N$7)=\"\",\"\",INDEX(E_SourceStreams!$A:$N,CS79,N$7)))","v":""},{"$f":"IF($E79=\"\",\"\",IF(INDEX(E_SourceStreams!$A:$N,CT79,O$7)=\"\",\"\",INDEX(E_SourceStreams!$A:$N,CT79,O$7)))","v":""},{"$f":"IF($E79=\"\",\"\",IF(INDEX(E_SourceStreams!$A:$N,CU79,P$7)=\"\",\"\",INDEX(E_SourceStreams!$A:$N,CU79,P$7)))","v":""},{"$f":"IF($E79=\"\",\"\",IF(INDEX(E_SourceStreams!$A:$N,CV79,Q$7)=\"\",\"\",INDEX(E_SourceStreams!$A:$N,CV79,Q$7)))","v":""},{"$f":"IF($E79=\"\",\"\",IF(INDEX(E_SourceStreams!$A:$N,CW79,R$7)=\"\",\"\",INDEX(E_SourceStreams!$A:$N,CW79,R$7)))","v":""},{"$f":"IF($E79=\"\",\"\",IF(INDEX(E_SourceStreams!$A:$N,CX79,S$7)=\"\",\"\",INDEX(E_SourceStreams!$A:$N,CX79,S$7)))","v":""},{"$f":"IF($E79=\"\",\"\",IF(INDEX(E_SourceStreams!$A:$N,CY79,T$7)=\"\",\"\",INDEX(E_SourceStreams!$A:$N,CY79,T$7)))","v":""},{"$f":"IF($E79=\"\",\"\",IF(INDEX(E_SourceStreams!$A:$N,CZ79,U$7)=\"\",\"\",INDEX(E_SourceStreams!$A:$N,CZ79,U$7)))","v":""},{"$f":"IF($E79=\"\",\"\",IF(INDEX(E_SourceStreams!$A:$N,DA79,V$7)=\"\",\"\",INDEX(E_SourceStreams!$A:$N,DA79,V$7)))","v":""},{"$f":"IF($E79=\"\",\"\",IF(INDEX(E_SourceStreams!$A:$N,DB79,W$7)=\"\",\"\",INDEX(E_SourceStreams!$A:$N,DB79,W$7)))","v":""},{"$f":"IF($E79=\"\",\"\",IF(INDEX(E_SourceStreams!$A:$N,DC79,X$7)=\"\",\"\",INDEX(E_SourceStreams!$A:$N,DC79,X$7)))","v":""},{"$f":"IF($E79=\"\",\"\",IF(INDEX(E_SourceStreams!$A:$N,DD79,Y$7)=\"\",\"\",INDEX(E_SourceStreams!$A:$N,DD79,Y$7)))","v":""},{"$f":"IF($E79=\"\",\"\",IF(INDEX(E_SourceStreams!$A:$N,DE79,Z$7)=\"\",\"\",INDEX(E_SourceStreams!$A:$N,DE79,Z$7)))","v":""},{"$f":"IF($E79=\"\",\"\",IF(INDEX(E_SourceStreams!$A:$N,DF79,AA$7)=\"\",\"\",INDEX(E_SourceStreams!$A:$N,DF79,AA$7)))","v":""},{"$f":"IF($E79=\"\",\"\",IF(INDEX(E_SourceStreams!$A:$N,DG79,AB$7)=\"\",\"\",INDEX(E_SourceStreams!$A:$N,DG79,AB$7)))","v":""},{"$f":"IF($E79=\"\",\"\",IF(INDEX(E_SourceStreams!$A:$N,DH79,AC$7)=\"\",\"\",INDEX(E_SourceStreams!$A:$N,DH79,AC$7)))","v":""},{"$f":"IF($E79=\"\",\"\",IF(INDEX(E_SourceStreams!$A:$N,DI79,AD$7)=\"\",\"\",INDEX(E_SourceStreams!$A:$N,DI79,AD$7)))","v":""},{"$f":"IF($E79=\"\",\"\",IF(INDEX(E_SourceStreams!$A:$N,DJ79,AE$7)=\"\",\"\",INDEX(E_SourceStreams!$A:$N,DJ79,AE$7)))","v":""},{"$f":"IF($E79=\"\",\"\",IF(INDEX(E_SourceStreams!$A:$N,DK79,AF$7)=\"\",\"\",INDEX(E_SourceStreams!$A:$N,DK79,AF$7)))","v":""},{"$f":"IF($E79=\"\",\"\",IF(INDEX(E_SourceStreams!$A:$N,DL79,AG$7)=\"\",\"\",INDEX(E_SourceStreams!$A:$N,DL79,AG$7)))","v":""},{"$f":"IF($E79=\"\",\"\",IF(INDEX(E_SourceStreams!$A:$N,DM79,AH$7)=\"\",\"\",INDEX(E_SourceStreams!$A:$N,DM79,AH$7)))","v":""},{"$f":"IF($E79=\"\",\"\",IF(INDEX(E_SourceStreams!$A:$N,DN79,AI$7)=\"\",\"\",INDEX(E_SourceStreams!$A:$N,DN79,AI$7)))","v":""},{"$f":"IF($E79=\"\",\"\",IF(INDEX(E_SourceStreams!$A:$N,DO79,AJ$7)=\"\",\"\",INDEX(E_SourceStreams!$A:$N,DO79,AJ$7)))","v":""},{"$f":"IF($E79=\"\",\"\",IF(INDEX(E_SourceStreams!$A:$N,DP79,AK$7)=\"\",\"\",INDEX(E_SourceStreams!$A:$N,DP79,AK$7)))","v":""},{"$f":"IF($E79=\"\",\"\",IF(INDEX(E_SourceStreams!$A:$N,DQ79,AL$7)=\"\",\"\",INDEX(E_SourceStreams!$A:$N,DQ79,AL$7)))","v":""},{"$f":"IF($E79=\"\",\"\",IF(INDEX(E_SourceStreams!$A:$N,DR79,AM$7)=\"\",\"\",INDEX(E_SourceStreams!$A:$N,DR79,AM$7)))","v":""},{"$f":"IF($E79=\"\",\"\",IF(INDEX(E_SourceStreams!$A:$N,DS79,AN$7)=\"\",\"\",INDEX(E_SourceStreams!$A:$N,DS79,AN$7)))","v":""},{"$f":"IF($E79=\"\",\"\",IF(INDEX(E_SourceStreams!$A:$N,DT79,AO$7)=\"\",\"\",INDEX(E_SourceStreams!$A:$N,DT79,AO$7)))","v":""},{"$f":"IF($E79=\"\",\"\",IF(INDEX(E_SourceStreams!$A:$N,DU79,AP$7)=\"\",\"\",INDEX(E_SourceStreams!$A:$N,DU79,AP$7)))","v":""},{"$f":"IF($E79=\"\",\"\",IF(INDEX(E_SourceStreams!$A:$N,DV79,AQ$7)=\"\",\"\",INDEX(E_SourceStreams!$A:$N,DV79,AQ$7)))","v":""},{"$f":"IF($E79=\"\",\"\",IF(INDEX(E_SourceStreams!$A:$N,DW79,AR$7)=\"\",\"\",INDEX(E_SourceStreams!$A:$N,DW79,AR$7)))","v":""},{"$f":"IF($E79=\"\",\"\",IF(INDEX(E_SourceStreams!$A:$N,DX79,AS$7)=\"\",\"\",INDEX(E_SourceStreams!$A:$N,DX79,AS$7)))","v":""},{"$f":"IF($E79=\"\",\"\",IF(INDEX(E_SourceStreams!$A:$N,DY79,AT$7)=\"\",\"\",INDEX(E_SourceStreams!$A:$N,DY79,AT$7)))","v":""},{"$f":"IF($E79=\"\",\"\",IF(INDEX(E_SourceStreams!$A:$N,DZ79,AU$7)=\"\",\"\",INDEX(E_SourceStreams!$A:$N,DZ79,AU$7)))","v":""},{"$f":"IF($E79=\"\",\"\",IF(INDEX(E_SourceStreams!$A:$N,EA79,AV$7)=\"\",\"\",INDEX(E_SourceStreams!$A:$N,EA79,AV$7)))","v":""},{"$f":"IF($E79=\"\",\"\",IF(INDEX(E_SourceStreams!$A:$N,EB79,AW$7)=\"\",\"\",INDEX(E_SourceStreams!$A:$N,EB79,AW$7)))","v":""},{"$f":"IF($E79=\"\",\"\",IF(INDEX(E_SourceStreams!$A:$N,EC79,AX$7)=\"\",\"\",INDEX(E_SourceStreams!$A:$N,EC79,AX$7)))","v":""},{"$f":"IF($E79=\"\",\"\",IF(INDEX(E_SourceStreams!$A:$N,ED79,AY$7)=\"\",\"\",INDEX(E_SourceStreams!$A:$N,ED79,AY$7)))","v":""},{"$f":"IF($E79=\"\",\"\",IF(INDEX(E_SourceStreams!$A:$N,EE79,AZ$7)=\"\",\"\",INDEX(E_SourceStreams!$A:$N,EE79,AZ$7)))","v":""},{"$f":"IF($E79=\"\",\"\",IF(INDEX(E_SourceStreams!$A:$N,EF79,BA$7)=\"\",\"\",INDEX(E_SourceStreams!$A:$N,EF79,BA$7)))","v":""},{"$f":"IF($E79=\"\",\"\",IF(INDEX(E_SourceStreams!$A:$N,EG79,BB$7)=\"\",\"\",INDEX(E_SourceStreams!$A:$N,EG79,BB$7)))","v":""},{"$f":"IF($E79=\"\",\"\",IF(INDEX(E_SourceStreams!$A:$N,EH79,BC$7)=\"\",\"\",INDEX(E_SourceStreams!$A:$N,EH79,BC$7)))","v":""},{"$f":"IF($E79=\"\",\"\",IF(INDEX(E_SourceStreams!$A:$N,EI79,BD$7)=\"\",\"\",INDEX(E_SourceStreams!$A:$N,EI79,BD$7)))","v":""},{"$f":"IF($E79=\"\",\"\",IF(INDEX(E_SourceStreams!$A:$N,EJ79,BE$7)=\"\",\"\",INDEX(E_SourceStreams!$A:$N,EJ79,BE$7)))","v":""},{"$f":"IF($E79=\"\",\"\",IF(INDEX(E_SourceStreams!$A:$N,EK79,BF$7)=\"\",\"\",INDEX(E_SourceStreams!$A:$N,EK79,BF$7)))","v":""},{"$f":"IF($E79=\"\",\"\",IF(INDEX(E_SourceStreams!$A:$N,EL79,BG$7)=\"\",\"\",INDEX(E_SourceStreams!$A:$N,EL79,BG$7)))","v":""},{"$f":"IF($E79=\"\",\"\",IF(INDEX(E_SourceStreams!$A:$N,EM79,BH$7)=\"\",\"\",INDEX(E_SourceStreams!$A:$N,EM79,BH$7)))","v":""},{"$f":"IF($E79=\"\",\"\",IF(INDEX(E_SourceStreams!$A:$N,EN79,BI$7)=\"\",\"\",INDEX(E_SourceStreams!$A:$N,EN79,BI$7)))","v":""},{"$f":"IF($E79=\"\",\"\",IF(INDEX(E_SourceStreams!$A:$N,EO79,BJ$7)=\"\",\"\",INDEX(E_SourceStreams!$A:$N,EO79,BJ$7)))","v":""},{"$f":"IF($E79=\"\",\"\",IF(INDEX(E_SourceStreams!$A:$N,EP79,BK$7)=\"\",\"\",INDEX(E_SourceStreams!$A:$N,EP79,BK$7)))","v":""},{"$f":"IF($E79=\"\",\"\",IF(INDEX(E_SourceStreams!$A:$N,EQ79,BL$7)=\"\",\"\",INDEX(E_SourceStreams!$A:$N,EQ79,BL$7)))","v":""},{"$f":"IF($E79=\"\",\"\",IF(INDEX(E_SourceStreams!$A:$N,ER79,BM$7)=\"\",\"\",INDEX(E_SourceStreams!$A:$N,ER79,BM$7)))","v":""},{"$f":"IF($E79=\"\",\"\",IF(INDEX(E_SourceStreams!$A:$N,ES79,BN$7)=\"\",\"\",INDEX(E_SourceStreams!$A:$N,ES79,BN$7)))","v":""},{"$f":"IF($E79=\"\",\"\",IF(INDEX(E_SourceStreams!$A:$N,ET79,BO$7)=\"\",\"\",INDEX(E_SourceStreams!$A:$N,ET79,BO$7)))","v":""},{"$f":"IF($E79=\"\",\"\",IF(INDEX(E_SourceStreams!$A:$N,EU79,BP$7)=\"\",\"\",INDEX(E_SourceStreams!$A:$N,EU79,BP$7)))","v":""},{"$f":"IF($E79=\"\",\"\",IF(INDEX(E_SourceStreams!$A:$N,EV79,BQ$7)=\"\",\"\",INDEX(E_SourceStreams!$A:$N,EV79,BQ$7)))","v":""},{"$f":"IF($E79=\"\",\"\",IF(INDEX(E_SourceStreams!$A:$N,EW79,BR$7)=\"\",\"\",INDEX(E_SourceStreams!$A:$N,EW79,BR$7)))","v":""},{"$f":"IF($E79=\"\",\"\",IF(INDEX(E_SourceStreams!$A:$N,EX79,BS$7)=\"\",\"\",INDEX(E_SourceStreams!$A:$N,EX79,BS$7)))","v":""},{"$f":"IF($E79=\"\",\"\",IF(INDEX(E_SourceStreams!$A:$N,EY79,BT$7)=\"\",\"\",INDEX(E_SourceStreams!$A:$N,EY79,BT$7)))","v":""},null,null,null,null,null,null,null,null,null,null,null,null,null,null,null,"SourceCategory_",{"$f":"INDEX(C_InstallationDescription!$A$226:$A$332,ROWS($CI$11:CI79))=\"ausblenden\"","v":true},"SourceStreamName_",null,4623,4625,4627,4629,4631,4633,4635,4635,4635,4635,4635,4638,4642,4643,4644,4651,4661,4661,4661,4661,4661,4661,4661,4652,4662,4662,4662,4662,4662,4662,4662,4653,4663,4663,4663,4663,4663,4663,4663,4654,4664,4664,4664,4664,4664,4664,4664,4655,4665,4665,4665,4665,4665,4665,4665,4656,4666,4666,4666,4666,4666,4666,4666,4672]
[null,{"$f":"IF(COUNTIF($CK$10:CK80,TRUE)>0,\"\",INDEX(C_InstallationDescription!$E$226:$E$242,ROWS($A$11:A80)))","v":""},{"$f":"IF($E80=\"\",\"\",INDEX(C_InstallationDescription!F:F,MATCH($B80,C_InstallationDescription!$E:$E,0)))","v":""},{"$f":"IF($E80=\"\",\"\",INDEX(C_InstallationDescription!I:I,MATCH($B80,C_InstallationDescription!$E:$E,0)))","v":""},{"$f":"IF($B80=\"\",\"\",INDEX(C_InstallationDescription!F:F,MATCH($CJ80,C_InstallationDescription!$Q:$Q,0)))","v":""},{"$f":"IF($E80=\"\",\"\",INDEX(C_InstallationDescription!L:L,MATCH($CJ80,C_InstallationDescription!$Q:$Q,0)))","v":""},{"$f":"IF($E80=\"\",\"\",INDEX(C_InstallationDescription!M:M,MATCH($CJ80,C_InstallationDescription!$Q:$Q,0)))","v":""},{"$f":"IF($E80=\"\",\"\",INDEX(C_InstallationDescription!N:N,MATCH($CJ80,C_InstallationDescription!$Q:$Q,0)))","v":""},{"$f":"IF($E80=\"\",\"\",IF(INDEX(E_SourceStreams!$A:$N,CN80,I$7)=\"\",\"\",INDEX(E_SourceStreams!$A:$N,CN80,I$7)))","v":""},{"$f":"IF($E80=\"\",\"\",IF(INDEX(E_SourceStreams!$A:$N,CO80,J$7)=\"\",\"\",INDEX(E_SourceStreams!$A:$N,CO80,J$7)))","v":""},{"$f":"IF($E80=\"\",\"\",IF(INDEX(E_SourceStreams!$A:$N,CP80,K$7)=\"\",\"\",INDEX(E_SourceStreams!$A:$N,CP80,K$7)))","v":""},{"$f":"IF($E80=\"\",\"\",IF(INDEX(E_SourceStreams!$A:$N,CQ80,L$7)=\"\",\"\",INDEX(E_SourceStreams!$A:$N,CQ80,L$7)))","v":""},{"$f":"IF($E80=\"\",\"\",IF(INDEX(E_SourceStreams!$A:$N,CR80,M$7)=\"\",\"\",INDEX(E_SourceStreams!$A:$N,CR80,M$7)))","v":""},{"$f":"IF($E80=\"\",\"\",IF(INDEX(E_SourceStreams!$A:$N,CS80,N$7)=\"\",\"\",INDEX(E_SourceStreams!$A:$N,CS80,N$7)))","v":""},{"$f":"IF($E80=\"\",\"\",IF(INDEX(E_SourceStreams!$A:$N,CT80,O$7)=\"\",\"\",INDEX(E_SourceStreams!$A:$N,CT80,O$7)))","v":""},{"$f":"IF($E80=\"\",\"\",IF(INDEX(E_SourceStreams!$A:$N,CU80,P$7)=\"\",\"\",INDEX(E_SourceStreams!$A:$N,CU80,P$7)))","v":""},{"$f":"IF($E80=\"\",\"\",IF(INDEX(E_SourceStreams!$A:$N,CV80,Q$7)=\"\",\"\",INDEX(E_SourceStreams!$A:$N,CV80,Q$7)))","v":""},{"$f":"IF($E80=\"\",\"\",IF(INDEX(E_SourceStreams!$A:$N,CW80,R$7)=\"\",\"\",INDEX(E_SourceStreams!$A:$N,CW80,R$7)))","v":""},{"$f":"IF($E80=\"\",\"\",IF(INDEX(E_SourceStreams!$A:$N,CX80,S$7)=\"\",\"\",INDEX(E_SourceStreams!$A:$N,CX80,S$7)))","v":""},{"$f":"IF($E80=\"\",\"\",IF(INDEX(E_SourceStreams!$A:$N,CY80,T$7)=\"\",\"\",INDEX(E_SourceStreams!$A:$N,CY80,T$7)))","v":""},{"$f":"IF($E80=\"\",\"\",IF(INDEX(E_SourceStreams!$A:$N,CZ80,U$7)=\"\",\"\",INDEX(E_SourceStreams!$A:$N,CZ80,U$7)))","v":""},{"$f":"IF($E80=\"\",\"\",IF(INDEX(E_SourceStreams!$A:$N,DA80,V$7)=\"\",\"\",INDEX(E_SourceStreams!$A:$N,DA80,V$7)))","v":""},{"$f":"IF($E80=\"\",\"\",IF(INDEX(E_SourceStreams!$A:$N,DB80,W$7)=\"\",\"\",INDEX(E_SourceStreams!$A:$N,DB80,W$7)))","v":""},{"$f":"IF($E80=\"\",\"\",IF(INDEX(E_SourceStreams!$A:$N,DC80,X$7)=\"\",\"\",INDEX(E_SourceStreams!$A:$N,DC80,X$7)))","v":""},{"$f":"IF($E80=\"\",\"\",IF(INDEX(E_SourceStreams!$A:$N,DD80,Y$7)=\"\",\"\",INDEX(E_SourceStreams!$A:$N,DD80,Y$7)))","v":""},{"$f":"IF($E80=\"\",\"\",IF(INDEX(E_SourceStreams!$A:$N,DE80,Z$7)=\"\",\"\",INDEX(E_SourceStreams!$A:$N,DE80,Z$7)))","v":""},{"$f":"IF($E80=\"\",\"\",IF(INDEX(E_SourceStreams!$A:$N,DF80,AA$7)=\"\",\"\",INDEX(E_SourceStreams!$A:$N,DF80,AA$7)))","v":""},{"$f":"IF($E80=\"\",\"\",IF(INDEX(E_SourceStreams!$A:$N,DG80,AB$7)=\"\",\"\",INDEX(E_SourceStreams!$A:$N,DG80,AB$7)))","v":""},{"$f":"IF($E80=\"\",\"\",IF(INDEX(E_SourceStreams!$A:$N,DH80,AC$7)=\"\",\"\",INDEX(E_SourceStreams!$A:$N,DH80,AC$7)))","v":""},{"$f":"IF($E80=\"\",\"\",IF(INDEX(E_SourceStreams!$A:$N,DI80,AD$7)=\"\",\"\",INDEX(E_SourceStreams!$A:$N,DI80,AD$7)))","v":""},{"$f":"IF($E80=\"\",\"\",IF(INDEX(E_SourceStreams!$A:$N,DJ80,AE$7)=\"\",\"\",INDEX(E_SourceStreams!$A:$N,DJ80,AE$7)))","v":""},{"$f":"IF($E80=\"\",\"\",IF(INDEX(E_SourceStreams!$A:$N,DK80,AF$7)=\"\",\"\",INDEX(E_SourceStreams!$A:$N,DK80,AF$7)))","v":""},{"$f":"IF($E80=\"\",\"\",IF(INDEX(E_SourceStreams!$A:$N,DL80,AG$7)=\"\",\"\",INDEX(E_SourceStreams!$A:$N,DL80,AG$7)))","v":""},{"$f":"IF($E80=\"\",\"\",IF(INDEX(E_SourceStreams!$A:$N,DM80,AH$7)=\"\",\"\",INDEX(E_SourceStreams!$A:$N,DM80,AH$7)))","v":""},{"$f":"IF($E80=\"\",\"\",IF(INDEX(E_SourceStreams!$A:$N,DN80,AI$7)=\"\",\"\",INDEX(E_SourceStreams!$A:$N,DN80,AI$7)))","v":""},{"$f":"IF($E80=\"\",\"\",IF(INDEX(E_SourceStreams!$A:$N,DO80,AJ$7)=\"\",\"\",INDEX(E_SourceStreams!$A:$N,DO80,AJ$7)))","v":""},{"$f":"IF($E80=\"\",\"\",IF(INDEX(E_SourceStreams!$A:$N,DP80,AK$7)=\"\",\"\",INDEX(E_SourceStreams!$A:$N,DP80,AK$7)))","v":""},{"$f":"IF($E80=\"\",\"\",IF(INDEX(E_SourceStreams!$A:$N,DQ80,AL$7)=\"\",\"\",INDEX(E_SourceStreams!$A:$N,DQ80,AL$7)))","v":""},{"$f":"IF($E80=\"\",\"\",IF(INDEX(E_SourceStreams!$A:$N,DR80,AM$7)=\"\",\"\",INDEX(E_SourceStreams!$A:$N,DR80,AM$7)))","v":""},{"$f":"IF($E80=\"\",\"\",IF(INDEX(E_SourceStreams!$A:$N,DS80,AN$7)=\"\",\"\",INDEX(E_SourceStreams!$A:$N,DS80,AN$7)))","v":""},{"$f":"IF($E80=\"\",\"\",IF(INDEX(E_SourceStreams!$A:$N,DT80,AO$7)=\"\",\"\",INDEX(E_SourceStreams!$A:$N,DT80,AO$7)))","v":""},{"$f":"IF($E80=\"\",\"\",IF(INDEX(E_SourceStreams!$A:$N,DU80,AP$7)=\"\",\"\",INDEX(E_SourceStreams!$A:$N,DU80,AP$7)))","v":""},{"$f":"IF($E80=\"\",\"\",IF(INDEX(E_SourceStreams!$A:$N,DV80,AQ$7)=\"\",\"\",INDEX(E_SourceStreams!$A:$N,DV80,AQ$7)))","v":""},{"$f":"IF($E80=\"\",\"\",IF(INDEX(E_SourceStreams!$A:$N,DW80,AR$7)=\"\",\"\",INDEX(E_SourceStreams!$A:$N,DW80,AR$7)))","v":""},{"$f":"IF($E80=\"\",\"\",IF(INDEX(E_SourceStreams!$A:$N,DX80,AS$7)=\"\",\"\",INDEX(E_SourceStreams!$A:$N,DX80,AS$7)))","v":""},{"$f":"IF($E80=\"\",\"\",IF(INDEX(E_SourceStreams!$A:$N,DY80,AT$7)=\"\",\"\",INDEX(E_SourceStreams!$A:$N,DY80,AT$7)))","v":""},{"$f":"IF($E80=\"\",\"\",IF(INDEX(E_SourceStreams!$A:$N,DZ80,AU$7)=\"\",\"\",INDEX(E_SourceStreams!$A:$N,DZ80,AU$7)))","v":""},{"$f":"IF($E80=\"\",\"\",IF(INDEX(E_SourceStreams!$A:$N,EA80,AV$7)=\"\",\"\",INDEX(E_SourceStreams!$A:$N,EA80,AV$7)))","v":""},{"$f":"IF($E80=\"\",\"\",IF(INDEX(E_SourceStreams!$A:$N,EB80,AW$7)=\"\",\"\",INDEX(E_SourceStreams!$A:$N,EB80,AW$7)))","v":""},{"$f":"IF($E80=\"\",\"\",IF(INDEX(E_SourceStreams!$A:$N,EC80,AX$7)=\"\",\"\",INDEX(E_SourceStreams!$A:$N,EC80,AX$7)))","v":""},{"$f":"IF($E80=\"\",\"\",IF(INDEX(E_SourceStreams!$A:$N,ED80,AY$7)=\"\",\"\",INDEX(E_SourceStreams!$A:$N,ED80,AY$7)))","v":""},{"$f":"IF($E80=\"\",\"\",IF(INDEX(E_SourceStreams!$A:$N,EE80,AZ$7)=\"\",\"\",INDEX(E_SourceStreams!$A:$N,EE80,AZ$7)))","v":""},{"$f":"IF($E80=\"\",\"\",IF(INDEX(E_SourceStreams!$A:$N,EF80,BA$7)=\"\",\"\",INDEX(E_SourceStreams!$A:$N,EF80,BA$7)))","v":""},{"$f":"IF($E80=\"\",\"\",IF(INDEX(E_SourceStreams!$A:$N,EG80,BB$7)=\"\",\"\",INDEX(E_SourceStreams!$A:$N,EG80,BB$7)))","v":""},{"$f":"IF($E80=\"\",\"\",IF(INDEX(E_SourceStreams!$A:$N,EH80,BC$7)=\"\",\"\",INDEX(E_SourceStreams!$A:$N,EH80,BC$7)))","v":""},{"$f":"IF($E80=\"\",\"\",IF(INDEX(E_SourceStreams!$A:$N,EI80,BD$7)=\"\",\"\",INDEX(E_SourceStreams!$A:$N,EI80,BD$7)))","v":""},{"$f":"IF($E80=\"\",\"\",IF(INDEX(E_SourceStreams!$A:$N,EJ80,BE$7)=\"\",\"\",INDEX(E_SourceStreams!$A:$N,EJ80,BE$7)))","v":""},{"$f":"IF($E80=\"\",\"\",IF(INDEX(E_SourceStreams!$A:$N,EK80,BF$7)=\"\",\"\",INDEX(E_SourceStreams!$A:$N,EK80,BF$7)))","v":""},{"$f":"IF($E80=\"\",\"\",IF(INDEX(E_SourceStreams!$A:$N,EL80,BG$7)=\"\",\"\",INDEX(E_SourceStreams!$A:$N,EL80,BG$7)))","v":""},{"$f":"IF($E80=\"\",\"\",IF(INDEX(E_SourceStreams!$A:$N,EM80,BH$7)=\"\",\"\",INDEX(E_SourceStreams!$A:$N,EM80,BH$7)))","v":""},{"$f":"IF($E80=\"\",\"\",IF(INDEX(E_SourceStreams!$A:$N,EN80,BI$7)=\"\",\"\",INDEX(E_SourceStreams!$A:$N,EN80,BI$7)))","v":""},{"$f":"IF($E80=\"\",\"\",IF(INDEX(E_SourceStreams!$A:$N,EO80,BJ$7)=\"\",\"\",INDEX(E_SourceStreams!$A:$N,EO80,BJ$7)))","v":""},{"$f":"IF($E80=\"\",\"\",IF(INDEX(E_SourceStreams!$A:$N,EP80,BK$7)=\"\",\"\",INDEX(E_SourceStreams!$A:$N,EP80,BK$7)))","v":""},{"$f":"IF($E80=\"\",\"\",IF(INDEX(E_SourceStreams!$A:$N,EQ80,BL$7)=\"\",\"\",INDEX(E_SourceStreams!$A:$N,EQ80,BL$7)))","v":""},{"$f":"IF($E80=\"\",\"\",IF(INDEX(E_SourceStreams!$A:$N,ER80,BM$7)=\"\",\"\",INDEX(E_SourceStreams!$A:$N,ER80,BM$7)))","v":""},{"$f":"IF($E80=\"\",\"\",IF(INDEX(E_SourceStreams!$A:$N,ES80,BN$7)=\"\",\"\",INDEX(E_SourceStreams!$A:$N,ES80,BN$7)))","v":""},{"$f":"IF($E80=\"\",\"\",IF(INDEX(E_SourceStreams!$A:$N,ET80,BO$7)=\"\",\"\",INDEX(E_SourceStreams!$A:$N,ET80,BO$7)))","v":""},{"$f":"IF($E80=\"\",\"\",IF(INDEX(E_SourceStreams!$A:$N,EU80,BP$7)=\"\",\"\",INDEX(E_SourceStreams!$A:$N,EU80,BP$7)))","v":""},{"$f":"IF($E80=\"\",\"\",IF(INDEX(E_SourceStreams!$A:$N,EV80,BQ$7)=\"\",\"\",INDEX(E_SourceStreams!$A:$N,EV80,BQ$7)))","v":""},{"$f":"IF($E80=\"\",\"\",IF(INDEX(E_SourceStreams!$A:$N,EW80,BR$7)=\"\",\"\",INDEX(E_SourceStreams!$A:$N,EW80,BR$7)))","v":""},{"$f":"IF($E80=\"\",\"\",IF(INDEX(E_SourceStreams!$A:$N,EX80,BS$7)=\"\",\"\",INDEX(E_SourceStreams!$A:$N,EX80,BS$7)))","v":""},{"$f":"IF($E80=\"\",\"\",IF(INDEX(E_SourceStreams!$A:$N,EY80,BT$7)=\"\",\"\",INDEX(E_SourceStreams!$A:$N,EY80,BT$7)))","v":""},null,null,null,null,null,null,null,null,null,null,null,null,null,null,null,"SourceCategory_",{"$f":"INDEX(C_InstallationDescription!$A$226:$A$332,ROWS($CI$11:CI80))=\"ausblenden\"","v":true},"SourceStreamName_",null,4689,4691,4693,4695,4697,4699,4701,4701,4701,4701,4701,4704,4708,4709,4710,4717,4727,4727,4727,4727,4727,4727,4727,4718,4728,4728,4728,4728,4728,4728,4728,4719,4729,4729,4729,4729,4729,4729,4729,4720,4730,4730,4730,4730,4730,4730,4730,4721,4731,4731,4731,4731,4731,4731,4731,4722,4732,4732,4732,4732,4732,4732,4732,4738]
[null,{"$f":"IF(COUNTIF($CK$10:CK81,TRUE)>0,\"\",INDEX(C_InstallationDescription!$E$226:$E$242,ROWS($A$11:A81)))","v":""},{"$f":"IF($E81=\"\",\"\",INDEX(C_InstallationDescription!F:F,MATCH($B81,C_InstallationDescription!$E:$E,0)))","v":""},{"$f":"IF($E81=\"\",\"\",INDEX(C_InstallationDescription!I:I,MATCH($B81,C_InstallationDescription!$E:$E,0)))","v":""},{"$f":"IF($B81=\"\",\"\",INDEX(C_InstallationDescription!F:F,MATCH($CJ81,C_InstallationDescription!$Q:$Q,0)))","v":""},{"$f":"IF($E81=\"\",\"\",INDEX(C_InstallationDescription!L:L,MATCH($CJ81,C_InstallationDescription!$Q:$Q,0)))","v":""},{"$f":"IF($E81=\"\",\"\",INDEX(C_InstallationDescription!M:M,MATCH($CJ81,C_InstallationDescription!$Q:$Q,0)))","v":""},{"$f":"IF($E81=\"\",\"\",INDEX(C_InstallationDescription!N:N,MATCH($CJ81,C_InstallationDescription!$Q:$Q,0)))","v":""},{"$f":"IF($E81=\"\",\"\",IF(INDEX(E_SourceStreams!$A:$N,CN81,I$7)=\"\",\"\",INDEX(E_SourceStreams!$A:$N,CN81,I$7)))","v":""},{"$f":"IF($E81=\"\",\"\",IF(INDEX(E_SourceStreams!$A:$N,CO81,J$7)=\"\",\"\",INDEX(E_SourceStreams!$A:$N,CO81,J$7)))","v":""},{"$f":"IF($E81=\"\",\"\",IF(INDEX(E_SourceStreams!$A:$N,CP81,K$7)=\"\",\"\",INDEX(E_SourceStreams!$A:$N,CP81,K$7)))","v":""},{"$f":"IF($E81=\"\",\"\",IF(INDEX(E_SourceStreams!$A:$N,CQ81,L$7)=\"\",\"\",INDEX(E_SourceStreams!$A:$N,CQ81,L$7)))","v":""},{"$f":"IF($E81=\"\",\"\",IF(INDEX(E_SourceStreams!$A:$N,CR81,M$7)=\"\",\"\",INDEX(E_SourceStreams!$A:$N,CR81,M$7)))","v":""},{"$f":"IF($E81=\"\",\"\",IF(INDEX(E_SourceStreams!$A:$N,CS81,N$7)=\"\",\"\",INDEX(E_SourceStreams!$A:$N,CS81,N$7)))","v":""},{"$f":"IF($E81=\"\",\"\",IF(INDEX(E_SourceStreams!$A:$N,CT81,O$7)=\"\",\"\",INDEX(E_SourceStreams!$A:$N,CT81,O$7)))","v":""},{"$f":"IF($E81=\"\",\"\",IF(INDEX(E_SourceStreams!$A:$N,CU81,P$7)=\"\",\"\",INDEX(E_SourceStreams!$A:$N,CU81,P$7)))","v":""},{"$f":"IF($E81=\"\",\"\",IF(INDEX(E_SourceStreams!$A:$N,CV81,Q$7)=\"\",\"\",INDEX(E_SourceStreams!$A:$N,CV81,Q$7)))","v":""},{"$f":"IF($E81=\"\",\"\",IF(INDEX(E_SourceStreams!$A:$N,CW81,R$7)=\"\",\"\",INDEX(E_SourceStreams!$A:$N,CW81,R$7)))","v":""},{"$f":"IF($E81=\"\",\"\",IF(INDEX(E_SourceStreams!$A:$N,CX81,S$7)=\"\",\"\",INDEX(E_SourceStreams!$A:$N,CX81,S$7)))","v":""},{"$f":"IF($E81=\"\",\"\",IF(INDEX(E_SourceStreams!$A:$N,CY81,T$7)=\"\",\"\",INDEX(E_SourceStreams!$A:$N,CY81,T$7)))","v":""},{"$f":"IF($E81=\"\",\"\",IF(INDEX(E_SourceStreams!$A:$N,CZ81,U$7)=\"\",\"\",INDEX(E_SourceStreams!$A:$N,CZ81,U$7)))","v":""},{"$f":"IF($E81=\"\",\"\",IF(INDEX(E_SourceStreams!$A:$N,DA81,V$7)=\"\",\"\",INDEX(E_SourceStreams!$A:$N,DA81,V$7)))","v":""},{"$f":"IF($E81=\"\",\"\",IF(INDEX(E_SourceStreams!$A:$N,DB81,W$7)=\"\",\"\",INDEX(E_SourceStreams!$A:$N,DB81,W$7)))","v":""},{"$f":"IF($E81=\"\",\"\",IF(INDEX(E_SourceStreams!$A:$N,DC81,X$7)=\"\",\"\",INDEX(E_SourceStreams!$A:$N,DC81,X$7)))","v":""},{"$f":"IF($E81=\"\",\"\",IF(INDEX(E_SourceStreams!$A:$N,DD81,Y$7)=\"\",\"\",INDEX(E_SourceStreams!$A:$N,DD81,Y$7)))","v":""},{"$f":"IF($E81=\"\",\"\",IF(INDEX(E_SourceStreams!$A:$N,DE81,Z$7)=\"\",\"\",INDEX(E_SourceStreams!$A:$N,DE81,Z$7)))","v":""},{"$f":"IF($E81=\"\",\"\",IF(INDEX(E_SourceStreams!$A:$N,DF81,AA$7)=\"\",\"\",INDEX(E_SourceStreams!$A:$N,DF81,AA$7)))","v":""},{"$f":"IF($E81=\"\",\"\",IF(INDEX(E_SourceStreams!$A:$N,DG81,AB$7)=\"\",\"\",INDEX(E_SourceStreams!$A:$N,DG81,AB$7)))","v":""},{"$f":"IF($E81=\"\",\"\",IF(INDEX(E_SourceStreams!$A:$N,DH81,AC$7)=\"\",\"\",INDEX(E_SourceStreams!$A:$N,DH81,AC$7)))","v":""},{"$f":"IF($E81=\"\",\"\",IF(INDEX(E_SourceStreams!$A:$N,DI81,AD$7)=\"\",\"\",INDEX(E_SourceStreams!$A:$N,DI81,AD$7)))","v":""},{"$f":"IF($E81=\"\",\"\",IF(INDEX(E_SourceStreams!$A:$N,DJ81,AE$7)=\"\",\"\",INDEX(E_SourceStreams!$A:$N,DJ81,AE$7)))","v":""},{"$f":"IF($E81=\"\",\"\",IF(INDEX(E_SourceStreams!$A:$N,DK81,AF$7)=\"\",\"\",INDEX(E_SourceStreams!$A:$N,DK81,AF$7)))","v":""},{"$f":"IF($E81=\"\",\"\",IF(INDEX(E_SourceStreams!$A:$N,DL81,AG$7)=\"\",\"\",INDEX(E_SourceStreams!$A:$N,DL81,AG$7)))","v":""},{"$f":"IF($E81=\"\",\"\",IF(INDEX(E_SourceStreams!$A:$N,DM81,AH$7)=\"\",\"\",INDEX(E_SourceStreams!$A:$N,DM81,AH$7)))","v":""},{"$f":"IF($E81=\"\",\"\",IF(INDEX(E_SourceStreams!$A:$N,DN81,AI$7)=\"\",\"\",INDEX(E_SourceStreams!$A:$N,DN81,AI$7)))","v":""},{"$f":"IF($E81=\"\",\"\",IF(INDEX(E_SourceStreams!$A:$N,DO81,AJ$7)=\"\",\"\",INDEX(E_SourceStreams!$A:$N,DO81,AJ$7)))","v":""},{"$f":"IF($E81=\"\",\"\",IF(INDEX(E_SourceStreams!$A:$N,DP81,AK$7)=\"\",\"\",INDEX(E_SourceStreams!$A:$N,DP81,AK$7)))","v":""},{"$f":"IF($E81=\"\",\"\",IF(INDEX(E_SourceStreams!$A:$N,DQ81,AL$7)=\"\",\"\",INDEX(E_SourceStreams!$A:$N,DQ81,AL$7)))","v":""},{"$f":"IF($E81=\"\",\"\",IF(INDEX(E_SourceStreams!$A:$N,DR81,AM$7)=\"\",\"\",INDEX(E_SourceStreams!$A:$N,DR81,AM$7)))","v":""},{"$f":"IF($E81=\"\",\"\",IF(INDEX(E_SourceStreams!$A:$N,DS81,AN$7)=\"\",\"\",INDEX(E_SourceStreams!$A:$N,DS81,AN$7)))","v":""},{"$f":"IF($E81=\"\",\"\",IF(INDEX(E_SourceStreams!$A:$N,DT81,AO$7)=\"\",\"\",INDEX(E_SourceStreams!$A:$N,DT81,AO$7)))","v":""},{"$f":"IF($E81=\"\",\"\",IF(INDEX(E_SourceStreams!$A:$N,DU81,AP$7)=\"\",\"\",INDEX(E_SourceStreams!$A:$N,DU81,AP$7)))","v":""},{"$f":"IF($E81=\"\",\"\",IF(INDEX(E_SourceStreams!$A:$N,DV81,AQ$7)=\"\",\"\",INDEX(E_SourceStreams!$A:$N,DV81,AQ$7)))","v":""},{"$f":"IF($E81=\"\",\"\",IF(INDEX(E_SourceStreams!$A:$N,DW81,AR$7)=\"\",\"\",INDEX(E_SourceStreams!$A:$N,DW81,AR$7)))","v":""},{"$f":"IF($E81=\"\",\"\",IF(INDEX(E_SourceStreams!$A:$N,DX81,AS$7)=\"\",\"\",INDEX(E_SourceStreams!$A:$N,DX81,AS$7)))","v":""},{"$f":"IF($E81=\"\",\"\",IF(INDEX(E_SourceStreams!$A:$N,DY81,AT$7)=\"\",\"\",INDEX(E_SourceStreams!$A:$N,DY81,AT$7)))","v":""},{"$f":"IF($E81=\"\",\"\",IF(INDEX(E_SourceStreams!$A:$N,DZ81,AU$7)=\"\",\"\",INDEX(E_SourceStreams!$A:$N,DZ81,AU$7)))","v":""},{"$f":"IF($E81=\"\",\"\",IF(INDEX(E_SourceStreams!$A:$N,EA81,AV$7)=\"\",\"\",INDEX(E_SourceStreams!$A:$N,EA81,AV$7)))","v":""},{"$f":"IF($E81=\"\",\"\",IF(INDEX(E_SourceStreams!$A:$N,EB81,AW$7)=\"\",\"\",INDEX(E_SourceStreams!$A:$N,EB81,AW$7)))","v":""},{"$f":"IF($E81=\"\",\"\",IF(INDEX(E_SourceStreams!$A:$N,EC81,AX$7)=\"\",\"\",INDEX(E_SourceStreams!$A:$N,EC81,AX$7)))","v":""},{"$f":"IF($E81=\"\",\"\",IF(INDEX(E_SourceStreams!$A:$N,ED81,AY$7)=\"\",\"\",INDEX(E_SourceStreams!$A:$N,ED81,AY$7)))","v":""},{"$f":"IF($E81=\"\",\"\",IF(INDEX(E_SourceStreams!$A:$N,EE81,AZ$7)=\"\",\"\",INDEX(E_SourceStreams!$A:$N,EE81,AZ$7)))","v":""},{"$f":"IF($E81=\"\",\"\",IF(INDEX(E_SourceStreams!$A:$N,EF81,BA$7)=\"\",\"\",INDEX(E_SourceStreams!$A:$N,EF81,BA$7)))","v":""},{"$f":"IF($E81=\"\",\"\",IF(INDEX(E_SourceStreams!$A:$N,EG81,BB$7)=\"\",\"\",INDEX(E_SourceStreams!$A:$N,EG81,BB$7)))","v":""},{"$f":"IF($E81=\"\",\"\",IF(INDEX(E_SourceStreams!$A:$N,EH81,BC$7)=\"\",\"\",INDEX(E_SourceStreams!$A:$N,EH81,BC$7)))","v":""},{"$f":"IF($E81=\"\",\"\",IF(INDEX(E_SourceStreams!$A:$N,EI81,BD$7)=\"\",\"\",INDEX(E_SourceStreams!$A:$N,EI81,BD$7)))","v":""},{"$f":"IF($E81=\"\",\"\",IF(INDEX(E_SourceStreams!$A:$N,EJ81,BE$7)=\"\",\"\",INDEX(E_SourceStreams!$A:$N,EJ81,BE$7)))","v":""},{"$f":"IF($E81=\"\",\"\",IF(INDEX(E_SourceStreams!$A:$N,EK81,BF$7)=\"\",\"\",INDEX(E_SourceStreams!$A:$N,EK81,BF$7)))","v":""},{"$f":"IF($E81=\"\",\"\",IF(INDEX(E_SourceStreams!$A:$N,EL81,BG$7)=\"\",\"\",INDEX(E_SourceStreams!$A:$N,EL81,BG$7)))","v":""},{"$f":"IF($E81=\"\",\"\",IF(INDEX(E_SourceStreams!$A:$N,EM81,BH$7)=\"\",\"\",INDEX(E_SourceStreams!$A:$N,EM81,BH$7)))","v":""},{"$f":"IF($E81=\"\",\"\",IF(INDEX(E_SourceStreams!$A:$N,EN81,BI$7)=\"\",\"\",INDEX(E_SourceStreams!$A:$N,EN81,BI$7)))","v":""},{"$f":"IF($E81=\"\",\"\",IF(INDEX(E_SourceStreams!$A:$N,EO81,BJ$7)=\"\",\"\",INDEX(E_SourceStreams!$A:$N,EO81,BJ$7)))","v":""},{"$f":"IF($E81=\"\",\"\",IF(INDEX(E_SourceStreams!$A:$N,EP81,BK$7)=\"\",\"\",INDEX(E_SourceStreams!$A:$N,EP81,BK$7)))","v":""},{"$f":"IF($E81=\"\",\"\",IF(INDEX(E_SourceStreams!$A:$N,EQ81,BL$7)=\"\",\"\",INDEX(E_SourceStreams!$A:$N,EQ81,BL$7)))","v":""},{"$f":"IF($E81=\"\",\"\",IF(INDEX(E_SourceStreams!$A:$N,ER81,BM$7)=\"\",\"\",INDEX(E_SourceStreams!$A:$N,ER81,BM$7)))","v":""},{"$f":"IF($E81=\"\",\"\",IF(INDEX(E_SourceStreams!$A:$N,ES81,BN$7)=\"\",\"\",INDEX(E_SourceStreams!$A:$N,ES81,BN$7)))","v":""},{"$f":"IF($E81=\"\",\"\",IF(INDEX(E_SourceStreams!$A:$N,ET81,BO$7)=\"\",\"\",INDEX(E_SourceStreams!$A:$N,ET81,BO$7)))","v":""},{"$f":"IF($E81=\"\",\"\",IF(INDEX(E_SourceStreams!$A:$N,EU81,BP$7)=\"\",\"\",INDEX(E_SourceStreams!$A:$N,EU81,BP$7)))","v":""},{"$f":"IF($E81=\"\",\"\",IF(INDEX(E_SourceStreams!$A:$N,EV81,BQ$7)=\"\",\"\",INDEX(E_SourceStreams!$A:$N,EV81,BQ$7)))","v":""},{"$f":"IF($E81=\"\",\"\",IF(INDEX(E_SourceStreams!$A:$N,EW81,BR$7)=\"\",\"\",INDEX(E_SourceStreams!$A:$N,EW81,BR$7)))","v":""},{"$f":"IF($E81=\"\",\"\",IF(INDEX(E_SourceStreams!$A:$N,EX81,BS$7)=\"\",\"\",INDEX(E_SourceStreams!$A:$N,EX81,BS$7)))","v":""},{"$f":"IF($E81=\"\",\"\",IF(INDEX(E_SourceStreams!$A:$N,EY81,BT$7)=\"\",\"\",INDEX(E_SourceStreams!$A:$N,EY81,BT$7)))","v":""},null,null,null,null,null,null,null,null,null,null,null,null,null,null,null,"SourceCategory_",{"$f":"INDEX(C_InstallationDescription!$A$226:$A$332,ROWS($CI$11:CI81))=\"ausblenden\"","v":true},"SourceStreamName_",null,4755,4757,4759,4761,4763,4765,4767,4767,4767,4767,4767,4770,4774,4775,4776,4783,4793,4793,4793,4793,4793,4793,4793,4784,4794,4794,4794,4794,4794,4794,4794,4785,4795,4795,4795,4795,4795,4795,4795,4786,4796,4796,4796,4796,4796,4796,4796,4787,4797,4797,4797,4797,4797,4797,4797,4788,4798,4798,4798,4798,4798,4798,4798,4804]
[null,{"$f":"IF(COUNTIF($CK$10:CK82,TRUE)>0,\"\",INDEX(C_InstallationDescription!$E$226:$E$242,ROWS($A$11:A82)))","v":""},{"$f":"IF($E82=\"\",\"\",INDEX(C_InstallationDescription!F:F,MATCH($B82,C_InstallationDescription!$E:$E,0)))","v":""},{"$f":"IF($E82=\"\",\"\",INDEX(C_InstallationDescription!I:I,MATCH($B82,C_InstallationDescription!$E:$E,0)))","v":""},{"$f":"IF($B82=\"\",\"\",INDEX(C_InstallationDescription!F:F,MATCH($CJ82,C_InstallationDescription!$Q:$Q,0)))","v":""},{"$f":"IF($E82=\"\",\"\",INDEX(C_InstallationDescription!L:L,MATCH($CJ82,C_InstallationDescription!$Q:$Q,0)))","v":""},{"$f":"IF($E82=\"\",\"\",INDEX(C_InstallationDescription!M:M,MATCH($CJ82,C_InstallationDescription!$Q:$Q,0)))","v":""},{"$f":"IF($E82=\"\",\"\",INDEX(C_InstallationDescription!N:N,MATCH($CJ82,C_InstallationDescription!$Q:$Q,0)))","v":""},{"$f":"IF($E82=\"\",\"\",IF(INDEX(E_SourceStreams!$A:$N,CN82,I$7)=\"\",\"\",INDEX(E_SourceStreams!$A:$N,CN82,I$7)))","v":""},{"$f":"IF($E82=\"\",\"\",IF(INDEX(E_SourceStreams!$A:$N,CO82,J$7)=\"\",\"\",INDEX(E_SourceStreams!$A:$N,CO82,J$7)))","v":""},{"$f":"IF($E82=\"\",\"\",IF(INDEX(E_SourceStreams!$A:$N,CP82,K$7)=\"\",\"\",INDEX(E_SourceStreams!$A:$N,CP82,K$7)))","v":""},{"$f":"IF($E82=\"\",\"\",IF(INDEX(E_SourceStreams!$A:$N,CQ82,L$7)=\"\",\"\",INDEX(E_SourceStreams!$A:$N,CQ82,L$7)))","v":""},{"$f":"IF($E82=\"\",\"\",IF(INDEX(E_SourceStreams!$A:$N,CR82,M$7)=\"\",\"\",INDEX(E_SourceStreams!$A:$N,CR82,M$7)))","v":""},{"$f":"IF($E82=\"\",\"\",IF(INDEX(E_SourceStreams!$A:$N,CS82,N$7)=\"\",\"\",INDEX(E_SourceStreams!$A:$N,CS82,N$7)))","v":""},{"$f":"IF($E82=\"\",\"\",IF(INDEX(E_SourceStreams!$A:$N,CT82,O$7)=\"\",\"\",INDEX(E_SourceStreams!$A:$N,CT82,O$7)))","v":""},{"$f":"IF($E82=\"\",\"\",IF(INDEX(E_SourceStreams!$A:$N,CU82,P$7)=\"\",\"\",INDEX(E_SourceStreams!$A:$N,CU82,P$7)))","v":""},{"$f":"IF($E82=\"\",\"\",IF(INDEX(E_SourceStreams!$A:$N,CV82,Q$7)=\"\",\"\",INDEX(E_SourceStreams!$A:$N,CV82,Q$7)))","v":""},{"$f":"IF($E82=\"\",\"\",IF(INDEX(E_SourceStreams!$A:$N,CW82,R$7)=\"\",\"\",INDEX(E_SourceStreams!$A:$N,CW82,R$7)))","v":""},{"$f":"IF($E82=\"\",\"\",IF(INDEX(E_SourceStreams!$A:$N,CX82,S$7)=\"\",\"\",INDEX(E_SourceStreams!$A:$N,CX82,S$7)))","v":""},{"$f":"IF($E82=\"\",\"\",IF(INDEX(E_SourceStreams!$A:$N,CY82,T$7)=\"\",\"\",INDEX(E_SourceStreams!$A:$N,CY82,T$7)))","v":""},{"$f":"IF($E82=\"\",\"\",IF(INDEX(E_SourceStreams!$A:$N,CZ82,U$7)=\"\",\"\",INDEX(E_SourceStreams!$A:$N,CZ82,U$7)))","v":""},{"$f":"IF($E82=\"\",\"\",IF(INDEX(E_SourceStreams!$A:$N,DA82,V$7)=\"\",\"\",INDEX(E_SourceStreams!$A:$N,DA82,V$7)))","v":""},{"$f":"IF($E82=\"\",\"\",IF(INDEX(E_SourceStreams!$A:$N,DB82,W$7)=\"\",\"\",INDEX(E_SourceStreams!$A:$N,DB82,W$7)))","v":""},{"$f":"IF($E82=\"\",\"\",IF(INDEX(E_SourceStreams!$A:$N,DC82,X$7)=\"\",\"\",INDEX(E_SourceStreams!$A:$N,DC82,X$7)))","v":""},{"$f":"IF($E82=\"\",\"\",IF(INDEX(E_SourceStreams!$A:$N,DD82,Y$7)=\"\",\"\",INDEX(E_SourceStreams!$A:$N,DD82,Y$7)))","v":""},{"$f":"IF($E82=\"\",\"\",IF(INDEX(E_SourceStreams!$A:$N,DE82,Z$7)=\"\",\"\",INDEX(E_SourceStreams!$A:$N,DE82,Z$7)))","v":""},{"$f":"IF($E82=\"\",\"\",IF(INDEX(E_SourceStreams!$A:$N,DF82,AA$7)=\"\",\"\",INDEX(E_SourceStreams!$A:$N,DF82,AA$7)))","v":""},{"$f":"IF($E82=\"\",\"\",IF(INDEX(E_SourceStreams!$A:$N,DG82,AB$7)=\"\",\"\",INDEX(E_SourceStreams!$A:$N,DG82,AB$7)))","v":""},{"$f":"IF($E82=\"\",\"\",IF(INDEX(E_SourceStreams!$A:$N,DH82,AC$7)=\"\",\"\",INDEX(E_SourceStreams!$A:$N,DH82,AC$7)))","v":""},{"$f":"IF($E82=\"\",\"\",IF(INDEX(E_SourceStreams!$A:$N,DI82,AD$7)=\"\",\"\",INDEX(E_SourceStreams!$A:$N,DI82,AD$7)))","v":""},{"$f":"IF($E82=\"\",\"\",IF(INDEX(E_SourceStreams!$A:$N,DJ82,AE$7)=\"\",\"\",INDEX(E_SourceStreams!$A:$N,DJ82,AE$7)))","v":""},{"$f":"IF($E82=\"\",\"\",IF(INDEX(E_SourceStreams!$A:$N,DK82,AF$7)=\"\",\"\",INDEX(E_SourceStreams!$A:$N,DK82,AF$7)))","v":""},{"$f":"IF($E82=\"\",\"\",IF(INDEX(E_SourceStreams!$A:$N,DL82,AG$7)=\"\",\"\",INDEX(E_SourceStreams!$A:$N,DL82,AG$7)))","v":""},{"$f":"IF($E82=\"\",\"\",IF(INDEX(E_SourceStreams!$A:$N,DM82,AH$7)=\"\",\"\",INDEX(E_SourceStreams!$A:$N,DM82,AH$7)))","v":""},{"$f":"IF($E82=\"\",\"\",IF(INDEX(E_SourceStreams!$A:$N,DN82,AI$7)=\"\",\"\",INDEX(E_SourceStreams!$A:$N,DN82,AI$7)))","v":""},{"$f":"IF($E82=\"\",\"\",IF(INDEX(E_SourceStreams!$A:$N,DO82,AJ$7)=\"\",\"\",INDEX(E_SourceStreams!$A:$N,DO82,AJ$7)))","v":""},{"$f":"IF($E82=\"\",\"\",IF(INDEX(E_SourceStreams!$A:$N,DP82,AK$7)=\"\",\"\",INDEX(E_SourceStreams!$A:$N,DP82,AK$7)))","v":""},{"$f":"IF($E82=\"\",\"\",IF(INDEX(E_SourceStreams!$A:$N,DQ82,AL$7)=\"\",\"\",INDEX(E_SourceStreams!$A:$N,DQ82,AL$7)))","v":""},{"$f":"IF($E82=\"\",\"\",IF(INDEX(E_SourceStreams!$A:$N,DR82,AM$7)=\"\",\"\",INDEX(E_SourceStreams!$A:$N,DR82,AM$7)))","v":""},{"$f":"IF($E82=\"\",\"\",IF(INDEX(E_SourceStreams!$A:$N,DS82,AN$7)=\"\",\"\",INDEX(E_SourceStreams!$A:$N,DS82,AN$7)))","v":""},{"$f":"IF($E82=\"\",\"\",IF(INDEX(E_SourceStreams!$A:$N,DT82,AO$7)=\"\",\"\",INDEX(E_SourceStreams!$A:$N,DT82,AO$7)))","v":""},{"$f":"IF($E82=\"\",\"\",IF(INDEX(E_SourceStreams!$A:$N,DU82,AP$7)=\"\",\"\",INDEX(E_SourceStreams!$A:$N,DU82,AP$7)))","v":""},{"$f":"IF($E82=\"\",\"\",IF(INDEX(E_SourceStreams!$A:$N,DV82,AQ$7)=\"\",\"\",INDEX(E_SourceStreams!$A:$N,DV82,AQ$7)))","v":""},{"$f":"IF($E82=\"\",\"\",IF(INDEX(E_SourceStreams!$A:$N,DW82,AR$7)=\"\",\"\",INDEX(E_SourceStreams!$A:$N,DW82,AR$7)))","v":""},{"$f":"IF($E82=\"\",\"\",IF(INDEX(E_SourceStreams!$A:$N,DX82,AS$7)=\"\",\"\",INDEX(E_SourceStreams!$A:$N,DX82,AS$7)))","v":""},{"$f":"IF($E82=\"\",\"\",IF(INDEX(E_SourceStreams!$A:$N,DY82,AT$7)=\"\",\"\",INDEX(E_SourceStreams!$A:$N,DY82,AT$7)))","v":""},{"$f":"IF($E82=\"\",\"\",IF(INDEX(E_SourceStreams!$A:$N,DZ82,AU$7)=\"\",\"\",INDEX(E_SourceStreams!$A:$N,DZ82,AU$7)))","v":""},{"$f":"IF($E82=\"\",\"\",IF(INDEX(E_SourceStreams!$A:$N,EA82,AV$7)=\"\",\"\",INDEX(E_SourceStreams!$A:$N,EA82,AV$7)))","v":""},{"$f":"IF($E82=\"\",\"\",IF(INDEX(E_SourceStreams!$A:$N,EB82,AW$7)=\"\",\"\",INDEX(E_SourceStreams!$A:$N,EB82,AW$7)))","v":""},{"$f":"IF($E82=\"\",\"\",IF(INDEX(E_SourceStreams!$A:$N,EC82,AX$7)=\"\",\"\",INDEX(E_SourceStreams!$A:$N,EC82,AX$7)))","v":""},{"$f":"IF($E82=\"\",\"\",IF(INDEX(E_SourceStreams!$A:$N,ED82,AY$7)=\"\",\"\",INDEX(E_SourceStreams!$A:$N,ED82,AY$7)))","v":""},{"$f":"IF($E82=\"\",\"\",IF(INDEX(E_SourceStreams!$A:$N,EE82,AZ$7)=\"\",\"\",INDEX(E_SourceStreams!$A:$N,EE82,AZ$7)))","v":""},{"$f":"IF($E82=\"\",\"\",IF(INDEX(E_SourceStreams!$A:$N,EF82,BA$7)=\"\",\"\",INDEX(E_SourceStreams!$A:$N,EF82,BA$7)))","v":""},{"$f":"IF($E82=\"\",\"\",IF(INDEX(E_SourceStreams!$A:$N,EG82,BB$7)=\"\",\"\",INDEX(E_SourceStreams!$A:$N,EG82,BB$7)))","v":""},{"$f":"IF($E82=\"\",\"\",IF(INDEX(E_SourceStreams!$A:$N,EH82,BC$7)=\"\",\"\",INDEX(E_SourceStreams!$A:$N,EH82,BC$7)))","v":""},{"$f":"IF($E82=\"\",\"\",IF(INDEX(E_SourceStreams!$A:$N,EI82,BD$7)=\"\",\"\",INDEX(E_SourceStreams!$A:$N,EI82,BD$7)))","v":""},{"$f":"IF($E82=\"\",\"\",IF(INDEX(E_SourceStreams!$A:$N,EJ82,BE$7)=\"\",\"\",INDEX(E_SourceStreams!$A:$N,EJ82,BE$7)))","v":""},{"$f":"IF($E82=\"\",\"\",IF(INDEX(E_SourceStreams!$A:$N,EK82,BF$7)=\"\",\"\",INDEX(E_SourceStreams!$A:$N,EK82,BF$7)))","v":""},{"$f":"IF($E82=\"\",\"\",IF(INDEX(E_SourceStreams!$A:$N,EL82,BG$7)=\"\",\"\",INDEX(E_SourceStreams!$A:$N,EL82,BG$7)))","v":""},{"$f":"IF($E82=\"\",\"\",IF(INDEX(E_SourceStreams!$A:$N,EM82,BH$7)=\"\",\"\",INDEX(E_SourceStreams!$A:$N,EM82,BH$7)))","v":""},{"$f":"IF($E82=\"\",\"\",IF(INDEX(E_SourceStreams!$A:$N,EN82,BI$7)=\"\",\"\",INDEX(E_SourceStreams!$A:$N,EN82,BI$7)))","v":""},{"$f":"IF($E82=\"\",\"\",IF(INDEX(E_SourceStreams!$A:$N,EO82,BJ$7)=\"\",\"\",INDEX(E_SourceStreams!$A:$N,EO82,BJ$7)))","v":""},{"$f":"IF($E82=\"\",\"\",IF(INDEX(E_SourceStreams!$A:$N,EP82,BK$7)=\"\",\"\",INDEX(E_SourceStreams!$A:$N,EP82,BK$7)))","v":""},{"$f":"IF($E82=\"\",\"\",IF(INDEX(E_SourceStreams!$A:$N,EQ82,BL$7)=\"\",\"\",INDEX(E_SourceStreams!$A:$N,EQ82,BL$7)))","v":""},{"$f":"IF($E82=\"\",\"\",IF(INDEX(E_SourceStreams!$A:$N,ER82,BM$7)=\"\",\"\",INDEX(E_SourceStreams!$A:$N,ER82,BM$7)))","v":""},{"$f":"IF($E82=\"\",\"\",IF(INDEX(E_SourceStreams!$A:$N,ES82,BN$7)=\"\",\"\",INDEX(E_SourceStreams!$A:$N,ES82,BN$7)))","v":""},{"$f":"IF($E82=\"\",\"\",IF(INDEX(E_SourceStreams!$A:$N,ET82,BO$7)=\"\",\"\",INDEX(E_SourceStreams!$A:$N,ET82,BO$7)))","v":""},{"$f":"IF($E82=\"\",\"\",IF(INDEX(E_SourceStreams!$A:$N,EU82,BP$7)=\"\",\"\",INDEX(E_SourceStreams!$A:$N,EU82,BP$7)))","v":""},{"$f":"IF($E82=\"\",\"\",IF(INDEX(E_SourceStreams!$A:$N,EV82,BQ$7)=\"\",\"\",INDEX(E_SourceStreams!$A:$N,EV82,BQ$7)))","v":""},{"$f":"IF($E82=\"\",\"\",IF(INDEX(E_SourceStreams!$A:$N,EW82,BR$7)=\"\",\"\",INDEX(E_SourceStreams!$A:$N,EW82,BR$7)))","v":""},{"$f":"IF($E82=\"\",\"\",IF(INDEX(E_SourceStreams!$A:$N,EX82,BS$7)=\"\",\"\",INDEX(E_SourceStreams!$A:$N,EX82,BS$7)))","v":""},{"$f":"IF($E82=\"\",\"\",IF(INDEX(E_SourceStreams!$A:$N,EY82,BT$7)=\"\",\"\",INDEX(E_SourceStreams!$A:$N,EY82,BT$7)))","v":""},null,null,null,null,null,null,null,null,null,null,null,null,null,null,null,"SourceCategory_",{"$f":"INDEX(C_InstallationDescription!$A$226:$A$332,ROWS($CI$11:CI82))=\"ausblenden\"","v":true},"SourceStreamName_",null,4821,4823,4825,4827,4829,4831,4833,4833,4833,4833,4833,4836,4840,4841,4842,4849,4859,4859,4859,4859,4859,4859,4859,4850,4860,4860,4860,4860,4860,4860,4860,4851,4861,4861,4861,4861,4861,4861,4861,4852,4862,4862,4862,4862,4862,4862,4862,4853,4863,4863,4863,4863,4863,4863,4863,4854,4864,4864,4864,4864,4864,4864,4864,4870]
[null,{"$f":"IF(COUNTIF($CK$10:CK83,TRUE)>0,\"\",INDEX(C_InstallationDescription!$E$226:$E$242,ROWS($A$11:A83)))","v":""},{"$f":"IF($E83=\"\",\"\",INDEX(C_InstallationDescription!F:F,MATCH($B83,C_InstallationDescription!$E:$E,0)))","v":""},{"$f":"IF($E83=\"\",\"\",INDEX(C_InstallationDescription!I:I,MATCH($B83,C_InstallationDescription!$E:$E,0)))","v":""},{"$f":"IF($B83=\"\",\"\",INDEX(C_InstallationDescription!F:F,MATCH($CJ83,C_InstallationDescription!$Q:$Q,0)))","v":""},{"$f":"IF($E83=\"\",\"\",INDEX(C_InstallationDescription!L:L,MATCH($CJ83,C_InstallationDescription!$Q:$Q,0)))","v":""},{"$f":"IF($E83=\"\",\"\",INDEX(C_InstallationDescription!M:M,MATCH($CJ83,C_InstallationDescription!$Q:$Q,0)))","v":""},{"$f":"IF($E83=\"\",\"\",INDEX(C_InstallationDescription!N:N,MATCH($CJ83,C_InstallationDescription!$Q:$Q,0)))","v":""},{"$f":"IF($E83=\"\",\"\",IF(INDEX(E_SourceStreams!$A:$N,CN83,I$7)=\"\",\"\",INDEX(E_SourceStreams!$A:$N,CN83,I$7)))","v":""},{"$f":"IF($E83=\"\",\"\",IF(INDEX(E_SourceStreams!$A:$N,CO83,J$7)=\"\",\"\",INDEX(E_SourceStreams!$A:$N,CO83,J$7)))","v":""},{"$f":"IF($E83=\"\",\"\",IF(INDEX(E_SourceStreams!$A:$N,CP83,K$7)=\"\",\"\",INDEX(E_SourceStreams!$A:$N,CP83,K$7)))","v":""},{"$f":"IF($E83=\"\",\"\",IF(INDEX(E_SourceStreams!$A:$N,CQ83,L$7)=\"\",\"\",INDEX(E_SourceStreams!$A:$N,CQ83,L$7)))","v":""},{"$f":"IF($E83=\"\",\"\",IF(INDEX(E_SourceStreams!$A:$N,CR83,M$7)=\"\",\"\",INDEX(E_SourceStreams!$A:$N,CR83,M$7)))","v":""},{"$f":"IF($E83=\"\",\"\",IF(INDEX(E_SourceStreams!$A:$N,CS83,N$7)=\"\",\"\",INDEX(E_SourceStreams!$A:$N,CS83,N$7)))","v":""},{"$f":"IF($E83=\"\",\"\",IF(INDEX(E_SourceStreams!$A:$N,CT83,O$7)=\"\",\"\",INDEX(E_SourceStreams!$A:$N,CT83,O$7)))","v":""},{"$f":"IF($E83=\"\",\"\",IF(INDEX(E_SourceStreams!$A:$N,CU83,P$7)=\"\",\"\",INDEX(E_SourceStreams!$A:$N,CU83,P$7)))","v":""},{"$f":"IF($E83=\"\",\"\",IF(INDEX(E_SourceStreams!$A:$N,CV83,Q$7)=\"\",\"\",INDEX(E_SourceStreams!$A:$N,CV83,Q$7)))","v":""},{"$f":"IF($E83=\"\",\"\",IF(INDEX(E_SourceStreams!$A:$N,CW83,R$7)=\"\",\"\",INDEX(E_SourceStreams!$A:$N,CW83,R$7)))","v":""},{"$f":"IF($E83=\"\",\"\",IF(INDEX(E_SourceStreams!$A:$N,CX83,S$7)=\"\",\"\",INDEX(E_SourceStreams!$A:$N,CX83,S$7)))","v":""},{"$f":"IF($E83=\"\",\"\",IF(INDEX(E_SourceStreams!$A:$N,CY83,T$7)=\"\",\"\",INDEX(E_SourceStreams!$A:$N,CY83,T$7)))","v":""},{"$f":"IF($E83=\"\",\"\",IF(INDEX(E_SourceStreams!$A:$N,CZ83,U$7)=\"\",\"\",INDEX(E_SourceStreams!$A:$N,CZ83,U$7)))","v":""},{"$f":"IF($E83=\"\",\"\",IF(INDEX(E_SourceStreams!$A:$N,DA83,V$7)=\"\",\"\",INDEX(E_SourceStreams!$A:$N,DA83,V$7)))","v":""},{"$f":"IF($E83=\"\",\"\",IF(INDEX(E_SourceStreams!$A:$N,DB83,W$7)=\"\",\"\",INDEX(E_SourceStreams!$A:$N,DB83,W$7)))","v":""},{"$f":"IF($E83=\"\",\"\",IF(INDEX(E_SourceStreams!$A:$N,DC83,X$7)=\"\",\"\",INDEX(E_SourceStreams!$A:$N,DC83,X$7)))","v":""},{"$f":"IF($E83=\"\",\"\",IF(INDEX(E_SourceStreams!$A:$N,DD83,Y$7)=\"\",\"\",INDEX(E_SourceStreams!$A:$N,DD83,Y$7)))","v":""},{"$f":"IF($E83=\"\",\"\",IF(INDEX(E_SourceStreams!$A:$N,DE83,Z$7)=\"\",\"\",INDEX(E_SourceStreams!$A:$N,DE83,Z$7)))","v":""},{"$f":"IF($E83=\"\",\"\",IF(INDEX(E_SourceStreams!$A:$N,DF83,AA$7)=\"\",\"\",INDEX(E_SourceStreams!$A:$N,DF83,AA$7)))","v":""},{"$f":"IF($E83=\"\",\"\",IF(INDEX(E_SourceStreams!$A:$N,DG83,AB$7)=\"\",\"\",INDEX(E_SourceStreams!$A:$N,DG83,AB$7)))","v":""},{"$f":"IF($E83=\"\",\"\",IF(INDEX(E_SourceStreams!$A:$N,DH83,AC$7)=\"\",\"\",INDEX(E_SourceStreams!$A:$N,DH83,AC$7)))","v":""},{"$f":"IF($E83=\"\",\"\",IF(INDEX(E_SourceStreams!$A:$N,DI83,AD$7)=\"\",\"\",INDEX(E_SourceStreams!$A:$N,DI83,AD$7)))","v":""},{"$f":"IF($E83=\"\",\"\",IF(INDEX(E_SourceStreams!$A:$N,DJ83,AE$7)=\"\",\"\",INDEX(E_SourceStreams!$A:$N,DJ83,AE$7)))","v":""},{"$f":"IF($E83=\"\",\"\",IF(INDEX(E_SourceStreams!$A:$N,DK83,AF$7)=\"\",\"\",INDEX(E_SourceStreams!$A:$N,DK83,AF$7)))","v":""},{"$f":"IF($E83=\"\",\"\",IF(INDEX(E_SourceStreams!$A:$N,DL83,AG$7)=\"\",\"\",INDEX(E_SourceStreams!$A:$N,DL83,AG$7)))","v":""},{"$f":"IF($E83=\"\",\"\",IF(INDEX(E_SourceStreams!$A:$N,DM83,AH$7)=\"\",\"\",INDEX(E_SourceStreams!$A:$N,DM83,AH$7)))","v":""},{"$f":"IF($E83=\"\",\"\",IF(INDEX(E_SourceStreams!$A:$N,DN83,AI$7)=\"\",\"\",INDEX(E_SourceStreams!$A:$N,DN83,AI$7)))","v":""},{"$f":"IF($E83=\"\",\"\",IF(INDEX(E_SourceStreams!$A:$N,DO83,AJ$7)=\"\",\"\",INDEX(E_SourceStreams!$A:$N,DO83,AJ$7)))","v":""},{"$f":"IF($E83=\"\",\"\",IF(INDEX(E_SourceStreams!$A:$N,DP83,AK$7)=\"\",\"\",INDEX(E_SourceStreams!$A:$N,DP83,AK$7)))","v":""},{"$f":"IF($E83=\"\",\"\",IF(INDEX(E_SourceStreams!$A:$N,DQ83,AL$7)=\"\",\"\",INDEX(E_SourceStreams!$A:$N,DQ83,AL$7)))","v":""},{"$f":"IF($E83=\"\",\"\",IF(INDEX(E_SourceStreams!$A:$N,DR83,AM$7)=\"\",\"\",INDEX(E_SourceStreams!$A:$N,DR83,AM$7)))","v":""},{"$f":"IF($E83=\"\",\"\",IF(INDEX(E_SourceStreams!$A:$N,DS83,AN$7)=\"\",\"\",INDEX(E_SourceStreams!$A:$N,DS83,AN$7)))","v":""},{"$f":"IF($E83=\"\",\"\",IF(INDEX(E_SourceStreams!$A:$N,DT83,AO$7)=\"\",\"\",INDEX(E_SourceStreams!$A:$N,DT83,AO$7)))","v":""},{"$f":"IF($E83=\"\",\"\",IF(INDEX(E_SourceStreams!$A:$N,DU83,AP$7)=\"\",\"\",INDEX(E_SourceStreams!$A:$N,DU83,AP$7)))","v":""},{"$f":"IF($E83=\"\",\"\",IF(INDEX(E_SourceStreams!$A:$N,DV83,AQ$7)=\"\",\"\",INDEX(E_SourceStreams!$A:$N,DV83,AQ$7)))","v":""},{"$f":"IF($E83=\"\",\"\",IF(INDEX(E_SourceStreams!$A:$N,DW83,AR$7)=\"\",\"\",INDEX(E_SourceStreams!$A:$N,DW83,AR$7)))","v":""},{"$f":"IF($E83=\"\",\"\",IF(INDEX(E_SourceStreams!$A:$N,DX83,AS$7)=\"\",\"\",INDEX(E_SourceStreams!$A:$N,DX83,AS$7)))","v":""},{"$f":"IF($E83=\"\",\"\",IF(INDEX(E_SourceStreams!$A:$N,DY83,AT$7)=\"\",\"\",INDEX(E_SourceStreams!$A:$N,DY83,AT$7)))","v":""},{"$f":"IF($E83=\"\",\"\",IF(INDEX(E_SourceStreams!$A:$N,DZ83,AU$7)=\"\",\"\",INDEX(E_SourceStreams!$A:$N,DZ83,AU$7)))","v":""},{"$f":"IF($E83=\"\",\"\",IF(INDEX(E_SourceStreams!$A:$N,EA83,AV$7)=\"\",\"\",INDEX(E_SourceStreams!$A:$N,EA83,AV$7)))","v":""},{"$f":"IF($E83=\"\",\"\",IF(INDEX(E_SourceStreams!$A:$N,EB83,AW$7)=\"\",\"\",INDEX(E_SourceStreams!$A:$N,EB83,AW$7)))","v":""},{"$f":"IF($E83=\"\",\"\",IF(INDEX(E_SourceStreams!$A:$N,EC83,AX$7)=\"\",\"\",INDEX(E_SourceStreams!$A:$N,EC83,AX$7)))","v":""},{"$f":"IF($E83=\"\",\"\",IF(INDEX(E_SourceStreams!$A:$N,ED83,AY$7)=\"\",\"\",INDEX(E_SourceStreams!$A:$N,ED83,AY$7)))","v":""},{"$f":"IF($E83=\"\",\"\",IF(INDEX(E_SourceStreams!$A:$N,EE83,AZ$7)=\"\",\"\",INDEX(E_SourceStreams!$A:$N,EE83,AZ$7)))","v":""},{"$f":"IF($E83=\"\",\"\",IF(INDEX(E_SourceStreams!$A:$N,EF83,BA$7)=\"\",\"\",INDEX(E_SourceStreams!$A:$N,EF83,BA$7)))","v":""},{"$f":"IF($E83=\"\",\"\",IF(INDEX(E_SourceStreams!$A:$N,EG83,BB$7)=\"\",\"\",INDEX(E_SourceStreams!$A:$N,EG83,BB$7)))","v":""},{"$f":"IF($E83=\"\",\"\",IF(INDEX(E_SourceStreams!$A:$N,EH83,BC$7)=\"\",\"\",INDEX(E_SourceStreams!$A:$N,EH83,BC$7)))","v":""},{"$f":"IF($E83=\"\",\"\",IF(INDEX(E_SourceStreams!$A:$N,EI83,BD$7)=\"\",\"\",INDEX(E_SourceStreams!$A:$N,EI83,BD$7)))","v":""},{"$f":"IF($E83=\"\",\"\",IF(INDEX(E_SourceStreams!$A:$N,EJ83,BE$7)=\"\",\"\",INDEX(E_SourceStreams!$A:$N,EJ83,BE$7)))","v":""},{"$f":"IF($E83=\"\",\"\",IF(INDEX(E_SourceStreams!$A:$N,EK83,BF$7)=\"\",\"\",INDEX(E_SourceStreams!$A:$N,EK83,BF$7)))","v":""},{"$f":"IF($E83=\"\",\"\",IF(INDEX(E_SourceStreams!$A:$N,EL83,BG$7)=\"\",\"\",INDEX(E_SourceStreams!$A:$N,EL83,BG$7)))","v":""},{"$f":"IF($E83=\"\",\"\",IF(INDEX(E_SourceStreams!$A:$N,EM83,BH$7)=\"\",\"\",INDEX(E_SourceStreams!$A:$N,EM83,BH$7)))","v":""},{"$f":"IF($E83=\"\",\"\",IF(INDEX(E_SourceStreams!$A:$N,EN83,BI$7)=\"\",\"\",INDEX(E_SourceStreams!$A:$N,EN83,BI$7)))","v":""},{"$f":"IF($E83=\"\",\"\",IF(INDEX(E_SourceStreams!$A:$N,EO83,BJ$7)=\"\",\"\",INDEX(E_SourceStreams!$A:$N,EO83,BJ$7)))","v":""},{"$f":"IF($E83=\"\",\"\",IF(INDEX(E_SourceStreams!$A:$N,EP83,BK$7)=\"\",\"\",INDEX(E_SourceStreams!$A:$N,EP83,BK$7)))","v":""},{"$f":"IF($E83=\"\",\"\",IF(INDEX(E_SourceStreams!$A:$N,EQ83,BL$7)=\"\",\"\",INDEX(E_SourceStreams!$A:$N,EQ83,BL$7)))","v":""},{"$f":"IF($E83=\"\",\"\",IF(INDEX(E_SourceStreams!$A:$N,ER83,BM$7)=\"\",\"\",INDEX(E_SourceStreams!$A:$N,ER83,BM$7)))","v":""},{"$f":"IF($E83=\"\",\"\",IF(INDEX(E_SourceStreams!$A:$N,ES83,BN$7)=\"\",\"\",INDEX(E_SourceStreams!$A:$N,ES83,BN$7)))","v":""},{"$f":"IF($E83=\"\",\"\",IF(INDEX(E_SourceStreams!$A:$N,ET83,BO$7)=\"\",\"\",INDEX(E_SourceStreams!$A:$N,ET83,BO$7)))","v":""},{"$f":"IF($E83=\"\",\"\",IF(INDEX(E_SourceStreams!$A:$N,EU83,BP$7)=\"\",\"\",INDEX(E_SourceStreams!$A:$N,EU83,BP$7)))","v":""},{"$f":"IF($E83=\"\",\"\",IF(INDEX(E_SourceStreams!$A:$N,EV83,BQ$7)=\"\",\"\",INDEX(E_SourceStreams!$A:$N,EV83,BQ$7)))","v":""},{"$f":"IF($E83=\"\",\"\",IF(INDEX(E_SourceStreams!$A:$N,EW83,BR$7)=\"\",\"\",INDEX(E_SourceStreams!$A:$N,EW83,BR$7)))","v":""},{"$f":"IF($E83=\"\",\"\",IF(INDEX(E_SourceStreams!$A:$N,EX83,BS$7)=\"\",\"\",INDEX(E_SourceStreams!$A:$N,EX83,BS$7)))","v":""},{"$f":"IF($E83=\"\",\"\",IF(INDEX(E_SourceStreams!$A:$N,EY83,BT$7)=\"\",\"\",INDEX(E_SourceStreams!$A:$N,EY83,BT$7)))","v":""},null,null,null,null,null,null,null,null,null,null,null,null,null,null,null,"SourceCategory_",{"$f":"INDEX(C_InstallationDescription!$A$226:$A$332,ROWS($CI$11:CI83))=\"ausblenden\"","v":true},"SourceStreamName_",null,4887,4889,4891,4893,4895,4897,4899,4899,4899,4899,4899,4902,4906,4907,4908,4915,4925,4925,4925,4925,4925,4925,4925,4916,4926,4926,4926,4926,4926,4926,4926,4917,4927,4927,4927,4927,4927,4927,4927,4918,4928,4928,4928,4928,4928,4928,4928,4919,4929,4929,4929,4929,4929,4929,4929,4920,4930,4930,4930,4930,4930,4930,4930,4936]
[null,{"$f":"IF(COUNTIF($CK$10:CK84,TRUE)>0,\"\",INDEX(C_InstallationDescription!$E$226:$E$242,ROWS($A$11:A84)))","v":""},{"$f":"IF($E84=\"\",\"\",INDEX(C_InstallationDescription!F:F,MATCH($B84,C_InstallationDescription!$E:$E,0)))","v":""},{"$f":"IF($E84=\"\",\"\",INDEX(C_InstallationDescription!I:I,MATCH($B84,C_InstallationDescription!$E:$E,0)))","v":""},{"$f":"IF($B84=\"\",\"\",INDEX(C_InstallationDescription!F:F,MATCH($CJ84,C_InstallationDescription!$Q:$Q,0)))","v":""},{"$f":"IF($E84=\"\",\"\",INDEX(C_InstallationDescription!L:L,MATCH($CJ84,C_InstallationDescription!$Q:$Q,0)))","v":""},{"$f":"IF($E84=\"\",\"\",INDEX(C_InstallationDescription!M:M,MATCH($CJ84,C_InstallationDescription!$Q:$Q,0)))","v":""},{"$f":"IF($E84=\"\",\"\",INDEX(C_InstallationDescription!N:N,MATCH($CJ84,C_InstallationDescription!$Q:$Q,0)))","v":""},{"$f":"IF($E84=\"\",\"\",IF(INDEX(E_SourceStreams!$A:$N,CN84,I$7)=\"\",\"\",INDEX(E_SourceStreams!$A:$N,CN84,I$7)))","v":""},{"$f":"IF($E84=\"\",\"\",IF(INDEX(E_SourceStreams!$A:$N,CO84,J$7)=\"\",\"\",INDEX(E_SourceStreams!$A:$N,CO84,J$7)))","v":""},{"$f":"IF($E84=\"\",\"\",IF(INDEX(E_SourceStreams!$A:$N,CP84,K$7)=\"\",\"\",INDEX(E_SourceStreams!$A:$N,CP84,K$7)))","v":""},{"$f":"IF($E84=\"\",\"\",IF(INDEX(E_SourceStreams!$A:$N,CQ84,L$7)=\"\",\"\",INDEX(E_SourceStreams!$A:$N,CQ84,L$7)))","v":""},{"$f":"IF($E84=\"\",\"\",IF(INDEX(E_SourceStreams!$A:$N,CR84,M$7)=\"\",\"\",INDEX(E_SourceStreams!$A:$N,CR84,M$7)))","v":""},{"$f":"IF($E84=\"\",\"\",IF(INDEX(E_SourceStreams!$A:$N,CS84,N$7)=\"\",\"\",INDEX(E_SourceStreams!$A:$N,CS84,N$7)))","v":""},{"$f":"IF($E84=\"\",\"\",IF(INDEX(E_SourceStreams!$A:$N,CT84,O$7)=\"\",\"\",INDEX(E_SourceStreams!$A:$N,CT84,O$7)))","v":""},{"$f":"IF($E84=\"\",\"\",IF(INDEX(E_SourceStreams!$A:$N,CU84,P$7)=\"\",\"\",INDEX(E_SourceStreams!$A:$N,CU84,P$7)))","v":""},{"$f":"IF($E84=\"\",\"\",IF(INDEX(E_SourceStreams!$A:$N,CV84,Q$7)=\"\",\"\",INDEX(E_SourceStreams!$A:$N,CV84,Q$7)))","v":""},{"$f":"IF($E84=\"\",\"\",IF(INDEX(E_SourceStreams!$A:$N,CW84,R$7)=\"\",\"\",INDEX(E_SourceStreams!$A:$N,CW84,R$7)))","v":""},{"$f":"IF($E84=\"\",\"\",IF(INDEX(E_SourceStreams!$A:$N,CX84,S$7)=\"\",\"\",INDEX(E_SourceStreams!$A:$N,CX84,S$7)))","v":""},{"$f":"IF($E84=\"\",\"\",IF(INDEX(E_SourceStreams!$A:$N,CY84,T$7)=\"\",\"\",INDEX(E_SourceStreams!$A:$N,CY84,T$7)))","v":""},{"$f":"IF($E84=\"\",\"\",IF(INDEX(E_SourceStreams!$A:$N,CZ84,U$7)=\"\",\"\",INDEX(E_SourceStreams!$A:$N,CZ84,U$7)))","v":""},{"$f":"IF($E84=\"\",\"\",IF(INDEX(E_SourceStreams!$A:$N,DA84,V$7)=\"\",\"\",INDEX(E_SourceStreams!$A:$N,DA84,V$7)))","v":""},{"$f":"IF($E84=\"\",\"\",IF(INDEX(E_SourceStreams!$A:$N,DB84,W$7)=\"\",\"\",INDEX(E_SourceStreams!$A:$N,DB84,W$7)))","v":""},{"$f":"IF($E84=\"\",\"\",IF(INDEX(E_SourceStreams!$A:$N,DC84,X$7)=\"\",\"\",INDEX(E_SourceStreams!$A:$N,DC84,X$7)))","v":""},{"$f":"IF($E84=\"\",\"\",IF(INDEX(E_SourceStreams!$A:$N,DD84,Y$7)=\"\",\"\",INDEX(E_SourceStreams!$A:$N,DD84,Y$7)))","v":""},{"$f":"IF($E84=\"\",\"\",IF(INDEX(E_SourceStreams!$A:$N,DE84,Z$7)=\"\",\"\",INDEX(E_SourceStreams!$A:$N,DE84,Z$7)))","v":""},{"$f":"IF($E84=\"\",\"\",IF(INDEX(E_SourceStreams!$A:$N,DF84,AA$7)=\"\",\"\",INDEX(E_SourceStreams!$A:$N,DF84,AA$7)))","v":""},{"$f":"IF($E84=\"\",\"\",IF(INDEX(E_SourceStreams!$A:$N,DG84,AB$7)=\"\",\"\",INDEX(E_SourceStreams!$A:$N,DG84,AB$7)))","v":""},{"$f":"IF($E84=\"\",\"\",IF(INDEX(E_SourceStreams!$A:$N,DH84,AC$7)=\"\",\"\",INDEX(E_SourceStreams!$A:$N,DH84,AC$7)))","v":""},{"$f":"IF($E84=\"\",\"\",IF(INDEX(E_SourceStreams!$A:$N,DI84,AD$7)=\"\",\"\",INDEX(E_SourceStreams!$A:$N,DI84,AD$7)))","v":""},{"$f":"IF($E84=\"\",\"\",IF(INDEX(E_SourceStreams!$A:$N,DJ84,AE$7)=\"\",\"\",INDEX(E_SourceStreams!$A:$N,DJ84,AE$7)))","v":""},{"$f":"IF($E84=\"\",\"\",IF(INDEX(E_SourceStreams!$A:$N,DK84,AF$7)=\"\",\"\",INDEX(E_SourceStreams!$A:$N,DK84,AF$7)))","v":""},{"$f":"IF($E84=\"\",\"\",IF(INDEX(E_SourceStreams!$A:$N,DL84,AG$7)=\"\",\"\",INDEX(E_SourceStreams!$A:$N,DL84,AG$7)))","v":""},{"$f":"IF($E84=\"\",\"\",IF(INDEX(E_SourceStreams!$A:$N,DM84,AH$7)=\"\",\"\",INDEX(E_SourceStreams!$A:$N,DM84,AH$7)))","v":""},{"$f":"IF($E84=\"\",\"\",IF(INDEX(E_SourceStreams!$A:$N,DN84,AI$7)=\"\",\"\",INDEX(E_SourceStreams!$A:$N,DN84,AI$7)))","v":""},{"$f":"IF($E84=\"\",\"\",IF(INDEX(E_SourceStreams!$A:$N,DO84,AJ$7)=\"\",\"\",INDEX(E_SourceStreams!$A:$N,DO84,AJ$7)))","v":""},{"$f":"IF($E84=\"\",\"\",IF(INDEX(E_SourceStreams!$A:$N,DP84,AK$7)=\"\",\"\",INDEX(E_SourceStreams!$A:$N,DP84,AK$7)))","v":""},{"$f":"IF($E84=\"\",\"\",IF(INDEX(E_SourceStreams!$A:$N,DQ84,AL$7)=\"\",\"\",INDEX(E_SourceStreams!$A:$N,DQ84,AL$7)))","v":""},{"$f":"IF($E84=\"\",\"\",IF(INDEX(E_SourceStreams!$A:$N,DR84,AM$7)=\"\",\"\",INDEX(E_SourceStreams!$A:$N,DR84,AM$7)))","v":""},{"$f":"IF($E84=\"\",\"\",IF(INDEX(E_SourceStreams!$A:$N,DS84,AN$7)=\"\",\"\",INDEX(E_SourceStreams!$A:$N,DS84,AN$7)))","v":""},{"$f":"IF($E84=\"\",\"\",IF(INDEX(E_SourceStreams!$A:$N,DT84,AO$7)=\"\",\"\",INDEX(E_SourceStreams!$A:$N,DT84,AO$7)))","v":""},{"$f":"IF($E84=\"\",\"\",IF(INDEX(E_SourceStreams!$A:$N,DU84,AP$7)=\"\",\"\",INDEX(E_SourceStreams!$A:$N,DU84,AP$7)))","v":""},{"$f":"IF($E84=\"\",\"\",IF(INDEX(E_SourceStreams!$A:$N,DV84,AQ$7)=\"\",\"\",INDEX(E_SourceStreams!$A:$N,DV84,AQ$7)))","v":""},{"$f":"IF($E84=\"\",\"\",IF(INDEX(E_SourceStreams!$A:$N,DW84,AR$7)=\"\",\"\",INDEX(E_SourceStreams!$A:$N,DW84,AR$7)))","v":""},{"$f":"IF($E84=\"\",\"\",IF(INDEX(E_SourceStreams!$A:$N,DX84,AS$7)=\"\",\"\",INDEX(E_SourceStreams!$A:$N,DX84,AS$7)))","v":""},{"$f":"IF($E84=\"\",\"\",IF(INDEX(E_SourceStreams!$A:$N,DY84,AT$7)=\"\",\"\",INDEX(E_SourceStreams!$A:$N,DY84,AT$7)))","v":""},{"$f":"IF($E84=\"\",\"\",IF(INDEX(E_SourceStreams!$A:$N,DZ84,AU$7)=\"\",\"\",INDEX(E_SourceStreams!$A:$N,DZ84,AU$7)))","v":""},{"$f":"IF($E84=\"\",\"\",IF(INDEX(E_SourceStreams!$A:$N,EA84,AV$7)=\"\",\"\",INDEX(E_SourceStreams!$A:$N,EA84,AV$7)))","v":""},{"$f":"IF($E84=\"\",\"\",IF(INDEX(E_SourceStreams!$A:$N,EB84,AW$7)=\"\",\"\",INDEX(E_SourceStreams!$A:$N,EB84,AW$7)))","v":""},{"$f":"IF($E84=\"\",\"\",IF(INDEX(E_SourceStreams!$A:$N,EC84,AX$7)=\"\",\"\",INDEX(E_SourceStreams!$A:$N,EC84,AX$7)))","v":""},{"$f":"IF($E84=\"\",\"\",IF(INDEX(E_SourceStreams!$A:$N,ED84,AY$7)=\"\",\"\",INDEX(E_SourceStreams!$A:$N,ED84,AY$7)))","v":""},{"$f":"IF($E84=\"\",\"\",IF(INDEX(E_SourceStreams!$A:$N,EE84,AZ$7)=\"\",\"\",INDEX(E_SourceStreams!$A:$N,EE84,AZ$7)))","v":""},{"$f":"IF($E84=\"\",\"\",IF(INDEX(E_SourceStreams!$A:$N,EF84,BA$7)=\"\",\"\",INDEX(E_SourceStreams!$A:$N,EF84,BA$7)))","v":""},{"$f":"IF($E84=\"\",\"\",IF(INDEX(E_SourceStreams!$A:$N,EG84,BB$7)=\"\",\"\",INDEX(E_SourceStreams!$A:$N,EG84,BB$7)))","v":""},{"$f":"IF($E84=\"\",\"\",IF(INDEX(E_SourceStreams!$A:$N,EH84,BC$7)=\"\",\"\",INDEX(E_SourceStreams!$A:$N,EH84,BC$7)))","v":""},{"$f":"IF($E84=\"\",\"\",IF(INDEX(E_SourceStreams!$A:$N,EI84,BD$7)=\"\",\"\",INDEX(E_SourceStreams!$A:$N,EI84,BD$7)))","v":""},{"$f":"IF($E84=\"\",\"\",IF(INDEX(E_SourceStreams!$A:$N,EJ84,BE$7)=\"\",\"\",INDEX(E_SourceStreams!$A:$N,EJ84,BE$7)))","v":""},{"$f":"IF($E84=\"\",\"\",IF(INDEX(E_SourceStreams!$A:$N,EK84,BF$7)=\"\",\"\",INDEX(E_SourceStreams!$A:$N,EK84,BF$7)))","v":""},{"$f":"IF($E84=\"\",\"\",IF(INDEX(E_SourceStreams!$A:$N,EL84,BG$7)=\"\",\"\",INDEX(E_SourceStreams!$A:$N,EL84,BG$7)))","v":""},{"$f":"IF($E84=\"\",\"\",IF(INDEX(E_SourceStreams!$A:$N,EM84,BH$7)=\"\",\"\",INDEX(E_SourceStreams!$A:$N,EM84,BH$7)))","v":""},{"$f":"IF($E84=\"\",\"\",IF(INDEX(E_SourceStreams!$A:$N,EN84,BI$7)=\"\",\"\",INDEX(E_SourceStreams!$A:$N,EN84,BI$7)))","v":""},{"$f":"IF($E84=\"\",\"\",IF(INDEX(E_SourceStreams!$A:$N,EO84,BJ$7)=\"\",\"\",INDEX(E_SourceStreams!$A:$N,EO84,BJ$7)))","v":""},{"$f":"IF($E84=\"\",\"\",IF(INDEX(E_SourceStreams!$A:$N,EP84,BK$7)=\"\",\"\",INDEX(E_SourceStreams!$A:$N,EP84,BK$7)))","v":""},{"$f":"IF($E84=\"\",\"\",IF(INDEX(E_SourceStreams!$A:$N,EQ84,BL$7)=\"\",\"\",INDEX(E_SourceStreams!$A:$N,EQ84,BL$7)))","v":""},{"$f":"IF($E84=\"\",\"\",IF(INDEX(E_SourceStreams!$A:$N,ER84,BM$7)=\"\",\"\",INDEX(E_SourceStreams!$A:$N,ER84,BM$7)))","v":""},{"$f":"IF($E84=\"\",\"\",IF(INDEX(E_SourceStreams!$A:$N,ES84,BN$7)=\"\",\"\",INDEX(E_SourceStreams!$A:$N,ES84,BN$7)))","v":""},{"$f":"IF($E84=\"\",\"\",IF(INDEX(E_SourceStreams!$A:$N,ET84,BO$7)=\"\",\"\",INDEX(E_SourceStreams!$A:$N,ET84,BO$7)))","v":""},{"$f":"IF($E84=\"\",\"\",IF(INDEX(E_SourceStreams!$A:$N,EU84,BP$7)=\"\",\"\",INDEX(E_SourceStreams!$A:$N,EU84,BP$7)))","v":""},{"$f":"IF($E84=\"\",\"\",IF(INDEX(E_SourceStreams!$A:$N,EV84,BQ$7)=\"\",\"\",INDEX(E_SourceStreams!$A:$N,EV84,BQ$7)))","v":""},{"$f":"IF($E84=\"\",\"\",IF(INDEX(E_SourceStreams!$A:$N,EW84,BR$7)=\"\",\"\",INDEX(E_SourceStreams!$A:$N,EW84,BR$7)))","v":""},{"$f":"IF($E84=\"\",\"\",IF(INDEX(E_SourceStreams!$A:$N,EX84,BS$7)=\"\",\"\",INDEX(E_SourceStreams!$A:$N,EX84,BS$7)))","v":""},{"$f":"IF($E84=\"\",\"\",IF(INDEX(E_SourceStreams!$A:$N,EY84,BT$7)=\"\",\"\",INDEX(E_SourceStreams!$A:$N,EY84,BT$7)))","v":""},null,null,null,null,null,null,null,null,null,null,null,null,null,null,null,"SourceCategory_",{"$f":"INDEX(C_InstallationDescription!$A$226:$A$332,ROWS($CI$11:CI84))=\"ausblenden\"","v":true},"SourceStreamName_",null,4953,4955,4957,4959,4961,4963,4965,4965,4965,4965,4965,4968,4972,4973,4974,4981,4991,4991,4991,4991,4991,4991,4991,4982,4992,4992,4992,4992,4992,4992,4992,4983,4993,4993,4993,4993,4993,4993,4993,4984,4994,4994,4994,4994,4994,4994,4994,4985,4995,4995,4995,4995,4995,4995,4995,4986,4996,4996,4996,4996,4996,4996,4996,5002]
[null,{"$f":"IF(COUNTIF($CK$10:CK85,TRUE)>0,\"\",INDEX(C_InstallationDescription!$E$226:$E$242,ROWS($A$11:A85)))","v":""},{"$f":"IF($E85=\"\",\"\",INDEX(C_InstallationDescription!F:F,MATCH($B85,C_InstallationDescription!$E:$E,0)))","v":""},{"$f":"IF($E85=\"\",\"\",INDEX(C_InstallationDescription!I:I,MATCH($B85,C_InstallationDescription!$E:$E,0)))","v":""},{"$f":"IF($B85=\"\",\"\",INDEX(C_InstallationDescription!F:F,MATCH($CJ85,C_InstallationDescription!$Q:$Q,0)))","v":""},{"$f":"IF($E85=\"\",\"\",INDEX(C_InstallationDescription!L:L,MATCH($CJ85,C_InstallationDescription!$Q:$Q,0)))","v":""},{"$f":"IF($E85=\"\",\"\",INDEX(C_InstallationDescription!M:M,MATCH($CJ85,C_InstallationDescription!$Q:$Q,0)))","v":""},{"$f":"IF($E85=\"\",\"\",INDEX(C_InstallationDescription!N:N,MATCH($CJ85,C_InstallationDescription!$Q:$Q,0)))","v":""},{"$f":"IF($E85=\"\",\"\",IF(INDEX(E_SourceStreams!$A:$N,CN85,I$7)=\"\",\"\",INDEX(E_SourceStreams!$A:$N,CN85,I$7)))","v":""},{"$f":"IF($E85=\"\",\"\",IF(INDEX(E_SourceStreams!$A:$N,CO85,J$7)=\"\",\"\",INDEX(E_SourceStreams!$A:$N,CO85,J$7)))","v":""},{"$f":"IF($E85=\"\",\"\",IF(INDEX(E_SourceStreams!$A:$N,CP85,K$7)=\"\",\"\",INDEX(E_SourceStreams!$A:$N,CP85,K$7)))","v":""},{"$f":"IF($E85=\"\",\"\",IF(INDEX(E_SourceStreams!$A:$N,CQ85,L$7)=\"\",\"\",INDEX(E_SourceStreams!$A:$N,CQ85,L$7)))","v":""},{"$f":"IF($E85=\"\",\"\",IF(INDEX(E_SourceStreams!$A:$N,CR85,M$7)=\"\",\"\",INDEX(E_SourceStreams!$A:$N,CR85,M$7)))","v":""},{"$f":"IF($E85=\"\",\"\",IF(INDEX(E_SourceStreams!$A:$N,CS85,N$7)=\"\",\"\",INDEX(E_SourceStreams!$A:$N,CS85,N$7)))","v":""},{"$f":"IF($E85=\"\",\"\",IF(INDEX(E_SourceStreams!$A:$N,CT85,O$7)=\"\",\"\",INDEX(E_SourceStreams!$A:$N,CT85,O$7)))","v":""},{"$f":"IF($E85=\"\",\"\",IF(INDEX(E_SourceStreams!$A:$N,CU85,P$7)=\"\",\"\",INDEX(E_SourceStreams!$A:$N,CU85,P$7)))","v":""},{"$f":"IF($E85=\"\",\"\",IF(INDEX(E_SourceStreams!$A:$N,CV85,Q$7)=\"\",\"\",INDEX(E_SourceStreams!$A:$N,CV85,Q$7)))","v":""},{"$f":"IF($E85=\"\",\"\",IF(INDEX(E_SourceStreams!$A:$N,CW85,R$7)=\"\",\"\",INDEX(E_SourceStreams!$A:$N,CW85,R$7)))","v":""},{"$f":"IF($E85=\"\",\"\",IF(INDEX(E_SourceStreams!$A:$N,CX85,S$7)=\"\",\"\",INDEX(E_SourceStreams!$A:$N,CX85,S$7)))","v":""},{"$f":"IF($E85=\"\",\"\",IF(INDEX(E_SourceStreams!$A:$N,CY85,T$7)=\"\",\"\",INDEX(E_SourceStreams!$A:$N,CY85,T$7)))","v":""},{"$f":"IF($E85=\"\",\"\",IF(INDEX(E_SourceStreams!$A:$N,CZ85,U$7)=\"\",\"\",INDEX(E_SourceStreams!$A:$N,CZ85,U$7)))","v":""},{"$f":"IF($E85=\"\",\"\",IF(INDEX(E_SourceStreams!$A:$N,DA85,V$7)=\"\",\"\",INDEX(E_SourceStreams!$A:$N,DA85,V$7)))","v":""},{"$f":"IF($E85=\"\",\"\",IF(INDEX(E_SourceStreams!$A:$N,DB85,W$7)=\"\",\"\",INDEX(E_SourceStreams!$A:$N,DB85,W$7)))","v":""},{"$f":"IF($E85=\"\",\"\",IF(INDEX(E_SourceStreams!$A:$N,DC85,X$7)=\"\",\"\",INDEX(E_SourceStreams!$A:$N,DC85,X$7)))","v":""},{"$f":"IF($E85=\"\",\"\",IF(INDEX(E_SourceStreams!$A:$N,DD85,Y$7)=\"\",\"\",INDEX(E_SourceStreams!$A:$N,DD85,Y$7)))","v":""},{"$f":"IF($E85=\"\",\"\",IF(INDEX(E_SourceStreams!$A:$N,DE85,Z$7)=\"\",\"\",INDEX(E_SourceStreams!$A:$N,DE85,Z$7)))","v":""},{"$f":"IF($E85=\"\",\"\",IF(INDEX(E_SourceStreams!$A:$N,DF85,AA$7)=\"\",\"\",INDEX(E_SourceStreams!$A:$N,DF85,AA$7)))","v":""},{"$f":"IF($E85=\"\",\"\",IF(INDEX(E_SourceStreams!$A:$N,DG85,AB$7)=\"\",\"\",INDEX(E_SourceStreams!$A:$N,DG85,AB$7)))","v":""},{"$f":"IF($E85=\"\",\"\",IF(INDEX(E_SourceStreams!$A:$N,DH85,AC$7)=\"\",\"\",INDEX(E_SourceStreams!$A:$N,DH85,AC$7)))","v":""},{"$f":"IF($E85=\"\",\"\",IF(INDEX(E_SourceStreams!$A:$N,DI85,AD$7)=\"\",\"\",INDEX(E_SourceStreams!$A:$N,DI85,AD$7)))","v":""},{"$f":"IF($E85=\"\",\"\",IF(INDEX(E_SourceStreams!$A:$N,DJ85,AE$7)=\"\",\"\",INDEX(E_SourceStreams!$A:$N,DJ85,AE$7)))","v":""},{"$f":"IF($E85=\"\",\"\",IF(INDEX(E_SourceStreams!$A:$N,DK85,AF$7)=\"\",\"\",INDEX(E_SourceStreams!$A:$N,DK85,AF$7)))","v":""},{"$f":"IF($E85=\"\",\"\",IF(INDEX(E_SourceStreams!$A:$N,DL85,AG$7)=\"\",\"\",INDEX(E_SourceStreams!$A:$N,DL85,AG$7)))","v":""},{"$f":"IF($E85=\"\",\"\",IF(INDEX(E_SourceStreams!$A:$N,DM85,AH$7)=\"\",\"\",INDEX(E_SourceStreams!$A:$N,DM85,AH$7)))","v":""},{"$f":"IF($E85=\"\",\"\",IF(INDEX(E_SourceStreams!$A:$N,DN85,AI$7)=\"\",\"\",INDEX(E_SourceStreams!$A:$N,DN85,AI$7)))","v":""},{"$f":"IF($E85=\"\",\"\",IF(INDEX(E_SourceStreams!$A:$N,DO85,AJ$7)=\"\",\"\",INDEX(E_SourceStreams!$A:$N,DO85,AJ$7)))","v":""},{"$f":"IF($E85=\"\",\"\",IF(INDEX(E_SourceStreams!$A:$N,DP85,AK$7)=\"\",\"\",INDEX(E_SourceStreams!$A:$N,DP85,AK$7)))","v":""},{"$f":"IF($E85=\"\",\"\",IF(INDEX(E_SourceStreams!$A:$N,DQ85,AL$7)=\"\",\"\",INDEX(E_SourceStreams!$A:$N,DQ85,AL$7)))","v":""},{"$f":"IF($E85=\"\",\"\",IF(INDEX(E_SourceStreams!$A:$N,DR85,AM$7)=\"\",\"\",INDEX(E_SourceStreams!$A:$N,DR85,AM$7)))","v":""},{"$f":"IF($E85=\"\",\"\",IF(INDEX(E_SourceStreams!$A:$N,DS85,AN$7)=\"\",\"\",INDEX(E_SourceStreams!$A:$N,DS85,AN$7)))","v":""},{"$f":"IF($E85=\"\",\"\",IF(INDEX(E_SourceStreams!$A:$N,DT85,AO$7)=\"\",\"\",INDEX(E_SourceStreams!$A:$N,DT85,AO$7)))","v":""},{"$f":"IF($E85=\"\",\"\",IF(INDEX(E_SourceStreams!$A:$N,DU85,AP$7)=\"\",\"\",INDEX(E_SourceStreams!$A:$N,DU85,AP$7)))","v":""},{"$f":"IF($E85=\"\",\"\",IF(INDEX(E_SourceStreams!$A:$N,DV85,AQ$7)=\"\",\"\",INDEX(E_SourceStreams!$A:$N,DV85,AQ$7)))","v":""},{"$f":"IF($E85=\"\",\"\",IF(INDEX(E_SourceStreams!$A:$N,DW85,AR$7)=\"\",\"\",INDEX(E_SourceStreams!$A:$N,DW85,AR$7)))","v":""},{"$f":"IF($E85=\"\",\"\",IF(INDEX(E_SourceStreams!$A:$N,DX85,AS$7)=\"\",\"\",INDEX(E_SourceStreams!$A:$N,DX85,AS$7)))","v":""},{"$f":"IF($E85=\"\",\"\",IF(INDEX(E_SourceStreams!$A:$N,DY85,AT$7)=\"\",\"\",INDEX(E_SourceStreams!$A:$N,DY85,AT$7)))","v":""},{"$f":"IF($E85=\"\",\"\",IF(INDEX(E_SourceStreams!$A:$N,DZ85,AU$7)=\"\",\"\",INDEX(E_SourceStreams!$A:$N,DZ85,AU$7)))","v":""},{"$f":"IF($E85=\"\",\"\",IF(INDEX(E_SourceStreams!$A:$N,EA85,AV$7)=\"\",\"\",INDEX(E_SourceStreams!$A:$N,EA85,AV$7)))","v":""},{"$f":"IF($E85=\"\",\"\",IF(INDEX(E_SourceStreams!$A:$N,EB85,AW$7)=\"\",\"\",INDEX(E_SourceStreams!$A:$N,EB85,AW$7)))","v":""},{"$f":"IF($E85=\"\",\"\",IF(INDEX(E_SourceStreams!$A:$N,EC85,AX$7)=\"\",\"\",INDEX(E_SourceStreams!$A:$N,EC85,AX$7)))","v":""},{"$f":"IF($E85=\"\",\"\",IF(INDEX(E_SourceStreams!$A:$N,ED85,AY$7)=\"\",\"\",INDEX(E_SourceStreams!$A:$N,ED85,AY$7)))","v":""},{"$f":"IF($E85=\"\",\"\",IF(INDEX(E_SourceStreams!$A:$N,EE85,AZ$7)=\"\",\"\",INDEX(E_SourceStreams!$A:$N,EE85,AZ$7)))","v":""},{"$f":"IF($E85=\"\",\"\",IF(INDEX(E_SourceStreams!$A:$N,EF85,BA$7)=\"\",\"\",INDEX(E_SourceStreams!$A:$N,EF85,BA$7)))","v":""},{"$f":"IF($E85=\"\",\"\",IF(INDEX(E_SourceStreams!$A:$N,EG85,BB$7)=\"\",\"\",INDEX(E_SourceStreams!$A:$N,EG85,BB$7)))","v":""},{"$f":"IF($E85=\"\",\"\",IF(INDEX(E_SourceStreams!$A:$N,EH85,BC$7)=\"\",\"\",INDEX(E_SourceStreams!$A:$N,EH85,BC$7)))","v":""},{"$f":"IF($E85=\"\",\"\",IF(INDEX(E_SourceStreams!$A:$N,EI85,BD$7)=\"\",\"\",INDEX(E_SourceStreams!$A:$N,EI85,BD$7)))","v":""},{"$f":"IF($E85=\"\",\"\",IF(INDEX(E_SourceStreams!$A:$N,EJ85,BE$7)=\"\",\"\",INDEX(E_SourceStreams!$A:$N,EJ85,BE$7)))","v":""},{"$f":"IF($E85=\"\",\"\",IF(INDEX(E_SourceStreams!$A:$N,EK85,BF$7)=\"\",\"\",INDEX(E_SourceStreams!$A:$N,EK85,BF$7)))","v":""},{"$f":"IF($E85=\"\",\"\",IF(INDEX(E_SourceStreams!$A:$N,EL85,BG$7)=\"\",\"\",INDEX(E_SourceStreams!$A:$N,EL85,BG$7)))","v":""},{"$f":"IF($E85=\"\",\"\",IF(INDEX(E_SourceStreams!$A:$N,EM85,BH$7)=\"\",\"\",INDEX(E_SourceStreams!$A:$N,EM85,BH$7)))","v":""},{"$f":"IF($E85=\"\",\"\",IF(INDEX(E_SourceStreams!$A:$N,EN85,BI$7)=\"\",\"\",INDEX(E_SourceStreams!$A:$N,EN85,BI$7)))","v":""},{"$f":"IF($E85=\"\",\"\",IF(INDEX(E_SourceStreams!$A:$N,EO85,BJ$7)=\"\",\"\",INDEX(E_SourceStreams!$A:$N,EO85,BJ$7)))","v":""},{"$f":"IF($E85=\"\",\"\",IF(INDEX(E_SourceStreams!$A:$N,EP85,BK$7)=\"\",\"\",INDEX(E_SourceStreams!$A:$N,EP85,BK$7)))","v":""},{"$f":"IF($E85=\"\",\"\",IF(INDEX(E_SourceStreams!$A:$N,EQ85,BL$7)=\"\",\"\",INDEX(E_SourceStreams!$A:$N,EQ85,BL$7)))","v":""},{"$f":"IF($E85=\"\",\"\",IF(INDEX(E_SourceStreams!$A:$N,ER85,BM$7)=\"\",\"\",INDEX(E_SourceStreams!$A:$N,ER85,BM$7)))","v":""},{"$f":"IF($E85=\"\",\"\",IF(INDEX(E_SourceStreams!$A:$N,ES85,BN$7)=\"\",\"\",INDEX(E_SourceStreams!$A:$N,ES85,BN$7)))","v":""},{"$f":"IF($E85=\"\",\"\",IF(INDEX(E_SourceStreams!$A:$N,ET85,BO$7)=\"\",\"\",INDEX(E_SourceStreams!$A:$N,ET85,BO$7)))","v":""},{"$f":"IF($E85=\"\",\"\",IF(INDEX(E_SourceStreams!$A:$N,EU85,BP$7)=\"\",\"\",INDEX(E_SourceStreams!$A:$N,EU85,BP$7)))","v":""},{"$f":"IF($E85=\"\",\"\",IF(INDEX(E_SourceStreams!$A:$N,EV85,BQ$7)=\"\",\"\",INDEX(E_SourceStreams!$A:$N,EV85,BQ$7)))","v":""},{"$f":"IF($E85=\"\",\"\",IF(INDEX(E_SourceStreams!$A:$N,EW85,BR$7)=\"\",\"\",INDEX(E_SourceStreams!$A:$N,EW85,BR$7)))","v":""},{"$f":"IF($E85=\"\",\"\",IF(INDEX(E_SourceStreams!$A:$N,EX85,BS$7)=\"\",\"\",INDEX(E_SourceStreams!$A:$N,EX85,BS$7)))","v":""},{"$f":"IF($E85=\"\",\"\",IF(INDEX(E_SourceStreams!$A:$N,EY85,BT$7)=\"\",\"\",INDEX(E_SourceStreams!$A:$N,EY85,BT$7)))","v":""},null,null,null,null,null,null,null,null,null,null,null,null,null,null,null,"SourceCategory_",{"$f":"INDEX(C_InstallationDescription!$A$226:$A$332,ROWS($CI$11:CI85))=\"ausblenden\"","v":true},"SourceStreamName_",null,5019,5021,5023,5025,5027,5029,5031,5031,5031,5031,5031,5034,5038,5039,5040,5047,5057,5057,5057,5057,5057,5057,5057,5048,5058,5058,5058,5058,5058,5058,5058,5049,5059,5059,5059,5059,5059,5059,5059,5050,5060,5060,5060,5060,5060,5060,5060,5051,5061,5061,5061,5061,5061,5061,5061,5052,5062,5062,5062,5062,5062,5062,5062,5068]
[]
["ausblenden",null,null,null,null,null,null,8,8,9,10,11,12,8,8,8,5,6,6,6,6,6,5,5]
[null,{"$f":"Translations!$B$323","v":"Sources d'émission"}]
[null,null,null,null,null,null,null,null,{"$f":"Translations!$B$472","v":"Instruments de mesure utilisés:"}]
[null,{"$f":"C_InstallationDescription!$E$169","v":"Réf. du point de mesure M1, M2, …"},{"$f":"C_InstallationDescription!F169","v":"Description"},{"$f":"C_InstallationDescription!K169","v":"Réf. du point d’émission"},null,{"$f":"C_InstallationDescription!L169","v":"Estimation des émissions [t CO2e/an]"},{"$f":"C_InstallationDescription!M169","v":"Catégorie possible"},{"$f":"C_InstallationDescription!N169","v":"GES mesuré"},1,2,3,4,5,{"$f":"F_MeasurementBasedApproaches!$E$137","v":"Type de fonctionnement:"},{"$f":"F_MeasurementBasedApproaches!$E$168","v":"Niveau requis:"},{"$f":"F_MeasurementBasedApproaches!$E$169","v":"Niveau utilisé:"},{"$f":"F_MeasurementBasedApproaches!$E$170","v":"Incertitude constatée:  "},{"$f":"F_MeasurementBasedApproaches!$E$182","v":"Normes appliquées et divergences éventuelles par rapport à ces normes"},{"$f":"F_MeasurementBasedApproaches!F192","v":"Formules de calcul utilisées pour l'agrégation de données et pour déterminer les émissions annuelles"},{"$f":"F_MeasurementBasedApproaches!F195","v":"Méthode utilisée pour déterminer s'il est possible de calculer des heures de données valides ou des périodes de référence plus courtes pour chaque paramètre (à l’aide du seuil indiqué à l’article 44, paragraphe 2), ainsi que pour la substitution des données manquantes conformément à l'article 45"},{"$f":"F_MeasurementBasedApproaches!F198","v":"Calcul du débit des effluents gazeux, le cas échéant"},{"$f":"F_MeasurementBasedApproaches!F201","v":"Détermination du CO2 issu de la biomasse ou de toute autre fraction dont le facteur d'émission est considéré comme égal à zéro, le cas échéant"},{"$f":"F_MeasurementBasedApproaches!F204","v":"Calculs de corroboration effectués, le cas échéant, conformément à l’article 46"},{"$f":"Translations!$B$1202","v":"Remarques et justification lorsque le niveau requis n’est pas appliqué:"}]
[null,{"$f":"IF(COUNTIF($CK$90:CK91,TRUE)>0,\"\",INDEX(C_InstallationDescription!$E$171:$E$188,ROWS($A$91:A91)))","v":"M1"},{"$f":"IF(INDEX(C_InstallationDescription!F:F,MATCH($B91,C_InstallationDescription!$E:$E,0))=\"\",\"\",INDEX(C_InstallationDescription!F:F,MATCH($B91,C_InstallationDescription!$E:$E,0)))","v":""},{"$f":"IF($C91=\"\",\"\",INDEX(C_InstallationDescription!K:K,MATCH($B91,C_InstallationDescription!$E:$E,0)))","v":""},null,{"$f":"IF($C91=\"\",\"\",INDEX(C_InstallationDescription!L:L,MATCH($B91,C_InstallationDescription!$E:$E,0)))","v":""},{"$f":"IF($C91=\"\",\"\",INDEX(C_InstallationDescription!M:M,MATCH($B91,C_InstallationDescription!$E:$E,0)))","v":""},{"$f":"IF($C91=\"\",\"\",INDEX(C_InstallationDescription!N:N,MATCH($B91,C_InstallationDescription!$E:$E,0)))","v":""},{"$f":"IF($C91=\"\",\"\",IF($C91=\"\",\"\",INDEX(F_MeasurementBasedApproaches!$A:$N,CM91,I$87)))","v":""},{"$f":"IF($C91=\"\",\"\",IF($C91=\"\",\"\",INDEX(F_MeasurementBasedApproaches!$A:$N,CN91,J$87)))","v":""},{"$f":"IF($C91=\"\",\"\",IF($C91=\"\",\"\",INDEX(F_MeasurementBasedApproaches!$A:$N,CO91,K$87)))","v":""},{"$f":"IF($C91=\"\",\"\",IF($C91=\"\",\"\",INDEX(F_MeasurementBasedApproaches!$A:$N,CP91,L$87)))","v":""},{"$f":"IF($C91=\"\",\"\",IF($C91=\"\",\"\",INDEX(F_MeasurementBasedApproaches!$A:$N,CQ91,M$87)))","v":""},{"$f":"IF($C91=\"\",\"\",IF($C91=\"\",\"\",INDEX(F_MeasurementBasedApproaches!$A:$N,CL91,N$87)))","v":""},{"$f":"IF($C91=\"\",\"\",IF($C91=\"\",\"\",INDEX(F_MeasurementBasedApproaches!$A:$N,CR91,N$87)))","v":""},{"$f":"IF($C91=\"\",\"\",IF($C91=\"\",\"\",INDEX(F_MeasurementBasedApproaches!$A:$N,CS91,O$87)))","v":""},{"$f":"IF($C91=\"\",\"\",IF($C91=\"\",\"\",INDEX(F_MeasurementBasedApproaches!$A:$N,CT91,P$87)))","v":""},{"$f":"IF($C91=\"\",\"\",IF($C91=\"\",\"\",INDEX(F_MeasurementBasedApproaches!$A:$N,CU91,Q$87)))","v":""},{"$f":"IF($C91=\"\",\"\",IF($C91=\"\",\"\",INDEX(F_MeasurementBasedApproaches!$A:$N,CV91,R$87)))","v":""},{"$f":"IF($C91=\"\",\"\",IF($C91=\"\",\"\",INDEX(F_MeasurementBasedApproaches!$A:$N,CW91,S$87)))","v":""},{"$f":"IF($C91=\"\",\"\",IF($C91=\"\",\"\",INDEX(F_MeasurementBasedApproaches!$A:$N,CX91,T$87)))","v":""},{"$f":"IF($C91=\"\",\"\",IF($C91=\"\",\"\",INDEX(F_MeasurementBasedApproaches!$A:$N,CY91,U$87)))","v":""},{"$f":"IF($C91=\"\",\"\",IF($C91=\"\",\"\",INDEX(F_MeasurementBasedApproaches!$A:$N,CZ91,V$87)))","v":""},{"$f":"IF($C91=\"\",\"\",IF($C91=\"\",\"\",INDEX(F_MeasurementBasedApproaches!$A:$N,DA91,W$87)))","v":""},null,null,null,null,null,null,null,null,null,null,null,null,null,null,null,null,null,null,null,null,null,null,null,null,null,null,null,null,null,null,null,null,null,null,null,null,null,null,null,null,null,null,null,null,null,null,null,null,null,null,null,null,null,null,null,null,null,null,null,null,null,null,null,{"$f":"EUconst_CNTR_SourceCategory&B91","v":"SourceCategory_M1"},{"$f":"INDEX(C_InstallationDescription!$A$171:$A$188,ROWS($CI$91:CI91))=\"ausblenden\"","v":false},137,156,156,156,156,156,164,168,169,170,185,193,196,199,202,205,213]
[null,{"$f":"IF(COUNTIF($CK$90:CK92,TRUE)>0,\"\",INDEX(C_InstallationDescription!$E$171:$E$188,ROWS($A$91:A92)))","v":"M2"},{"$f":"IF(INDEX(C_InstallationDescription!F:F,MATCH($B92,C_InstallationDescription!$E:$E,0))=\"\",\"\",INDEX(C_InstallationDescription!F:F,MATCH($B92,C_InstallationDescription!$E:$E,0)))","v":""},{"$f":"IF($C92=\"\",\"\",INDEX(C_InstallationDescription!K:K,MATCH($B92,C_InstallationDescription!$E:$E,0)))","v":""},null,{"$f":"IF($C92=\"\",\"\",INDEX(C_InstallationDescription!L:L,MATCH($B92,C_InstallationDescription!$E:$E,0)))","v":""},{"$f":"IF($C92=\"\",\"\",INDEX(C_InstallationDescription!M:M,MATCH($B92,C_InstallationDescription!$E:$E,0)))","v":""},{"$f":"IF($C92=\"\",\"\",INDEX(C_InstallationDescription!N:N,MATCH($B92,C_InstallationDescription!$E:$E,0)))","v":""},{"$f":"IF($C92=\"\",\"\",IF($C92=\"\",\"\",INDEX(F_MeasurementBasedApproaches!$A:$N,CM92,I$87)))","v":""},{"$f":"IF($C92=\"\",\"\",IF($C92=\"\",\"\",INDEX(F_MeasurementBasedApproaches!$A:$N,CN92,J$87)))","v":""},{"$f":"IF($C92=\"\",\"\",IF($C92=\"\",\"\",INDEX(F_MeasurementBasedApproaches!$A:$N,CO92,K$87)))","v":""},{"$f":"IF($C92=\"\",\"\",IF($C92=\"\",\"\",INDEX(F_MeasurementBasedApproaches!$A:$N,CP92,L$87)))","v":""},{"$f":"IF($C92=\"\",\"\",IF($C92=\"\",\"\",INDEX(F_MeasurementBasedApproaches!$A:$N,CQ92,M$87)))","v":""},{"$f":"IF($C92=\"\",\"\",IF($C92=\"\",\"\",INDEX(F_MeasurementBasedApproaches!$A:$N,CL92,H$87)))","v":""},{"$f":"IF($C92=\"\",\"\",IF($C92=\"\",\"\",INDEX(F_MeasurementBasedApproaches!$A:$N,CR92,N$87)))","v":""},{"$f":"IF($C92=\"\",\"\",IF($C92=\"\",\"\",INDEX(F_MeasurementBasedApproaches!$A:$N,CS92,O$87)))","v":""},{"$f":"IF($C92=\"\",\"\",IF($C92=\"\",\"\",INDEX(F_MeasurementBasedApproaches!$A:$N,CT92,P$87)))","v":""},{"$f":"IF($C92=\"\",\"\",IF($C92=\"\",\"\",INDEX(F_MeasurementBasedApproaches!$A:$N,CU92,Q$87)))","v":""},{"$f":"IF($C92=\"\",\"\",IF($C92=\"\",\"\",INDEX(F_MeasurementBasedApproaches!$A:$N,CV92,R$87)))","v":""},{"$f":"IF($C92=\"\",\"\",IF($C92=\"\",\"\",INDEX(F_MeasurementBasedApproaches!$A:$N,CW92,S$87)))","v":""},{"$f":"IF($C92=\"\",\"\",IF($C92=\"\",\"\",INDEX(F_MeasurementBasedApproaches!$A:$N,CX92,T$87)))","v":""},{"$f":"IF($C92=\"\",\"\",IF($C92=\"\",\"\",INDEX(F_MeasurementBasedApproaches!$A:$N,CY92,U$87)))","v":""},{"$f":"IF($C92=\"\",\"\",IF($C92=\"\",\"\",INDEX(F_MeasurementBasedApproaches!$A:$N,CZ92,V$87)))","v":""},{"$f":"IF($C92=\"\",\"\",IF($C92=\"\",\"\",INDEX(F_MeasurementBasedApproaches!$A:$N,DA92,W$87)))","v":""},null,null,null,null,null,null,null,null,null,null,null,null,null,null,null,null,null,null,null,null,null,null,null,null,null,null,null,null,null,null,null,null,null,null,null,null,null,null,null,null,null,null,null,null,null,null,null,null,null,null,null,null,null,null,null,null,null,null,null,null,null,null,null,"SourceCategory_M2",{"$f":"INDEX(C_InstallationDescription!$A$171:$A$188,ROWS($CI$91:CI92))=\"ausblenden\"","v":false},220,229,229,229,229,229,233,237,238,239,246,253,256,259,262,265,271]
[null,{"$f":"IF(COUNTIF($CK$90:CK93,TRUE)>0,\"\",INDEX(C_InstallationDescription!$E$171:$E$188,ROWS($A$91:A93)))","v":"M3"},{"$f":"IF(INDEX(C_InstallationDescription!F:F,MATCH($B93,C_InstallationDescription!$E:$E,0))=\"\",\"\",INDEX(C_InstallationDescription!F:F,MATCH($B93,C_InstallationDescription!$E:$E,0)))","v":""},{"$f":"IF($C93=\"\",\"\",INDEX(C_InstallationDescription!K:K,MATCH($B93,C_InstallationDescription!$E:$E,0)))","v":""},null,{"$f":"IF($C93=\"\",\"\",INDEX(C_InstallationDescription!L:L,MATCH($B93,C_InstallationDescription!$E:$E,0)))","v":""},{"$f":"IF($C93=\"\",\"\",INDEX(C_InstallationDescription!M:M,MATCH($B93,C_InstallationDescription!$E:$E,0)))","v":""},{"$f":"IF($C93=\"\",\"\",INDEX(C_InstallationDescription!N:N,MATCH($B93,C_InstallationDescription!$E:$E,0)))","v":""},{"$f":"IF($C93=\"\",\"\",IF($C93=\"\",\"\",INDEX(F_MeasurementBasedApproaches!$A:$N,CM93,I$87)))","v":""},{"$f":"IF($C93=\"\",\"\",IF($C93=\"\",\"\",INDEX(F_MeasurementBasedApproaches!$A:$N,CN93,J$87)))","v":""},{"$f":"IF($C93=\"\",\"\",IF($C93=\"\",\"\",INDEX(F_MeasurementBasedApproaches!$A:$N,CO93,K$87)))","v":""},{"$f":"IF($C93=\"\",\"\",IF($C93=\"\",\"\",INDEX(F_MeasurementBasedApproaches!$A:$N,CP93,L$87)))","v":""},{"$f":"IF($C93=\"\",\"\",IF($C93=\"\",\"\",INDEX(F_MeasurementBasedApproaches!$A:$N,CQ93,M$87)))","v":""},{"$f":"IF($C93=\"\",\"\",IF($C93=\"\",\"\",INDEX(F_MeasurementBasedApproaches!$A:$N,CL93,H$87)))","v":""},{"$f":"IF($C93=\"\",\"\",IF($C93=\"\",\"\",INDEX(F_MeasurementBasedApproaches!$A:$N,CR93,N$87)))","v":""},{"$f":"IF($C93=\"\",\"\",IF($C93=\"\",\"\",INDEX(F_MeasurementBasedApproaches!$A:$N,CS93,O$87)))","v":""},{"$f":"IF($C93=\"\",\"\",IF($C93=\"\",\"\",INDEX(F_MeasurementBasedApproaches!$A:$N,CT93,P$87)))","v":""},{"$f":"IF($C93=\"\",\"\",IF($C93=\"\",\"\",INDEX(F_MeasurementBasedApproaches!$A:$N,CU93,Q$87)))","v":""},{"$f":"IF($C93=\"\",\"\",IF($C93=\"\",\"\",INDEX(F_MeasurementBasedApproaches!$A:$N,CV93,R$87)))","v":""},{"$f":"IF($C93=\"\",\"\",IF($C93=\"\",\"\",INDEX(F_MeasurementBasedApproaches!$A:$N,CW93,S$87)))","v":""},{"$f":"IF($C93=\"\",\"\",IF($C93=\"\",\"\",INDEX(F_MeasurementBasedApproaches!$A:$N,CX93,T$87)))","v":""},{"$f":"IF($C93=\"\",\"\",IF($C93=\"\",\"\",INDEX(F_MeasurementBasedApproaches!$A:$N,CY93,U$87)))","v":""},{"$f":"IF($C93=\"\",\"\",IF($C93=\"\",\"\",INDEX(F_MeasurementBasedApproaches!$A:$N,CZ93,V$87)))","v":""},{"$f":"IF($C93=\"\",\"\",IF($C93=\"\",\"\",INDEX(F_MeasurementBasedApproaches!$A:$N,DA93,W$87)))","v":""},null,null,null,null,null,null,null,null,null,null,null,null,null,null,null,null,null,null,null,null,null,null,null,null,null,null,null,null,null,null,null,null,null,null,null,null,null,null,null,null,null,null,null,null,null,null,null,null,null,null,null,null,null,null,null,null,null,null,null,null,null,null,null,"SourceCategory_M3",{"$f":"INDEX(C_InstallationDescription!$A$171:$A$188,ROWS($CI$91:CI93))=\"ausblenden\"","v":false},{"$f":"CL92+58","v":278},{"$f":"CM92+58","v":287},{"$f":"CN92+58","v":287},{"$f":"CO92+58","v":287},{"$f":"CP92+58","v":287},{"$f":"CQ92+58","v":287},{"$f":"CR92+58","v":291},{"$f":"CS92+58","v":295},{"$f":"CT92+58","v":296},{"$f":"CU92+58","v":297},{"$f":"CV92+58","v":304},{"$f":"CW92+58","v":311},{"$f":"CX92+58","v":314},{"$f":"CY92+58","v":317},{"$f":"CZ92+58","v":320},{"$f":"DA92+58","v":323},{"$f":"DB92+58","v":329}]
[null,{"$f":"IF(COUNTIF($CK$90:CK94,TRUE)>0,\"\",INDEX(C_InstallationDescription!$E$171:$E$188,ROWS($A$91:A94)))","v":"M4"},{"$f":"IF(INDEX(C_InstallationDescription!F:F,MATCH($B94,C_InstallationDescription!$E:$E,0))=\"\",\"\",INDEX(C_InstallationDescription!F:F,MATCH($B94,C_InstallationDescription!$E:$E,0)))","v":""},{"$f":"IF($C94=\"\",\"\",INDEX(C_InstallationDescription!K:K,MATCH($B94,C_InstallationDescription!$E:$E,0)))","v":""},null,{"$f":"IF($C94=\"\",\"\",INDEX(C_InstallationDescription!L:L,MATCH($B94,C_InstallationDescription!$E:$E,0)))","v":""},{"$f":"IF($C94=\"\",\"\",INDEX(C_InstallationDescription!M:M,MATCH($B94,C_InstallationDescription!$E:$E,0)))","v":""},{"$f":"IF($C94=\"\",\"\",INDEX(C_InstallationDescription!N:N,MATCH($B94,C_InstallationDescription!$E:$E,0)))","v":""},{"$f":"IF($C94=\"\",\"\",IF($C94=\"\",\"\",INDEX(F_MeasurementBasedApproaches!$A:$N,CM94,I$87)))","v":""},{"$f":"IF($C94=\"\",\"\",IF($C94=\"\",\"\",INDEX(F_MeasurementBasedApproaches!$A:$N,CN94,J$87)))","v":""},{"$f":"IF($C94=\"\",\"\",IF($C94=\"\",\"\",INDEX(F_MeasurementBasedApproaches!$A:$N,CO94,K$87)))","v":""},{"$f":"IF($C94=\"\",\"\",IF($C94=\"\",\"\",INDEX(F_MeasurementBasedApproaches!$A:$N,CP94,L$87)))","v":""},{"$f":"IF($C94=\"\",\"\",IF($C94=\"\",\"\",INDEX(F_MeasurementBasedApproaches!$A:$N,CQ94,M$87)))","v":""},{"$f":"IF($C94=\"\",\"\",IF($C94=\"\",\"\",INDEX(F_MeasurementBasedApproaches!$A:$N,CL94,H$87)))","v":""},{"$f":"IF($C94=\"\",\"\",IF($C94=\"\",\"\",INDEX(F_MeasurementBasedApproaches!$A:$N,CR94,N$87)))","v":""},{"$f":"IF($C94=\"\",\"\",IF($C94=\"\",\"\",INDEX(F_MeasurementBasedApproaches!$A:$N,CS94,O$87)))","v":""},{"$f":"IF($C94=\"\",\"\",IF($C94=\"\",\"\",INDEX(F_MeasurementBasedApproaches!$A:$N,CT94,P$87)))","v":""},{"$f":"IF($C94=\"\",\"\",IF($C94=\"\",\"\",INDEX(F_MeasurementBasedApproaches!$A:$N,CU94,Q$87)))","v":""},{"$f":"IF($C94=\"\",\"\",IF($C94=\"\",\"\",INDEX(F_MeasurementBasedApproaches!$A:$N,CV94,R$87)))","v":""},{"$f":"IF($C94=\"\",\"\",IF($C94=\"\",\"\",INDEX(F_MeasurementBasedApproaches!$A:$N,CW94,S$87)))","v":""},{"$f":"IF($C94=\"\",\"\",IF($C94=\"\",\"\",INDEX(F_MeasurementBasedApproaches!$A:$N,CX94,T$87)))","v":""},{"$f":"IF($C94=\"\",\"\",IF($C94=\"\",\"\",INDEX(F_MeasurementBasedApproaches!$A:$N,CY94,U$87)))","v":""},{"$f":"IF($C94=\"\",\"\",IF($C94=\"\",\"\",INDEX(F_MeasurementBasedApproaches!$A:$N,CZ94,V$87)))","v":""},{"$f":"IF($C94=\"\",\"\",IF($C94=\"\",\"\",INDEX(F_MeasurementBasedApproaches!$A:$N,DA94,W$87)))","v":""},null,null,null,null,null,null,null,null,null,null,null,null,null,null,null,null,null,null,null,null,null,null,null,null,null,null,null,null,null,null,null,null,null,null,null,null,null,null,null,null,null,null,null,null,null,null,null,null,null,null,null,null,null,null,null,null,null,null,null,null,null,null,null,"SourceCategory_M4",{"$f":"INDEX(C_InstallationDescription!$A$171:$A$188,ROWS($CI$91:CI94))=\"ausblenden\"","v":false},{"$f":"CL93+58","v":336},345,345,345,345,345,349,353,354,355,362,369,372,375,378,381,387]
[null,{"$f":"IF(COUNTIF($CK$90:CK95,TRUE)>0,\"\",INDEX(C_InstallationDescription!$E$171:$E$188,ROWS($A$91:A95)))","v":"M5"},{"$f":"IF(INDEX(C_InstallationDescription!F:F,MATCH($B95,C_InstallationDescription!$E:$E,0))=\"\",\"\",INDEX(C_InstallationDescription!F:F,MATCH($B95,C_InstallationDescription!$E:$E,0)))","v":""},{"$f":"IF($C95=\"\",\"\",INDEX(C_InstallationDescription!K:K,MATCH($B95,C_InstallationDescription!$E:$E,0)))","v":""},null,{"$f":"IF($C95=\"\",\"\",INDEX(C_InstallationDescription!L:L,MATCH($B95,C_InstallationDescription!$E:$E,0)))","v":""},{"$f":"IF($C95=\"\",\"\",INDEX(C_InstallationDescription!M:M,MATCH($B95,C_InstallationDescription!$E:$E,0)))","v":""},{"$f":"IF($C95=\"\",\"\",INDEX(C_InstallationDescription!N:N,MATCH($B95,C_InstallationDescription!$E:$E,0)))","v":""},{"$f":"IF($C95=\"\",\"\",IF($C95=\"\",\"\",INDEX(F_MeasurementBasedApproaches!$A:$N,CM95,I$87)))","v":""},{"$f":"IF($C95=\"\",\"\",IF($C95=\"\",\"\",INDEX(F_MeasurementBasedApproaches!$A:$N,CN95,J$87)))","v":""},{"$f":"IF($C95=\"\",\"\",IF($C95=\"\",\"\",INDEX(F_MeasurementBasedApproaches!$A:$N,CO95,K$87)))","v":""},{"$f":"IF($C95=\"\",\"\",IF($C95=\"\",\"\",INDEX(F_MeasurementBasedApproaches!$A:$N,CP95,L$87)))","v":""},{"$f":"IF($C95=\"\",\"\",IF($C95=\"\",\"\",INDEX(F_MeasurementBasedApproaches!$A:$N,CQ95,M$87)))","v":""},{"$f":"IF($C95=\"\",\"\",IF($C95=\"\",\"\",INDEX(F_MeasurementBasedApproaches!$A:$N,CL95,H$87)))","v":""},{"$f":"IF($C95=\"\",\"\",IF($C95=\"\",\"\",INDEX(F_MeasurementBasedApproaches!$A:$N,CR95,N$87)))","v":""},{"$f":"IF($C95=\"\",\"\",IF($C95=\"\",\"\",INDEX(F_MeasurementBasedApproaches!$A:$N,CS95,O$87)))","v":""},{"$f":"IF($C95=\"\",\"\",IF($C95=\"\",\"\",INDEX(F_MeasurementBasedApproaches!$A:$N,CT95,P$87)))","v":""},{"$f":"IF($C95=\"\",\"\",IF($C95=\"\",\"\",INDEX(F_MeasurementBasedApproaches!$A:$N,CU95,Q$87)))","v":""},{"$f":"IF($C95=\"\",\"\",IF($C95=\"\",\"\",INDEX(F_MeasurementBasedApproaches!$A:$N,CV95,R$87)))","v":""},{"$f":"IF($C95=\"\",\"\",IF($C95=\"\",\"\",INDEX(F_MeasurementBasedApproaches!$A:$N,CW95,S$87)))","v":""},{"$f":"IF($C95=\"\",\"\",IF($C95=\"\",\"\",INDEX(F_MeasurementBasedApproaches!$A:$N,CX95,T$87)))","v":""},{"$f":"IF($C95=\"\",\"\",IF($C95=\"\",\"\",INDEX(F_MeasurementBasedApproaches!$A:$N,CY95,U$87)))","v":""},{"$f":"IF($C95=\"\",\"\",IF($C95=\"\",\"\",INDEX(F_MeasurementBasedApproaches!$A:$N,CZ95,V$87)))","v":""},{"$f":"IF($C95=\"\",\"\",IF($C95=\"\",\"\",INDEX(F_MeasurementBasedApproaches!$A:$N,DA95,W$87)))","v":""},null,null,null,null,null,null,null,null,null,null,null,null,null,null,null,null,null,null,null,null,null,null,null,null,null,null,null,null,null,null,null,null,null,null,null,null,null,null,null,null,null,null,null,null,null,null,null,null,null,null,null,null,null,null,null,null,null,null,null,null,null,null,null,"SourceCategory_M5",{"$f":"INDEX(C_InstallationDescription!$A$171:$A$188,ROWS($CI$91:CI95))=\"ausblenden\"","v":false},394,403,403,403,403,403,407,411,412,413,420,427,430,433,436,439,445]
[null,{"$f":"IF(COUNTIF($CK$90:CK96,TRUE)>0,\"\",INDEX(C_InstallationDescription!$E$171:$E$188,ROWS($A$91:A96)))","v":""},{"$f":"IF(INDEX(C_InstallationDescription!F:F,MATCH($B96,C_InstallationDescription!$E:$E,0))=\"\",\"\",INDEX(C_InstallationDescription!F:F,MATCH($B96,C_InstallationDescription!$E:$E,0)))","v":""},{"$f":"IF($C96=\"\",\"\",INDEX(C_InstallationDescription!K:K,MATCH($B96,C_InstallationDescription!$E:$E,0)))","v":""},null,{"$f":"IF($C96=\"\",\"\",INDEX(C_InstallationDescription!L:L,MATCH($B96,C_InstallationDescription!$E:$E,0)))","v":""},{"$f":"IF($C96=\"\",\"\",INDEX(C_InstallationDescription!M:M,MATCH($B96,C_InstallationDescription!$E:$E,0)))","v":""},{"$f":"IF($C96=\"\",\"\",INDEX(C_InstallationDescription!N:N,MATCH($B96,C_InstallationDescription!$E:$E,0)))","v":""},{"$f":"IF($C96=\"\",\"\",IF($C96=\"\",\"\",INDEX(F_MeasurementBasedApproaches!$A:$N,CM96,I$87)))","v":""},{"$f":"IF($C96=\"\",\"\",IF($C96=\"\",\"\",INDEX(F_MeasurementBasedApproaches!$A:$N,CN96,J$87)))","v":""},{"$f":"IF($C96=\"\",\"\",IF($C96=\"\",\"\",INDEX(F_MeasurementBasedApproaches!$A:$N,CO96,K$87)))","v":""},{"$f":"IF($C96=\"\",\"\",IF($C96=\"\",\"\",INDEX(F_MeasurementBasedApproaches!$A:$N,CP96,L$87)))","v":""},{"$f":"IF($C96=\"\",\"\",IF($C96=\"\",\"\",INDEX(F_MeasurementBasedApproaches!$A:$N,CQ96,M$87)))","v":""},{"$f":"IF($C96=\"\",\"\",IF($C96=\"\",\"\",INDEX(F_MeasurementBasedApproaches!$A:$N,CL96,H$87)))","v":""},{"$f":"IF($C96=\"\",\"\",IF($C96=\"\",\"\",INDEX(F_MeasurementBasedApproaches!$A:$N,CR96,N$87)))","v":""},{"$f":"IF($C96=\"\",\"\",IF($C96=\"\",\"\",INDEX(F_MeasurementBasedApproaches!$A:$N,CS96,O$87)))","v":""},{"$f":"IF($C96=\"\",\"\",IF($C96=\"\",\"\",INDEX(F_MeasurementBasedApproaches!$A:$N,CT96,P$87)))","v":""},{"$f":"IF($C96=\"\",\"\",IF($C96=\"\",\"\",INDEX(F_MeasurementBasedApproaches!$A:$N,CU96,Q$87)))","v":""},{"$f":"IF($C96=\"\",\"\",IF($C96=\"\",\"\",INDEX(F_MeasurementBasedApproaches!$A:$N,CV96,R$87)))","v":""},{"$f":"IF($C96=\"\",\"\",IF($C96=\"\",\"\",INDEX(F_MeasurementBasedApproaches!$A:$N,CW96,S$87)))","v":""},{"$f":"IF($C96=\"\",\"\",IF($C96=\"\",\"\",INDEX(F_MeasurementBasedApproaches!$A:$N,CX96,T$87)))","v":""},{"$f":"IF($C96=\"\",\"\",IF($C96=\"\",\"\",INDEX(F_MeasurementBasedApproaches!$A:$N,CY96,U$87)))","v":""},{"$f":"IF($C96=\"\",\"\",IF($C96=\"\",\"\",INDEX(F_MeasurementBasedApproaches!$A:$N,CZ96,V$87)))","v":""},{"$f":"IF($C96=\"\",\"\",IF($C96=\"\",\"\",INDEX(F_MeasurementBasedApproaches!$A:$N,DA96,W$87)))","v":""},null,null,null,null,null,null,null,null,null,null,null,null,null,null,null,null,null,null,null,null,null,null,null,null,null,null,null,null,null,null,null,null,null,null,null,null,null,null,null,null,null,null,null,null,null,null,null,null,null,null,null,null,null,null,null,null,null,null,null,null,null,null,null,"SourceCategory_",{"$f":"INDEX(C_InstallationDescription!$A$171:$A$188,ROWS($CI$91:CI96))=\"ausblenden\"","v":true},452,461,461,461,461,461,465,469,470,471,478,485,488,491,494,497,503]
[null,{"$f":"IF(COUNTIF($CK$90:CK97,TRUE)>0,\"\",INDEX(C_InstallationDescription!$E$171:$E$188,ROWS($A$91:A97)))","v":""},{"$f":"IF(INDEX(C_InstallationDescription!F:F,MATCH($B97,C_InstallationDescription!$E:$E,0))=\"\",\"\",INDEX(C_InstallationDescription!F:F,MATCH($B97,C_InstallationDescription!$E:$E,0)))","v":""},{"$f":"IF($C97=\"\",\"\",INDEX(C_InstallationDescription!K:K,MATCH($B97,C_InstallationDescription!$E:$E,0)))","v":""},null,{"$f":"IF($C97=\"\",\"\",INDEX(C_InstallationDescription!L:L,MATCH($B97,C_InstallationDescription!$E:$E,0)))","v":""},{"$f":"IF($C97=\"\",\"\",INDEX(C_InstallationDescription!M:M,MATCH($B97,C_InstallationDescription!$E:$E,0)))","v":""},{"$f":"IF($C97=\"\",\"\",INDEX(C_InstallationDescription!N:N,MATCH($B97,C_InstallationDescription!$E:$E,0)))","v":""},{"$f":"IF($C97=\"\",\"\",IF($C97=\"\",\"\",INDEX(F_MeasurementBasedApproaches!$A:$N,CM97,I$87)))","v":""},{"$f":"IF($C97=\"\",\"\",IF($C97=\"\",\"\",INDEX(F_MeasurementBasedApproaches!$A:$N,CN97,J$87)))","v":""},{"$f":"IF($C97=\"\",\"\",IF($C97=\"\",\"\",INDEX(F_MeasurementBasedApproaches!$A:$N,CO97,K$87)))","v":""},{"$f":"IF($C97=\"\",\"\",IF($C97=\"\",\"\",INDEX(F_MeasurementBasedApproaches!$A:$N,CP97,L$87)))","v":""},{"$f":"IF($C97=\"\",\"\",IF($C97=\"\",\"\",INDEX(F_MeasurementBasedApproaches!$A:$N,CQ97,M$87)))","v":""},{"$f":"IF($C97=\"\",\"\",IF($C97=\"\",\"\",INDEX(F_MeasurementBasedApproaches!$A:$N,CL97,H$87)))","v":""},{"$f":"IF($C97=\"\",\"\",IF($C97=\"\",\"\",INDEX(F_MeasurementBasedApproaches!$A:$N,CR97,N$87)))","v":""},{"$f":"IF($C97=\"\",\"\",IF($C97=\"\",\"\",INDEX(F_MeasurementBasedApproaches!$A:$N,CS97,O$87)))","v":""},{"$f":"IF($C97=\"\",\"\",IF($C97=\"\",\"\",INDEX(F_MeasurementBasedApproaches!$A:$N,CT97,P$87)))","v":""},{"$f":"IF($C97=\"\",\"\",IF($C97=\"\",\"\",INDEX(F_MeasurementBasedApproaches!$A:$N,CU97,Q$87)))","v":""},{"$f":"IF($C97=\"\",\"\",IF($C97=\"\",\"\",INDEX(F_MeasurementBasedApproaches!$A:$N,CV97,R$87)))","v":""},{"$f":"IF($C97=\"\",\"\",IF($C97=\"\",\"\",INDEX(F_MeasurementBasedApproaches!$A:$N,CW97,S$87)))","v":""},{"$f":"IF($C97=\"\",\"\",IF($C97=\"\",\"\",INDEX(F_MeasurementBasedApproaches!$A:$N,CX97,T$87)))","v":""},{"$f":"IF($C97=\"\",\"\",IF($C97=\"\",\"\",INDEX(F_MeasurementBasedApproaches!$A:$N,CY97,U$87)))","v":""},{"$f":"IF($C97=\"\",\"\",IF($C97=\"\",\"\",INDEX(F_MeasurementBasedApproaches!$A:$N,CZ97,V$87)))","v":""},{"$f":"IF($C97=\"\",\"\",IF($C97=\"\",\"\",INDEX(F_MeasurementBasedApproaches!$A:$N,DA97,W$87)))","v":""},null,null,null,null,null,null,null,null,null,null,null,null,null,null,null,null,null,null,null,null,null,null,null,null,null,null,null,null,null,null,null,null,null,null,null,null,null,null,null,null,null,null,null,null,null,null,null,null,null,null,null,null,null,null,null,null,null,null,null,null,null,null,null,"SourceCategory_",{"$f":"INDEX(C_InstallationDescription!$A$171:$A$188,ROWS($CI$91:CI97))=\"ausblenden\"","v":false},510,519,519,519,519,519,523,527,528,529,536,543,546,549,552,555,561]
[null,{"$f":"IF(COUNTIF($CK$90:CK98,TRUE)>0,\"\",INDEX(C_InstallationDescription!$E$171:$E$188,ROWS($A$91:A98)))","v":""},{"$f":"IF(INDEX(C_InstallationDescription!F:F,MATCH($B98,C_InstallationDescription!$E:$E,0))=\"\",\"\",INDEX(C_InstallationDescription!F:F,MATCH($B98,C_InstallationDescription!$E:$E,0)))","v":""},{"$f":"IF($C98=\"\",\"\",INDEX(C_InstallationDescription!K:K,MATCH($B98,C_InstallationDescription!$E:$E,0)))","v":""},null,{"$f":"IF($C98=\"\",\"\",INDEX(C_InstallationDescription!L:L,MATCH($B98,C_InstallationDescription!$E:$E,0)))","v":""},{"$f":"IF($C98=\"\",\"\",INDEX(C_InstallationDescription!M:M,MATCH($B98,C_InstallationDescription!$E:$E,0)))","v":""},{"$f":"IF($C98=\"\",\"\",INDEX(C_InstallationDescription!N:N,MATCH($B98,C_InstallationDescription!$E:$E,0)))","v":""},{"$f":"IF($C98=\"\",\"\",IF($C98=\"\",\"\",INDEX(F_MeasurementBasedApproaches!$A:$N,CM98,I$87)))","v":""},{"$f":"IF($C98=\"\",\"\",IF($C98=\"\",\"\",INDEX(F_MeasurementBasedApproaches!$A:$N,CN98,J$87)))","v":""},{"$f":"IF($C98=\"\",\"\",IF($C98=\"\",\"\",INDEX(F_MeasurementBasedApproaches!$A:$N,CO98,K$87)))","v":""},{"$f":"IF($C98=\"\",\"\",IF($C98=\"\",\"\",INDEX(F_MeasurementBasedApproaches!$A:$N,CP98,L$87)))","v":""},{"$f":"IF($C98=\"\",\"\",IF($C98=\"\",\"\",INDEX(F_MeasurementBasedApproaches!$A:$N,CQ98,M$87)))","v":""},{"$f":"IF($C98=\"\",\"\",IF($C98=\"\",\"\",INDEX(F_MeasurementBasedApproaches!$A:$N,CL98,H$87)))","v":""},{"$f":"IF($C98=\"\",\"\",IF($C98=\"\",\"\",INDEX(F_MeasurementBasedApproaches!$A:$N,CR98,N$87)))","v":""},{"$f":"IF($C98=\"\",\"\",IF($C98=\"\",\"\",INDEX(F_MeasurementBasedApproaches!$A:$N,CS98,O$87)))","v":""},{"$f":"IF($C98=\"\",\"\",IF($C98=\"\",\"\",INDEX(F_MeasurementBasedApproaches!$A:$N,CT98,P$87)))","v":""},{"$f":"IF($C98=\"\",\"\",IF($C98=\"\",\"\",INDEX(F_MeasurementBasedApproaches!$A:$N,CU98,Q$87)))","v":""},{"$f":"IF($C98=\"\",\"\",IF($C98=\"\",\"\",INDEX(F_MeasurementBasedApproaches!$A:$N,CV98,R$87)))","v":""},{"$f":"IF($C98=\"\",\"\",IF($C98=\"\",\"\",INDEX(F_MeasurementBasedApproaches!$A:$N,CW98,S$87)))","v":""},{"$f":"IF($C98=\"\",\"\",IF($C98=\"\",\"\",INDEX(F_MeasurementBasedApproaches!$A:$N,CX98,T$87)))","v":""},{"$f":"IF($C98=\"\",\"\",IF($C98=\"\",\"\",INDEX(F_MeasurementBasedApproaches!$A:$N,CY98,U$87)))","v":""},{"$f":"IF($C98=\"\",\"\",IF($C98=\"\",\"\",INDEX(F_MeasurementBasedApproaches!$A:$N,CZ98,V$87)))","v":""},{"$f":"IF($C98=\"\",\"\",IF($C98=\"\",\"\",INDEX(F_MeasurementBasedApproaches!$A:$N,DA98,W$87)))","v":""},null,null,null,null,null,null,null,null,null,null,null,null,null,null,null,null,null,null,null,null,null,null,null,null,null,null,null,null,null,null,null,null,null,null,null,null,null,null,null,null,null,null,null,null,null,null,null,null,null,null,null,null,null,null,null,null,null,null,null,null,null,null,null,"SourceCategory_",{"$f":"INDEX(C_InstallationDescription!$A$171:$A$188,ROWS($CI$91:CI98))=\"ausblenden\"","v":false},568,577,577,577,577,577,581,585,586,587,594,601,604,607,610,613,619]
[null,{"$f":"IF(COUNTIF($CK$90:CK99,TRUE)>0,\"\",INDEX(C_InstallationDescription!$E$171:$E$188,ROWS($A$91:A99)))","v":""},{"$f":"IF(INDEX(C_InstallationDescription!F:F,MATCH($B99,C_InstallationDescription!$E:$E,0))=\"\",\"\",INDEX(C_InstallationDescription!F:F,MATCH($B99,C_InstallationDescription!$E:$E,0)))","v":""},{"$f":"IF($C99=\"\",\"\",INDEX(C_InstallationDescription!K:K,MATCH($B99,C_InstallationDescription!$E:$E,0)))","v":""},null,{"$f":"IF($C99=\"\",\"\",INDEX(C_InstallationDescription!L:L,MATCH($B99,C_InstallationDescription!$E:$E,0)))","v":""},{"$f":"IF($C99=\"\",\"\",INDEX(C_InstallationDescription!M:M,MATCH($B99,C_InstallationDescription!$E:$E,0)))","v":""},{"$f":"IF($C99=\"\",\"\",INDEX(C_InstallationDescription!N:N,MATCH($B99,C_InstallationDescription!$E:$E,0)))","v":""},{"$f":"IF($C99=\"\",\"\",IF($C99=\"\",\"\",INDEX(F_MeasurementBasedApproaches!$A:$N,CM99,I$87)))","v":""},{"$f":"IF($C99=\"\",\"\",IF($C99=\"\",\"\",INDEX(F_MeasurementBasedApproaches!$A:$N,CN99,J$87)))","v":""},{"$f":"IF($C99=\"\",\"\",IF($C99=\"\",\"\",INDEX(F_MeasurementBasedApproaches!$A:$N,CO99,K$87)))","v":""},{"$f":"IF($C99=\"\",\"\",IF($C99=\"\",\"\",INDEX(F_MeasurementBasedApproaches!$A:$N,CP99,L$87)))","v":""},{"$f":"IF($C99=\"\",\"\",IF($C99=\"\",\"\",INDEX(F_MeasurementBasedApproaches!$A:$N,CQ99,M$87)))","v":""},{"$f":"IF($C99=\"\",\"\",IF($C99=\"\",\"\",INDEX(F_MeasurementBasedApproaches!$A:$N,CL99,H$87)))","v":""},{"$f":"IF($C99=\"\",\"\",IF($C99=\"\",\"\",INDEX(F_MeasurementBasedApproaches!$A:$N,CR99,N$87)))","v":""},{"$f":"IF($C99=\"\",\"\",IF($C99=\"\",\"\",INDEX(F_MeasurementBasedApproaches!$A:$N,CS99,O$87)))","v":""},{"$f":"IF($C99=\"\",\"\",IF($C99=\"\",\"\",INDEX(F_MeasurementBasedApproaches!$A:$N,CT99,P$87)))","v":""},{"$f":"IF($C99=\"\",\"\",IF($C99=\"\",\"\",INDEX(F_MeasurementBasedApproaches!$A:$N,CU99,Q$87)))","v":""},{"$f":"IF($C99=\"\",\"\",IF($C99=\"\",\"\",INDEX(F_MeasurementBasedApproaches!$A:$N,CV99,R$87)))","v":""},{"$f":"IF($C99=\"\",\"\",IF($C99=\"\",\"\",INDEX(F_MeasurementBasedApproaches!$A:$N,CW99,S$87)))","v":""},{"$f":"IF($C99=\"\",\"\",IF($C99=\"\",\"\",INDEX(F_MeasurementBasedApproaches!$A:$N,CX99,T$87)))","v":""},{"$f":"IF($C99=\"\",\"\",IF($C99=\"\",\"\",INDEX(F_MeasurementBasedApproaches!$A:$N,CY99,U$87)))","v":""},{"$f":"IF($C99=\"\",\"\",IF($C99=\"\",\"\",INDEX(F_MeasurementBasedApproaches!$A:$N,CZ99,V$87)))","v":""},{"$f":"IF($C99=\"\",\"\",IF($C99=\"\",\"\",INDEX(F_MeasurementBasedApproaches!$A:$N,DA99,W$87)))","v":""},null,null,null,null,null,null,null,null,null,null,null,null,null,null,null,null,null,null,null,null,null,null,null,null,null,null,null,null,null,null,null,null,null,null,null,null,null,null,null,null,null,null,null,null,null,null,null,null,null,null,null,null,null,null,null,null,null,null,null,null,null,null,null,"SourceCategory_",{"$f":"INDEX(C_InstallationDescription!$A$171:$A$188,ROWS($CI$91:CI99))=\"ausblenden\"","v":false},626,635,635,635,635,635,639,643,644,645,652,659,662,665,668,671,677]
[null,{"$f":"IF(COUNTIF($CK$90:CK100,TRUE)>0,\"\",INDEX(C_InstallationDescription!$E$171:$E$188,ROWS($A$91:A100)))","v":""},{"$f":"IF(INDEX(C_InstallationDescription!F:F,MATCH($B100,C_InstallationDescription!$E:$E,0))=\"\",\"\",INDEX(C_InstallationDescription!F:F,MATCH($B100,C_InstallationDescription!$E:$E,0)))","v":""},{"$f":"IF($C100=\"\",\"\",INDEX(C_InstallationDescription!K:K,MATCH($B100,C_InstallationDescription!$E:$E,0)))","v":""},null,{"$f":"IF($C100=\"\",\"\",INDEX(C_InstallationDescription!L:L,MATCH($B100,C_InstallationDescription!$E:$E,0)))","v":""},{"$f":"IF($C100=\"\",\"\",INDEX(C_InstallationDescription!M:M,MATCH($B100,C_InstallationDescription!$E:$E,0)))","v":""},{"$f":"IF($C100=\"\",\"\",INDEX(C_InstallationDescription!N:N,MATCH($B100,C_InstallationDescription!$E:$E,0)))","v":""},{"$f":"IF($C100=\"\",\"\",IF($C100=\"\",\"\",INDEX(F_MeasurementBasedApproaches!$A:$N,CM100,I$87)))","v":""},{"$f":"IF($C100=\"\",\"\",IF($C100=\"\",\"\",INDEX(F_MeasurementBasedApproaches!$A:$N,CN100,J$87)))","v":""},{"$f":"IF($C100=\"\",\"\",IF($C100=\"\",\"\",INDEX(F_MeasurementBasedApproaches!$A:$N,CO100,K$87)))","v":""},{"$f":"IF($C100=\"\",\"\",IF($C100=\"\",\"\",INDEX(F_MeasurementBasedApproaches!$A:$N,CP100,L$87)))","v":""},{"$f":"IF($C100=\"\",\"\",IF($C100=\"\",\"\",INDEX(F_MeasurementBasedApproaches!$A:$N,CQ100,M$87)))","v":""},{"$f":"IF($C100=\"\",\"\",IF($C100=\"\",\"\",INDEX(F_MeasurementBasedApproaches!$A:$N,CL100,H$87)))","v":""},{"$f":"IF($C100=\"\",\"\",IF($C100=\"\",\"\",INDEX(F_MeasurementBasedApproaches!$A:$N,CR100,N$87)))","v":""},{"$f":"IF($C100=\"\",\"\",IF($C100=\"\",\"\",INDEX(F_MeasurementBasedApproaches!$A:$N,CS100,O$87)))","v":""},{"$f":"IF($C100=\"\",\"\",IF($C100=\"\",\"\",INDEX(F_MeasurementBasedApproaches!$A:$N,CT100,P$87)))","v":""},{"$f":"IF($C100=\"\",\"\",IF($C100=\"\",\"\",INDEX(F_MeasurementBasedApproaches!$A:$N,CU100,Q$87)))","v":""},{"$f":"IF($C100=\"\",\"\",IF($C100=\"\",\"\",INDEX(F_MeasurementBasedApproaches!$A:$N,CV100,R$87)))","v":""},{"$f":"IF($C100=\"\",\"\",IF($C100=\"\",\"\",INDEX(F_MeasurementBasedApproaches!$A:$N,CW100,S$87)))","v":""},{"$f":"IF($C100=\"\",\"\",IF($C100=\"\",\"\",INDEX(F_MeasurementBasedApproaches!$A:$N,CX100,T$87)))","v":""},{"$f":"IF($C100=\"\",\"\",IF($C100=\"\",\"\",INDEX(F_MeasurementBasedApproaches!$A:$N,CY100,U$87)))","v":""},{"$f":"IF($C100=\"\",\"\",IF($C100=\"\",\"\",INDEX(F_MeasurementBasedApproaches!$A:$N,CZ100,V$87)))","v":""},{"$f":"IF($C100=\"\",\"\",IF($C100=\"\",\"\",INDEX(F_MeasurementBasedApproaches!$A:$N,DA100,W$87)))","v":""},null,null,null,null,null,null,null,null,null,null,null,null,null,null,null,null,null,null,null,null,null,null,null,null,null,null,null,null,null,null,null,null,null,null,null,null,null,null,null,null,null,null,null,null,null,null,null,null,null,null,null,null,null,null,null,null,null,null,null,null,null,null,null,"SourceCategory_",{"$f":"INDEX(C_InstallationDescription!$A$171:$A$188,ROWS($CI$91:CI100))=\"ausblenden\"","v":false},684,693,693,693,693,693,697,701,702,703,710,717,720,723,726,729,735]
[null,{"$f":"IF(COUNTIF($CK$90:CK101,TRUE)>0,\"\",INDEX(C_InstallationDescription!$E$171:$E$188,ROWS($A$91:A101)))","v":""},{"$f":"IF(INDEX(C_InstallationDescription!F:F,MATCH($B101,C_InstallationDescription!$E:$E,0))=\"\",\"\",INDEX(C_InstallationDescription!F:F,MATCH($B101,C_InstallationDescription!$E:$E,0)))","v":""},{"$f":"IF($C101=\"\",\"\",INDEX(C_InstallationDescription!K:K,MATCH($B101,C_InstallationDescription!$E:$E,0)))","v":""},null,{"$f":"IF($C101=\"\",\"\",INDEX(C_InstallationDescription!L:L,MATCH($B101,C_InstallationDescription!$E:$E,0)))","v":""},{"$f":"IF($C101=\"\",\"\",INDEX(C_InstallationDescription!M:M,MATCH($B101,C_InstallationDescription!$E:$E,0)))","v":""},{"$f":"IF($C101=\"\",\"\",INDEX(C_InstallationDescription!N:N,MATCH($B101,C_InstallationDescription!$E:$E,0)))","v":""},{"$f":"IF($C101=\"\",\"\",IF($C101=\"\",\"\",INDEX(F_MeasurementBasedApproaches!$A:$N,CM101,I$87)))","v":""},{"$f":"IF($C101=\"\",\"\",IF($C101=\"\",\"\",INDEX(F_MeasurementBasedApproaches!$A:$N,CN101,J$87)))","v":""},{"$f":"IF($C101=\"\",\"\",IF($C101=\"\",\"\",INDEX(F_MeasurementBasedApproaches!$A:$N,CO101,K$87)))","v":""},{"$f":"IF($C101=\"\",\"\",IF($C101=\"\",\"\",INDEX(F_MeasurementBasedApproaches!$A:$N,CP101,L$87)))","v":""},{"$f":"IF($C101=\"\",\"\",IF($C101=\"\",\"\",INDEX(F_MeasurementBasedApproaches!$A:$N,CQ101,M$87)))","v":""},{"$f":"IF($C101=\"\",\"\",IF($C101=\"\",\"\",INDEX(F_MeasurementBasedApproaches!$A:$N,CL101,H$87)))","v":""},{"$f":"IF($C101=\"\",\"\",IF($C101=\"\",\"\",INDEX(F_MeasurementBasedApproaches!$A:$N,CR101,N$87)))","v":""},{"$f":"IF($C101=\"\",\"\",IF($C101=\"\",\"\",INDEX(F_MeasurementBasedApproaches!$A:$N,CS101,O$87)))","v":""},{"$f":"IF($C101=\"\",\"\",IF($C101=\"\",\"\",INDEX(F_MeasurementBasedApproaches!$A:$N,CT101,P$87)))","v":""},{"$f":"IF($C101=\"\",\"\",IF($C101=\"\",\"\",INDEX(F_MeasurementBasedApproaches!$A:$N,CU101,Q$87)))","v":""},{"$f":"IF($C101=\"\",\"\",IF($C101=\"\",\"\",INDEX(F_MeasurementBasedApproaches!$A:$N,CV101,R$87)))","v":""},{"$f":"IF($C101=\"\",\"\",IF($C101=\"\",\"\",INDEX(F_MeasurementBasedApproaches!$A:$N,CW101,S$87)))","v":""},{"$f":"IF($C101=\"\",\"\",IF($C101=\"\",\"\",INDEX(F_MeasurementBasedApproaches!$A:$N,CX101,T$87)))","v":""},{"$f":"IF($C101=\"\",\"\",IF($C101=\"\",\"\",INDEX(F_MeasurementBasedApproaches!$A:$N,CY101,U$87)))","v":""},{"$f":"IF($C101=\"\",\"\",IF($C101=\"\",\"\",INDEX(F_MeasurementBasedApproaches!$A:$N,CZ101,V$87)))","v":""},{"$f":"IF($C101=\"\",\"\",IF($C101=\"\",\"\",INDEX(F_MeasurementBasedApproaches!$A:$N,DA101,W$87)))","v":""},null,null,null,null,null,null,null,null,null,null,null,null,null,null,null,null,null,null,null,null,null,null,null,null,null,null,null,null,null,null,null,null,null,null,null,null,null,null,null,null,null,null,null,null,null,null,null,null,null,null,null,null,null,null,null,null,null,null,null,null,null,null,null,"SourceCategory_",{"$f":"INDEX(C_InstallationDescription!$A$171:$A$188,ROWS($CI$91:CI101))=\"ausblenden\"","v":false},742,751,751,751,751,751,755,759,760,761,768,775,778,781,784,787,793]
[null,{"$f":"IF(COUNTIF($CK$90:CK102,TRUE)>0,\"\",INDEX(C_InstallationDescription!$E$171:$E$188,ROWS($A$91:A102)))","v":""},{"$f":"IF(INDEX(C_InstallationDescription!F:F,MATCH($B102,C_InstallationDescription!$E:$E,0))=\"\",\"\",INDEX(C_InstallationDescription!F:F,MATCH($B102,C_InstallationDescription!$E:$E,0)))","v":""},{"$f":"IF($C102=\"\",\"\",INDEX(C_InstallationDescription!K:K,MATCH($B102,C_InstallationDescription!$E:$E,0)))","v":""},null,{"$f":"IF($C102=\"\",\"\",INDEX(C_InstallationDescription!L:L,MATCH($B102,C_InstallationDescription!$E:$E,0)))","v":""},{"$f":"IF($C102=\"\",\"\",INDEX(C_InstallationDescription!M:M,MATCH($B102,C_InstallationDescription!$E:$E,0)))","v":""},{"$f":"IF($C102=\"\",\"\",INDEX(C_InstallationDescription!N:N,MATCH($B102,C_InstallationDescription!$E:$E,0)))","v":""},{"$f":"IF($C102=\"\",\"\",IF($C102=\"\",\"\",INDEX(F_MeasurementBasedApproaches!$A:$N,CM102,I$87)))","v":""},{"$f":"IF($C102=\"\",\"\",IF($C102=\"\",\"\",INDEX(F_MeasurementBasedApproaches!$A:$N,CN102,J$87)))","v":""},{"$f":"IF($C102=\"\",\"\",IF($C102=\"\",\"\",INDEX(F_MeasurementBasedApproaches!$A:$N,CO102,K$87)))","v":""},{"$f":"IF($C102=\"\",\"\",IF($C102=\"\",\"\",INDEX(F_MeasurementBasedApproaches!$A:$N,CP102,L$87)))","v":""},{"$f":"IF($C102=\"\",\"\",IF($C102=\"\",\"\",INDEX(F_MeasurementBasedApproaches!$A:$N,CQ102,M$87)))","v":""},{"$f":"IF($C102=\"\",\"\",IF($C102=\"\",\"\",INDEX(F_MeasurementBasedApproaches!$A:$N,CL102,H$87)))","v":""},{"$f":"IF($C102=\"\",\"\",IF($C102=\"\",\"\",INDEX(F_MeasurementBasedApproaches!$A:$N,CR102,N$87)))","v":""},{"$f":"IF($C102=\"\",\"\",IF($C102=\"\",\"\",INDEX(F_MeasurementBasedApproaches!$A:$N,CS102,O$87)))","v":""},{"$f":"IF($C102=\"\",\"\",IF($C102=\"\",\"\",INDEX(F_MeasurementBasedApproaches!$A:$N,CT102,P$87)))","v":""},{"$f":"IF($C102=\"\",\"\",IF($C102=\"\",\"\",INDEX(F_MeasurementBasedApproaches!$A:$N,CU102,Q$87)))","v":""},{"$f":"IF($C102=\"\",\"\",IF($C102=\"\",\"\",INDEX(F_MeasurementBasedApproaches!$A:$N,CV102,R$87)))","v":""},{"$f":"IF($C102=\"\",\"\",IF($C102=\"\",\"\",INDEX(F_MeasurementBasedApproaches!$A:$N,CW102,S$87)))","v":""},{"$f":"IF($C102=\"\",\"\",IF($C102=\"\",\"\",INDEX(F_MeasurementBasedApproaches!$A:$N,CX102,T$87)))","v":""},{"$f":"IF($C102=\"\",\"\",IF($C102=\"\",\"\",INDEX(F_MeasurementBasedApproaches!$A:$N,CY102,U$87)))","v":""},{"$f":"IF($C102=\"\",\"\",IF($C102=\"\",\"\",INDEX(F_MeasurementBasedApproaches!$A:$N,CZ102,V$87)))","v":""},{"$f":"IF($C102=\"\",\"\",IF($C102=\"\",\"\",INDEX(F_MeasurementBasedApproaches!$A:$N,DA102,W$87)))","v":""},null,null,null,null,null,null,null,null,null,null,null,null,null,null,null,null,null,null,null,null,null,null,null,null,null,null,null,null,null,null,null,null,null,null,null,null,null,null,null,null,null,null,null,null,null,null,null,null,null,null,null,null,null,null,null,null,null,null,null,null,null,null,null,"SourceCategory_",{"$f":"INDEX(C_InstallationDescription!$A$171:$A$188,ROWS($CI$91:CI102))=\"ausblenden\"","v":false},800,809,809,809,809,809,813,817,818,819,826,833,836,839,842,845,851]
[null,{"$f":"IF(COUNTIF($CK$90:CK103,TRUE)>0,\"\",INDEX(C_InstallationDescription!$E$171:$E$188,ROWS($A$91:A103)))","v":""},{"$f":"IF(INDEX(C_InstallationDescription!F:F,MATCH($B103,C_InstallationDescription!$E:$E,0))=\"\",\"\",INDEX(C_InstallationDescription!F:F,MATCH($B103,C_InstallationDescription!$E:$E,0)))","v":""},{"$f":"IF($C103=\"\",\"\",INDEX(C_InstallationDescription!K:K,MATCH($B103,C_InstallationDescription!$E:$E,0)))","v":""},null,{"$f":"IF($C103=\"\",\"\",INDEX(C_InstallationDescription!L:L,MATCH($B103,C_InstallationDescription!$E:$E,0)))","v":""},{"$f":"IF($C103=\"\",\"\",INDEX(C_InstallationDescription!M:M,MATCH($B103,C_InstallationDescription!$E:$E,0)))","v":""},{"$f":"IF($C103=\"\",\"\",INDEX(C_InstallationDescription!N:N,MATCH($B103,C_InstallationDescription!$E:$E,0)))","v":""},{"$f":"IF($C103=\"\",\"\",IF($C103=\"\",\"\",INDEX(F_MeasurementBasedApproaches!$A:$N,CM103,I$87)))","v":""},{"$f":"IF($C103=\"\",\"\",IF($C103=\"\",\"\",INDEX(F_MeasurementBasedApproaches!$A:$N,CN103,J$87)))","v":""},{"$f":"IF($C103=\"\",\"\",IF($C103=\"\",\"\",INDEX(F_MeasurementBasedApproaches!$A:$N,CO103,K$87)))","v":""},{"$f":"IF($C103=\"\",\"\",IF($C103=\"\",\"\",INDEX(F_MeasurementBasedApproaches!$A:$N,CP103,L$87)))","v":""},{"$f":"IF($C103=\"\",\"\",IF($C103=\"\",\"\",INDEX(F_MeasurementBasedApproaches!$A:$N,CQ103,M$87)))","v":""},{"$f":"IF($C103=\"\",\"\",IF($C103=\"\",\"\",INDEX(F_MeasurementBasedApproaches!$A:$N,CL103,H$87)))","v":""},{"$f":"IF($C103=\"\",\"\",IF($C103=\"\",\"\",INDEX(F_MeasurementBasedApproaches!$A:$N,CR103,N$87)))","v":""},{"$f":"IF($C103=\"\",\"\",IF($C103=\"\",\"\",INDEX(F_MeasurementBasedApproaches!$A:$N,CS103,O$87)))","v":""},{"$f":"IF($C103=\"\",\"\",IF($C103=\"\",\"\",INDEX(F_MeasurementBasedApproaches!$A:$N,CT103,P$87)))","v":""},{"$f":"IF($C103=\"\",\"\",IF($C103=\"\",\"\",INDEX(F_MeasurementBasedApproaches!$A:$N,CU103,Q$87)))","v":""},{"$f":"IF($C103=\"\",\"\",IF($C103=\"\",\"\",INDEX(F_MeasurementBasedApproaches!$A:$N,CV103,R$87)))","v":""},{"$f":"IF($C103=\"\",\"\",IF($C103=\"\",\"\",INDEX(F_MeasurementBasedApproaches!$A:$N,CW103,S$87)))","v":""},{"$f":"IF($C103=\"\",\"\",IF($C103=\"\",\"\",INDEX(F_MeasurementBasedApproaches!$A:$N,CX103,T$87)))","v":""},{"$f":"IF($C103=\"\",\"\",IF($C103=\"\",\"\",INDEX(F_MeasurementBasedApproaches!$A:$N,CY103,U$87)))","v":""},{"$f":"IF($C103=\"\",\"\",IF($C103=\"\",\"\",INDEX(F_MeasurementBasedApproaches!$A:$N,CZ103,V$87)))","v":""},{"$f":"IF($C103=\"\",\"\",IF($C103=\"\",\"\",INDEX(F_MeasurementBasedApproaches!$A:$N,DA103,W$87)))","v":""},null,null,null,null,null,null,null,null,null,null,null,null,null,null,null,null,null,null,null,null,null,null,null,null,null,null,null,null,null,null,null,null,null,null,null,null,null,null,null,null,null,null,null,null,null,null,null,null,null,null,null,null,null,null,null,null,null,null,null,null,null,null,null,"SourceCategory_",{"$f":"INDEX(C_InstallationDescription!$A$171:$A$188,ROWS($CI$91:CI103))=\"ausblenden\"","v":false},858,867,867,867,867,867,871,875,876,877,884,891,894,897,900,903,909]
[null,{"$f":"IF(COUNTIF($CK$90:CK104,TRUE)>0,\"\",INDEX(C_InstallationDescription!$E$171:$E$188,ROWS($A$91:A104)))","v":""},{"$f":"IF(INDEX(C_InstallationDescription!F:F,MATCH($B104,C_InstallationDescription!$E:$E,0))=\"\",\"\",INDEX(C_InstallationDescription!F:F,MATCH($B104,C_InstallationDescription!$E:$E,0)))","v":""},{"$f":"IF($C104=\"\",\"\",INDEX(C_InstallationDescription!K:K,MATCH($B104,C_InstallationDescription!$E:$E,0)))","v":""},null,{"$f":"IF($C104=\"\",\"\",INDEX(C_InstallationDescription!L:L,MATCH($B104,C_InstallationDescription!$E:$E,0)))","v":""},{"$f":"IF($C104=\"\",\"\",INDEX(C_InstallationDescription!M:M,MATCH($B104,C_InstallationDescription!$E:$E,0)))","v":""},{"$f":"IF($C104=\"\",\"\",INDEX(C_InstallationDescription!N:N,MATCH($B104,C_InstallationDescription!$E:$E,0)))","v":""},{"$f":"IF($C104=\"\",\"\",IF($C104=\"\",\"\",INDEX(F_MeasurementBasedApproaches!$A:$N,CM104,I$87)))","v":""},{"$f":"IF($C104=\"\",\"\",IF($C104=\"\",\"\",INDEX(F_MeasurementBasedApproaches!$A:$N,CN104,J$87)))","v":""},{"$f":"IF($C104=\"\",\"\",IF($C104=\"\",\"\",INDEX(F_MeasurementBasedApproaches!$A:$N,CO104,K$87)))","v":""},{"$f":"IF($C104=\"\",\"\",IF($C104=\"\",\"\",INDEX(F_MeasurementBasedApproaches!$A:$N,CP104,L$87)))","v":""},{"$f":"IF($C104=\"\",\"\",IF($C104=\"\",\"\",INDEX(F_MeasurementBasedApproaches!$A:$N,CQ104,M$87)))","v":""},{"$f":"IF($C104=\"\",\"\",IF($C104=\"\",\"\",INDEX(F_MeasurementBasedApproaches!$A:$N,CL104,H$87)))","v":""},{"$f":"IF($C104=\"\",\"\",IF($C104=\"\",\"\",INDEX(F_MeasurementBasedApproaches!$A:$N,CR104,N$87)))","v":""},{"$f":"IF($C104=\"\",\"\",IF($C104=\"\",\"\",INDEX(F_MeasurementBasedApproaches!$A:$N,CS104,O$87)))","v":""},{"$f":"IF($C104=\"\",\"\",IF($C104=\"\",\"\",INDEX(F_MeasurementBasedApproaches!$A:$N,CT104,P$87)))","v":""},{"$f":"IF($C104=\"\",\"\",IF($C104=\"\",\"\",INDEX(F_MeasurementBasedApproaches!$A:$N,CU104,Q$87)))","v":""},{"$f":"IF($C104=\"\",\"\",IF($C104=\"\",\"\",INDEX(F_MeasurementBasedApproaches!$A:$N,CV104,R$87)))","v":""},{"$f":"IF($C104=\"\",\"\",IF($C104=\"\",\"\",INDEX(F_MeasurementBasedApproaches!$A:$N,CW104,S$87)))","v":""},{"$f":"IF($C104=\"\",\"\",IF($C104=\"\",\"\",INDEX(F_MeasurementBasedApproaches!$A:$N,CX104,T$87)))","v":""},{"$f":"IF($C104=\"\",\"\",IF($C104=\"\",\"\",INDEX(F_MeasurementBasedApproaches!$A:$N,CY104,U$87)))","v":""},{"$f":"IF($C104=\"\",\"\",IF($C104=\"\",\"\",INDEX(F_MeasurementBasedApproaches!$A:$N,CZ104,V$87)))","v":""},{"$f":"IF($C104=\"\",\"\",IF($C104=\"\",\"\",INDEX(F_MeasurementBasedApproaches!$A:$N,DA104,W$87)))","v":""},null,null,null,null,null,null,null,null,null,null,null,null,null,null,null,null,null,null,null,null,null,null,null,null,null,null,null,null,null,null,null,null,null,null,null,null,null,null,null,null,null,null,null,null,null,null,null,null,null,null,null,null,null,null,null,null,null,null,null,null,null,null,null,"SourceCategory_",{"$f":"INDEX(C_InstallationDescription!$A$171:$A$188,ROWS($CI$91:CI104))=\"ausblenden\"","v":false},916,925,925,925,925,925,929,933,934,935,942,949,952,955,958,961,967]
[null,{"$f":"IF(COUNTIF($CK$90:CK105,TRUE)>0,\"\",INDEX(C_InstallationDescription!$E$171:$E$188,ROWS($A$91:A105)))","v":""},{"$f":"IF(INDEX(C_InstallationDescription!F:F,MATCH($B105,C_InstallationDescription!$E:$E,0))=\"\",\"\",INDEX(C_InstallationDescription!F:F,MATCH($B105,C_InstallationDescription!$E:$E,0)))","v":""},{"$f":"IF($C105=\"\",\"\",INDEX(C_InstallationDescription!K:K,MATCH($B105,C_InstallationDescription!$E:$E,0)))","v":""},null,{"$f":"IF($C105=\"\",\"\",INDEX(C_InstallationDescription!L:L,MATCH($B105,C_InstallationDescription!$E:$E,0)))","v":""},{"$f":"IF($C105=\"\",\"\",INDEX(C_InstallationDescription!M:M,MATCH($B105,C_InstallationDescription!$E:$E,0)))","v":""},{"$f":"IF($C105=\"\",\"\",INDEX(C_InstallationDescription!N:N,MATCH($B105,C_InstallationDescription!$E:$E,0)))","v":""},{"$f":"IF($C105=\"\",\"\",IF($C105=\"\",\"\",INDEX(F_MeasurementBasedApproaches!$A:$N,CM105,I$87)))","v":""},{"$f":"IF($C105=\"\",\"\",IF($C105=\"\",\"\",INDEX(F_MeasurementBasedApproaches!$A:$N,CN105,J$87)))","v":""},{"$f":"IF($C105=\"\",\"\",IF($C105=\"\",\"\",INDEX(F_MeasurementBasedApproaches!$A:$N,CO105,K$87)))","v":""},{"$f":"IF($C105=\"\",\"\",IF($C105=\"\",\"\",INDEX(F_MeasurementBasedApproaches!$A:$N,CP105,L$87)))","v":""},{"$f":"IF($C105=\"\",\"\",IF($C105=\"\",\"\",INDEX(F_MeasurementBasedApproaches!$A:$N,CQ105,M$87)))","v":""},{"$f":"IF($C105=\"\",\"\",IF($C105=\"\",\"\",INDEX(F_MeasurementBasedApproaches!$A:$N,CL105,H$87)))","v":""},{"$f":"IF($C105=\"\",\"\",IF($C105=\"\",\"\",INDEX(F_MeasurementBasedApproaches!$A:$N,CR105,N$87)))","v":""},{"$f":"IF($C105=\"\",\"\",IF($C105=\"\",\"\",INDEX(F_MeasurementBasedApproaches!$A:$N,CS105,O$87)))","v":""},{"$f":"IF($C105=\"\",\"\",IF($C105=\"\",\"\",INDEX(F_MeasurementBasedApproaches!$A:$N,CT105,P$87)))","v":""},{"$f":"IF($C105=\"\",\"\",IF($C105=\"\",\"\",INDEX(F_MeasurementBasedApproaches!$A:$N,CU105,Q$87)))","v":""},{"$f":"IF($C105=\"\",\"\",IF($C105=\"\",\"\",INDEX(F_MeasurementBasedApproaches!$A:$N,CV105,R$87)))","v":""},{"$f":"IF($C105=\"\",\"\",IF($C105=\"\",\"\",INDEX(F_MeasurementBasedApproaches!$A:$N,CW105,S$87)))","v":""},{"$f":"IF($C105=\"\",\"\",IF($C105=\"\",\"\",INDEX(F_MeasurementBasedApproaches!$A:$N,CX105,T$87)))","v":""},{"$f":"IF($C105=\"\",\"\",IF($C105=\"\",\"\",INDEX(F_MeasurementBasedApproaches!$A:$N,CY105,U$87)))","v":""},{"$f":"IF($C105=\"\",\"\",IF($C105=\"\",\"\",INDEX(F_MeasurementBasedApproaches!$A:$N,CZ105,V$87)))","v":""},{"$f":"IF($C105=\"\",\"\",IF($C105=\"\",\"\",INDEX(F_MeasurementBasedApproaches!$A:$N,DA105,W$87)))","v":""},null,null,null,null,null,null,null,null,null,null,null,null,null,null,null,null,null,null,null,null,null,null,null,null,null,null,null,null,null,null,null,null,null,null,null,null,null,null,null,null,null,null,null,null,null,null,null,null,null,null,null,null,null,null,null,null,null,null,null,null,null,null,null,"SourceCategory_",{"$f":"INDEX(C_InstallationDescription!$A$171:$A$188,ROWS($CI$91:CI105))=\"ausblenden\"","v":false},974,983,983,983,983,983,987,991,992,993,1000,1007,1010,1013,1016,1019,1025]
[]
["ausblenden",null,null,null,null,null,null,null,null,8,8,8,8,8,8,8,8,8,8,8,8,8,8,8,8,8,9,10,11,12,13,14,8,8,9,10,11,12,13,14,8,8,9,10,11,12,13,14,9,10,11,12,13,14,5,5]
[null,{"$f":"Translations!$B$1239","v":"Émissions de PFC"}]
[null,null,null,null,null,null,null,null,null,{"$f":"I_PFC!D89","v":"Production d'aluminium primaire:"},null,null,{"$f":"I_PFC!D94","v":"Méthode A: Nombre d’effets d’anode par cuve-jour"},null,null,{"$f":"I_PFC!D99","v":"Méthode A: durée moyenne des effets d’anode en minutes par événement"},null,null,{"$f":"I_PFC!D104","v":"Méthode B : surtension de l’effet d’anode par cuve"},null,null,{"$f":"I_PFC!D109","v":"Méthode B : rendement de courant"},null,null,{"$f":"I_PFC!E118","v":"SEF(CF4) Facteur d'émission de pente"},null,null,null,null,null,null,null,{"$f":"I_PFC!E119","v":"OVC (Coefficient de surtension)"},null,null,null,null,null,null,null,{"$f":"I_PFC!E120","v":"F(C2F6) Fraction massique de C2F6 "},null,null,null,null,null,null,null,{"$f":"I_PFC!E133","v":"Efficacité de la collecte"}]
[null,{"$f":"Translations!$B$287","v":"Réf . du flux  F1, F2,…"},{"$f":"I_PFC!E49","v":"Nom du flux"},{"$f":"I_PFC!H49","v":"Type de flux"},{"$f":"Translations!$B$310","v":"Nom complet du flux (nom + type)"},{"$f":"Translations!$B$276","v":"Estimation des émissions [t CO2e/an]"},{"$f":"Translations!$B$277","v":"Catégorie possible"},{"$f":"Translations!$B$311","v":"Catégorie sélectionnée"},{"$f":"Translations!$B$647","v":"Type de cuve"},{"$f":"I_PFC!$E$90","v":"Niveaux requis pour les données d’activité:"},{"$f":"I_PFC!$E$91","v":"Niveau utilisé pour les données d’activité:"},{"$f":"I_PFC!$E$92","v":"Incertitude constatée:  "},{"$f":"I_PFC!$E$90","v":"Niveaux requis pour les données d’activité:"},{"$f":"I_PFC!$E$91","v":"Niveau utilisé pour les données d’activité:"},{"$f":"I_PFC!$E$92","v":"Incertitude constatée:  "},{"$f":"I_PFC!$E$90","v":"Niveaux requis pour les données d’activité:"},{"$f":"I_PFC!$E$91","v":"Niveau utilisé pour les données d’activité:"},{"$f":"I_PFC!$E$92","v":"Incertitude constatée:  "},{"$f":"I_PFC!$E$90","v":"Niveaux requis pour les données d’activité:"},{"$f":"I_PFC!$E$91","v":"Niveau utilisé pour les données d’activité:"},{"$f":"I_PFC!$E$92","v":"Incertitude constatée:  "},{"$f":"I_PFC!$E$90","v":"Niveaux requis pour les données d’activité:"},{"$f":"I_PFC!$E$91","v":"Niveau utilisé pour les données d’activité:"},{"$f":"I_PFC!$E$92","v":"Incertitude constatée:  "},{"$f":"I_PFC!$H$117","v":"niveau requis"},{"$f":"I_PFC!$H$124","v":"niveau appliqué"},{"$f":"I_PFC!$I$124","v":"Valeur par défaut ou valeur la plus récente"},{"$f":"I_PFC!$J$124","v":"Unité"},{"$f":"I_PFC!$K$124","v":"Réf. la source"},{"$f":"I_PFC!$L$124","v":"Réf. de l’analyse"},{"$f":"I_PFC!$M$124","v":"date de la dernière analyse"},{"$f":"I_PFC!$N$124","v":"Fréquence d’analyse"},{"$f":"I_PFC!$H$117","v":"niveau requis"},{"$f":"I_PFC!$H$124","v":"niveau appliqué"},{"$f":"I_PFC!$I$124","v":"Valeur par défaut ou valeur la plus récente"},{"$f":"I_PFC!$J$124","v":"Unité"},{"$f":"I_PFC!$K$124","v":"Réf. la source"},{"$f":"I_PFC!$L$124","v":"Réf. de l’analyse"},{"$f":"I_PFC!$M$124","v":"date de la dernière analyse"},{"$f":"I_PFC!$N$124","v":"Fréquence d’analyse"},{"$f":"I_PFC!$H$117","v":"niveau requis"},{"$f":"I_PFC!$H$124","v":"niveau appliqué"},{"$f":"I_PFC!$I$124","v":"Valeur par défaut ou valeur la plus récente"},{"$f":"I_PFC!$J$124","v":"Unité"},{"$f":"I_PFC!$K$124","v":"Réf. la source"},{"$f":"I_PFC!$L$124","v":"Réf. de l’analyse"},{"$f":"I_PFC!$M$124","v":"date de la dernière analyse"},{"$f":"I_PFC!$N$124","v":"Fréquence d’analyse"},{"$f":"I_PFC!$I$124","v":"Valeur par défaut ou valeur la plus récente"},{"$f":"I_PFC!$J$124","v":"Unité"},{"$f":"I_PFC!$K$124","v":"Réf. la source"},{"$f":"I_PFC!$L$124","v":"Réf. de l’analyse"},{"$f":"I_PFC!$M$124","v":"date de la dernière analyse"},{"$f":"I_PFC!$N$124","v":"Fréquence d’analyse"},{"$f":"Translations!$B$546","v":"Remarques:"},{"$f":"Translations!$B$548","v":"Justification lorsque les niveaux requis ne sont pas appliqués:"}]
[null,{"$f":"IF(OR(B110=\"\",CK111),\"\",I_PFC!D50)","v":""},{"$f":"IF(B111=\"\",\"\",I_PFC!E50)","v":""},{"$f":"IF(B111=\"\",\"\",I_PFC!H50)","v":""},{"$f":"IF($B111=\"\",\"\",INDEX(C_InstallationDescription!F:F,MATCH($CJ111,C_InstallationDescription!$Q:$Q,0)))","v":""},{"$f":"IF($E111=\"\",\"\",INDEX(C_InstallationDescription!L:L,MATCH($CJ111,C_InstallationDescription!$Q:$Q,0)))","v":""},{"$f":"IF($E111=\"\",\"\",INDEX(C_InstallationDescription!M:M,MATCH($CJ111,C_InstallationDescription!$Q:$Q,0)))","v":""},{"$f":"IF($E111=\"\",\"\",INDEX(C_InstallationDescription!N:N,MATCH($CJ111,C_InstallationDescription!$Q:$Q,0)))","v":""},{"$f":"IF(INDEX(I_PFC!$L$50:$L$56,MATCH(B111,I_PFC!$D$50:$D$56,0))=\"\",\"\",INDEX(I_PFC!$L$50:$L$56,MATCH(B111,I_PFC!$D$50:$D$56,0)))","v":""},{"$f":"IF($E111=\"\",\"\",INDEX(I_PFC!$A:$N,CL111,J$107))","v":""},{"$f":"IF($E111=\"\",\"\",INDEX(I_PFC!$A:$N,CM111,K$107))","v":""},{"$f":"IF($E111=\"\",\"\",INDEX(I_PFC!$A:$N,CN111,L$107))","v":""},{"$f":"IF($E111=\"\",\"\",INDEX(I_PFC!$A:$N,CO111,M$107))","v":""},{"$f":"IF($E111=\"\",\"\",INDEX(I_PFC!$A:$N,CP111,N$107))","v":""},{"$f":"IF($E111=\"\",\"\",INDEX(I_PFC!$A:$N,CQ111,O$107))","v":""},{"$f":"IF($E111=\"\",\"\",INDEX(I_PFC!$A:$N,CR111,P$107))","v":""},{"$f":"IF($E111=\"\",\"\",INDEX(I_PFC!$A:$N,CS111,Q$107))","v":""},{"$f":"IF($E111=\"\",\"\",INDEX(I_PFC!$A:$N,CT111,R$107))","v":""},{"$f":"IF($E111=\"\",\"\",INDEX(I_PFC!$A:$N,CU111,S$107))","v":""},{"$f":"IF($E111=\"\",\"\",INDEX(I_PFC!$A:$N,CV111,T$107))","v":""},{"$f":"IF($E111=\"\",\"\",INDEX(I_PFC!$A:$N,CW111,U$107))","v":""},{"$f":"IF($E111=\"\",\"\",INDEX(I_PFC!$A:$N,CX111,V$107))","v":""},{"$f":"IF($E111=\"\",\"\",INDEX(I_PFC!$A:$N,CY111,W$107))","v":""},{"$f":"IF($E111=\"\",\"\",INDEX(I_PFC!$A:$N,CZ111,X$107))","v":""},{"$f":"IF($E111=\"\",\"\",INDEX(I_PFC!$A:$N,DA111,Y$107))","v":""},{"$f":"IF($E111=\"\",\"\",INDEX(I_PFC!$A:$N,DB111,Z$107))","v":""},{"$f":"IF($E111=\"\",\"\",INDEX(I_PFC!$A:$N,DC111,AA$107))","v":""},{"$f":"IF($E111=\"\",\"\",INDEX(I_PFC!$A:$N,DD111,AB$107))","v":""},{"$f":"IF($E111=\"\",\"\",INDEX(I_PFC!$A:$N,DE111,AC$107))","v":""},{"$f":"IF($E111=\"\",\"\",INDEX(I_PFC!$A:$N,DF111,AD$107))","v":""},{"$f":"IF($E111=\"\",\"\",INDEX(I_PFC!$A:$N,DG111,AE$107))","v":""},{"$f":"IF($E111=\"\",\"\",INDEX(I_PFC!$A:$N,DH111,AF$107))","v":""},{"$f":"IF($E111=\"\",\"\",INDEX(I_PFC!$A:$N,DI111,AG$107))","v":""},{"$f":"IF($E111=\"\",\"\",INDEX(I_PFC!$A:$N,DJ111,AH$107))","v":""},{"$f":"IF($E111=\"\",\"\",INDEX(I_PFC!$A:$N,DK111,AI$107))","v":""},{"$f":"IF($E111=\"\",\"\",INDEX(I_PFC!$A:$N,DL111,AJ$107))","v":""},{"$f":"IF($E111=\"\",\"\",INDEX(I_PFC!$A:$N,DM111,AK$107))","v":""},{"$f":"IF($E111=\"\",\"\",INDEX(I_PFC!$A:$N,DN111,AL$107))","v":""},{"$f":"IF($E111=\"\",\"\",INDEX(I_PFC!$A:$N,DO111,AM$107))","v":""},{"$f":"IF($E111=\"\",\"\",INDEX(I_PFC!$A:$N,DP111,AN$107))","v":""},{"$f":"IF($E111=\"\",\"\",INDEX(I_PFC!$A:$N,DQ111,AO$107))","v":""},{"$f":"IF($E111=\"\",\"\",INDEX(I_PFC!$A:$N,DR111,AP$107))","v":""},{"$f":"IF($E111=\"\",\"\",INDEX(I_PFC!$A:$N,DS111,AQ$107))","v":""},{"$f":"IF($E111=\"\",\"\",INDEX(I_PFC!$A:$N,DT111,AR$107))","v":""},{"$f":"IF($E111=\"\",\"\",INDEX(I_PFC!$A:$N,DU111,AS$107))","v":""},{"$f":"IF($E111=\"\",\"\",INDEX(I_PFC!$A:$N,DV111,AT$107))","v":""},{"$f":"IF($E111=\"\",\"\",INDEX(I_PFC!$A:$N,DW111,AU$107))","v":""},{"$f":"IF($E111=\"\",\"\",INDEX(I_PFC!$A:$N,DX111,AV$107))","v":""},{"$f":"IF($E111=\"\",\"\",INDEX(I_PFC!$A:$N,DY111,AW$107))","v":""},{"$f":"IF($E111=\"\",\"\",INDEX(I_PFC!$A:$N,DZ111,AX$107))","v":""},{"$f":"IF($E111=\"\",\"\",INDEX(I_PFC!$A:$N,EA111,AY$107))","v":""},{"$f":"IF($E111=\"\",\"\",INDEX(I_PFC!$A:$N,EB111,AZ$107))","v":""},{"$f":"IF($E111=\"\",\"\",INDEX(I_PFC!$A:$N,EC111,BA$107))","v":""},{"$f":"IF($E111=\"\",\"\",INDEX(I_PFC!$A:$N,ED111,BB$107))","v":""},{"$f":"IF($E111=\"\",\"\",INDEX(I_PFC!$A:$N,EE111,BC$107))","v":""},{"$f":"IF($E111=\"\",\"\",INDEX(I_PFC!$A:$N,EF111,BD$107))","v":""},null,null,null,null,null,null,null,null,null,null,null,null,null,null,null,null,null,null,null,null,null,null,null,null,null,null,null,null,null,null,null,{"$f":"EUconst_CNTR_SourceCategory&B111","v":"SourceCategory_"},{"$f":"INDEX(I_PFC!$A$50:$A$60,ROWS($CI$111:CI111))=\"ausblenden\"","v":false},90,91,92,95,96,97,100,101,102,105,106,107,110,111,112,118,125,125,125,125,125,125,125,{"$f":"DA111+1","v":119},{"$f":"DB111+1","v":126},126,126,126,126,126,126,120,127,127,127,127,127,127,127,133,133,133,133,133,133,139,147]
[null,{"$f":"IF(OR(B111=\"\",CK112),\"\",I_PFC!D51)","v":""},{"$f":"IF(B112=\"\",\"\",I_PFC!E51)","v":""},{"$f":"IF(B112=\"\",\"\",I_PFC!H51)","v":""},{"$f":"IF($B112=\"\",\"\",INDEX(C_InstallationDescription!F:F,MATCH($CJ112,C_InstallationDescription!$Q:$Q,0)))","v":""},{"$f":"IF($E112=\"\",\"\",INDEX(C_InstallationDescription!L:L,MATCH($CJ112,C_InstallationDescription!$Q:$Q,0)))","v":""},{"$f":"IF($E112=\"\",\"\",INDEX(C_InstallationDescription!M:M,MATCH($CJ112,C_InstallationDescription!$Q:$Q,0)))","v":""},{"$f":"IF($E112=\"\",\"\",INDEX(C_InstallationDescription!N:N,MATCH($CJ112,C_InstallationDescription!$Q:$Q,0)))","v":""},{"$f":"IF(INDEX(I_PFC!$L$50:$L$56,MATCH(B112,I_PFC!$D$50:$D$56,0))=\"\",\"\",INDEX(I_PFC!$L$50:$L$56,MATCH(B112,I_PFC!$D$50:$D$56,0)))","v":""},{"$f":"IF($E112=\"\",\"\",INDEX(I_PFC!$A:$N,CL112,J$107))","v":""},{"$f":"IF($E112=\"\",\"\",INDEX(I_PFC!$A:$N,CM112,K$107))","v":""},{"$f":"IF($E112=\"\",\"\",INDEX(I_PFC!$A:$N,CN112,L$107))","v":""},{"$f":"IF($E112=\"\",\"\",INDEX(I_PFC!$A:$N,CO112,M$107))","v":""},{"$f":"IF($E112=\"\",\"\",INDEX(I_PFC!$A:$N,CP112,N$107))","v":""},{"$f":"IF($E112=\"\",\"\",INDEX(I_PFC!$A:$N,CQ112,O$107))","v":""},{"$f":"IF($E112=\"\",\"\",INDEX(I_PFC!$A:$N,CR112,P$107))","v":""},{"$f":"IF($E112=\"\",\"\",INDEX(I_PFC!$A:$N,CS112,Q$107))","v":""},{"$f":"IF($E112=\"\",\"\",INDEX(I_PFC!$A:$N,CT112,R$107))","v":""},{"$f":"IF($E112=\"\",\"\",INDEX(I_PFC!$A:$N,CU112,S$107))","v":""},{"$f":"IF($E112=\"\",\"\",INDEX(I_PFC!$A:$N,CV112,T$107))","v":""},{"$f":"IF($E112=\"\",\"\",INDEX(I_PFC!$A:$N,CW112,U$107))","v":""},{"$f":"IF($E112=\"\",\"\",INDEX(I_PFC!$A:$N,CX112,V$107))","v":""},{"$f":"IF($E112=\"\",\"\",INDEX(I_PFC!$A:$N,CY112,W$107))","v":""},{"$f":"IF($E112=\"\",\"\",INDEX(I_PFC!$A:$N,CZ112,X$107))","v":""},{"$f":"IF($E112=\"\",\"\",INDEX(I_PFC!$A:$N,DA112,Y$107))","v":""},{"$f":"IF($E112=\"\",\"\",INDEX(I_PFC!$A:$N,DB112,Z$107))","v":""},{"$f":"IF($E112=\"\",\"\",INDEX(I_PFC!$A:$N,DC112,AA$107))","v":""},{"$f":"IF($E112=\"\",\"\",INDEX(I_PFC!$A:$N,DD112,AB$107))","v":""},{"$f":"IF($E112=\"\",\"\",INDEX(I_PFC!$A:$N,DE112,AC$107))","v":""},{"$f":"IF($E112=\"\",\"\",INDEX(I_PFC!$A:$N,DF112,AD$107))","v":""},{"$f":"IF($E112=\"\",\"\",INDEX(I_PFC!$A:$N,DG112,AE$107))","v":""},{"$f":"IF($E112=\"\",\"\",INDEX(I_PFC!$A:$N,DH112,AF$107))","v":""},{"$f":"IF($E112=\"\",\"\",INDEX(I_PFC!$A:$N,DI112,AG$107))","v":""},{"$f":"IF($E112=\"\",\"\",INDEX(I_PFC!$A:$N,DJ112,AH$107))","v":""},{"$f":"IF($E112=\"\",\"\",INDEX(I_PFC!$A:$N,DK112,AI$107))","v":""},{"$f":"IF($E112=\"\",\"\",INDEX(I_PFC!$A:$N,DL112,AJ$107))","v":""},{"$f":"IF($E112=\"\",\"\",INDEX(I_PFC!$A:$N,DM112,AK$107))","v":""},{"$f":"IF($E112=\"\",\"\",INDEX(I_PFC!$A:$N,DN112,AL$107))","v":""},{"$f":"IF($E112=\"\",\"\",INDEX(I_PFC!$A:$N,DO112,AM$107))","v":""},{"$f":"IF($E112=\"\",\"\",INDEX(I_PFC!$A:$N,DP112,AN$107))","v":""},{"$f":"IF($E112=\"\",\"\",INDEX(I_PFC!$A:$N,DQ112,AO$107))","v":""},{"$f":"IF($E112=\"\",\"\",INDEX(I_PFC!$A:$N,DR112,AP$107))","v":""},{"$f":"IF($E112=\"\",\"\",INDEX(I_PFC!$A:$N,DS112,AQ$107))","v":""},{"$f":"IF($E112=\"\",\"\",INDEX(I_PFC!$A:$N,DT112,AR$107))","v":""},{"$f":"IF($E112=\"\",\"\",INDEX(I_PFC!$A:$N,DU112,AS$107))","v":""},{"$f":"IF($E112=\"\",\"\",INDEX(I_PFC!$A:$N,DV112,AT$107))","v":""},{"$f":"IF($E112=\"\",\"\",INDEX(I_PFC!$A:$N,DW112,AU$107))","v":""},{"$f":"IF($E112=\"\",\"\",INDEX(I_PFC!$A:$N,DX112,AV$107))","v":""},{"$f":"IF($E112=\"\",\"\",INDEX(I_PFC!$A:$N,DY112,AW$107))","v":""},{"$f":"IF($E112=\"\",\"\",INDEX(I_PFC!$A:$N,DZ112,AX$107))","v":""},{"$f":"IF($E112=\"\",\"\",INDEX(I_PFC!$A:$N,EA112,AY$107))","v":""},{"$f":"IF($E112=\"\",\"\",INDEX(I_PFC!$A:$N,EB112,AZ$107))","v":""},{"$f":"IF($E112=\"\",\"\",INDEX(I_PFC!$A:$N,EC112,BA$107))","v":""},{"$f":"IF($E112=\"\",\"\",INDEX(I_PFC!$A:$N,ED112,BB$107))","v":""},{"$f":"IF($E112=\"\",\"\",INDEX(I_PFC!$A:$N,EE112,BC$107))","v":""},{"$f":"IF($E112=\"\",\"\",INDEX(I_PFC!$A:$N,EF112,BD$107))","v":""},null,null,null,null,null,null,null,null,null,null,null,null,null,null,null,null,null,null,null,null,null,null,null,null,null,null,null,null,null,null,null,"SourceCategory_",{"$f":"INDEX(I_PFC!$A$50:$A$60,ROWS($CI$111:CI112))=\"ausblenden\"","v":false},{"$f":"CL111+75","v":165},{"$f":"CM111+75","v":166},167,170,171,172,175,176,177,180,181,182,185,186,187,193,200,200,200,200,200,200,200,194,201,201,201,201,201,201,201,195,202,202,202,202,202,202,202,208,208,208,208,208,208,213,219]
[null,{"$f":"IF(OR(B112=\"\",CK113),\"\",I_PFC!D52)","v":""},{"$f":"IF(B113=\"\",\"\",I_PFC!E52)","v":""},{"$f":"IF(B113=\"\",\"\",I_PFC!H52)","v":""},{"$f":"IF($B113=\"\",\"\",INDEX(C_InstallationDescription!F:F,MATCH($CJ113,C_InstallationDescription!$Q:$Q,0)))","v":""},{"$f":"IF($E113=\"\",\"\",INDEX(C_InstallationDescription!L:L,MATCH($CJ113,C_InstallationDescription!$Q:$Q,0)))","v":""},{"$f":"IF($E113=\"\",\"\",INDEX(C_InstallationDescription!M:M,MATCH($CJ113,C_InstallationDescription!$Q:$Q,0)))","v":""},{"$f":"IF($E113=\"\",\"\",INDEX(C_InstallationDescription!N:N,MATCH($CJ113,C_InstallationDescription!$Q:$Q,0)))","v":""},{"$f":"IF(INDEX(I_PFC!$L$50:$L$56,MATCH(B113,I_PFC!$D$50:$D$56,0))=\"\",\"\",INDEX(I_PFC!$L$50:$L$56,MATCH(B113,I_PFC!$D$50:$D$56,0)))","v":""},{"$f":"IF($E113=\"\",\"\",INDEX(I_PFC!$A:$N,CL113,J$107))","v":""},{"$f":"IF($E113=\"\",\"\",INDEX(I_PFC!$A:$N,CM113,K$107))","v":""},{"$f":"IF($E113=\"\",\"\",INDEX(I_PFC!$A:$N,CN113,L$107))","v":""},{"$f":"IF($E113=\"\",\"\",INDEX(I_PFC!$A:$N,CO113,M$107))","v":""},{"$f":"IF($E113=\"\",\"\",INDEX(I_PFC!$A:$N,CP113,N$107))","v":""},{"$f":"IF($E113=\"\",\"\",INDEX(I_PFC!$A:$N,CQ113,O$107))","v":""},{"$f":"IF($E113=\"\",\"\",INDEX(I_PFC!$A:$N,CR113,P$107))","v":""},{"$f":"IF($E113=\"\",\"\",INDEX(I_PFC!$A:$N,CS113,Q$107))","v":""},{"$f":"IF($E113=\"\",\"\",INDEX(I_PFC!$A:$N,CT113,R$107))","v":""},{"$f":"IF($E113=\"\",\"\",INDEX(I_PFC!$A:$N,CU113,S$107))","v":""},{"$f":"IF($E113=\"\",\"\",INDEX(I_PFC!$A:$N,CV113,T$107))","v":""},{"$f":"IF($E113=\"\",\"\",INDEX(I_PFC!$A:$N,CW113,U$107))","v":""},{"$f":"IF($E113=\"\",\"\",INDEX(I_PFC!$A:$N,CX113,V$107))","v":""},{"$f":"IF($E113=\"\",\"\",INDEX(I_PFC!$A:$N,CY113,W$107))","v":""},{"$f":"IF($E113=\"\",\"\",INDEX(I_PFC!$A:$N,CZ113,X$107))","v":""},{"$f":"IF($E113=\"\",\"\",INDEX(I_PFC!$A:$N,DA113,Y$107))","v":""},{"$f":"IF($E113=\"\",\"\",INDEX(I_PFC!$A:$N,DB113,Z$107))","v":""},{"$f":"IF($E113=\"\",\"\",INDEX(I_PFC!$A:$N,DC113,AA$107))","v":""},{"$f":"IF($E113=\"\",\"\",INDEX(I_PFC!$A:$N,DD113,AB$107))","v":""},{"$f":"IF($E113=\"\",\"\",INDEX(I_PFC!$A:$N,DE113,AC$107))","v":""},{"$f":"IF($E113=\"\",\"\",INDEX(I_PFC!$A:$N,DF113,AD$107))","v":""},{"$f":"IF($E113=\"\",\"\",INDEX(I_PFC!$A:$N,DG113,AE$107))","v":""},{"$f":"IF($E113=\"\",\"\",INDEX(I_PFC!$A:$N,DH113,AF$107))","v":""},{"$f":"IF($E113=\"\",\"\",INDEX(I_PFC!$A:$N,DI113,AG$107))","v":""},{"$f":"IF($E113=\"\",\"\",INDEX(I_PFC!$A:$N,DJ113,AH$107))","v":""},{"$f":"IF($E113=\"\",\"\",INDEX(I_PFC!$A:$N,DK113,AI$107))","v":""},{"$f":"IF($E113=\"\",\"\",INDEX(I_PFC!$A:$N,DL113,AJ$107))","v":""},{"$f":"IF($E113=\"\",\"\",INDEX(I_PFC!$A:$N,DM113,AK$107))","v":""},{"$f":"IF($E113=\"\",\"\",INDEX(I_PFC!$A:$N,DN113,AL$107))","v":""},{"$f":"IF($E113=\"\",\"\",INDEX(I_PFC!$A:$N,DO113,AM$107))","v":""},{"$f":"IF($E113=\"\",\"\",INDEX(I_PFC!$A:$N,DP113,AN$107))","v":""},{"$f":"IF($E113=\"\",\"\",INDEX(I_PFC!$A:$N,DQ113,AO$107))","v":""},{"$f":"IF($E113=\"\",\"\",INDEX(I_PFC!$A:$N,DR113,AP$107))","v":""},{"$f":"IF($E113=\"\",\"\",INDEX(I_PFC!$A:$N,DS113,AQ$107))","v":""},{"$f":"IF($E113=\"\",\"\",INDEX(I_PFC!$A:$N,DT113,AR$107))","v":""},{"$f":"IF($E113=\"\",\"\",INDEX(I_PFC!$A:$N,DU113,AS$107))","v":""},{"$f":"IF($E113=\"\",\"\",INDEX(I_PFC!$A:$N,DV113,AT$107))","v":""},{"$f":"IF($E113=\"\",\"\",INDEX(I_PFC!$A:$N,DW113,AU$107))","v":""},{"$f":"IF($E113=\"\",\"\",INDEX(I_PFC!$A:$N,DX113,AV$107))","v":""},{"$f":"IF($E113=\"\",\"\",INDEX(I_PFC!$A:$N,DY113,AW$107))","v":""},{"$f":"IF($E113=\"\",\"\",INDEX(I_PFC!$A:$N,DZ113,AX$107))","v":""},{"$f":"IF($E113=\"\",\"\",INDEX(I_PFC!$A:$N,EA113,AY$107))","v":""},{"$f":"IF($E113=\"\",\"\",INDEX(I_PFC!$A:$N,EB113,AZ$107))","v":""},{"$f":"IF($E113=\"\",\"\",INDEX(I_PFC!$A:$N,EC113,BA$107))","v":""},{"$f":"IF($E113=\"\",\"\",INDEX(I_PFC!$A:$N,ED113,BB$107))","v":""},{"$f":"IF($E113=\"\",\"\",INDEX(I_PFC!$A:$N,EE113,BC$107))","v":""},{"$f":"IF($E113=\"\",\"\",INDEX(I_PFC!$A:$N,EF113,BD$107))","v":""},null,null,null,null,null,null,null,null,null,null,null,null,null,null,null,null,null,null,null,null,null,null,null,null,null,null,null,null,null,null,null,"SourceCategory_",{"$f":"INDEX(I_PFC!$A$50:$A$60,ROWS($CI$111:CI113))=\"ausblenden\"","v":false},{"$f":"CL112+72","v":237},{"$f":"CM112+72","v":238},239,242,243,244,247,248,249,252,253,254,257,258,259,265,272,272,272,272,272,272,272,266,273,273,273,273,273,273,273,267,274,274,274,274,274,274,274,280,280,280,280,280,280,285,291]
[null,{"$f":"IF(OR(B113=\"\",CK114),\"\",I_PFC!D53)","v":""},{"$f":"IF(B114=\"\",\"\",I_PFC!E53)","v":""},{"$f":"IF(B114=\"\",\"\",I_PFC!H53)","v":""},{"$f":"IF($B114=\"\",\"\",INDEX(C_InstallationDescription!F:F,MATCH($CJ114,C_InstallationDescription!$Q:$Q,0)))","v":""},{"$f":"IF($E114=\"\",\"\",INDEX(C_InstallationDescription!L:L,MATCH($CJ114,C_InstallationDescription!$Q:$Q,0)))","v":""},{"$f":"IF($E114=\"\",\"\",INDEX(C_InstallationDescription!M:M,MATCH($CJ114,C_InstallationDescription!$Q:$Q,0)))","v":""},{"$f":"IF($E114=\"\",\"\",INDEX(C_InstallationDescription!N:N,MATCH($CJ114,C_InstallationDescription!$Q:$Q,0)))","v":""},{"$f":"IF(INDEX(I_PFC!$L$50:$L$56,MATCH(B114,I_PFC!$D$50:$D$56,0))=\"\",\"\",INDEX(I_PFC!$L$50:$L$56,MATCH(B114,I_PFC!$D$50:$D$56,0)))","v":""},{"$f":"IF($E114=\"\",\"\",INDEX(I_PFC!$A:$N,CL114,J$107))","v":""},{"$f":"IF($E114=\"\",\"\",INDEX(I_PFC!$A:$N,CM114,K$107))","v":""},{"$f":"IF($E114=\"\",\"\",INDEX(I_PFC!$A:$N,CN114,L$107))","v":""},{"$f":"IF($E114=\"\",\"\",INDEX(I_PFC!$A:$N,CO114,M$107))","v":""},{"$f":"IF($E114=\"\",\"\",INDEX(I_PFC!$A:$N,CP114,N$107))","v":""},{"$f":"IF($E114=\"\",\"\",INDEX(I_PFC!$A:$N,CQ114,O$107))","v":""},{"$f":"IF($E114=\"\",\"\",INDEX(I_PFC!$A:$N,CR114,P$107))","v":""},{"$f":"IF($E114=\"\",\"\",INDEX(I_PFC!$A:$N,CS114,Q$107))","v":""},{"$f":"IF($E114=\"\",\"\",INDEX(I_PFC!$A:$N,CT114,R$107))","v":""},{"$f":"IF($E114=\"\",\"\",INDEX(I_PFC!$A:$N,CU114,S$107))","v":""},{"$f":"IF($E114=\"\",\"\",INDEX(I_PFC!$A:$N,CV114,T$107))","v":""},{"$f":"IF($E114=\"\",\"\",INDEX(I_PFC!$A:$N,CW114,U$107))","v":""},{"$f":"IF($E114=\"\",\"\",INDEX(I_PFC!$A:$N,CX114,V$107))","v":""},{"$f":"IF($E114=\"\",\"\",INDEX(I_PFC!$A:$N,CY114,W$107))","v":""},{"$f":"IF($E114=\"\",\"\",INDEX(I_PFC!$A:$N,CZ114,X$107))","v":""},{"$f":"IF($E114=\"\",\"\",INDEX(I_PFC!$A:$N,DA114,Y$107))","v":""},{"$f":"IF($E114=\"\",\"\",INDEX(I_PFC!$A:$N,DB114,Z$107))","v":""},{"$f":"IF($E114=\"\",\"\",INDEX(I_PFC!$A:$N,DC114,AA$107))","v":""},{"$f":"IF($E114=\"\",\"\",INDEX(I_PFC!$A:$N,DD114,AB$107))","v":""},{"$f":"IF($E114=\"\",\"\",INDEX(I_PFC!$A:$N,DE114,AC$107))","v":""},{"$f":"IF($E114=\"\",\"\",INDEX(I_PFC!$A:$N,DF114,AD$107))","v":""},{"$f":"IF($E114=\"\",\"\",INDEX(I_PFC!$A:$N,DG114,AE$107))","v":""},{"$f":"IF($E114=\"\",\"\",INDEX(I_PFC!$A:$N,DH114,AF$107))","v":""},{"$f":"IF($E114=\"\",\"\",INDEX(I_PFC!$A:$N,DI114,AG$107))","v":""},{"$f":"IF($E114=\"\",\"\",INDEX(I_PFC!$A:$N,DJ114,AH$107))","v":""},{"$f":"IF($E114=\"\",\"\",INDEX(I_PFC!$A:$N,DK114,AI$107))","v":""},{"$f":"IF($E114=\"\",\"\",INDEX(I_PFC!$A:$N,DL114,AJ$107))","v":""},{"$f":"IF($E114=\"\",\"\",INDEX(I_PFC!$A:$N,DM114,AK$107))","v":""},{"$f":"IF($E114=\"\",\"\",INDEX(I_PFC!$A:$N,DN114,AL$107))","v":""},{"$f":"IF($E114=\"\",\"\",INDEX(I_PFC!$A:$N,DO114,AM$107))","v":""},{"$f":"IF($E114=\"\",\"\",INDEX(I_PFC!$A:$N,DP114,AN$107))","v":""},{"$f":"IF($E114=\"\",\"\",INDEX(I_PFC!$A:$N,DQ114,AO$107))","v":""},{"$f":"IF($E114=\"\",\"\",INDEX(I_PFC!$A:$N,DR114,AP$107))","v":""},{"$f":"IF($E114=\"\",\"\",INDEX(I_PFC!$A:$N,DS114,AQ$107))","v":""},{"$f":"IF($E114=\"\",\"\",INDEX(I_PFC!$A:$N,DT114,AR$107))","v":""},{"$f":"IF($E114=\"\",\"\",INDEX(I_PFC!$A:$N,DU114,AS$107))","v":""},{"$f":"IF($E114=\"\",\"\",INDEX(I_PFC!$A:$N,DV114,AT$107))","v":""},{"$f":"IF($E114=\"\",\"\",INDEX(I_PFC!$A:$N,DW114,AU$107))","v":""},{"$f":"IF($E114=\"\",\"\",INDEX(I_PFC!$A:$N,DX114,AV$107))","v":""},{"$f":"IF($E114=\"\",\"\",INDEX(I_PFC!$A:$N,DY114,AW$107))","v":""},{"$f":"IF($E114=\"\",\"\",INDEX(I_PFC!$A:$N,DZ114,AX$107))","v":""},{"$f":"IF($E114=\"\",\"\",INDEX(I_PFC!$A:$N,EA114,AY$107))","v":""},{"$f":"IF($E114=\"\",\"\",INDEX(I_PFC!$A:$N,EB114,AZ$107))","v":""},{"$f":"IF($E114=\"\",\"\",INDEX(I_PFC!$A:$N,EC114,BA$107))","v":""},{"$f":"IF($E114=\"\",\"\",INDEX(I_PFC!$A:$N,ED114,BB$107))","v":""},{"$f":"IF($E114=\"\",\"\",INDEX(I_PFC!$A:$N,EE114,BC$107))","v":""},{"$f":"IF($E114=\"\",\"\",INDEX(I_PFC!$A:$N,EF114,BD$107))","v":""},null,null,null,null,null,null,null,null,null,null,null,null,null,null,null,null,null,null,null,null,null,null,null,null,null,null,null,null,null,null,null,"SourceCategory_",{"$f":"INDEX(I_PFC!$A$50:$A$60,ROWS($CI$111:CI114))=\"ausblenden\"","v":false},309,310,311,314,315,316,319,320,321,324,325,326,329,330,331,337,344,344,344,344,344,344,344,338,345,345,345,345,345,345,345,339,346,346,346,346,346,346,346,352,352,352,352,352,352,357,363]
[null,{"$f":"IF(OR(B114=\"\",CK115),\"\",I_PFC!D54)","v":""},{"$f":"IF(B115=\"\",\"\",I_PFC!E54)","v":""},{"$f":"IF(B115=\"\",\"\",I_PFC!H54)","v":""},{"$f":"IF($B115=\"\",\"\",INDEX(C_InstallationDescription!F:F,MATCH($CJ115,C_InstallationDescription!$Q:$Q,0)))","v":""},{"$f":"IF($E115=\"\",\"\",INDEX(C_InstallationDescription!L:L,MATCH($CJ115,C_InstallationDescription!$Q:$Q,0)))","v":""},{"$f":"IF($E115=\"\",\"\",INDEX(C_InstallationDescription!M:M,MATCH($CJ115,C_InstallationDescription!$Q:$Q,0)))","v":""},{"$f":"IF($E115=\"\",\"\",INDEX(C_InstallationDescription!N:N,MATCH($CJ115,C_InstallationDescription!$Q:$Q,0)))","v":""},{"$f":"IF(INDEX(I_PFC!$L$50:$L$56,MATCH(B115,I_PFC!$D$50:$D$56,0))=\"\",\"\",INDEX(I_PFC!$L$50:$L$56,MATCH(B115,I_PFC!$D$50:$D$56,0)))","v":""},{"$f":"IF($E115=\"\",\"\",INDEX(I_PFC!$A:$N,CL115,J$107))","v":""},{"$f":"IF($E115=\"\",\"\",INDEX(I_PFC!$A:$N,CM115,K$107))","v":""},{"$f":"IF($E115=\"\",\"\",INDEX(I_PFC!$A:$N,CN115,L$107))","v":""},{"$f":"IF($E115=\"\",\"\",INDEX(I_PFC!$A:$N,CO115,M$107))","v":""},{"$f":"IF($E115=\"\",\"\",INDEX(I_PFC!$A:$N,CP115,N$107))","v":""},{"$f":"IF($E115=\"\",\"\",INDEX(I_PFC!$A:$N,CQ115,O$107))","v":""},{"$f":"IF($E115=\"\",\"\",INDEX(I_PFC!$A:$N,CR115,P$107))","v":""},{"$f":"IF($E115=\"\",\"\",INDEX(I_PFC!$A:$N,CS115,Q$107))","v":""},{"$f":"IF($E115=\"\",\"\",INDEX(I_PFC!$A:$N,CT115,R$107))","v":""},{"$f":"IF($E115=\"\",\"\",INDEX(I_PFC!$A:$N,CU115,S$107))","v":""},{"$f":"IF($E115=\"\",\"\",INDEX(I_PFC!$A:$N,CV115,T$107))","v":""},{"$f":"IF($E115=\"\",\"\",INDEX(I_PFC!$A:$N,CW115,U$107))","v":""},{"$f":"IF($E115=\"\",\"\",INDEX(I_PFC!$A:$N,CX115,V$107))","v":""},{"$f":"IF($E115=\"\",\"\",INDEX(I_PFC!$A:$N,CY115,W$107))","v":""},{"$f":"IF($E115=\"\",\"\",INDEX(I_PFC!$A:$N,CZ115,X$107))","v":""},{"$f":"IF($E115=\"\",\"\",INDEX(I_PFC!$A:$N,DA115,Y$107))","v":""},{"$f":"IF($E115=\"\",\"\",INDEX(I_PFC!$A:$N,DB115,Z$107))","v":""},{"$f":"IF($E115=\"\",\"\",INDEX(I_PFC!$A:$N,DC115,AA$107))","v":""},{"$f":"IF($E115=\"\",\"\",INDEX(I_PFC!$A:$N,DD115,AB$107))","v":""},{"$f":"IF($E115=\"\",\"\",INDEX(I_PFC!$A:$N,DE115,AC$107))","v":""},{"$f":"IF($E115=\"\",\"\",INDEX(I_PFC!$A:$N,DF115,AD$107))","v":""},{"$f":"IF($E115=\"\",\"\",INDEX(I_PFC!$A:$N,DG115,AE$107))","v":""},{"$f":"IF($E115=\"\",\"\",INDEX(I_PFC!$A:$N,DH115,AF$107))","v":""},{"$f":"IF($E115=\"\",\"\",INDEX(I_PFC!$A:$N,DI115,AG$107))","v":""},{"$f":"IF($E115=\"\",\"\",INDEX(I_PFC!$A:$N,DJ115,AH$107))","v":""},{"$f":"IF($E115=\"\",\"\",INDEX(I_PFC!$A:$N,DK115,AI$107))","v":""},{"$f":"IF($E115=\"\",\"\",INDEX(I_PFC!$A:$N,DL115,AJ$107))","v":""},{"$f":"IF($E115=\"\",\"\",INDEX(I_PFC!$A:$N,DM115,AK$107))","v":""},{"$f":"IF($E115=\"\",\"\",INDEX(I_PFC!$A:$N,DN115,AL$107))","v":""},{"$f":"IF($E115=\"\",\"\",INDEX(I_PFC!$A:$N,DO115,AM$107))","v":""},{"$f":"IF($E115=\"\",\"\",INDEX(I_PFC!$A:$N,DP115,AN$107))","v":""},{"$f":"IF($E115=\"\",\"\",INDEX(I_PFC!$A:$N,DQ115,AO$107))","v":""},{"$f":"IF($E115=\"\",\"\",INDEX(I_PFC!$A:$N,DR115,AP$107))","v":""},{"$f":"IF($E115=\"\",\"\",INDEX(I_PFC!$A:$N,DS115,AQ$107))","v":""},{"$f":"IF($E115=\"\",\"\",INDEX(I_PFC!$A:$N,DT115,AR$107))","v":""},{"$f":"IF($E115=\"\",\"\",INDEX(I_PFC!$A:$N,DU115,AS$107))","v":""},{"$f":"IF($E115=\"\",\"\",INDEX(I_PFC!$A:$N,DV115,AT$107))","v":""},{"$f":"IF($E115=\"\",\"\",INDEX(I_PFC!$A:$N,DW115,AU$107))","v":""},{"$f":"IF($E115=\"\",\"\",INDEX(I_PFC!$A:$N,DX115,AV$107))","v":""},{"$f":"IF($E115=\"\",\"\",INDEX(I_PFC!$A:$N,DY115,AW$107))","v":""},{"$f":"IF($E115=\"\",\"\",INDEX(I_PFC!$A:$N,DZ115,AX$107))","v":""},{"$f":"IF($E115=\"\",\"\",INDEX(I_PFC!$A:$N,EA115,AY$107))","v":""},{"$f":"IF($E115=\"\",\"\",INDEX(I_PFC!$A:$N,EB115,AZ$107))","v":""},{"$f":"IF($E115=\"\",\"\",INDEX(I_PFC!$A:$N,EC115,BA$107))","v":""},{"$f":"IF($E115=\"\",\"\",INDEX(I_PFC!$A:$N,ED115,BB$107))","v":""},{"$f":"IF($E115=\"\",\"\",INDEX(I_PFC!$A:$N,EE115,BC$107))","v":""},{"$f":"IF($E115=\"\",\"\",INDEX(I_PFC!$A:$N,EF115,BD$107))","v":""},null,null,null,null,null,null,null,null,null,null,null,null,null,null,null,null,null,null,null,null,null,null,null,null,null,null,null,null,null,null,null,"SourceCategory_",{"$f":"INDEX(I_PFC!$A$50:$A$60,ROWS($CI$111:CI115))=\"ausblenden\"","v":false},381,382,383,386,387,388,391,392,393,396,397,398,401,402,403,409,416,416,416,416,416,416,416,410,417,417,417,417,417,417,417,411,418,418,418,418,418,418,418,424,424,424,424,424,424,429,435]
[null,{"$f":"IF(OR(B115=\"\",CK116),\"\",I_PFC!D55)","v":""},{"$f":"IF(B116=\"\",\"\",I_PFC!E55)","v":""},{"$f":"IF(B116=\"\",\"\",I_PFC!H55)","v":""},{"$f":"IF($B116=\"\",\"\",INDEX(C_InstallationDescription!F:F,MATCH($CJ116,C_InstallationDescription!$Q:$Q,0)))","v":""},{"$f":"IF($E116=\"\",\"\",INDEX(C_InstallationDescription!L:L,MATCH($CJ116,C_InstallationDescription!$Q:$Q,0)))","v":""},{"$f":"IF($E116=\"\",\"\",INDEX(C_InstallationDescription!M:M,MATCH($CJ116,C_InstallationDescription!$Q:$Q,0)))","v":""},{"$f":"IF($E116=\"\",\"\",INDEX(C_InstallationDescription!N:N,MATCH($CJ116,C_InstallationDescription!$Q:$Q,0)))","v":""},{"$f":"IF(INDEX(I_PFC!$L$50:$L$56,MATCH(B116,I_PFC!$D$50:$D$56,0))=\"\",\"\",INDEX(I_PFC!$L$50:$L$56,MATCH(B116,I_PFC!$D$50:$D$56,0)))","v":""},{"$f":"IF($E116=\"\",\"\",INDEX(I_PFC!$A:$N,CL116,J$107))","v":""},{"$f":"IF($E116=\"\",\"\",INDEX(I_PFC!$A:$N,CM116,K$107))","v":""},{"$f":"IF($E116=\"\",\"\",INDEX(I_PFC!$A:$N,CN116,L$107))","v":""},{"$f":"IF($E116=\"\",\"\",INDEX(I_PFC!$A:$N,CO116,M$107))","v":""},{"$f":"IF($E116=\"\",\"\",INDEX(I_PFC!$A:$N,CP116,N$107))","v":""},{"$f":"IF($E116=\"\",\"\",INDEX(I_PFC!$A:$N,CQ116,O$107))","v":""},{"$f":"IF($E116=\"\",\"\",INDEX(I_PFC!$A:$N,CR116,P$107))","v":""},{"$f":"IF($E116=\"\",\"\",INDEX(I_PFC!$A:$N,CS116,Q$107))","v":""},{"$f":"IF($E116=\"\",\"\",INDEX(I_PFC!$A:$N,CT116,R$107))","v":""},{"$f":"IF($E116=\"\",\"\",INDEX(I_PFC!$A:$N,CU116,S$107))","v":""},{"$f":"IF($E116=\"\",\"\",INDEX(I_PFC!$A:$N,CV116,T$107))","v":""},{"$f":"IF($E116=\"\",\"\",INDEX(I_PFC!$A:$N,CW116,U$107))","v":""},{"$f":"IF($E116=\"\",\"\",INDEX(I_PFC!$A:$N,CX116,V$107))","v":""},{"$f":"IF($E116=\"\",\"\",INDEX(I_PFC!$A:$N,CY116,W$107))","v":""},{"$f":"IF($E116=\"\",\"\",INDEX(I_PFC!$A:$N,CZ116,X$107))","v":""},{"$f":"IF($E116=\"\",\"\",INDEX(I_PFC!$A:$N,DA116,Y$107))","v":""},{"$f":"IF($E116=\"\",\"\",INDEX(I_PFC!$A:$N,DB116,Z$107))","v":""},{"$f":"IF($E116=\"\",\"\",INDEX(I_PFC!$A:$N,DC116,AA$107))","v":""},{"$f":"IF($E116=\"\",\"\",INDEX(I_PFC!$A:$N,DD116,AB$107))","v":""},{"$f":"IF($E116=\"\",\"\",INDEX(I_PFC!$A:$N,DE116,AC$107))","v":""},{"$f":"IF($E116=\"\",\"\",INDEX(I_PFC!$A:$N,DF116,AD$107))","v":""},{"$f":"IF($E116=\"\",\"\",INDEX(I_PFC!$A:$N,DG116,AE$107))","v":""},{"$f":"IF($E116=\"\",\"\",INDEX(I_PFC!$A:$N,DH116,AF$107))","v":""},{"$f":"IF($E116=\"\",\"\",INDEX(I_PFC!$A:$N,DI116,AG$107))","v":""},{"$f":"IF($E116=\"\",\"\",INDEX(I_PFC!$A:$N,DJ116,AH$107))","v":""},{"$f":"IF($E116=\"\",\"\",INDEX(I_PFC!$A:$N,DK116,AI$107))","v":""},{"$f":"IF($E116=\"\",\"\",INDEX(I_PFC!$A:$N,DL116,AJ$107))","v":""},{"$f":"IF($E116=\"\",\"\",INDEX(I_PFC!$A:$N,DM116,AK$107))","v":""},{"$f":"IF($E116=\"\",\"\",INDEX(I_PFC!$A:$N,DN116,AL$107))","v":""},{"$f":"IF($E116=\"\",\"\",INDEX(I_PFC!$A:$N,DO116,AM$107))","v":""},{"$f":"IF($E116=\"\",\"\",INDEX(I_PFC!$A:$N,DP116,AN$107))","v":""},{"$f":"IF($E116=\"\",\"\",INDEX(I_PFC!$A:$N,DQ116,AO$107))","v":""},{"$f":"IF($E116=\"\",\"\",INDEX(I_PFC!$A:$N,DR116,AP$107))","v":""},{"$f":"IF($E116=\"\",\"\",INDEX(I_PFC!$A:$N,DS116,AQ$107))","v":""},{"$f":"IF($E116=\"\",\"\",INDEX(I_PFC!$A:$N,DT116,AR$107))","v":""},{"$f":"IF($E116=\"\",\"\",INDEX(I_PFC!$A:$N,DU116,AS$107))","v":""},{"$f":"IF($E116=\"\",\"\",INDEX(I_PFC!$A:$N,DV116,AT$107))","v":""},{"$f":"IF($E116=\"\",\"\",INDEX(I_PFC!$A:$N,DW116,AU$107))","v":""},{"$f":"IF($E116=\"\",\"\",INDEX(I_PFC!$A:$N,DX116,AV$107))","v":""},{"$f":"IF($E116=\"\",\"\",INDEX(I_PFC!$A:$N,DY116,AW$107))","v":""},{"$f":"IF($E116=\"\",\"\",INDEX(I_PFC!$A:$N,DZ116,AX$107))","v":""},{"$f":"IF($E116=\"\",\"\",INDEX(I_PFC!$A:$N,EA116,AY$107))","v":""},{"$f":"IF($E116=\"\",\"\",INDEX(I_PFC!$A:$N,EB116,AZ$107))","v":""},{"$f":"IF($E116=\"\",\"\",INDEX(I_PFC!$A:$N,EC116,BA$107))","v":""},{"$f":"IF($E116=\"\",\"\",INDEX(I_PFC!$A:$N,ED116,BB$107))","v":""},{"$f":"IF($E116=\"\",\"\",INDEX(I_PFC!$A:$N,EE116,BC$107))","v":""},{"$f":"IF($E116=\"\",\"\",INDEX(I_PFC!$A:$N,EF116,BD$107))","v":""},null,null,null,null,null,null,null,null,null,null,null,null,null,null,null,null,null,null,null,null,null,null,null,null,null,null,null,null,null,null,null,"SourceCategory_",{"$f":"INDEX(I_PFC!$A$50:$A$60,ROWS($CI$111:CI116))=\"ausblenden\"","v":true},453,454,455,458,459,460,463,464,465,468,469,470,473,474,475,481,488,488,488,488,488,488,488,482,489,489,489,489,489,489,489,483,490,490,490,490,490,490,490,496,496,496,496,496,496,501,507]
[null,{"$f":"IF(OR(B116=\"\",CK117),\"\",I_PFC!D56)","v":""},{"$f":"IF(B117=\"\",\"\",I_PFC!E56)","v":""},{"$f":"IF(B117=\"\",\"\",I_PFC!H56)","v":""},{"$f":"IF($B117=\"\",\"\",INDEX(C_InstallationDescription!F:F,MATCH($CJ117,C_InstallationDescription!$Q:$Q,0)))","v":""},{"$f":"IF($E117=\"\",\"\",INDEX(C_InstallationDescription!L:L,MATCH($CJ117,C_InstallationDescription!$Q:$Q,0)))","v":""},{"$f":"IF($E117=\"\",\"\",INDEX(C_InstallationDescription!M:M,MATCH($CJ117,C_InstallationDescription!$Q:$Q,0)))","v":""},{"$f":"IF($E117=\"\",\"\",INDEX(C_InstallationDescription!N:N,MATCH($CJ117,C_InstallationDescription!$Q:$Q,0)))","v":""},{"$f":"IF(INDEX(I_PFC!$L$50:$L$56,MATCH(B117,I_PFC!$D$50:$D$56,0))=\"\",\"\",INDEX(I_PFC!$L$50:$L$56,MATCH(B117,I_PFC!$D$50:$D$56,0)))","v":""},{"$f":"IF($E117=\"\",\"\",INDEX(I_PFC!$A:$N,CL117,J$107))","v":""},{"$f":"IF($E117=\"\",\"\",INDEX(I_PFC!$A:$N,CM117,K$107))","v":""},{"$f":"IF($E117=\"\",\"\",INDEX(I_PFC!$A:$N,CN117,L$107))","v":""},{"$f":"IF($E117=\"\",\"\",INDEX(I_PFC!$A:$N,CO117,M$107))","v":""},{"$f":"IF($E117=\"\",\"\",INDEX(I_PFC!$A:$N,CP117,N$107))","v":""},{"$f":"IF($E117=\"\",\"\",INDEX(I_PFC!$A:$N,CQ117,O$107))","v":""},{"$f":"IF($E117=\"\",\"\",INDEX(I_PFC!$A:$N,CR117,P$107))","v":""},{"$f":"IF($E117=\"\",\"\",INDEX(I_PFC!$A:$N,CS117,Q$107))","v":""},{"$f":"IF($E117=\"\",\"\",INDEX(I_PFC!$A:$N,CT117,R$107))","v":""},{"$f":"IF($E117=\"\",\"\",INDEX(I_PFC!$A:$N,CU117,S$107))","v":""},{"$f":"IF($E117=\"\",\"\",INDEX(I_PFC!$A:$N,CV117,T$107))","v":""},{"$f":"IF($E117=\"\",\"\",INDEX(I_PFC!$A:$N,CW117,U$107))","v":""},{"$f":"IF($E117=\"\",\"\",INDEX(I_PFC!$A:$N,CX117,V$107))","v":""},{"$f":"IF($E117=\"\",\"\",INDEX(I_PFC!$A:$N,CY117,W$107))","v":""},{"$f":"IF($E117=\"\",\"\",INDEX(I_PFC!$A:$N,CZ117,X$107))","v":""},{"$f":"IF($E117=\"\",\"\",INDEX(I_PFC!$A:$N,DA117,Y$107))","v":""},{"$f":"IF($E117=\"\",\"\",INDEX(I_PFC!$A:$N,DB117,Z$107))","v":""},{"$f":"IF($E117=\"\",\"\",INDEX(I_PFC!$A:$N,DC117,AA$107))","v":""},{"$f":"IF($E117=\"\",\"\",INDEX(I_PFC!$A:$N,DD117,AB$107))","v":""},{"$f":"IF($E117=\"\",\"\",INDEX(I_PFC!$A:$N,DE117,AC$107))","v":""},{"$f":"IF($E117=\"\",\"\",INDEX(I_PFC!$A:$N,DF117,AD$107))","v":""},{"$f":"IF($E117=\"\",\"\",INDEX(I_PFC!$A:$N,DG117,AE$107))","v":""},{"$f":"IF($E117=\"\",\"\",INDEX(I_PFC!$A:$N,DH117,AF$107))","v":""},{"$f":"IF($E117=\"\",\"\",INDEX(I_PFC!$A:$N,DI117,AG$107))","v":""},{"$f":"IF($E117=\"\",\"\",INDEX(I_PFC!$A:$N,DJ117,AH$107))","v":""},{"$f":"IF($E117=\"\",\"\",INDEX(I_PFC!$A:$N,DK117,AI$107))","v":""},{"$f":"IF($E117=\"\",\"\",INDEX(I_PFC!$A:$N,DL117,AJ$107))","v":""},{"$f":"IF($E117=\"\",\"\",INDEX(I_PFC!$A:$N,DM117,AK$107))","v":""},{"$f":"IF($E117=\"\",\"\",INDEX(I_PFC!$A:$N,DN117,AL$107))","v":""},{"$f":"IF($E117=\"\",\"\",INDEX(I_PFC!$A:$N,DO117,AM$107))","v":""},{"$f":"IF($E117=\"\",\"\",INDEX(I_PFC!$A:$N,DP117,AN$107))","v":""},{"$f":"IF($E117=\"\",\"\",INDEX(I_PFC!$A:$N,DQ117,AO$107))","v":""},{"$f":"IF($E117=\"\",\"\",INDEX(I_PFC!$A:$N,DR117,AP$107))","v":""},{"$f":"IF($E117=\"\",\"\",INDEX(I_PFC!$A:$N,DS117,AQ$107))","v":""},{"$f":"IF($E117=\"\",\"\",INDEX(I_PFC!$A:$N,DT117,AR$107))","v":""},{"$f":"IF($E117=\"\",\"\",INDEX(I_PFC!$A:$N,DU117,AS$107))","v":""},{"$f":"IF($E117=\"\",\"\",INDEX(I_PFC!$A:$N,DV117,AT$107))","v":""},{"$f":"IF($E117=\"\",\"\",INDEX(I_PFC!$A:$N,DW117,AU$107))","v":""},{"$f":"IF($E117=\"\",\"\",INDEX(I_PFC!$A:$N,DX117,AV$107))","v":""},{"$f":"IF($E117=\"\",\"\",INDEX(I_PFC!$A:$N,DY117,AW$107))","v":""},{"$f":"IF($E117=\"\",\"\",INDEX(I_PFC!$A:$N,DZ117,AX$107))","v":""},{"$f":"IF($E117=\"\",\"\",INDEX(I_PFC!$A:$N,EA117,AY$107))","v":""},{"$f":"IF($E117=\"\",\"\",INDEX(I_PFC!$A:$N,EB117,AZ$107))","v":""},{"$f":"IF($E117=\"\",\"\",INDEX(I_PFC!$A:$N,EC117,BA$107))","v":""},{"$f":"IF($E117=\"\",\"\",INDEX(I_PFC!$A:$N,ED117,BB$107))","v":""},{"$f":"IF($E117=\"\",\"\",INDEX(I_PFC!$A:$N,EE117,BC$107))","v":""},{"$f":"IF($E117=\"\",\"\",INDEX(I_PFC!$A:$N,EF117,BD$107))","v":""},null,null,null,null,null,null,null,null,null,null,null,null,null,null,null,null,null,null,null,null,null,null,null,null,null,null,null,null,null,null,null,"SourceCategory_",{"$f":"INDEX(I_PFC!$A$50:$A$60,ROWS($CI$111:CI117))=\"ausblenden\"","v":false},525,526,527,530,531,532,535,536,537,540,541,542,545,546,547,553,560,560,560,560,560,560,560,554,561,561,561,561,561,561,561,555,562,562,562,562,562,562,562,568,568,568,568,568,568,573,579]
[null,{"$f":"IF(OR(B117=\"\",CK118),\"\",I_PFC!D57)","v":""},{"$f":"IF(B118=\"\",\"\",I_PFC!E57)","v":""},{"$f":"IF(B118=\"\",\"\",I_PFC!H57)","v":""},{"$f":"IF($B118=\"\",\"\",INDEX(C_InstallationDescription!F:F,MATCH($CJ118,C_InstallationDescription!$Q:$Q,0)))","v":""},{"$f":"IF($E118=\"\",\"\",INDEX(C_InstallationDescription!L:L,MATCH($CJ118,C_InstallationDescription!$Q:$Q,0)))","v":""},{"$f":"IF($E118=\"\",\"\",INDEX(C_InstallationDescription!M:M,MATCH($CJ118,C_InstallationDescription!$Q:$Q,0)))","v":""},{"$f":"IF($E118=\"\",\"\",INDEX(C_InstallationDescription!N:N,MATCH($CJ118,C_InstallationDescription!$Q:$Q,0)))","v":""},{"$f":"IF(INDEX(I_PFC!$L$50:$L$56,MATCH(B118,I_PFC!$D$50:$D$56,0))=\"\",\"\",INDEX(I_PFC!$L$50:$L$56,MATCH(B118,I_PFC!$D$50:$D$56,0)))","v":""},{"$f":"IF($E118=\"\",\"\",INDEX(I_PFC!$A:$N,CL118,J$107))","v":""},{"$f":"IF($E118=\"\",\"\",INDEX(I_PFC!$A:$N,CM118,K$107))","v":""},{"$f":"IF($E118=\"\",\"\",INDEX(I_PFC!$A:$N,CN118,L$107))","v":""},{"$f":"IF($E118=\"\",\"\",INDEX(I_PFC!$A:$N,CO118,M$107))","v":""},{"$f":"IF($E118=\"\",\"\",INDEX(I_PFC!$A:$N,CP118,N$107))","v":""},{"$f":"IF($E118=\"\",\"\",INDEX(I_PFC!$A:$N,CQ118,O$107))","v":""},{"$f":"IF($E118=\"\",\"\",INDEX(I_PFC!$A:$N,CR118,P$107))","v":""},{"$f":"IF($E118=\"\",\"\",INDEX(I_PFC!$A:$N,CS118,Q$107))","v":""},{"$f":"IF($E118=\"\",\"\",INDEX(I_PFC!$A:$N,CT118,R$107))","v":""},{"$f":"IF($E118=\"\",\"\",INDEX(I_PFC!$A:$N,CU118,S$107))","v":""},{"$f":"IF($E118=\"\",\"\",INDEX(I_PFC!$A:$N,CV118,T$107))","v":""},{"$f":"IF($E118=\"\",\"\",INDEX(I_PFC!$A:$N,CW118,U$107))","v":""},{"$f":"IF($E118=\"\",\"\",INDEX(I_PFC!$A:$N,CX118,V$107))","v":""},{"$f":"IF($E118=\"\",\"\",INDEX(I_PFC!$A:$N,CY118,W$107))","v":""},{"$f":"IF($E118=\"\",\"\",INDEX(I_PFC!$A:$N,CZ118,X$107))","v":""},{"$f":"IF($E118=\"\",\"\",INDEX(I_PFC!$A:$N,DA118,Y$107))","v":""},{"$f":"IF($E118=\"\",\"\",INDEX(I_PFC!$A:$N,DB118,Z$107))","v":""},{"$f":"IF($E118=\"\",\"\",INDEX(I_PFC!$A:$N,DC118,AA$107))","v":""},{"$f":"IF($E118=\"\",\"\",INDEX(I_PFC!$A:$N,DD118,AB$107))","v":""},{"$f":"IF($E118=\"\",\"\",INDEX(I_PFC!$A:$N,DE118,AC$107))","v":""},{"$f":"IF($E118=\"\",\"\",INDEX(I_PFC!$A:$N,DF118,AD$107))","v":""},{"$f":"IF($E118=\"\",\"\",INDEX(I_PFC!$A:$N,DG118,AE$107))","v":""},{"$f":"IF($E118=\"\",\"\",INDEX(I_PFC!$A:$N,DH118,AF$107))","v":""},{"$f":"IF($E118=\"\",\"\",INDEX(I_PFC!$A:$N,DI118,AG$107))","v":""},{"$f":"IF($E118=\"\",\"\",INDEX(I_PFC!$A:$N,DJ118,AH$107))","v":""},{"$f":"IF($E118=\"\",\"\",INDEX(I_PFC!$A:$N,DK118,AI$107))","v":""},{"$f":"IF($E118=\"\",\"\",INDEX(I_PFC!$A:$N,DL118,AJ$107))","v":""},{"$f":"IF($E118=\"\",\"\",INDEX(I_PFC!$A:$N,DM118,AK$107))","v":""},{"$f":"IF($E118=\"\",\"\",INDEX(I_PFC!$A:$N,DN118,AL$107))","v":""},{"$f":"IF($E118=\"\",\"\",INDEX(I_PFC!$A:$N,DO118,AM$107))","v":""},{"$f":"IF($E118=\"\",\"\",INDEX(I_PFC!$A:$N,DP118,AN$107))","v":""},{"$f":"IF($E118=\"\",\"\",INDEX(I_PFC!$A:$N,DQ118,AO$107))","v":""},{"$f":"IF($E118=\"\",\"\",INDEX(I_PFC!$A:$N,DR118,AP$107))","v":""},{"$f":"IF($E118=\"\",\"\",INDEX(I_PFC!$A:$N,DS118,AQ$107))","v":""},{"$f":"IF($E118=\"\",\"\",INDEX(I_PFC!$A:$N,DT118,AR$107))","v":""},{"$f":"IF($E118=\"\",\"\",INDEX(I_PFC!$A:$N,DU118,AS$107))","v":""},{"$f":"IF($E118=\"\",\"\",INDEX(I_PFC!$A:$N,DV118,AT$107))","v":""},{"$f":"IF($E118=\"\",\"\",INDEX(I_PFC!$A:$N,DW118,AU$107))","v":""},{"$f":"IF($E118=\"\",\"\",INDEX(I_PFC!$A:$N,DX118,AV$107))","v":""},{"$f":"IF($E118=\"\",\"\",INDEX(I_PFC!$A:$N,DY118,AW$107))","v":""},{"$f":"IF($E118=\"\",\"\",INDEX(I_PFC!$A:$N,DZ118,AX$107))","v":""},{"$f":"IF($E118=\"\",\"\",INDEX(I_PFC!$A:$N,EA118,AY$107))","v":""},{"$f":"IF($E118=\"\",\"\",INDEX(I_PFC!$A:$N,EB118,AZ$107))","v":""},{"$f":"IF($E118=\"\",\"\",INDEX(I_PFC!$A:$N,EC118,BA$107))","v":""},{"$f":"IF($E118=\"\",\"\",INDEX(I_PFC!$A:$N,ED118,BB$107))","v":""},{"$f":"IF($E118=\"\",\"\",INDEX(I_PFC!$A:$N,EE118,BC$107))","v":""},{"$f":"IF($E118=\"\",\"\",INDEX(I_PFC!$A:$N,EF118,BD$107))","v":""},null,null,null,null,null,null,null,null,null,null,null,null,null,null,null,null,null,null,null,null,null,null,null,null,null,null,null,null,null,null,null,"SourceCategory_",{"$f":"INDEX(I_PFC!$A$50:$A$60,ROWS($CI$111:CI118))=\"ausblenden\"","v":false},597,598,599,602,603,604,607,608,609,612,613,614,617,618,619,625,632,632,632,632,632,632,632,626,633,633,{"$f":"DL117+72","v":633},633,633,633,633,627,634,634,634,634,634,634,634,640,640,640,640,640,640,645,651]
[null,{"$f":"IF(OR(B118=\"\",CK119),\"\",I_PFC!D58)","v":""},{"$f":"IF(B119=\"\",\"\",I_PFC!E58)","v":""},{"$f":"IF(B119=\"\",\"\",I_PFC!H58)","v":""},{"$f":"IF($B119=\"\",\"\",INDEX(C_InstallationDescription!F:F,MATCH($CJ119,C_InstallationDescription!$Q:$Q,0)))","v":""},{"$f":"IF($E119=\"\",\"\",INDEX(C_InstallationDescription!L:L,MATCH($CJ119,C_InstallationDescription!$Q:$Q,0)))","v":""},{"$f":"IF($E119=\"\",\"\",INDEX(C_InstallationDescription!M:M,MATCH($CJ119,C_InstallationDescription!$Q:$Q,0)))","v":""},{"$f":"IF($E119=\"\",\"\",INDEX(C_InstallationDescription!N:N,MATCH($CJ119,C_InstallationDescription!$Q:$Q,0)))","v":""},{"$f":"IF(INDEX(I_PFC!$L$50:$L$56,MATCH(B119,I_PFC!$D$50:$D$56,0))=\"\",\"\",INDEX(I_PFC!$L$50:$L$56,MATCH(B119,I_PFC!$D$50:$D$56,0)))","v":""},{"$f":"IF($E119=\"\",\"\",INDEX(I_PFC!$A:$N,CL119,J$107))","v":""},{"$f":"IF($E119=\"\",\"\",INDEX(I_PFC!$A:$N,CM119,K$107))","v":""},{"$f":"IF($E119=\"\",\"\",INDEX(I_PFC!$A:$N,CN119,L$107))","v":""},{"$f":"IF($E119=\"\",\"\",INDEX(I_PFC!$A:$N,CO119,M$107))","v":""},{"$f":"IF($E119=\"\",\"\",INDEX(I_PFC!$A:$N,CP119,N$107))","v":""},{"$f":"IF($E119=\"\",\"\",INDEX(I_PFC!$A:$N,CQ119,O$107))","v":""},{"$f":"IF($E119=\"\",\"\",INDEX(I_PFC!$A:$N,CR119,P$107))","v":""},{"$f":"IF($E119=\"\",\"\",INDEX(I_PFC!$A:$N,CS119,Q$107))","v":""},{"$f":"IF($E119=\"\",\"\",INDEX(I_PFC!$A:$N,CT119,R$107))","v":""},{"$f":"IF($E119=\"\",\"\",INDEX(I_PFC!$A:$N,CU119,S$107))","v":""},{"$f":"IF($E119=\"\",\"\",INDEX(I_PFC!$A:$N,CV119,T$107))","v":""},{"$f":"IF($E119=\"\",\"\",INDEX(I_PFC!$A:$N,CW119,U$107))","v":""},{"$f":"IF($E119=\"\",\"\",INDEX(I_PFC!$A:$N,CX119,V$107))","v":""},{"$f":"IF($E119=\"\",\"\",INDEX(I_PFC!$A:$N,CY119,W$107))","v":""},{"$f":"IF($E119=\"\",\"\",INDEX(I_PFC!$A:$N,CZ119,X$107))","v":""},{"$f":"IF($E119=\"\",\"\",INDEX(I_PFC!$A:$N,DA119,Y$107))","v":""},{"$f":"IF($E119=\"\",\"\",INDEX(I_PFC!$A:$N,DB119,Z$107))","v":""},{"$f":"IF($E119=\"\",\"\",INDEX(I_PFC!$A:$N,DC119,AA$107))","v":""},{"$f":"IF($E119=\"\",\"\",INDEX(I_PFC!$A:$N,DD119,AB$107))","v":""},{"$f":"IF($E119=\"\",\"\",INDEX(I_PFC!$A:$N,DE119,AC$107))","v":""},{"$f":"IF($E119=\"\",\"\",INDEX(I_PFC!$A:$N,DF119,AD$107))","v":""},{"$f":"IF($E119=\"\",\"\",INDEX(I_PFC!$A:$N,DG119,AE$107))","v":""},{"$f":"IF($E119=\"\",\"\",INDEX(I_PFC!$A:$N,DH119,AF$107))","v":""},{"$f":"IF($E119=\"\",\"\",INDEX(I_PFC!$A:$N,DI119,AG$107))","v":""},{"$f":"IF($E119=\"\",\"\",INDEX(I_PFC!$A:$N,DJ119,AH$107))","v":""},{"$f":"IF($E119=\"\",\"\",INDEX(I_PFC!$A:$N,DK119,AI$107))","v":""},{"$f":"IF($E119=\"\",\"\",INDEX(I_PFC!$A:$N,DL119,AJ$107))","v":""},{"$f":"IF($E119=\"\",\"\",INDEX(I_PFC!$A:$N,DM119,AK$107))","v":""},{"$f":"IF($E119=\"\",\"\",INDEX(I_PFC!$A:$N,DN119,AL$107))","v":""},{"$f":"IF($E119=\"\",\"\",INDEX(I_PFC!$A:$N,DO119,AM$107))","v":""},{"$f":"IF($E119=\"\",\"\",INDEX(I_PFC!$A:$N,DP119,AN$107))","v":""},{"$f":"IF($E119=\"\",\"\",INDEX(I_PFC!$A:$N,DQ119,AO$107))","v":""},{"$f":"IF($E119=\"\",\"\",INDEX(I_PFC!$A:$N,DR119,AP$107))","v":""},{"$f":"IF($E119=\"\",\"\",INDEX(I_PFC!$A:$N,DS119,AQ$107))","v":""},{"$f":"IF($E119=\"\",\"\",INDEX(I_PFC!$A:$N,DT119,AR$107))","v":""},{"$f":"IF($E119=\"\",\"\",INDEX(I_PFC!$A:$N,DU119,AS$107))","v":""},{"$f":"IF($E119=\"\",\"\",INDEX(I_PFC!$A:$N,DV119,AT$107))","v":""},{"$f":"IF($E119=\"\",\"\",INDEX(I_PFC!$A:$N,DW119,AU$107))","v":""},{"$f":"IF($E119=\"\",\"\",INDEX(I_PFC!$A:$N,DX119,AV$107))","v":""},{"$f":"IF($E119=\"\",\"\",INDEX(I_PFC!$A:$N,DY119,AW$107))","v":""},{"$f":"IF($E119=\"\",\"\",INDEX(I_PFC!$A:$N,DZ119,AX$107))","v":""},{"$f":"IF($E119=\"\",\"\",INDEX(I_PFC!$A:$N,EA119,AY$107))","v":""},{"$f":"IF($E119=\"\",\"\",INDEX(I_PFC!$A:$N,EB119,AZ$107))","v":""},{"$f":"IF($E119=\"\",\"\",INDEX(I_PFC!$A:$N,EC119,BA$107))","v":""},{"$f":"IF($E119=\"\",\"\",INDEX(I_PFC!$A:$N,ED119,BB$107))","v":""},{"$f":"IF($E119=\"\",\"\",INDEX(I_PFC!$A:$N,EE119,BC$107))","v":""},{"$f":"IF($E119=\"\",\"\",INDEX(I_PFC!$A:$N,EF119,BD$107))","v":""},null,null,null,null,null,null,null,null,null,null,null,null,null,null,null,null,null,null,null,null,null,null,null,null,null,null,null,null,null,null,null,"SourceCategory_",{"$f":"INDEX(I_PFC!$A$50:$A$60,ROWS($CI$111:CI119))=\"ausblenden\"","v":false},669,{"$f":"CM118+72","v":670},671,674,675,676,679,680,681,684,685,686,689,690,691,697,{"$f":"DB118+72","v":704},704,704,704,704,704,704,698,705,705,705,705,705,705,705,699,706,706,706,706,706,706,706,712,712,712,712,712,712,717,723]
[null,{"$f":"IF(OR(B119=\"\",CK120),\"\",I_PFC!D59)","v":""},{"$f":"IF(B120=\"\",\"\",I_PFC!E59)","v":""},{"$f":"IF(B120=\"\",\"\",I_PFC!H59)","v":""},{"$f":"IF($B120=\"\",\"\",INDEX(C_InstallationDescription!F:F,MATCH($CJ120,C_InstallationDescription!$Q:$Q,0)))","v":""},{"$f":"IF($E120=\"\",\"\",INDEX(C_InstallationDescription!L:L,MATCH($CJ120,C_InstallationDescription!$Q:$Q,0)))","v":""},{"$f":"IF($E120=\"\",\"\",INDEX(C_InstallationDescription!M:M,MATCH($CJ120,C_InstallationDescription!$Q:$Q,0)))","v":""},{"$f":"IF($E120=\"\",\"\",INDEX(C_InstallationDescription!N:N,MATCH($CJ120,C_InstallationDescription!$Q:$Q,0)))","v":""},{"$f":"IF(INDEX(I_PFC!$L$50:$L$56,MATCH(B120,I_PFC!$D$50:$D$56,0))=\"\",\"\",INDEX(I_PFC!$L$50:$L$56,MATCH(B120,I_PFC!$D$50:$D$56,0)))","v":""},{"$f":"IF($E120=\"\",\"\",INDEX(I_PFC!$A:$N,CL120,J$107))","v":""},{"$f":"IF($E120=\"\",\"\",INDEX(I_PFC!$A:$N,CM120,K$107))","v":""},{"$f":"IF($E120=\"\",\"\",INDEX(I_PFC!$A:$N,CN120,L$107))","v":""},{"$f":"IF($E120=\"\",\"\",INDEX(I_PFC!$A:$N,CO120,M$107))","v":""},{"$f":"IF($E120=\"\",\"\",INDEX(I_PFC!$A:$N,CP120,N$107))","v":""},{"$f":"IF($E120=\"\",\"\",INDEX(I_PFC!$A:$N,CQ120,O$107))","v":""},{"$f":"IF($E120=\"\",\"\",INDEX(I_PFC!$A:$N,CR120,P$107))","v":""},{"$f":"IF($E120=\"\",\"\",INDEX(I_PFC!$A:$N,CS120,Q$107))","v":""},{"$f":"IF($E120=\"\",\"\",INDEX(I_PFC!$A:$N,CT120,R$107))","v":""},{"$f":"IF($E120=\"\",\"\",INDEX(I_PFC!$A:$N,CU120,S$107))","v":""},{"$f":"IF($E120=\"\",\"\",INDEX(I_PFC!$A:$N,CV120,T$107))","v":""},{"$f":"IF($E120=\"\",\"\",INDEX(I_PFC!$A:$N,CW120,U$107))","v":""},{"$f":"IF($E120=\"\",\"\",INDEX(I_PFC!$A:$N,CX120,V$107))","v":""},{"$f":"IF($E120=\"\",\"\",INDEX(I_PFC!$A:$N,CY120,W$107))","v":""},{"$f":"IF($E120=\"\",\"\",INDEX(I_PFC!$A:$N,CZ120,X$107))","v":""},{"$f":"IF($E120=\"\",\"\",INDEX(I_PFC!$A:$N,DA120,Y$107))","v":""},{"$f":"IF($E120=\"\",\"\",INDEX(I_PFC!$A:$N,DB120,Z$107))","v":""},{"$f":"IF($E120=\"\",\"\",INDEX(I_PFC!$A:$N,DC120,AA$107))","v":""},{"$f":"IF($E120=\"\",\"\",INDEX(I_PFC!$A:$N,DD120,AB$107))","v":""},{"$f":"IF($E120=\"\",\"\",INDEX(I_PFC!$A:$N,DE120,AC$107))","v":""},{"$f":"IF($E120=\"\",\"\",INDEX(I_PFC!$A:$N,DF120,AD$107))","v":""},{"$f":"IF($E120=\"\",\"\",INDEX(I_PFC!$A:$N,DG120,AE$107))","v":""},{"$f":"IF($E120=\"\",\"\",INDEX(I_PFC!$A:$N,DH120,AF$107))","v":""},{"$f":"IF($E120=\"\",\"\",INDEX(I_PFC!$A:$N,DI120,AG$107))","v":""},{"$f":"IF($E120=\"\",\"\",INDEX(I_PFC!$A:$N,DJ120,AH$107))","v":""},{"$f":"IF($E120=\"\",\"\",INDEX(I_PFC!$A:$N,DK120,AI$107))","v":""},{"$f":"IF($E120=\"\",\"\",INDEX(I_PFC!$A:$N,DL120,AJ$107))","v":""},{"$f":"IF($E120=\"\",\"\",INDEX(I_PFC!$A:$N,DM120,AK$107))","v":""},{"$f":"IF($E120=\"\",\"\",INDEX(I_PFC!$A:$N,DN120,AL$107))","v":""},{"$f":"IF($E120=\"\",\"\",INDEX(I_PFC!$A:$N,DO120,AM$107))","v":""},{"$f":"IF($E120=\"\",\"\",INDEX(I_PFC!$A:$N,DP120,AN$107))","v":""},{"$f":"IF($E120=\"\",\"\",INDEX(I_PFC!$A:$N,DQ120,AO$107))","v":""},{"$f":"IF($E120=\"\",\"\",INDEX(I_PFC!$A:$N,DR120,AP$107))","v":""},{"$f":"IF($E120=\"\",\"\",INDEX(I_PFC!$A:$N,DS120,AQ$107))","v":""},{"$f":"IF($E120=\"\",\"\",INDEX(I_PFC!$A:$N,DT120,AR$107))","v":""},{"$f":"IF($E120=\"\",\"\",INDEX(I_PFC!$A:$N,DU120,AS$107))","v":""},{"$f":"IF($E120=\"\",\"\",INDEX(I_PFC!$A:$N,DV120,AT$107))","v":""},{"$f":"IF($E120=\"\",\"\",INDEX(I_PFC!$A:$N,DW120,AU$107))","v":""},{"$f":"IF($E120=\"\",\"\",INDEX(I_PFC!$A:$N,DX120,AV$107))","v":""},{"$f":"IF($E120=\"\",\"\",INDEX(I_PFC!$A:$N,DY120,AW$107))","v":""},{"$f":"IF($E120=\"\",\"\",INDEX(I_PFC!$A:$N,DZ120,AX$107))","v":""},{"$f":"IF($E120=\"\",\"\",INDEX(I_PFC!$A:$N,EA120,AY$107))","v":""},{"$f":"IF($E120=\"\",\"\",INDEX(I_PFC!$A:$N,EB120,AZ$107))","v":""},{"$f":"IF($E120=\"\",\"\",INDEX(I_PFC!$A:$N,EC120,BA$107))","v":""},{"$f":"IF($E120=\"\",\"\",INDEX(I_PFC!$A:$N,ED120,BB$107))","v":""},{"$f":"IF($E120=\"\",\"\",INDEX(I_PFC!$A:$N,EE120,BC$107))","v":""},{"$f":"IF($E120=\"\",\"\",INDEX(I_PFC!$A:$N,EF120,BD$107))","v":""},null,null,null,null,null,null,null,null,null,null,null,null,null,null,null,null,null,null,null,null,null,null,null,null,null,null,null,null,null,null,null,"SourceCategory_",{"$f":"INDEX(I_PFC!$A$50:$A$60,ROWS($CI$111:CI120))=\"ausblenden\"","v":false},741,742,743,746,747,748,751,752,753,756,757,758,761,762,763,769,776,776,776,776,776,776,776,770,777,777,777,777,777,777,777,771,778,778,778,778,778,778,778,784,784,784,784,784,784,789,795]
[]
["ausblenden"]
[null,{"$f":"Translations!$B$1240","v":"CO2 et N2O transférés"}]
[]
[null,{"$f":"'J_Transferred GHG'!E53","v":"Réf. du transfert"},{"$f":"'J_Transferred GHG'!F53","v":"Dénomination de l'installation:"},{"$f":"'J_Transferred GHG'!H53","v":"Nom de l’exploitant"},{"$f":"'J_Transferred GHG'!J53","v":"Identificateur unique de l’installation"},{"$f":"'J_Transferred GHG'!K53","v":"Type de transfert"},{"$f":"'J_Transferred GHG'!M53","v":"Méthode de mesure"}]
[null,{"$f":"'J_Transferred GHG'!E54","v":"TR1"},{"$f":"IF($B126=\"\",\"\",IF(INDEX('J_Transferred GHG'!$F$54:$F$60,ROWS($A$126:A126))=\"\",\"\",INDEX('J_Transferred GHG'!$F$54:$F$60,ROWS($A$126:A126))))","v":""},{"$f":"IF($B126=\"\",\"\",IF(INDEX('J_Transferred GHG'!$H$54:$H$60,ROWS($A$126:B126))=\"\",\"\",INDEX('J_Transferred GHG'!$H$54:$H$60,ROWS($A$126:B126))))","v":""},{"$f":"IF($B126=\"\",\"\",IF(INDEX('J_Transferred GHG'!$J$54:$J$60,ROWS($A$126:C126))=\"\",\"\",INDEX('J_Transferred GHG'!$J$54:$J$60,ROWS($A$126:C126))))","v":""},{"$f":"IF($B126=\"\",\"\",IF(INDEX('J_Transferred GHG'!$K$54:$K$60,ROWS($A$126:D126))=\"\",\"\",INDEX('J_Transferred GHG'!$K$54:$K$60,ROWS($A$126:D126))))","v":""},{"$f":"IF($B126=\"\",\"\",IF(INDEX('J_Transferred GHG'!$M$54:$M$60,ROWS($A$126:E126))=\"\",\"\",INDEX('J_Transferred GHG'!$M$54:$M$60,ROWS($A$126:E126))))","v":""},null,null,null,null,null,null,null,null,null,null,null,null,null,null,null,null,null,null,null,null,null,null,null,null,null,null,null,null,null,null,null,null,null,null,null,null,null,null,null,null,null,null,null,null,null,null,null,null,null,null,null,null,null,null,null,null,null,null,null,null,null,null,null,null,null,null,null,null,null,null,null,null,null,null,null,null,null,null,null,null,null,{"$f":"INDEX('J_Transferred GHG'!$A$54:$A$64,ROWS($CI$126:CI126))=\"ausblenden\"","v":false}]
[null,{"$f":"'J_Transferred GHG'!E55","v":"TR2"},{"$f":"IF($B127=\"\",\"\",IF(INDEX('J_Transferred GHG'!$F$54:$F$60,ROWS($A$126:A127))=\"\",\"\",INDEX('J_Transferred GHG'!$F$54:$F$60,ROWS($A$126:A127))))","v":""},{"$f":"IF($B127=\"\",\"\",IF(INDEX('J_Transferred GHG'!$H$54:$H$60,ROWS($A$126:B127))=\"\",\"\",INDEX('J_Transferred GHG'!$H$54:$H$60,ROWS($A$126:B127))))","v":""},{"$f":"IF($B127=\"\",\"\",IF(INDEX('J_Transferred GHG'!$J$54:$J$60,ROWS($A$126:C127))=\"\",\"\",INDEX('J_Transferred GHG'!$J$54:$J$60,ROWS($A$126:C127))))","v":""},{"$f":"IF($B127=\"\",\"\",IF(INDEX('J_Transferred GHG'!$K$54:$K$60,ROWS($A$126:D127))=\"\",\"\",INDEX('J_Transferred GHG'!$K$54:$K$60,ROWS($A$126:D127))))","v":""},{"$f":"IF($B127=\"\",\"\",IF(INDEX('J_Transferred GHG'!$M$54:$M$60,ROWS($A$126:E127))=\"\",\"\",INDEX('J_Transferred GHG'!$M$54:$M$60,ROWS($A$126:E127))))","v":""},null,null,null,null,null,null,null,null,null,null,null,null,null,null,null,null,null,null,null,null,null,null,null,null,null,null,null,null,null,null,null,null,null,null,null,null,null,null,null,null,null,null,null,null,null,null,null,null,null,null,null,null,null,null,null,null,null,null,null,null,null,null,null,null,null,null,null,null,null,null,null,null,null,null,null,null,null,null,null,null,null,{"$f":"INDEX('J_Transferred GHG'!$A$54:$A$64,ROWS($CI$126:CI127))=\"ausblenden\"","v":false}]
[null,{"$f":"'J_Transferred GHG'!E56","v":"TR3"},{"$f":"IF($B128=\"\",\"\",IF(INDEX('J_Transferred GHG'!$F$54:$F$60,ROWS($A$126:A128))=\"\",\"\",INDEX('J_Transferred GHG'!$F$54:$F$60,ROWS($A$126:A128))))","v":""},{"$f":"IF($B128=\"\",\"\",IF(INDEX('J_Transferred GHG'!$H$54:$H$60,ROWS($A$126:B128))=\"\",\"\",INDEX('J_Transferred GHG'!$H$54:$H$60,ROWS($A$126:B128))))","v":""},{"$f":"IF($B128=\"\",\"\",IF(INDEX('J_Transferred GHG'!$J$54:$J$60,ROWS($A$126:C128))=\"\",\"\",INDEX('J_Transferred GHG'!$J$54:$J$60,ROWS($A$126:C128))))","v":""},{"$f":"IF($B128=\"\",\"\",IF(INDEX('J_Transferred GHG'!$K$54:$K$60,ROWS($A$126:D128))=\"\",\"\",INDEX('J_Transferred GHG'!$K$54:$K$60,ROWS($A$126:D128))))","v":""},{"$f":"IF($B128=\"\",\"\",IF(INDEX('J_Transferred GHG'!$M$54:$M$60,ROWS($A$126:E128))=\"\",\"\",INDEX('J_Transferred GHG'!$M$54:$M$60,ROWS($A$126:E128))))","v":""},null,null,null,null,null,null,null,null,null,null,null,null,null,null,null,null,null,null,null,null,null,null,null,null,null,null,null,null,null,null,null,null,null,null,null,null,null,null,null,null,null,null,null,null,null,null,null,null,null,null,null,null,null,null,null,null,null,null,null,null,null,null,null,null,null,null,null,null,null,null,null,null,null,null,null,null,null,null,null,null,null,{"$f":"INDEX('J_Transferred GHG'!$A$54:$A$64,ROWS($CI$126:CI128))=\"ausblenden\"","v":false}]
[null,{"$f":"'J_Transferred GHG'!E57","v":"TR4"},{"$f":"IF($B129=\"\",\"\",IF(INDEX('J_Transferred GHG'!$F$54:$F$60,ROWS($A$126:A129))=\"\",\"\",INDEX('J_Transferred GHG'!$F$54:$F$60,ROWS($A$126:A129))))","v":""},{"$f":"IF($B129=\"\",\"\",IF(INDEX('J_Transferred GHG'!$H$54:$H$60,ROWS($A$126:B129))=\"\",\"\",INDEX('J_Transferred GHG'!$H$54:$H$60,ROWS($A$126:B129))))","v":""},{"$f":"IF($B129=\"\",\"\",IF(INDEX('J_Transferred GHG'!$J$54:$J$60,ROWS($A$126:C129))=\"\",\"\",INDEX('J_Transferred GHG'!$J$54:$J$60,ROWS($A$126:C129))))","v":""},{"$f":"IF($B129=\"\",\"\",IF(INDEX('J_Transferred GHG'!$K$54:$K$60,ROWS($A$126:D129))=\"\",\"\",INDEX('J_Transferred GHG'!$K$54:$K$60,ROWS($A$126:D129))))","v":""},{"$f":"IF($B129=\"\",\"\",IF(INDEX('J_Transferred GHG'!$M$54:$M$60,ROWS($A$126:E129))=\"\",\"\",INDEX('J_Transferred GHG'!$M$54:$M$60,ROWS($A$126:E129))))","v":""},null,null,null,null,null,null,null,null,null,null,null,null,null,null,null,null,null,null,null,null,null,null,null,null,null,null,null,null,null,null,null,null,null,null,null,null,null,null,null,null,null,null,null,null,null,null,null,null,null,null,null,null,null,null,null,null,null,null,null,null,null,null,null,null,null,null,null,null,null,null,null,null,null,null,null,null,null,null,null,null,null,{"$f":"INDEX('J_Transferred GHG'!$A$54:$A$64,ROWS($CI$126:CI129))=\"ausblenden\"","v":false}]
[null,{"$f":"'J_Transferred GHG'!E58","v":"TR5"},{"$f":"IF($B130=\"\",\"\",IF(INDEX('J_Transferred GHG'!$F$54:$F$60,ROWS($A$126:A130))=\"\",\"\",INDEX('J_Transferred GHG'!$F$54:$F$60,ROWS($A$126:A130))))","v":""},{"$f":"IF($B130=\"\",\"\",IF(INDEX('J_Transferred GHG'!$H$54:$H$60,ROWS($A$126:B130))=\"\",\"\",INDEX('J_Transferred GHG'!$H$54:$H$60,ROWS($A$126:B130))))","v":""},{"$f":"IF($B130=\"\",\"\",IF(INDEX('J_Transferred GHG'!$J$54:$J$60,ROWS($A$126:C130))=\"\",\"\",INDEX('J_Transferred GHG'!$J$54:$J$60,ROWS($A$126:C130))))","v":""},{"$f":"IF($B130=\"\",\"\",IF(INDEX('J_Transferred GHG'!$K$54:$K$60,ROWS($A$126:D130))=\"\",\"\",INDEX('J_Transferred GHG'!$K$54:$K$60,ROWS($A$126:D130))))","v":""},{"$f":"IF($B130=\"\",\"\",IF(INDEX('J_Transferred GHG'!$M$54:$M$60,ROWS($A$126:E130))=\"\",\"\",INDEX('J_Transferred GHG'!$M$54:$M$60,ROWS($A$126:E130))))","v":""},null,null,null,null,null,null,null,null,null,null,null,null,null,null,null,null,null,null,null,null,null,null,null,null,null,null,null,null,null,null,null,null,null,null,null,null,null,null,null,null,null,null,null,null,null,null,null,null,null,null,null,null,null,null,null,null,null,null,null,null,null,null,null,null,null,null,null,null,null,null,null,null,null,null,null,null,null,null,null,null,null,{"$f":"INDEX('J_Transferred GHG'!$A$54:$A$64,ROWS($CI$126:CI130))=\"ausblenden\"","v":false}]
[null,{"$f":"IF(OR(B130=\"\",CK131),\"\",I_PFC!D70)","v":""},{"$f":"IF($B131=\"\",\"\",IF(INDEX('J_Transferred GHG'!$F$54:$F$60,ROWS($A$126:A131))=\"\",\"\",INDEX('J_Transferred GHG'!$F$54:$F$60,ROWS($A$126:A131))))","v":""},{"$f":"IF($B131=\"\",\"\",IF(INDEX('J_Transferred GHG'!$H$54:$H$60,ROWS($A$126:B131))=\"\",\"\",INDEX('J_Transferred GHG'!$H$54:$H$60,ROWS($A$126:B131))))","v":""},{"$f":"IF($B131=\"\",\"\",IF(INDEX('J_Transferred GHG'!$J$54:$J$60,ROWS($A$126:C131))=\"\",\"\",INDEX('J_Transferred GHG'!$J$54:$J$60,ROWS($A$126:C131))))","v":""},{"$f":"IF($B131=\"\",\"\",IF(INDEX('J_Transferred GHG'!$K$54:$K$60,ROWS($A$126:D131))=\"\",\"\",INDEX('J_Transferred GHG'!$K$54:$K$60,ROWS($A$126:D131))))","v":""},{"$f":"IF($B131=\"\",\"\",IF(INDEX('J_Transferred GHG'!$M$54:$M$60,ROWS($A$126:E131))=\"\",\"\",INDEX('J_Transferred GHG'!$M$54:$M$60,ROWS($A$126:E131))))","v":""},null,null,null,null,null,null,null,null,null,null,null,null,null,null,null,null,null,null,null,null,null,null,null,null,null,null,null,null,null,null,null,null,null,null,null,null,null,null,null,null,null,null,null,null,null,null,null,null,null,null,null,null,null,null,null,null,null,null,null,null,null,null,null,null,null,null,null,null,null,null,null,null,null,null,null,null,null,null,null,null,null,{"$f":"INDEX('J_Transferred GHG'!$A$54:$A$64,ROWS($CI$126:CI131))=\"ausblenden\"","v":true}]
[null,{"$f":"IF(OR(B131=\"\",CK132),\"\",I_PFC!D71)","v":""},{"$f":"IF($B132=\"\",\"\",IF(INDEX('J_Transferred GHG'!$F$54:$F$60,ROWS($A$126:A132))=\"\",\"\",INDEX('J_Transferred GHG'!$F$54:$F$60,ROWS($A$126:A132))))","v":""},{"$f":"IF($B132=\"\",\"\",IF(INDEX('J_Transferred GHG'!$H$54:$H$60,ROWS($A$126:B132))=\"\",\"\",INDEX('J_Transferred GHG'!$H$54:$H$60,ROWS($A$126:B132))))","v":""},{"$f":"IF($B132=\"\",\"\",IF(INDEX('J_Transferred GHG'!$J$54:$J$60,ROWS($A$126:C132))=\"\",\"\",INDEX('J_Transferred GHG'!$J$54:$J$60,ROWS($A$126:C132))))","v":""},{"$f":"IF($B132=\"\",\"\",IF(INDEX('J_Transferred GHG'!$K$54:$K$60,ROWS($A$126:D132))=\"\",\"\",INDEX('J_Transferred GHG'!$K$54:$K$60,ROWS($A$126:D132))))","v":""},{"$f":"IF($B132=\"\",\"\",IF(INDEX('J_Transferred GHG'!$M$54:$M$60,ROWS($A$126:E132))=\"\",\"\",INDEX('J_Transferred GHG'!$M$54:$M$60,ROWS($A$126:E132))))","v":""},null,null,null,null,null,null,null,null,null,null,null,null,null,null,null,null,null,null,null,null,null,null,null,null,null,null,null,null,null,null,null,null,null,null,null,null,null,null,null,null,null,null,null,null,null,null,null,null,null,null,null,null,null,null,null,null,null,null,null,null,null,null,null,null,null,null,null,null,null,null,null,null,null,null,null,null,null,null,null,null,null,{"$f":"INDEX('J_Transferred GHG'!$A$54:$A$64,ROWS($CI$126:CI132))=\"ausblenden\"","v":false}]
[null,{"$f":"IF(OR(B132=\"\",CK133),\"\",I_PFC!D72)","v":""},{"$f":"IF($B133=\"\",\"\",IF(INDEX('J_Transferred GHG'!$F$54:$F$60,ROWS($A$126:A133))=\"\",\"\",INDEX('J_Transferred GHG'!$F$54:$F$60,ROWS($A$126:A133))))","v":""},{"$f":"IF($B133=\"\",\"\",IF(INDEX('J_Transferred GHG'!$H$54:$H$60,ROWS($A$126:B133))=\"\",\"\",INDEX('J_Transferred GHG'!$H$54:$H$60,ROWS($A$126:B133))))","v":""},{"$f":"IF($B133=\"\",\"\",IF(INDEX('J_Transferred GHG'!$J$54:$J$60,ROWS($A$126:C133))=\"\",\"\",INDEX('J_Transferred GHG'!$J$54:$J$60,ROWS($A$126:C133))))","v":""},{"$f":"IF($B133=\"\",\"\",IF(INDEX('J_Transferred GHG'!$K$54:$K$60,ROWS($A$126:D133))=\"\",\"\",INDEX('J_Transferred GHG'!$K$54:$K$60,ROWS($A$126:D133))))","v":""},{"$f":"IF($B133=\"\",\"\",IF(INDEX('J_Transferred GHG'!$M$54:$M$60,ROWS($A$126:E133))=\"\",\"\",INDEX('J_Transferred GHG'!$M$54:$M$60,ROWS($A$126:E133))))","v":""},null,null,null,null,null,null,null,null,null,null,null,null,null,null,null,null,null,null,null,null,null,null,null,null,null,null,null,null,null,null,null,null,null,null,null,null,null,null,null,null,null,null,null,null,null,null,null,null,null,null,null,null,null,null,null,null,null,null,null,null,null,null,null,null,null,null,null,null,null,null,null,null,null,null,null,null,null,null,null,null,null,{"$f":"INDEX('J_Transferred GHG'!$A$54:$A$64,ROWS($CI$126:CI133))=\"ausblenden\"","v":false}]
[null,{"$f":"IF(OR(B133=\"\",CK134),\"\",I_PFC!D73)","v":""},{"$f":"IF($B134=\"\",\"\",IF(INDEX('J_Transferred GHG'!$F$54:$F$60,ROWS($A$126:A134))=\"\",\"\",INDEX('J_Transferred GHG'!$F$54:$F$60,ROWS($A$126:A134))))","v":""},{"$f":"IF($B134=\"\",\"\",IF(INDEX('J_Transferred GHG'!$H$54:$H$60,ROWS($A$126:B134))=\"\",\"\",INDEX('J_Transferred GHG'!$H$54:$H$60,ROWS($A$126:B134))))","v":""},{"$f":"IF($B134=\"\",\"\",IF(INDEX('J_Transferred GHG'!$J$54:$J$60,ROWS($A$126:C134))=\"\",\"\",INDEX('J_Transferred GHG'!$J$54:$J$60,ROWS($A$126:C134))))","v":""},{"$f":"IF($B134=\"\",\"\",IF(INDEX('J_Transferred GHG'!$K$54:$K$60,ROWS($A$126:D134))=\"\",\"\",INDEX('J_Transferred GHG'!$K$54:$K$60,ROWS($A$126:D134))))","v":""},{"$f":"IF($B134=\"\",\"\",IF(INDEX('J_Transferred GHG'!$M$54:$M$60,ROWS($A$126:E134))=\"\",\"\",INDEX('J_Transferred GHG'!$M$54:$M$60,ROWS($A$126:E134))))","v":""},null,null,null,null,null,null,null,null,null,null,null,null,null,null,null,null,null,null,null,null,null,null,null,null,null,null,null,null,null,null,null,null,null,null,null,null,null,null,null,null,null,null,null,null,null,null,null,null,null,null,null,null,null,null,null,null,null,null,null,null,null,null,null,null,null,null,null,null,null,null,null,null,null,null,null,null,null,null,null,null,null,{"$f":"INDEX('J_Transferred GHG'!$A$54:$A$64,ROWS($CI$126:CI134))=\"ausblenden\"","v":false}]
[null,{"$f":"IF(OR(B134=\"\",CK135),\"\",I_PFC!D74)","v":""},{"$f":"IF($B135=\"\",\"\",IF(INDEX('J_Transferred GHG'!$F$54:$F$60,ROWS($A$126:A135))=\"\",\"\",INDEX('J_Transferred GHG'!$F$54:$F$60,ROWS($A$126:A135))))","v":""},{"$f":"IF($B135=\"\",\"\",IF(INDEX('J_Transferred GHG'!$H$54:$H$60,ROWS($A$126:B135))=\"\",\"\",INDEX('J_Transferred GHG'!$H$54:$H$60,ROWS($A$126:B135))))","v":""},{"$f":"IF($B135=\"\",\"\",IF(INDEX('J_Transferred GHG'!$J$54:$J$60,ROWS($A$126:C135))=\"\",\"\",INDEX('J_Transferred GHG'!$J$54:$J$60,ROWS($A$126:C135))))","v":""},{"$f":"IF($B135=\"\",\"\",IF(INDEX('J_Transferred GHG'!$K$54:$K$60,ROWS($A$126:D135))=\"\",\"\",INDEX('J_Transferred GHG'!$K$54:$K$60,ROWS($A$126:D135))))","v":""},{"$f":"IF($B135=\"\",\"\",IF(INDEX('J_Transferred GHG'!$M$54:$M$60,ROWS($A$126:E135))=\"\",\"\",INDEX('J_Transferred GHG'!$M$54:$M$60,ROWS($A$126:E135))))","v":""},null,null,null,null,null,null,null,null,null,null,null,null,null,null,null,null,null,null,null,null,null,null,null,null,null,null,null,null,null,null,null,null,null,null,null,null,null,null,null,null,null,null,null,null,null,null,null,null,null,null,null,null,null,null,null,null,null,null,null,null,null,null,null,null,null,null,null,null,null,null,null,null,null,null,null,null,null,null,null,null,null,{"$f":"INDEX('J_Transferred GHG'!$A$54:$A$64,ROWS($CI$126:CI135))=\"ausblenden\"","v":false}]

{"sheet":"UBA_Parameters","index":16,"n_rows":31,"n_cols":11,"rows_kept":31,"cut":false,"hidden":true,"merged":[[2,5,2,8],[18,3,18,4],[20,3,20,4],[2,10,4,10],[2,3,2,4],[4,3,4,4],[2,9,4,9],[14,3,14,4],[16,3,16,4],[6,3,6,4],[2,1,4,1],[8,3,8,4],[10,3,10,4],[28,3,28,4],[12,3,12,4],[32,3,32,4],[22,3,22,4],[24,3,24,4],[26,3,26,4],[30,3,30,4]]}
["Please be aware that these parameters are used by the macros. Do NOT make any changes to this page!"]
[]
[null,"ID",null,"RefColumn",null,"HelpAreaColumn",null,null,null,"Anchor name","Further macros attached"]
[null,null,null,"ColumnStart","ColumnEnd","Column","Column","Column","Column"]
[null,null,"# of lines","# of lines",null,"# of lines","# of lines","# of lines","# of lines"]
[null,"AddEmissionSource",1,"E","E","T","V","W",null,"ADD_EmissionSource"]
[null,null,null,1,null,1,1,1]
[null,"AddEmissionPoint",1,"E","E","T","V","W",null,"ADD_EmissionPoint"]
[null,null,null,1,null,1,1,1]
[null,"AddMeasurementPoint",1,"E","E","T","V","W",null,"ADD_MeasurementPoint","ADD_CompleteMeasurementPoint"]
[null,null,null,1,null,1,1,1]
[null,"AddSourceStream",1,"E","E","T","V","W",null,"ADD_SourceStream","ADD_CompleteSourceStream"]
[null,null,null,1,null,1,1,1]
[null,"AddAluSourceStream",1,null,null,"S",null,null,null,"ADD_AluSourceStream","ADD_CompleteAluSourceStream"]
[null,null,null,null,null,1]
[null,"AddActivitiesExcluded",1,"A","A",null,null,null,null,"ADD_ActivitiesExcluded"]
[null,null,null,1]
[null,"AddMPVersion",1,"A","A",null,null,null,null,"ADD_MPVersion"]
[null,null,null,1]
[null,"AddInformationSources",1,"E","E","T","V","W",null,"ADD_InformationSources"]
[null,null,null,1,null,1,1,1]
[null,"AddLaboratories",1,"E","E","T","V","W",null,"ADD_Laboratories"]
[null,null,null,1,null,1,1,1]
[null,"AddMeasuringInstrSheetD",2,"E","E","R","S","T","V","ADD_MeasurementInstrument"]
[null,null,null,2,null,1,2,2,1]
[null,"AddMeasuringInstrSheetF",2,"C","D","R","S","T","V","ADD_MeasurementInstrument"]
[null,null,null,2,null,1,2,2,1]
[null,"AddTransferCO2Installations",1,"E","E",null,null,null,null,"ADD_TransferCO2Installations"]
[null,null,null,1]
[null,"AddPipelineDevices",1,"E","E",null,null,null,null,"ADD_PipelineDevice"]
[null,null,null,1]

{"sheet":"MSParameters","index":17,"n_rows":2,"n_cols":2,"rows_kept":2,"cut":false,"hidden":true,"merged":[]}
[]
[null,"MS are free to use this sheet"]

{"sheet":"EUwideConstants","index":18,"n_rows":823,"n_cols":44,"rows_kept":823,"cut":false,"hidden":true,"merged":[[228,4,228,8]]}
[]
["EUconst_TrueFalse",true,false]
["EUconst_Fuel",{"$f":"Translations!$B$441","v":"Méthode standard: Combustible, article 24, paragraphe 1"}]
["EUconst_ProcessCarbonate",{"$f":"Translations!$B$783","v":"Méthode standard: Procédé, article 24, paragraphe 2"}]
["EUconst_MassBalance",{"$f":"Translations!$B$784","v":"Méthode du bilan massique, article 25"}]
["EUconst_CNTR_ActivityData","ActivityData_"]
["EUconst_CNTR_NCV","NCV_"]
["EUconst_CNTR_EF","EF_"]
["EUconst_CNTR_CarbonContent","CarbC_"]
["EUconst_CNTR_BiomassContent","BioC_"]
["EUconst_CNTR_OxidationFactor","OxF_"]
["EUconst_CNTR_ConversionFactor","ConvF_"]
["EUconst_CNTR_SourceCategory","SourceCategory_"]
["EUconst_CNTR_SourceStreamName","SourceStreamName_"]
["EUconst_CNTR_SourceStreamClass","SourceStreamClass_"]
["EUconst_CNTR_SmallEmitter","SmallEmitter_"]
["EUconst_CNTR_NoSmallEmitter","NoSmallEmitter_"]
["EUconst_CNTR_CEMS","CEMS_"]
["EUconst_MsgNextSheet",{"$f":"Translations!$B$785","v":"<<< Cliquer ici pour passer à la feuille suivante >>> "}]
["EUconst_SourceStream",{"$f":"Translations!$B$786","v":"Flux"}]
["EUconst_MeasurementPoint",{"$f":"Translations!$B$787","v":"Point de mesure"}]
["EUconst_OwnerInstrument",{"$f":"Translations!$B$149","v":"Exploitant"},{"$f":"Translations!$B$788","v":"Partenaire commercial"}]
["EUconst_ActivityDeterminationMethod",{"$f":"Translations!$B$789","v":"Lot"},{"$f":"Translations!$B$457","v":"continue"}]
["EUconst_FurtherGuidancePoint1",{"$f":"Translations!$B$790","v":"Des instructions détaillées concernant la saisie des données dans ce module figurent dans la première partie de ce module. "}]
["EUconst_NA",{"$f":"Translations!$B$530","v":"s.o."}]
["EUconst_Relevant",{"$f":"Translations!$B$791","v":"pertinent"}]
["EUconst_NotRelevant",{"$f":"Translations!$B$792","v":"non pertinent"}]
["EUconst_NotApplicable",{"$f":"Translations!$B$793","v":"sans objet !"}]
["EUconst_MsgTierActivityLevel",{"$f":"Translations!$B$794","v":"L’incertitude ne doit pas dépasser  "}]
["EUconst_MsgTierCKD",{"$f":"Translations!$B$795","v":"s.o.; utilisez une estimation basée sur les meilleures pratiques)"}]
["EUconst_MsgNextSheet",{"$f":"Translations!$B$785","v":"<<< Cliquer ici pour passer à la feuille suivante >>> "}]
["EUconst_MsgEnterThisSection",{"$f":"Translations!$B$796","v":"Veuillez saisir des données dans cette rubrique"}]
["EUconst_MsgGoOn",{"$f":"Translations!$B$797","v":"Passez aux points ci-dessous"}]
["EUconst_MsgSmallEmitters",{"$f":"Translations!$B$798","v":"Veuillez justifier la raison pour laquelle les données historiques ne sont pas disponibles ou ne conviennent pas."}]
["EUconst_NoTier",{"$f":"Translations!$B$799","v":"Aucun niveau"}]
["EUconst_ERR_NoN2OSmallEmitters",{"$f":"Translations!$B$800","v":"Cette règle ne s’applique pas pour les installations dans lesquelles sont menées des activités émettant du N2O."}]
["EUconst_ERR_ThreshholdDeminimis",{"$f":"Translations!$B$801","v":"Dépassement du seuil de minimis !"}]
["EUconst_ERR_ThreshholdMinor",{"$f":"Translations!$B$802","v":"Dépassement du seuil mineur !"}]
["EUconst_ERR_CheckEstimatedEmissions",{"$f":"Translations!$B$803","v":"Somme excédant 5 % des émissions annuelles (rubrique 6.c) !"}]
["Euconst_VersionTracking",{"$f":"Translations!$B$804","v":"Réservé à l'autorité compétente"},{"$f":"Translations!$B$805","v":"À remplir par l’exploitant"}]
["EUconst_MSlist",{"$f":"Translations!$B$806","v":"Autriche"},{"$f":"Translations!$B$807","v":"Belgique"},{"$f":"Translations!$B$808","v":"Bulgarie"},{"$f":"Translations!$B$809","v":"Croatie"},{"$f":"Translations!$B$810","v":"Chypre"},{"$f":"Translations!$B$811","v":"République tchèque"},{"$f":"Translations!$B$812","v":"Danemark"},{"$f":"Translations!$B$813","v":"Estonie"},{"$f":"Translations!$B$814","v":"Finlande"},{"$f":"Translations!$B$815","v":"France"},{"$f":"Translations!$B$816","v":"Allemagne"},{"$f":"Translations!$B$817","v":"Grèce"},{"$f":"Translations!$B$818","v":"Hongrie"},{"$f":"Translations!$B$819","v":"Islande"},{"$f":"Translations!$B$820","v":"Irlande"},{"$f":"Translations!$B$821","v":"Italie"},{"$f":"Translations!$B$822","v":"Lettonie"},{"$f":"Translations!$B$823","v":"Liechtenstein"},{"$f":"Translations!$B$824","v":"Lituanie"},{"$f":"Translations!$B$825","v":"Luxembourg"},{"$f":"Translations!$B$826","v":"Malte"},{"$f":"Translations!$B$827","v":"Pays-Bas"},{"$f":"Translations!$B$828","v":"Norvège"},{"$f":"Translations!$B$829","v":"Pologne"},{"$f":"Translations!$B$830","v":"Portugal"},{"$f":"Translations!$B$831","v":"Roumanie"},{"$f":"Translations!$B$832","v":"Slovaquie"},{"$f":"Translations!$B$833","v":"Slovénie"},{"$f":"Translations!$B$834","v":"Espagne"},{"$f":"Translations!$B$835","v":"Suède"},{"$f":"Translations!$B$836","v":"Royaume-Uni"}]
["EUconst_MSlistISOcodes","AT","BE","BG","HR","CY","CZ","DK","EE","FI","FR","DE","EL","HU","IS","IE","IT","LV","LI","LT","LU","MT","NL","NO","PL","PT","RO","SK","SI","ES","SE","UK"]
["Euconst_MPReferenceDateTypes",{"$f":"Translations!$B$140","v":"soumis à l’autorité compétente"},{"$f":"Translations!$B$145","v":"approuvé par l 'autorité compétente"},{"$f":"Translations!$B$837","v":"rejeté par l’autorité compétente"},{"$f":"Translations!$B$142","v":"retourné avec remarques"},{"$f":"Translations!$B$838","v":"Projet de document de travail"}]
["EUConst_RelSectionCalc",{"$f":"Translations!$B$839","v":"Rubriques pertinentes: 6 (sauf d), 7, 8"}]
["EUConst_RelSectionMeasure",{"$f":"Translations!$B$840","v":"Rubriques pertinentes: 6 (sauf e), 9, 10 , 11"}]
["EUConst_RelSectionFallback",{"$f":"Translations!$B$841","v":"Rubriques pertinentes: 12"}]
["EUConst_RelSectionN2O",{"$f":"Translations!$B$842","v":"Rubriques pertinentes: 6 (sauf e), 9, 10 , 11, 13"}]
["EUConst_RelSectionPFC",{"$f":"Translations!$B$843","v":"Rubriques pertinentes: 6 (sauf d), 7, 14 , 15, 16"}]
["EUConst_RelSectionCCS","Relevant sections: sheet J (other sections as selected above)"]
["EUConst_RelSectionCCU","Relevant sections: sheet J2 (other sections as selected above)"]
["EUconst_CEMSType","CO2","N2O",{"$f":"Translations!$B$845","v":"Transfert de CO2"},{"$f":"Translations!$B$1241","v":"Transfert de N2O"}]
["EUconst_ProcessPFC",{"$f":"Translations!$B$846","v":"Calcul avec dispositions spéciales pour les PFC (annexe IV section 8)"}]
["EUconst_CO2TransferTypes",{"$f":"Translations!$B$847","v":"Réception de CO2 intrinsèque"},{"$f":"Translations!$B$848","v":"Exportation de CO2 intrinsèque vers une installation SEQE"},{"$f":"Translations!$B$849","v":"Exportation de CO2 intrinsèque vers un client hors SEQE"},{"$f":"Translations!$B$850","v":"Réception de CO2 transféré"},{"$f":"Translations!$B$851","v":"Exportation de CO2 transféré"},{"$f":"Translations!$B$1243","v":"Réception de N2O transféré"},{"$f":"Translations!$B$1244","v":"Exportation de N2O transféré"}]
["EUconst_TransCO2Approach",{"$f":"Translations!$B$852","v":"Recours aux instruments propres;"},{"$f":"Translations!$B$853","v":"Recours aux instruments d’autres installations"},{"$f":"Translations!$B$854","v":"Recours aux instruments des deux partenaires"}]
["EUconst_TransportApproaches",{"$f":"Translations!$B$855","v":"Méthode A"},{"$f":"Translations!$B$856","v":"Méthode B"}]
["EUconst_IRMonth",{"$f":"EUconst_NA","v":"s.o."},{"$f":"Translations!$B$1245","v":"Juin"},{"$f":"Translations!$B$1246","v":"Juillet"},{"$f":"Translations!$B$1247","v":"Août"},{"$f":"Translations!$B$1248","v":"Septembre"}]
[]
[]
[]
[{"$f":"Translations!$B$857","v":"AnnexIActivities (Activités visées à l’annexe I)"}]
[{"$f":"Translations!$B1307","v":"Combustion de combustibles"}]
[{"$f":"Translations!$B$1274","v":"Incinération des déchets municipaux"}]
[{"$f":"Translations!$B1308","v":"Raffinage d'huile"}]
[{"$f":"Translations!$B1309","v":"Production de coke"}]
[{"$f":"Translations!$B1310","v":"Grillage ou frittage de minerai métallique"}]
[{"$f":"Translations!$B1311","v":"Production de fer ou d'acier"}]
[{"$f":"Translations!$B1312","v":"Production ou transformation de métaux ferreux"}]
[{"$f":"Translations!$B1313","v":"Production d'aluminium primaire ou d'alumine"}]
[{"$f":"Translations!$B1314","v":"Production d'aluminium secondaire"}]
[{"$f":"Translations!$B1315","v":"Production ou transformation de métaux non ferreux"}]
[{"$f":"Translations!$B1316","v":"Production de clinker"}]
[{"$f":"Translations!$B1317","v":"Production de chaux ou calcination de dolomite/magnésite"}]
[{"$f":"Translations!$B1318","v":"Fabrication de verre"}]
[{"$f":"Translations!$B1319","v":"Fabrication de produits céramiques"}]
[{"$f":"Translations!$B1320","v":"Fabrication de laine minérale"}]
[{"$f":"Translations!$B1321","v":"Production ou transformation de plâtre ou de plaques de plâtre"}]
[{"$f":"Translations!$B1322","v":"Production de pâte à papier"}]
[{"$f":"Translations!$B1323","v":"Production de papier ou de carton"}]
[{"$f":"Translations!$B1324","v":"Production de noir de carbone"}]
[{"$f":"Translations!$B1325","v":"Production d'acide nitrique"}]
[{"$f":"Translations!$B1326","v":"Production d'acide adipique"}]
[{"$f":"Translations!$B1327","v":"Production de glyoxal et d'acide glyoxylique"}]
[{"$f":"Translations!$B1328","v":"Production d'ammoniac"}]
[{"$f":"Translations!$B1329","v":"Production de produits chimiques en vrac"}]
[{"$f":"Translations!$B1330","v":"Production d'hydrogène et de gaz de synthèse"}]
[{"$f":"Translations!$B1331","v":"Production de carbonate de sodium et de bicarbonate de sodium"}]
[{"$f":"Translations!$B1332","v":"Captage des gaz à effet de serre au titre de la directive 2009/31/CE"}]
[{"$f":"Translations!$B1333","v":"Transport de gaz à effet de serre au titre de la directive 2009/31/CE"}]
[{"$f":"Translations!$B1334","v":"Stockage des gaz à effet de serre dans le cadre de la directive 2009/31/CE"}]
[]
[{"$f":"Translations!$B$884","v":"SpecifiedEmissions2 (Émissions spécifiques)"}]
["CO2"]
["N2O"]
[{"$f":"Translations!$B$885","v":"PFCs"}]
[{"$f":"Translations!$B$886","v":"CO2 & N2O"}]
[{"$f":"Translations!$B$887","v":"CO2 & PFCs"}]
[]
[{"$f":"Translations!$B$888","v":"SourceCategory (Catégorie de source)"}]
[{"$f":"Translations!$B$313","v":"Flux majeur"}]
[{"$f":"Translations!$B$889","v":"Mineure"}]
[{"$f":"Translations!$B$890","v":"De minimis"}]
[]
[{"$f":"Translations!$B$891","v":"SourceCategoryCEMS (SMCE pour catégorie de source)"}]
[{"$f":"Translations!$B$313","v":"Flux majeur"}]
[{"$f":"Translations!$B$889","v":"Mineure"}]
[]
[]
[{"$f":"Translations!$B$892","v":"AnalysisFrequency (Fréquence d’analyse)"}]
[{"$f":"Translations!$B$893","v":"continue"}]
[{"$f":"Translations!$B$894","v":"quotidienne"}]
[{"$f":"Translations!$B$542","v":"Toutes les semaines"}]
[{"$f":"Translations!$B$895","v":"mensuelle"}]
[{"$f":"Translations!$B$896","v":"trimestrielle"}]
[{"$f":"Translations!$B$897","v":"semestrielle"}]
[{"$f":"Translations!$B$898","v":"annuelle"}]
[]
[]
[{"$f":"Translations!$B$899","v":"OperationType (Type de fonctionnement) "}]
[{"$f":"Translations!$B$900","v":"Exploitation normale"}]
[{"$f":"Translations!$B$901","v":"Fonctionnement non classique"}]
[{"$f":"Translations!$B$584","v":"Exploitation normale et fonctionnement non classique"}]
[]
[{"$f":"Translations!$B$902","v":"PFCMethods (Méthodes pour PFC)"}]
[{"$f":"Translations!$B$903","v":"Méthode A - méthode des pentes"}]
[{"$f":"Translations!$B$904","v":"Méthode B - méthode de la surtension"}]
[]
[{"$f":"Translations!$B$905","v":"PFCCellTypes (Types de cellules PFC)"}]
[{"$f":"Translations!$B$906","v":"Anode précuite du centre de la cuve (CWPB)"}]
[{"$f":"Translations!$B$907","v":"Søderberg – goujon vertical (VSS)"}]
[{"$f":"Translations!$B$908","v":"Anode précuite latérale (SWPB)"}]
[{"$f":"Translations!$B$909","v":"Søderberg – goujon horizontal (HSS)"}]
[]
[{"$f":"Translations!$B$910","v":"MeteringDevices (Dispositifs de mesurage)"}]
[{"$f":"Translations!$B$366","v":"Compteur à pistons rotatifs"}]
[{"$f":"Translations!$B$911","v":"Compteur à turbine"}]
[{"$f":"Translations!$B$912","v":"Compteur à soufflet"}]
[{"$f":"Translations!$B$913","v":"Compteur à orifice"}]
[{"$f":"Translations!$B$914","v":"Débitmètre Venturi"}]
[{"$f":"Translations!$B$915","v":"Débitmètre ultrasonique"}]
[{"$f":"Translations!$B$916","v":"Compteur à tourbillon"}]
[{"$f":"Translations!$B$917","v":"Débitmètre de Coriolis"}]
[{"$f":"Translations!$B$918","v":"Débitmètre à roue ovale "}]
[{"$f":"Translations!$B$919","v":"Instrument électronique de conversion des volumes"}]
[{"$f":"Translations!$B$920","v":"Chromatographe à gaz"}]
[{"$f":"Translations!$B$367","v":"Pont de pesage"}]
[{"$f":"Translations!$B$921","v":"Tapis roulant de pesage"}]
[]
[]
["InformationSources"]
[{"$f":"Translations!$B$1249","v":"Règlement relatif à la surveillance et à la déclaration des émissions, annexe VI"}]
[{"$f":"Translations!$B$1250","v":"Inventaire national"}]
[]
[]
[{"$f":"Translations!$B$922","v":"MeasurementTiers (Niveaux de mesure)"}]
[1]
[2]
[3]
[4]
[]
[{"$f":"Translations!$B$923","v":"PFCTiers (Niveaux PFC)"}]
[1]
[2]
[]
[{"$f":"Translations!$B$924","v":"BiomassTiers (Niveaux biomasse)"}]
[1]
[2]
["3a"]
["3b"]
[{"$f":"EUconst_NoTier","v":"Aucun niveau"}]
[{"$f":"EUconst_NA","v":"s.o."}]
[]
[{"$f":"Translations!$B$925","v":"ConversionFactorTiers (Niveaux facteurs de conversion)"}]
[1]
[2]
[{"$f":"EUconst_NoTier","v":"Aucun niveau"}]
[{"$f":"EUconst_NA","v":"s.o."}]
[]
[{"$f":"Translations!$B$926","v":"ActivityDataTiers (Niveaux données d’activité)"}]
[1]
[2]
[3]
[4]
[{"$f":"EUconst_NoTier","v":"Aucun niveau"}]
[{"$f":"EUconst_NA","v":"s.o."}]
[]
[{"$f":"Translations!$B$927","v":"NCVTiers (Niveaux PCI)"}]
[1]
["2a"]
[{"$f":"Translations!$B$928","v":"2b"}]
[3]
[{"$f":"EUconst_NoTier","v":"Aucun niveau"}]
[{"$f":"EUconst_NA","v":"s.o."}]
[]
[{"$f":"Translations!$B$929","v":"EFTiers (Niveaux FE)"}]
[1]
[2]
["2a"]
[{"$f":"Translations!$B$928","v":"2b"}]
[3]
[{"$f":"EUconst_NoTier","v":"Aucun niveau"}]
[{"$f":"EUconst_NA","v":"s.o."}]
[]
[{"$f":"Translations!$B$930","v":"CarbonContentTiers (Niveaux teneur en carbone)"}]
[1]
["2a"]
[{"$f":"Translations!$B$928","v":"2b"}]
[3]
[{"$f":"EUconst_NoTier","v":"Aucun niveau"}]
[{"$f":"EUconst_NA","v":"s.o."}]
[]
["NCVUnits"]
[{"$f":"Translations!$B$1251","v":"GJ/t"}]
[{"$f":"Translations!$B$1252","v":"GJ/1 000 Nm³"}]
[]
[]
["EFUnits"]
[{"$f":"Translations!$B$1253","v":"tCO2/TJ"}]
[{"$f":"Translations!$B$1254","v":"tCO2/t"}]
[{"$f":"Translations!$B$1255","v":"tCO2/1 000 Nm³"}]
[]
[]
["PctUnits"]
["%"]
[]
[]
[]
[]
[]
[null,{"$f":"Translations!$B$931","v":"Annexe I de la directive"},"Directive Annex I (short)",null,"Source Stream Types",null,null,null,null,null,null,{"$f":"Translations!$B$212","v":"GES émis"},null,null,"RowIndex"]
[1,{"$f":"IF(LEN(Translations!$B$933)>250,LEFT(Translations!$B$933,250),Translations!$B$933)","v":"Combustion de combustibles dans des installations dont la puissance calorifique totale de combustion est supérieure à 20 MW (à l’exception des installations d’incinération de déchets dangereux ou municipaux)"},{"$f":"INDEX(AnnexIActivities,A230)","v":"Combustion de combustibles"},null,null,null,null,null,null,null,null,"CO2"]
[{"$f":"A230+1","v":2},{"$f":"IF(LEN(Translations!$B$933)>250,LEFT(Translations!$B$933,250),Translations!$B$933)","v":"Combustion de combustibles dans des installations dont la puissance calorifique totale de combustion est supérieure à 20 MW (à l’exception des installations d’incinération de déchets dangereux ou municipaux)"},{"$f":"INDEX(AnnexIActivities,A231)","v":"Incinération des déchets municipaux"},null,null,null,null,null,null,null,null,"CO2",null,null,{"$f":"IFERROR(MATCH(C231,$B$265:$B$325,0),\"\")","v":""}]
[{"$f":"A231+1","v":3},{"$f":"Translations!$B$858","v":"Raffinage de pétrole "},"Raffinage d'huile",null,{"$f":"IFERROR(IF(INDEX($B$265:$B$334,$O232+COLUMNS($E229:E229)-1)<>$C232,\"\",INDEX(EUConst_TierActivityListNames,$O232+COLUMNS($E229:E229)-1)),\"\")","v":"Raffineries: Bilan massique"},{"$f":"IFERROR(IF(INDEX($B$265:$B$334,$O232+COLUMNS($E229:F229)-1)<>$C232,\"\",INDEX(EUConst_TierActivityListNames,$O232+COLUMNS($E229:F229)-1)),\"\")","v":""},{"$f":"IFERROR(IF(INDEX($B$265:$B$334,$O232+COLUMNS($E229:G229)-1)<>$C232,\"\",INDEX(EUConst_TierActivityListNames,$O232+COLUMNS($E229:G229)-1)),\"\")","v":""},{"$f":"IFERROR(IF(INDEX($B$265:$B$334,$O232+COLUMNS($E229:H229)-1)<>$C232,\"\",INDEX(EUConst_TierActivityListNames,$O232+COLUMNS($E229:H229)-1)),\"\")","v":""},{"$f":"IFERROR(IF(INDEX($B$265:$B$334,$O232+COLUMNS($E229:I229)-1)<>$C232,\"\",INDEX(EUConst_TierActivityListNames,$O232+COLUMNS($E229:I229)-1)),\"\")","v":""},{"$f":"IFERROR(IF(INDEX($B$265:$B$334,$O232+COLUMNS($E229:J229)-1)<>$C232,\"\",INDEX(EUConst_TierActivityListNames,$O232+COLUMNS($E229:J229)-1)),\"\")","v":""},{"$f":"IFERROR(IF(INDEX($B$265:$B$334,$O232+COLUMNS($E229:K229)-1)<>$C232,\"\",INDEX(EUConst_TierActivityListNames,$O232+COLUMNS($E229:K229)-1)),\"\")","v":""},"CO2",null,null,{"$f":"IFERROR(MATCH(C232,$B$265:$B$334,0),\"\")","v":10}]
[{"$f":"A232+1","v":4},{"$f":"Translations!$B$859","v":"Production de coke"},"Production de coke",null,{"$f":"IFERROR(IF(INDEX($B$265:$B$334,$O233+COLUMNS($E230:E230)-1)<>$C233,\"\",INDEX(EUConst_TierActivityListNames,$O233+COLUMNS($E230:E230)-1)),\"\")","v":"Coke: Combustible employé pour alimenter le procédé"},{"$f":"IFERROR(IF(INDEX($B$265:$B$334,$O233+COLUMNS($E230:F230)-1)<>$C233,\"\",INDEX(EUConst_TierActivityListNames,$O233+COLUMNS($E230:F230)-1)),\"\")","v":"Coke: Procédé (méthode A): uniquement carbonates"},{"$f":"IFERROR(IF(INDEX($B$265:$B$334,$O233+COLUMNS($E230:G230)-1)<>$C233,\"\",INDEX(EUConst_TierActivityListNames,$O233+COLUMNS($E230:G230)-1)),\"\")","v":"Coke: Procédé (méthode A): mélange (carbonates + autres que carbonates)"},{"$f":"IFERROR(IF(INDEX($B$265:$B$334,$O233+COLUMNS($E230:H230)-1)<>$C233,\"\",INDEX(EUConst_TierActivityListNames,$O233+COLUMNS($E230:H230)-1)),\"\")","v":"Coke: Procédé (méthode A): non issu de carbonate"},{"$f":"IFERROR(IF(INDEX($B$265:$B$334,$O233+COLUMNS($E230:I230)-1)<>$C233,\"\",INDEX(EUConst_TierActivityListNames,$O233+COLUMNS($E230:I230)-1)),\"\")","v":"Coke: Procédé (méthode B): production d’oxydes"},{"$f":"IFERROR(IF(INDEX($B$265:$B$334,$O233+COLUMNS($E230:J230)-1)<>$C233,\"\",INDEX(EUConst_TierActivityListNames,$O233+COLUMNS($E230:J230)-1)),\"\")","v":"Coke: Bilan massique"},{"$f":"IFERROR(IF(INDEX($B$265:$B$334,$O233+COLUMNS($E230:K230)-1)<>$C233,\"\",INDEX(EUConst_TierActivityListNames,$O233+COLUMNS($E230:K230)-1)),\"\")","v":""},"CO2",null,null,{"$f":"IFERROR(MATCH(C233,$B$265:$B$334,0),\"\")","v":13}]
[{"$f":"A233+1","v":5},{"$f":"IF(LEN(Translations!$B$934)>250,LEFT(Translations!$B$934,250),Translations!$B$934)","v":"Grillage ou frittage, y compris pelletisation, de minerai métallique (y compris de minerai sulfuré) "},"Grillage ou frittage de minerai métallique",null,{"$f":"IFERROR(IF(INDEX($B$265:$B$334,$O234+COLUMNS($E231:E231)-1)<>$C234,\"\",INDEX(EUConst_TierActivityListNames,$O234+COLUMNS($E231:E231)-1)),\"\")","v":"Minerai de métaux: Procédé (méthode A): uniquement carbonates"},{"$f":"IFERROR(IF(INDEX($B$265:$B$334,$O234+COLUMNS($E231:F231)-1)<>$C234,\"\",INDEX(EUConst_TierActivityListNames,$O234+COLUMNS($E231:F231)-1)),\"\")","v":"Minerai de métaux: Procédé (méthode A): mélange (carbonates + autres que carbonates)"},{"$f":"IFERROR(IF(INDEX($B$265:$B$334,$O234+COLUMNS($E231:G231)-1)<>$C234,\"\",INDEX(EUConst_TierActivityListNames,$O234+COLUMNS($E231:G231)-1)),\"\")","v":"Minerai de métaux: Procédé (méthode A): non issu de carbonate"},{"$f":"IFERROR(IF(INDEX($B$265:$B$334,$O234+COLUMNS($E231:H231)-1)<>$C234,\"\",INDEX(EUConst_TierActivityListNames,$O234+COLUMNS($E231:H231)-1)),\"\")","v":"Minerai de métaux: Procédé (méthode B): production d’oxydes"},{"$f":"IFERROR(IF(INDEX($B$265:$B$334,$O234+COLUMNS($E231:I231)-1)<>$C234,\"\",INDEX(EUConst_TierActivityListNames,$O234+COLUMNS($E231:I231)-1)),\"\")","v":"Minerai de métaux: Bilan massique"},{"$f":"IFERROR(IF(INDEX($B$265:$B$334,$O234+COLUMNS($E231:J231)-1)<>$C234,\"\",INDEX(EUConst_TierActivityListNames,$O234+COLUMNS($E231:J231)-1)),\"\")","v":""},{"$f":"IFERROR(IF(INDEX($B$265:$B$334,$O234+COLUMNS($E231:K231)-1)<>$C234,\"\",INDEX(EUConst_TierActivityListNames,$O234+COLUMNS($E231:K231)-1)),\"\")","v":""},"CO2",null,null,19]
[6,{"$f":"IF(LEN(Translations!$B$935)>250,LEFT(Translations!$B$935,250),Translations!$B$935)","v":"Production de fonte ou d'acier (fusion primaire ou secondaire), y compris les équipements pour coulée continue d'une capacité de plus de 2,5 tonnes par heure "},"Production de fer ou d'acier",null,{"$f":"IFERROR(IF(INDEX($B$265:$B$334,$O235+COLUMNS($E232:E232)-1)<>$C235,\"\",INDEX(EUConst_TierActivityListNames,$O235+COLUMNS($E232:E232)-1)),\"\")","v":"Sidérurgie: Combustible employé pour alimenter le procédé"},{"$f":"IFERROR(IF(INDEX($B$265:$B$334,$O235+COLUMNS($E232:F232)-1)<>$C235,\"\",INDEX(EUConst_TierActivityListNames,$O235+COLUMNS($E232:F232)-1)),\"\")","v":"Sidérurgie: Procédé (méthode A): uniquement carbonates"},{"$f":"IFERROR(IF(INDEX($B$265:$B$334,$O235+COLUMNS($E232:G232)-1)<>$C235,\"\",INDEX(EUConst_TierActivityListNames,$O235+COLUMNS($E232:G232)-1)),\"\")","v":"Sidérurgie: Procédé (méthode A): mélange (carbonates + autres que carbonates)"},{"$f":"IFERROR(IF(INDEX($B$265:$B$334,$O235+COLUMNS($E232:H232)-1)<>$C235,\"\",INDEX(EUConst_TierActivityListNames,$O235+COLUMNS($E232:H232)-1)),\"\")","v":"Sidérurgie: Procédé (méthode A): non issu de carbonate"},{"$f":"IFERROR(IF(INDEX($B$265:$B$334,$O235+COLUMNS($E232:I232)-1)<>$C235,\"\",INDEX(EUConst_TierActivityListNames,$O235+COLUMNS($E232:I232)-1)),\"\")","v":"Sidérurgie: Procédé (méthode B): production d’oxydes"},{"$f":"IFERROR(IF(INDEX($B$265:$B$334,$O235+COLUMNS($E232:J232)-1)<>$C235,\"\",INDEX(EUConst_TierActivityListNames,$O235+COLUMNS($E232:J232)-1)),\"\")","v":"Sidérurgie: Bilan massique"},{"$f":"IFERROR(IF(INDEX($B$265:$B$334,$O235+COLUMNS($E232:K232)-1)<>$C235,\"\",INDEX(EUConst_TierActivityListNames,$O235+COLUMNS($E232:K232)-1)),\"\")","v":""},"CO2",null,null,24]
[7,{"$f":"IF(LEN(Translations!$B$936)>250,LEFT(Translations!$B$936,250),Translations!$B$936)","v":"Production ou transformation de métaux ferreux (y compris les ferro-alliages) lorsque des unités de combustion dont la puissance calorifique totale de combustion est supérieure à 20 MW sont exploitées. La transformation comprend, notamment, les lamin"},"Production ou transformation de métaux ferreux",null,{"$f":"IFERROR(IF(INDEX($B$265:$B$334,$O236+COLUMNS($E233:E233)-1)<>$C236,\"\",INDEX(EUConst_TierActivityListNames,$O236+COLUMNS($E233:E233)-1)),\"\")","v":"Aluminium secondaire, (non) ferreux: Procédé (méthode A): uniquement carbonates"},{"$f":"IFERROR(IF(INDEX($B$265:$B$334,$O236+COLUMNS($E233:F233)-1)<>$C236,\"\",INDEX(EUConst_TierActivityListNames,$O236+COLUMNS($E233:F233)-1)),\"\")","v":"Aluminium secondaire, (non) ferreux: Procédé (méthode A): mélange (carbonates + autres que carbonates)"},{"$f":"IFERROR(IF(INDEX($B$265:$B$334,$O236+COLUMNS($E233:G233)-1)<>$C236,\"\",INDEX(EUConst_TierActivityListNames,$O236+COLUMNS($E233:G233)-1)),\"\")","v":"Aluminium secondaire, (non) ferreux: Procédé (méthode A): non issu de carbonate"},{"$f":"IFERROR(IF(INDEX($B$265:$B$334,$O236+COLUMNS($E233:H233)-1)<>$C236,\"\",INDEX(EUConst_TierActivityListNames,$O236+COLUMNS($E233:H233)-1)),\"\")","v":"Aluminium secondaire, (non) ferreux: Procédé (méthode B): production d’oxydes"},{"$f":"IFERROR(IF(INDEX($B$265:$B$334,$O236+COLUMNS($E233:I233)-1)<>$C236,\"\",INDEX(EUConst_TierActivityListNames,$O236+COLUMNS($E233:I233)-1)),\"\")","v":"Aluminium secondaire, (non) ferreux: Méthode du bilan massique"},{"$f":"IFERROR(IF(INDEX($B$265:$B$334,$O236+COLUMNS($E233:J233)-1)<>$C236,\"\",INDEX(EUConst_TierActivityListNames,$O236+COLUMNS($E233:J233)-1)),\"\")","v":""},{"$f":"IFERROR(IF(INDEX($B$265:$B$334,$O236+COLUMNS($E233:K233)-1)<>$C236,\"\",INDEX(EUConst_TierActivityListNames,$O236+COLUMNS($E233:K233)-1)),\"\")","v":""},"CO2",null,null,53]
[8,{"$f":"Translations!$B$863","v":"Production d’aluminium primaire"},"Production d'aluminium primaire ou d'alumine",null,{"$f":"IFERROR(IF(INDEX($B$265:$B$334,$O237+COLUMNS($E234:E234)-1)<>$C237,\"\",INDEX(EUConst_TierActivityListNames,$O237+COLUMNS($E234:E234)-1)),\"\")","v":"Aluminium primaire: Méthode du bilan massique"},{"$f":"IFERROR(IF(INDEX($B$265:$B$334,$O237+COLUMNS($E234:F234)-1)<>$C237,\"\",INDEX(EUConst_TierActivityListNames,$O237+COLUMNS($E234:F234)-1)),\"\")","v":"Aluminium primaire: Émissions de PFC (méthode des pentes)"},{"$f":"IFERROR(IF(INDEX($B$265:$B$334,$O237+COLUMNS($E234:G234)-1)<>$C237,\"\",INDEX(EUConst_TierActivityListNames,$O237+COLUMNS($E234:G234)-1)),\"\")","v":"Aluminium primaire: Émissions de PFC (méthode de la surtension)"},{"$f":"IFERROR(IF(INDEX($B$265:$B$334,$O237+COLUMNS($E234:H234)-1)<>$C237,\"\",INDEX(EUConst_TierActivityListNames,$O237+COLUMNS($E234:H234)-1)),\"\")","v":""},{"$f":"IFERROR(IF(INDEX($B$265:$B$334,$O237+COLUMNS($E234:I234)-1)<>$C237,\"\",INDEX(EUConst_TierActivityListNames,$O237+COLUMNS($E234:I234)-1)),\"\")","v":""},{"$f":"IFERROR(IF(INDEX($B$265:$B$334,$O237+COLUMNS($E234:J234)-1)<>$C237,\"\",INDEX(EUConst_TierActivityListNames,$O237+COLUMNS($E234:J234)-1)),\"\")","v":""},{"$f":"IFERROR(IF(INDEX($B$265:$B$334,$O237+COLUMNS($E234:K234)-1)<>$C237,\"\",INDEX(EUConst_TierActivityListNames,$O237+COLUMNS($E234:K234)-1)),\"\")","v":""},{"$f":"Translations!$B$887","v":"CO2 & PFCs"},null,null,59]
[9,{"$f":"IF(LEN(Translations!$B$937)>250,LEFT(Translations!$B$937,250),Translations!$B$937)","v":"Production d’aluminium secondaire, lorsque des unités de combustion dont la puissance calorifique totale de combustion est supérieure à 20 MW sont exploitées"},"Production d'aluminium secondaire",null,{"$f":"IF(E236=\"\",\"\",E236)","v":"Aluminium secondaire, (non) ferreux: Procédé (méthode A): uniquement carbonates"},"Aluminium secondaire, (non) ferreux: Procédé (méthode A): mélange (carbonates + autres que carbonates)","Aluminium secondaire, (non) ferreux: Procédé (méthode A): non issu de carbonate","Aluminium secondaire, (non) ferreux: Procédé (méthode B): production d’oxydes","Aluminium secondaire, (non) ferreux: Méthode du bilan massique","","","CO2",null,null,""]
[10,{"$f":"IF(LEN(Translations!$B$938)>250,LEFT(Translations!$B$938,250),Translations!$B$938)","v":"Production ou transformation de métaux non ferreux, y compris la production d’alliages, l’affinage, le moulage en fonderie, etc., lorsque des unités de combustion dont la puissance calorifique totale de combustion (y compris les combustibles utilisés"},"Production ou transformation de métaux non ferreux",null,{"$f":"E238","v":"Aluminium secondaire, (non) ferreux: Procédé (méthode A): uniquement carbonates"},"Aluminium secondaire, (non) ferreux: Procédé (méthode A): mélange (carbonates + autres que carbonates)","Aluminium secondaire, (non) ferreux: Procédé (méthode A): non issu de carbonate","Aluminium secondaire, (non) ferreux: Procédé (méthode B): production d’oxydes","Aluminium secondaire, (non) ferreux: Méthode du bilan massique","","","CO2",null,null,""]
[11,{"$f":"IF(LEN(Translations!$B$939)>250,LEFT(Translations!$B$939,250),Translations!$B$939)","v":"Production de clinker (ciment) dans des fours rotatifs avec une capacité de production supérieure à 500 tonnes par jour, ou dans d’autres types de fours, avec une capacité de production supérieure à 50 tonnes par jour "},"Production de clinker",null,{"$f":"IFERROR(IF(INDEX($B$265:$B$334,$O240+COLUMNS($E237:E237)-1)<>$C240,\"\",INDEX(EUConst_TierActivityListNames,$O240+COLUMNS($E237:E237)-1)),\"\")","v":"Clinker: D'après la charge du four (méthode A)"},{"$f":"IFERROR(IF(INDEX($B$265:$B$334,$O240+COLUMNS($E237:F237)-1)<>$C240,\"\",INDEX(EUConst_TierActivityListNames,$O240+COLUMNS($E237:F237)-1)),\"\")","v":"Clinker: Quantité de clinker produite (méthode B)"},{"$f":"IFERROR(IF(INDEX($B$265:$B$334,$O240+COLUMNS($E237:G237)-1)<>$C240,\"\",INDEX(EUConst_TierActivityListNames,$O240+COLUMNS($E237:G237)-1)),\"\")","v":"Clinker: Poussières des fours à ciment"},{"$f":"IFERROR(IF(INDEX($B$265:$B$334,$O240+COLUMNS($E237:H237)-1)<>$C240,\"\",INDEX(EUConst_TierActivityListNames,$O240+COLUMNS($E237:H237)-1)),\"\")","v":"Clinker: Carbone non issu de carbonates"},{"$f":"IFERROR(IF(INDEX($B$265:$B$334,$O240+COLUMNS($E237:I237)-1)<>$C240,\"\",INDEX(EUConst_TierActivityListNames,$O240+COLUMNS($E237:I237)-1)),\"\")","v":""},{"$f":"IFERROR(IF(INDEX($B$265:$B$334,$O240+COLUMNS($E237:J237)-1)<>$C240,\"\",INDEX(EUConst_TierActivityListNames,$O240+COLUMNS($E237:J237)-1)),\"\")","v":""},{"$f":"IFERROR(IF(INDEX($B$265:$B$334,$O240+COLUMNS($E237:K237)-1)<>$C240,\"\",INDEX(EUConst_TierActivityListNames,$O240+COLUMNS($E237:K237)-1)),\"\")","v":""},"CO2",null,null,30]
[12,{"$f":"IF(LEN(Translations!$B$940)>250,LEFT(Translations!$B$940,250),Translations!$B$940)","v":"Production de chaux, y compris la calcination de dolomite et de magnésite, dans des fours rotatifs ou dans d’autres types de fours, avec une capacité de production supérieure à 50 tonnes par jour "},"Production de chaux ou calcination de dolomite/magnésite",null,{"$f":"IFERROR(IF(INDEX($B$265:$B$334,$O241+COLUMNS($E238:E238)-1)<>$C241,\"\",INDEX(EUConst_TierActivityListNames,$O241+COLUMNS($E238:E238)-1)),\"\")","v":"Chaux / dolomite / magnésite: Procédé (méthode A): uniquement carbonates"},{"$f":"IFERROR(IF(INDEX($B$265:$B$334,$O241+COLUMNS($E238:F238)-1)<>$C241,\"\",INDEX(EUConst_TierActivityListNames,$O241+COLUMNS($E238:F238)-1)),\"\")","v":"Chaux / dolomite / magnésite: Procédé (méthode A): mélange (carbonates + autres que carbonates)"},{"$f":"IFERROR(IF(INDEX($B$265:$B$334,$O241+COLUMNS($E238:G238)-1)<>$C241,\"\",INDEX(EUConst_TierActivityListNames,$O241+COLUMNS($E238:G238)-1)),\"\")","v":"Chaux / dolomite / magnésite: Procédé (méthode A): non issu de carbonate"},{"$f":"IFERROR(IF(INDEX($B$265:$B$334,$O241+COLUMNS($E238:H238)-1)<>$C241,\"\",INDEX(EUConst_TierActivityListNames,$O241+COLUMNS($E238:H238)-1)),\"\")","v":"Chaux / dolomite / magnésite: Procédé (méthode B): production d’oxydes"},{"$f":"IFERROR(IF(INDEX($B$265:$B$334,$O241+COLUMNS($E238:I238)-1)<>$C241,\"\",INDEX(EUConst_TierActivityListNames,$O241+COLUMNS($E238:I238)-1)),\"\")","v":"Chaux / dolomite / magnésite: Poussières de four (méthode B)"},{"$f":"IFERROR(IF(INDEX($B$265:$B$334,$O241+COLUMNS($E238:J238)-1)<>$C241,\"\",INDEX(EUConst_TierActivityListNames,$O241+COLUMNS($E238:J238)-1)),\"\")","v":""},{"$f":"IFERROR(IF(INDEX($B$265:$B$334,$O241+COLUMNS($E238:K238)-1)<>$C241,\"\",INDEX(EUConst_TierActivityListNames,$O241+COLUMNS($E238:K238)-1)),\"\")","v":""},"CO2",null,null,34]
[13,{"$f":"IF(LEN(Translations!$B$941)>250,LEFT(Translations!$B$941,250),Translations!$B$941)","v":"Fabrication du verre, y compris de fibres de verre, avec une capacité de fusion supérieure à 20 tonnes par jour "},"Fabrication de verre",null,{"$f":"IFERROR(IF(INDEX($B$265:$B$334,$O242+COLUMNS($E239:E239)-1)<>$C242,\"\",INDEX(EUConst_TierActivityListNames,$O242+COLUMNS($E239:E239)-1)),\"\")","v":"Verre et laine minérale: Procédé (méthode A): uniquement carbonates"},{"$f":"IFERROR(IF(INDEX($B$265:$B$334,$O242+COLUMNS($E239:F239)-1)<>$C242,\"\",INDEX(EUConst_TierActivityListNames,$O242+COLUMNS($E239:F239)-1)),\"\")","v":"Verre et laine minérale: Procédé (méthode A): mélange (carbonates + autres que carbonates)"},{"$f":"IFERROR(IF(INDEX($B$265:$B$334,$O242+COLUMNS($E239:G239)-1)<>$C242,\"\",INDEX(EUConst_TierActivityListNames,$O242+COLUMNS($E239:G239)-1)),\"\")","v":"Verre et laine minérale: Procédé (méthode A): non issu de carbonate"},{"$f":"IFERROR(IF(INDEX($B$265:$B$334,$O242+COLUMNS($E239:H239)-1)<>$C242,\"\",INDEX(EUConst_TierActivityListNames,$O242+COLUMNS($E239:H239)-1)),\"\")","v":""},{"$f":"IFERROR(IF(INDEX($B$265:$B$334,$O242+COLUMNS($E239:I239)-1)<>$C242,\"\",INDEX(EUConst_TierActivityListNames,$O242+COLUMNS($E239:I239)-1)),\"\")","v":""},{"$f":"IFERROR(IF(INDEX($B$265:$B$334,$O242+COLUMNS($E239:J239)-1)<>$C242,\"\",INDEX(EUConst_TierActivityListNames,$O242+COLUMNS($E239:J239)-1)),\"\")","v":""},{"$f":"IFERROR(IF(INDEX($B$265:$B$334,$O242+COLUMNS($E239:K239)-1)<>$C242,\"\",INDEX(EUConst_TierActivityListNames,$O242+COLUMNS($E239:K239)-1)),\"\")","v":""},"CO2",null,null,39]
[14,{"$f":"IF(LEN(Translations!$B$942)>250,LEFT(Translations!$B$942,250),Translations!$B$942)","v":"Fabrication de produits céramiques par cuisson, notamment de tuiles, de briques, de pierres réfractaires, de carrelages, de grès ou de porcelaines, avec une capacité de production supérieure à 75 tonnes par jour "},"Fabrication de produits céramiques",null,{"$f":"IFERROR(IF(INDEX($B$265:$B$334,$O243+COLUMNS($E240:E240)-1)<>$C243,\"\",INDEX(EUConst_TierActivityListNames,$O243+COLUMNS($E240:E240)-1)),\"\")","v":"Céramique: Procédé (méthode A): uniquement carbonates"},{"$f":"IFERROR(IF(INDEX($B$265:$B$334,$O243+COLUMNS($E240:F240)-1)<>$C243,\"\",INDEX(EUConst_TierActivityListNames,$O243+COLUMNS($E240:F240)-1)),\"\")","v":"Céramique: Procédé (méthode A): mélange (carbonates + autres que carbonates)"},{"$f":"IFERROR(IF(INDEX($B$265:$B$334,$O243+COLUMNS($E240:G240)-1)<>$C243,\"\",INDEX(EUConst_TierActivityListNames,$O243+COLUMNS($E240:G240)-1)),\"\")","v":"Céramique: Procédé (méthode A): non issu de carbonate"},{"$f":"IFERROR(IF(INDEX($B$265:$B$334,$O243+COLUMNS($E240:H240)-1)<>$C243,\"\",INDEX(EUConst_TierActivityListNames,$O243+COLUMNS($E240:H240)-1)),\"\")","v":"Céramique: Procédé (méthode B): production d’oxydes"},{"$f":"IFERROR(IF(INDEX($B$265:$B$334,$O243+COLUMNS($E240:I240)-1)<>$C243,\"\",INDEX(EUConst_TierActivityListNames,$O243+COLUMNS($E240:I240)-1)),\"\")","v":"Céramique: Épuration"},{"$f":"IFERROR(IF(INDEX($B$265:$B$334,$O243+COLUMNS($E240:J240)-1)<>$C243,\"\",INDEX(EUConst_TierActivityListNames,$O243+COLUMNS($E240:J240)-1)),\"\")","v":""},{"$f":"IFERROR(IF(INDEX($B$265:$B$334,$O243+COLUMNS($E240:K240)-1)<>$C243,\"\",INDEX(EUConst_TierActivityListNames,$O243+COLUMNS($E240:K240)-1)),\"\")","v":""},"CO2",null,null,42]
[15,{"$f":"IF(LEN(Translations!$B$943)>250,LEFT(Translations!$B$943,250),Translations!$B$943)","v":"Fabrication de matériau isolant en laine minérale à partir de roches, de verre ou de laitier, avec une capacité de fusion supérieure à 20 tonnes par jour "},"Fabrication de laine minérale",null,{"$f":"IF(E242=\"\",\"\",E242)","v":"Verre et laine minérale: Procédé (méthode A): uniquement carbonates"},"Verre et laine minérale: Procédé (méthode A): mélange (carbonates + autres que carbonates)","Verre et laine minérale: Procédé (méthode A): non issu de carbonate","","","","","CO2",null,null,""]
[16,{"$f":"IF(LEN(Translations!$B$944)>250,LEFT(Translations!$B$944,250),Translations!$B$944)","v":"Séchage ou calcination du plâtre ou production de planches de plâtre et autres compositions à base de plâtre, lorsque des unités de combustion dont la puissance calorifique de combustion est supérieure à 20 MW sont exploitées "},"Production ou transformation de plâtre ou de plaques de plâtre",null,null,null,null,null,null,null,null,"CO2",null,null,""]
[17,{"$f":"Translations!$B$945","v":"Production de pâte à papier à partir du bois ou d’autres matières fibreuses "},"Production de pâte à papier",null,{"$f":"IFERROR(IF(INDEX($B$265:$B$334,$O246+COLUMNS($E243:E243)-1)<>$C246,\"\",INDEX(EUConst_TierActivityListNames,$O246+COLUMNS($E243:E243)-1)),\"\")","v":"Papier et pâte à papier: Produits chimiques d'appoint"},{"$f":"IFERROR(IF(INDEX($B$265:$B$334,$O246+COLUMNS($E243:F243)-1)<>$C246,\"\",INDEX(EUConst_TierActivityListNames,$O246+COLUMNS($E243:F243)-1)),\"\")","v":""},{"$f":"IFERROR(IF(INDEX($B$265:$B$334,$O246+COLUMNS($E243:G243)-1)<>$C246,\"\",INDEX(EUConst_TierActivityListNames,$O246+COLUMNS($E243:G243)-1)),\"\")","v":""},{"$f":"IFERROR(IF(INDEX($B$265:$B$334,$O246+COLUMNS($E243:H243)-1)<>$C246,\"\",INDEX(EUConst_TierActivityListNames,$O246+COLUMNS($E243:H243)-1)),\"\")","v":""},{"$f":"IFERROR(IF(INDEX($B$265:$B$334,$O246+COLUMNS($E243:I243)-1)<>$C246,\"\",INDEX(EUConst_TierActivityListNames,$O246+COLUMNS($E243:I243)-1)),\"\")","v":""},{"$f":"IFERROR(IF(INDEX($B$265:$B$334,$O246+COLUMNS($E243:J243)-1)<>$C246,\"\",INDEX(EUConst_TierActivityListNames,$O246+COLUMNS($E243:J243)-1)),\"\")","v":""},{"$f":"IFERROR(IF(INDEX($B$265:$B$334,$O246+COLUMNS($E243:K243)-1)<>$C246,\"\",INDEX(EUConst_TierActivityListNames,$O246+COLUMNS($E243:K243)-1)),\"\")","v":""},"CO2",null,null,47]
[18,{"$f":"IF(LEN(Translations!$B$946)>250,LEFT(Translations!$B$946,250),Translations!$B$946)","v":"Production de papier ou de carton, avec une capacité de production supérieure à 20 tonnes par jour. "},"Production de papier ou de carton",null,{"$f":"IF(E246=\"\",\"\",E246)","v":"Papier et pâte à papier: Produits chimiques d'appoint"},{"$f":"IF(F246=\"\",\"\",F246)","v":""},"","","","","","CO2",null,null,""]
[19,{"$f":"IF(LEN(Translations!$B$947)>250,LEFT(Translations!$B$947,250),Translations!$B$947)","v":"Production de noir de carbone, y compris la carbonisation de substances organiques telles que les huiles, les goudrons, les résidus de craquage et de distillation, lorsque des unités de combustion dont la puissance calorifique totale de combustion es"},"Production de noir de carbone",null,{"$f":"IFERROR(IF(INDEX($B$265:$B$334,$O248+COLUMNS($E245:E245)-1)<>$C248,\"\",INDEX(EUConst_TierActivityListNames,$O248+COLUMNS($E245:E245)-1)),\"\")","v":"Noir de carbone: Méthode du bilan massique"},{"$f":"IFERROR(IF(INDEX($B$265:$B$334,$O248+COLUMNS($E245:F245)-1)<>$C248,\"\",INDEX(EUConst_TierActivityListNames,$O248+COLUMNS($E245:F245)-1)),\"\")","v":""},{"$f":"IFERROR(IF(INDEX($B$265:$B$334,$O248+COLUMNS($E245:G245)-1)<>$C248,\"\",INDEX(EUConst_TierActivityListNames,$O248+COLUMNS($E245:G245)-1)),\"\")","v":""},{"$f":"IFERROR(IF(INDEX($B$265:$B$334,$O248+COLUMNS($E245:H245)-1)<>$C248,\"\",INDEX(EUConst_TierActivityListNames,$O248+COLUMNS($E245:H245)-1)),\"\")","v":""},{"$f":"IFERROR(IF(INDEX($B$265:$B$334,$O248+COLUMNS($E245:I245)-1)<>$C248,\"\",INDEX(EUConst_TierActivityListNames,$O248+COLUMNS($E245:I245)-1)),\"\")","v":""},{"$f":"IFERROR(IF(INDEX($B$265:$B$334,$O248+COLUMNS($E245:J245)-1)<>$C248,\"\",INDEX(EUConst_TierActivityListNames,$O248+COLUMNS($E245:J245)-1)),\"\")","v":""},{"$f":"IFERROR(IF(INDEX($B$265:$B$334,$O248+COLUMNS($E245:K245)-1)<>$C248,\"\",INDEX(EUConst_TierActivityListNames,$O248+COLUMNS($E245:K245)-1)),\"\")","v":""},"CO2",null,null,48]
[20,{"$f":"Translations!$B$874","v":"Production d’acide nitrique"},"Production d'acide nitrique",null,null,null,null,null,null,null,null,{"$f":"Translations!$B$886","v":"CO2 & N2O"},null,null,""]
[21,{"$f":"Translations!$B$875","v":"Production d’acide adipique"},"Production d'acide adipique",null,null,null,null,null,null,null,null,{"$f":"Translations!$B$886","v":"CO2 & N2O"},null,null,""]
[22,{"$f":"Translations!$B$876","v":"Production de glyoxal et d’acide glyoxylique"},"Production de glyoxal et d'acide glyoxylique",null,null,null,null,null,null,null,null,{"$f":"Translations!$B$886","v":"CO2 & N2O"},null,null,""]
[23,{"$f":"Translations!$B$877","v":"Production d'ammoniac"},"Production d'ammoniac",null,{"$f":"IFERROR(IF(INDEX($B$265:$B$334,$O252+COLUMNS($E249:E249)-1)<>$C252,\"\",INDEX(EUConst_TierActivityListNames,$O252+COLUMNS($E249:E249)-1)),\"\")","v":"Ammoniac: Combustible employé pour alimenter le procédé"},{"$f":"IFERROR(IF(INDEX($B$265:$B$334,$O252+COLUMNS($E249:F249)-1)<>$C252,\"\",INDEX(EUConst_TierActivityListNames,$O252+COLUMNS($E249:F249)-1)),\"\")","v":""},{"$f":"IFERROR(IF(INDEX($B$265:$B$334,$O252+COLUMNS($E249:G249)-1)<>$C252,\"\",INDEX(EUConst_TierActivityListNames,$O252+COLUMNS($E249:G249)-1)),\"\")","v":""},{"$f":"IFERROR(IF(INDEX($B$265:$B$334,$O252+COLUMNS($E249:H249)-1)<>$C252,\"\",INDEX(EUConst_TierActivityListNames,$O252+COLUMNS($E249:H249)-1)),\"\")","v":""},{"$f":"IFERROR(IF(INDEX($B$265:$B$334,$O252+COLUMNS($E249:I249)-1)<>$C252,\"\",INDEX(EUConst_TierActivityListNames,$O252+COLUMNS($E249:I249)-1)),\"\")","v":""},{"$f":"IFERROR(IF(INDEX($B$265:$B$334,$O252+COLUMNS($E249:J249)-1)<>$C252,\"\",INDEX(EUConst_TierActivityListNames,$O252+COLUMNS($E249:J249)-1)),\"\")","v":""},{"$f":"IFERROR(IF(INDEX($B$265:$B$334,$O252+COLUMNS($E249:K249)-1)<>$C252,\"\",INDEX(EUConst_TierActivityListNames,$O252+COLUMNS($E249:K249)-1)),\"\")","v":""},"CO2",null,null,49]
[24,{"$f":"IF(LEN(Translations!$B$948)>250,LEFT(Translations!$B$948,250),Translations!$B$948)","v":"Production de produits chimiques organiques de base par craquage, reformage, oxydation partielle ou totale, ou par d’autres procédés similaires, avec une capacité de production supérieure à 100 tonnes par jour "},"Production de produits chimiques en vrac",null,{"$f":"IFERROR(IF(INDEX($B$265:$B$334,$O253+COLUMNS($E250:E250)-1)<>$C253,\"\",INDEX(EUConst_TierActivityListNames,$O253+COLUMNS($E250:E250)-1)),\"\")","v":"Produits chimiques organiques de base: Méthode du bilan massique"},{"$f":"IFERROR(IF(INDEX($B$265:$B$334,$O253+COLUMNS($E250:F250)-1)<>$C253,\"\",INDEX(EUConst_TierActivityListNames,$O253+COLUMNS($E250:F250)-1)),\"\")","v":""},{"$f":"IFERROR(IF(INDEX($B$265:$B$334,$O253+COLUMNS($E250:G250)-1)<>$C253,\"\",INDEX(EUConst_TierActivityListNames,$O253+COLUMNS($E250:G250)-1)),\"\")","v":""},{"$f":"IFERROR(IF(INDEX($B$265:$B$334,$O253+COLUMNS($E250:H250)-1)<>$C253,\"\",INDEX(EUConst_TierActivityListNames,$O253+COLUMNS($E250:H250)-1)),\"\")","v":""},{"$f":"IFERROR(IF(INDEX($B$265:$B$334,$O253+COLUMNS($E250:I250)-1)<>$C253,\"\",INDEX(EUConst_TierActivityListNames,$O253+COLUMNS($E250:I250)-1)),\"\")","v":""},{"$f":"IFERROR(IF(INDEX($B$265:$B$334,$O253+COLUMNS($E250:J250)-1)<>$C253,\"\",INDEX(EUConst_TierActivityListNames,$O253+COLUMNS($E250:J250)-1)),\"\")","v":""},{"$f":"IFERROR(IF(INDEX($B$265:$B$334,$O253+COLUMNS($E250:K250)-1)<>$C253,\"\",INDEX(EUConst_TierActivityListNames,$O253+COLUMNS($E250:K250)-1)),\"\")","v":""},"CO2",null,null,52]
[25,{"$f":"IF(LEN(Translations!$B$949)>250,LEFT(Translations!$B$949,250),Translations!$B$949)","v":"Production d’hydrogène (H2) et de gaz de synthèse par reformage ou oxydation partielle avec une capacité de production supérieure à 25 tonnes par jour "},"Production d'hydrogène et de gaz de synthèse",null,{"$f":"IFERROR(IF(INDEX($B$265:$B$334,$O254+COLUMNS($E251:E251)-1)<>$C254,\"\",INDEX(EUConst_TierActivityListNames,$O254+COLUMNS($E251:E251)-1)),\"\")","v":"Hydrogène et gaz de synthèse: Combustible employé pour alimenter le procédé"},{"$f":"IFERROR(IF(INDEX($B$265:$B$334,$O254+COLUMNS($E251:F251)-1)<>$C254,\"\",INDEX(EUConst_TierActivityListNames,$O254+COLUMNS($E251:F251)-1)),\"\")","v":"Hydrogène et gaz de synthèse: Méthode du bilan massique"},{"$f":"IFERROR(IF(INDEX($B$265:$B$334,$O254+COLUMNS($E251:G251)-1)<>$C254,\"\",INDEX(EUConst_TierActivityListNames,$O254+COLUMNS($E251:G251)-1)),\"\")","v":""},{"$f":"IFERROR(IF(INDEX($B$265:$B$334,$O254+COLUMNS($E251:H251)-1)<>$C254,\"\",INDEX(EUConst_TierActivityListNames,$O254+COLUMNS($E251:H251)-1)),\"\")","v":""},{"$f":"IFERROR(IF(INDEX($B$265:$B$334,$O254+COLUMNS($E251:I251)-1)<>$C254,\"\",INDEX(EUConst_TierActivityListNames,$O254+COLUMNS($E251:I251)-1)),\"\")","v":""},{"$f":"IFERROR(IF(INDEX($B$265:$B$334,$O254+COLUMNS($E251:J251)-1)<>$C254,\"\",INDEX(EUConst_TierActivityListNames,$O254+COLUMNS($E251:J251)-1)),\"\")","v":""},{"$f":"IFERROR(IF(INDEX($B$265:$B$334,$O254+COLUMNS($E251:K251)-1)<>$C254,\"\",INDEX(EUConst_TierActivityListNames,$O254+COLUMNS($E251:K251)-1)),\"\")","v":""},"CO2",null,null,50]
[26,{"$f":"Translations!$B$950","v":"Production de soude (Na2CO3) et de bicarbonate de sodium (NaHCO3) "},"Production de carbonate de sodium et de bicarbonate de sodium",null,{"$f":"IFERROR(IF(INDEX($B$265:$B$334,$O255+COLUMNS($E252:E252)-1)<>$C255,\"\",INDEX(EUConst_TierActivityListNames,$O255+COLUMNS($E252:E252)-1)),\"\")","v":"Soude / bicarbonate de sodium: Méthode du bilan massique"},{"$f":"IFERROR(IF(INDEX($B$265:$B$334,$O255+COLUMNS($E252:F252)-1)<>$C255,\"\",INDEX(EUConst_TierActivityListNames,$O255+COLUMNS($E252:F252)-1)),\"\")","v":""},{"$f":"IFERROR(IF(INDEX($B$265:$B$334,$O255+COLUMNS($E252:G252)-1)<>$C255,\"\",INDEX(EUConst_TierActivityListNames,$O255+COLUMNS($E252:G252)-1)),\"\")","v":""},{"$f":"IFERROR(IF(INDEX($B$265:$B$334,$O255+COLUMNS($E252:H252)-1)<>$C255,\"\",INDEX(EUConst_TierActivityListNames,$O255+COLUMNS($E252:H252)-1)),\"\")","v":""},{"$f":"IFERROR(IF(INDEX($B$265:$B$334,$O255+COLUMNS($E252:I252)-1)<>$C255,\"\",INDEX(EUConst_TierActivityListNames,$O255+COLUMNS($E252:I252)-1)),\"\")","v":""},{"$f":"IFERROR(IF(INDEX($B$265:$B$334,$O255+COLUMNS($E252:J252)-1)<>$C255,\"\",INDEX(EUConst_TierActivityListNames,$O255+COLUMNS($E252:J252)-1)),\"\")","v":""},{"$f":"IFERROR(IF(INDEX($B$265:$B$334,$O255+COLUMNS($E252:K252)-1)<>$C255,\"\",INDEX(EUConst_TierActivityListNames,$O255+COLUMNS($E252:K252)-1)),\"\")","v":""},"CO2",null,null,58]
[27,{"$f":"IF(LEN(Translations!$B$951)>250,LEFT(Translations!$B$951,250),Translations!$B$951)","v":"Captage des gaz à effet de serre produits par les installations couvertes par la directive SEQE en vue de leur transport et de leur stockage géologique dans un site de stockage agréé au titre de la directive 2009/31/CE"},"Captage des gaz à effet de serre au titre de la directive 2009/31/CE",null,{"$f":"IFERROR(IF(INDEX($B$265:$B$334,$O256+COLUMNS($E253:E253)-1)<>$C256,\"\",INDEX(EUConst_TierActivityListNames,$O256+COLUMNS($E253:E253)-1)),\"\")","v":"CCS: Capture: CO2 transferred"},{"$f":"IFERROR(IF(INDEX($B$265:$B$334,$O256+COLUMNS($E253:F253)-1)<>$C256,\"\",INDEX(EUConst_TierActivityListNames,$O256+COLUMNS($E253:F253)-1)),\"\")","v":""},{"$f":"IFERROR(IF(INDEX($B$265:$B$334,$O256+COLUMNS($E253:G253)-1)<>$C256,\"\",INDEX(EUConst_TierActivityListNames,$O256+COLUMNS($E253:G253)-1)),\"\")","v":""},{"$f":"IFERROR(IF(INDEX($B$265:$B$334,$O256+COLUMNS($E253:H253)-1)<>$C256,\"\",INDEX(EUConst_TierActivityListNames,$O256+COLUMNS($E253:H253)-1)),\"\")","v":""},{"$f":"IFERROR(IF(INDEX($B$265:$B$334,$O256+COLUMNS($E253:I253)-1)<>$C256,\"\",INDEX(EUConst_TierActivityListNames,$O256+COLUMNS($E253:I253)-1)),\"\")","v":""},{"$f":"IFERROR(IF(INDEX($B$265:$B$334,$O256+COLUMNS($E253:J253)-1)<>$C256,\"\",INDEX(EUConst_TierActivityListNames,$O256+COLUMNS($E253:J253)-1)),\"\")","v":""},{"$f":"IFERROR(IF(INDEX($B$265:$B$334,$O256+COLUMNS($E253:K253)-1)<>$C256,\"\",INDEX(EUConst_TierActivityListNames,$O256+COLUMNS($E253:K253)-1)),\"\")","v":""},"CO2",null,null,62]
[28,{"$f":"IF(LEN(Translations!$B$952)>250,LEFT(Translations!$B$952,250),Translations!$B$952)","v":"Transport par pipelines des gaz à effet de serre en vue de leur stockage dans un site de stockage agréé au titre de la directive 2009/31/CE"},"Transport de gaz à effet de serre au titre de la directive 2009/31/CE",null,{"$f":"IFERROR(IF(INDEX($B$265:$B$334,$O257+COLUMNS($E254:E254)-1)<>$C257,\"\",INDEX(EUConst_TierActivityListNames,$O257+COLUMNS($E254:E254)-1)),\"\")","v":"CCS: Transport: CO2 transferred"},{"$f":"IFERROR(IF(INDEX($B$265:$B$334,$O257+COLUMNS($E254:F254)-1)<>$C257,\"\",INDEX(EUConst_TierActivityListNames,$O257+COLUMNS($E254:F254)-1)),\"\")","v":"CCS: Transport: CO2 vented"},{"$f":"IFERROR(IF(INDEX($B$265:$B$334,$O257+COLUMNS($E254:G254)-1)<>$C257,\"\",INDEX(EUConst_TierActivityListNames,$O257+COLUMNS($E254:G254)-1)),\"\")","v":"CCS: Transport: CO2 leaked"},{"$f":"IFERROR(IF(INDEX($B$265:$B$334,$O257+COLUMNS($E254:H254)-1)<>$C257,\"\",INDEX(EUConst_TierActivityListNames,$O257+COLUMNS($E254:H254)-1)),\"\")","v":"CCS: Transport: CO2 fugitive"},{"$f":"IFERROR(IF(INDEX($B$265:$B$334,$O257+COLUMNS($E254:I254)-1)<>$C257,\"\",INDEX(EUConst_TierActivityListNames,$O257+COLUMNS($E254:I254)-1)),\"\")","v":""},{"$f":"IFERROR(IF(INDEX($B$265:$B$334,$O257+COLUMNS($E254:J254)-1)<>$C257,\"\",INDEX(EUConst_TierActivityListNames,$O257+COLUMNS($E254:J254)-1)),\"\")","v":""},{"$f":"IFERROR(IF(INDEX($B$265:$B$334,$O257+COLUMNS($E254:K254)-1)<>$C257,\"\",INDEX(EUConst_TierActivityListNames,$O257+COLUMNS($E254:K254)-1)),\"\")","v":""},"CO2",null,null,63]
[29,{"$f":"IF(LEN(Translations!$B$953)>250,LEFT(Translations!$B$953,250),Translations!$B$953)","v":"Stockage géologique des gaz à effet de serre dans un site de stockage agréé au titre de la directive 2009/31/CE"},"Stockage des gaz à effet de serre dans le cadre de la directive 2009/31/CE",null,{"$f":"IFERROR(IF(INDEX($B$265:$B$334,$O258+COLUMNS($E255:E255)-1)<>$C258,\"\",INDEX(EUConst_TierActivityListNames,$O258+COLUMNS($E255:E255)-1)),\"\")","v":"CCS: Storage: CO2 transferred"},{"$f":"IFERROR(IF(INDEX($B$265:$B$334,$O258+COLUMNS($E255:F255)-1)<>$C258,\"\",INDEX(EUConst_TierActivityListNames,$O258+COLUMNS($E255:F255)-1)),\"\")","v":"CCS: Storage: CO2 vented"},{"$f":"IFERROR(IF(INDEX($B$265:$B$334,$O258+COLUMNS($E255:G255)-1)<>$C258,\"\",INDEX(EUConst_TierActivityListNames,$O258+COLUMNS($E255:G255)-1)),\"\")","v":"CCS: Storage: CO2 leaked"},{"$f":"IFERROR(IF(INDEX($B$265:$B$334,$O258+COLUMNS($E255:H255)-1)<>$C258,\"\",INDEX(EUConst_TierActivityListNames,$O258+COLUMNS($E255:H255)-1)),\"\")","v":"CCS: Storage: CO2 fugitive"},{"$f":"IFERROR(IF(INDEX($B$265:$B$334,$O258+COLUMNS($E255:I255)-1)<>$C258,\"\",INDEX(EUConst_TierActivityListNames,$O258+COLUMNS($E255:I255)-1)),\"\")","v":""},{"$f":"IFERROR(IF(INDEX($B$265:$B$334,$O258+COLUMNS($E255:J255)-1)<>$C258,\"\",INDEX(EUConst_TierActivityListNames,$O258+COLUMNS($E255:J255)-1)),\"\")","v":""},{"$f":"IFERROR(IF(INDEX($B$265:$B$334,$O258+COLUMNS($E255:K255)-1)<>$C258,\"\",INDEX(EUConst_TierActivityListNames,$O258+COLUMNS($E255:K255)-1)),\"\")","v":""},"CO2",null,null,67]
[]
[]
[]
[]
[null,{"$f":"Translations!$B$954","v":"Données d'activité"},null,null,null,null,{"$f":"Translations!$B$955","v":"Niveau"},{"$f":"Translations!$B$955","v":"Niveau"},{"$f":"Translations!$B$955","v":"Niveau"},{"$f":"Translations!$B$955","v":"Niveau"},{"$f":"Translations!$B$955","v":"Niveau"},{"$f":"Translations!$B$955","v":"Niveau"},{"$f":"Translations!$B$955","v":"Niveau"},{"$f":"Translations!$B$955","v":"Niveau"},{"$f":"Translations!$B$955","v":"Niveau"}]
[null,{"$f":"Translations!$B$956","v":"Activité"},{"$f":"Translations!$B$957","v":"Intitulé abrégé"},{"$f":"Translations!$B$958","v":"Sous-activité"},{"$f":"Translations!$B$389","v":"Paramètre"},{"$f":"Translations!$B$959","v":"Type de source"},{"$f":"Translations!$B$960","v":"Minimum"},1,2,"2a",{"$f":"Translations!$B$928","v":"2b"},3,"3a","3b",4,{"$f":"Translations!$B$961","v":"Maximum"},null,null,null,null,null,null,"Is CO2 transfer?",null,null,{"$f":"Translations!$B$962","v":"Griser ?"}]
[1,{"$f":"C230","v":"Combustion de combustibles"},{"$f":"Translations!$B$964","v":"Combustion"},{"$f":"Translations!$B$965","v":"Combustibles marchands ordinaires"},{"$f":"Translations!$B$442","v":"Quantité de combustible [t] ou [Nm3]"},{"$f":"EUconst_Fuel","v":"Méthode standard: Combustible, article 24, paragraphe 1"},2,{"$f":"Translations!$B$966","v":"± 7,5%"},{"$f":"Translations!$B$967","v":"± 5,0%"},null,null,{"$f":"Translations!$B$968","v":"± 2,5%"},null,null,{"$f":"Translations!$B$969","v":"± 1,5%"},{"$f":"COUNTA(H265:O265)","v":4},{"$f":"C265 & \": \" &D265","v":"Combustion: Combustibles marchands ordinaires"},null,{"$f":"EUconst_CNTR_ActivityData&Q265","v":"ActivityData_Combustion: Combustibles marchands ordinaires"},null,null,null,false,null,null,{"$f":"IF(G265=EUconst_NA,TRUE,FALSE)","v":false}]
[2,{"$f":"B265","v":"Combustion de combustibles"},"Combustion",{"$f":"Translations!$B$970","v":"Autres combustibles gazeux & liquides"},{"$f":"Translations!$B$442","v":"Quantité de combustible [t] ou [Nm3]"},{"$f":"$F$265","v":"Méthode standard: Combustible, article 24, paragraphe 1"},2,{"$f":"Translations!$B$966","v":"± 7,5%"},{"$f":"Translations!$B$967","v":"± 5,0%"},null,null,{"$f":"Translations!$B$968","v":"± 2,5%"},null,null,{"$f":"Translations!$B$969","v":"± 1,5%"},4,"Combustion: Autres combustibles gazeux & liquides",null,"ActivityData_Combustion: Autres combustibles gazeux & liquides",null,null,null,false,null,null,false]
[3,"Combustion de combustibles","Combustion",{"$f":"Translations!$B$1278","v":"Combustibles solides, hors déchets"},{"$f":"Translations!$B$972","v":"Quantité de combustibles [t]"},{"$f":"$F$265","v":"Méthode standard: Combustible, article 24, paragraphe 1"},1,{"$f":"Translations!$B$966","v":"± 7,5%"},{"$f":"Translations!$B$967","v":"± 5,0%"},null,null,{"$f":"Translations!$B$968","v":"± 2,5%"},null,null,{"$f":"Translations!$B$969","v":"± 1,5%"},4,"Combustion: Combustibles solides, hors déchets",null,"ActivityData_Combustion: Combustibles solides, hors déchets",null,null,null,false,null,null,false]
[4,{"$f":"B267","v":"Combustion de combustibles"},{"$f":"C267","v":"Combustion"},{"$f":"Translations!$B$1275","v":"Déchets"},{"$f":"Translations!$B$972","v":"Quantité de combustibles [t]"},{"$f":"$F$265","v":"Méthode standard: Combustible, article 24, paragraphe 1"},1,{"$f":"Translations!$B$966","v":"± 7,5%"},{"$f":"Translations!$B$967","v":"± 5,0%"},null,null,{"$f":"Translations!$B$968","v":"± 2,5%"},null,null,{"$f":"Translations!$B$969","v":"± 1,5%"},{"$f":"COUNTA(H268:O268)","v":4},{"$f":"C268 & \": \" &D268","v":"Combustion: Déchets"},null,{"$f":"EUconst_CNTR_ActivityData&Q268","v":"ActivityData_Combustion: Déchets"},null,null,null,false,null,null,{"$f":"IF(G268=EUconst_NA,TRUE,FALSE)","v":false}]
[5,{"$f":"B267","v":"Combustion de combustibles"},{"$f":"C267","v":"Combustion"},{"$f":"Translations!$B$973","v":"Terminaux de traitement du gaz"},{"$f":"Translations!$B$974","v":"Chaque matière entrante et sortante [t]"},{"$f":"EUconst_MassBalance","v":"Méthode du bilan massique, article 25"},1,{"$f":"Translations!$B$966","v":"± 7,5%"},{"$f":"Translations!$B$967","v":"± 5,0%"},null,null,{"$f":"Translations!$B$968","v":"± 2,5%"},null,null,{"$f":"Translations!$B$969","v":"± 1,5%"},4,"Combustion: Terminaux de traitement du gaz",null,"ActivityData_Combustion: Terminaux de traitement du gaz",null,null,null,false,null,null,false]
[6,{"$f":"B267","v":"Combustion de combustibles"},{"$f":"C267","v":"Combustion"},{"$f":"Translations!$B$975","v":"Torchères"},{"$f":"Translations!$B$976","v":"Quantité de gaz brûlée [Nm3]"},{"$f":"$F$265","v":"Méthode standard: Combustible, article 24, paragraphe 1"},1,{"$f":"Translations!$B$977","v":"± 17,5%"},{"$f":"Translations!$B$978","v":"± 12,5%"},null,null,{"$f":"Translations!$B$966","v":"± 7,5%"},null,null,null,3,"Combustion: Torchères",null,"ActivityData_Combustion: Torchères",null,null,null,false,null,null,false]
[7,"Combustion de combustibles","Combustion",{"$f":"Translations!$B$979","v":"Épuration (carbonate)"},{"$f":"Translations!$B$980","v":"Quantité de carbonates consommée [t]"},{"$f":"EUconst_ProcessCarbonate","v":"Méthode standard: Procédé, article 24, paragraphe 2"},1,{"$f":"Translations!$B$966","v":"± 7,5%"},null,null,null,null,null,null,null,1,"Combustion: Épuration (carbonate)",null,"ActivityData_Combustion: Épuration (carbonate)",null,null,null,false,null,null,false]
[8,"Combustion de combustibles","Combustion",{"$f":"Translations!$B$981","v":"Épuration (gypse)"},{"$f":"Translations!$B$982","v":"Quantité de gypse produite [t]"},{"$f":"$F$271","v":"Méthode standard: Procédé, article 24, paragraphe 2"},1,{"$f":"Translations!$B$966","v":"± 7,5%"},null,null,null,null,null,null,null,1,"Combustion: Épuration (gypse)",null,"ActivityData_Combustion: Épuration (gypse)",null,null,null,false,null,null,false]
[9,"Combustion de combustibles","Combustion",{"$f":"Translations!$B$1256","v":"Épuration (urée)"},{"$f":"Translations!$B$1257","v":"Quantité d’urée consommée [t]"},{"$f":"$F$271","v":"Méthode standard: Procédé, article 24, paragraphe 2"},1,{"$f":"Translations!$B$966","v":"± 7,5%"},null,null,null,null,null,null,null,{"$f":"COUNTA(H273:O273)","v":1},{"$f":"C273 & \": \" &D273","v":"Combustion: Épuration (urée)"},null,{"$f":"EUconst_CNTR_ActivityData&Q273","v":"ActivityData_Combustion: Épuration (urée)"},null,null,null,false,null,null,false]
[10,{"$f":"C232","v":"Raffinage d'huile"},{"$f":"Translations!$B$983","v":"Raffineries"},{"$f":"Translations!$B$984","v":"Bilan massique"},{"$f":"Translations!$B$974","v":"Chaque matière entrante et sortante [t]"},{"$f":"EUconst_MassBalance","v":"Méthode du bilan massique, article 25"},1,{"$f":"Translations!$B$966","v":"± 7,5%"},{"$f":"Translations!$B$967","v":"± 5,0%"},null,null,{"$f":"Translations!$B$968","v":"± 2,5%"},null,null,{"$f":"Translations!$B$969","v":"± 1,5%"},4,"Raffineries: Bilan massique",null,"ActivityData_Raffineries: Bilan massique",null,null,null,false,null,null,false]
[11,{"$f":"Translations!$B$858","v":"Raffinage de pétrole "},{"$f":"C274","v":"Raffineries"},{"$f":"Translations!$B$985","v":"Régénération des catalyseurs de craquage catalytique"},{"$f":"Translations!$B$986","v":"Les exigences en matière d'incertitude s'appliquent séparément pour chaque source d'émission"},{"$f":"EUconst_MassBalance","v":"Méthode du bilan massique, article 25"},1,{"$f":"Translations!$B$987","v":"± 10,0% (as t CO2)"},{"$f":"Translations!$B$988","v":"± 7,5% (as t CO2)"},null,null,{"$f":"Translations!$B$989","v":"± 5,0% (as t CO2)"},null,null,{"$f":"Translations!$B$990","v":"± 2,5% (as t CO2)"},4,"Raffineries: Régénération des catalyseurs de craquage catalytique",null,"ActivityData_Raffineries: Régénération des catalyseurs de craquage catalytique",null,null,null,false,null,null,false]
[12,{"$f":"B275","v":"Raffinage de pétrole "},{"$f":"C275","v":"Raffineries"},{"$f":"Translations!$B$991","v":"Production d'hydrogène"},{"$f":"Translations!$B$992","v":"Charge d'hydrocarbures [t]"},{"$f":"EUconst_MassBalance","v":"Méthode du bilan massique, article 25"},1,{"$f":"Translations!$B$966","v":"± 7,5%"},{"$f":"Translations!$B$967","v":"± 5,0%"},null,null,{"$f":"Translations!$B$968","v":"± 2,5%"},null,null,{"$f":"Translations!$B$969","v":"± 1,5%"},4,"Raffineries: Production d'hydrogène",null,"ActivityData_Raffineries: Production d'hydrogène",null,null,null,false,null,null,false]
[13,{"$f":"C233","v":"Production de coke"},{"$f":"Translations!$B$993","v":"Coke"},{"$f":"Translations!$B$994","v":"Combustible employé pour alimenter le procédé"},{"$f":"Translations!$B$442","v":"Quantité de combustible [t] ou [Nm3]"},{"$f":"EUconst_Fuel","v":"Méthode standard: Combustible, article 24, paragraphe 1"},1,{"$f":"Translations!$B$966","v":"± 7,5%"},{"$f":"Translations!$B$967","v":"± 5,0%"},null,null,{"$f":"Translations!$B$968","v":"± 2,5%"},null,null,{"$f":"Translations!$B$969","v":"± 1,5%"},4,"Coke: Combustible employé pour alimenter le procédé",null,"ActivityData_Coke: Combustible employé pour alimenter le procédé",null,null,null,false,null,null,false]
[14,{"$f":"B277","v":"Production de coke"},"Coke",{"$f":"Translations!$B$1258","v":"Procédé (méthode A): uniquement carbonates"},{"$f":"Translations!$B$1259","v":"Matière entrante [t]"},{"$f":"EUconst_ProcessCarbonate","v":"Méthode standard: Procédé, article 24, paragraphe 2"},1,{"$f":"Translations!$B$966","v":"± 7,5%"},{"$f":"Translations!$B$967","v":"± 5,0%"},null,null,{"$f":"Translations!$B$968","v":"± 2,5%"},null,null,null,3,"Coke: Procédé (méthode A): uniquement carbonates",null,"ActivityData_Coke: Procédé (méthode A): uniquement carbonates",null,null,null,false,null,null,false]
[15,"Production de coke","Coke",{"$f":"Translations!$B$1260","v":"Procédé (méthode A): mélange (carbonates + autres que carbonates)"},{"$f":"Translations!$B$1259","v":"Matière entrante [t]"},{"$f":"EUconst_ProcessCarbonate","v":"Méthode standard: Procédé, article 24, paragraphe 2"},1,{"$f":"Translations!$B$966","v":"± 7,5%"},{"$f":"Translations!$B$967","v":"± 5,0%"},null,null,{"$f":"Translations!$B$968","v":"± 2,5%"},null,null,null,{"$f":"COUNTA(H279:O279)","v":3},{"$f":"C279 & \": \" &D279","v":"Coke: Procédé (méthode A): mélange (carbonates + autres que carbonates)"},null,{"$f":"EUconst_CNTR_ActivityData&Q279","v":"ActivityData_Coke: Procédé (méthode A): mélange (carbonates + autres que carbonates)"},null,null,null,false,null,null,false]
[16,"Production de coke","Coke",{"$f":"Translations!$B$1261","v":"Procédé (méthode A): non issu de carbonate"},{"$f":"Translations!$B$1259","v":"Matière entrante [t]"},{"$f":"EUconst_ProcessCarbonate","v":"Méthode standard: Procédé, article 24, paragraphe 2"},1,{"$f":"Translations!$B$966","v":"± 7,5%"},{"$f":"Translations!$B$967","v":"± 5,0%"},null,null,{"$f":"Translations!$B$968","v":"± 2,5%"},null,null,null,{"$f":"COUNTA(H280:O280)","v":3},{"$f":"C280 & \": \" &D280","v":"Coke: Procédé (méthode A): non issu de carbonate"},null,{"$f":"EUconst_CNTR_ActivityData&Q280","v":"ActivityData_Coke: Procédé (méthode A): non issu de carbonate"},null,null,null,false,null,null,false]
[17,{"$f":"B278","v":"Production de coke"},{"$f":"C278","v":"Coke"},{"$f":"Translations!$B$1262","v":"Procédé (méthode B): production d’oxydes"},{"$f":"Translations!$B$998","v":"Production d’oxydes [t]"},{"$f":"EUconst_ProcessCarbonate","v":"Méthode standard: Procédé, article 24, paragraphe 2"},1,{"$f":"Translations!$B$967","v":"± 5,0%"},{"$f":"Translations!$B$968","v":"± 2,5%"},null,null,null,null,null,null,2,"Coke: Procédé (méthode B): production d’oxydes",null,"ActivityData_Coke: Procédé (méthode B): production d’oxydes",null,null,null,false,null,null,false]
[18,"Production de coke","Coke",{"$f":"Translations!$B$984","v":"Bilan massique"},{"$f":"Translations!$B$974","v":"Chaque matière entrante et sortante [t]"},{"$f":"EUconst_MassBalance","v":"Méthode du bilan massique, article 25"},1,{"$f":"Translations!$B$966","v":"± 7,5%"},{"$f":"Translations!$B$967","v":"± 5,0%"},null,null,{"$f":"Translations!$B$968","v":"± 2,5%"},null,null,{"$f":"Translations!$B$969","v":"± 1,5%"},4,"Coke: Bilan massique",null,"ActivityData_Coke: Bilan massique",null,null,null,false,null,null,false]
[19,{"$f":"C234","v":"Grillage ou frittage de minerai métallique"},{"$f":"Translations!$B$1000","v":"Minerai de métaux"},{"$f":"Translations!$B$1258","v":"Procédé (méthode A): uniquement carbonates"},{"$f":"Translations!$B$1259","v":"Matière entrante [t]"},{"$f":"$F$271","v":"Méthode standard: Procédé, article 24, paragraphe 2"},1,{"$f":"Translations!$B$967","v":"± 5,0%"},{"$f":"Translations!$B$968","v":"± 2,5%"},null,null,null,null,null,null,2,"Minerai de métaux: Procédé (méthode A): uniquement carbonates",null,"ActivityData_Minerai de métaux: Procédé (méthode A): uniquement carbonates",null,null,null,false,null,null,false]
[20,{"$f":"B283","v":"Grillage ou frittage de minerai métallique"},"Minerai de métaux",{"$f":"Translations!$B$1260","v":"Procédé (méthode A): mélange (carbonates + autres que carbonates)"},{"$f":"Translations!$B$1259","v":"Matière entrante [t]"},{"$f":"EUconst_ProcessCarbonate","v":"Méthode standard: Procédé, article 24, paragraphe 2"},1,{"$f":"Translations!$B$966","v":"± 7,5%"},{"$f":"Translations!$B$967","v":"± 5,0%"},null,null,{"$f":"Translations!$B$968","v":"± 2,5%"},null,null,null,{"$f":"COUNTA(H284:O284)","v":3},{"$f":"C284 & \": \" &D284","v":"Minerai de métaux: Procédé (méthode A): mélange (carbonates + autres que carbonates)"},null,{"$f":"EUconst_CNTR_ActivityData&Q284","v":"ActivityData_Minerai de métaux: Procédé (méthode A): mélange (carbonates + autres que carbonates)"},null,null,null,false,null,null,false]
[21,"Grillage ou frittage de minerai métallique","Minerai de métaux",{"$f":"Translations!$B$1261","v":"Procédé (méthode A): non issu de carbonate"},{"$f":"Translations!$B$1259","v":"Matière entrante [t]"},{"$f":"EUconst_ProcessCarbonate","v":"Méthode standard: Procédé, article 24, paragraphe 2"},1,{"$f":"Translations!$B$966","v":"± 7,5%"},{"$f":"Translations!$B$967","v":"± 5,0%"},null,null,{"$f":"Translations!$B$968","v":"± 2,5%"},null,null,null,{"$f":"COUNTA(H285:O285)","v":3},{"$f":"C285 & \": \" &D285","v":"Minerai de métaux: Procédé (méthode A): non issu de carbonate"},null,{"$f":"EUconst_CNTR_ActivityData&Q285","v":"ActivityData_Minerai de métaux: Procédé (méthode A): non issu de carbonate"},null,null,null,false,null,null,false]
[22,"Grillage ou frittage de minerai métallique","Minerai de métaux",{"$f":"Translations!$B$1262","v":"Procédé (méthode B): production d’oxydes"},{"$f":"Translations!$B$998","v":"Production d’oxydes [t]"},{"$f":"EUconst_ProcessCarbonate","v":"Méthode standard: Procédé, article 24, paragraphe 2"},1,{"$f":"Translations!$B$967","v":"± 5,0%"},{"$f":"Translations!$B$968","v":"± 2,5%"},null,null,null,null,null,null,{"$f":"COUNTA(H286:O286)","v":2},{"$f":"C286 & \": \" &D286","v":"Minerai de métaux: Procédé (méthode B): production d’oxydes"},null,{"$f":"EUconst_CNTR_ActivityData&Q286","v":"ActivityData_Minerai de métaux: Procédé (méthode B): production d’oxydes"},null,null,null,false,null,null,false]
[23,{"$f":"B283","v":"Grillage ou frittage de minerai métallique"},{"$f":"C283","v":"Minerai de métaux"},{"$f":"Translations!$B$984","v":"Bilan massique"},{"$f":"Translations!$B$974","v":"Chaque matière entrante et sortante [t]"},{"$f":"EUconst_MassBalance","v":"Méthode du bilan massique, article 25"},1,{"$f":"Translations!$B$966","v":"± 7,5%"},{"$f":"Translations!$B$967","v":"± 5,0%"},null,null,{"$f":"Translations!$B$968","v":"± 2,5%"},null,null,{"$f":"Translations!$B$969","v":"± 1,5%"},4,"Minerai de métaux: Bilan massique",null,"ActivityData_Minerai de métaux: Bilan massique",null,null,null,false,null,null,false]
[24,{"$f":"C235","v":"Production de fer ou d'acier"},{"$f":"Translations!$B$1004","v":"Sidérurgie"},{"$f":"Translations!$B$994","v":"Combustible employé pour alimenter le procédé"},{"$f":"Translations!$B$1005","v":"Chaque flux massique entrant et sortant de l'installation [t]"},{"$f":"$F$265","v":"Méthode standard: Combustible, article 24, paragraphe 1"},1,{"$f":"Translations!$B$966","v":"± 7,5%"},{"$f":"Translations!$B$967","v":"± 5,0%"},null,null,{"$f":"Translations!$B$968","v":"± 2,5%"},null,null,{"$f":"Translations!$B$969","v":"± 1,5%"},4,"Sidérurgie: Combustible employé pour alimenter le procédé",null,"ActivityData_Sidérurgie: Combustible employé pour alimenter le procédé",null,null,null,false,null,null,false]
[25,{"$f":"B288","v":"Production de fer ou d'acier"},"Sidérurgie",{"$f":"Translations!$B$1258","v":"Procédé (méthode A): uniquement carbonates"},{"$f":"Translations!$B$1259","v":"Matière entrante [t]"},{"$f":"$F$271","v":"Méthode standard: Procédé, article 24, paragraphe 2"},1,{"$f":"Translations!$B$966","v":"± 7,5%"},{"$f":"Translations!$B$967","v":"± 5,0%"},null,null,{"$f":"Translations!$B$968","v":"± 2,5%"},null,null,null,3,"Sidérurgie: Procédé (méthode A): uniquement carbonates",null,"ActivityData_Sidérurgie: Procédé (méthode A): uniquement carbonates",null,null,null,false,null,null,false]
[26,"Production de fer ou d'acier","Sidérurgie",{"$f":"Translations!$B$1260","v":"Procédé (méthode A): mélange (carbonates + autres que carbonates)"},{"$f":"Translations!$B$1259","v":"Matière entrante [t]"},{"$f":"$F$271","v":"Méthode standard: Procédé, article 24, paragraphe 2"},1,{"$f":"Translations!$B$966","v":"± 7,5%"},{"$f":"Translations!$B$967","v":"± 5,0%"},null,null,{"$f":"Translations!$B$968","v":"± 2,5%"},null,null,null,{"$f":"COUNTA(H290:O290)","v":3},{"$f":"C290 & \": \" &D290","v":"Sidérurgie: Procédé (méthode A): mélange (carbonates + autres que carbonates)"},null,{"$f":"EUconst_CNTR_ActivityData&Q290","v":"ActivityData_Sidérurgie: Procédé (méthode A): mélange (carbonates + autres que carbonates)"},null,null,null,false,null,null,false]
[27,"Production de fer ou d'acier","Sidérurgie",{"$f":"Translations!$B$1261","v":"Procédé (méthode A): non issu de carbonate"},{"$f":"Translations!$B$1259","v":"Matière entrante [t]"},{"$f":"$F$271","v":"Méthode standard: Procédé, article 24, paragraphe 2"},1,{"$f":"Translations!$B$966","v":"± 7,5%"},{"$f":"Translations!$B$967","v":"± 5,0%"},null,null,{"$f":"Translations!$B$968","v":"± 2,5%"},null,null,null,3,"Sidérurgie: Procédé (méthode A): non issu de carbonate",null,"ActivityData_Sidérurgie: Procédé (méthode A): non issu de carbonate",null,null,null,false,null,null,false]
[28,"Production de fer ou d'acier","Sidérurgie",{"$f":"Translations!$B$1262","v":"Procédé (méthode B): production d’oxydes"},{"$f":"Translations!$B$998","v":"Production d’oxydes [t]"},{"$f":"$F$271","v":"Méthode standard: Procédé, article 24, paragraphe 2"},1,{"$f":"Translations!$B$967","v":"± 5,0%"},{"$f":"Translations!$B$968","v":"± 2,5%"},null,null,null,null,null,null,2,"Sidérurgie: Procédé (méthode B): production d’oxydes",null,"ActivityData_Sidérurgie: Procédé (méthode B): production d’oxydes",null,null,null,false,null,null,false]
[29,{"$f":"B288","v":"Production de fer ou d'acier"},{"$f":"C288","v":"Sidérurgie"},{"$f":"Translations!$B$984","v":"Bilan massique"},{"$f":"Translations!$B$974","v":"Chaque matière entrante et sortante [t]"},{"$f":"EUconst_MassBalance","v":"Méthode du bilan massique, article 25"},1,{"$f":"Translations!$B$966","v":"± 7,5%"},{"$f":"Translations!$B$967","v":"± 5,0%"},null,null,{"$f":"Translations!$B$968","v":"± 2,5%"},null,null,{"$f":"Translations!$B$969","v":"± 1,5%"},4,"Sidérurgie: Bilan massique",null,"ActivityData_Sidérurgie: Bilan massique",null,null,null,false,null,null,false]
[30,{"$f":"C240","v":"Production de clinker"},{"$f":"Translations!$B$1006","v":"Clinker"},{"$f":"Translations!$B$1007","v":"D'après la charge du four (méthode A)"},{"$f":"Translations!$B$1008","v":"Chaque charge du four [t]"},{"$f":"$F$271","v":"Méthode standard: Procédé, article 24, paragraphe 2"},1,{"$f":"Translations!$B$966","v":"± 7,5%"},{"$f":"Translations!$B$967","v":"± 5,0%"},null,null,{"$f":"Translations!$B$968","v":"± 2,5%"},null,null,null,3,"Clinker: D'après la charge du four (méthode A)",null,"ActivityData_Clinker: D'après la charge du four (méthode A)",null,null,null,false,null,null,false]
[31,{"$f":"B294","v":"Production de clinker"},"Clinker",{"$f":"Translations!$B$1009","v":"Quantité de clinker produite (méthode B)"},{"$f":"Translations!$B$1010","v":"Clinker produit [t]"},"Méthode standard: Procédé, article 24, paragraphe 2",1,{"$f":"Translations!$B$967","v":"± 5,0%"},{"$f":"Translations!$B$968","v":"± 2,5%"},null,null,null,null,null,null,2,"Clinker: Quantité de clinker produite (méthode B)",null,"ActivityData_Clinker: Quantité de clinker produite (méthode B)",null,null,null,false,null,null,false]
[32,"Production de clinker","Clinker",{"$f":"Translations!$B$1011","v":"Poussières des fours à ciment"},{"$f":"Translations!$B$1012","v":"Poussières des fours à ciment ou de bypass [t]"},"Méthode standard: Procédé, article 24, paragraphe 2",1,{"$f":"EUconst_MsgTierCKD","v":"s.o.; utilisez une estimation basée sur les meilleures pratiques)"},{"$f":"Translations!$B$966","v":"± 7,5%"},null,null,null,null,null,null,2,"Clinker: Poussières des fours à ciment",null,"ActivityData_Clinker: Poussières des fours à ciment",null,null,null,false,null,null,false]
[33,"Production de clinker","Clinker",{"$f":"Translations!$B$1013","v":"Carbone non issu de carbonates"},{"$f":"Translations!$B$1014","v":"Chaque matière première [t]"},"Méthode standard: Procédé, article 24, paragraphe 2",1,{"$f":"Translations!$B$1015","v":"± 15,0%"},{"$f":"Translations!$B$966","v":"± 7,5%"},null,null,null,null,null,null,2,"Clinker: Carbone non issu de carbonates",null,"ActivityData_Clinker: Carbone non issu de carbonates",null,null,null,false,null,null,false]
[34,{"$f":"C241","v":"Production de chaux ou calcination de dolomite/magnésite"},{"$f":"Translations!$B$1017","v":"Chaux / dolomite / magnésite"},{"$f":"Translations!$B$1258","v":"Procédé (méthode A): uniquement carbonates"},{"$f":"Translations!$B$1259","v":"Matière entrante [t]"},"Méthode standard: Procédé, article 24, paragraphe 2",1,{"$f":"Translations!$B$966","v":"± 7,5%"},{"$f":"Translations!$B$967","v":"± 5,0%"},null,null,{"$f":"Translations!$B$968","v":"± 2,5%"},null,null,null,3,"Chaux / dolomite / magnésite: Procédé (méthode A): uniquement carbonates",null,"ActivityData_Chaux / dolomite / magnésite: Procédé (méthode A): uniquement carbonates",null,null,null,false,null,null,false]
[35,{"$f":"B298","v":"Production de chaux ou calcination de dolomite/magnésite"},{"$f":"Translations!$B$1017","v":"Chaux / dolomite / magnésite"},{"$f":"Translations!$B$1260","v":"Procédé (méthode A): mélange (carbonates + autres que carbonates)"},{"$f":"Translations!$B$1259","v":"Matière entrante [t]"},"Méthode standard: Procédé, article 24, paragraphe 2",1,{"$f":"Translations!$B$966","v":"± 7,5%"},{"$f":"Translations!$B$967","v":"± 5,0%"},null,null,{"$f":"Translations!$B$968","v":"± 2,5%"},null,null,null,3,"Chaux / dolomite / magnésite: Procédé (méthode A): mélange (carbonates + autres que carbonates)",null,"ActivityData_Chaux / dolomite / magnésite: Procédé (méthode A): mélange (carbonates + autres que carbonates)",null,null,null,false,null,null,false]
[36,{"$f":"B299","v":"Production de chaux ou calcination de dolomite/magnésite"},{"$f":"Translations!$B$1017","v":"Chaux / dolomite / magnésite"},{"$f":"Translations!$B$1261","v":"Procédé (méthode A): non issu de carbonate"},{"$f":"Translations!$B$1259","v":"Matière entrante [t]"},"Méthode standard: Procédé, article 24, paragraphe 2",1,{"$f":"Translations!$B$966","v":"± 7,5%"},{"$f":"Translations!$B$967","v":"± 5,0%"},null,null,{"$f":"Translations!$B$968","v":"± 2,5%"},null,null,null,3,"Chaux / dolomite / magnésite: Procédé (méthode A): non issu de carbonate",null,"ActivityData_Chaux / dolomite / magnésite: Procédé (méthode A): non issu de carbonate",null,null,null,false,null,null,false]
[37,{"$f":"B298","v":"Production de chaux ou calcination de dolomite/magnésite"},{"$f":"C298","v":"Chaux / dolomite / magnésite"},{"$f":"Translations!$B$1262","v":"Procédé (méthode B): production d’oxydes"},{"$f":"Translations!$B$998","v":"Production d’oxydes [t]"},"Méthode standard: Procédé, article 24, paragraphe 2",1,{"$f":"Translations!$B$967","v":"± 5,0%"},{"$f":"Translations!$B$968","v":"± 2,5%"},null,null,null,null,null,null,2,"Chaux / dolomite / magnésite: Procédé (méthode B): production d’oxydes",null,"ActivityData_Chaux / dolomite / magnésite: Procédé (méthode B): production d’oxydes",null,null,null,false,null,null,false]
[38,{"$f":"B301","v":"Production de chaux ou calcination de dolomite/magnésite"},{"$f":"C301","v":"Chaux / dolomite / magnésite"},{"$f":"Translations!$B$1021","v":"Poussières de four (méthode B)"},{"$f":"Translations!$B$1022","v":"Poussières de four [t]"},"Méthode standard: Procédé, article 24, paragraphe 2",1,{"$f":"EUconst_MsgTierCKD","v":"s.o.; utilisez une estimation basée sur les meilleures pratiques)"},{"$f":"Translations!$B$966","v":"± 7,5%"},null,null,null,null,null,null,2,"Chaux / dolomite / magnésite: Poussières de four (méthode B)",null,"ActivityData_Chaux / dolomite / magnésite: Poussières de four (méthode B)",null,null,null,false,null,null,false]
[39,{"$f":"C242","v":"Fabrication de verre"},{"$f":"Translations!$B$1024","v":"Verre et laine minérale"},{"$f":"Translations!$B$1258","v":"Procédé (méthode A): uniquement carbonates"},{"$f":"Translations!$B$1259","v":"Matière entrante [t]"},"Méthode standard: Procédé, article 24, paragraphe 2",1,{"$f":"Translations!$B$968","v":"± 2,5%"},{"$f":"Translations!$B$969","v":"± 1,5%"},null,null,null,null,null,null,2,"Verre et laine minérale: Procédé (méthode A): uniquement carbonates",null,"ActivityData_Verre et laine minérale: Procédé (méthode A): uniquement carbonates",null,null,null,false,null,null,false]
[40,{"$f":"C242","v":"Fabrication de verre"},{"$f":"Translations!$B$1024","v":"Verre et laine minérale"},{"$f":"Translations!$B$1260","v":"Procédé (méthode A): mélange (carbonates + autres que carbonates)"},{"$f":"Translations!$B$1259","v":"Matière entrante [t]"},"Méthode standard: Procédé, article 24, paragraphe 2",1,{"$f":"Translations!$B$968","v":"± 2,5%"},{"$f":"Translations!$B$969","v":"± 1,5%"},null,null,null,null,null,null,2,"Verre et laine minérale: Procédé (méthode A): mélange (carbonates + autres que carbonates)",null,"ActivityData_Verre et laine minérale: Procédé (méthode A): mélange (carbonates + autres que carbonates)",null,null,null,false,null,null,false]
[41,{"$f":"B304","v":"Fabrication de verre"},{"$f":"Translations!$B$1024","v":"Verre et laine minérale"},{"$f":"Translations!$B$1261","v":"Procédé (méthode A): non issu de carbonate"},{"$f":"Translations!$B$1259","v":"Matière entrante [t]"},"Méthode standard: Procédé, article 24, paragraphe 2",1,{"$f":"Translations!$B$968","v":"± 2,5%"},{"$f":"Translations!$B$969","v":"± 1,5%"},null,null,null,null,null,null,2,"Verre et laine minérale: Procédé (méthode A): non issu de carbonate",null,"ActivityData_Verre et laine minérale: Procédé (méthode A): non issu de carbonate",null,null,null,false,null,null,false]
[42,{"$f":"C243","v":"Fabrication de produits céramiques"},{"$f":"Translations!$B$1028","v":"Céramique"},{"$f":"Translations!$B$1258","v":"Procédé (méthode A): uniquement carbonates"},{"$f":"Translations!$B$1259","v":"Matière entrante [t]"},"Méthode standard: Procédé, article 24, paragraphe 2",1,{"$f":"Translations!$B$966","v":"± 7,5%"},{"$f":"Translations!$B$967","v":"± 5,0%"},null,null,{"$f":"Translations!$B$968","v":"± 2,5%"},null,null,null,3,"Céramique: Procédé (méthode A): uniquement carbonates",null,"ActivityData_Céramique: Procédé (méthode A): uniquement carbonates",null,null,null,false,null,null,false]
[43,{"$f":"B306","v":"Fabrication de produits céramiques"},{"$f":"C306","v":"Céramique"},{"$f":"Translations!$B$1260","v":"Procédé (méthode A): mélange (carbonates + autres que carbonates)"},{"$f":"Translations!$B$1259","v":"Matière entrante [t]"},{"$f":"EUconst_ProcessCarbonate","v":"Méthode standard: Procédé, article 24, paragraphe 2"},1,{"$f":"Translations!$B$966","v":"± 7,5%"},{"$f":"Translations!$B$967","v":"± 5,0%"},null,null,{"$f":"Translations!$B$968","v":"± 2,5%"},null,null,null,3,"Céramique: Procédé (méthode A): mélange (carbonates + autres que carbonates)",null,"ActivityData_Céramique: Procédé (méthode A): mélange (carbonates + autres que carbonates)",null,null,null,false,null,null,false]
[44,{"$f":"B307","v":"Fabrication de produits céramiques"},{"$f":"C307","v":"Céramique"},{"$f":"Translations!$B$1261","v":"Procédé (méthode A): non issu de carbonate"},{"$f":"Translations!$B$1259","v":"Matière entrante [t]"},{"$f":"EUconst_ProcessCarbonate","v":"Méthode standard: Procédé, article 24, paragraphe 2"},1,{"$f":"Translations!$B$966","v":"± 7,5%"},{"$f":"Translations!$B$967","v":"± 5,0%"},null,null,{"$f":"Translations!$B$968","v":"± 2,5%"},null,null,null,3,"Céramique: Procédé (méthode A): non issu de carbonate",null,"ActivityData_Céramique: Procédé (méthode A): non issu de carbonate",null,null,null,false,null,null,false]
[45,{"$f":"B308","v":"Fabrication de produits céramiques"},{"$f":"C306","v":"Céramique"},{"$f":"Translations!$B$1262","v":"Procédé (méthode B): production d’oxydes"},{"$f":"Translations!$B$1032","v":"Production brute, y compris produits rejetés et calcin des fours, et expéditions [t]"},"Méthode standard: Procédé, article 24, paragraphe 2",1,{"$f":"Translations!$B$966","v":"± 7,5%"},{"$f":"Translations!$B$967","v":"± 5,0%"},null,null,{"$f":"Translations!$B$968","v":"± 2,5%"},null,null,null,3,"Céramique: Procédé (méthode B): production d’oxydes",null,"ActivityData_Céramique: Procédé (méthode B): production d’oxydes",null,null,null,false,null,null,false]
[46,{"$f":"B309","v":"Fabrication de produits céramiques"},{"$f":"C309","v":"Céramique"},{"$f":"Translations!$B$1033","v":"Épuration"},{"$f":"Translations!$B$1034","v":"Quantité de CaCO3 sec consommée [t]"},"Méthode standard: Procédé, article 24, paragraphe 2",1,{"$f":"Translations!$B$966","v":"± 7,5%"},null,null,null,null,null,null,null,1,"Céramique: Épuration",null,"ActivityData_Céramique: Épuration",null,null,null,false,null,null,{"$f":"IF(G310=EUconst_NA,TRUE,FALSE)","v":false}]
[47,{"$f":"C246","v":"Production de pâte à papier"},{"$f":"Translations!$B$1036","v":"Papier et pâte à papier"},{"$f":"Translations!$B$1037","v":"Produits chimiques d'appoint"},{"$f":"Translations!$B$1038","v":"Quantité de CaCO3 et de Na2CO3 [t]"},"Méthode standard: Procédé, article 24, paragraphe 2",1,{"$f":"Translations!$B$968","v":"± 2,5%"},{"$f":"Translations!$B$969","v":"± 1,5%"},null,null,null,null,null,null,2,"Papier et pâte à papier: Produits chimiques d'appoint",null,"ActivityData_Papier et pâte à papier: Produits chimiques d'appoint",null,null,null,false,null,null,false]
[48,{"$f":"C248","v":"Production de noir de carbone"},{"$f":"Translations!$B$1039","v":"Noir de carbone"},{"$f":"Translations!$B$1040","v":"Méthode du bilan massique"},{"$f":"Translations!$B$974","v":"Chaque matière entrante et sortante [t]"},{"$f":"EUconst_MassBalance","v":"Méthode du bilan massique, article 25"},1,{"$f":"Translations!$B$966","v":"± 7,5%"},{"$f":"Translations!$B$967","v":"± 5,0%"},null,null,{"$f":"Translations!$B$968","v":"± 2,5%"},null,null,{"$f":"Translations!$B$969","v":"± 1,5%"},4,"Noir de carbone: Méthode du bilan massique",null,"ActivityData_Noir de carbone: Méthode du bilan massique",null,null,null,false,null,null,false]
[49,{"$f":"C252","v":"Production d'ammoniac"},{"$f":"Translations!$B$1041","v":"Ammoniac"},{"$f":"Translations!$B$994","v":"Combustible employé pour alimenter le procédé"},{"$f":"Translations!$B$1042","v":"Quantité de combustible utilisée pour alimenter le procédé [t] ou [Nm3]"},{"$f":"$F$265","v":"Méthode standard: Combustible, article 24, paragraphe 1"},2,{"$f":"Translations!$B$966","v":"± 7,5%"},{"$f":"Translations!$B$967","v":"± 5,0%"},null,null,{"$f":"Translations!$B$968","v":"± 2,5%"},null,null,{"$f":"Translations!$B$969","v":"± 1,5%"},4,"Ammoniac: Combustible employé pour alimenter le procédé",null,"ActivityData_Ammoniac: Combustible employé pour alimenter le procédé",null,null,null,false,null,null,false]
[50,{"$f":"C254","v":"Production d'hydrogène et de gaz de synthèse"},{"$f":"Translations!$B$1043","v":"Hydrogène et gaz de synthèse"},{"$f":"Translations!$B$994","v":"Combustible employé pour alimenter le procédé"},{"$f":"Translations!$B$1044","v":"Quantité de combustible utilisée comme matière entrante pour la production d'hydrogène [t] ou [Nm3]"},{"$f":"$F$265","v":"Méthode standard: Combustible, article 24, paragraphe 1"},2,{"$f":"Translations!$B$966","v":"± 7,5%"},{"$f":"Translations!$B$967","v":"± 5,0%"},null,null,{"$f":"Translations!$B$968","v":"± 2,5%"},null,null,{"$f":"Translations!$B$969","v":"± 1,5%"},4,"Hydrogène et gaz de synthèse: Combustible employé pour alimenter le procédé",null,"ActivityData_Hydrogène et gaz de synthèse: Combustible employé pour alimenter le procédé",null,null,null,false,null,null,false]
[51,{"$f":"B314","v":"Production d'hydrogène et de gaz de synthèse"},{"$f":"C314","v":"Hydrogène et gaz de synthèse"},{"$f":"Translations!$B$1040","v":"Méthode du bilan massique"},{"$f":"Translations!$B$974","v":"Chaque matière entrante et sortante [t]"},{"$f":"EUconst_MassBalance","v":"Méthode du bilan massique, article 25"},1,{"$f":"Translations!$B$966","v":"± 7,5%"},{"$f":"Translations!$B$967","v":"± 5,0%"},null,null,{"$f":"Translations!$B$968","v":"± 2,5%"},null,null,{"$f":"Translations!$B$969","v":"± 1,5%"},4,"Hydrogène et gaz de synthèse: Méthode du bilan massique",null,"ActivityData_Hydrogène et gaz de synthèse: Méthode du bilan massique",null,null,null,false,null,null,false]
[52,{"$f":"C253","v":"Production de produits chimiques en vrac"},{"$f":"Translations!$B$1046","v":"Produits chimiques organiques de base"},{"$f":"Translations!$B$1040","v":"Méthode du bilan massique"},{"$f":"Translations!$B$974","v":"Chaque matière entrante et sortante [t]"},{"$f":"EUconst_MassBalance","v":"Méthode du bilan massique, article 25"},1,{"$f":"Translations!$B$966","v":"± 7,5%"},{"$f":"Translations!$B$967","v":"± 5,0%"},null,null,{"$f":"Translations!$B$968","v":"± 2,5%"},null,null,{"$f":"Translations!$B$969","v":"± 1,5%"},4,"Produits chimiques organiques de base: Méthode du bilan massique",null,"ActivityData_Produits chimiques organiques de base: Méthode du bilan massique",null,null,null,false,null,null,false]
[53,{"$f":"C236","v":"Production ou transformation de métaux ferreux"},{"$f":"Translations!$B$1048","v":"Aluminium secondaire, (non) ferreux"},{"$f":"Translations!$B$1258","v":"Procédé (méthode A): uniquement carbonates"},{"$f":"Translations!$B$1259","v":"Matière entrante [t]"},{"$f":"$F$271","v":"Méthode standard: Procédé, article 24, paragraphe 2"},1,{"$f":"Translations!$B$967","v":"± 5,0%"},{"$f":"Translations!$B$968","v":"± 2,5%"},null,null,null,null,null,null,2,"Aluminium secondaire, (non) ferreux: Procédé (méthode A): uniquement carbonates",null,"ActivityData_Aluminium secondaire, (non) ferreux: Procédé (méthode A): uniquement carbonates",null,null,null,false,null,null,false]
[54,{"$f":"B317","v":"Production ou transformation de métaux ferreux"},{"$f":"Translations!$B$1048","v":"Aluminium secondaire, (non) ferreux"},{"$f":"Translations!$B$1260","v":"Procédé (méthode A): mélange (carbonates + autres que carbonates)"},{"$f":"Translations!$B$1259","v":"Matière entrante [t]"},{"$f":"$F$271","v":"Méthode standard: Procédé, article 24, paragraphe 2"},1,{"$f":"Translations!$B$967","v":"± 5,0%"},{"$f":"Translations!$B$968","v":"± 2,5%"},null,null,null,null,null,null,2,"Aluminium secondaire, (non) ferreux: Procédé (méthode A): mélange (carbonates + autres que carbonates)",null,"ActivityData_Aluminium secondaire, (non) ferreux: Procédé (méthode A): mélange (carbonates + autres que carbonates)",null,null,null,false,null,null,false]
[55,{"$f":"B318","v":"Production ou transformation de métaux ferreux"},{"$f":"Translations!$B$1048","v":"Aluminium secondaire, (non) ferreux"},{"$f":"Translations!$B$1261","v":"Procédé (méthode A): non issu de carbonate"},{"$f":"Translations!$B$1259","v":"Matière entrante [t]"},{"$f":"$F$271","v":"Méthode standard: Procédé, article 24, paragraphe 2"},1,{"$f":"Translations!$B$967","v":"± 5,0%"},{"$f":"Translations!$B$968","v":"± 2,5%"},null,null,null,null,null,null,2,"Aluminium secondaire, (non) ferreux: Procédé (méthode A): non issu de carbonate",null,"ActivityData_Aluminium secondaire, (non) ferreux: Procédé (méthode A): non issu de carbonate",null,null,null,false,null,null,false]
[56,{"$f":"B319","v":"Production ou transformation de métaux ferreux"},{"$f":"Translations!$B$1048","v":"Aluminium secondaire, (non) ferreux"},{"$f":"Translations!$B$1262","v":"Procédé (méthode B): production d’oxydes"},{"$f":"Translations!$B$998","v":"Production d’oxydes [t]"},{"$f":"$F$271","v":"Méthode standard: Procédé, article 24, paragraphe 2"},1,{"$f":"Translations!$B$967","v":"± 5,0%"},{"$f":"Translations!$B$968","v":"± 2,5%"},null,null,null,null,null,null,2,"Aluminium secondaire, (non) ferreux: Procédé (méthode B): production d’oxydes",null,"ActivityData_Aluminium secondaire, (non) ferreux: Procédé (méthode B): production d’oxydes",null,null,null,false,null,null,false]
[57,{"$f":"B320","v":"Production ou transformation de métaux ferreux"},{"$f":"C317","v":"Aluminium secondaire, (non) ferreux"},{"$f":"Translations!$B$1040","v":"Méthode du bilan massique"},{"$f":"Translations!$B$974","v":"Chaque matière entrante et sortante [t]"},{"$f":"EUconst_MassBalance","v":"Méthode du bilan massique, article 25"},1,{"$f":"Translations!$B$966","v":"± 7,5%"},{"$f":"Translations!$B$967","v":"± 5,0%"},null,null,{"$f":"Translations!$B$968","v":"± 2,5%"},null,null,{"$f":"Translations!$B$969","v":"± 1,5%"},4,"Aluminium secondaire, (non) ferreux: Méthode du bilan massique",null,"ActivityData_Aluminium secondaire, (non) ferreux: Méthode du bilan massique",null,null,null,false,null,null,false]
[58,{"$f":"C255","v":"Production de carbonate de sodium et de bicarbonate de sodium"},{"$f":"Translations!$B$1051","v":"Soude / bicarbonate de sodium"},{"$f":"Translations!$B$1040","v":"Méthode du bilan massique"},{"$f":"Translations!$B$974","v":"Chaque matière entrante et sortante [t]"},{"$f":"EUconst_MassBalance","v":"Méthode du bilan massique, article 25"},1,{"$f":"Translations!$B$966","v":"± 7,5%"},{"$f":"Translations!$B$967","v":"± 5,0%"},null,null,{"$f":"Translations!$B$968","v":"± 2,5%"},null,null,{"$f":"Translations!$B$969","v":"± 1,5%"},4,"Soude / bicarbonate de sodium: Méthode du bilan massique",null,"ActivityData_Soude / bicarbonate de sodium: Méthode du bilan massique",null,null,null,false,null,null,false]
[59,{"$f":"C237","v":"Production d'aluminium primaire ou d'alumine"},{"$f":"Translations!$B$1053","v":"Aluminium primaire"},{"$f":"Translations!$B$1040","v":"Méthode du bilan massique"},{"$f":"Translations!$B$974","v":"Chaque matière entrante et sortante [t]"},{"$f":"EUconst_MassBalance","v":"Méthode du bilan massique, article 25"},1,{"$f":"Translations!$B$966","v":"± 7,5%"},{"$f":"Translations!$B$967","v":"± 5,0%"},null,null,{"$f":"Translations!$B$968","v":"± 2,5%"},null,null,{"$f":"Translations!$B$969","v":"± 1,5%"},4,"Aluminium primaire: Méthode du bilan massique",null,"ActivityData_Aluminium primaire: Méthode du bilan massique",null,null,null,false,null,null,false]
[60,{"$f":"B323","v":"Production d'aluminium primaire ou d'alumine"},{"$f":"C323","v":"Aluminium primaire"},{"$f":"Translations!$B$1054","v":"Émissions de PFC (méthode des pentes)"},{"$f":"Translations!$B$1055","v":"Production d'aluminium primaire en [t], durée des effets d'anode en minutes en [nombre d'effets d'anode/cuve-jour] et en [durée de l'effet d'anode en minute/événement]"},{"$f":"EUconst_ProcessPFC","v":"Calcul avec dispositions spéciales pour les PFC (annexe IV section 8)"},1,{"$f":"Translations!$B$968","v":"± 2,5%"},{"$f":"Translations!$B$969","v":"± 1,5%"},null,null,null,null,null,null,2,"Aluminium primaire: Émissions de PFC (méthode des pentes)",null,"ActivityData_Aluminium primaire: Émissions de PFC (méthode des pentes)",null,null,null,false,null,null,false]
[61,{"$f":"B324","v":"Production d'aluminium primaire ou d'alumine"},{"$f":"C324","v":"Aluminium primaire"},{"$f":"Translations!$B$1056","v":"Émissions de PFC (méthode de la surtension)"},{"$f":"Translations!$B$1057","v":"Production d'aluminium primaire en [t], surtension de l'effet d'anode [mV] et rendement de courant [-]"},{"$f":"EUconst_ProcessPFC","v":"Calcul avec dispositions spéciales pour les PFC (annexe IV section 8)"},1,{"$f":"Translations!$B$968","v":"± 2,5%"},{"$f":"Translations!$B$969","v":"± 1,5%"},null,null,null,null,null,null,2,"Aluminium primaire: Émissions de PFC (méthode de la surtension)",null,"ActivityData_Aluminium primaire: Émissions de PFC (méthode de la surtension)",null,null,null,false,null,null,false]
[62,{"$f":"C256","v":"Captage des gaz à effet de serre au titre de la directive 2009/31/CE"},"CCS: Capture","CO2 transferred","CO2 [t]",{"$f":"EUconst_MassBalance","v":"Méthode du bilan massique, article 25"},1,{"$f":"Translations!$B$966","v":"± 7,5%"},{"$f":"Translations!$B$967","v":"± 5,0%"},null,null,{"$f":"Translations!$B$968","v":"± 2,5%"},null,null,{"$f":"Translations!$B$969","v":"± 1,5%"},4,{"$f":"C326 & \": \" &D326","v":"CCS: Capture: CO2 transferred"},null,{"$f":"EUconst_CNTR_ActivityData&Q326","v":"ActivityData_CCS: Capture: CO2 transferred"},null,null,null,true,null,null,false]
[63,{"$f":"C257","v":"Transport de gaz à effet de serre au titre de la directive 2009/31/CE"},"CCS: Transport","CO2 transferred","CO2 [t]",{"$f":"EUconst_MassBalance","v":"Méthode du bilan massique, article 25"},1,{"$f":"Translations!$B$966","v":"± 7,5%"},{"$f":"Translations!$B$967","v":"± 5,0%"},null,null,{"$f":"Translations!$B$968","v":"± 2,5%"},null,null,{"$f":"Translations!$B$969","v":"± 1,5%"},4,"CCS: Transport: CO2 transferred",null,"ActivityData_CCS: Transport: CO2 transferred",null,null,null,true,null,null,false]
[64,{"$f":"B327","v":"Transport de gaz à effet de serre au titre de la directive 2009/31/CE"},"CCS: Transport","CO2 vented","CO2 [t]",{"$f":"EUconst_ProcessCarbonate","v":"Méthode standard: Procédé, article 24, paragraphe 2"},1,{"$f":"Translations!$B$977","v":"± 17,5%"},{"$f":"Translations!$B$978","v":"± 12,5%"},null,null,{"$f":"Translations!$B$966","v":"± 7,5%"},null,null,null,3,"CCS: Transport: CO2 vented",null,"ActivityData_CCS: Transport: CO2 vented",null,null,null,false,null,null,false]
[65,"Transport de gaz à effet de serre au titre de la directive 2009/31/CE","CCS: Transport","CO2 leaked","CO2 [t]",{"$f":"EUconst_ProcessCarbonate","v":"Méthode standard: Procédé, article 24, paragraphe 2"},1,{"$f":"Translations!$B$977","v":"± 17,5%"},{"$f":"Translations!$B$978","v":"± 12,5%"},null,null,{"$f":"Translations!$B$966","v":"± 7,5%"},null,null,null,3,"CCS: Transport: CO2 leaked",null,"ActivityData_CCS: Transport: CO2 leaked",null,null,null,false,null,null,false]
[66,"Transport de gaz à effet de serre au titre de la directive 2009/31/CE","CCS: Transport","CO2 fugitive","CO2 [t]",{"$f":"EUconst_ProcessCarbonate","v":"Méthode standard: Procédé, article 24, paragraphe 2"},1,{"$f":"Translations!$B$977","v":"± 17,5%"},{"$f":"Translations!$B$978","v":"± 12,5%"},null,null,{"$f":"Translations!$B$966","v":"± 7,5%"},null,null,null,3,"CCS: Transport: CO2 fugitive",null,"ActivityData_CCS: Transport: CO2 fugitive",null,null,null,false,null,null,false]
[67,{"$f":"C258","v":"Stockage des gaz à effet de serre dans le cadre de la directive 2009/31/CE"},"CCS: Storage","CO2 transferred","CO2 [t]",{"$f":"EUconst_MassBalance","v":"Méthode du bilan massique, article 25"},2,{"$f":"Translations!$B$966","v":"± 7,5%"},{"$f":"Translations!$B$967","v":"± 5,0%"},null,null,{"$f":"Translations!$B$968","v":"± 2,5%"},null,null,{"$f":"Translations!$B$969","v":"± 1,5%"},4,"CCS: Storage: CO2 transferred",null,"ActivityData_CCS: Storage: CO2 transferred",null,null,null,true,null,null,false]
[68,{"$f":"B331","v":"Stockage des gaz à effet de serre dans le cadre de la directive 2009/31/CE"},"CCS: Storage","CO2 vented","CO2 [t]",{"$f":"EUconst_ProcessCarbonate","v":"Méthode standard: Procédé, article 24, paragraphe 2"},2,{"$f":"Translations!$B$977","v":"± 17,5%"},{"$f":"Translations!$B$978","v":"± 12,5%"},null,null,{"$f":"Translations!$B$966","v":"± 7,5%"},null,null,null,3,"CCS: Storage: CO2 vented",null,"ActivityData_CCS: Storage: CO2 vented",null,null,null,false,null,null,false]
[69,"Stockage des gaz à effet de serre dans le cadre de la directive 2009/31/CE","CCS: Storage","CO2 leaked","CO2 [t]",{"$f":"EUconst_ProcessCarbonate","v":"Méthode standard: Procédé, article 24, paragraphe 2"},2,{"$f":"Translations!$B$977","v":"± 17,5%"},{"$f":"Translations!$B$978","v":"± 12,5%"},null,null,{"$f":"Translations!$B$966","v":"± 7,5%"},null,null,null,3,"CCS: Storage: CO2 leaked",null,"ActivityData_CCS: Storage: CO2 leaked",null,null,null,false,null,null,false]
[70,"Stockage des gaz à effet de serre dans le cadre de la directive 2009/31/CE","CCS: Storage","CO2 fugitive","CO2 [t]",{"$f":"EUconst_ProcessCarbonate","v":"Méthode standard: Procédé, article 24, paragraphe 2"},2,{"$f":"Translations!$B$977","v":"± 17,5%"},{"$f":"Translations!$B$978","v":"± 12,5%"},null,null,{"$f":"Translations!$B$966","v":"± 7,5%"},null,null,null,3,"CCS: Storage: CO2 fugitive",null,"ActivityData_CCS: Storage: CO2 fugitive",null,null,null,false,null,null,false]
[null,null,null,null,null,null,null,null,null,null,null,null,null,null,null,null,null,null,null,null,null,null,null,null,null,false]
["NEW",{"$f":"Translations!$B$1059","v":"Facteur d’émission"},{"$f":"Translations!$B$957","v":"Intitulé abrégé"},{"$f":"Translations!$B$958","v":"Sous-activité"},{"$f":"Translations!$B$389","v":"Paramètre"},{"$f":"Translations!$B$959","v":"Type de source"},{"$f":"Translations!$B$960","v":"Minimum"},1,2,"2a",{"$f":"Translations!$B$928","v":"2b"},3,"3a","3b",4,{"$f":"Translations!$B$961","v":"Maximum"},null,null,null,null,null,null,null,null,null,{"$f":"Translations!$B$962","v":"Griser ?"},null,null,null,null,null,null,null,null,null,null,"1=default value, 2=lab",1,2,"2a",{"$f":"Translations!$B$928","v":"2b"},3]
[1,{"$f":"B265","v":"Combustion de combustibles"},"Combustion","Combustibles marchands ordinaires",null,{"$f":"F265","v":"Méthode standard: Combustible, article 24, paragraphe 1"},"2a/2b",{"$f":"Translations!$B$493","v":"Valeurs par défaut de type I"},null,{"$f":"Translations!$B$528","v":"Valeurs par défaut de type II :"},{"$f":"Translations!$B$1061","v":"Variables représentatives (le cas échéant)"},{"$f":"Translations!$B$527","v":"Analyses de laboratoire"},null,null,null,{"$f":"G337","v":"2a/2b"},{"$f":"C337 & \": \" &D337","v":"Combustion: Combustibles marchands ordinaires"},null,{"$f":"EUconst_CNTR_EF&Q337","v":"EF_Combustion: Combustibles marchands ordinaires"},null,null,null,null,null,null,{"$f":"IF(G337=EUconst_NA,TRUE,FALSE)","v":false},null,null,null,null,null,null,null,null,null,null,null,1,"",1,2,2]
[2,"Combustion de combustibles","Combustion","Autres combustibles gazeux & liquides",null,"Méthode standard: Combustible, article 24, paragraphe 1","2a/2b",{"$f":"Translations!$B$493","v":"Valeurs par défaut de type I"},null,{"$f":"Translations!$B$528","v":"Valeurs par défaut de type II :"},{"$f":"Translations!$B$1061","v":"Variables représentatives (le cas échéant)"},{"$f":"Translations!$B$527","v":"Analyses de laboratoire"},null,null,null,{"$f":"IF(G338=EUconst_NA,EUconst_NA,IF(ISBLANK(J338),COUNTA(H338:O338),COUNTA(H338,J338,L338)))","v":3},"Combustion: Autres combustibles gazeux & liquides",null,"EF_Combustion: Autres combustibles gazeux & liquides",null,null,null,null,null,null,false,null,null,null,null,null,null,null,null,null,null,null,1,"",1,2,2]
[3,"Combustion de combustibles","Combustion","Combustibles solides, hors déchets",null,"Méthode standard: Combustible, article 24, paragraphe 1","2a/2b",{"$f":"Translations!$B$493","v":"Valeurs par défaut de type I"},null,{"$f":"Translations!$B$528","v":"Valeurs par défaut de type II :"},{"$f":"Translations!$B$1061","v":"Variables représentatives (le cas échéant)"},{"$f":"Translations!$B$527","v":"Analyses de laboratoire"},null,null,null,3,"Combustion: Combustibles solides, hors déchets",null,"EF_Combustion: Combustibles solides, hors déchets",null,null,null,null,null,null,false,null,null,null,null,null,null,null,null,null,null,null,1,"",1,2,2]
[4,"Combustion de combustibles","Combustion","Déchets",null,"Méthode standard: Combustible, article 24, paragraphe 1","2a/2b",{"$f":"Translations!$B$493","v":"Valeurs par défaut de type I"},null,{"$f":"Translations!$B$528","v":"Valeurs par défaut de type II :"},{"$f":"Translations!$B$1061","v":"Variables représentatives (le cas échéant)"},{"$f":"Translations!$B$527","v":"Analyses de laboratoire"},null,null,null,{"$f":"IF(G340=EUconst_NA,EUconst_NA,IF(ISBLANK(J340),COUNTA(H340:O340),COUNTA(H340,J340,L340)))","v":3},{"$f":"C340 & \": \" &D340","v":"Combustion: Déchets"},null,{"$f":"EUconst_CNTR_EF&Q340","v":"EF_Combustion: Déchets"},null,null,null,null,null,null,{"$f":"IF(G340=EUconst_NA,TRUE,FALSE)","v":false},null,null,null,null,null,null,null,null,null,null,null,1,"",1,2,2]
[5,"Combustion de combustibles","Combustion","Terminaux de traitement du gaz",null,"Méthode du bilan massique, article 25",{"$f":"EUconst_NA","v":"s.o."},null,null,null,null,null,null,null,null,"s.o.","Combustion: Terminaux de traitement du gaz",null,"EF_Combustion: Terminaux de traitement du gaz",null,null,null,null,null,null,true,null,null,null,null,null,null,null,null,null,null,null,"","","","",""]
[6,"Combustion de combustibles","Combustion","Torchères",null,"Méthode standard: Combustible, article 24, paragraphe 1",1,{"$f":"Translations!$B$1066","v":"0,00393 t CO2/Nm3"},null,{"$f":"Translations!$B$528","v":"Valeurs par défaut de type II :"},{"$f":"Translations!$B$1067","v":"Facteurs spécifiques des installations"},{"$f":"Translations!$B$527","v":"Analyses de laboratoire"},null,null,null,3,"Combustion: Torchères",null,"EF_Combustion: Torchères",null,null,null,null,null,null,false,null,null,null,null,null,null,null,null,null,null,null,1,"",1,{"$f":"Translations!$B$1067","v":"Facteurs spécifiques des installations"},2]
[7,"Combustion de combustibles","Combustion","Épuration (carbonate)",null,"Méthode standard: Procédé, article 24, paragraphe 2",1,{"$f":"Translations!$B$1085","v":"Meilleures pratiques"},null,null,null,null,null,null,null,1,"Combustion: Épuration (carbonate)",null,"EF_Combustion: Épuration (carbonate)",null,null,null,null,null,null,false,null,null,null,null,null,null,null,null,null,null,null,2,"","","",""]
[8,"Combustion de combustibles","Combustion","Épuration (gypse)",null,"Méthode standard: Procédé, article 24, paragraphe 2",1,{"$f":"Translations!$B$1263","v":"0,2558 t CO2/t gypse"},null,null,null,null,null,null,null,1,"Combustion: Épuration (gypse)",null,"EF_Combustion: Épuration (gypse)",null,null,null,null,null,null,false,null,null,null,null,null,null,null,null,null,null,null,1,"","","",""]
[9,"Combustion de combustibles","Combustion","Épuration (urée)",null,"Méthode standard: Procédé, article 24, paragraphe 2",1,{"$f":"Translations!$B$1264","v":"0,7328 t CO2/t urée"},null,null,null,null,null,null,null,1,"Combustion: Épuration (urée)",null,"EF_Combustion: Épuration (urée)",null,null,null,null,null,null,false,null,null,null,null,null,null,null,null,null,null,null,1,"","","",""]
[10,"Raffinage d'huile","Raffineries","Bilan massique",null,"Méthode du bilan massique, article 25",{"$f":"EUconst_NA","v":"s.o."},null,null,null,null,null,null,null,null,"s.o.","Raffineries: Bilan massique",null,"EF_Raffineries: Bilan massique",null,null,null,null,null,null,true,null,null,null,null,null,null,null,null,null,null,null,"","","","",""]
[11,"Raffinage de pétrole ","Raffineries","Régénération des catalyseurs de craquage catalytique",null,"Méthode du bilan massique, article 25",{"$f":"EUconst_NA","v":"s.o."},null,null,null,null,null,null,null,null,{"$f":"IF(G347=EUconst_NA,EUconst_NA,IF(ISBLANK(J347),COUNTA(H347:O347),COUNTA(H347,J347,L347)))","v":"s.o."},{"$f":"C347 & \": \" &D347","v":"Raffineries: Régénération des catalyseurs de craquage catalytique"},null,{"$f":"EUconst_CNTR_EF&Q347","v":"EF_Raffineries: Régénération des catalyseurs de craquage catalytique"},null,null,null,null,null,null,true,null,null,null,null,null,null,null,null,null,null,null,"","","","",""]
[12,"Raffinage de pétrole ","Raffineries","Production d'hydrogène",null,"Méthode du bilan massique, article 25",{"$f":"EUconst_NA","v":"s.o."},null,null,null,null,null,null,null,null,{"$f":"IF(G348=EUconst_NA,EUconst_NA,IF(ISBLANK(J348),COUNTA(H348:O348),COUNTA(H348,J348,L348)))","v":"s.o."},"Raffineries: Production d'hydrogène",null,"EF_Raffineries: Production d'hydrogène",null,null,null,null,null,null,true,null,null,null,null,null,null,null,null,null,null,null,1,"",1,2,2]
[13,"Production de coke","Coke","Combustible employé pour alimenter le procédé",null,"Méthode standard: Combustible, article 24, paragraphe 1","2a/2b",{"$f":"Translations!$B$493","v":"Valeurs par défaut de type I"},{"$f":"Translations!$B$528","v":"Valeurs par défaut de type II :"},null,null,{"$f":"Translations!$B$527","v":"Analyses de laboratoire"},null,null,null,3,"Coke: Combustible employé pour alimenter le procédé",null,"EF_Coke: Combustible employé pour alimenter le procédé",null,null,null,null,null,null,false,null,null,null,null,null,null,null,null,null,null,null,1,1,"","",2]
[14,"Production de coke","Coke","Procédé (méthode A): uniquement carbonates",null,"Méthode standard: Procédé, article 24, paragraphe 2",1,{"$f":"Translations!$B$493","v":"Valeurs par défaut de type I"},{"$f":"Translations!$B$528","v":"Valeurs par défaut de type II :"},null,null,{"$f":"Translations!$B$527","v":"Analyses de laboratoire"},null,null,null,3,"Coke: Procédé (méthode A): uniquement carbonates",null,"EF_Coke: Procédé (méthode A): uniquement carbonates",null,null,null,null,null,null,false,null,null,null,null,null,null,null,null,null,null,null,1,1,"","",2]
[15,"Production de coke","Coke","Procédé (méthode A): mélange (carbonates + autres que carbonates)",null,"Méthode standard: Procédé, article 24, paragraphe 2",1,{"$f":"EUconst_NA","v":"s.o."},{"$f":"EUconst_NA","v":"s.o."},null,null,{"$f":"Translations!$B$527","v":"Analyses de laboratoire"},null,null,null,3,"Coke: Procédé (méthode A): mélange (carbonates + autres que carbonates)",null,"EF_Coke: Procédé (méthode A): mélange (carbonates + autres que carbonates)",null,null,null,null,null,null,false,null,null,null,null,null,null,null,null,null,null,null,{"$f":"Translations!$B$530","v":"s.o."},{"$f":"Translations!$B$530","v":"s.o."},"","",2]
[16,"Production de coke","Coke","Procédé (méthode A): non issu de carbonate",null,"Méthode standard: Procédé, article 24, paragraphe 2",1,{"$f":"Translations!$B$493","v":"Valeurs par défaut de type I"},{"$f":"Translations!$B$528","v":"Valeurs par défaut de type II :"},null,null,{"$f":"Translations!$B$527","v":"Analyses de laboratoire"},null,null,null,3,"Coke: Procédé (méthode A): non issu de carbonate",null,"EF_Coke: Procédé (méthode A): non issu de carbonate",null,null,null,null,null,null,false,null,null,null,null,null,null,null,null,null,null,null,1,1,"","",2]
[17,"Production de coke","Coke","Procédé (méthode B): production d’oxydes",null,"Méthode standard: Procédé, article 24, paragraphe 2",1,{"$f":"Translations!$B$493","v":"Valeurs par défaut de type I"},{"$f":"Translations!$B$528","v":"Valeurs par défaut de type II :"},null,null,{"$f":"Translations!$B$527","v":"Analyses de laboratoire"},null,null,null,{"$f":"IF(G353=EUconst_NA,EUconst_NA,IF(ISBLANK(J353),COUNTA(H353:O353),COUNTA(H353,J353,L353)))","v":3},{"$f":"C353 & \": \" &D353","v":"Coke: Procédé (méthode B): production d’oxydes"},null,{"$f":"EUconst_CNTR_EF&Q353","v":"EF_Coke: Procédé (méthode B): production d’oxydes"},null,null,null,null,null,null,false,null,null,null,null,null,null,null,null,null,null,null,1,1,"","",2]
[18,"Production de coke","Coke","Bilan massique",null,"Méthode du bilan massique, article 25",{"$f":"EUconst_NA","v":"s.o."},null,null,null,null,null,null,null,null,"s.o.","Coke: Bilan massique",null,"EF_Coke: Bilan massique",null,null,null,null,null,null,true,null,null,null,null,null,null,null,null,null,null,null,"","","","",""]
[19,"Grillage ou frittage de minerai métallique","Minerai de métaux","Procédé (méthode A): uniquement carbonates",null,"Méthode standard: Procédé, article 24, paragraphe 2",1,{"$f":"Translations!$B$493","v":"Valeurs par défaut de type I"},{"$f":"Translations!$B$528","v":"Valeurs par défaut de type II :"},null,null,{"$f":"Translations!$B$527","v":"Analyses de laboratoire"},null,null,null,3,"Minerai de métaux: Procédé (méthode A): uniquement carbonates",null,"EF_Minerai de métaux: Procédé (méthode A): uniquement carbonates",null,null,null,null,null,null,false,null,null,null,null,null,null,null,null,null,null,null,1,1,"","",2]
[20,"Grillage ou frittage de minerai métallique","Minerai de métaux","Procédé (méthode A): mélange (carbonates + autres que carbonates)",null,"Méthode standard: Procédé, article 24, paragraphe 2",1,{"$f":"EUconst_NA","v":"s.o."},{"$f":"EUconst_NA","v":"s.o."},null,null,{"$f":"Translations!$B$527","v":"Analyses de laboratoire"},null,null,null,3,"Minerai de métaux: Procédé (méthode A): mélange (carbonates + autres que carbonates)",null,"EF_Minerai de métaux: Procédé (méthode A): mélange (carbonates + autres que carbonates)",null,null,null,null,null,null,false,null,null,null,null,null,null,null,null,null,null,null,{"$f":"Translations!$B$530","v":"s.o."},{"$f":"Translations!$B$530","v":"s.o."},"","",2]
[21,{"$f":"B285","v":"Grillage ou frittage de minerai métallique"},"Minerai de métaux","Procédé (méthode A): non issu de carbonate",null,"Méthode standard: Procédé, article 24, paragraphe 2",1,{"$f":"Translations!$B$493","v":"Valeurs par défaut de type I"},{"$f":"Translations!$B$528","v":"Valeurs par défaut de type II :"},null,null,{"$f":"Translations!$B$527","v":"Analyses de laboratoire"},null,null,null,3,"Minerai de métaux: Procédé (méthode A): non issu de carbonate",null,"EF_Minerai de métaux: Procédé (méthode A): non issu de carbonate",null,null,null,null,null,null,false,null,null,null,null,null,null,null,null,null,null,null,1,1,"","",2]
[22,"Grillage ou frittage de minerai métallique","Minerai de métaux","Procédé (méthode B): production d’oxydes",null,"Méthode standard: Procédé, article 24, paragraphe 2",1,{"$f":"Translations!$B$493","v":"Valeurs par défaut de type I"},{"$f":"Translations!$B$528","v":"Valeurs par défaut de type II :"},null,null,{"$f":"Translations!$B$527","v":"Analyses de laboratoire"},null,null,null,3,"Minerai de métaux: Procédé (méthode B): production d’oxydes",null,"EF_Minerai de métaux: Procédé (méthode B): production d’oxydes",null,null,null,null,null,null,false,null,null,null,null,null,null,null,null,null,null,null,1,1,"","",2]
[23,"Grillage ou frittage de minerai métallique","Minerai de métaux","Bilan massique",null,"Méthode du bilan massique, article 25",{"$f":"EUconst_NA","v":"s.o."},null,null,null,null,null,null,null,null,"s.o.","Minerai de métaux: Bilan massique",null,"EF_Minerai de métaux: Bilan massique",null,null,null,null,null,null,true,null,null,null,null,null,null,null,null,null,null,null,"","","","",""]
[24,"Production de fer ou d'acier","Sidérurgie","Combustible employé pour alimenter le procédé",null,"Méthode standard: Combustible, article 24, paragraphe 1",2,{"$f":"Translations!$B$493","v":"Valeurs par défaut de type I"},null,{"$f":"Translations!$B$528","v":"Valeurs par défaut de type II :"},{"$f":"Translations!$B$1061","v":"Variables représentatives (le cas échéant)"},{"$f":"Translations!$B$527","v":"Analyses de laboratoire"},null,null,null,3,"Sidérurgie: Combustible employé pour alimenter le procédé",null,"EF_Sidérurgie: Combustible employé pour alimenter le procédé",null,null,null,null,null,null,false,null,null,null,null,null,null,null,null,null,null,null,1,"",1,2,2]
[25,"Production de fer ou d'acier","Sidérurgie","Procédé (méthode A): uniquement carbonates",null,"Méthode standard: Procédé, article 24, paragraphe 2",1,{"$f":"Translations!$B$493","v":"Valeurs par défaut de type I"},{"$f":"Translations!$B$528","v":"Valeurs par défaut de type II :"},null,null,{"$f":"Translations!$B$527","v":"Analyses de laboratoire"},null,null,null,3,"Sidérurgie: Procédé (méthode A): uniquement carbonates",null,"EF_Sidérurgie: Procédé (méthode A): uniquement carbonates",null,null,null,null,null,null,false,null,null,null,null,null,null,null,null,null,null,null,1,1,"","",2]
[26,"Production de fer ou d'acier","Sidérurgie","Procédé (méthode A): mélange (carbonates + autres que carbonates)",null,"Méthode standard: Procédé, article 24, paragraphe 2",1,{"$f":"EUconst_NA","v":"s.o."},{"$f":"EUconst_NA","v":"s.o."},null,null,{"$f":"Translations!$B$527","v":"Analyses de laboratoire"},null,null,null,3,"Sidérurgie: Procédé (méthode A): mélange (carbonates + autres que carbonates)",null,"EF_Sidérurgie: Procédé (méthode A): mélange (carbonates + autres que carbonates)",null,null,null,null,null,null,false,null,null,null,null,null,null,null,null,null,null,null,null,null,"","",""]
[27,"Production de fer ou d'acier","Sidérurgie","Procédé (méthode A): non issu de carbonate",null,"Méthode standard: Procédé, article 24, paragraphe 2",1,{"$f":"Translations!$B$493","v":"Valeurs par défaut de type I"},{"$f":"Translations!$B$528","v":"Valeurs par défaut de type II :"},null,null,{"$f":"Translations!$B$527","v":"Analyses de laboratoire"},null,null,null,3,"Sidérurgie: Procédé (méthode A): non issu de carbonate",null,"EF_Sidérurgie: Procédé (méthode A): non issu de carbonate",null,null,null,null,null,null,false,null,null,null,null,null,null,null,null,null,null,null,2,2,"","",""]
[28,"Production de fer ou d'acier","Sidérurgie","Procédé (méthode B): production d’oxydes",null,"Méthode standard: Procédé, article 24, paragraphe 2",1,{"$f":"Translations!$B$493","v":"Valeurs par défaut de type I"},{"$f":"Translations!$B$528","v":"Valeurs par défaut de type II :"},null,null,{"$f":"Translations!$B$527","v":"Analyses de laboratoire"},null,null,null,3,"Sidérurgie: Procédé (méthode B): production d’oxydes",null,"EF_Sidérurgie: Procédé (méthode B): production d’oxydes",null,null,null,null,null,null,false,null,null,null,null,null,null,null,null,null,null,null,1,1,"","",2]
[29,"Production de fer ou d'acier","Sidérurgie","Bilan massique",null,"Méthode du bilan massique, article 25",{"$f":"EUconst_NA","v":"s.o."},null,null,null,null,null,null,null,null,"s.o.","Sidérurgie: Bilan massique",null,"EF_Sidérurgie: Bilan massique",null,null,null,null,null,null,true,null,null,null,null,null,null,null,null,null,null,null,"","","","",""]
[30,"Production de clinker","Clinker","D'après la charge du four (méthode A)",null,"Méthode standard: Procédé, article 24, paragraphe 2",1,{"$f":"Translations!$B$493","v":"Valeurs par défaut de type I"},{"$f":"Translations!$B$528","v":"Valeurs par défaut de type II :"},null,null,{"$f":"Translations!$B$527","v":"Analyses de laboratoire"},null,null,null,{"$f":"IF(G366=EUconst_NA,EUconst_NA,IF(ISBLANK(J366),COUNTA(H366:O366),COUNTA(H366,J366,L366)))","v":3},{"$f":"C366 & \": \" &D366","v":"Clinker: D'après la charge du four (méthode A)"},null,{"$f":"EUconst_CNTR_EF&Q366","v":"EF_Clinker: D'après la charge du four (méthode A)"},null,null,null,null,null,null,{"$f":"IF(G366=EUconst_NA,TRUE,FALSE)","v":false},null,null,null,null,null,null,null,null,null,null,null,1,1,"","",2]
[31,"Production de clinker","Clinker","Quantité de clinker produite (méthode B)",null,"Méthode standard: Procédé, article 24, paragraphe 2",1,{"$f":"Translations!$B$1078","v":"0,525 t CO2/ t clinker."},{"$f":"Translations!$B$528","v":"Valeurs par défaut de type II :"},null,null,{"$f":"Translations!$B$527","v":"Analyses de laboratoire"},null,null,null,3,"Clinker: Quantité de clinker produite (méthode B)",null,"EF_Clinker: Quantité de clinker produite (méthode B)",null,null,null,null,null,null,false,null,null,null,null,null,null,null,null,null,null,null,1,1,"","",2]
[32,"Production de clinker","Clinker","Poussières des fours à ciment",null,"Méthode standard: Procédé, article 24, paragraphe 2",1,{"$f":"Translations!$B$1082","v":"0,525 t CO2/ t poussière."},{"$f":"Translations!$B$527","v":"Analyses de laboratoire"},null,null,null,null,null,null,2,"Clinker: Poussières des fours à ciment",null,"EF_Clinker: Poussières des fours à ciment",null,null,null,null,null,null,false,null,null,null,null,null,null,null,null,null,null,null,1,2,"","",""]
[33,"Production de clinker","Clinker","Carbone non issu de carbonates",null,{"$f":"F297","v":"Méthode standard: Procédé, article 24, paragraphe 2"},1,{"$f":"Translations!$B$1085","v":"Meilleures pratiques"},{"$f":"Translations!$B$527","v":"Analyses de laboratoire"},null,null,null,null,null,null,2,"Clinker: Carbone non issu de carbonates",null,"EF_Clinker: Carbone non issu de carbonates",null,null,null,null,null,null,false,null,null,null,null,null,null,null,null,null,null,null,2,2,"","",""]
[34,"Production de chaux ou calcination de dolomite/magnésite","Chaux / dolomite / magnésite","Procédé (méthode A): uniquement carbonates",null,"Méthode standard: Procédé, article 24, paragraphe 2",1,{"$f":"Translations!$B$493","v":"Valeurs par défaut de type I"},{"$f":"Translations!$B$528","v":"Valeurs par défaut de type II :"},null,null,{"$f":"Translations!$B$527","v":"Analyses de laboratoire"},null,null,null,3,"Chaux / dolomite / magnésite: Procédé (méthode A): uniquement carbonates",null,"EF_Chaux / dolomite / magnésite: Procédé (méthode A): uniquement carbonates",null,null,null,null,null,null,false,null,null,null,null,null,null,null,null,null,null,null,1,1,"","",2]
[35,"Production de chaux ou calcination de dolomite/magnésite","Chaux / dolomite / magnésite","Procédé (méthode A): mélange (carbonates + autres que carbonates)",null,"Méthode standard: Procédé, article 24, paragraphe 2",1,{"$f":"EUconst_NA","v":"s.o."},{"$f":"EUconst_NA","v":"s.o."},null,null,{"$f":"Translations!$B$527","v":"Analyses de laboratoire"},null,null,null,3,"Chaux / dolomite / magnésite: Procédé (méthode A): mélange (carbonates + autres que carbonates)",null,"EF_Chaux / dolomite / magnésite: Procédé (méthode A): mélange (carbonates + autres que carbonates)",null,null,null,null,null,null,false,null,null,null,null,null,null,null,null,null,null,null,{"$f":"Translations!$B$530","v":"s.o."},{"$f":"Translations!$B$530","v":"s.o."},"","",2]
[36,"Production de chaux ou calcination de dolomite/magnésite","Chaux / dolomite / magnésite","Procédé (méthode A): non issu de carbonate",null,"Méthode standard: Procédé, article 24, paragraphe 2",1,{"$f":"Translations!$B$1085","v":"Meilleures pratiques"},{"$f":"Translations!$B$527","v":"Analyses de laboratoire"},null,null,null,null,null,null,2,"Chaux / dolomite / magnésite: Procédé (méthode A): non issu de carbonate",null,"EF_Chaux / dolomite / magnésite: Procédé (méthode A): non issu de carbonate",null,null,null,null,null,null,false,null,null,null,null,null,null,null,null,null,null,null,2,2,"","",""]
[37,"Production de chaux ou calcination de dolomite/magnésite","Chaux / dolomite / magnésite","Procédé (méthode B): production d’oxydes",null,"Méthode standard: Procédé, article 24, paragraphe 2",1,{"$f":"Translations!$B$493","v":"Valeurs par défaut de type I"},{"$f":"Translations!$B$528","v":"Valeurs par défaut de type II :"},null,null,{"$f":"Translations!$B$527","v":"Analyses de laboratoire"},null,null,null,3,"Chaux / dolomite / magnésite: Procédé (méthode B): production d’oxydes",null,"EF_Chaux / dolomite / magnésite: Procédé (méthode B): production d’oxydes",null,null,null,null,null,null,false,null,null,null,null,null,null,null,null,null,null,null,1,1,"","",2]
[38,"Production de chaux ou calcination de dolomite/magnésite","Chaux / dolomite / magnésite","Poussières de four (méthode B)",null,"Méthode standard: Procédé, article 24, paragraphe 2",1,{"$f":"Translations!$B$493","v":"Valeurs par défaut de type I"},{"$f":"Translations!$B$528","v":"Valeurs par défaut de type II :"},null,null,{"$f":"Translations!$B$527","v":"Analyses de laboratoire"},null,null,null,3,"Chaux / dolomite / magnésite: Poussières de four (méthode B)",null,"EF_Chaux / dolomite / magnésite: Poussières de four (méthode B)",null,null,null,null,null,null,false,null,null,null,null,null,null,null,null,null,null,null,1,1,"","",2]
[39,"Fabrication de verre","Verre et laine minérale","Procédé (méthode A): uniquement carbonates",null,"Méthode standard: Procédé, article 24, paragraphe 2",1,{"$f":"Translations!$B$1085","v":"Meilleures pratiques"},{"$f":"Translations!$B$527","v":"Analyses de laboratoire"},null,null,null,null,null,null,2,"Verre et laine minérale: Procédé (méthode A): uniquement carbonates",null,"EF_Verre et laine minérale: Procédé (méthode A): uniquement carbonates",null,null,null,null,null,null,false,null,null,null,null,null,null,null,null,null,null,null,2,2,"","",""]
[40,"Fabrication de verre","Verre et laine minérale","Procédé (méthode A): mélange (carbonates + autres que carbonates)",null,"Méthode standard: Procédé, article 24, paragraphe 2",1,{"$f":"EUconst_NA","v":"s.o."},{"$f":"EUconst_NA","v":"s.o."},null,null,{"$f":"Translations!$B$527","v":"Analyses de laboratoire"},null,null,null,3,"Verre et laine minérale: Procédé (méthode A): mélange (carbonates + autres que carbonates)",null,"EF_Verre et laine minérale: Procédé (méthode A): mélange (carbonates + autres que carbonates)",null,null,null,null,null,null,false,null,null,null,null,null,null,null,null,null,null,null,{"$f":"Translations!$B$530","v":"s.o."},{"$f":"Translations!$B$530","v":"s.o."},"","",2]
[41,{"$f":"B305","v":"Fabrication de verre"},"Verre et laine minérale","Procédé (méthode A): non issu de carbonate",null,"Méthode standard: Procédé, article 24, paragraphe 2",1,{"$f":"Translations!$B$1070","v":"Valeur par défaut de type I et meilleure pratique"},{"$f":"Translations!$B$527","v":"Analyses de laboratoire"},null,null,null,null,null,null,2,"Verre et laine minérale: Procédé (méthode A): non issu de carbonate",null,"EF_Verre et laine minérale: Procédé (méthode A): non issu de carbonate",null,null,null,null,null,null,false,null,null,null,null,null,null,null,null,null,null,null,1,2,"","",""]
[42,"Fabrication de produits céramiques","Céramique","Procédé (méthode A): uniquement carbonates",null,"Méthode standard: Procédé, article 24, paragraphe 2",1,{"$f":"Translations!$B$1093","v":"0,08794 tonne of CO2 par tonne d’argile sèche"},{"$f":"Translations!$B$1085","v":"Meilleures pratiques"},null,null,{"$f":"Translations!$B$527","v":"Analyses de laboratoire"},null,null,null,3,"Céramique: Procédé (méthode A): uniquement carbonates",null,"EF_Céramique: Procédé (méthode A): uniquement carbonates",null,null,null,null,null,null,false,null,null,null,null,null,null,null,null,null,null,null,1,2,"","",2]
[43,"Fabrication de produits céramiques","Céramique","Procédé (méthode A): mélange (carbonates + autres que carbonates)",null,"Méthode standard: Procédé, article 24, paragraphe 2",1,{"$f":"Translations!$B$1093","v":"0,08794 tonne of CO2 par tonne d’argile sèche"},{"$f":"Translations!$B$1085","v":"Meilleures pratiques"},null,null,{"$f":"Translations!$B$527","v":"Analyses de laboratoire"},null,null,null,3,"Céramique: Procédé (méthode A): mélange (carbonates + autres que carbonates)",null,"EF_Céramique: Procédé (méthode A): mélange (carbonates + autres que carbonates)",null,null,null,null,null,null,false,null,null,null,null,null,null,null,null,null,null,null,1,2,"","",2]
[44,"Fabrication de produits céramiques","Céramique","Procédé (méthode A): non issu de carbonate",null,"Méthode standard: Procédé, article 24, paragraphe 2",1,{"$f":"Translations!$B$1093","v":"0,08794 tonne of CO2 par tonne d’argile sèche"},{"$f":"Translations!$B$1085","v":"Meilleures pratiques"},null,null,{"$f":"Translations!$B$527","v":"Analyses de laboratoire"},null,null,null,3,"Céramique: Procédé (méthode A): non issu de carbonate",null,"EF_Céramique: Procédé (méthode A): non issu de carbonate",null,null,null,null,null,null,false,null,null,null,null,null,null,null,null,null,null,null,1,2,"","",2]
[45,"Fabrication de produits céramiques","Céramique","Procédé (méthode B): production d’oxydes",null,"Méthode standard: Procédé, article 24, paragraphe 2",1,{"$f":"Translations!$B$1096","v":"0,09642 tonne of CO2 par tonne de produit"},{"$f":"Translations!$B$1085","v":"Meilleures pratiques"},null,null,{"$f":"Translations!$B$527","v":"Analyses de laboratoire"},null,null,null,3,"Céramique: Procédé (méthode B): production d’oxydes",null,"EF_Céramique: Procédé (méthode B): production d’oxydes",null,null,null,null,null,null,false,null,null,null,null,null,null,null,null,null,null,null,1,2,"","",2]
[46,"Fabrication de produits céramiques","Céramique","Épuration",null,"Méthode standard: Procédé, article 24, paragraphe 2",1,{"$f":"Translations!$B$493","v":"Valeurs par défaut de type I"},null,null,null,null,null,null,null,1,"Céramique: Épuration",null,"EF_Céramique: Épuration",null,null,null,null,null,null,false,null,null,null,null,null,null,null,null,null,null,null,1,"","","",""]
[47,"Production de pâte à papier","Papier et pâte à papier","Produits chimiques d'appoint",null,"Méthode standard: Procédé, article 24, paragraphe 2",1,{"$f":"Translations!$B$1070","v":"Valeur par défaut de type I et meilleure pratique"},{"$f":"Translations!$B$527","v":"Analyses de laboratoire"},null,null,null,null,null,null,2,"Papier et pâte à papier: Produits chimiques d'appoint",null,"EF_Papier et pâte à papier: Produits chimiques d'appoint",null,null,null,null,null,null,false,null,null,null,null,null,null,null,null,null,null,null,1,2,"","",""]
[48,"Production de noir de carbone","Noir de carbone","Méthode du bilan massique",null,"Méthode du bilan massique, article 25",{"$f":"EUconst_NA","v":"s.o."},null,null,null,null,null,null,null,null,"s.o.","Noir de carbone: Méthode du bilan massique",null,"EF_Noir de carbone: Méthode du bilan massique",null,null,null,null,null,null,true,null,null,null,null,null,null,null,null,null,null,null,"","","","",""]
[49,"Production d'ammoniac","Ammoniac","Combustible employé pour alimenter le procédé",null,"Méthode standard: Combustible, article 24, paragraphe 1","2a/2b",{"$f":"Translations!$B$493","v":"Valeurs par défaut de type I"},null,{"$f":"Translations!$B$528","v":"Valeurs par défaut de type II :"},{"$f":"Translations!$B$1061","v":"Variables représentatives (le cas échéant)"},{"$f":"Translations!$B$527","v":"Analyses de laboratoire"},null,null,null,3,"Ammoniac: Combustible employé pour alimenter le procédé",null,"EF_Ammoniac: Combustible employé pour alimenter le procédé",null,null,null,null,null,null,false,null,null,null,null,null,null,null,null,null,null,null,1,"",1,2,2]
[50,"Production d'hydrogène et de gaz de synthèse","Hydrogène et gaz de synthèse","Combustible employé pour alimenter le procédé",null,"Méthode standard: Combustible, article 24, paragraphe 1","2a/2b",{"$f":"Translations!$B$493","v":"Valeurs par défaut de type I"},null,{"$f":"Translations!$B$528","v":"Valeurs par défaut de type II :"},{"$f":"Translations!$B$1061","v":"Variables représentatives (le cas échéant)"},{"$f":"Translations!$B$527","v":"Analyses de laboratoire"},null,null,null,3,"Hydrogène et gaz de synthèse: Combustible employé pour alimenter le procédé",null,"EF_Hydrogène et gaz de synthèse: Combustible employé pour alimenter le procédé",null,null,null,null,null,null,{"$f":"IF(G386=EUconst_NA,TRUE,FALSE)","v":false},null,null,null,null,null,null,null,null,null,null,null,1,"",1,2,2]
[51,"Production d'hydrogène et de gaz de synthèse","Hydrogène et gaz de synthèse","Méthode du bilan massique",null,"Méthode du bilan massique, article 25",{"$f":"EUconst_NA","v":"s.o."},null,null,null,null,null,null,null,null,"s.o.","Hydrogène et gaz de synthèse: Méthode du bilan massique",null,"EF_Hydrogène et gaz de synthèse: Méthode du bilan massique",null,null,null,null,null,null,true,null,null,null,null,null,null,null,null,null,null,null,"","","","",""]
[52,"Production de produits chimiques en vrac","Produits chimiques organiques de base","Méthode du bilan massique",null,"Méthode du bilan massique, article 25",{"$f":"EUconst_NA","v":"s.o."},null,null,null,null,null,null,null,null,"s.o.","Produits chimiques organiques de base: Méthode du bilan massique",null,"EF_Produits chimiques organiques de base: Méthode du bilan massique",null,null,null,null,null,null,true,null,null,null,null,null,null,null,null,null,null,null,"","","","",""]
[53,"Production ou transformation de métaux ferreux","Aluminium secondaire, (non) ferreux","Procédé (méthode A): uniquement carbonates",null,"Méthode standard: Procédé, article 24, paragraphe 2",1,{"$f":"Translations!$B$493","v":"Valeurs par défaut de type I"},{"$f":"Translations!$B$528","v":"Valeurs par défaut de type II :"},null,null,{"$f":"Translations!$B$527","v":"Analyses de laboratoire"},null,null,null,3,"Aluminium secondaire, (non) ferreux: Procédé (méthode A): uniquement carbonates",null,"EF_Aluminium secondaire, (non) ferreux: Procédé (méthode A): uniquement carbonates",null,null,null,null,null,null,false,null,null,null,null,null,null,null,null,null,null,null,1,1,"","",2]
[54,"Production ou transformation de métaux ferreux","Aluminium secondaire, (non) ferreux","Procédé (méthode A): mélange (carbonates + autres que carbonates)",null,"Méthode standard: Procédé, article 24, paragraphe 2",1,{"$f":"EUconst_NA","v":"s.o."},{"$f":"EUconst_NA","v":"s.o."},null,null,{"$f":"Translations!$B$527","v":"Analyses de laboratoire"},null,null,null,3,"Aluminium secondaire, (non) ferreux: Procédé (méthode A): mélange (carbonates + autres que carbonates)",null,"EF_Aluminium secondaire, (non) ferreux: Procédé (méthode A): mélange (carbonates + autres que carbonates)",null,null,null,null,null,null,false,null,null,null,null,null,null,null,null,null,null,null,{"$f":"Translations!$B$530","v":"s.o."},{"$f":"Translations!$B$530","v":"s.o."},"","",2]
[55,"Production ou transformation de métaux ferreux","Aluminium secondaire, (non) ferreux","Procédé (méthode A): non issu de carbonate",null,"Méthode standard: Procédé, article 24, paragraphe 2",1,{"$f":"Translations!$B$493","v":"Valeurs par défaut de type I"},{"$f":"Translations!$B$528","v":"Valeurs par défaut de type II :"},null,null,{"$f":"Translations!$B$527","v":"Analyses de laboratoire"},null,null,null,3,"Aluminium secondaire, (non) ferreux: Procédé (méthode A): non issu de carbonate",null,"EF_Aluminium secondaire, (non) ferreux: Procédé (méthode A): non issu de carbonate",null,null,null,null,null,null,false,null,null,null,null,null,null,null,null,null,null,null,1,1,"","",2]
[56,"Production ou transformation de métaux ferreux","Aluminium secondaire, (non) ferreux","Procédé (méthode B): production d’oxydes",null,"Méthode standard: Procédé, article 24, paragraphe 2",1,{"$f":"Translations!$B$493","v":"Valeurs par défaut de type I"},{"$f":"Translations!$B$528","v":"Valeurs par défaut de type II :"},null,null,{"$f":"Translations!$B$527","v":"Analyses de laboratoire"},null,null,null,3,"Aluminium secondaire, (non) ferreux: Procédé (méthode B): production d’oxydes",null,"EF_Aluminium secondaire, (non) ferreux: Procédé (méthode B): production d’oxydes",null,null,null,null,null,null,false,null,null,null,null,null,null,null,null,null,null,null,1,1,"","",2]
[57,"Production ou transformation de métaux ferreux","Aluminium secondaire, (non) ferreux","Méthode du bilan massique",null,"Méthode du bilan massique, article 25",{"$f":"EUconst_NA","v":"s.o."},null,null,null,null,null,null,null,null,"s.o.","Aluminium secondaire, (non) ferreux: Méthode du bilan massique",null,"EF_Aluminium secondaire, (non) ferreux: Méthode du bilan massique",null,null,null,null,null,null,{"$f":"IF(G393=EUconst_NA,TRUE,FALSE)","v":true},null,null,null,null,null,null,null,null,null,null,null,"","","","",""]
[58,"Production de carbonate de sodium et de bicarbonate de sodium","Soude / bicarbonate de sodium","Méthode du bilan massique",null,"Méthode du bilan massique, article 25",{"$f":"EUconst_NA","v":"s.o."},null,null,null,null,null,null,null,null,"s.o.","Soude / bicarbonate de sodium: Méthode du bilan massique",null,"EF_Soude / bicarbonate de sodium: Méthode du bilan massique",null,null,null,null,null,null,{"$f":"IF(G394=EUconst_NA,TRUE,FALSE)","v":true},null,null,null,null,null,null,null,null,null,null,null,"","","","",""]
[59,"Production d'aluminium primaire ou d'alumine","Aluminium primaire","Méthode du bilan massique",null,"Méthode du bilan massique, article 25",{"$f":"EUconst_NA","v":"s.o."},null,null,null,null,null,null,null,null,{"$f":"IF(G395=EUconst_NA,EUconst_NA,IF(ISBLANK(J395),COUNTA(H395:O395),COUNTA(H395,J395,L395)))","v":"s.o."},{"$f":"C395 & \": \" &D395","v":"Aluminium primaire: Méthode du bilan massique"},null,{"$f":"EUconst_CNTR_EF&Q395","v":"EF_Aluminium primaire: Méthode du bilan massique"},null,null,null,null,null,null,{"$f":"IF(G395=EUconst_NA,TRUE,FALSE)","v":true},null,null,null,null,null,null,null,null,null,null,null,"","","","",""]
[60,"Production d'aluminium primaire ou d'alumine","Aluminium primaire","Émissions de PFC (méthode des pentes)",null,"Calcul avec dispositions spéciales pour les PFC (annexe IV section 8)",1,{"$f":"Translations!$B$493","v":"Valeurs par défaut de type I"},{"$f":"Translations!$B$1101","v":"Facteurs d’émission spécifiques des installations"},null,null,null,null,null,null,2,"Aluminium primaire: Émissions de PFC (méthode des pentes)",null,"EF_Aluminium primaire: Émissions de PFC (méthode des pentes)",null,null,null,null,null,null,{"$f":"IF(G396=EUconst_NA,TRUE,FALSE)","v":false},null,null,null,null,null,null,null,null,null,null,null,1,2,"",""]
[61,{"$f":"B325","v":"Production d'aluminium primaire ou d'alumine"},"Aluminium primaire","Émissions de PFC (méthode de la surtension)",null,"Calcul avec dispositions spéciales pour les PFC (annexe IV section 8)",1,{"$f":"Translations!$B$493","v":"Valeurs par défaut de type I"},{"$f":"Translations!$B$1101","v":"Facteurs d’émission spécifiques des installations"},null,null,null,null,null,null,2,"Aluminium primaire: Émissions de PFC (méthode de la surtension)",null,"EF_Aluminium primaire: Émissions de PFC (méthode de la surtension)",null,null,null,null,null,null,{"$f":"IF(G397=EUconst_NA,TRUE,FALSE)","v":false},null,null,null,null,null,null,null,null,null,null,null,1,2,"","",""]
[62,"Captage des gaz à effet de serre au titre de la directive 2009/31/CE","CCS: Capture","CO2 transferred",null,{"$f":"F326","v":"Méthode du bilan massique, article 25"},{"$f":"EUconst_NA","v":"s.o."},null,null,null,null,null,null,null,null,{"$f":"IF(G398=EUconst_NA,EUconst_NA,IF(ISBLANK(J398),COUNTA(H398:O398),COUNTA(H398,J398,L398)))","v":"s.o."},{"$f":"C398 & \": \" &D398","v":"CCS: Capture: CO2 transferred"},null,{"$f":"EUconst_CNTR_EF&Q398","v":"EF_CCS: Capture: CO2 transferred"},null,null,null,null,null,null,{"$f":"IF(G398=EUconst_NA,TRUE,FALSE)","v":true}]
[63,"Transport de gaz à effet de serre au titre de la directive 2009/31/CE","CCS: Transport","CO2 transferred",null,"Méthode du bilan massique, article 25",{"$f":"EUconst_NA","v":"s.o."},null,null,null,null,null,null,null,null,"s.o.","CCS: Transport: CO2 transferred",null,"EF_CCS: Transport: CO2 transferred",null,null,null,null,null,null,true]
[64,"Transport de gaz à effet de serre au titre de la directive 2009/31/CE","CCS: Transport","CO2 vented",null,"Méthode standard: Procédé, article 24, paragraphe 2",2,{"$f":"Translations!$B$493","v":"Valeurs par défaut de type I"},{"$f":"Translations!$B$1085","v":"Meilleures pratiques"},null,null,{"$f":"Translations!$B$527","v":"Analyses de laboratoire"},null,null,null,3,"CCS: Transport: CO2 vented",null,"EF_CCS: Transport: CO2 vented",null,null,null,null,null,null,false,null,null,null,null,null,null,null,null,null,null,null,1,2,null,null,2]
[65,"Transport de gaz à effet de serre au titre de la directive 2009/31/CE","CCS: Transport","CO2 leaked",null,"Méthode standard: Procédé, article 24, paragraphe 2",2,{"$f":"Translations!$B$493","v":"Valeurs par défaut de type I"},{"$f":"Translations!$B$1085","v":"Meilleures pratiques"},null,null,{"$f":"Translations!$B$527","v":"Analyses de laboratoire"},null,null,null,3,"CCS: Transport: CO2 leaked",null,"EF_CCS: Transport: CO2 leaked",null,null,null,null,null,null,false,null,null,null,null,null,null,null,null,null,null,null,1,2,null,null,2]
[66,"Transport de gaz à effet de serre au titre de la directive 2009/31/CE","CCS: Transport","CO2 fugitive",null,"Méthode standard: Procédé, article 24, paragraphe 2",2,{"$f":"Translations!$B$493","v":"Valeurs par défaut de type I"},{"$f":"Translations!$B$1085","v":"Meilleures pratiques"},null,null,{"$f":"Translations!$B$527","v":"Analyses de laboratoire"},null,null,null,3,"CCS: Transport: CO2 fugitive",null,"EF_CCS: Transport: CO2 fugitive",null,null,null,null,null,null,false,null,null,null,null,null,null,null,null,null,null,null,1,2,null,null,2]
[67,"Stockage des gaz à effet de serre dans le cadre de la directive 2009/31/CE","CCS: Storage","CO2 transferred",null,"Méthode du bilan massique, article 25",{"$f":"EUconst_NA","v":"s.o."},null,null,null,null,null,null,null,null,"s.o.","CCS: Storage: CO2 transferred",null,"EF_CCS: Storage: CO2 transferred",null,null,null,null,null,null,true]
[68,"Stockage des gaz à effet de serre dans le cadre de la directive 2009/31/CE","CCS: Storage","CO2 vented",null,"Méthode standard: Procédé, article 24, paragraphe 2",2,{"$f":"Translations!$B$493","v":"Valeurs par défaut de type I"},{"$f":"Translations!$B$1085","v":"Meilleures pratiques"},null,null,{"$f":"Translations!$B$527","v":"Analyses de laboratoire"},null,null,null,3,"CCS: Storage: CO2 vented",null,"EF_CCS: Storage: CO2 vented",null,null,null,null,null,null,false,null,null,null,null,null,null,null,null,null,null,null,1,2,null,null,2]
[69,"Stockage des gaz à effet de serre dans le cadre de la directive 2009/31/CE","CCS: Storage","CO2 leaked",null,"Méthode standard: Procédé, article 24, paragraphe 2",2,{"$f":"Translations!$B$493","v":"Valeurs par défaut de type I"},{"$f":"Translations!$B$1085","v":"Meilleures pratiques"},null,null,{"$f":"Translations!$B$527","v":"Analyses de laboratoire"},null,null,null,3,"CCS: Storage: CO2 leaked",null,"EF_CCS: Storage: CO2 leaked",null,null,null,null,null,null,false,null,null,null,null,null,null,null,null,null,null,null,1,2,null,null,2]
[70,"Stockage des gaz à effet de serre dans le cadre de la directive 2009/31/CE","CCS: Storage","CO2 fugitive",null,"Méthode standard: Procédé, article 24, paragraphe 2",2,{"$f":"Translations!$B$493","v":"Valeurs par défaut de type I"},{"$f":"Translations!$B$1085","v":"Meilleures pratiques"},null,null,{"$f":"Translations!$B$527","v":"Analyses de laboratoire"},null,null,null,3,"CCS: Storage: CO2 fugitive",null,"EF_CCS: Storage: CO2 fugitive",null,null,null,null,null,null,false,null,null,null,null,null,null,null,null,null,null,null,1,2,null,null,2]
[null,null,null,null,null,null,null,null,null,null,null,null,null,null,null,null,null,null,null,null,null,null,null,null,null,{"$f":"IF(G407=EUconst_NA,TRUE,FALSE)","v":false}]
["NEW",{"$f":"Translations!$B$1108","v":"PCI"},{"$f":"Translations!$B$957","v":"Intitulé abrégé"},{"$f":"Translations!$B$958","v":"Sous-activité"},{"$f":"Translations!$B$389","v":"Paramètre"},{"$f":"Translations!$B$959","v":"Type de source"},{"$f":"Translations!$B$960","v":"Minimum"},1,2,"2a",{"$f":"Translations!$B$928","v":"2b"},3,"3a","3b",4,{"$f":"Translations!$B$961","v":"Maximum"},null,null,null,null,null,null,null,null,null,{"$f":"Translations!$B$962","v":"Griser ?"},null,null,null,null,null,null,null,null,null,null,"1=default value, 2=lab",1,2,"2a",{"$f":"Translations!$B$928","v":"2b"},3]
[1,{"$f":"B337","v":"Combustion de combustibles"},"Combustion","Combustibles marchands ordinaires",null,{"$f":"F337","v":"Méthode standard: Combustible, article 24, paragraphe 1"},"2a/2b",{"$f":"Translations!$B$493","v":"Valeurs par défaut de type I"},null,{"$f":"Translations!$B$528","v":"Valeurs par défaut de type II :"},{"$f":"Translations!$B$1109","v":"Données d’achat (le cas échéant)"},{"$f":"Translations!$B$527","v":"Analyses de laboratoire"},null,null,null,{"$f":"G409","v":"2a/2b"},{"$f":"C409 & \": \" &D409","v":"Combustion: Combustibles marchands ordinaires"},null,{"$f":"EUconst_CNTR_NCV&Q409","v":"NCV_Combustion: Combustibles marchands ordinaires"},null,null,null,null,null,null,{"$f":"IF(G409=EUconst_NA,TRUE,FALSE)","v":false},null,null,null,null,null,null,null,null,null,null,null,1,"",1,{"$f":"Translations!$B$1109","v":"Données d’achat (le cas échéant)"},2]
[2,"Combustion de combustibles","Combustion","Autres combustibles gazeux & liquides",null,"Méthode standard: Combustible, article 24, paragraphe 1","2a/2b",{"$f":"Translations!$B$493","v":"Valeurs par défaut de type I"},null,{"$f":"Translations!$B$528","v":"Valeurs par défaut de type II :"},{"$f":"Translations!$B$1109","v":"Données d’achat (le cas échéant)"},{"$f":"Translations!$B$527","v":"Analyses de laboratoire"},null,null,null,{"$f":"IF(G410=EUconst_NA,EUconst_NA,IF(ISBLANK(J410),COUNTA(H410:O410),COUNTA(H410,J410,L410)))","v":3},{"$f":"C410 & \": \" &D410","v":"Combustion: Autres combustibles gazeux & liquides"},null,{"$f":"EUconst_CNTR_NCV&Q410","v":"NCV_Combustion: Autres combustibles gazeux & liquides"},null,null,null,null,null,null,false,null,null,null,null,null,null,null,null,null,null,null,1,"",1,{"$f":"Translations!$B$1109","v":"Données d’achat (le cas échéant)"},2]
[3,"Combustion de combustibles","Combustion","Combustibles solides, hors déchets",null,"Méthode standard: Combustible, article 24, paragraphe 1","2a/2b",{"$f":"Translations!$B$493","v":"Valeurs par défaut de type I"},null,{"$f":"Translations!$B$528","v":"Valeurs par défaut de type II :"},{"$f":"Translations!$B$1109","v":"Données d’achat (le cas échéant)"},{"$f":"Translations!$B$527","v":"Analyses de laboratoire"},null,null,null,3,"Combustion: Combustibles solides, hors déchets",null,"NCV_Combustion: Combustibles solides, hors déchets",null,null,null,null,null,null,false,null,null,null,null,null,null,null,null,null,null,null,1,"",1,{"$f":"Translations!$B$1109","v":"Données d’achat (le cas échéant)"},2]
[4,"Combustion de combustibles","Combustion","Déchets",null,"Méthode standard: Combustible, article 24, paragraphe 1","2a/2b",{"$f":"Translations!$B$493","v":"Valeurs par défaut de type I"},null,{"$f":"Translations!$B$528","v":"Valeurs par défaut de type II :"},{"$f":"Translations!$B$1109","v":"Données d’achat (le cas échéant)"},{"$f":"Translations!$B$527","v":"Analyses de laboratoire"},null,null,null,{"$f":"IF(G412=EUconst_NA,EUconst_NA,IF(ISBLANK(J412),COUNTA(H412:O412),COUNTA(H412,J412,L412)))","v":3},{"$f":"C412 & \": \" &D412","v":"Combustion: Déchets"},null,{"$f":"EUconst_CNTR_NCV&Q412","v":"NCV_Combustion: Déchets"},null,null,null,null,null,null,{"$f":"IF(G412=EUconst_NA,TRUE,FALSE)","v":false},null,null,null,null,null,null,null,null,null,null,null,1,"",1,{"$f":"Translations!$B$1109","v":"Données d’achat (le cas échéant)"},2]
[5,"Combustion de combustibles","Combustion","Terminaux de traitement du gaz",null,"Méthode du bilan massique, article 25",1,{"$f":"Translations!$B$493","v":"Valeurs par défaut de type I"},null,{"$f":"Translations!$B$528","v":"Valeurs par défaut de type II :"},{"$f":"Translations!$B$1109","v":"Données d’achat (le cas échéant)"},{"$f":"Translations!$B$527","v":"Analyses de laboratoire"},null,null,null,3,"Combustion: Terminaux de traitement du gaz",null,"NCV_Combustion: Terminaux de traitement du gaz",null,null,null,null,null,null,false,null,null,null,null,null,null,null,null,null,null,null,1,"",1,{"$f":"Translations!$B$1109","v":"Données d’achat (le cas échéant)"},2]
[6,"Combustion de combustibles","Combustion","Torchères",null,"Méthode standard: Combustible, article 24, paragraphe 1",{"$f":"\"\"","v":""},{"$f":"Translations!$B$493","v":"Valeurs par défaut de type I"},null,{"$f":"Translations!$B$528","v":"Valeurs par défaut de type II :"},{"$f":"Translations!$B$1109","v":"Données d’achat (le cas échéant)"},{"$f":"Translations!$B$527","v":"Analyses de laboratoire"},null,null,null,3,"Combustion: Torchères",null,"NCV_Combustion: Torchères",null,null,null,null,null,null,false,null,null,null,null,null,null,null,null,null,null,null,1,"",1,{"$f":"Translations!$B$1109","v":"Données d’achat (le cas échéant)"},2]
[7,"Combustion de combustibles","Combustion","Épuration (carbonate)",null,"Méthode standard: Procédé, article 24, paragraphe 2",{"$f":"EUconst_NA","v":"s.o."},null,null,null,null,null,null,null,null,"s.o.","Combustion: Épuration (carbonate)",null,"NCV_Combustion: Épuration (carbonate)",null,null,null,null,null,null,true,null,null,null,null,null,null,null,null,null,null,null,"","","","",""]
[8,"Combustion de combustibles","Combustion","Épuration (gypse)",null,"Méthode standard: Procédé, article 24, paragraphe 2",{"$f":"EUconst_NA","v":"s.o."},null,null,null,null,null,null,null,null,"s.o.","Combustion: Épuration (gypse)",null,"NCV_Combustion: Épuration (gypse)",null,null,null,null,null,null,true,null,null,null,null,null,null,null,null,null,null,null,"","","","",""]
[9,"Combustion de combustibles","Combustion","Épuration (urée)",null,"Méthode standard: Procédé, article 24, paragraphe 2",{"$f":"EUconst_NA","v":"s.o."},null,null,null,null,null,null,null,null,"s.o.","Combustion: Épuration (urée)",null,"NCV_Combustion: Épuration (urée)",null,null,null,null,null,null,true,null,null,null,null,null,null,null,null,null,null,null,"","","","",""]
[10,"Raffinage d'huile","Raffineries","Bilan massique",null,"Méthode du bilan massique, article 25",{"$f":"\"\"","v":""},{"$f":"Translations!$B$493","v":"Valeurs par défaut de type I"},null,{"$f":"Translations!$B$528","v":"Valeurs par défaut de type II :"},{"$f":"Translations!$B$1109","v":"Données d’achat (le cas échéant)"},{"$f":"Translations!$B$527","v":"Analyses de laboratoire"},null,null,null,3,"Raffineries: Bilan massique",null,"NCV_Raffineries: Bilan massique",null,null,null,null,null,null,false,null,null,null,null,null,null,null,null,null,null,null,1,"",1,{"$f":"Translations!$B$1109","v":"Données d’achat (le cas échéant)"},2]
[11,"Raffinage de pétrole ","Raffineries","Régénération des catalyseurs de craquage catalytique",null,"Méthode du bilan massique, article 25",{"$f":"EUconst_NA","v":"s.o."},null,null,null,null,null,null,null,null,"s.o.","Raffineries: Régénération des catalyseurs de craquage catalytique",null,"NCV_Raffineries: Régénération des catalyseurs de craquage catalytique",null,null,null,null,null,null,true,null,null,null,null,null,null,null,null,null,null,null,"","","","",""]
[12,"Raffinage de pétrole ","Raffineries","Production d'hydrogène",null,"Méthode du bilan massique, article 25",{"$f":"\"\"","v":""},{"$f":"Translations!$B$493","v":"Valeurs par défaut de type I"},null,{"$f":"Translations!$B$528","v":"Valeurs par défaut de type II :"},{"$f":"Translations!$B$1109","v":"Données d’achat (le cas échéant)"},{"$f":"Translations!$B$527","v":"Analyses de laboratoire"},null,null,null,3,"Raffineries: Production d'hydrogène",null,"NCV_Raffineries: Production d'hydrogène",null,null,null,null,null,null,false,null,null,null,null,null,null,null,null,null,null,null,1,"",1,{"$f":"Translations!$B$1109","v":"Données d’achat (le cas échéant)"},2]
[13,"Production de coke","Coke","Combustible employé pour alimenter le procédé",null,"Méthode standard: Combustible, article 24, paragraphe 1","2a/2b",{"$f":"Translations!$B$493","v":"Valeurs par défaut de type I"},null,{"$f":"Translations!$B$528","v":"Valeurs par défaut de type II :"},{"$f":"Translations!$B$1109","v":"Données d’achat (le cas échéant)"},{"$f":"Translations!$B$527","v":"Analyses de laboratoire"},null,null,null,3,"Coke: Combustible employé pour alimenter le procédé",null,"NCV_Coke: Combustible employé pour alimenter le procédé",null,null,null,null,null,null,false,null,null,null,null,null,null,null,null,null,null,null,1,"",1,{"$f":"Translations!$B$1109","v":"Données d’achat (le cas échéant)"},2]
[14,"Production de coke","Coke","Procédé (méthode A): uniquement carbonates",null,"Méthode standard: Procédé, article 24, paragraphe 2",{"$f":"EUconst_NA","v":"s.o."},null,null,null,null,null,null,null,null,"s.o.","Coke: Procédé (méthode A): uniquement carbonates",null,"NCV_Coke: Procédé (méthode A): uniquement carbonates",null,null,null,null,null,null,true,null,null,null,null,null,null,null,null,null,null,null,"","","","",""]
[15,"Production de coke","Coke","Procédé (méthode A): mélange (carbonates + autres que carbonates)",null,"Méthode standard: Procédé, article 24, paragraphe 2","2a/2b",{"$f":"Translations!$B$493","v":"Valeurs par défaut de type I"},null,{"$f":"Translations!$B$528","v":"Valeurs par défaut de type II :"},{"$f":"Translations!$B$1109","v":"Données d’achat (le cas échéant)"},{"$f":"Translations!$B$527","v":"Analyses de laboratoire"},null,null,null,3,"Coke: Procédé (méthode A): mélange (carbonates + autres que carbonates)",null,"NCV_Coke: Procédé (méthode A): mélange (carbonates + autres que carbonates)",null,null,null,null,null,null,false,null,null,null,null,null,null,null,null,null,null,null,1,"",1,{"$f":"Translations!$B$1109","v":"Données d’achat (le cas échéant)"},2]
[16,"Production de coke","Coke","Procédé (méthode A): non issu de carbonate",null,"Méthode standard: Procédé, article 24, paragraphe 2","2a/2b",{"$f":"Translations!$B$493","v":"Valeurs par défaut de type I"},null,{"$f":"Translations!$B$528","v":"Valeurs par défaut de type II :"},{"$f":"Translations!$B$1109","v":"Données d’achat (le cas échéant)"},{"$f":"Translations!$B$527","v":"Analyses de laboratoire"},null,null,null,3,"Coke: Procédé (méthode A): non issu de carbonate",null,"NCV_Coke: Procédé (méthode A): non issu de carbonate",null,null,null,null,null,null,false,null,null,null,null,null,null,null,null,null,null,null,1,"",1,{"$f":"Translations!$B$1109","v":"Données d’achat (le cas échéant)"},2]
[17,"Production de coke","Coke","Procédé (méthode B): production d’oxydes",null,"Méthode standard: Procédé, article 24, paragraphe 2",{"$f":"EUconst_NA","v":"s.o."},null,null,null,null,null,null,null,null,"s.o.","Coke: Procédé (méthode B): production d’oxydes",null,"NCV_Coke: Procédé (méthode B): production d’oxydes",null,null,null,null,null,null,true,null,null,null,null,null,null,null,null,null,null,null,"","","","",""]
[18,"Production de coke","Coke","Bilan massique",null,"Méthode du bilan massique, article 25",{"$f":"\"\"","v":""},{"$f":"Translations!$B$493","v":"Valeurs par défaut de type I"},null,{"$f":"Translations!$B$528","v":"Valeurs par défaut de type II :"},{"$f":"Translations!$B$1109","v":"Données d’achat (le cas échéant)"},{"$f":"Translations!$B$527","v":"Analyses de laboratoire"},null,null,null,3,"Coke: Bilan massique",null,"NCV_Coke: Bilan massique",null,null,null,null,null,null,false,null,null,null,null,null,null,null,null,null,null,null,1,"",1,{"$f":"Translations!$B$1109","v":"Données d’achat (le cas échéant)"},2]
[19,"Grillage ou frittage de minerai métallique","Minerai de métaux","Procédé (méthode A): uniquement carbonates",null,"Méthode standard: Procédé, article 24, paragraphe 2",{"$f":"EUconst_NA","v":"s.o."},null,null,null,null,null,null,null,null,"s.o.","Minerai de métaux: Procédé (méthode A): uniquement carbonates",null,"NCV_Minerai de métaux: Procédé (méthode A): uniquement carbonates",null,null,null,null,null,null,true,null,null,null,null,null,null,null,null,null,null,null,"","","","",""]
[20,"Grillage ou frittage de minerai métallique","Minerai de métaux","Procédé (méthode A): mélange (carbonates + autres que carbonates)",null,"Méthode standard: Procédé, article 24, paragraphe 2","2a/2b",{"$f":"Translations!$B$493","v":"Valeurs par défaut de type I"},null,{"$f":"Translations!$B$528","v":"Valeurs par défaut de type II :"},{"$f":"Translations!$B$1109","v":"Données d’achat (le cas échéant)"},{"$f":"Translations!$B$527","v":"Analyses de laboratoire"},null,null,null,3,"Minerai de métaux: Procédé (méthode A): mélange (carbonates + autres que carbonates)",null,"NCV_Minerai de métaux: Procédé (méthode A): mélange (carbonates + autres que carbonates)",null,null,null,null,null,null,false,null,null,null,null,null,null,null,null,null,null,null,1,"",1,{"$f":"Translations!$B$1109","v":"Données d’achat (le cas échéant)"},2]
[21,{"$f":"B357","v":"Grillage ou frittage de minerai métallique"},"Minerai de métaux","Procédé (méthode A): non issu de carbonate",null,"Méthode standard: Procédé, article 24, paragraphe 2","2a/2b",{"$f":"Translations!$B$493","v":"Valeurs par défaut de type I"},null,{"$f":"Translations!$B$528","v":"Valeurs par défaut de type II :"},{"$f":"Translations!$B$1109","v":"Données d’achat (le cas échéant)"},{"$f":"Translations!$B$527","v":"Analyses de laboratoire"},null,null,null,3,"Minerai de métaux: Procédé (méthode A): non issu de carbonate",null,"NCV_Minerai de métaux: Procédé (méthode A): non issu de carbonate",null,null,null,null,null,null,false,null,null,null,null,null,null,null,null,null,null,null,1,"",1,{"$f":"Translations!$B$1109","v":"Données d’achat (le cas échéant)"},2]
[22,"Grillage ou frittage de minerai métallique","Minerai de métaux","Procédé (méthode B): production d’oxydes",null,"Méthode standard: Procédé, article 24, paragraphe 2",{"$f":"EUconst_NA","v":"s.o."},null,null,null,null,null,null,null,null,"s.o.","Minerai de métaux: Procédé (méthode B): production d’oxydes",null,"NCV_Minerai de métaux: Procédé (méthode B): production d’oxydes",null,null,null,null,null,null,true,null,null,null,null,null,null,null,null,null,null,null,"","","","",""]
[23,"Grillage ou frittage de minerai métallique","Minerai de métaux","Bilan massique",null,"Méthode du bilan massique, article 25",{"$f":"\"\"","v":""},{"$f":"Translations!$B$493","v":"Valeurs par défaut de type I"},null,{"$f":"Translations!$B$528","v":"Valeurs par défaut de type II :"},{"$f":"Translations!$B$1109","v":"Données d’achat (le cas échéant)"},{"$f":"Translations!$B$527","v":"Analyses de laboratoire"},null,null,null,3,"Minerai de métaux: Bilan massique",null,"NCV_Minerai de métaux: Bilan massique",null,null,null,null,null,null,false,null,null,null,null,null,null,null,null,null,null,null,1,"",1,{"$f":"Translations!$B$1109","v":"Données d’achat (le cas échéant)"},2]
[24,"Production de fer ou d'acier","Sidérurgie","Combustible employé pour alimenter le procédé",null,"Méthode standard: Combustible, article 24, paragraphe 1","2a/2b",{"$f":"Translations!$B$493","v":"Valeurs par défaut de type I"},null,{"$f":"Translations!$B$528","v":"Valeurs par défaut de type II :"},{"$f":"Translations!$B$1109","v":"Données d’achat (le cas échéant)"},{"$f":"Translations!$B$527","v":"Analyses de laboratoire"},null,null,null,3,"Sidérurgie: Combustible employé pour alimenter le procédé",null,"NCV_Sidérurgie: Combustible employé pour alimenter le procédé",null,null,null,null,null,null,false,null,null,null,null,null,null,null,null,null,null,null,1,"",1,{"$f":"Translations!$B$1109","v":"Données d’achat (le cas échéant)"},2]
[25,"Production de fer ou d'acier","Sidérurgie","Procédé (méthode A): uniquement carbonates",null,"Méthode standard: Procédé, article 24, paragraphe 2",{"$f":"EUconst_NA","v":"s.o."},null,null,null,null,null,null,null,null,"s.o.","Sidérurgie: Procédé (méthode A): uniquement carbonates",null,"NCV_Sidérurgie: Procédé (méthode A): uniquement carbonates",null,null,null,null,null,null,true,null,null,null,null,null,null,null,null,null,null,null,"","","","",""]
[26,"Production de fer ou d'acier","Sidérurgie","Procédé (méthode A): mélange (carbonates + autres que carbonates)",null,"Méthode standard: Procédé, article 24, paragraphe 2","2a/2b",{"$f":"Translations!$B$493","v":"Valeurs par défaut de type I"},null,{"$f":"Translations!$B$528","v":"Valeurs par défaut de type II :"},{"$f":"Translations!$B$1109","v":"Données d’achat (le cas échéant)"},{"$f":"Translations!$B$527","v":"Analyses de laboratoire"},null,null,null,3,"Sidérurgie: Procédé (méthode A): mélange (carbonates + autres que carbonates)",null,"NCV_Sidérurgie: Procédé (méthode A): mélange (carbonates + autres que carbonates)",null,null,null,null,null,null,false,null,null,null,null,null,null,null,null,null,null,null,1,"",1,{"$f":"Translations!$B$1109","v":"Données d’achat (le cas échéant)"},2]
[27,"Production de fer ou d'acier","Sidérurgie","Procédé (méthode A): non issu de carbonate",null,"Méthode standard: Procédé, article 24, paragraphe 2","2a/2b",{"$f":"Translations!$B$493","v":"Valeurs par défaut de type I"},null,{"$f":"Translations!$B$528","v":"Valeurs par défaut de type II :"},{"$f":"Translations!$B$1109","v":"Données d’achat (le cas échéant)"},{"$f":"Translations!$B$527","v":"Analyses de laboratoire"},null,null,null,3,"Sidérurgie: Procédé (méthode A): non issu de carbonate",null,"NCV_Sidérurgie: Procédé (méthode A): non issu de carbonate",null,null,null,null,null,null,false,null,null,null,null,null,null,null,null,null,null,null,1,"",1,{"$f":"Translations!$B$1109","v":"Données d’achat (le cas échéant)"},2]
[28,"Production de fer ou d'acier","Sidérurgie","Procédé (méthode B): production d’oxydes",null,"Méthode standard: Procédé, article 24, paragraphe 2",{"$f":"EUconst_NA","v":"s.o."},null,null,null,null,null,null,null,null,"s.o.","Sidérurgie: Procédé (méthode B): production d’oxydes",null,"NCV_Sidérurgie: Procédé (méthode B): production d’oxydes",null,null,null,null,null,null,true,null,null,null,null,null,null,null,null,null,null,null,"","","","",""]
[29,"Production de fer ou d'acier","Sidérurgie","Bilan massique",null,"Méthode du bilan massique, article 25",{"$f":"\"\"","v":""},{"$f":"Translations!$B$493","v":"Valeurs par défaut de type I"},null,{"$f":"Translations!$B$528","v":"Valeurs par défaut de type II :"},{"$f":"Translations!$B$1109","v":"Données d’achat (le cas échéant)"},{"$f":"Translations!$B$527","v":"Analyses de laboratoire"},null,null,null,3,"Sidérurgie: Bilan massique",null,"NCV_Sidérurgie: Bilan massique",null,null,null,null,null,null,false,null,null,null,null,null,null,null,null,null,null,null,1,"",1,{"$f":"Translations!$B$1109","v":"Données d’achat (le cas échéant)"},2]
[30,"Production de clinker","Clinker","D'après la charge du four (méthode A)",null,"Méthode standard: Procédé, article 24, paragraphe 2",{"$f":"EUconst_NA","v":"s.o."},null,null,null,null,null,null,null,null,"s.o.","Clinker: D'après la charge du four (méthode A)",null,"NCV_Clinker: D'après la charge du four (méthode A)",null,null,null,null,null,null,true,null,null,null,null,null,null,null,null,null,null,null,"","","","",""]
[31,"Production de clinker","Clinker","Quantité de clinker produite (méthode B)",null,"Méthode standard: Procédé, article 24, paragraphe 2",{"$f":"EUconst_NA","v":"s.o."},null,null,null,null,null,null,null,null,"s.o.","Clinker: Quantité de clinker produite (méthode B)",null,"NCV_Clinker: Quantité de clinker produite (méthode B)",null,null,null,null,null,null,true,null,null,null,null,null,null,null,null,null,null,null,"","","","",""]
[32,"Production de clinker","Clinker","Poussières des fours à ciment",null,"Méthode standard: Procédé, article 24, paragraphe 2",{"$f":"EUconst_NA","v":"s.o."},null,null,null,null,null,null,null,null,"s.o.","Clinker: Poussières des fours à ciment",null,"NCV_Clinker: Poussières des fours à ciment",null,null,null,null,null,null,true,null,null,null,null,null,null,null,null,null,null,null,"","","","",""]
[33,"Production de clinker","Clinker","Carbone non issu de carbonates",null,{"$f":"F369","v":"Méthode standard: Procédé, article 24, paragraphe 2"},{"$f":"EUconst_NA","v":"s.o."},null,null,null,null,null,null,null,null,"s.o.","Clinker: Carbone non issu de carbonates",null,"NCV_Clinker: Carbone non issu de carbonates",null,null,null,null,null,null,true,null,null,null,null,null,null,null,null,null,null,null,"","","","",""]
[34,"Production de chaux ou calcination de dolomite/magnésite","Chaux / dolomite / magnésite","Procédé (méthode A): uniquement carbonates",null,"Méthode standard: Procédé, article 24, paragraphe 2",{"$f":"EUconst_NA","v":"s.o."},null,null,null,null,null,null,null,null,"s.o.","Chaux / dolomite / magnésite: Procédé (méthode A): uniquement carbonates",null,"NCV_Chaux / dolomite / magnésite: Procédé (méthode A): uniquement carbonates",null,null,null,null,null,null,true,null,null,null,null,null,null,null,null,null,null,null,"","","","",""]
[35,"Production de chaux ou calcination de dolomite/magnésite","Chaux / dolomite / magnésite","Procédé (méthode A): mélange (carbonates + autres que carbonates)",null,"Méthode standard: Procédé, article 24, paragraphe 2","2a/2b",{"$f":"Translations!$B$493","v":"Valeurs par défaut de type I"},null,{"$f":"Translations!$B$528","v":"Valeurs par défaut de type II :"},{"$f":"Translations!$B$1109","v":"Données d’achat (le cas échéant)"},{"$f":"Translations!$B$527","v":"Analyses de laboratoire"},null,null,null,3,"Chaux / dolomite / magnésite: Procédé (méthode A): mélange (carbonates + autres que carbonates)",null,"NCV_Chaux / dolomite / magnésite: Procédé (méthode A): mélange (carbonates + autres que carbonates)",null,null,null,null,null,null,false,null,null,null,null,null,null,null,null,null,null,null,1,"",1,{"$f":"Translations!$B$1109","v":"Données d’achat (le cas échéant)"},2]
[36,"Production de chaux ou calcination de dolomite/magnésite","Chaux / dolomite / magnésite","Procédé (méthode A): non issu de carbonate",null,"Méthode standard: Procédé, article 24, paragraphe 2","2a/2b",{"$f":"Translations!$B$493","v":"Valeurs par défaut de type I"},null,{"$f":"Translations!$B$528","v":"Valeurs par défaut de type II :"},{"$f":"Translations!$B$1109","v":"Données d’achat (le cas échéant)"},{"$f":"Translations!$B$527","v":"Analyses de laboratoire"},null,null,null,3,"Chaux / dolomite / magnésite: Procédé (méthode A): non issu de carbonate",null,"NCV_Chaux / dolomite / magnésite: Procédé (méthode A): non issu de carbonate",null,null,null,null,null,null,false,null,null,null,null,null,null,null,null,null,null,null,1,"",1,{"$f":"Translations!$B$1109","v":"Données d’achat (le cas échéant)"},2]
[37,"Production de chaux ou calcination de dolomite/magnésite","Chaux / dolomite / magnésite","Procédé (méthode B): production d’oxydes",null,"Méthode standard: Procédé, article 24, paragraphe 2",{"$f":"EUconst_NA","v":"s.o."},null,null,null,null,null,null,null,null,"s.o.","Chaux / dolomite / magnésite: Procédé (méthode B): production d’oxydes",null,"NCV_Chaux / dolomite / magnésite: Procédé (méthode B): production d’oxydes",null,null,null,null,null,null,true,null,null,null,null,null,null,null,null,null,null,null,"","","","",""]
[38,"Production de chaux ou calcination de dolomite/magnésite","Chaux / dolomite / magnésite","Poussières de four (méthode B)",null,"Méthode standard: Procédé, article 24, paragraphe 2",{"$f":"EUconst_NA","v":"s.o."},null,null,null,null,null,null,null,null,{"$f":"IF(G446=EUconst_NA,EUconst_NA,IF(ISBLANK(J446),COUNTA(H446:O446),COUNTA(H446,J446,L446)))","v":"s.o."},"Chaux / dolomite / magnésite: Poussières de four (méthode B)",null,"NCV_Chaux / dolomite / magnésite: Poussières de four (méthode B)",null,null,null,null,null,null,true,null,null,null,null,null,null,null,null,null,null,null,"","","","",""]
[39,"Fabrication de verre","Verre et laine minérale","Procédé (méthode A): uniquement carbonates",null,"Méthode standard: Procédé, article 24, paragraphe 2",{"$f":"EUconst_NA","v":"s.o."},null,null,null,null,null,null,null,null,"s.o.","Verre et laine minérale: Procédé (méthode A): uniquement carbonates",null,"NCV_Verre et laine minérale: Procédé (méthode A): uniquement carbonates",null,null,null,null,null,null,true,null,null,null,null,null,null,null,null,null,null,null,"","","","",""]
[40,"Fabrication de verre","Verre et laine minérale","Procédé (méthode A): mélange (carbonates + autres que carbonates)",null,"Méthode standard: Procédé, article 24, paragraphe 2","2a/2b",{"$f":"Translations!$B$493","v":"Valeurs par défaut de type I"},null,{"$f":"Translations!$B$528","v":"Valeurs par défaut de type II :"},{"$f":"Translations!$B$1109","v":"Données d’achat (le cas échéant)"},{"$f":"Translations!$B$527","v":"Analyses de laboratoire"},null,null,null,3,"Verre et laine minérale: Procédé (méthode A): mélange (carbonates + autres que carbonates)",null,"NCV_Verre et laine minérale: Procédé (méthode A): mélange (carbonates + autres que carbonates)",null,null,null,null,null,null,false,null,null,null,null,null,null,null,null,null,null,null,1,"",1,{"$f":"Translations!$B$1109","v":"Données d’achat (le cas échéant)"},2]
[41,{"$f":"B377","v":"Fabrication de verre"},"Verre et laine minérale","Procédé (méthode A): non issu de carbonate",null,"Méthode standard: Procédé, article 24, paragraphe 2","2a/2b",{"$f":"Translations!$B$493","v":"Valeurs par défaut de type I"},null,{"$f":"Translations!$B$528","v":"Valeurs par défaut de type II :"},{"$f":"Translations!$B$1109","v":"Données d’achat (le cas échéant)"},{"$f":"Translations!$B$527","v":"Analyses de laboratoire"},null,null,null,3,"Verre et laine minérale: Procédé (méthode A): non issu de carbonate",null,"NCV_Verre et laine minérale: Procédé (méthode A): non issu de carbonate",null,null,null,null,null,null,false,null,null,null,null,null,null,null,null,null,null,null,1,"",1,{"$f":"Translations!$B$1109","v":"Données d’achat (le cas échéant)"},2]
[42,"Fabrication de produits céramiques","Céramique","Procédé (méthode A): uniquement carbonates",null,"Méthode standard: Procédé, article 24, paragraphe 2",{"$f":"EUconst_NA","v":"s.o."},null,null,null,null,null,null,null,null,"s.o.","Céramique: Procédé (méthode A): uniquement carbonates",null,"NCV_Céramique: Procédé (méthode A): uniquement carbonates",null,null,null,null,null,null,true,null,null,null,null,null,null,null,null,null,null,null,"","","","",""]
[43,"Fabrication de produits céramiques","Céramique","Procédé (méthode A): mélange (carbonates + autres que carbonates)",null,"Méthode standard: Procédé, article 24, paragraphe 2","2a/2b",{"$f":"Translations!$B$493","v":"Valeurs par défaut de type I"},null,{"$f":"Translations!$B$528","v":"Valeurs par défaut de type II :"},{"$f":"Translations!$B$1109","v":"Données d’achat (le cas échéant)"},{"$f":"Translations!$B$527","v":"Analyses de laboratoire"},null,null,null,3,"Céramique: Procédé (méthode A): mélange (carbonates + autres que carbonates)",null,"NCV_Céramique: Procédé (méthode A): mélange (carbonates + autres que carbonates)",null,null,null,null,null,null,false,null,null,null,null,null,null,null,null,null,null,null,1,"",1,{"$f":"Translations!$B$1109","v":"Données d’achat (le cas échéant)"},2]
[44,"Fabrication de produits céramiques","Céramique","Procédé (méthode A): non issu de carbonate",null,"Méthode standard: Procédé, article 24, paragraphe 2","2a/2b",{"$f":"Translations!$B$493","v":"Valeurs par défaut de type I"},null,{"$f":"Translations!$B$528","v":"Valeurs par défaut de type II :"},{"$f":"Translations!$B$1109","v":"Données d’achat (le cas échéant)"},{"$f":"Translations!$B$527","v":"Analyses de laboratoire"},null,null,null,3,"Céramique: Procédé (méthode A): non issu de carbonate",null,"NCV_Céramique: Procédé (méthode A): non issu de carbonate",null,null,null,null,null,null,false,null,null,null,null,null,null,null,null,null,null,null,1,"",1,{"$f":"Translations!$B$1109","v":"Données d’achat (le cas échéant)"},2]
[45,"Fabrication de produits céramiques","Céramique","Procédé (méthode B): production d’oxydes",null,"Méthode standard: Procédé, article 24, paragraphe 2",{"$f":"EUconst_NA","v":"s.o."},null,null,null,null,null,null,null,null,"s.o.","Céramique: Procédé (méthode B): production d’oxydes",null,"NCV_Céramique: Procédé (méthode B): production d’oxydes",null,null,null,null,null,null,true,null,null,null,null,null,null,null,null,null,null,null,"","","","",""]
[46,"Fabrication de produits céramiques","Céramique","Épuration",null,"Méthode standard: Procédé, article 24, paragraphe 2",{"$f":"\"\"","v":""},{"$f":"Translations!$B$493","v":"Valeurs par défaut de type I"},null,null,null,null,null,null,null,1,"Céramique: Épuration",null,"NCV_Céramique: Épuration",null,null,null,null,null,null,false,null,null,null,null,null,null,null,null,null,null,null,1,"","","",""]
[47,"Production de pâte à papier","Papier et pâte à papier","Produits chimiques d'appoint",null,"Méthode standard: Procédé, article 24, paragraphe 2",{"$f":"EUconst_NA","v":"s.o."},null,null,null,null,null,null,null,null,"s.o.","Papier et pâte à papier: Produits chimiques d'appoint",null,"NCV_Papier et pâte à papier: Produits chimiques d'appoint",null,null,null,null,null,null,true,null,null,null,null,null,null,null,null,null,null,null,"","","","",""]
[48,"Production de noir de carbone","Noir de carbone","Méthode du bilan massique",null,"Méthode du bilan massique, article 25",{"$f":"\"\"","v":""},{"$f":"Translations!$B$493","v":"Valeurs par défaut de type I"},null,{"$f":"Translations!$B$528","v":"Valeurs par défaut de type II :"},{"$f":"Translations!$B$1109","v":"Données d’achat (le cas échéant)"},{"$f":"Translations!$B$527","v":"Analyses de laboratoire"},null,null,null,3,"Noir de carbone: Méthode du bilan massique",null,"NCV_Noir de carbone: Méthode du bilan massique",null,null,null,null,null,null,false,null,null,null,null,null,null,null,null,null,null,null,1,"",1,{"$f":"Translations!$B$1109","v":"Données d’achat (le cas échéant)"},2]
[49,"Production d'ammoniac","Ammoniac","Combustible employé pour alimenter le procédé",null,"Méthode standard: Combustible, article 24, paragraphe 1","2a/2b",{"$f":"Translations!$B$493","v":"Valeurs par défaut de type I"},null,{"$f":"Translations!$B$528","v":"Valeurs par défaut de type II :"},{"$f":"Translations!$B$1109","v":"Données d’achat (le cas échéant)"},{"$f":"Translations!$B$527","v":"Analyses de laboratoire"},null,null,null,3,"Ammoniac: Combustible employé pour alimenter le procédé",null,"NCV_Ammoniac: Combustible employé pour alimenter le procédé",null,null,null,null,null,null,false,null,null,null,null,null,null,null,null,null,null,null,1,"",1,{"$f":"Translations!$B$1109","v":"Données d’achat (le cas échéant)"},2]
[50,"Production d'hydrogène et de gaz de synthèse","Hydrogène et gaz de synthèse","Combustible employé pour alimenter le procédé",null,"Méthode standard: Combustible, article 24, paragraphe 1","2a/2b",{"$f":"Translations!$B$493","v":"Valeurs par défaut de type I"},null,{"$f":"Translations!$B$528","v":"Valeurs par défaut de type II :"},{"$f":"Translations!$B$1109","v":"Données d’achat (le cas échéant)"},{"$f":"Translations!$B$527","v":"Analyses de laboratoire"},null,null,null,3,"Hydrogène et gaz de synthèse: Combustible employé pour alimenter le procédé",null,"NCV_Hydrogène et gaz de synthèse: Combustible employé pour alimenter le procédé",null,null,null,null,null,null,false,null,null,null,null,null,null,null,null,null,null,null,1,"",1,{"$f":"Translations!$B$1109","v":"Données d’achat (le cas échéant)"},2]
[51,"Production d'hydrogène et de gaz de synthèse","Hydrogène et gaz de synthèse","Méthode du bilan massique",null,"Méthode du bilan massique, article 25",{"$f":"\"\"","v":""},{"$f":"Translations!$B$493","v":"Valeurs par défaut de type I"},null,{"$f":"Translations!$B$528","v":"Valeurs par défaut de type II :"},{"$f":"Translations!$B$1109","v":"Données d’achat (le cas échéant)"},{"$f":"Translations!$B$527","v":"Analyses de laboratoire"},null,null,null,3,"Hydrogène et gaz de synthèse: Méthode du bilan massique",null,"NCV_Hydrogène et gaz de synthèse: Méthode du bilan massique",null,null,null,null,null,null,false,null,null,null,null,null,null,null,null,null,null,null,1,"",1,{"$f":"Translations!$B$1109","v":"Données d’achat (le cas échéant)"},2]
[52,"Production de produits chimiques en vrac","Produits chimiques organiques de base","Méthode du bilan massique",null,"Méthode du bilan massique, article 25",{"$f":"\"\"","v":""},{"$f":"Translations!$B$493","v":"Valeurs par défaut de type I"},null,{"$f":"Translations!$B$528","v":"Valeurs par défaut de type II :"},{"$f":"Translations!$B$1109","v":"Données d’achat (le cas échéant)"},{"$f":"Translations!$B$527","v":"Analyses de laboratoire"},null,null,null,3,"Produits chimiques organiques de base: Méthode du bilan massique",null,"NCV_Produits chimiques organiques de base: Méthode du bilan massique",null,null,null,null,null,null,false,null,null,null,null,null,null,null,null,null,null,null,1,"",1,{"$f":"Translations!$B$1109","v":"Données d’achat (le cas échéant)"},2]
[53,"Production ou transformation de métaux ferreux","Aluminium secondaire, (non) ferreux","Procédé (méthode A): uniquement carbonates",null,"Méthode standard: Procédé, article 24, paragraphe 2",{"$f":"EUconst_NA","v":"s.o."},null,null,null,null,null,null,null,null,"s.o.","Aluminium secondaire, (non) ferreux: Procédé (méthode A): uniquement carbonates",null,"NCV_Aluminium secondaire, (non) ferreux: Procédé (méthode A): uniquement carbonates",null,null,null,null,null,null,true,null,null,null,null,null,null,null,null,null,null,null,"","","","",""]
[54,"Production ou transformation de métaux ferreux","Aluminium secondaire, (non) ferreux","Procédé (méthode A): mélange (carbonates + autres que carbonates)",null,"Méthode standard: Procédé, article 24, paragraphe 2","2a/2b",{"$f":"Translations!$B$493","v":"Valeurs par défaut de type I"},null,{"$f":"Translations!$B$528","v":"Valeurs par défaut de type II :"},{"$f":"Translations!$B$1109","v":"Données d’achat (le cas échéant)"},{"$f":"Translations!$B$527","v":"Analyses de laboratoire"},null,null,null,3,"Aluminium secondaire, (non) ferreux: Procédé (méthode A): mélange (carbonates + autres que carbonates)",null,"NCV_Aluminium secondaire, (non) ferreux: Procédé (méthode A): mélange (carbonates + autres que carbonates)",null,null,null,null,null,null,false,null,null,null,null,null,null,null,null,null,null,null,1,"",1,{"$f":"Translations!$B$1109","v":"Données d’achat (le cas échéant)"},2]
[55,"Production ou transformation de métaux ferreux","Aluminium secondaire, (non) ferreux","Procédé (méthode A): non issu de carbonate",null,"Méthode standard: Procédé, article 24, paragraphe 2","2a/2b",{"$f":"Translations!$B$493","v":"Valeurs par défaut de type I"},null,{"$f":"Translations!$B$528","v":"Valeurs par défaut de type II :"},{"$f":"Translations!$B$1109","v":"Données d’achat (le cas échéant)"},{"$f":"Translations!$B$527","v":"Analyses de laboratoire"},null,null,null,3,"Aluminium secondaire, (non) ferreux: Procédé (méthode A): non issu de carbonate",null,"NCV_Aluminium secondaire, (non) ferreux: Procédé (méthode A): non issu de carbonate",null,null,null,null,null,null,false,null,null,null,null,null,null,null,null,null,null,null,1,"",1,{"$f":"Translations!$B$1109","v":"Données d’achat (le cas échéant)"},2]
[56,"Production ou transformation de métaux ferreux","Aluminium secondaire, (non) ferreux","Procédé (méthode B): production d’oxydes",null,"Méthode standard: Procédé, article 24, paragraphe 2",{"$f":"EUconst_NA","v":"s.o."},null,null,null,null,null,null,null,null,"s.o.","Aluminium secondaire, (non) ferreux: Procédé (méthode B): production d’oxydes",null,"NCV_Aluminium secondaire, (non) ferreux: Procédé (méthode B): production d’oxydes",null,null,null,null,null,null,true,null,null,null,null,null,null,null,null,null,null,null,"","","","",""]
[57,"Production ou transformation de métaux ferreux","Aluminium secondaire, (non) ferreux","Méthode du bilan massique",null,"Méthode du bilan massique, article 25",{"$f":"\"\"","v":""},{"$f":"Translations!$B$493","v":"Valeurs par défaut de type I"},null,{"$f":"Translations!$B$528","v":"Valeurs par défaut de type II :"},{"$f":"Translations!$B$1109","v":"Données d’achat (le cas échéant)"},{"$f":"Translations!$B$527","v":"Analyses de laboratoire"},null,null,null,3,"Aluminium secondaire, (non) ferreux: Méthode du bilan massique",null,"NCV_Aluminium secondaire, (non) ferreux: Méthode du bilan massique",null,null,null,null,null,null,false,null,null,null,null,null,null,null,null,null,null,null,1,"",1,{"$f":"Translations!$B$1109","v":"Données d’achat (le cas échéant)"},2]
[58,"Production de carbonate de sodium et de bicarbonate de sodium","Soude / bicarbonate de sodium","Méthode du bilan massique",null,"Méthode du bilan massique, article 25",{"$f":"\"\"","v":""},{"$f":"Translations!$B$493","v":"Valeurs par défaut de type I"},null,{"$f":"Translations!$B$528","v":"Valeurs par défaut de type II :"},{"$f":"Translations!$B$1109","v":"Données d’achat (le cas échéant)"},{"$f":"Translations!$B$527","v":"Analyses de laboratoire"},null,null,null,3,"Soude / bicarbonate de sodium: Méthode du bilan massique",null,"NCV_Soude / bicarbonate de sodium: Méthode du bilan massique",null,null,null,null,null,null,false,null,null,null,null,null,null,null,null,null,null,null,1,"",1,{"$f":"Translations!$B$1109","v":"Données d’achat (le cas échéant)"},2]
[59,"Production d'aluminium primaire ou d'alumine","Aluminium primaire","Méthode du bilan massique",null,"Méthode du bilan massique, article 25",{"$f":"\"\"","v":""},{"$f":"Translations!$B$493","v":"Valeurs par défaut de type I"},null,{"$f":"Translations!$B$528","v":"Valeurs par défaut de type II :"},{"$f":"Translations!$B$1109","v":"Données d’achat (le cas échéant)"},{"$f":"Translations!$B$527","v":"Analyses de laboratoire"},null,null,null,3,"Aluminium primaire: Méthode du bilan massique",null,"NCV_Aluminium primaire: Méthode du bilan massique",null,null,null,null,null,null,false,null,null,null,null,null,null,null,null,null,null,null,1,"",1,{"$f":"Translations!$B$1109","v":"Données d’achat (le cas échéant)"},2]
[60,"Production d'aluminium primaire ou d'alumine","Aluminium primaire","Émissions de PFC (méthode des pentes)",null,"Calcul avec dispositions spéciales pour les PFC (annexe IV section 8)",{"$f":"EUconst_NA","v":"s.o."},null,null,null,null,null,null,null,null,"s.o.","Aluminium primaire: Émissions de PFC (méthode des pentes)",null,"NCV_Aluminium primaire: Émissions de PFC (méthode des pentes)",null,null,null,null,null,null,true,null,null,null,null,null,null,null,null,null,null,null,"","","","",""]
[61,{"$f":"B397","v":"Production d'aluminium primaire ou d'alumine"},"Aluminium primaire","Émissions de PFC (méthode de la surtension)",null,"Calcul avec dispositions spéciales pour les PFC (annexe IV section 8)","s.o.",null,null,null,null,null,null,null,null,"s.o.","Aluminium primaire: Émissions de PFC (méthode de la surtension)",null,"NCV_Aluminium primaire: Émissions de PFC (méthode de la surtension)",null,null,null,null,null,null,{"$f":"IF(G469=EUconst_NA,TRUE,FALSE)","v":true},null,null,null,null,null,null,null,null,null,null,null,"","","","",""]
[62,"Captage des gaz à effet de serre au titre de la directive 2009/31/CE","CCS: Capture","CO2 transferred",null,{"$f":"F398","v":"Méthode du bilan massique, article 25"},"s.o.",null,null,null,null,null,null,null,null,{"$f":"IF(G470=EUconst_NA,EUconst_NA,IF(ISBLANK(J470),COUNTA(H470:O470),COUNTA(H470,J470,L470)))","v":"s.o."},{"$f":"C470 & \": \" &D470","v":"CCS: Capture: CO2 transferred"},null,{"$f":"EUconst_CNTR_NCV&Q470","v":"NCV_CCS: Capture: CO2 transferred"},null,null,null,null,null,null,true]
[63,"Transport de gaz à effet de serre au titre de la directive 2009/31/CE","CCS: Transport","CO2 transferred",null,"Méthode du bilan massique, article 25","s.o.",null,null,null,null,null,null,null,null,"s.o.","CCS: Transport: CO2 transferred",null,"NCV_CCS: Transport: CO2 transferred",null,null,null,null,null,null,true]
[64,"Transport de gaz à effet de serre au titre de la directive 2009/31/CE","CCS: Transport","CO2 vented",null,"Méthode standard: Procédé, article 24, paragraphe 2","s.o.",null,null,null,null,null,null,null,null,"s.o.","CCS: Transport: CO2 vented",null,"NCV_CCS: Transport: CO2 vented",null,null,null,null,null,null,true]
[65,"Transport de gaz à effet de serre au titre de la directive 2009/31/CE","CCS: Transport","CO2 leaked",null,"Méthode standard: Procédé, article 24, paragraphe 2","s.o.",null,null,null,null,null,null,null,null,"s.o.","CCS: Transport: CO2 leaked",null,"NCV_CCS: Transport: CO2 leaked",null,null,null,null,null,null,true]
[66,"Transport de gaz à effet de serre au titre de la directive 2009/31/CE","CCS: Transport","CO2 fugitive",null,"Méthode standard: Procédé, article 24, paragraphe 2","s.o.",null,null,null,null,null,null,null,null,"s.o.","CCS: Transport: CO2 fugitive",null,"NCV_CCS: Transport: CO2 fugitive",null,null,null,null,null,null,true]
[67,"Stockage des gaz à effet de serre dans le cadre de la directive 2009/31/CE","CCS: Storage","CO2 transferred",null,"Méthode du bilan massique, article 25","s.o.",null,null,null,null,null,null,null,null,"s.o.","CCS: Storage: CO2 transferred",null,"NCV_CCS: Storage: CO2 transferred",null,null,null,null,null,null,true]
[68,"Stockage des gaz à effet de serre dans le cadre de la directive 2009/31/CE","CCS: Storage","CO2 vented",null,"Méthode standard: Procédé, article 24, paragraphe 2","s.o.",null,null,null,null,null,null,null,null,"s.o.","CCS: Storage: CO2 vented",null,"NCV_CCS: Storage: CO2 vented",null,null,null,null,null,null,true]
[69,"Stockage des gaz à effet de serre dans le cadre de la directive 2009/31/CE","CCS: Storage","CO2 leaked",null,"Méthode standard: Procédé, article 24, paragraphe 2","s.o.",null,null,null,null,null,null,null,null,"s.o.","CCS: Storage: CO2 leaked",null,"NCV_CCS: Storage: CO2 leaked",null,null,null,null,null,null,true]
[70,"Stockage des gaz à effet de serre dans le cadre de la directive 2009/31/CE","CCS: Storage","CO2 fugitive",null,"Méthode standard: Procédé, article 24, paragraphe 2","s.o.",null,null,null,null,null,null,null,null,"s.o.","CCS: Storage: CO2 fugitive",null,"NCV_CCS: Storage: CO2 fugitive",null,null,null,null,null,null,true]
[null,null,null,null,null,null,null,null,null,null,null,null,null,null,null,null,null,null,null,null,null,null,null,null,null,false]
["NEW",{"$f":"Translations!$B$524","v":"Teneur en carbone"},{"$f":"Translations!$B$957","v":"Intitulé abrégé"},{"$f":"Translations!$B$958","v":"Sous-activité"},{"$f":"Translations!$B$389","v":"Paramètre"},{"$f":"Translations!$B$959","v":"Type de source"},{"$f":"Translations!$B$960","v":"Minimum"},1,2,"2a",{"$f":"Translations!$B$928","v":"2b"},3,"3a","3b",4,{"$f":"Translations!$B$961","v":"Maximum"},null,null,null,null,null,null,null,null,null,{"$f":"Translations!$B$962","v":"Griser ?"},null,null,null,null,null,null,null,null,null,null,"1=default value, 2=lab",1,2,"2a",{"$f":"Translations!$B$928","v":"2b"},3]
[1,{"$f":"B409","v":"Combustion de combustibles"},"Combustion","Combustibles marchands ordinaires",null,{"$f":"F409","v":"Méthode standard: Combustible, article 24, paragraphe 1"},{"$f":"EUconst_NA","v":"s.o."},null,null,null,null,null,null,null,null,{"$f":"G481","v":"s.o."},{"$f":"C481 & \": \" &D481","v":"Combustion: Combustibles marchands ordinaires"},null,{"$f":"EUconst_CNTR_CarbonContent&Q481","v":"CarbC_Combustion: Combustibles marchands ordinaires"},null,null,null,null,null,null,{"$f":"IF(G481=EUconst_NA,TRUE,FALSE)","v":true},null,null,null,null,null,null,null,null,null,null,null,"","","","",""]
[2,"Combustion de combustibles","Combustion","Autres combustibles gazeux & liquides",null,"Méthode standard: Combustible, article 24, paragraphe 1",{"$f":"EUconst_NA","v":"s.o."},null,null,null,null,null,null,null,null,{"$f":"IF(G482=EUconst_NA,EUconst_NA,IF(ISBLANK(J482),COUNTA(H482:O482),COUNTA(H482,J482,L482)))","v":"s.o."},{"$f":"C482 & \": \" &D482","v":"Combustion: Autres combustibles gazeux & liquides"},null,"CarbC_Combustion: Autres combustibles gazeux & liquides",null,null,null,null,null,null,true,null,null,null,null,null,null,null,null,null,null,null,"","","","",""]
[3,"Combustion de combustibles","Combustion","Combustibles solides, hors déchets",null,"Méthode standard: Combustible, article 24, paragraphe 1",{"$f":"EUconst_NA","v":"s.o."},null,null,null,null,null,null,null,null,"s.o.","Combustion: Combustibles solides, hors déchets",null,"CarbC_Combustion: Combustibles solides, hors déchets",null,null,null,null,null,null,true,null,null,null,null,null,null,null,null,null,null,null,"","","","",""]
[4,"Combustion de combustibles","Combustion","Déchets",null,"Méthode standard: Combustible, article 24, paragraphe 1",{"$f":"EUconst_NA","v":"s.o."},null,null,null,null,null,null,null,null,{"$f":"IF(G484=EUconst_NA,EUconst_NA,IF(ISBLANK(J484),COUNTA(H484:O484),COUNTA(H484,J484,L484)))","v":"s.o."},{"$f":"C484 & \": \" &D484","v":"Combustion: Déchets"},null,{"$f":"EUconst_CNTR_CarbonContent&Q484","v":"CarbC_Combustion: Déchets"},null,null,null,null,null,null,{"$f":"IF(G484=EUconst_NA,TRUE,FALSE)","v":true},null,null,null,null,null,null,null,null,null,null,null,"","","","",""]
[5,"Combustion de combustibles","Combustion","Terminaux de traitement du gaz",null,"Méthode du bilan massique, article 25",1,{"$f":"Translations!$B$493","v":"Valeurs par défaut de type I"},null,{"$f":"Translations!$B$528","v":"Valeurs par défaut de type II :"},{"$f":"Translations!$B$1061","v":"Variables représentatives (le cas échéant)"},{"$f":"Translations!$B$527","v":"Analyses de laboratoire"},null,null,null,3,"Combustion: Terminaux de traitement du gaz",null,"CarbC_Combustion: Terminaux de traitement du gaz",null,null,null,null,null,null,false,null,null,null,null,null,null,null,null,null,null,null,1,"",1,2,2]
[6,"Combustion de combustibles","Combustion","Torchères",null,"Méthode standard: Combustible, article 24, paragraphe 1",{"$f":"EUconst_NA","v":"s.o."},null,null,null,null,null,null,null,null,"s.o.","Combustion: Torchères",null,"CarbC_Combustion: Torchères",null,null,null,null,null,null,true,null,null,null,null,null,null,null,null,null,null,null,"","","","",""]
[7,"Combustion de combustibles","Combustion","Épuration (carbonate)",null,"Méthode standard: Procédé, article 24, paragraphe 2",{"$f":"EUconst_NA","v":"s.o."},null,null,null,null,null,null,null,null,"s.o.","Combustion: Épuration (carbonate)",null,"CarbC_Combustion: Épuration (carbonate)",null,null,null,null,null,null,true,null,null,null,null,null,null,null,null,null,null,null,"","","","",""]
[8,"Combustion de combustibles","Combustion","Épuration (gypse)",null,"Méthode standard: Procédé, article 24, paragraphe 2",{"$f":"EUconst_NA","v":"s.o."},null,null,null,null,null,null,null,null,"s.o.","Combustion: Épuration (gypse)",null,"CarbC_Combustion: Épuration (gypse)",null,null,null,null,null,null,true,null,null,null,null,null,null,null,null,null,null,null,"","","","",""]
[9,"Combustion de combustibles","Combustion","Épuration (urée)",null,"Méthode standard: Procédé, article 24, paragraphe 2",{"$f":"EUconst_NA","v":"s.o."},null,null,null,null,null,null,null,null,"s.o.","Combustion: Épuration (urée)",null,"CarbC_Combustion: Épuration (urée)",null,null,null,null,null,null,true,null,null,null,null,null,null,null,null,null,null,null,"","","","",""]
[10,"Raffinage d'huile","Raffineries","Bilan massique",null,"Méthode du bilan massique, article 25","2a/2b",{"$f":"Translations!$B$493","v":"Valeurs par défaut de type I"},null,{"$f":"Translations!$B$528","v":"Valeurs par défaut de type II :"},{"$f":"Translations!$B$1061","v":"Variables représentatives (le cas échéant)"},{"$f":"Translations!$B$527","v":"Analyses de laboratoire"},null,null,null,3,"Raffineries: Bilan massique",null,"CarbC_Raffineries: Bilan massique",null,null,null,null,null,null,false,null,null,null,null,null,null,null,null,null,null,null,1,"",1,2,2]
[11,"Raffinage de pétrole ","Raffineries","Régénération des catalyseurs de craquage catalytique",null,"Méthode du bilan massique, article 25",{"$f":"EUconst_NA","v":"s.o."},null,null,null,null,null,null,null,null,"s.o.","Raffineries: Régénération des catalyseurs de craquage catalytique",null,"CarbC_Raffineries: Régénération des catalyseurs de craquage catalytique",null,null,null,null,null,null,true,null,null,null,null,null,null,null,null,null,null,null,"","","","",""]
[12,"Raffinage de pétrole ","Raffineries","Production d'hydrogène",null,"Méthode du bilan massique, article 25","2a/2b",{"$f":"Translations!$B$493","v":"Valeurs par défaut de type I"},null,{"$f":"Translations!$B$528","v":"Valeurs par défaut de type II :"},{"$f":"Translations!$B$1061","v":"Variables représentatives (le cas échéant)"},{"$f":"Translations!$B$527","v":"Analyses de laboratoire"},null,null,null,3,"Raffineries: Production d'hydrogène",null,"CarbC_Raffineries: Production d'hydrogène",null,null,null,null,null,null,false,null,null,null,null,null,null,null,null,null,null,null,1,"",1,2,2]
[13,"Production de coke","Coke","Combustible employé pour alimenter le procédé",null,"Méthode standard: Combustible, article 24, paragraphe 1","s.o.",null,null,null,null,null,null,null,null,{"$f":"IF(G493=EUconst_NA,EUconst_NA,IF(ISBLANK(J493),COUNTA(H493:O493),COUNTA(H493,J493,L493)))","v":"s.o."},"Coke: Combustible employé pour alimenter le procédé",null,"CarbC_Coke: Combustible employé pour alimenter le procédé",null,null,null,null,null,null,true,null,null,null,null,null,null,null,null,null,null,null,"","","","",""]
[14,"Production de coke","Coke","Procédé (méthode A): uniquement carbonates",null,"Méthode standard: Procédé, article 24, paragraphe 2","s.o.",null,null,null,null,null,null,null,null,{"$f":"IF(G494=EUconst_NA,EUconst_NA,IF(ISBLANK(J494),COUNTA(H494:O494),COUNTA(H494,J494,L494)))","v":"s.o."},"Coke: Procédé (méthode A): uniquement carbonates",null,"CarbC_Coke: Procédé (méthode A): uniquement carbonates",null,null,null,null,null,null,true,null,null,null,null,null,null,null,null,null,null,null,"","","","",""]
[15,"Production de coke","Coke","Procédé (méthode A): mélange (carbonates + autres que carbonates)",null,"Méthode standard: Procédé, article 24, paragraphe 2","s.o.",null,null,null,null,null,null,null,null,{"$f":"IF(G495=EUconst_NA,EUconst_NA,IF(ISBLANK(J495),COUNTA(H495:O495),COUNTA(H495,J495,L495)))","v":"s.o."},"Coke: Procédé (méthode A): mélange (carbonates + autres que carbonates)",null,"CarbC_Coke: Procédé (méthode A): mélange (carbonates + autres que carbonates)",null,null,null,null,null,null,true,null,null,null,null,null,null,null,null,null,null,null,"","","","",""]
[16,"Production de coke","Coke","Procédé (méthode A): non issu de carbonate",null,"Méthode standard: Procédé, article 24, paragraphe 2","s.o.",null,null,null,null,null,null,null,null,{"$f":"IF(G496=EUconst_NA,EUconst_NA,IF(ISBLANK(J496),COUNTA(H496:O496),COUNTA(H496,J496,L496)))","v":"s.o."},"Coke: Procédé (méthode A): non issu de carbonate",null,"CarbC_Coke: Procédé (méthode A): non issu de carbonate",null,null,null,null,null,null,true,null,null,null,null,null,null,null,null,null,null,null,"","","","",""]
[17,"Production de coke","Coke","Procédé (méthode B): production d’oxydes",null,"Méthode standard: Procédé, article 24, paragraphe 2","s.o.",null,null,null,null,null,null,null,null,{"$f":"IF(G497=EUconst_NA,EUconst_NA,IF(ISBLANK(J497),COUNTA(H497:O497),COUNTA(H497,J497,L497)))","v":"s.o."},"Coke: Procédé (méthode B): production d’oxydes",null,"CarbC_Coke: Procédé (méthode B): production d’oxydes",null,null,null,null,null,null,true,null,null,null,null,null,null,null,null,null,null,null,"","","","",""]
[18,"Production de coke","Coke","Bilan massique",null,"Méthode du bilan massique, article 25","2a/2b",{"$f":"Translations!$B$493","v":"Valeurs par défaut de type I"},null,{"$f":"Translations!$B$528","v":"Valeurs par défaut de type II :"},{"$f":"Translations!$B$1061","v":"Variables représentatives (le cas échéant)"},{"$f":"Translations!$B$527","v":"Analyses de laboratoire"},null,null,null,{"$f":"IF(G498=EUconst_NA,EUconst_NA,IF(ISBLANK(J498),COUNTA(H498:O498),COUNTA(H498,J498,L498)))","v":3},"Coke: Bilan massique",null,"CarbC_Coke: Bilan massique",null,null,null,null,null,null,false,null,null,null,null,null,null,null,null,null,null,null,1,"",1,2,2]
[19,"Grillage ou frittage de minerai métallique","Minerai de métaux","Procédé (méthode A): uniquement carbonates",null,"Méthode standard: Procédé, article 24, paragraphe 2",{"$f":"EUconst_NA","v":"s.o."},null,null,null,null,null,null,null,null,"s.o.","Minerai de métaux: Procédé (méthode A): uniquement carbonates",null,"CarbC_Minerai de métaux: Procédé (méthode A): uniquement carbonates",null,null,null,null,null,null,true,null,null,null,null,null,null,null,null,null,null,null,"","","","",""]
[20,"Grillage ou frittage de minerai métallique","Minerai de métaux","Procédé (méthode A): mélange (carbonates + autres que carbonates)",null,"Méthode standard: Procédé, article 24, paragraphe 2",{"$f":"EUconst_NA","v":"s.o."},null,null,null,null,null,null,null,null,"s.o.","Minerai de métaux: Procédé (méthode A): mélange (carbonates + autres que carbonates)",null,"CarbC_Minerai de métaux: Procédé (méthode A): mélange (carbonates + autres que carbonates)",null,null,null,null,null,null,true,null,null,null,null,null,null,null,null,null,null,null,1,"",1,2,2]
[21,{"$f":"B429","v":"Grillage ou frittage de minerai métallique"},"Minerai de métaux","Procédé (méthode A): non issu de carbonate",null,"Méthode standard: Procédé, article 24, paragraphe 2",{"$f":"EUconst_NA","v":"s.o."},null,null,null,null,null,null,null,null,"s.o.","Minerai de métaux: Procédé (méthode A): non issu de carbonate",null,"CarbC_Minerai de métaux: Procédé (méthode A): non issu de carbonate",null,null,null,null,null,null,true,null,null,null,null,null,null,null,null,null,null,null,"","","","",""]
[22,"Grillage ou frittage de minerai métallique","Minerai de métaux","Procédé (méthode B): production d’oxydes",null,"Méthode standard: Procédé, article 24, paragraphe 2",{"$f":"EUconst_NA","v":"s.o."},null,null,null,null,null,null,null,null,"s.o.","Minerai de métaux: Procédé (méthode B): production d’oxydes",null,"CarbC_Minerai de métaux: Procédé (méthode B): production d’oxydes",null,null,null,null,null,null,true,null,null,null,null,null,null,null,null,null,null,null,"","","","",""]
[23,"Grillage ou frittage de minerai métallique","Minerai de métaux","Bilan massique",null,"Méthode du bilan massique, article 25","2a/2b",{"$f":"Translations!$B$493","v":"Valeurs par défaut de type I"},null,{"$f":"Translations!$B$528","v":"Valeurs par défaut de type II :"},{"$f":"Translations!$B$1061","v":"Variables représentatives (le cas échéant)"},{"$f":"Translations!$B$527","v":"Analyses de laboratoire"},null,null,null,3,"Minerai de métaux: Bilan massique",null,"CarbC_Minerai de métaux: Bilan massique",null,null,null,null,null,null,false,null,null,null,null,null,null,null,null,null,null,null,1,"",1,2,2]
[24,"Production de fer ou d'acier","Sidérurgie","Combustible employé pour alimenter le procédé",null,"Méthode standard: Combustible, article 24, paragraphe 1",{"$f":"EUconst_NA","v":"s.o."},null,null,null,null,null,null,null,null,"s.o.","Sidérurgie: Combustible employé pour alimenter le procédé",null,"CarbC_Sidérurgie: Combustible employé pour alimenter le procédé",null,null,null,null,null,null,true,null,null,null,null,null,null,null,null,null,null,null,"","","","",""]
[25,"Production de fer ou d'acier","Sidérurgie","Procédé (méthode A): uniquement carbonates",null,"Méthode standard: Procédé, article 24, paragraphe 2",{"$f":"EUconst_NA","v":"s.o."},null,null,null,null,null,null,null,null,"s.o.","Sidérurgie: Procédé (méthode A): uniquement carbonates",null,"CarbC_Sidérurgie: Procédé (méthode A): uniquement carbonates",null,null,null,null,null,null,true,null,null,null,null,null,null,null,null,null,null,null,"","","","",""]
[26,"Production de fer ou d'acier","Sidérurgie","Procédé (méthode A): mélange (carbonates + autres que carbonates)",null,"Méthode standard: Procédé, article 24, paragraphe 2",{"$f":"EUconst_NA","v":"s.o."},null,null,null,null,null,null,null,null,"s.o.","Sidérurgie: Procédé (méthode A): mélange (carbonates + autres que carbonates)",null,"CarbC_Sidérurgie: Procédé (méthode A): mélange (carbonates + autres que carbonates)",null,null,null,null,null,null,true,null,null,null,null,null,null,null,null,null,null,null,"","","","",""]
[27,"Production de fer ou d'acier","Sidérurgie","Procédé (méthode A): non issu de carbonate",null,"Méthode standard: Procédé, article 24, paragraphe 2",{"$f":"EUconst_NA","v":"s.o."},null,null,null,null,null,null,null,null,"s.o.","Sidérurgie: Procédé (méthode A): non issu de carbonate",null,"CarbC_Sidérurgie: Procédé (méthode A): non issu de carbonate",null,null,null,null,null,null,true,null,null,null,null,null,null,null,null,null,null,null,"","","","",""]
[28,"Production de fer ou d'acier","Sidérurgie","Procédé (méthode B): production d’oxydes",null,"Méthode standard: Procédé, article 24, paragraphe 2",{"$f":"EUconst_NA","v":"s.o."},null,null,null,null,null,null,null,null,"s.o.","Sidérurgie: Procédé (méthode B): production d’oxydes",null,"CarbC_Sidérurgie: Procédé (méthode B): production d’oxydes",null,null,null,null,null,null,true,null,null,null,null,null,null,null,null,null,null,null,"","","","",""]
[29,"Production de fer ou d'acier","Sidérurgie","Bilan massique",null,"Méthode du bilan massique, article 25","2a/2b",{"$f":"Translations!$B$493","v":"Valeurs par défaut de type I"},null,{"$f":"Translations!$B$528","v":"Valeurs par défaut de type II :"},{"$f":"Translations!$B$1061","v":"Variables représentatives (le cas échéant)"},{"$f":"Translations!$B$527","v":"Analyses de laboratoire"},null,null,null,3,"Sidérurgie: Bilan massique",null,"CarbC_Sidérurgie: Bilan massique",null,null,null,null,null,null,false,null,null,null,null,null,null,null,null,null,null,null,1,"",1,2,2]
[30,"Production de clinker","Clinker","D'après la charge du four (méthode A)",null,"Méthode standard: Procédé, article 24, paragraphe 2",{"$f":"EUconst_NA","v":"s.o."},null,null,null,null,null,null,null,null,{"$f":"IF(G510=EUconst_NA,EUconst_NA,IF(ISBLANK(J510),COUNTA(H510:O510),COUNTA(H510,J510,L510)))","v":"s.o."},"Clinker: D'après la charge du four (méthode A)",null,"CarbC_Clinker: D'après la charge du four (méthode A)",null,null,null,null,null,null,true,null,null,null,null,null,null,null,null,null,null,null,"","","","",""]
[31,"Production de clinker","Clinker","Quantité de clinker produite (méthode B)",null,"Méthode standard: Procédé, article 24, paragraphe 2","s.o.",null,null,null,null,null,null,null,null,"s.o.","Clinker: Quantité de clinker produite (méthode B)",null,"CarbC_Clinker: Quantité de clinker produite (méthode B)",null,null,null,null,null,null,true,null,null,null,null,null,null,null,null,null,null,null,"","","","",""]
[32,"Production de clinker","Clinker","Poussières des fours à ciment",null,"Méthode standard: Procédé, article 24, paragraphe 2","s.o.",null,null,null,null,null,null,null,null,"s.o.","Clinker: Poussières des fours à ciment",null,"CarbC_Clinker: Poussières des fours à ciment",null,null,null,null,null,null,true,null,null,null,null,null,null,null,null,null,null,null,"","","","",""]
[33,"Production de clinker","Clinker","Carbone non issu de carbonates",null,{"$f":"F441","v":"Méthode standard: Procédé, article 24, paragraphe 2"},"s.o.",null,null,null,null,null,null,null,null,"s.o.","Clinker: Carbone non issu de carbonates",null,"CarbC_Clinker: Carbone non issu de carbonates",null,null,null,null,null,null,true,null,null,null,null,null,null,null,null,null,null,null,"","","","",""]
[34,"Production de chaux ou calcination de dolomite/magnésite","Chaux / dolomite / magnésite","Procédé (méthode A): uniquement carbonates",null,"Méthode standard: Procédé, article 24, paragraphe 2","s.o.",null,null,null,null,null,null,null,null,"s.o.","Chaux / dolomite / magnésite: Procédé (méthode A): uniquement carbonates",null,{"$f":"EUconst_CNTR_CarbonContent&Q514","v":"CarbC_Chaux / dolomite / magnésite: Procédé (méthode A): uniquement carbonates"},null,null,null,null,null,null,true,null,null,null,null,null,null,null,null,null,null,null,"","","","",""]
[35,"Production de chaux ou calcination de dolomite/magnésite","Chaux / dolomite / magnésite","Procédé (méthode A): mélange (carbonates + autres que carbonates)",null,"Méthode standard: Procédé, article 24, paragraphe 2","s.o.",null,null,null,null,null,null,null,null,"s.o.","Chaux / dolomite / magnésite: Procédé (méthode A): mélange (carbonates + autres que carbonates)",null,"CarbC_Chaux / dolomite / magnésite: Procédé (méthode A): mélange (carbonates + autres que carbonates)",null,null,null,null,null,null,true,null,null,null,null,null,null,null,null,null,null,null,"","","","",""]
[36,"Production de chaux ou calcination de dolomite/magnésite","Chaux / dolomite / magnésite","Procédé (méthode A): non issu de carbonate",null,"Méthode standard: Procédé, article 24, paragraphe 2","s.o.",null,null,null,null,null,null,null,null,"s.o.","Chaux / dolomite / magnésite: Procédé (méthode A): non issu de carbonate",null,"CarbC_Chaux / dolomite / magnésite: Procédé (méthode A): non issu de carbonate",null,null,null,null,null,null,true,null,null,null,null,null,null,null,null,null,null,null,"","","","",""]
[37,"Production de chaux ou calcination de dolomite/magnésite","Chaux / dolomite / magnésite","Procédé (méthode B): production d’oxydes",null,"Méthode standard: Procédé, article 24, paragraphe 2","s.o.",null,null,null,null,null,null,null,null,"s.o.","Chaux / dolomite / magnésite: Procédé (méthode B): production d’oxydes",null,"CarbC_Chaux / dolomite / magnésite: Procédé (méthode B): production d’oxydes",null,null,null,null,null,null,true,null,null,null,null,null,null,null,null,null,null,null,"","","","",""]
[38,"Production de chaux ou calcination de dolomite/magnésite","Chaux / dolomite / magnésite","Poussières de four (méthode B)",null,"Méthode standard: Procédé, article 24, paragraphe 2","s.o.",null,null,null,null,null,null,null,null,"s.o.","Chaux / dolomite / magnésite: Poussières de four (méthode B)",null,"CarbC_Chaux / dolomite / magnésite: Poussières de four (méthode B)",null,null,null,null,null,null,true,null,null,null,null,null,null,null,null,null,null,null,"","","","",""]
[39,"Fabrication de verre","Verre et laine minérale","Procédé (méthode A): uniquement carbonates",null,"Méthode standard: Procédé, article 24, paragraphe 2","s.o.",null,null,null,null,null,null,null,null,"s.o.","Verre et laine minérale: Procédé (méthode A): uniquement carbonates",null,"CarbC_Verre et laine minérale: Procédé (méthode A): uniquement carbonates",null,null,null,null,null,null,true,null,null,null,null,null,null,null,null,null,null,null,"","","","",""]
[40,"Fabrication de verre","Verre et laine minérale","Procédé (méthode A): mélange (carbonates + autres que carbonates)",null,"Méthode standard: Procédé, article 24, paragraphe 2","s.o.",null,null,null,null,null,null,null,null,"s.o.","Verre et laine minérale: Procédé (méthode A): mélange (carbonates + autres que carbonates)",null,"CarbC_Verre et laine minérale: Procédé (méthode A): mélange (carbonates + autres que carbonates)",null,null,null,null,null,null,true,null,null,null,null,null,null,null,null,null,null,null,"","","","",""]
[41,{"$f":"B449","v":"Fabrication de verre"},"Verre et laine minérale","Procédé (méthode A): non issu de carbonate",null,"Méthode standard: Procédé, article 24, paragraphe 2","s.o.",null,null,null,null,null,null,null,null,"s.o.","Verre et laine minérale: Procédé (méthode A): non issu de carbonate",null,"CarbC_Verre et laine minérale: Procédé (méthode A): non issu de carbonate",null,null,null,null,null,null,true,null,null,null,null,null,null,null,null,null,null,null,"","","","",""]
[42,"Fabrication de produits céramiques","Céramique","Procédé (méthode A): uniquement carbonates",null,"Méthode standard: Procédé, article 24, paragraphe 2","s.o.",null,null,null,null,null,null,null,null,"s.o.","Céramique: Procédé (méthode A): uniquement carbonates",null,"CarbC_Céramique: Procédé (méthode A): uniquement carbonates",null,null,null,null,null,null,true,null,null,null,null,null,null,null,null,null,null,null,"","","","",""]
[43,"Fabrication de produits céramiques","Céramique","Procédé (méthode A): mélange (carbonates + autres que carbonates)",null,"Méthode standard: Procédé, article 24, paragraphe 2","s.o.",null,null,null,null,null,null,null,null,"s.o.","Céramique: Procédé (méthode A): mélange (carbonates + autres que carbonates)",null,"CarbC_Céramique: Procédé (méthode A): mélange (carbonates + autres que carbonates)",null,null,null,null,null,null,true,null,null,null,null,null,null,null,null,null,null,null,"","","","",""]
[44,"Fabrication de produits céramiques","Céramique","Procédé (méthode A): non issu de carbonate",null,"Méthode standard: Procédé, article 24, paragraphe 2","s.o.",null,null,null,null,null,null,null,null,"s.o.","Céramique: Procédé (méthode A): non issu de carbonate",null,"CarbC_Céramique: Procédé (méthode A): non issu de carbonate",null,null,null,null,null,null,true,null,null,null,null,null,null,null,null,null,null,null,"","","","",""]
[45,"Fabrication de produits céramiques","Céramique","Procédé (méthode B): production d’oxydes",null,"Méthode standard: Procédé, article 24, paragraphe 2","s.o.",null,null,null,null,null,null,null,null,"s.o.","Céramique: Procédé (méthode B): production d’oxydes",null,"CarbC_Céramique: Procédé (méthode B): production d’oxydes",null,null,null,null,null,null,true,null,null,null,null,null,null,null,null,null,null,null,"","","","",""]
[46,"Fabrication de produits céramiques","Céramique","Épuration",null,"Méthode standard: Procédé, article 24, paragraphe 2","s.o.",null,null,null,null,null,null,null,null,"s.o.","Céramique: Épuration",null,"CarbC_Céramique: Épuration",null,null,null,null,null,null,true,null,null,null,null,null,null,null,null,null,null,null,"","","","",""]
[47,"Production de pâte à papier","Papier et pâte à papier","Produits chimiques d'appoint",null,"Méthode standard: Procédé, article 24, paragraphe 2","s.o.",null,null,null,null,null,null,null,null,"s.o.","Papier et pâte à papier: Produits chimiques d'appoint",null,"CarbC_Papier et pâte à papier: Produits chimiques d'appoint",null,null,null,null,null,null,true,null,null,null,null,null,null,null,null,null,null,null,"","","","",""]
[48,"Production de noir de carbone","Noir de carbone","Méthode du bilan massique",null,"Méthode du bilan massique, article 25",1,{"$f":"Translations!$B$493","v":"Valeurs par défaut de type I"},null,{"$f":"Translations!$B$528","v":"Valeurs par défaut de type II :"},{"$f":"Translations!$B$1061","v":"Variables représentatives (le cas échéant)"},{"$f":"Translations!$B$527","v":"Analyses de laboratoire"},null,null,null,{"$f":"IF(G528=EUconst_NA,EUconst_NA,IF(ISBLANK(J528),COUNTA(H528:O528),COUNTA(H528,J528,L528)))","v":3},"Noir de carbone: Méthode du bilan massique",null,"CarbC_Noir de carbone: Méthode du bilan massique",null,null,null,null,null,null,false,null,null,null,null,null,null,null,null,null,null,null,1,"",1,2,2]
[49,"Production d'ammoniac","Ammoniac","Combustible employé pour alimenter le procédé",null,"Méthode standard: Combustible, article 24, paragraphe 1",{"$f":"EUconst_NA","v":"s.o."},null,null,null,null,null,null,null,null,"s.o.","Ammoniac: Combustible employé pour alimenter le procédé",null,"CarbC_Ammoniac: Combustible employé pour alimenter le procédé",null,null,null,null,null,null,true,null,null,null,null,null,null,null,null,null,null,null,"","","","",""]
[50,"Production d'hydrogène et de gaz de synthèse","Hydrogène et gaz de synthèse","Combustible employé pour alimenter le procédé",null,"Méthode standard: Combustible, article 24, paragraphe 1",{"$f":"EUconst_NA","v":"s.o."},null,null,null,null,null,null,null,null,"s.o.","Hydrogène et gaz de synthèse: Combustible employé pour alimenter le procédé",null,"CarbC_Hydrogène et gaz de synthèse: Combustible employé pour alimenter le procédé",null,null,null,null,null,null,true,null,null,null,null,null,null,null,null,null,null,null,"","","","",""]
[51,"Production d'hydrogène et de gaz de synthèse","Hydrogène et gaz de synthèse","Méthode du bilan massique",null,"Méthode du bilan massique, article 25","2a/2b",{"$f":"Translations!$B$493","v":"Valeurs par défaut de type I"},null,{"$f":"Translations!$B$528","v":"Valeurs par défaut de type II :"},{"$f":"Translations!$B$1061","v":"Variables représentatives (le cas échéant)"},{"$f":"Translations!$B$527","v":"Analyses de laboratoire"},null,null,null,3,"Hydrogène et gaz de synthèse: Méthode du bilan massique",null,"CarbC_Hydrogène et gaz de synthèse: Méthode du bilan massique",null,null,null,null,null,null,false,null,null,null,null,null,null,null,null,null,null,null,1,"",1,2,2]
[52,"Production de produits chimiques en vrac","Produits chimiques organiques de base","Méthode du bilan massique",null,"Méthode du bilan massique, article 25","2a/2b",{"$f":"Translations!$B$493","v":"Valeurs par défaut de type I"},null,{"$f":"Translations!$B$528","v":"Valeurs par défaut de type II :"},{"$f":"Translations!$B$1061","v":"Variables représentatives (le cas échéant)"},{"$f":"Translations!$B$527","v":"Analyses de laboratoire"},null,null,null,3,"Produits chimiques organiques de base: Méthode du bilan massique",null,"CarbC_Produits chimiques organiques de base: Méthode du bilan massique",null,null,null,null,null,null,false,null,null,null,null,null,null,null,null,null,null,null,1,"",1,2,2]
[53,"Production ou transformation de métaux ferreux","Aluminium secondaire, (non) ferreux","Procédé (méthode A): uniquement carbonates",null,"Méthode standard: Procédé, article 24, paragraphe 2",{"$f":"EUconst_NA","v":"s.o."},null,null,null,null,null,null,null,null,"s.o.","Aluminium secondaire, (non) ferreux: Procédé (méthode A): uniquement carbonates",null,"CarbC_Aluminium secondaire, (non) ferreux: Procédé (méthode A): uniquement carbonates",null,null,null,null,null,null,true,null,null,null,null,null,null,null,null,null,null,null,"","","","",""]
[54,"Production ou transformation de métaux ferreux","Aluminium secondaire, (non) ferreux","Procédé (méthode A): mélange (carbonates + autres que carbonates)",null,"Méthode standard: Procédé, article 24, paragraphe 2",{"$f":"EUconst_NA","v":"s.o."},null,null,null,null,null,null,null,null,"s.o.","Aluminium secondaire, (non) ferreux: Procédé (méthode A): mélange (carbonates + autres que carbonates)",null,"CarbC_Aluminium secondaire, (non) ferreux: Procédé (méthode A): mélange (carbonates + autres que carbonates)",null,null,null,null,null,null,true,null,null,null,null,null,null,null,null,null,null,null,"","","","",""]
[55,"Production ou transformation de métaux ferreux","Aluminium secondaire, (non) ferreux","Procédé (méthode A): non issu de carbonate",null,"Méthode standard: Procédé, article 24, paragraphe 2",{"$f":"EUconst_NA","v":"s.o."},null,null,null,null,null,null,null,null,"s.o.","Aluminium secondaire, (non) ferreux: Procédé (méthode A): non issu de carbonate",null,"CarbC_Aluminium secondaire, (non) ferreux: Procédé (méthode A): non issu de carbonate",null,null,null,null,null,null,true,null,null,null,null,null,null,null,null,null,null,null,"","","","",""]
[56,"Production ou transformation de métaux ferreux","Aluminium secondaire, (non) ferreux","Procédé (méthode B): production d’oxydes",null,"Méthode standard: Procédé, article 24, paragraphe 2",{"$f":"EUconst_NA","v":"s.o."},null,null,null,null,null,null,null,null,"s.o.","Aluminium secondaire, (non) ferreux: Procédé (méthode B): production d’oxydes",null,"CarbC_Aluminium secondaire, (non) ferreux: Procédé (méthode B): production d’oxydes",null,null,null,null,null,null,true,null,null,null,null,null,null,null,null,null,null,null,"","","","",""]
[57,"Production ou transformation de métaux ferreux","Aluminium secondaire, (non) ferreux","Méthode du bilan massique",null,"Méthode du bilan massique, article 25","2a/2b",{"$f":"Translations!$B$493","v":"Valeurs par défaut de type I"},null,{"$f":"Translations!$B$528","v":"Valeurs par défaut de type II :"},{"$f":"Translations!$B$1061","v":"Variables représentatives (le cas échéant)"},{"$f":"Translations!$B$527","v":"Analyses de laboratoire"},null,null,null,3,"Aluminium secondaire, (non) ferreux: Méthode du bilan massique",null,"CarbC_Aluminium secondaire, (non) ferreux: Méthode du bilan massique",null,null,null,null,null,null,false,null,null,null,null,null,null,null,null,null,null,null,1,"",1,2,2]
[58,"Production de carbonate de sodium et de bicarbonate de sodium","Soude / bicarbonate de sodium","Méthode du bilan massique",null,"Méthode du bilan massique, article 25","2a/2b",{"$f":"Translations!$B$493","v":"Valeurs par défaut de type I"},null,{"$f":"Translations!$B$528","v":"Valeurs par défaut de type II :"},{"$f":"Translations!$B$1061","v":"Variables représentatives (le cas échéant)"},{"$f":"Translations!$B$527","v":"Analyses de laboratoire"},null,null,null,3,"Soude / bicarbonate de sodium: Méthode du bilan massique",null,"CarbC_Soude / bicarbonate de sodium: Méthode du bilan massique",null,null,null,null,null,null,false,null,null,null,null,null,null,null,null,null,null,null,1,"",1,2,2]
[59,"Production d'aluminium primaire ou d'alumine","Aluminium primaire","Méthode du bilan massique",null,"Méthode du bilan massique, article 25","2a/2b",{"$f":"Translations!$B$493","v":"Valeurs par défaut de type I"},null,{"$f":"Translations!$B$528","v":"Valeurs par défaut de type II :"},{"$f":"Translations!$B$1061","v":"Variables représentatives (le cas échéant)"},{"$f":"Translations!$B$527","v":"Analyses de laboratoire"},null,null,null,3,"Aluminium primaire: Méthode du bilan massique",null,"CarbC_Aluminium primaire: Méthode du bilan massique",null,null,null,null,null,null,false,null,null,null,null,null,null,null,null,null,null,null,1,"",1,2,2]
[60,"Production d'aluminium primaire ou d'alumine","Aluminium primaire","Émissions de PFC (méthode des pentes)",null,"Calcul avec dispositions spéciales pour les PFC (annexe IV section 8)",{"$f":"EUconst_NA","v":"s.o."},null,null,null,null,null,null,null,null,"s.o.","Aluminium primaire: Émissions de PFC (méthode des pentes)",null,"CarbC_Aluminium primaire: Émissions de PFC (méthode des pentes)",null,null,null,null,null,null,true,null,null,null,null,null,null,null,null,null,null,null,"","","","",""]
[61,{"$f":"B469","v":"Production d'aluminium primaire ou d'alumine"},"Aluminium primaire","Émissions de PFC (méthode de la surtension)",null,"Calcul avec dispositions spéciales pour les PFC (annexe IV section 8)",{"$f":"EUconst_NA","v":"s.o."},null,null,null,null,null,null,null,null,"s.o.","Aluminium primaire: Émissions de PFC (méthode de la surtension)",null,"CarbC_Aluminium primaire: Émissions de PFC (méthode de la surtension)",null,null,null,null,null,null,{"$f":"IF(G541=EUconst_NA,TRUE,FALSE)","v":true},null,null,null,null,null,null,null,null,null,null,null,"","","","",""]
[62,"Captage des gaz à effet de serre au titre de la directive 2009/31/CE","CCS: Capture","CO2 transferred",null,{"$f":"F470","v":"Méthode du bilan massique, article 25"},2,{"$f":"Translations!$B$493","v":"Valeurs par défaut de type I"},null,{"$f":"Translations!$B$528","v":"Valeurs par défaut de type II :"},{"$f":"Translations!$B$1061","v":"Variables représentatives (le cas échéant)"},{"$f":"Translations!$B$527","v":"Analyses de laboratoire"},null,null,null,{"$f":"IF(G542=EUconst_NA,EUconst_NA,IF(ISBLANK(J542),COUNTA(H542:O542),COUNTA(H542,J542,L542)))","v":3},{"$f":"C542 & \": \" &D542","v":"CCS: Capture: CO2 transferred"},null,{"$f":"EUconst_CNTR_CarbonContent&Q542","v":"CarbC_CCS: Capture: CO2 transferred"},null,null,null,null,null,null,false,null,null,null,null,null,null,null,null,null,null,null,1,"",1,2,2]
[63,"Transport de gaz à effet de serre au titre de la directive 2009/31/CE","CCS: Transport","CO2 transferred",null,"Méthode du bilan massique, article 25",2,{"$f":"Translations!$B$493","v":"Valeurs par défaut de type I"},null,{"$f":"Translations!$B$528","v":"Valeurs par défaut de type II :"},{"$f":"Translations!$B$1061","v":"Variables représentatives (le cas échéant)"},{"$f":"Translations!$B$527","v":"Analyses de laboratoire"},null,null,null,3,"CCS: Transport: CO2 transferred",null,"CarbC_CCS: Transport: CO2 transferred",null,null,null,null,null,null,false,null,null,null,null,null,null,null,null,null,null,null,1,"",1,2,2]
[64,"Transport de gaz à effet de serre au titre de la directive 2009/31/CE","CCS: Transport","CO2 vented",null,"Méthode standard: Procédé, article 24, paragraphe 2",{"$f":"EUconst_NA","v":"s.o."},null,null,null,null,null,null,null,null,"s.o.","CCS: Transport: CO2 vented",null,"CarbC_CCS: Transport: CO2 vented",null,null,null,null,null,null,true]
[65,"Transport de gaz à effet de serre au titre de la directive 2009/31/CE","CCS: Transport","CO2 leaked",null,"Méthode standard: Procédé, article 24, paragraphe 2",{"$f":"EUconst_NA","v":"s.o."},null,null,null,null,null,null,null,null,"s.o.","CCS: Transport: CO2 leaked",null,"CarbC_CCS: Transport: CO2 leaked",null,null,null,null,null,null,true]
[66,"Transport de gaz à effet de serre au titre de la directive 2009/31/CE","CCS: Transport","CO2 fugitive",null,"Méthode standard: Procédé, article 24, paragraphe 2",{"$f":"EUconst_NA","v":"s.o."},null,null,null,null,null,null,null,null,"s.o.","CCS: Transport: CO2 fugitive",null,"CarbC_CCS: Transport: CO2 fugitive",null,null,null,null,null,null,true]
[67,"Stockage des gaz à effet de serre dans le cadre de la directive 2009/31/CE","CCS: Storage","CO2 transferred",null,"Méthode du bilan massique, article 25",2,{"$f":"Translations!$B$493","v":"Valeurs par défaut de type I"},null,{"$f":"Translations!$B$528","v":"Valeurs par défaut de type II :"},{"$f":"Translations!$B$1061","v":"Variables représentatives (le cas échéant)"},{"$f":"Translations!$B$527","v":"Analyses de laboratoire"},null,null,null,3,"CCS: Storage: CO2 transferred",null,"CarbC_CCS: Storage: CO2 transferred",null,null,null,null,null,null,false,null,null,null,null,null,null,null,null,null,null,null,1,"",1,2,2]
[68,"Stockage des gaz à effet de serre dans le cadre de la directive 2009/31/CE","CCS: Storage","CO2 vented",null,"Méthode standard: Procédé, article 24, paragraphe 2",{"$f":"EUconst_NA","v":"s.o."},null,null,null,null,null,null,null,null,"s.o.","CCS: Storage: CO2 vented",null,"CarbC_CCS: Storage: CO2 vented",null,null,null,null,null,null,true]
[69,"Stockage des gaz à effet de serre dans le cadre de la directive 2009/31/CE","CCS: Storage","CO2 leaked",null,"Méthode standard: Procédé, article 24, paragraphe 2",{"$f":"EUconst_NA","v":"s.o."},null,null,null,null,null,null,null,null,"s.o.","CCS: Storage: CO2 leaked",null,"CarbC_CCS: Storage: CO2 leaked",null,null,null,null,null,null,true]
[70,"Stockage des gaz à effet de serre dans le cadre de la directive 2009/31/CE","CCS: Storage","CO2 fugitive",null,"Méthode standard: Procédé, article 24, paragraphe 2",{"$f":"EUconst_NA","v":"s.o."},null,null,null,null,null,null,null,null,"s.o.","CCS: Storage: CO2 fugitive",null,"CarbC_CCS: Storage: CO2 fugitive",null,null,null,null,null,null,true]
[null,null,null,null,null,null,null,null,null,null,null,null,null,null,null,null,null,null,null,null,null,null,null,null,null,false]
["NEW",{"$f":"Translations!$B$1265","v":"Fraction issue de la biomasse"},{"$f":"Translations!$B$957","v":"Intitulé abrégé"},{"$f":"Translations!$B$958","v":"Sous-activité"},{"$f":"Translations!$B$389","v":"Paramètre"},{"$f":"Translations!$B$959","v":"Type de source"},{"$f":"Translations!$B$960","v":"Minimum"},1,2,"2a",{"$f":"Translations!$B$928","v":"2b"},3,"3a","3b",4,{"$f":"Translations!$B$961","v":"Maximum"},null,null,null,null,null,null,null,null,null,{"$f":"Translations!$B$962","v":"Griser ?"},null,null,null,null,null,null,null,null,null,null,"1=default value, 2=lab",1,2,"2a",{"$f":"Translations!$B$928","v":"2b"},3,"3a","3b"]
[1,{"$f":"B481","v":"Combustion de combustibles"},"Combustion","Combustibles marchands ordinaires",null,{"$f":"F481","v":"Méthode standard: Combustible, article 24, paragraphe 1"},1,{"$f":"Translations!$B$505","v":"Fraction issue de la biomasse de type I"},{"$f":"Translations!$B$510","v":"Fraction issue de la biomasse de type II"},null,null,null,{"$f":"Translations!$B$1266","v":"Analyse de la fraction issue de la biomasse"},"Mass balance, e.g. in accordance with Article 30(1) of RED II",null,{"$f":"G553","v":1},{"$f":"C553 & \": \" &D553","v":"Combustion: Combustibles marchands ordinaires"},null,{"$f":"EUconst_CNTR_BiomassContent&Q553","v":"BioC_Combustion: Combustibles marchands ordinaires"},null,null,null,null,null,null,{"$f":"IF(G553=EUconst_NA,TRUE,FALSE)","v":false},null,null,null,null,null,null,null,null,null,null,null,1,{"$f":"Translations!$B$510","v":"Fraction issue de la biomasse de type II"},"","",null,2,3]
[2,"Combustion de combustibles","Combustion","Autres combustibles gazeux & liquides",null,"Méthode standard: Combustible, article 24, paragraphe 1",1,{"$f":"Translations!$B$505","v":"Fraction issue de la biomasse de type I"},{"$f":"Translations!$B$510","v":"Fraction issue de la biomasse de type II"},null,null,null,{"$f":"Translations!$B$1266","v":"Analyse de la fraction issue de la biomasse"},"Mass balance, e.g. in accordance with Article 30(1) of RED II",null,3,{"$f":"C554 & \": \" &D554","v":"Combustion: Autres combustibles gazeux & liquides"},null,"BioC_Combustion: Autres combustibles gazeux & liquides",null,null,null,null,null,null,false,null,null,null,null,null,null,null,null,null,null,null,1,{"$f":"Translations!$B$510","v":"Fraction issue de la biomasse de type II"},"","",null,2,3]
[3,"Combustion de combustibles","Combustion","Combustibles solides, hors déchets",null,"Méthode standard: Combustible, article 24, paragraphe 1",1,{"$f":"Translations!$B$505","v":"Fraction issue de la biomasse de type I"},{"$f":"Translations!$B$510","v":"Fraction issue de la biomasse de type II"},null,null,null,{"$f":"Translations!$B$1266","v":"Analyse de la fraction issue de la biomasse"},"Mass balance, e.g. in accordance with Article 30(1) of RED II",null,3,{"$f":"C555 & \": \" &D555","v":"Combustion: Combustibles solides, hors déchets"},null,{"$f":"EUconst_CNTR_BiomassContent&Q555","v":"BioC_Combustion: Combustibles solides, hors déchets"},null,null,null,null,null,null,false,null,null,null,null,null,null,null,null,null,null,null,1,{"$f":"Translations!$B$510","v":"Fraction issue de la biomasse de type II"},"","",null,2,3]
[4,"Combustion de combustibles","Combustion","Déchets",null,"Méthode standard: Combustible, article 24, paragraphe 1",1,{"$f":"Translations!$B$505","v":"Fraction issue de la biomasse de type I"},{"$f":"Translations!$B$510","v":"Fraction issue de la biomasse de type II"},null,null,null,{"$f":"Translations!$B$1266","v":"Analyse de la fraction issue de la biomasse"},"Mass balance, e.g. in accordance with Article 30(1) of RED II",null,3,{"$f":"C556 & \": \" &D556","v":"Combustion: Déchets"},null,{"$f":"EUconst_CNTR_BiomassContent&Q556","v":"BioC_Combustion: Déchets"},null,null,null,null,null,null,{"$f":"IF(G556=EUconst_NA,TRUE,FALSE)","v":false},null,null,null,null,null,null,null,null,null,null,null,1,{"$f":"Translations!$B$510","v":"Fraction issue de la biomasse de type II"},"","",null,2,3]
[5,"Combustion de combustibles","Combustion","Terminaux de traitement du gaz",null,"Méthode du bilan massique, article 25",1,{"$f":"Translations!$B$505","v":"Fraction issue de la biomasse de type I"},{"$f":"Translations!$B$510","v":"Fraction issue de la biomasse de type II"},null,null,null,{"$f":"Translations!$B$1266","v":"Analyse de la fraction issue de la biomasse"},"Mass balance, e.g. in accordance with Article 30(1) of RED II",null,3,{"$f":"C557 & \": \" &D557","v":"Combustion: Terminaux de traitement du gaz"},null,"BioC_Combustion: Terminaux de traitement du gaz",null,null,null,null,null,null,false,null,null,null,null,null,null,null,null,null,null,null,1,{"$f":"Translations!$B$510","v":"Fraction issue de la biomasse de type II"},"","",null,2,3]
[6,"Combustion de combustibles","Combustion","Torchères",null,"Méthode standard: Combustible, article 24, paragraphe 1",1,{"$f":"Translations!$B$505","v":"Fraction issue de la biomasse de type I"},{"$f":"Translations!$B$510","v":"Fraction issue de la biomasse de type II"},null,null,null,{"$f":"Translations!$B$1266","v":"Analyse de la fraction issue de la biomasse"},"Mass balance, e.g. in accordance with Article 30(1) of RED II",null,3,"Combustion: Torchères",null,"BioC_Combustion: Torchères",null,null,null,null,null,null,false,null,null,null,null,null,null,null,null,null,null,null,1,{"$f":"Translations!$B$510","v":"Fraction issue de la biomasse de type II"},"","",null,2,3]
[7,"Combustion de combustibles","Combustion","Épuration (carbonate)",null,"Méthode standard: Procédé, article 24, paragraphe 2",{"$f":"EUconst_NA","v":"s.o."},null,null,null,null,null,null,null,null,{"$f":"IF(G559=EUconst_NA,EUconst_NA,IF(ISBLANK(J559),COUNTA(H559:O559),COUNTA(H559,J559,L559)))","v":"s.o."},"Combustion: Épuration (carbonate)",null,"BioC_Combustion: Épuration (carbonate)",null,null,null,null,null,null,true,null,null,null,null,null,null,null,null,null,null,null,"","","","",null,""]
[8,"Combustion de combustibles","Combustion","Épuration (gypse)",null,"Méthode standard: Procédé, article 24, paragraphe 2",{"$f":"EUconst_NA","v":"s.o."},null,null,null,null,null,null,null,null,{"$f":"IF(G560=EUconst_NA,EUconst_NA,IF(ISBLANK(J560),COUNTA(H560:O560),COUNTA(H560,J560,L560)))","v":"s.o."},"Combustion: Épuration (gypse)",null,"BioC_Combustion: Épuration (gypse)",null,null,null,null,null,null,true,null,null,null,null,null,null,null,null,null,null,null,"","","","",null,""]
[9,"Combustion de combustibles","Combustion","Épuration (urée)",null,"Méthode standard: Procédé, article 24, paragraphe 2",{"$f":"EUconst_NA","v":"s.o."},null,null,null,null,null,null,null,null,{"$f":"IF(G561=EUconst_NA,EUconst_NA,IF(ISBLANK(J561),COUNTA(H561:O561),COUNTA(H561,J561,L561)))","v":"s.o."},"Combustion: Épuration (urée)",null,"BioC_Combustion: Épuration (urée)",null,null,null,null,null,null,true,null,null,null,null,null,null,null,null,null,null,null,"","","","",null,""]
[10,"Raffinage d'huile","Raffineries","Bilan massique",null,"Méthode du bilan massique, article 25",1,{"$f":"Translations!$B$505","v":"Fraction issue de la biomasse de type I"},{"$f":"Translations!$B$510","v":"Fraction issue de la biomasse de type II"},null,null,null,{"$f":"Translations!$B$1266","v":"Analyse de la fraction issue de la biomasse"},"Mass balance, e.g. in accordance with Article 30(1) of RED II",null,3,"Raffineries: Bilan massique",null,"BioC_Raffineries: Bilan massique",null,null,null,null,null,null,false,null,null,null,null,null,null,null,null,null,null,null,1,{"$f":"Translations!$B$510","v":"Fraction issue de la biomasse de type II"},"","",null,2,3]
[11,"Raffinage de pétrole ","Raffineries","Régénération des catalyseurs de craquage catalytique",null,"Méthode du bilan massique, article 25",1,{"$f":"Translations!$B$505","v":"Fraction issue de la biomasse de type I"},{"$f":"Translations!$B$510","v":"Fraction issue de la biomasse de type II"},null,null,null,{"$f":"Translations!$B$1266","v":"Analyse de la fraction issue de la biomasse"},"Mass balance, e.g. in accordance with Article 30(1) of RED II",null,3,"Raffineries: Régénération des catalyseurs de craquage catalytique",null,"BioC_Raffineries: Régénération des catalyseurs de craquage catalytique",null,null,null,null,null,null,false,null,null,null,null,null,null,null,null,null,null,null,1,{"$f":"Translations!$B$510","v":"Fraction issue de la biomasse de type II"},"","",null,2,3]
[12,"Raffinage de pétrole ","Raffineries","Production d'hydrogène",null,"Méthode du bilan massique, article 25",1,{"$f":"Translations!$B$505","v":"Fraction issue de la biomasse de type I"},{"$f":"Translations!$B$510","v":"Fraction issue de la biomasse de type II"},null,null,null,{"$f":"Translations!$B$1266","v":"Analyse de la fraction issue de la biomasse"},"Mass balance, e.g. in accordance with Article 30(1) of RED II",null,3,"Raffineries: Production d'hydrogène",null,"BioC_Raffineries: Production d'hydrogène",null,null,null,null,null,null,false,null,null,null,null,null,null,null,null,null,null,null,1,{"$f":"Translations!$B$510","v":"Fraction issue de la biomasse de type II"},"","",null,2,3]
[13,"Production de coke","Coke","Combustible employé pour alimenter le procédé",null,"Méthode standard: Combustible, article 24, paragraphe 1",1,{"$f":"Translations!$B$505","v":"Fraction issue de la biomasse de type I"},{"$f":"Translations!$B$510","v":"Fraction issue de la biomasse de type II"},null,null,null,{"$f":"Translations!$B$1266","v":"Analyse de la fraction issue de la biomasse"},"Mass balance, e.g. in accordance with Article 30(1) of RED II",null,3,"Coke: Combustible employé pour alimenter le procédé",null,"BioC_Coke: Combustible employé pour alimenter le procédé",null,null,null,null,null,null,false,null,null,null,null,null,null,null,null,null,null,null,1,{"$f":"Translations!$B$510","v":"Fraction issue de la biomasse de type II"},"","",null,2,3]
[14,"Production de coke","Coke","Procédé (méthode A): uniquement carbonates",null,"Méthode standard: Procédé, article 24, paragraphe 2",{"$f":"EUconst_NA","v":"s.o."},null,null,null,null,null,null,null,null,{"$f":"IF(G566=EUconst_NA,EUconst_NA,IF(ISBLANK(J566),COUNTA(H566:O566),COUNTA(H566,J566,L566)))","v":"s.o."},"Coke: Procédé (méthode A): uniquement carbonates",null,"BioC_Coke: Procédé (méthode A): uniquement carbonates",null,null,null,null,null,null,true,null,null,null,null,null,null,null,null,null,null,null,"","","","",null,""]
[15,"Production de coke","Coke","Procédé (méthode A): mélange (carbonates + autres que carbonates)",null,"Méthode standard: Procédé, article 24, paragraphe 2",1,{"$f":"Translations!$B$505","v":"Fraction issue de la biomasse de type I"},{"$f":"Translations!$B$510","v":"Fraction issue de la biomasse de type II"},null,null,null,{"$f":"Translations!$B$1266","v":"Analyse de la fraction issue de la biomasse"},"Mass balance, e.g. in accordance with Article 30(1) of RED II",null,3,"Coke: Procédé (méthode A): mélange (carbonates + autres que carbonates)",null,"BioC_Coke: Procédé (méthode A): mélange (carbonates + autres que carbonates)",null,null,null,null,null,null,false,null,null,null,null,null,null,null,null,null,null,null,1,{"$f":"Translations!$B$510","v":"Fraction issue de la biomasse de type II"},"","",null,2,3]
[16,"Production de coke","Coke","Procédé (méthode A): non issu de carbonate",null,"Méthode standard: Procédé, article 24, paragraphe 2",1,{"$f":"Translations!$B$505","v":"Fraction issue de la biomasse de type I"},{"$f":"Translations!$B$510","v":"Fraction issue de la biomasse de type II"},null,null,null,{"$f":"Translations!$B$1266","v":"Analyse de la fraction issue de la biomasse"},"Mass balance, e.g. in accordance with Article 30(1) of RED II",null,3,"Coke: Procédé (méthode A): non issu de carbonate",null,"BioC_Coke: Procédé (méthode A): non issu de carbonate",null,null,null,null,null,null,false,null,null,null,null,null,null,null,null,null,null,null,1,{"$f":"Translations!$B$510","v":"Fraction issue de la biomasse de type II"},"","",null,2,3]
[17,"Production de coke","Coke","Procédé (méthode B): production d’oxydes",null,"Méthode standard: Procédé, article 24, paragraphe 2",{"$f":"EUconst_NA","v":"s.o."},null,null,null,null,null,null,null,null,{"$f":"IF(G569=EUconst_NA,EUconst_NA,IF(ISBLANK(J569),COUNTA(H569:O569),COUNTA(H569,J569,L569)))","v":"s.o."},"Coke: Procédé (méthode B): production d’oxydes",null,"BioC_Coke: Procédé (méthode B): production d’oxydes",null,null,null,null,null,null,true,null,null,null,null,null,null,null,null,null,null,null,"","","","",null,""]
[18,"Production de coke","Coke","Bilan massique",null,"Méthode du bilan massique, article 25",1,{"$f":"Translations!$B$505","v":"Fraction issue de la biomasse de type I"},{"$f":"Translations!$B$510","v":"Fraction issue de la biomasse de type II"},null,null,null,{"$f":"Translations!$B$1266","v":"Analyse de la fraction issue de la biomasse"},"Mass balance, e.g. in accordance with Article 30(1) of RED II",null,3,"Coke: Bilan massique",null,"BioC_Coke: Bilan massique",null,null,null,null,null,null,false,null,null,null,null,null,null,null,null,null,null,null,1,{"$f":"Translations!$B$510","v":"Fraction issue de la biomasse de type II"},"","",null,2,3]
[19,"Grillage ou frittage de minerai métallique","Minerai de métaux","Procédé (méthode A): uniquement carbonates",null,"Méthode standard: Procédé, article 24, paragraphe 2",{"$f":"EUconst_NA","v":"s.o."},null,null,null,null,null,null,null,null,{"$f":"IF(G571=EUconst_NA,EUconst_NA,IF(ISBLANK(J571),COUNTA(H571:O571),COUNTA(H571,J571,L571)))","v":"s.o."},"Minerai de métaux: Procédé (méthode A): uniquement carbonates",null,"BioC_Minerai de métaux: Procédé (méthode A): uniquement carbonates",null,null,null,null,null,null,true,null,null,null,null,null,null,null,null,null,null,null,"","","","",null,""]
[20,"Grillage ou frittage de minerai métallique","Minerai de métaux","Procédé (méthode A): mélange (carbonates + autres que carbonates)",null,"Méthode standard: Procédé, article 24, paragraphe 2",1,{"$f":"Translations!$B$505","v":"Fraction issue de la biomasse de type I"},{"$f":"Translations!$B$510","v":"Fraction issue de la biomasse de type II"},null,null,null,{"$f":"Translations!$B$1266","v":"Analyse de la fraction issue de la biomasse"},"Mass balance, e.g. in accordance with Article 30(1) of RED II",null,3,"Minerai de métaux: Procédé (méthode A): mélange (carbonates + autres que carbonates)",null,"BioC_Minerai de métaux: Procédé (méthode A): mélange (carbonates + autres que carbonates)",null,null,null,null,null,null,false,null,null,null,null,null,null,null,null,null,null,null,1,{"$f":"Translations!$B$510","v":"Fraction issue de la biomasse de type II"},"","",null,2,3]
[21,{"$f":"B501","v":"Grillage ou frittage de minerai métallique"},"Minerai de métaux","Procédé (méthode A): non issu de carbonate",null,"Méthode standard: Procédé, article 24, paragraphe 2",1,{"$f":"Translations!$B$505","v":"Fraction issue de la biomasse de type I"},{"$f":"Translations!$B$510","v":"Fraction issue de la biomasse de type II"},null,null,null,{"$f":"Translations!$B$1266","v":"Analyse de la fraction issue de la biomasse"},"Mass balance, e.g. in accordance with Article 30(1) of RED II",null,3,"Minerai de métaux: Procédé (méthode A): non issu de carbonate",null,"BioC_Minerai de métaux: Procédé (méthode A): non issu de carbonate",null,null,null,null,null,null,false,null,null,null,null,null,null,null,null,null,null,null,1,{"$f":"Translations!$B$510","v":"Fraction issue de la biomasse de type II"},"","",null,2,3]
[22,"Grillage ou frittage de minerai métallique","Minerai de métaux","Procédé (méthode B): production d’oxydes",null,"Méthode standard: Procédé, article 24, paragraphe 2",{"$f":"EUconst_NA","v":"s.o."},null,null,null,null,null,null,null,null,{"$f":"IF(G574=EUconst_NA,EUconst_NA,IF(ISBLANK(J574),COUNTA(H574:O574),COUNTA(H574,J574,L574)))","v":"s.o."},"Minerai de métaux: Procédé (méthode B): production d’oxydes",null,"BioC_Minerai de métaux: Procédé (méthode B): production d’oxydes",null,null,null,null,null,null,true,null,null,null,null,null,null,null,null,null,null,null,"","","","",null,""]
[23,"Grillage ou frittage de minerai métallique","Minerai de métaux","Bilan massique",null,"Méthode du bilan massique, article 25",1,{"$f":"Translations!$B$505","v":"Fraction issue de la biomasse de type I"},{"$f":"Translations!$B$510","v":"Fraction issue de la biomasse de type II"},null,null,null,{"$f":"Translations!$B$1266","v":"Analyse de la fraction issue de la biomasse"},"Mass balance, e.g. in accordance with Article 30(1) of RED II",null,3,"Minerai de métaux: Bilan massique",null,"BioC_Minerai de métaux: Bilan massique",null,null,null,null,null,null,false,null,null,null,null,null,null,null,null,null,null,null,1,{"$f":"Translations!$B$510","v":"Fraction issue de la biomasse de type II"},"","",null,2,3]
[24,"Production de fer ou d'acier","Sidérurgie","Combustible employé pour alimenter le procédé",null,"Méthode standard: Combustible, article 24, paragraphe 1",1,{"$f":"Translations!$B$505","v":"Fraction issue de la biomasse de type I"},{"$f":"Translations!$B$510","v":"Fraction issue de la biomasse de type II"},null,null,null,{"$f":"Translations!$B$1266","v":"Analyse de la fraction issue de la biomasse"},"Mass balance, e.g. in accordance with Article 30(1) of RED II",null,3,"Sidérurgie: Combustible employé pour alimenter le procédé",null,"BioC_Sidérurgie: Combustible employé pour alimenter le procédé",null,null,null,null,null,null,false,null,null,null,null,null,null,null,null,null,null,null,1,{"$f":"Translations!$B$510","v":"Fraction issue de la biomasse de type II"},"","",null,2,3]
[25,"Production de fer ou d'acier","Sidérurgie","Procédé (méthode A): uniquement carbonates",null,"Méthode standard: Procédé, article 24, paragraphe 2",{"$f":"EUconst_NA","v":"s.o."},null,null,null,null,null,null,null,null,{"$f":"IF(G577=EUconst_NA,EUconst_NA,IF(ISBLANK(J577),COUNTA(H577:O577),COUNTA(H577,J577,L577)))","v":"s.o."},"Sidérurgie: Procédé (méthode A): uniquement carbonates",null,"BioC_Sidérurgie: Procédé (méthode A): uniquement carbonates",null,null,null,null,null,null,true,null,null,null,null,null,null,null,null,null,null,null,"","","","",null,""]
[26,"Production de fer ou d'acier","Sidérurgie","Procédé (méthode A): mélange (carbonates + autres que carbonates)",null,"Méthode standard: Procédé, article 24, paragraphe 2",1,{"$f":"Translations!$B$505","v":"Fraction issue de la biomasse de type I"},{"$f":"Translations!$B$510","v":"Fraction issue de la biomasse de type II"},null,null,null,{"$f":"Translations!$B$1266","v":"Analyse de la fraction issue de la biomasse"},"Mass balance, e.g. in accordance with Article 30(1) of RED II",null,3,"Sidérurgie: Procédé (méthode A): mélange (carbonates + autres que carbonates)",null,"BioC_Sidérurgie: Procédé (méthode A): mélange (carbonates + autres que carbonates)",null,null,null,null,null,null,false,null,null,null,null,null,null,null,null,null,null,null,1,{"$f":"Translations!$B$510","v":"Fraction issue de la biomasse de type II"},"","",null,2,3]
[27,"Production de fer ou d'acier","Sidérurgie","Procédé (méthode A): non issu de carbonate",null,"Méthode standard: Procédé, article 24, paragraphe 2",1,{"$f":"Translations!$B$505","v":"Fraction issue de la biomasse de type I"},{"$f":"Translations!$B$510","v":"Fraction issue de la biomasse de type II"},null,null,null,{"$f":"Translations!$B$1266","v":"Analyse de la fraction issue de la biomasse"},"Mass balance, e.g. in accordance with Article 30(1) of RED II",null,3,"Sidérurgie: Procédé (méthode A): non issu de carbonate",null,"BioC_Sidérurgie: Procédé (méthode A): non issu de carbonate",null,null,null,null,null,null,false,null,null,null,null,null,null,null,null,null,null,null,1,{"$f":"Translations!$B$510","v":"Fraction issue de la biomasse de type II"},"","",null,2,3]
[28,"Production de fer ou d'acier","Sidérurgie","Procédé (méthode B): production d’oxydes",null,"Méthode standard: Procédé, article 24, paragraphe 2",{"$f":"EUconst_NA","v":"s.o."},null,null,null,null,null,null,null,null,{"$f":"IF(G580=EUconst_NA,EUconst_NA,IF(ISBLANK(J580),COUNTA(H580:O580),COUNTA(H580,J580,L580)))","v":"s.o."},"Sidérurgie: Procédé (méthode B): production d’oxydes",null,"BioC_Sidérurgie: Procédé (méthode B): production d’oxydes",null,null,null,null,null,null,true,null,null,null,null,null,null,null,null,null,null,null,"","","","",null,""]
[29,"Production de fer ou d'acier","Sidérurgie","Bilan massique",null,"Méthode du bilan massique, article 25",1,{"$f":"Translations!$B$505","v":"Fraction issue de la biomasse de type I"},{"$f":"Translations!$B$510","v":"Fraction issue de la biomasse de type II"},null,null,null,{"$f":"Translations!$B$1266","v":"Analyse de la fraction issue de la biomasse"},"Mass balance, e.g. in accordance with Article 30(1) of RED II",null,3,"Sidérurgie: Bilan massique",null,"BioC_Sidérurgie: Bilan massique",null,null,null,null,null,null,false,null,null,null,null,null,null,null,null,null,null,null,1,{"$f":"Translations!$B$510","v":"Fraction issue de la biomasse de type II"},"","",null,2,3]
[30,"Production de clinker","Clinker","D'après la charge du four (méthode A)",null,"Méthode standard: Procédé, article 24, paragraphe 2",{"$f":"EUconst_NA","v":"s.o."},null,null,null,null,null,null,null,null,{"$f":"IF(G582=EUconst_NA,EUconst_NA,IF(ISBLANK(J582),COUNTA(H582:O582),COUNTA(H582,J582,L582)))","v":"s.o."},"Clinker: D'après la charge du four (méthode A)",null,"BioC_Clinker: D'après la charge du four (méthode A)",null,null,null,null,null,null,true,null,null,null,null,null,null,null,null,null,null,null,"","","","",null,""]
[31,"Production de clinker","Clinker","Quantité de clinker produite (méthode B)",null,"Méthode standard: Procédé, article 24, paragraphe 2",{"$f":"EUconst_NA","v":"s.o."},null,null,null,null,null,null,null,null,{"$f":"IF(G583=EUconst_NA,EUconst_NA,IF(ISBLANK(J583),COUNTA(H583:O583),COUNTA(H583,J583,L583)))","v":"s.o."},"Clinker: Quantité de clinker produite (méthode B)",null,"BioC_Clinker: Quantité de clinker produite (méthode B)",null,null,null,null,null,null,true,null,null,null,null,null,null,null,null,null,null,null,"","","","",null,""]
[32,"Production de clinker","Clinker","Poussières des fours à ciment",null,"Méthode standard: Procédé, article 24, paragraphe 2",{"$f":"EUconst_NA","v":"s.o."},null,null,null,null,null,null,null,null,{"$f":"IF(G584=EUconst_NA,EUconst_NA,IF(ISBLANK(J584),COUNTA(H584:O584),COUNTA(H584,J584,L584)))","v":"s.o."},"Clinker: Poussières des fours à ciment",null,"BioC_Clinker: Poussières des fours à ciment",null,null,null,null,null,null,true,null,null,null,null,null,null,null,null,null,null,null,"","","","",null,""]
[33,"Production de clinker","Clinker","Carbone non issu de carbonates",null,{"$f":"F513","v":"Méthode standard: Procédé, article 24, paragraphe 2"},1,{"$f":"Translations!$B$505","v":"Fraction issue de la biomasse de type I"},{"$f":"Translations!$B$510","v":"Fraction issue de la biomasse de type II"},null,null,null,{"$f":"Translations!$B$1266","v":"Analyse de la fraction issue de la biomasse"},"Mass balance, e.g. in accordance with Article 30(1) of RED II",null,3,"Clinker: Carbone non issu de carbonates",null,"BioC_Clinker: Carbone non issu de carbonates",null,null,null,null,null,null,false,null,null,null,null,null,null,null,null,null,null,null,1,{"$f":"Translations!$B$510","v":"Fraction issue de la biomasse de type II"},"","",null,2,3]
[34,"Production de chaux ou calcination de dolomite/magnésite","Chaux / dolomite / magnésite","Procédé (méthode A): uniquement carbonates",null,"Méthode standard: Procédé, article 24, paragraphe 2",{"$f":"EUconst_NA","v":"s.o."},null,null,null,null,null,null,null,null,{"$f":"IF(G586=EUconst_NA,EUconst_NA,IF(ISBLANK(J586),COUNTA(H586:O586),COUNTA(H586,J586,L586)))","v":"s.o."},"Chaux / dolomite / magnésite: Procédé (méthode A): uniquement carbonates",null,{"$f":"EUconst_CNTR_BiomassContent&Q586","v":"BioC_Chaux / dolomite / magnésite: Procédé (méthode A): uniquement carbonates"},null,null,null,null,null,null,true,null,null,null,null,null,null,null,null,null,null,null,"","","","",null,""]
[35,"Production de chaux ou calcination de dolomite/magnésite","Chaux / dolomite / magnésite","Procédé (méthode A): mélange (carbonates + autres que carbonates)",null,"Méthode standard: Procédé, article 24, paragraphe 2",1,{"$f":"Translations!$B$505","v":"Fraction issue de la biomasse de type I"},{"$f":"Translations!$B$510","v":"Fraction issue de la biomasse de type II"},null,null,null,{"$f":"Translations!$B$1266","v":"Analyse de la fraction issue de la biomasse"},"Mass balance, e.g. in accordance with Article 30(1) of RED II",null,3,"Chaux / dolomite / magnésite: Procédé (méthode A): mélange (carbonates + autres que carbonates)",null,"BioC_Chaux / dolomite / magnésite: Procédé (méthode A): mélange (carbonates + autres que carbonates)",null,null,null,null,null,null,false,null,null,null,null,null,null,null,null,null,null,null,1,{"$f":"Translations!$B$510","v":"Fraction issue de la biomasse de type II"},"","",null,2,3]
[36,"Production de chaux ou calcination de dolomite/magnésite","Chaux / dolomite / magnésite","Procédé (méthode A): non issu de carbonate",null,"Méthode standard: Procédé, article 24, paragraphe 2",1,{"$f":"Translations!$B$505","v":"Fraction issue de la biomasse de type I"},{"$f":"Translations!$B$510","v":"Fraction issue de la biomasse de type II"},null,null,null,{"$f":"Translations!$B$1266","v":"Analyse de la fraction issue de la biomasse"},"Mass balance, e.g. in accordance with Article 30(1) of RED II",null,3,"Chaux / dolomite / magnésite: Procédé (méthode A): non issu de carbonate",null,"BioC_Chaux / dolomite / magnésite: Procédé (méthode A): non issu de carbonate",null,null,null,null,null,null,false,null,null,null,null,null,null,null,null,null,null,null,1,{"$f":"Translations!$B$510","v":"Fraction issue de la biomasse de type II"},"","",null,2,3]
[37,"Production de chaux ou calcination de dolomite/magnésite","Chaux / dolomite / magnésite","Procédé (méthode B): production d’oxydes",null,"Méthode standard: Procédé, article 24, paragraphe 2",{"$f":"EUconst_NA","v":"s.o."},null,null,null,null,null,null,null,null,{"$f":"IF(G589=EUconst_NA,EUconst_NA,IF(ISBLANK(J589),COUNTA(H589:O589),COUNTA(H589,J589,L589)))","v":"s.o."},"Chaux / dolomite / magnésite: Procédé (méthode B): production d’oxydes",null,"BioC_Chaux / dolomite / magnésite: Procédé (méthode B): production d’oxydes",null,null,null,null,null,null,true,null,null,null,null,null,null,null,null,null,null,null,"","","","",null,""]
[38,"Production de chaux ou calcination de dolomite/magnésite","Chaux / dolomite / magnésite","Poussières de four (méthode B)",null,"Méthode standard: Procédé, article 24, paragraphe 2",{"$f":"EUconst_NA","v":"s.o."},null,null,null,null,null,null,null,null,{"$f":"IF(G590=EUconst_NA,EUconst_NA,IF(ISBLANK(J590),COUNTA(H590:O590),COUNTA(H590,J590,L590)))","v":"s.o."},"Chaux / dolomite / magnésite: Poussières de four (méthode B)",null,"BioC_Chaux / dolomite / magnésite: Poussières de four (méthode B)",null,null,null,null,null,null,true,null,null,null,null,null,null,null,null,null,null,null,"","","","",null,""]
[39,"Fabrication de verre","Verre et laine minérale","Procédé (méthode A): uniquement carbonates",null,"Méthode standard: Procédé, article 24, paragraphe 2",{"$f":"EUconst_NA","v":"s.o."},null,null,null,null,null,null,null,null,{"$f":"IF(G591=EUconst_NA,EUconst_NA,IF(ISBLANK(J591),COUNTA(H591:O591),COUNTA(H591,J591,L591)))","v":"s.o."},"Verre et laine minérale: Procédé (méthode A): uniquement carbonates",null,"BioC_Verre et laine minérale: Procédé (méthode A): uniquement carbonates",null,null,null,null,null,null,true,null,null,null,null,null,null,null,null,null,null,null,"","","","",null,""]
[40,"Fabrication de verre","Verre et laine minérale","Procédé (méthode A): mélange (carbonates + autres que carbonates)",null,"Méthode standard: Procédé, article 24, paragraphe 2",1,{"$f":"Translations!$B$505","v":"Fraction issue de la biomasse de type I"},{"$f":"Translations!$B$510","v":"Fraction issue de la biomasse de type II"},null,null,null,{"$f":"Translations!$B$1266","v":"Analyse de la fraction issue de la biomasse"},"Mass balance, e.g. in accordance with Article 30(1) of RED II",null,3,"Verre et laine minérale: Procédé (méthode A): mélange (carbonates + autres que carbonates)",null,"BioC_Verre et laine minérale: Procédé (méthode A): mélange (carbonates + autres que carbonates)",null,null,null,null,null,null,false,null,null,null,null,null,null,null,null,null,null,null,1,{"$f":"Translations!$B$510","v":"Fraction issue de la biomasse de type II"},"","",null,2,3]
[41,{"$f":"B521","v":"Fabrication de verre"},"Verre et laine minérale","Procédé (méthode A): non issu de carbonate",null,"Méthode standard: Procédé, article 24, paragraphe 2",1,{"$f":"Translations!$B$505","v":"Fraction issue de la biomasse de type I"},{"$f":"Translations!$B$510","v":"Fraction issue de la biomasse de type II"},null,null,null,{"$f":"Translations!$B$1266","v":"Analyse de la fraction issue de la biomasse"},"Mass balance, e.g. in accordance with Article 30(1) of RED II",null,3,"Verre et laine minérale: Procédé (méthode A): non issu de carbonate",null,"BioC_Verre et laine minérale: Procédé (méthode A): non issu de carbonate",null,null,null,null,null,null,false,null,null,null,null,null,null,null,null,null,null,null,1,{"$f":"Translations!$B$510","v":"Fraction issue de la biomasse de type II"},"","",null,2,3]
[42,"Fabrication de produits céramiques","Céramique","Procédé (méthode A): uniquement carbonates",null,"Méthode standard: Procédé, article 24, paragraphe 2",{"$f":"EUconst_NA","v":"s.o."},null,null,null,null,null,null,null,null,{"$f":"IF(G594=EUconst_NA,EUconst_NA,IF(ISBLANK(J594),COUNTA(H594:O594),COUNTA(H594,J594,L594)))","v":"s.o."},"Céramique: Procédé (méthode A): uniquement carbonates",null,"BioC_Céramique: Procédé (méthode A): uniquement carbonates",null,null,null,null,null,null,true,null,null,null,null,null,null,null,null,null,null,null,"","","","",null,""]
[43,"Fabrication de produits céramiques","Céramique","Procédé (méthode A): mélange (carbonates + autres que carbonates)",null,"Méthode standard: Procédé, article 24, paragraphe 2",1,{"$f":"Translations!$B$505","v":"Fraction issue de la biomasse de type I"},{"$f":"Translations!$B$510","v":"Fraction issue de la biomasse de type II"},null,null,null,{"$f":"Translations!$B$1266","v":"Analyse de la fraction issue de la biomasse"},"Mass balance, e.g. in accordance with Article 30(1) of RED II",null,3,"Céramique: Procédé (méthode A): mélange (carbonates + autres que carbonates)",null,"BioC_Céramique: Procédé (méthode A): mélange (carbonates + autres que carbonates)",null,null,null,null,null,null,false,null,null,null,null,null,null,null,null,null,null,null,1,{"$f":"Translations!$B$510","v":"Fraction issue de la biomasse de type II"},"","",null,2,3]
[44,"Fabrication de produits céramiques","Céramique","Procédé (méthode A): non issu de carbonate",null,"Méthode standard: Procédé, article 24, paragraphe 2",1,{"$f":"Translations!$B$505","v":"Fraction issue de la biomasse de type I"},{"$f":"Translations!$B$510","v":"Fraction issue de la biomasse de type II"},null,null,null,{"$f":"Translations!$B$1266","v":"Analyse de la fraction issue de la biomasse"},"Mass balance, e.g. in accordance with Article 30(1) of RED II",null,3,"Céramique: Procédé (méthode A): non issu de carbonate",null,"BioC_Céramique: Procédé (méthode A): non issu de carbonate",null,null,null,null,null,null,false,null,null,null,null,null,null,null,null,null,null,null,1,{"$f":"Translations!$B$510","v":"Fraction issue de la biomasse de type II"},"","",null,2,3]
[45,"Fabrication de produits céramiques","Céramique","Procédé (méthode B): production d’oxydes",null,"Méthode standard: Procédé, article 24, paragraphe 2",{"$f":"EUconst_NA","v":"s.o."},null,null,null,null,null,null,null,null,{"$f":"IF(G597=EUconst_NA,EUconst_NA,IF(ISBLANK(J597),COUNTA(H597:O597),COUNTA(H597,J597,L597)))","v":"s.o."},"Céramique: Procédé (méthode B): production d’oxydes",null,"BioC_Céramique: Procédé (méthode B): production d’oxydes",null,null,null,null,null,null,true,null,null,null,null,null,null,null,null,null,null,null,"","","","",null,""]
[46,"Fabrication de produits céramiques","Céramique","Épuration",null,"Méthode standard: Procédé, article 24, paragraphe 2",{"$f":"EUconst_NA","v":"s.o."},null,null,null,null,null,null,null,null,{"$f":"IF(G598=EUconst_NA,EUconst_NA,IF(ISBLANK(J598),COUNTA(H598:O598),COUNTA(H598,J598,L598)))","v":"s.o."},"Céramique: Épuration",null,"BioC_Céramique: Épuration",null,null,null,null,null,null,true,null,null,null,null,null,null,null,null,null,null,null,"","","","",null,""]
[47,"Production de pâte à papier","Papier et pâte à papier","Produits chimiques d'appoint",null,"Méthode standard: Procédé, article 24, paragraphe 2",{"$f":"EUconst_NA","v":"s.o."},null,null,null,null,null,null,null,null,{"$f":"IF(G599=EUconst_NA,EUconst_NA,IF(ISBLANK(J599),COUNTA(H599:O599),COUNTA(H599,J599,L599)))","v":"s.o."},"Papier et pâte à papier: Produits chimiques d'appoint",null,"BioC_Papier et pâte à papier: Produits chimiques d'appoint",null,null,null,null,null,null,true,null,null,null,null,null,null,null,null,null,null,null,"","","","",null,""]
[48,"Production de noir de carbone","Noir de carbone","Méthode du bilan massique",null,"Méthode du bilan massique, article 25",1,{"$f":"Translations!$B$505","v":"Fraction issue de la biomasse de type I"},{"$f":"Translations!$B$510","v":"Fraction issue de la biomasse de type II"},null,null,null,{"$f":"Translations!$B$1266","v":"Analyse de la fraction issue de la biomasse"},"Mass balance, e.g. in accordance with Article 30(1) of RED II",null,3,"Noir de carbone: Méthode du bilan massique",null,"BioC_Noir de carbone: Méthode du bilan massique",null,null,null,null,null,null,false,null,null,null,null,null,null,null,null,null,null,null,1,{"$f":"Translations!$B$510","v":"Fraction issue de la biomasse de type II"},"","",null,2,3]
[49,"Production d'ammoniac","Ammoniac","Combustible employé pour alimenter le procédé",null,"Méthode standard: Combustible, article 24, paragraphe 1",1,{"$f":"Translations!$B$505","v":"Fraction issue de la biomasse de type I"},{"$f":"Translations!$B$510","v":"Fraction issue de la biomasse de type II"},null,null,null,{"$f":"Translations!$B$1266","v":"Analyse de la fraction issue de la biomasse"},"Mass balance, e.g. in accordance with Article 30(1) of RED II",null,3,"Ammoniac: Combustible employé pour alimenter le procédé",null,"BioC_Ammoniac: Combustible employé pour alimenter le procédé",null,null,null,null,null,null,false,null,null,null,null,null,null,null,null,null,null,null,1,{"$f":"Translations!$B$510","v":"Fraction issue de la biomasse de type II"},"","",null,2,3]
[50,"Production d'hydrogène et de gaz de synthèse","Hydrogène et gaz de synthèse","Combustible employé pour alimenter le procédé",null,"Méthode standard: Combustible, article 24, paragraphe 1",1,{"$f":"Translations!$B$505","v":"Fraction issue de la biomasse de type I"},{"$f":"Translations!$B$510","v":"Fraction issue de la biomasse de type II"},null,null,null,{"$f":"Translations!$B$1266","v":"Analyse de la fraction issue de la biomasse"},"Mass balance, e.g. in accordance with Article 30(1) of RED II",null,3,"Hydrogène et gaz de synthèse: Combustible employé pour alimenter le procédé",null,"BioC_Hydrogène et gaz de synthèse: Combustible employé pour alimenter le procédé",null,null,null,null,null,null,false,null,null,null,null,null,null,null,null,null,null,null,1,{"$f":"Translations!$B$510","v":"Fraction issue de la biomasse de type II"},"","",null,2,3]
[51,"Production d'hydrogène et de gaz de synthèse","Hydrogène et gaz de synthèse","Méthode du bilan massique",null,"Méthode du bilan massique, article 25",1,{"$f":"Translations!$B$505","v":"Fraction issue de la biomasse de type I"},{"$f":"Translations!$B$510","v":"Fraction issue de la biomasse de type II"},null,null,null,{"$f":"Translations!$B$1266","v":"Analyse de la fraction issue de la biomasse"},"Mass balance, e.g. in accordance with Article 30(1) of RED II",null,3,"Hydrogène et gaz de synthèse: Méthode du bilan massique",null,"BioC_Hydrogène et gaz de synthèse: Méthode du bilan massique",null,null,null,null,null,null,false,null,null,null,null,null,null,null,null,null,null,null,1,{"$f":"Translations!$B$510","v":"Fraction issue de la biomasse de type II"},"","",null,2,3]
[52,"Production de produits chimiques en vrac","Produits chimiques organiques de base","Méthode du bilan massique",null,"Méthode du bilan massique, article 25",1,{"$f":"Translations!$B$505","v":"Fraction issue de la biomasse de type I"},{"$f":"Translations!$B$510","v":"Fraction issue de la biomasse de type II"},null,null,null,{"$f":"Translations!$B$1266","v":"Analyse de la fraction issue de la biomasse"},"Mass balance, e.g. in accordance with Article 30(1) of RED II",null,3,"Produits chimiques organiques de base: Méthode du bilan massique",null,"BioC_Produits chimiques organiques de base: Méthode du bilan massique",null,null,null,null,null,null,false,null,null,null,null,null,null,null,null,null,null,null,1,{"$f":"Translations!$B$510","v":"Fraction issue de la biomasse de type II"},"","",null,2,3]
[53,"Production ou transformation de métaux ferreux","Aluminium secondaire, (non) ferreux","Procédé (méthode A): uniquement carbonates",null,"Méthode standard: Procédé, article 24, paragraphe 2",{"$f":"EUconst_NA","v":"s.o."},null,null,null,null,null,null,null,null,{"$f":"IF(G605=EUconst_NA,EUconst_NA,IF(ISBLANK(J605),COUNTA(H605:O605),COUNTA(H605,J605,L605)))","v":"s.o."},"Aluminium secondaire, (non) ferreux: Procédé (méthode A): uniquement carbonates",null,"BioC_Aluminium secondaire, (non) ferreux: Procédé (méthode A): uniquement carbonates",null,null,null,null,null,null,true,null,null,null,null,null,null,null,null,null,null,null,"","","","",null,""]
[54,"Production ou transformation de métaux ferreux","Aluminium secondaire, (non) ferreux","Procédé (méthode A): mélange (carbonates + autres que carbonates)",null,"Méthode standard: Procédé, article 24, paragraphe 2",1,{"$f":"Translations!$B$505","v":"Fraction issue de la biomasse de type I"},{"$f":"Translations!$B$510","v":"Fraction issue de la biomasse de type II"},null,null,null,{"$f":"Translations!$B$1266","v":"Analyse de la fraction issue de la biomasse"},"Mass balance, e.g. in accordance with Article 30(1) of RED II",null,3,"Aluminium secondaire, (non) ferreux: Procédé (méthode A): mélange (carbonates + autres que carbonates)",null,"BioC_Aluminium secondaire, (non) ferreux: Procédé (méthode A): mélange (carbonates + autres que carbonates)",null,null,null,null,null,null,false,null,null,null,null,null,null,null,null,null,null,null,1,{"$f":"Translations!$B$510","v":"Fraction issue de la biomasse de type II"},"","",null,2,3]
[55,"Production ou transformation de métaux ferreux","Aluminium secondaire, (non) ferreux","Procédé (méthode A): non issu de carbonate",null,"Méthode standard: Procédé, article 24, paragraphe 2",1,{"$f":"Translations!$B$505","v":"Fraction issue de la biomasse de type I"},{"$f":"Translations!$B$510","v":"Fraction issue de la biomasse de type II"},null,null,null,{"$f":"Translations!$B$1266","v":"Analyse de la fraction issue de la biomasse"},"Mass balance, e.g. in accordance with Article 30(1) of RED II",null,3,"Aluminium secondaire, (non) ferreux: Procédé (méthode A): non issu de carbonate",null,"BioC_Aluminium secondaire, (non) ferreux: Procédé (méthode A): non issu de carbonate",null,null,null,null,null,null,false,null,null,null,null,null,null,null,null,null,null,null,1,{"$f":"Translations!$B$510","v":"Fraction issue de la biomasse de type II"},"","",null,2,3]
[56,"Production ou transformation de métaux ferreux","Aluminium secondaire, (non) ferreux","Procédé (méthode B): production d’oxydes",null,"Méthode standard: Procédé, article 24, paragraphe 2",{"$f":"EUconst_NA","v":"s.o."},null,null,null,null,null,null,null,null,{"$f":"IF(G608=EUconst_NA,EUconst_NA,IF(ISBLANK(J608),COUNTA(H608:O608),COUNTA(H608,J608,L608)))","v":"s.o."},"Aluminium secondaire, (non) ferreux: Procédé (méthode B): production d’oxydes",null,"BioC_Aluminium secondaire, (non) ferreux: Procédé (méthode B): production d’oxydes",null,null,null,null,null,null,true,null,null,null,null,null,null,null,null,null,null,null,"","","","",null,""]
[57,"Production ou transformation de métaux ferreux","Aluminium secondaire, (non) ferreux","Méthode du bilan massique",null,"Méthode du bilan massique, article 25",1,{"$f":"Translations!$B$505","v":"Fraction issue de la biomasse de type I"},{"$f":"Translations!$B$510","v":"Fraction issue de la biomasse de type II"},null,null,null,{"$f":"Translations!$B$1266","v":"Analyse de la fraction issue de la biomasse"},"Mass balance, e.g. in accordance with Article 30(1) of RED II",null,3,"Aluminium secondaire, (non) ferreux: Méthode du bilan massique",null,"BioC_Aluminium secondaire, (non) ferreux: Méthode du bilan massique",null,null,null,null,null,null,false,null,null,null,null,null,null,null,null,null,null,null,1,{"$f":"Translations!$B$510","v":"Fraction issue de la biomasse de type II"},"","",null,2,3]
[58,"Production de carbonate de sodium et de bicarbonate de sodium","Soude / bicarbonate de sodium","Méthode du bilan massique",null,"Méthode du bilan massique, article 25",1,{"$f":"Translations!$B$505","v":"Fraction issue de la biomasse de type I"},{"$f":"Translations!$B$510","v":"Fraction issue de la biomasse de type II"},null,null,null,{"$f":"Translations!$B$1266","v":"Analyse de la fraction issue de la biomasse"},"Mass balance, e.g. in accordance with Article 30(1) of RED II",null,3,"Soude / bicarbonate de sodium: Méthode du bilan massique",null,"BioC_Soude / bicarbonate de sodium: Méthode du bilan massique",null,null,null,null,null,null,false,null,null,null,null,null,null,null,null,null,null,null,1,{"$f":"Translations!$B$510","v":"Fraction issue de la biomasse de type II"},"","",null,2,3]
[59,"Production d'aluminium primaire ou d'alumine","Aluminium primaire","Méthode du bilan massique",null,"Méthode du bilan massique, article 25",1,{"$f":"Translations!$B$505","v":"Fraction issue de la biomasse de type I"},{"$f":"Translations!$B$510","v":"Fraction issue de la biomasse de type II"},null,null,null,{"$f":"Translations!$B$1266","v":"Analyse de la fraction issue de la biomasse"},"Mass balance, e.g. in accordance with Article 30(1) of RED II",null,3,"Aluminium primaire: Méthode du bilan massique",null,"BioC_Aluminium primaire: Méthode du bilan massique",null,null,null,null,null,null,false,null,null,null,null,null,null,null,null,null,null,null,1,{"$f":"Translations!$B$510","v":"Fraction issue de la biomasse de type II"},"","",null,2,3]
[60,"Production d'aluminium primaire ou d'alumine","Aluminium primaire","Émissions de PFC (méthode des pentes)",null,"Calcul avec dispositions spéciales pour les PFC (annexe IV section 8)",{"$f":"EUconst_NA","v":"s.o."},null,null,null,null,null,null,null,null,{"$f":"IF(G612=EUconst_NA,EUconst_NA,IF(ISBLANK(J612),COUNTA(H612:O612),COUNTA(H612,J612,L612)))","v":"s.o."},"Aluminium primaire: Émissions de PFC (méthode des pentes)",null,"BioC_Aluminium primaire: Émissions de PFC (méthode des pentes)",null,null,null,null,null,null,true,null,null,null,null,null,null,null,null,null,null,null,"","","","",null,""]
[61,{"$f":"B541","v":"Production d'aluminium primaire ou d'alumine"},"Aluminium primaire","Émissions de PFC (méthode de la surtension)",null,"Calcul avec dispositions spéciales pour les PFC (annexe IV section 8)",{"$f":"EUconst_NA","v":"s.o."},null,null,null,null,null,null,null,null,{"$f":"IF(G613=EUconst_NA,EUconst_NA,IF(ISBLANK(J613),COUNTA(H613:O613),COUNTA(H613,J613,L613)))","v":"s.o."},"Aluminium primaire: Émissions de PFC (méthode de la surtension)",null,"BioC_Aluminium primaire: Émissions de PFC (méthode de la surtension)",null,null,null,null,null,null,true,null,null,null,null,null,null,null,null,null,null,null,"","","","",null,""]
[62,"Captage des gaz à effet de serre au titre de la directive 2009/31/CE","CCS: Capture","CO2 transferred",null,{"$f":"F542","v":"Méthode du bilan massique, article 25"},1,{"$f":"Translations!$B$505","v":"Fraction issue de la biomasse de type I"},{"$f":"Translations!$B$510","v":"Fraction issue de la biomasse de type II"},null,null,null,{"$f":"Translations!$B$1266","v":"Analyse de la fraction issue de la biomasse"},"Mass balance, e.g. in accordance with Article 30(1) of RED II",null,3,{"$f":"C614 & \": \" &D614","v":"CCS: Capture: CO2 transferred"},null,{"$f":"EUconst_CNTR_BiomassContent&Q614","v":"BioC_CCS: Capture: CO2 transferred"},null,null,null,null,null,null,{"$f":"IF(G614=EUconst_NA,TRUE,FALSE)","v":false},null,null,null,null,null,null,null,null,null,null,null,1,{"$f":"Translations!$B$510","v":"Fraction issue de la biomasse de type II"},"","",null,2,3]
[63,"Transport de gaz à effet de serre au titre de la directive 2009/31/CE","CCS: Transport","CO2 transferred",null,"Méthode du bilan massique, article 25",{"$f":"EUconst_NA","v":"s.o."},null,null,null,null,null,null,null,null,{"$f":"IF(G615=EUconst_NA,EUconst_NA,IF(ISBLANK(J615),COUNTA(H615:O615),COUNTA(H615,J615,L615)))","v":"s.o."},"CCS: Transport: CO2 transferred",null,"BioC_CCS: Transport: CO2 transferred",null,null,null,null,null,null,true]
[64,"Transport de gaz à effet de serre au titre de la directive 2009/31/CE","CCS: Transport","CO2 vented",null,"Méthode standard: Procédé, article 24, paragraphe 2","s.o.",null,null,null,null,null,null,null,null,"s.o.","CCS: Transport: CO2 vented",null,"BioC_CCS: Transport: CO2 vented",null,null,null,null,null,null,true]
[65,"Transport de gaz à effet de serre au titre de la directive 2009/31/CE","CCS: Transport","CO2 leaked",null,"Méthode standard: Procédé, article 24, paragraphe 2","s.o.",null,null,null,null,null,null,null,null,"s.o.","CCS: Transport: CO2 leaked",null,"BioC_CCS: Transport: CO2 leaked",null,null,null,null,null,null,true]
[66,"Transport de gaz à effet de serre au titre de la directive 2009/31/CE","CCS: Transport","CO2 fugitive",null,"Méthode standard: Procédé, article 24, paragraphe 2","s.o.",null,null,null,null,null,null,null,null,"s.o.","CCS: Transport: CO2 fugitive",null,"BioC_CCS: Transport: CO2 fugitive",null,null,null,null,null,null,true]
[67,"Stockage des gaz à effet de serre dans le cadre de la directive 2009/31/CE","CCS: Storage","CO2 transferred",null,"Méthode du bilan massique, article 25","s.o.",null,null,null,null,null,null,null,null,"s.o.","CCS: Storage: CO2 transferred",null,"BioC_CCS: Storage: CO2 transferred",null,null,null,null,null,null,true]
[68,"Stockage des gaz à effet de serre dans le cadre de la directive 2009/31/CE","CCS: Storage","CO2 vented",null,"Méthode standard: Procédé, article 24, paragraphe 2","s.o.",null,null,null,null,null,null,null,null,"s.o.","CCS: Storage: CO2 vented",null,"BioC_CCS: Storage: CO2 vented",null,null,null,null,null,null,true]
[69,"Stockage des gaz à effet de serre dans le cadre de la directive 2009/31/CE","CCS: Storage","CO2 leaked",null,"Méthode standard: Procédé, article 24, paragraphe 2","s.o.",null,null,null,null,null,null,null,null,"s.o.","CCS: Storage: CO2 leaked",null,"BioC_CCS: Storage: CO2 leaked",null,null,null,null,null,null,true]
[70,"Stockage des gaz à effet de serre dans le cadre de la directive 2009/31/CE","CCS: Storage","CO2 fugitive",null,"Méthode standard: Procédé, article 24, paragraphe 2","s.o.",null,null,null,null,null,null,null,null,"s.o.","CCS: Storage: CO2 fugitive",null,"BioC_CCS: Storage: CO2 fugitive",null,null,null,null,null,null,true]
[null,null,null,null,null,null,null,null,null,null,null,null,null,null,null,null,null,null,null,null,null,null,null,null,null,{"$f":"IF(G623=EUconst_NA,TRUE,FALSE)","v":false}]
["NEW",{"$f":"Translations!$B$522","v":"Facteur d'oxydation"},{"$f":"Translations!$B$957","v":"Intitulé abrégé"},{"$f":"Translations!$B$958","v":"Sous-activité"},{"$f":"Translations!$B$389","v":"Paramètre"},{"$f":"Translations!$B$959","v":"Type de source"},{"$f":"Translations!$B$960","v":"Minimum"},1,2,"2a",{"$f":"Translations!$B$928","v":"2b"},3,"3a","3b",4,{"$f":"Translations!$B$961","v":"Maximum"},null,null,null,null,null,null,null,null,null,{"$f":"Translations!$B$962","v":"Griser ?"},null,null,null,null,null,null,null,null,null,null,"1=default value, 2=lab",1,2,"2a",{"$f":"Translations!$B$928","v":"2b"},3]
[1,{"$f":"B553","v":"Combustion de combustibles"},"Combustion","Combustibles marchands ordinaires",null,{"$f":"F553","v":"Méthode standard: Combustible, article 24, paragraphe 1"},1,{"$f":"Translations!$B$529","v":"Valeur par défaut OF=1 "},{"$f":"Translations!$B$528","v":"Valeurs par défaut de type II :"},null,null,{"$f":"Translations!$B$527","v":"Analyses de laboratoire"},null,null,null,{"$f":"G625","v":1},{"$f":"C625 & \": \" &D625","v":"Combustion: Combustibles marchands ordinaires"},null,{"$f":"EUconst_CNTR_OxidationFactor&Q625","v":"OxF_Combustion: Combustibles marchands ordinaires"},null,null,null,null,null,null,{"$f":"IF(G625=EUconst_NA,TRUE,FALSE)","v":false},null,null,null,null,null,null,null,null,null,null,null,1,1,"","",2]
[2,"Combustion de combustibles","Combustion","Autres combustibles gazeux & liquides",null,"Méthode standard: Combustible, article 24, paragraphe 1",1,{"$f":"Translations!$B$529","v":"Valeur par défaut OF=1 "},{"$f":"Translations!$B$528","v":"Valeurs par défaut de type II :"},null,null,{"$f":"Translations!$B$527","v":"Analyses de laboratoire"},null,null,null,{"$f":"G626","v":1},{"$f":"C626 & \": \" &D626","v":"Combustion: Autres combustibles gazeux & liquides"},null,"OxF_Combustion: Autres combustibles gazeux & liquides",null,null,null,null,null,null,false,null,null,null,null,null,null,null,null,null,null,null,1,1,"","",2]
[3,"Combustion de combustibles","Combustion","Combustibles solides, hors déchets",null,"Méthode standard: Combustible, article 24, paragraphe 1",1,{"$f":"Translations!$B$529","v":"Valeur par défaut OF=1 "},{"$f":"Translations!$B$528","v":"Valeurs par défaut de type II :"},null,null,{"$f":"Translations!$B$527","v":"Analyses de laboratoire"},null,null,null,{"$f":"G627","v":1},{"$f":"C627 & \": \" &D627","v":"Combustion: Combustibles solides, hors déchets"},null,"OxF_Combustion: Combustibles solides, hors déchets",null,null,null,null,null,null,false,null,null,null,null,null,null,null,null,null,null,null,1,1,"","",2]
[4,"Combustion de combustibles","Combustion","Déchets",null,"Méthode standard: Combustible, article 24, paragraphe 1",1,{"$f":"Translations!$B$529","v":"Valeur par défaut OF=1 "},{"$f":"Translations!$B$528","v":"Valeurs par défaut de type II :"},null,null,{"$f":"Translations!$B$527","v":"Analyses de laboratoire"},null,null,null,{"$f":"G628","v":1},{"$f":"C628 & \": \" &D628","v":"Combustion: Déchets"},null,{"$f":"EUconst_CNTR_OxidationFactor&Q628","v":"OxF_Combustion: Déchets"},null,null,null,null,null,null,{"$f":"IF(G628=EUconst_NA,TRUE,FALSE)","v":false},null,null,null,null,null,null,null,null,null,null,null,1,1,"","",2]
[5,"Combustion de combustibles","Combustion","Terminaux de traitement du gaz",null,"Méthode du bilan massique, article 25",{"$f":"EUconst_NA","v":"s.o."},null,null,null,null,null,null,null,null,{"$f":"G629","v":"s.o."},"Combustion: Terminaux de traitement du gaz",null,"OxF_Combustion: Terminaux de traitement du gaz",null,null,null,null,null,null,true,null,null,null,null,null,null,null,null,null,null,null,"","","","",""]
[6,"Combustion de combustibles","Combustion","Torchères",null,"Méthode standard: Combustible, article 24, paragraphe 1",1,{"$f":"Translations!$B$529","v":"Valeur par défaut OF=1 "},{"$f":"Translations!$B$528","v":"Valeurs par défaut de type II :"},null,null,null,null,null,null,1,"Combustion: Torchères",null,"OxF_Combustion: Torchères",null,null,null,null,null,null,false,null,null,null,null,null,null,null,null,null,null,null,1,1,"",""]
[7,"Combustion de combustibles","Combustion","Épuration (carbonate)",null,"Méthode standard: Procédé, article 24, paragraphe 2",{"$f":"EUconst_NA","v":"s.o."},null,null,null,null,null,null,null,null,"s.o.","Combustion: Épuration (carbonate)",null,"OxF_Combustion: Épuration (carbonate)",null,null,null,null,null,null,true,null,null,null,null,null,null,null,null,null,null,null,"","","","",""]
[8,"Combustion de combustibles","Combustion","Épuration (gypse)",null,"Méthode standard: Procédé, article 24, paragraphe 2","s.o.",null,null,null,null,null,null,null,null,"s.o.","Combustion: Épuration (gypse)",null,"OxF_Combustion: Épuration (gypse)",null,null,null,null,null,null,true,null,null,null,null,null,null,null,null,null,null,null,"","","","",""]
[9,"Combustion de combustibles","Combustion","Épuration (urée)",null,"Méthode standard: Procédé, article 24, paragraphe 2","s.o.",null,null,null,null,null,null,null,null,"s.o.","Combustion: Épuration (urée)",null,"OxF_Combustion: Épuration (urée)",null,null,null,null,null,null,true,null,null,null,null,null,null,null,null,null,null,null,"","","","",""]
[10,"Raffinage d'huile","Raffineries","Bilan massique",null,"Méthode du bilan massique, article 25","s.o.",null,null,null,null,null,null,null,null,"s.o.","Raffineries: Bilan massique",null,"OxF_Raffineries: Bilan massique",null,null,null,null,null,null,true,null,null,null,null,null,null,null,null,null,null,null,"","","","",""]
[11,"Raffinage de pétrole ","Raffineries","Régénération des catalyseurs de craquage catalytique",null,"Méthode du bilan massique, article 25","s.o.",null,null,null,null,null,null,null,null,"s.o.","Raffineries: Régénération des catalyseurs de craquage catalytique",null,"OxF_Raffineries: Régénération des catalyseurs de craquage catalytique",null,null,null,null,null,null,true,null,null,null,null,null,null,null,null,null,null,null,"","","","",""]
[12,"Raffinage de pétrole ","Raffineries","Production d'hydrogène",null,"Méthode du bilan massique, article 25","s.o.",null,null,null,null,null,null,null,null,"s.o.","Raffineries: Production d'hydrogène",null,"OxF_Raffineries: Production d'hydrogène",null,null,null,null,null,null,true,null,null,null,null,null,null,null,null,null,null,null,"","","","",""]
[13,"Production de coke","Coke","Combustible employé pour alimenter le procédé",null,"Méthode standard: Combustible, article 24, paragraphe 1","s.o.",null,null,null,null,null,null,null,null,"s.o.","Coke: Combustible employé pour alimenter le procédé",null,"OxF_Coke: Combustible employé pour alimenter le procédé",null,null,null,null,null,null,true,null,null,null,null,null,null,null,null,null,null,null,"","","","",""]
[14,"Production de coke","Coke","Procédé (méthode A): uniquement carbonates",null,"Méthode standard: Procédé, article 24, paragraphe 2","s.o.",null,null,null,null,null,null,null,null,"s.o.","Coke: Procédé (méthode A): uniquement carbonates",null,"OxF_Coke: Procédé (méthode A): uniquement carbonates",null,null,null,null,null,null,true,null,null,null,null,null,null,null,null,null,null,null,"","","","",""]
[15,"Production de coke","Coke","Procédé (méthode A): mélange (carbonates + autres que carbonates)",null,"Méthode standard: Procédé, article 24, paragraphe 2","s.o.",null,null,null,null,null,null,null,null,"s.o.","Coke: Procédé (méthode A): mélange (carbonates + autres que carbonates)",null,"OxF_Coke: Procédé (méthode A): mélange (carbonates + autres que carbonates)",null,null,null,null,null,null,true,null,null,null,null,null,null,null,null,null,null,null,"","","","",""]
[16,"Production de coke","Coke","Procédé (méthode A): non issu de carbonate",null,"Méthode standard: Procédé, article 24, paragraphe 2","s.o.",null,null,null,null,null,null,null,null,"s.o.","Coke: Procédé (méthode A): non issu de carbonate",null,"OxF_Coke: Procédé (méthode A): non issu de carbonate",null,null,null,null,null,null,true,null,null,null,null,null,null,null,null,null,null,null,"","","","",""]
[17,"Production de coke","Coke","Procédé (méthode B): production d’oxydes",null,"Méthode standard: Procédé, article 24, paragraphe 2","s.o.",null,null,null,null,null,null,null,null,"s.o.","Coke: Procédé (méthode B): production d’oxydes",null,"OxF_Coke: Procédé (méthode B): production d’oxydes",null,null,null,null,null,null,true,null,null,null,null,null,null,null,null,null,null,null,"","","","",""]
[18,"Production de coke","Coke","Bilan massique",null,"Méthode du bilan massique, article 25","s.o.",null,null,null,null,null,null,null,null,"s.o.","Coke: Bilan massique",null,"OxF_Coke: Bilan massique",null,null,null,null,null,null,true,null,null,null,null,null,null,null,null,null,null,null,"","","","",""]
[19,"Grillage ou frittage de minerai métallique","Minerai de métaux","Procédé (méthode A): uniquement carbonates",null,"Méthode standard: Procédé, article 24, paragraphe 2","s.o.",null,null,null,null,null,null,null,null,"s.o.","Minerai de métaux: Procédé (méthode A): uniquement carbonates",null,"OxF_Minerai de métaux: Procédé (méthode A): uniquement carbonates",null,null,null,null,null,null,true,null,null,null,null,null,null,null,null,null,null,null,"","","","",""]
[20,"Grillage ou frittage de minerai métallique","Minerai de métaux","Procédé (méthode A): mélange (carbonates + autres que carbonates)",null,"Méthode standard: Procédé, article 24, paragraphe 2","s.o.",null,null,null,null,null,null,null,null,"s.o.","Minerai de métaux: Procédé (méthode A): mélange (carbonates + autres que carbonates)",null,"OxF_Minerai de métaux: Procédé (méthode A): mélange (carbonates + autres que carbonates)",null,null,null,null,null,null,true,null,null,null,null,null,null,null,null,null,null,null,"","","","",""]
[21,{"$f":"B573","v":"Grillage ou frittage de minerai métallique"},"Minerai de métaux","Procédé (méthode A): non issu de carbonate",null,"Méthode standard: Procédé, article 24, paragraphe 2","s.o.",null,null,null,null,null,null,null,null,"s.o.","Minerai de métaux: Procédé (méthode A): non issu de carbonate",null,"OxF_Minerai de métaux: Procédé (méthode A): non issu de carbonate",null,null,null,null,null,null,true,null,null,null,null,null,null,null,null,null,null,null,"","","","",""]
[22,"Grillage ou frittage de minerai métallique","Minerai de métaux","Procédé (méthode B): production d’oxydes",null,"Méthode standard: Procédé, article 24, paragraphe 2","s.o.",null,null,null,null,null,null,null,null,"s.o.","Minerai de métaux: Procédé (méthode B): production d’oxydes",null,"OxF_Minerai de métaux: Procédé (méthode B): production d’oxydes",null,null,null,null,null,null,true,null,null,null,null,null,null,null,null,null,null,null,"","","","",""]
[23,"Grillage ou frittage de minerai métallique","Minerai de métaux","Bilan massique",null,"Méthode du bilan massique, article 25","s.o.",null,null,null,null,null,null,null,null,"s.o.","Minerai de métaux: Bilan massique",null,"OxF_Minerai de métaux: Bilan massique",null,null,null,null,null,null,true,null,null,null,null,null,null,null,null,null,null,null,"","","","",""]
[24,"Production de fer ou d'acier","Sidérurgie","Combustible employé pour alimenter le procédé",null,"Méthode standard: Combustible, article 24, paragraphe 1","s.o.",null,null,null,null,null,null,null,null,"s.o.","Sidérurgie: Combustible employé pour alimenter le procédé",null,"OxF_Sidérurgie: Combustible employé pour alimenter le procédé",null,null,null,null,null,null,true,null,null,null,null,null,null,null,null,null,null,null,"","","","",""]
[25,"Production de fer ou d'acier","Sidérurgie","Procédé (méthode A): uniquement carbonates",null,"Méthode standard: Procédé, article 24, paragraphe 2","s.o.",null,null,null,null,null,null,null,null,"s.o.","Sidérurgie: Procédé (méthode A): uniquement carbonates",null,"OxF_Sidérurgie: Procédé (méthode A): uniquement carbonates",null,null,null,null,null,null,true,null,null,null,null,null,null,null,null,null,null,null,"","","","",""]
[26,"Production de fer ou d'acier","Sidérurgie","Procédé (méthode A): mélange (carbonates + autres que carbonates)",null,"Méthode standard: Procédé, article 24, paragraphe 2","s.o.",null,null,null,null,null,null,null,null,"s.o.","Sidérurgie: Procédé (méthode A): mélange (carbonates + autres que carbonates)",null,"OxF_Sidérurgie: Procédé (méthode A): mélange (carbonates + autres que carbonates)",null,null,null,null,null,null,true,null,null,null,null,null,null,null,null,null,null,null,"","","","",""]
[27,"Production de fer ou d'acier","Sidérurgie","Procédé (méthode A): non issu de carbonate",null,"Méthode standard: Procédé, article 24, paragraphe 2","s.o.",null,null,null,null,null,null,null,null,"s.o.","Sidérurgie: Procédé (méthode A): non issu de carbonate",null,"OxF_Sidérurgie: Procédé (méthode A): non issu de carbonate",null,null,null,null,null,null,true,null,null,null,null,null,null,null,null,null,null,null,"","","","",""]
[28,"Production de fer ou d'acier","Sidérurgie","Procédé (méthode B): production d’oxydes",null,"Méthode standard: Procédé, article 24, paragraphe 2","s.o.",null,null,null,null,null,null,null,null,"s.o.","Sidérurgie: Procédé (méthode B): production d’oxydes",null,"OxF_Sidérurgie: Procédé (méthode B): production d’oxydes",null,null,null,null,null,null,true,null,null,null,null,null,null,null,null,null,null,null,"","","","",""]
[29,"Production de fer ou d'acier","Sidérurgie","Bilan massique",null,"Méthode du bilan massique, article 25","s.o.",null,null,null,null,null,null,null,null,"s.o.","Sidérurgie: Bilan massique",null,"OxF_Sidérurgie: Bilan massique",null,null,null,null,null,null,true,null,null,null,null,null,null,null,null,null,null,null,"","","","",""]
[30,"Production de clinker","Clinker","D'après la charge du four (méthode A)",null,"Méthode standard: Procédé, article 24, paragraphe 2","s.o.",null,null,null,null,null,null,null,null,"s.o.","Clinker: D'après la charge du four (méthode A)",null,"OxF_Clinker: D'après la charge du four (méthode A)",null,null,null,null,null,null,true,null,null,null,null,null,null,null,null,null,null,null,"","","","",""]
[31,"Production de clinker","Clinker","Quantité de clinker produite (méthode B)",null,"Méthode standard: Procédé, article 24, paragraphe 2","s.o.",null,null,null,null,null,null,null,null,"s.o.","Clinker: Quantité de clinker produite (méthode B)",null,"OxF_Clinker: Quantité de clinker produite (méthode B)",null,null,null,null,null,null,true,null,null,null,null,null,null,null,null,null,null,null,"","","","",""]
[32,"Production de clinker","Clinker","Poussières des fours à ciment",null,"Méthode standard: Procédé, article 24, paragraphe 2","s.o.",null,null,null,null,null,null,null,null,"s.o.","Clinker: Poussières des fours à ciment",null,"OxF_Clinker: Poussières des fours à ciment",null,null,null,null,null,null,true,null,null,null,null,null,null,null,null,null,null,null,"","","","",""]
[33,"Production de clinker","Clinker","Carbone non issu de carbonates",null,{"$f":"F585","v":"Méthode standard: Procédé, article 24, paragraphe 2"},"s.o.",null,null,null,null,null,null,null,null,"s.o.","Clinker: Carbone non issu de carbonates",null,"OxF_Clinker: Carbone non issu de carbonates",null,null,null,null,null,null,true,null,null,null,null,null,null,null,null,null,null,null,"","","","",""]
[34,"Production de chaux ou calcination de dolomite/magnésite","Chaux / dolomite / magnésite","Procédé (méthode A): uniquement carbonates",null,"Méthode standard: Procédé, article 24, paragraphe 2","s.o.",null,null,null,null,null,null,null,null,"s.o.","Chaux / dolomite / magnésite: Procédé (méthode A): uniquement carbonates",null,{"$f":"EUconst_CNTR_OxidationFactor&Q658","v":"OxF_Chaux / dolomite / magnésite: Procédé (méthode A): uniquement carbonates"},null,null,null,null,null,null,true,null,null,null,null,null,null,null,null,null,null,null,"","","","",""]
[35,"Production de chaux ou calcination de dolomite/magnésite","Chaux / dolomite / magnésite","Procédé (méthode A): mélange (carbonates + autres que carbonates)",null,"Méthode standard: Procédé, article 24, paragraphe 2","s.o.",null,null,null,null,null,null,null,null,"s.o.","Chaux / dolomite / magnésite: Procédé (méthode A): mélange (carbonates + autres que carbonates)",null,"OxF_Chaux / dolomite / magnésite: Procédé (méthode A): mélange (carbonates + autres que carbonates)",null,null,null,null,null,null,true,null,null,null,null,null,null,null,null,null,null,null,"","","","",""]
[36,"Production de chaux ou calcination de dolomite/magnésite","Chaux / dolomite / magnésite","Procédé (méthode A): non issu de carbonate",null,"Méthode standard: Procédé, article 24, paragraphe 2","s.o.",null,null,null,null,null,null,null,null,"s.o.","Chaux / dolomite / magnésite: Procédé (méthode A): non issu de carbonate",null,"OxF_Chaux / dolomite / magnésite: Procédé (méthode A): non issu de carbonate",null,null,null,null,null,null,true,null,null,null,null,null,null,null,null,null,null,null,"","","","",""]
[37,"Production de chaux ou calcination de dolomite/magnésite","Chaux / dolomite / magnésite","Procédé (méthode B): production d’oxydes",null,"Méthode standard: Procédé, article 24, paragraphe 2","s.o.",null,null,null,null,null,null,null,null,"s.o.","Chaux / dolomite / magnésite: Procédé (méthode B): production d’oxydes",null,"OxF_Chaux / dolomite / magnésite: Procédé (méthode B): production d’oxydes",null,null,null,null,null,null,true,null,null,null,null,null,null,null,null,null,null,null,"","","","",""]
[38,"Production de chaux ou calcination de dolomite/magnésite","Chaux / dolomite / magnésite","Poussières de four (méthode B)",null,"Méthode standard: Procédé, article 24, paragraphe 2","s.o.",null,null,null,null,null,null,null,null,"s.o.","Chaux / dolomite / magnésite: Poussières de four (méthode B)",null,"OxF_Chaux / dolomite / magnésite: Poussières de four (méthode B)",null,null,null,null,null,null,true,null,null,null,null,null,null,null,null,null,null,null,"","","","",""]
[39,"Fabrication de verre","Verre et laine minérale","Procédé (méthode A): uniquement carbonates",null,"Méthode standard: Procédé, article 24, paragraphe 2",{"$f":"EUconst_NA","v":"s.o."},null,null,null,null,null,null,null,null,"s.o.","Verre et laine minérale: Procédé (méthode A): uniquement carbonates",null,"OxF_Verre et laine minérale: Procédé (méthode A): uniquement carbonates",null,null,null,null,null,null,true,null,null,null,null,null,null,null,null,null,null,null,"","","","",""]
[40,"Fabrication de verre","Verre et laine minérale","Procédé (méthode A): mélange (carbonates + autres que carbonates)",null,"Méthode standard: Procédé, article 24, paragraphe 2","s.o.",null,null,null,null,null,null,null,null,"s.o.","Verre et laine minérale: Procédé (méthode A): mélange (carbonates + autres que carbonates)",null,"OxF_Verre et laine minérale: Procédé (méthode A): mélange (carbonates + autres que carbonates)",null,null,null,null,null,null,true,null,null,null,null,null,null,null,null,null,null,null,"","","","",""]
[41,{"$f":"B593","v":"Fabrication de verre"},"Verre et laine minérale","Procédé (méthode A): non issu de carbonate",null,"Méthode standard: Procédé, article 24, paragraphe 2","s.o.",null,null,null,null,null,null,null,null,"s.o.","Verre et laine minérale: Procédé (méthode A): non issu de carbonate",null,"OxF_Verre et laine minérale: Procédé (méthode A): non issu de carbonate",null,null,null,null,null,null,true,null,null,null,null,null,null,null,null,null,null,null,"","","","",""]
[42,"Fabrication de produits céramiques","Céramique","Procédé (méthode A): uniquement carbonates",null,"Méthode standard: Procédé, article 24, paragraphe 2","s.o.",null,null,null,null,null,null,null,null,"s.o.","Céramique: Procédé (méthode A): uniquement carbonates",null,"OxF_Céramique: Procédé (méthode A): uniquement carbonates",null,null,null,null,null,null,true,null,null,null,null,null,null,null,null,null,null,null,"","","","",""]
[43,"Fabrication de produits céramiques","Céramique","Procédé (méthode A): mélange (carbonates + autres que carbonates)",null,"Méthode standard: Procédé, article 24, paragraphe 2","s.o.",null,null,null,null,null,null,null,null,"s.o.","Céramique: Procédé (méthode A): mélange (carbonates + autres que carbonates)",null,"OxF_Céramique: Procédé (méthode A): mélange (carbonates + autres que carbonates)",null,null,null,null,null,null,true,null,null,null,null,null,null,null,null,null,null,null,"","","","",""]
[44,"Fabrication de produits céramiques","Céramique","Procédé (méthode A): non issu de carbonate",null,"Méthode standard: Procédé, article 24, paragraphe 2","s.o.",null,null,null,null,null,null,null,null,"s.o.","Céramique: Procédé (méthode A): non issu de carbonate",null,"OxF_Céramique: Procédé (méthode A): non issu de carbonate",null,null,null,null,null,null,true,null,null,null,null,null,null,null,null,null,null,null,"","","","",""]
[45,"Fabrication de produits céramiques","Céramique","Procédé (méthode B): production d’oxydes",null,"Méthode standard: Procédé, article 24, paragraphe 2","s.o.",null,null,null,null,null,null,null,null,"s.o.","Céramique: Procédé (méthode B): production d’oxydes",null,"OxF_Céramique: Procédé (méthode B): production d’oxydes",null,null,null,null,null,null,true,null,null,null,null,null,null,null,null,null,null,null,"","","","",""]
[46,"Fabrication de produits céramiques","Céramique","Épuration",null,"Méthode standard: Procédé, article 24, paragraphe 2","s.o.",null,null,null,null,null,null,null,null,"s.o.","Céramique: Épuration",null,"OxF_Céramique: Épuration",null,null,null,null,null,null,true,null,null,null,null,null,null,null,null,null,null,null,"","","","",""]
[47,"Production de pâte à papier","Papier et pâte à papier","Produits chimiques d'appoint",null,"Méthode standard: Procédé, article 24, paragraphe 2","s.o.",null,null,null,null,null,null,null,null,"s.o.","Papier et pâte à papier: Produits chimiques d'appoint",null,"OxF_Papier et pâte à papier: Produits chimiques d'appoint",null,null,null,null,null,null,true,null,null,null,null,null,null,null,null,null,null,null,"","","","",""]
[48,"Production de noir de carbone","Noir de carbone","Méthode du bilan massique",null,"Méthode du bilan massique, article 25","s.o.",null,null,null,null,null,null,null,null,"s.o.","Noir de carbone: Méthode du bilan massique",null,"OxF_Noir de carbone: Méthode du bilan massique",null,null,null,null,null,null,true,null,null,null,null,null,null,null,null,null,null,null,"","","","",""]
[49,"Production d'ammoniac","Ammoniac","Combustible employé pour alimenter le procédé",null,"Méthode standard: Combustible, article 24, paragraphe 1","s.o.",null,null,null,null,null,null,null,null,"s.o.","Ammoniac: Combustible employé pour alimenter le procédé",null,"OxF_Ammoniac: Combustible employé pour alimenter le procédé",null,null,null,null,null,null,true,null,null,null,null,null,null,null,null,null,null,null,"","","","",""]
[50,"Production d'hydrogène et de gaz de synthèse","Hydrogène et gaz de synthèse","Combustible employé pour alimenter le procédé",null,"Méthode standard: Combustible, article 24, paragraphe 1","s.o.",null,null,null,null,null,null,null,null,"s.o.","Hydrogène et gaz de synthèse: Combustible employé pour alimenter le procédé",null,"OxF_Hydrogène et gaz de synthèse: Combustible employé pour alimenter le procédé",null,null,null,null,null,null,true,null,null,null,null,null,null,null,null,null,null,null,"","","","",""]
[51,"Production d'hydrogène et de gaz de synthèse","Hydrogène et gaz de synthèse","Méthode du bilan massique",null,"Méthode du bilan massique, article 25","s.o.",null,null,null,null,null,null,null,null,"s.o.","Hydrogène et gaz de synthèse: Méthode du bilan massique",null,"OxF_Hydrogène et gaz de synthèse: Méthode du bilan massique",null,null,null,null,null,null,true,null,null,null,null,null,null,null,null,null,null,null,"","","","",""]
[52,"Production de produits chimiques en vrac","Produits chimiques organiques de base","Méthode du bilan massique",null,"Méthode du bilan massique, article 25","s.o.",null,null,null,null,null,null,null,null,"s.o.","Produits chimiques organiques de base: Méthode du bilan massique",null,"OxF_Produits chimiques organiques de base: Méthode du bilan massique",null,null,null,null,null,null,true,null,null,null,null,null,null,null,null,null,null,null,"","","","",""]
[53,"Production ou transformation de métaux ferreux","Aluminium secondaire, (non) ferreux","Procédé (méthode A): uniquement carbonates",null,"Méthode standard: Procédé, article 24, paragraphe 2","s.o.",null,null,null,null,null,null,null,null,"s.o.","Aluminium secondaire, (non) ferreux: Procédé (méthode A): uniquement carbonates",null,"OxF_Aluminium secondaire, (non) ferreux: Procédé (méthode A): uniquement carbonates",null,null,null,null,null,null,true,null,null,null,null,null,null,null,null,null,null,null,"","","","",""]
[54,"Production ou transformation de métaux ferreux","Aluminium secondaire, (non) ferreux","Procédé (méthode A): mélange (carbonates + autres que carbonates)",null,"Méthode standard: Procédé, article 24, paragraphe 2","s.o.",null,null,null,null,null,null,null,null,"s.o.","Aluminium secondaire, (non) ferreux: Procédé (méthode A): mélange (carbonates + autres que carbonates)",null,"OxF_Aluminium secondaire, (non) ferreux: Procédé (méthode A): mélange (carbonates + autres que carbonates)",null,null,null,null,null,null,true,null,null,null,null,null,null,null,null,null,null,null,"","","","",""]
[55,"Production ou transformation de métaux ferreux","Aluminium secondaire, (non) ferreux","Procédé (méthode A): non issu de carbonate",null,"Méthode standard: Procédé, article 24, paragraphe 2","s.o.",null,null,null,null,null,null,null,null,"s.o.","Aluminium secondaire, (non) ferreux: Procédé (méthode A): non issu de carbonate",null,"OxF_Aluminium secondaire, (non) ferreux: Procédé (méthode A): non issu de carbonate",null,null,null,null,null,null,true,null,null,null,null,null,null,null,null,null,null,null,"","","","",""]
[56,"Production ou transformation de métaux ferreux","Aluminium secondaire, (non) ferreux","Procédé (méthode B): production d’oxydes",null,"Méthode standard: Procédé, article 24, paragraphe 2","s.o.",null,null,null,null,null,null,null,null,"s.o.","Aluminium secondaire, (non) ferreux: Procédé (méthode B): production d’oxydes",null,"OxF_Aluminium secondaire, (non) ferreux: Procédé (méthode B): production d’oxydes",null,null,null,null,null,null,true,null,null,null,null,null,null,null,null,null,null,null,"","","","",""]
[57,"Production ou transformation de métaux ferreux","Aluminium secondaire, (non) ferreux","Méthode du bilan massique",null,"Méthode du bilan massique, article 25","s.o.",null,null,null,null,null,null,null,null,"s.o.","Aluminium secondaire, (non) ferreux: Méthode du bilan massique",null,"OxF_Aluminium secondaire, (non) ferreux: Méthode du bilan massique",null,null,null,null,null,null,true,null,null,null,null,null,null,null,null,null,null,null,"","","","",""]
[58,"Production de carbonate de sodium et de bicarbonate de sodium","Soude / bicarbonate de sodium","Méthode du bilan massique",null,"Méthode du bilan massique, article 25","s.o.",null,null,null,null,null,null,null,null,"s.o.","Soude / bicarbonate de sodium: Méthode du bilan massique",null,"OxF_Soude / bicarbonate de sodium: Méthode du bilan massique",null,null,null,null,null,null,true,null,null,null,null,null,null,null,null,null,null,null,"","","","",""]
[59,"Production d'aluminium primaire ou d'alumine","Aluminium primaire","Méthode du bilan massique",null,"Méthode du bilan massique, article 25","s.o.",null,null,null,null,null,null,null,null,"s.o.","Aluminium primaire: Méthode du bilan massique",null,"OxF_Aluminium primaire: Méthode du bilan massique",null,null,null,null,null,null,true,null,null,null,null,null,null,null,null,null,null,null,"","","","",""]
[60,"Production d'aluminium primaire ou d'alumine","Aluminium primaire","Émissions de PFC (méthode des pentes)",null,"Calcul avec dispositions spéciales pour les PFC (annexe IV section 8)","s.o.",null,null,null,null,null,null,null,null,"s.o.","Aluminium primaire: Émissions de PFC (méthode des pentes)",null,"OxF_Aluminium primaire: Émissions de PFC (méthode des pentes)",null,null,null,null,null,null,true,null,null,null,null,null,null,null,null,null,null,null,"","","","",""]
[61,{"$f":"B613","v":"Production d'aluminium primaire ou d'alumine"},"Aluminium primaire","Émissions de PFC (méthode de la surtension)",null,"Calcul avec dispositions spéciales pour les PFC (annexe IV section 8)","s.o.",null,null,null,null,null,null,null,null,"s.o.","Aluminium primaire: Émissions de PFC (méthode de la surtension)",null,"OxF_Aluminium primaire: Émissions de PFC (méthode de la surtension)",null,null,null,null,null,null,true,null,null,null,null,null,null,null,null,null,null,null,"","","","",""]
[62,"Captage des gaz à effet de serre au titre de la directive 2009/31/CE","CCS: Capture","CO2 transferred",null,{"$f":"F614","v":"Méthode du bilan massique, article 25"},"s.o.",null,null,null,null,null,null,null,null,{"$f":"G686","v":"s.o."},{"$f":"C686 & \": \" &D686","v":"CCS: Capture: CO2 transferred"},null,{"$f":"EUconst_CNTR_OxidationFactor&Q686","v":"OxF_CCS: Capture: CO2 transferred"},null,null,null,null,null,null,{"$f":"IF(G686=EUconst_NA,TRUE,FALSE)","v":true}]
[63,"Transport de gaz à effet de serre au titre de la directive 2009/31/CE","CCS: Transport","CO2 transferred",null,"Méthode du bilan massique, article 25","s.o.",null,null,null,null,null,null,null,null,"s.o.","CCS: Transport: CO2 transferred",null,"OxF_CCS: Transport: CO2 transferred",null,null,null,null,null,null,true]
[64,"Transport de gaz à effet de serre au titre de la directive 2009/31/CE","CCS: Transport","CO2 vented",null,"Méthode standard: Procédé, article 24, paragraphe 2","s.o.",null,null,null,null,null,null,null,null,"s.o.","CCS: Transport: CO2 vented",null,"OxF_CCS: Transport: CO2 vented",null,null,null,null,null,null,true]
[65,"Transport de gaz à effet de serre au titre de la directive 2009/31/CE","CCS: Transport","CO2 leaked",null,"Méthode standard: Procédé, article 24, paragraphe 2","s.o.",null,null,null,null,null,null,null,null,"s.o.","CCS: Transport: CO2 leaked",null,"OxF_CCS: Transport: CO2 leaked",null,null,null,null,null,null,true]
[66,"Transport de gaz à effet de serre au titre de la directive 2009/31/CE","CCS: Transport","CO2 fugitive",null,"Méthode standard: Procédé, article 24, paragraphe 2","s.o.",null,null,null,null,null,null,null,null,"s.o.","CCS: Transport: CO2 fugitive",null,"OxF_CCS: Transport: CO2 fugitive",null,null,null,null,null,null,true]
[67,"Stockage des gaz à effet de serre dans le cadre de la directive 2009/31/CE","CCS: Storage","CO2 transferred",null,"Méthode du bilan massique, article 25","s.o.",null,null,null,null,null,null,null,null,"s.o.","CCS: Storage: CO2 transferred",null,"OxF_CCS: Storage: CO2 transferred",null,null,null,null,null,null,true]
[68,"Stockage des gaz à effet de serre dans le cadre de la directive 2009/31/CE","CCS: Storage","CO2 vented",null,"Méthode standard: Procédé, article 24, paragraphe 2","s.o.",null,null,null,null,null,null,null,null,"s.o.","CCS: Storage: CO2 vented",null,"OxF_CCS: Storage: CO2 vented",null,null,null,null,null,null,true]
[69,"Stockage des gaz à effet de serre dans le cadre de la directive 2009/31/CE","CCS: Storage","CO2 leaked",null,"Méthode standard: Procédé, article 24, paragraphe 2","s.o.",null,null,null,null,null,null,null,null,"s.o.","CCS: Storage: CO2 leaked",null,"OxF_CCS: Storage: CO2 leaked",null,null,null,null,null,null,true]
[70,"Stockage des gaz à effet de serre dans le cadre de la directive 2009/31/CE","CCS: Storage","CO2 fugitive",null,"Méthode standard: Procédé, article 24, paragraphe 2","s.o.",null,null,null,null,null,null,null,null,"s.o.","CCS: Storage: CO2 fugitive",null,"OxF_CCS: Storage: CO2 fugitive",null,null,null,null,null,null,true]
[null,null,null,null,null,null,null,null,null,null,null,null,null,null,null,null,null,null,null,null,null,null,null,null,null,{"$f":"IF(G695=EUconst_NA,TRUE,FALSE)","v":false}]
["NEW",{"$f":"Translations!$B$523","v":"Facteur de conversion"},{"$f":"Translations!$B$957","v":"Intitulé abrégé"},{"$f":"Translations!$B$958","v":"Sous-activité"},{"$f":"Translations!$B$389","v":"Paramètre"},{"$f":"Translations!$B$959","v":"Type de source"},{"$f":"Translations!$B$960","v":"Minimum"},1,2,"2a",{"$f":"Translations!$B$928","v":"2b"},3,"3a","3b",4,{"$f":"Translations!$B$961","v":"Maximum"},null,null,null,null,null,null,null,null,null,{"$f":"Translations!$B$962","v":"Griser ?"},null,null,null,null,null,null,null,null,null,null,"1=default value, 2=lab",1,2,"2a",{"$f":"Translations!$B$928","v":"2b"},3]
[1,{"$f":"B625","v":"Combustion de combustibles"},"Combustion","Combustibles marchands ordinaires",null,{"$f":"F625","v":"Méthode standard: Combustible, article 24, paragraphe 1"},{"$f":"EUconst_NA","v":"s.o."},null,null,null,null,null,null,null,null,{"$f":"G697","v":"s.o."},{"$f":"C697 & \": \" &D697","v":"Combustion: Combustibles marchands ordinaires"},null,{"$f":"EUconst_CNTR_ConversionFactor&Q697","v":"ConvF_Combustion: Combustibles marchands ordinaires"},null,null,null,null,null,null,{"$f":"IF(G697=EUconst_NA,TRUE,FALSE)","v":true},null,null,null,null,null,null,null,null,null,null,null,"","","","",""]
[2,"Combustion de combustibles","Combustion","Autres combustibles gazeux & liquides",null,"Méthode standard: Combustible, article 24, paragraphe 1","s.o.",null,null,null,null,null,null,null,null,"s.o.",{"$f":"C698 & \": \" &D698","v":"Combustion: Autres combustibles gazeux & liquides"},null,"ConvF_Combustion: Autres combustibles gazeux & liquides",null,null,null,null,null,null,true,null,null,null,null,null,null,null,null,null,null,null,"","","","",""]
[3,"Combustion de combustibles","Combustion","Combustibles solides, hors déchets",null,"Méthode standard: Combustible, article 24, paragraphe 1","s.o.",null,null,null,null,null,null,null,null,"s.o.","Combustion: Combustibles solides, hors déchets",null,"ConvF_Combustion: Combustibles solides, hors déchets",null,null,null,null,null,null,true,null,null,null,null,null,null,null,null,null,null,null,"","","","",""]
[4,"Combustion de combustibles","Combustion","Déchets",null,"Méthode standard: Combustible, article 24, paragraphe 1","s.o.",null,null,null,null,null,null,null,null,{"$f":"G700","v":"s.o."},{"$f":"C700 & \": \" &D700","v":"Combustion: Déchets"},null,{"$f":"EUconst_CNTR_ConversionFactor&Q700","v":"ConvF_Combustion: Déchets"},null,null,null,null,null,null,{"$f":"IF(G700=EUconst_NA,TRUE,FALSE)","v":true},null,null,null,null,null,null,null,null,null,null,null,"","","","",""]
[5,"Combustion de combustibles","Combustion","Terminaux de traitement du gaz",null,"Méthode du bilan massique, article 25","s.o.",null,null,null,null,null,null,null,null,"s.o.","Combustion: Terminaux de traitement du gaz",null,"ConvF_Combustion: Terminaux de traitement du gaz",null,null,null,null,null,null,true,null,null,null,null,null,null,null,null,null,null,null,"","","","",""]
[6,"Combustion de combustibles","Combustion","Torchères",null,"Méthode standard: Combustible, article 24, paragraphe 1","s.o.",null,null,null,null,null,null,null,null,"s.o.","Combustion: Torchères",null,"ConvF_Combustion: Torchères",null,null,null,null,null,null,true,null,null,null,null,null,null,null,null,null,null,null,"","","","",""]
[7,"Combustion de combustibles","Combustion","Épuration (carbonate)",null,"Méthode standard: Procédé, article 24, paragraphe 2","s.o.",null,null,null,null,null,null,null,null,"s.o.","Combustion: Épuration (carbonate)",null,"ConvF_Combustion: Épuration (carbonate)",null,null,null,null,null,null,true,null,null,null,null,null,null,null,null,null,null,null,"","","","",""]
[8,"Combustion de combustibles","Combustion","Épuration (gypse)",null,"Méthode standard: Procédé, article 24, paragraphe 2","s.o.",null,null,null,null,null,null,null,null,"s.o.","Combustion: Épuration (gypse)",null,"ConvF_Combustion: Épuration (gypse)",null,null,null,null,null,null,true,null,null,null,null,null,null,null,null,null,null,null,"","","","",""]
[9,"Combustion de combustibles","Combustion","Épuration (urée)",null,"Méthode standard: Procédé, article 24, paragraphe 2","s.o.",null,null,null,null,null,null,null,null,"s.o.","Combustion: Épuration (urée)",null,"ConvF_Combustion: Épuration (urée)",null,null,null,null,null,null,true,null,null,null,null,null,null,null,null,null,null,null,"","","","",""]
[10,"Raffinage d'huile","Raffineries","Bilan massique",null,"Méthode du bilan massique, article 25","s.o.",null,null,null,null,null,null,null,null,{"$f":"G706","v":"s.o."},"Raffineries: Bilan massique",null,"ConvF_Raffineries: Bilan massique",null,null,null,null,null,null,true,null,null,null,null,null,null,null,null,null,null,null,"","","","",""]
[11,"Raffinage de pétrole ","Raffineries","Régénération des catalyseurs de craquage catalytique",null,"Méthode du bilan massique, article 25","s.o.",null,null,null,null,null,null,null,null,{"$f":"G707","v":"s.o."},"Raffineries: Régénération des catalyseurs de craquage catalytique",null,"ConvF_Raffineries: Régénération des catalyseurs de craquage catalytique",null,null,null,null,null,null,true,null,null,null,null,null,null,null,null,null,null,null,"","","","",""]
[12,"Raffinage de pétrole ","Raffineries","Production d'hydrogène",null,"Méthode du bilan massique, article 25","s.o.",null,null,null,null,null,null,null,null,{"$f":"G708","v":"s.o."},"Raffineries: Production d'hydrogène",null,"ConvF_Raffineries: Production d'hydrogène",null,null,null,null,null,null,true,null,null,null,null,null,null,null,null,null,null,null,"","","","",""]
[13,"Production de coke","Coke","Combustible employé pour alimenter le procédé",null,"Méthode standard: Combustible, article 24, paragraphe 1","s.o.",null,null,null,null,null,null,null,null,{"$f":"G709","v":"s.o."},"Coke: Combustible employé pour alimenter le procédé",null,"ConvF_Coke: Combustible employé pour alimenter le procédé",null,null,null,null,null,null,true,null,null,null,null,null,null,null,null,null,null,null,"","","","",""]
[14,"Production de coke","Coke","Procédé (méthode A): uniquement carbonates",null,"Méthode standard: Procédé, article 24, paragraphe 2",1,{"$f":"Translations!$B$1127","v":"Valeur par défaut du facteur de conversion =1"},{"$f":"Translations!$B$527","v":"Analyses de laboratoire"},null,null,null,null,null,null,{"$f":"G710","v":1},"Coke: Procédé (méthode A): uniquement carbonates",null,"ConvF_Coke: Procédé (méthode A): uniquement carbonates",null,null,null,null,null,null,false,null,null,null,null,null,null,null,null,null,null,null,1,2,"","",""]
[15,"Production de coke","Coke","Procédé (méthode A): mélange (carbonates + autres que carbonates)",null,"Méthode standard: Procédé, article 24, paragraphe 2",1,{"$f":"Translations!$B$1127","v":"Valeur par défaut du facteur de conversion =1"},{"$f":"Translations!$B$527","v":"Analyses de laboratoire"},null,null,null,null,null,null,1,"Coke: Procédé (méthode A): mélange (carbonates + autres que carbonates)",null,"ConvF_Coke: Procédé (méthode A): mélange (carbonates + autres que carbonates)",null,null,null,null,null,null,false,null,null,null,null,null,null,null,null,null,null,null,1,2,"","",""]
[16,"Production de coke","Coke","Procédé (méthode A): non issu de carbonate",null,"Méthode standard: Procédé, article 24, paragraphe 2",1,{"$f":"Translations!$B$1127","v":"Valeur par défaut du facteur de conversion =1"},{"$f":"Translations!$B$527","v":"Analyses de laboratoire"},null,null,null,null,null,null,1,"Coke: Procédé (méthode A): non issu de carbonate",null,"ConvF_Coke: Procédé (méthode A): non issu de carbonate",null,null,null,null,null,null,false,null,null,null,null,null,null,null,null,null,null,null,1,2,"","",""]
[17,"Production de coke","Coke","Procédé (méthode B): production d’oxydes",null,"Méthode standard: Procédé, article 24, paragraphe 2",1,{"$f":"Translations!$B$1127","v":"Valeur par défaut du facteur de conversion =1"},{"$f":"Translations!$B$527","v":"Analyses de laboratoire"},null,null,null,null,null,null,1,"Coke: Procédé (méthode B): production d’oxydes",null,"ConvF_Coke: Procédé (méthode B): production d’oxydes",null,null,null,null,null,null,false,null,null,null,null,null,null,null,null,null,null,null,1,2,"","",""]
[18,"Production de coke","Coke","Bilan massique",null,"Méthode du bilan massique, article 25",{"$f":"EUconst_NA","v":"s.o."},null,null,null,null,null,null,null,null,"s.o.","Coke: Bilan massique",null,"ConvF_Coke: Bilan massique",null,null,null,null,null,null,true,null,null,null,null,null,null,null,null,null,null,null,"","","","",""]
[19,"Grillage ou frittage de minerai métallique","Minerai de métaux","Procédé (méthode A): uniquement carbonates",null,"Méthode standard: Procédé, article 24, paragraphe 2",1,{"$f":"Translations!$B$1127","v":"Valeur par défaut du facteur de conversion =1"},{"$f":"Translations!$B$527","v":"Analyses de laboratoire"},null,null,null,null,null,null,1,"Minerai de métaux: Procédé (méthode A): uniquement carbonates",null,"ConvF_Minerai de métaux: Procédé (méthode A): uniquement carbonates",null,null,null,null,null,null,false,null,null,null,null,null,null,null,null,null,null,null,1,2,"","",""]
[20,"Grillage ou frittage de minerai métallique","Minerai de métaux","Procédé (méthode A): mélange (carbonates + autres que carbonates)",null,"Méthode standard: Procédé, article 24, paragraphe 2",1,{"$f":"Translations!$B$1127","v":"Valeur par défaut du facteur de conversion =1"},{"$f":"Translations!$B$527","v":"Analyses de laboratoire"},null,null,null,null,null,null,1,"Minerai de métaux: Procédé (méthode A): mélange (carbonates + autres que carbonates)",null,"ConvF_Minerai de métaux: Procédé (méthode A): mélange (carbonates + autres que carbonates)",null,null,null,null,null,null,false,null,null,null,null,null,null,null,null,null,null,null,1,2,"","",""]
[21,{"$f":"B645","v":"Grillage ou frittage de minerai métallique"},"Minerai de métaux","Procédé (méthode A): non issu de carbonate",null,"Méthode standard: Procédé, article 24, paragraphe 2",1,{"$f":"Translations!$B$1127","v":"Valeur par défaut du facteur de conversion =1"},{"$f":"Translations!$B$527","v":"Analyses de laboratoire"},null,null,null,null,null,null,1,"Minerai de métaux: Procédé (méthode A): non issu de carbonate",null,"ConvF_Minerai de métaux: Procédé (méthode A): non issu de carbonate",null,null,null,null,null,null,false,null,null,null,null,null,null,null,null,null,null,null,1,2,"","",""]
[22,"Grillage ou frittage de minerai métallique","Minerai de métaux","Procédé (méthode B): production d’oxydes",null,"Méthode standard: Procédé, article 24, paragraphe 2",1,{"$f":"Translations!$B$1127","v":"Valeur par défaut du facteur de conversion =1"},{"$f":"Translations!$B$527","v":"Analyses de laboratoire"},null,null,null,null,null,null,1,"Minerai de métaux: Procédé (méthode B): production d’oxydes",null,"ConvF_Minerai de métaux: Procédé (méthode B): production d’oxydes",null,null,null,null,null,null,false,null,null,null,null,null,null,null,null,null,null,null,1,2,"","",""]
[23,"Grillage ou frittage de minerai métallique","Minerai de métaux","Bilan massique",null,"Méthode du bilan massique, article 25",{"$f":"EUconst_NA","v":"s.o."},null,null,null,null,null,null,null,null,"s.o.","Minerai de métaux: Bilan massique",null,"ConvF_Minerai de métaux: Bilan massique",null,null,null,null,null,null,true,null,null,null,null,null,null,null,null,null,null,null,"","","","",""]
[24,"Production de fer ou d'acier","Sidérurgie","Combustible employé pour alimenter le procédé",null,"Méthode standard: Combustible, article 24, paragraphe 1",{"$f":"EUconst_NA","v":"s.o."},null,null,null,null,null,null,null,null,"s.o.","Sidérurgie: Combustible employé pour alimenter le procédé",null,"ConvF_Sidérurgie: Combustible employé pour alimenter le procédé",null,null,null,null,null,null,true,null,null,null,null,null,null,null,null,null,null,null,"","","","",""]
[25,"Production de fer ou d'acier","Sidérurgie","Procédé (méthode A): uniquement carbonates",null,"Méthode standard: Procédé, article 24, paragraphe 2",1,{"$f":"Translations!$B$1127","v":"Valeur par défaut du facteur de conversion =1"},{"$f":"Translations!$B$527","v":"Analyses de laboratoire"},null,null,null,null,null,null,1,"Sidérurgie: Procédé (méthode A): uniquement carbonates",null,"ConvF_Sidérurgie: Procédé (méthode A): uniquement carbonates",null,null,null,null,null,null,false,null,null,null,null,null,null,null,null,null,null,null,1,2,"","",""]
[26,"Production de fer ou d'acier","Sidérurgie","Procédé (méthode A): mélange (carbonates + autres que carbonates)",null,"Méthode standard: Procédé, article 24, paragraphe 2",1,{"$f":"Translations!$B$1127","v":"Valeur par défaut du facteur de conversion =1"},{"$f":"Translations!$B$527","v":"Analyses de laboratoire"},null,null,null,null,null,null,1,"Sidérurgie: Procédé (méthode A): mélange (carbonates + autres que carbonates)",null,"ConvF_Sidérurgie: Procédé (méthode A): mélange (carbonates + autres que carbonates)",null,null,null,null,null,null,false,null,null,null,null,null,null,null,null,null,null,null,1,2,"","",""]
[27,"Production de fer ou d'acier","Sidérurgie","Procédé (méthode A): non issu de carbonate",null,"Méthode standard: Procédé, article 24, paragraphe 2",1,{"$f":"Translations!$B$1127","v":"Valeur par défaut du facteur de conversion =1"},{"$f":"Translations!$B$527","v":"Analyses de laboratoire"},null,null,null,null,null,null,1,"Sidérurgie: Procédé (méthode A): non issu de carbonate",null,"ConvF_Sidérurgie: Procédé (méthode A): non issu de carbonate",null,null,null,null,null,null,false,null,null,null,null,null,null,null,null,null,null,null,1,2,"","",""]
[28,"Production de fer ou d'acier","Sidérurgie","Procédé (méthode B): production d’oxydes",null,"Méthode standard: Procédé, article 24, paragraphe 2",1,{"$f":"Translations!$B$1127","v":"Valeur par défaut du facteur de conversion =1"},{"$f":"Translations!$B$527","v":"Analyses de laboratoire"},null,null,null,null,null,null,1,"Sidérurgie: Procédé (méthode B): production d’oxydes",null,"ConvF_Sidérurgie: Procédé (méthode B): production d’oxydes",null,null,null,null,null,null,false,null,null,null,null,null,null,null,null,null,null,null,1,2,"","",""]
[29,"Production de fer ou d'acier","Sidérurgie","Bilan massique",null,"Méthode du bilan massique, article 25",{"$f":"EUconst_NA","v":"s.o."},null,null,null,null,null,null,null,null,"s.o.","Sidérurgie: Bilan massique",null,"ConvF_Sidérurgie: Bilan massique",null,null,null,null,null,null,true,null,null,null,null,null,null,null,null,null,null,null,"","","","",""]
[30,"Production de clinker","Clinker","D'après la charge du four (méthode A)",null,"Méthode standard: Procédé, article 24, paragraphe 2",1,{"$f":"Translations!$B$1127","v":"Valeur par défaut du facteur de conversion =1"},{"$f":"Translations!$B$527","v":"Analyses de laboratoire"},null,null,null,null,null,null,1,"Clinker: D'après la charge du four (méthode A)",null,"ConvF_Clinker: D'après la charge du four (méthode A)",null,null,null,null,null,null,false,null,null,null,null,null,null,null,null,null,null,null,1,2,"","",""]
[31,"Production de clinker","Clinker","Quantité de clinker produite (méthode B)",null,"Méthode standard: Procédé, article 24, paragraphe 2",1,{"$f":"Translations!$B$1127","v":"Valeur par défaut du facteur de conversion =1"},{"$f":"Translations!$B$527","v":"Analyses de laboratoire"},null,null,null,null,null,null,1,"Clinker: Quantité de clinker produite (méthode B)",null,"ConvF_Clinker: Quantité de clinker produite (méthode B)",null,null,null,null,null,null,false,null,null,null,null,null,null,null,null,null,null,null,1,2,"","",""]
[32,"Production de clinker","Clinker","Poussières des fours à ciment",null,"Méthode standard: Procédé, article 24, paragraphe 2",{"$f":"EUconst_NA","v":"s.o."},null,null,null,null,null,null,null,null,"s.o.","Clinker: Poussières des fours à ciment",null,"ConvF_Clinker: Poussières des fours à ciment",null,null,null,null,null,null,true,null,null,null,null,null,null,null,null,null,null,null,"","","","",""]
[33,"Production de clinker","Clinker","Carbone non issu de carbonates",null,{"$f":"F657","v":"Méthode standard: Procédé, article 24, paragraphe 2"},1,{"$f":"Translations!$B$1127","v":"Valeur par défaut du facteur de conversion =1"},{"$f":"Translations!$B$1085","v":"Meilleures pratiques"},null,null,null,null,null,null,1,"Clinker: Carbone non issu de carbonates",null,"ConvF_Clinker: Carbone non issu de carbonates",null,null,null,null,null,null,false,null,null,null,null,null,null,null,null,null,null,null,1,2,"","",""]
[34,"Production de chaux ou calcination de dolomite/magnésite","Chaux / dolomite / magnésite","Procédé (méthode A): uniquement carbonates",null,"Méthode standard: Procédé, article 24, paragraphe 2",1,{"$f":"Translations!$B$1127","v":"Valeur par défaut du facteur de conversion =1"},{"$f":"Translations!$B$527","v":"Analyses de laboratoire"},null,null,null,null,null,null,1,"Chaux / dolomite / magnésite: Procédé (méthode A): uniquement carbonates",null,{"$f":"EUconst_CNTR_ConversionFactor&Q730","v":"ConvF_Chaux / dolomite / magnésite: Procédé (méthode A): uniquement carbonates"},null,null,null,null,null,null,false,null,null,null,null,null,null,null,null,null,null,null,1,2,"","",""]
[35,"Production de chaux ou calcination de dolomite/magnésite","Chaux / dolomite / magnésite","Procédé (méthode A): mélange (carbonates + autres que carbonates)",null,"Méthode standard: Procédé, article 24, paragraphe 2",1,{"$f":"Translations!$B$1127","v":"Valeur par défaut du facteur de conversion =1"},{"$f":"Translations!$B$527","v":"Analyses de laboratoire"},null,null,null,null,null,null,1,"Chaux / dolomite / magnésite: Procédé (méthode A): mélange (carbonates + autres que carbonates)",null,"ConvF_Chaux / dolomite / magnésite: Procédé (méthode A): mélange (carbonates + autres que carbonates)",null,null,null,null,null,null,false,null,null,null,null,null,null,null,null,null,null,null,1,2,"","",""]
[36,"Production de chaux ou calcination de dolomite/magnésite","Chaux / dolomite / magnésite","Procédé (méthode A): non issu de carbonate",null,"Méthode standard: Procédé, article 24, paragraphe 2",1,{"$f":"Translations!$B$1127","v":"Valeur par défaut du facteur de conversion =1"},{"$f":"Translations!$B$1085","v":"Meilleures pratiques"},null,null,null,null,null,null,1,"Chaux / dolomite / magnésite: Procédé (méthode A): non issu de carbonate",null,"ConvF_Chaux / dolomite / magnésite: Procédé (méthode A): non issu de carbonate",null,null,null,null,null,null,false,null,null,null,null,null,null,null,null,null,null,null,1,2,"","",""]
[37,"Production de chaux ou calcination de dolomite/magnésite","Chaux / dolomite / magnésite","Procédé (méthode B): production d’oxydes",null,"Méthode standard: Procédé, article 24, paragraphe 2",1,{"$f":"Translations!$B$1127","v":"Valeur par défaut du facteur de conversion =1"},{"$f":"Translations!$B$527","v":"Analyses de laboratoire"},null,null,null,null,null,null,1,"Chaux / dolomite / magnésite: Procédé (méthode B): production d’oxydes",null,"ConvF_Chaux / dolomite / magnésite: Procédé (méthode B): production d’oxydes",null,null,null,null,null,null,false,null,null,null,null,null,null,null,null,null,null,null,1,2,"","",""]
[38,"Production de chaux ou calcination de dolomite/magnésite","Chaux / dolomite / magnésite","Poussières de four (méthode B)",null,"Méthode standard: Procédé, article 24, paragraphe 2",1,{"$f":"Translations!$B$1127","v":"Valeur par défaut du facteur de conversion =1"},{"$f":"Translations!$B$527","v":"Analyses de laboratoire"},null,null,null,null,null,null,1,"Chaux / dolomite / magnésite: Poussières de four (méthode B)",null,"ConvF_Chaux / dolomite / magnésite: Poussières de four (méthode B)",null,null,null,null,null,null,false,null,null,null,null,null,null,null,null,null,null,null,1,2,"","",""]
[39,"Fabrication de verre","Verre et laine minérale","Procédé (méthode A): uniquement carbonates",null,"Méthode standard: Procédé, article 24, paragraphe 2",{"$f":"EUconst_NA","v":"s.o."},null,null,null,null,null,null,null,null,"s.o.","Verre et laine minérale: Procédé (méthode A): uniquement carbonates",null,"ConvF_Verre et laine minérale: Procédé (méthode A): uniquement carbonates",null,null,null,null,null,null,true,null,null,null,null,null,null,null,null,null,null,null,"","","","",""]
[40,"Fabrication de verre","Verre et laine minérale","Procédé (méthode A): mélange (carbonates + autres que carbonates)",null,"Méthode standard: Procédé, article 24, paragraphe 2",{"$f":"EUconst_NA","v":"s.o."},null,null,null,null,null,null,null,null,"s.o.","Verre et laine minérale: Procédé (méthode A): mélange (carbonates + autres que carbonates)",null,"ConvF_Verre et laine minérale: Procédé (méthode A): mélange (carbonates + autres que carbonates)",null,null,null,null,null,null,true,null,null,null,null,null,null,null,null,null,null,null,"","","","",""]
[41,{"$f":"B665","v":"Fabrication de verre"},"Verre et laine minérale","Procédé (méthode A): non issu de carbonate",null,"Méthode standard: Procédé, article 24, paragraphe 2",{"$f":"EUconst_NA","v":"s.o."},null,null,null,null,null,null,null,null,"s.o.","Verre et laine minérale: Procédé (méthode A): non issu de carbonate",null,"ConvF_Verre et laine minérale: Procédé (méthode A): non issu de carbonate",null,null,null,null,null,null,true,null,null,null,null,null,null,null,null,null,null,null,"","","","",""]
[42,"Fabrication de produits céramiques","Céramique","Procédé (méthode A): uniquement carbonates",null,"Méthode standard: Procédé, article 24, paragraphe 2",1,{"$f":"Translations!$B$1127","v":"Valeur par défaut du facteur de conversion =1"},{"$f":"Translations!$B$527","v":"Analyses de laboratoire"},null,null,null,null,null,null,1,"Céramique: Procédé (méthode A): uniquement carbonates",null,"ConvF_Céramique: Procédé (méthode A): uniquement carbonates",null,null,null,null,null,null,false,null,null,null,null,null,null,null,null,null,null,null,1,2,"","",""]
[43,"Fabrication de produits céramiques","Céramique","Procédé (méthode A): mélange (carbonates + autres que carbonates)",null,"Méthode standard: Procédé, article 24, paragraphe 2",1,{"$f":"Translations!$B$1127","v":"Valeur par défaut du facteur de conversion =1"},{"$f":"Translations!$B$527","v":"Analyses de laboratoire"},null,null,null,null,null,null,1,"Céramique: Procédé (méthode A): mélange (carbonates + autres que carbonates)",null,"ConvF_Céramique: Procédé (méthode A): mélange (carbonates + autres que carbonates)",null,null,null,null,null,null,false,null,null,null,null,null,null,null,null,null,null,null,1,2,"","",""]
[44,"Fabrication de produits céramiques","Céramique","Procédé (méthode A): non issu de carbonate",null,"Méthode standard: Procédé, article 24, paragraphe 2",1,{"$f":"Translations!$B$1127","v":"Valeur par défaut du facteur de conversion =1"},{"$f":"Translations!$B$527","v":"Analyses de laboratoire"},null,null,null,null,null,null,1,"Céramique: Procédé (méthode A): non issu de carbonate",null,"ConvF_Céramique: Procédé (méthode A): non issu de carbonate",null,null,null,null,null,null,false,null,null,null,null,null,null,null,null,null,null,null,1,2,"","",""]
[45,"Fabrication de produits céramiques","Céramique","Procédé (méthode B): production d’oxydes",null,"Méthode standard: Procédé, article 24, paragraphe 2",1,{"$f":"Translations!$B$1127","v":"Valeur par défaut du facteur de conversion =1"},{"$f":"Translations!$B$527","v":"Analyses de laboratoire"},null,null,null,null,null,null,1,"Céramique: Procédé (méthode B): production d’oxydes",null,"ConvF_Céramique: Procédé (méthode B): production d’oxydes",null,null,null,null,null,null,false,null,null,null,null,null,null,null,null,null,null,null,1,2,"","",""]
[46,"Fabrication de produits céramiques","Céramique","Épuration",null,"Méthode standard: Procédé, article 24, paragraphe 2",{"$f":"EUconst_NA","v":"s.o."},null,null,null,null,null,null,null,null,"s.o.","Céramique: Épuration",null,"ConvF_Céramique: Épuration",null,null,null,null,null,null,true,null,null,null,null,null,null,null,null,null,null,null,"","","","",""]
[47,"Production de pâte à papier","Papier et pâte à papier","Produits chimiques d'appoint",null,"Méthode standard: Procédé, article 24, paragraphe 2","s.o.",null,null,null,null,null,null,null,null,"s.o.","Papier et pâte à papier: Produits chimiques d'appoint",null,"ConvF_Papier et pâte à papier: Produits chimiques d'appoint",null,null,null,null,null,null,true,null,null,null,null,null,null,null,null,null,null,null,"","","","",""]
[48,"Production de noir de carbone","Noir de carbone","Méthode du bilan massique",null,"Méthode du bilan massique, article 25","s.o.",null,null,null,null,null,null,null,null,"s.o.","Noir de carbone: Méthode du bilan massique",null,"ConvF_Noir de carbone: Méthode du bilan massique",null,null,null,null,null,null,true,null,null,null,null,null,null,null,null,null,null,null,"","","","",""]
[49,"Production d'ammoniac","Ammoniac","Combustible employé pour alimenter le procédé",null,"Méthode standard: Combustible, article 24, paragraphe 1","s.o.",null,null,null,null,null,null,null,null,"s.o.","Ammoniac: Combustible employé pour alimenter le procédé",null,"ConvF_Ammoniac: Combustible employé pour alimenter le procédé",null,null,null,null,null,null,true,null,null,null,null,null,null,null,null,null,null,null,"","","","",""]
[50,"Production d'hydrogène et de gaz de synthèse","Hydrogène et gaz de synthèse","Combustible employé pour alimenter le procédé",null,"Méthode standard: Combustible, article 24, paragraphe 1","s.o.",null,null,null,null,null,null,null,null,"s.o.","Hydrogène et gaz de synthèse: Combustible employé pour alimenter le procédé",null,"ConvF_Hydrogène et gaz de synthèse: Combustible employé pour alimenter le procédé",null,null,null,null,null,null,true,null,null,null,null,null,null,null,null,null,null,null,"","","","",""]
[51,"Production d'hydrogène et de gaz de synthèse","Hydrogène et gaz de synthèse","Méthode du bilan massique",null,"Méthode du bilan massique, article 25","s.o.",null,null,null,null,null,null,null,null,"s.o.","Hydrogène et gaz de synthèse: Méthode du bilan massique",null,"ConvF_Hydrogène et gaz de synthèse: Méthode du bilan massique",null,null,null,null,null,null,true,null,null,null,null,null,null,null,null,null,null,null,"","","","",""]
[52,"Production de produits chimiques en vrac","Produits chimiques organiques de base","Méthode du bilan massique",null,"Méthode du bilan massique, article 25","s.o.",null,null,null,null,null,null,null,null,"s.o.","Produits chimiques organiques de base: Méthode du bilan massique",null,"ConvF_Produits chimiques organiques de base: Méthode du bilan massique",null,null,null,null,null,null,true,null,null,null,null,null,null,null,null,null,null,null,"","","","",""]
[53,"Production ou transformation de métaux ferreux","Aluminium secondaire, (non) ferreux","Procédé (méthode A): uniquement carbonates",null,"Méthode standard: Procédé, article 24, paragraphe 2",1,{"$f":"Translations!$B$1127","v":"Valeur par défaut du facteur de conversion =1"},{"$f":"Translations!$B$527","v":"Analyses de laboratoire"},null,null,null,null,null,null,1,"Aluminium secondaire, (non) ferreux: Procédé (méthode A): uniquement carbonates",null,"ConvF_Aluminium secondaire, (non) ferreux: Procédé (méthode A): uniquement carbonates",null,null,null,null,null,null,false,null,null,null,null,null,null,null,null,null,null,null,1,2,"","",""]
[54,"Production ou transformation de métaux ferreux","Aluminium secondaire, (non) ferreux","Procédé (méthode A): mélange (carbonates + autres que carbonates)",null,"Méthode standard: Procédé, article 24, paragraphe 2",1,{"$f":"Translations!$B$1127","v":"Valeur par défaut du facteur de conversion =1"},{"$f":"Translations!$B$527","v":"Analyses de laboratoire"},null,null,null,null,null,null,1,"Aluminium secondaire, (non) ferreux: Procédé (méthode A): mélange (carbonates + autres que carbonates)",null,"ConvF_Aluminium secondaire, (non) ferreux: Procédé (méthode A): mélange (carbonates + autres que carbonates)",null,null,null,null,null,null,false,null,null,null,null,null,null,null,null,null,null,null,1,2,"","",""]
[55,"Production ou transformation de métaux ferreux","Aluminium secondaire, (non) ferreux","Procédé (méthode A): non issu de carbonate",null,"Méthode standard: Procédé, article 24, paragraphe 2",1,{"$f":"Translations!$B$1127","v":"Valeur par défaut du facteur de conversion =1"},{"$f":"Translations!$B$527","v":"Analyses de laboratoire"},null,null,null,null,null,null,1,"Aluminium secondaire, (non) ferreux: Procédé (méthode A): non issu de carbonate",null,"ConvF_Aluminium secondaire, (non) ferreux: Procédé (méthode A): non issu de carbonate",null,null,null,null,null,null,false,null,null,null,null,null,null,null,null,null,null,null,1,2,"","",""]
[56,"Production ou transformation de métaux ferreux","Aluminium secondaire, (non) ferreux","Procédé (méthode B): production d’oxydes",null,"Méthode standard: Procédé, article 24, paragraphe 2",1,{"$f":"Translations!$B$1127","v":"Valeur par défaut du facteur de conversion =1"},{"$f":"Translations!$B$527","v":"Analyses de laboratoire"},null,null,null,null,null,null,1,"Aluminium secondaire, (non) ferreux: Procédé (méthode B): production d’oxydes",null,"ConvF_Aluminium secondaire, (non) ferreux: Procédé (méthode B): production d’oxydes",null,null,null,null,null,null,false,null,null,null,null,null,null,null,null,null,null,null,1,2,"","",""]
[57,"Production ou transformation de métaux ferreux","Aluminium secondaire, (non) ferreux","Méthode du bilan massique",null,"Méthode du bilan massique, article 25",{"$f":"EUconst_NA","v":"s.o."},null,null,null,null,null,null,null,null,{"$f":"G753","v":"s.o."},"Aluminium secondaire, (non) ferreux: Méthode du bilan massique",null,"ConvF_Aluminium secondaire, (non) ferreux: Méthode du bilan massique",null,null,null,null,null,null,true,null,null,null,null,null,null,null,null,null,null,null,"","","","",""]
[58,"Production de carbonate de sodium et de bicarbonate de sodium","Soude / bicarbonate de sodium","Méthode du bilan massique",null,"Méthode du bilan massique, article 25","s.o.",null,null,null,null,null,null,null,null,{"$f":"G754","v":"s.o."},"Soude / bicarbonate de sodium: Méthode du bilan massique",null,"ConvF_Soude / bicarbonate de sodium: Méthode du bilan massique",null,null,null,null,null,null,true,null,null,null,null,null,null,null,null,null,null,null,"","","","",""]
[59,"Production d'aluminium primaire ou d'alumine","Aluminium primaire","Méthode du bilan massique",null,"Méthode du bilan massique, article 25","s.o.",null,null,null,null,null,null,null,null,{"$f":"G755","v":"s.o."},"Aluminium primaire: Méthode du bilan massique",null,"ConvF_Aluminium primaire: Méthode du bilan massique",null,null,null,null,null,null,{"$f":"IF(G755=EUconst_NA,TRUE,FALSE)","v":true},null,null,null,null,null,null,null,null,null,null,null,"","","","",""]
[60,"Production d'aluminium primaire ou d'alumine","Aluminium primaire","Émissions de PFC (méthode des pentes)",null,"Calcul avec dispositions spéciales pour les PFC (annexe IV section 8)","s.o.",null,null,null,null,null,null,null,null,{"$f":"G756","v":"s.o."},"Aluminium primaire: Émissions de PFC (méthode des pentes)",null,"ConvF_Aluminium primaire: Émissions de PFC (méthode des pentes)",null,null,null,null,null,null,true,null,null,null,null,null,null,null,null,null,null,null,"","","","",""]
[61,{"$f":"B685","v":"Production d'aluminium primaire ou d'alumine"},"Aluminium primaire","Émissions de PFC (méthode de la surtension)",null,"Calcul avec dispositions spéciales pour les PFC (annexe IV section 8)","s.o.",null,null,null,null,null,null,null,null,{"$f":"G757","v":"s.o."},"Aluminium primaire: Émissions de PFC (méthode de la surtension)",null,"ConvF_Aluminium primaire: Émissions de PFC (méthode de la surtension)",null,null,null,null,null,null,true,null,null,null,null,null,null,null,null,null,null,null,"","","","",""]
[62,"Captage des gaz à effet de serre au titre de la directive 2009/31/CE","CCS: Capture","CO2 transferred",null,{"$f":"F686","v":"Méthode du bilan massique, article 25"},"s.o.",null,null,null,null,null,null,null,null,{"$f":"G758","v":"s.o."},{"$f":"C758 & \": \" &D758","v":"CCS: Capture: CO2 transferred"},null,{"$f":"EUconst_CNTR_ConversionFactor&Q758","v":"ConvF_CCS: Capture: CO2 transferred"},null,null,null,null,null,null,{"$f":"IF(G758=EUconst_NA,TRUE,FALSE)","v":true}]
[63,"Transport de gaz à effet de serre au titre de la directive 2009/31/CE","CCS: Transport","CO2 transferred",null,"Méthode du bilan massique, article 25","s.o.",null,null,null,null,null,null,null,null,"s.o.","CCS: Transport: CO2 transferred",null,"ConvF_CCS: Transport: CO2 transferred",null,null,null,null,null,null,true]
[64,"Transport de gaz à effet de serre au titre de la directive 2009/31/CE","CCS: Transport","CO2 vented",null,"Méthode standard: Procédé, article 24, paragraphe 2","s.o.",null,null,null,null,null,null,null,null,"s.o.","CCS: Transport: CO2 vented",null,"ConvF_CCS: Transport: CO2 vented",null,null,null,null,null,null,true]
[65,"Transport de gaz à effet de serre au titre de la directive 2009/31/CE","CCS: Transport","CO2 leaked",null,"Méthode standard: Procédé, article 24, paragraphe 2","s.o.",null,null,null,null,null,null,null,null,"s.o.","CCS: Transport: CO2 leaked",null,"ConvF_CCS: Transport: CO2 leaked",null,null,null,null,null,null,true]
[66,"Transport de gaz à effet de serre au titre de la directive 2009/31/CE","CCS: Transport","CO2 fugitive",null,"Méthode standard: Procédé, article 24, paragraphe 2","s.o.",null,null,null,null,null,null,null,null,"s.o.","CCS: Transport: CO2 fugitive",null,"ConvF_CCS: Transport: CO2 fugitive",null,null,null,null,null,null,true]
[67,"Stockage des gaz à effet de serre dans le cadre de la directive 2009/31/CE","CCS: Storage","CO2 transferred",null,"Méthode du bilan massique, article 25","s.o.",null,null,null,null,null,null,null,null,"s.o.","CCS: Storage: CO2 transferred",null,"ConvF_CCS: Storage: CO2 transferred",null,null,null,null,null,null,true]
[68,"Stockage des gaz à effet de serre dans le cadre de la directive 2009/31/CE","CCS: Storage","CO2 vented",null,"Méthode standard: Procédé, article 24, paragraphe 2","s.o.",null,null,null,null,null,null,null,null,"s.o.","CCS: Storage: CO2 vented",null,"ConvF_CCS: Storage: CO2 vented",null,null,null,null,null,null,true]
[69,"Stockage des gaz à effet de serre dans le cadre de la directive 2009/31/CE","CCS: Storage","CO2 leaked",null,"Méthode standard: Procédé, article 24, paragraphe 2","s.o.",null,null,null,null,null,null,null,null,"s.o.","CCS: Storage: CO2 leaked",null,"ConvF_CCS: Storage: CO2 leaked",null,null,null,null,null,null,true]
[70,"Stockage des gaz à effet de serre dans le cadre de la directive 2009/31/CE","CCS: Storage","CO2 fugitive",null,"Méthode standard: Procédé, article 24, paragraphe 2","s.o.",null,null,null,null,null,null,null,null,"s.o.","CCS: Storage: CO2 fugitive",null,"ConvF_CCS: Storage: CO2 fugitive",null,null,null,null,null,null,true]
[null,null,null,null,null,null,null,null,null,null,null,null,null,null,null,null,null,null,null,null,null,null,null,null,null,{"$f":"IF(G767=EUconst_NA,TRUE,FALSE)","v":false}]
["CCU ",null,{"$f":"Translations!$B$957","v":"Intitulé abrégé"},{"$f":"Translations!$B$958","v":"Sous-activité"},{"$f":"Translations!$B$389","v":"Paramètre"},{"$f":"Translations!$B$959","v":"Type de source"},{"$f":"Translations!$B$960","v":"Minimum"},1,2,"2a",{"$f":"Translations!$B$928","v":"2b"},3,"3a","3b",4,{"$f":"Translations!$B$961","v":"Maximum"},null,null,null,null,null,null,null,null,null,{"$f":"Translations!$B$962","v":"Griser ?"},null,null,null,null,null,null,null,null,null,null,"1=default value, 2=lab",1,2,"2a",{"$f":"Translations!$B$928","v":"2b"},3,"3a","3b"]
[null,null,"CCU","Process inputs & outputs",{"$f":"Translations!$B$974","v":"Chaque matière entrante et sortante [t]"},{"$f":"EUconst_MassBalance","v":"Méthode du bilan massique, article 25"},4,{"$f":"Translations!$B$966","v":"± 7,5%"},{"$f":"Translations!$B$967","v":"± 5,0%"},null,null,{"$f":"Translations!$B$968","v":"± 2,5%"},null,null,{"$f":"Translations!$B$969","v":"± 1,5%"},4,{"$f":"C769 & \": \" &D769","v":"CCU: Process inputs & outputs"},null,{"$f":"EUconst_CNTR_ActivityData&Q769","v":"ActivityData_CCU: Process inputs & outputs"},null,null,null,null,null,null,null,null,null,null,null,null,null,null,null,null,null,null,"","","","","","",""]
[null,null,{"$f":"C769","v":"CCU"},"Process inputs & outputs",null,"Méthode du bilan massique, article 25",{"$f":"EUconst_NA","v":"s.o."},null,null,null,null,null,null,null,null,{"$f":"G770","v":"s.o."},{"$f":"C770 & \": \" &D770","v":"CCU: Process inputs & outputs"},null,{"$f":"EUconst_CNTR_EF&Q770","v":"EF_CCU: Process inputs & outputs"},null,null,null,null,null,null,null,null,null,null,null,null,null,null,null,null,null,null,"","","","","","",""]
[null,null,"CCU","Process inputs & outputs",null,"Méthode du bilan massique, article 25",3,{"$f":"Translations!$B$493","v":"Valeurs par défaut de type I"},null,{"$f":"Translations!$B$528","v":"Valeurs par défaut de type II :"},{"$f":"Translations!$B$1109","v":"Données d’achat (le cas échéant)"},{"$f":"Translations!$B$527","v":"Analyses de laboratoire"},null,null,null,{"$f":"IF(G771=EUconst_NA,EUconst_NA,IF(ISBLANK(J771),COUNTA(H771:O771),COUNTA(H771,J771,L771)))","v":3},"CCU: Process inputs & outputs",null,{"$f":"EUconst_CNTR_NCV&Q771","v":"NCV_CCU: Process inputs & outputs"},null,null,null,null,null,null,null,null,null,null,null,null,null,null,null,null,null,null,1,1,1,2,2]
[null,null,"CCU","Process inputs & outputs",null,"Méthode du bilan massique, article 25",3,{"$f":"Translations!$B$493","v":"Valeurs par défaut de type I"},null,{"$f":"Translations!$B$528","v":"Valeurs par défaut de type II :"},{"$f":"Translations!$B$1061","v":"Variables représentatives (le cas échéant)"},{"$f":"Translations!$B$527","v":"Analyses de laboratoire"},null,null,null,{"$f":"IF(G772=EUconst_NA,EUconst_NA,IF(ISBLANK(J772),COUNTA(H772:O772),COUNTA(H772,J772,L772)))","v":3},"CCU: Process inputs & outputs",null,{"$f":"EUconst_CNTR_CarbonContent&Q772","v":"CarbC_CCU: Process inputs & outputs"},null,null,null,null,null,null,null,null,null,null,null,null,null,null,null,null,null,null,1,1,1,2,2]
[null,null,"CCU","Process inputs & outputs",null,"Méthode du bilan massique, article 25",3,{"$f":"Translations!$B$505","v":"Fraction issue de la biomasse de type I"},{"$f":"Translations!$B$510","v":"Fraction issue de la biomasse de type II"},null,null,null,{"$f":"Translations!$B$1266","v":"Analyse de la fraction issue de la biomasse"},"Mass balance, e.g. in accordance with Article 30(1) of RED II",null,3,"CCU: Process inputs & outputs",null,{"$f":"EUconst_CNTR_BiomassContent&Q773","v":"BioC_CCU: Process inputs & outputs"},null,null,null,null,null,null,null,null,null,null,null,null,null,null,null,null,null,null,1,"","","","",2,3]
[null,null,"CCU","Process inputs & outputs",null,"Méthode du bilan massique, article 25",{"$f":"EUconst_NA","v":"s.o."},null,null,null,null,null,null,null,null,{"$f":"G774","v":"s.o."},"CCU: Process inputs & outputs",null,{"$f":"EUconst_CNTR_OxidationFactor&Q774","v":"OxF_CCU: Process inputs & outputs"},null,null,null,null,null,null,null,null,null,null,null,null,null,null,null,null,null,null,"","","","","","",""]
[null,null,"CCU","Process inputs & outputs",null,"Méthode du bilan massique, article 25",{"$f":"EUconst_NA","v":"s.o."},null,null,null,null,null,null,null,null,{"$f":"G775","v":"s.o."},"CCU: Process inputs & outputs",null,{"$f":"EUconst_CNTR_ConversionFactor&Q775","v":"ConvF_CCU: Process inputs & outputs"},null,null,null,null,null,null,null,null,null,null,null,null,null,null,null,null,null,null,"","","","","","",""]
[null,null,null,null,null,null,null,null,null,null,null,null,null,null,null,null,null,null,null,null,null,null,null,null,null,null,null,null,null,null,null,null,null,null,null,null,null,"","","","","","",""]
[null,{"$f":"Translations!$B$1131","v":"Mesure"},null,null,null,null,{"$f":"Translations!$B$960","v":"Minimum"},1,2,"2a",{"$f":"Translations!$B$928","v":"2b"},3,"3a","3b",4,{"$f":"Translations!$B$961","v":"Maximum"}]
[null,{"$f":"B51","v":"CO2"},null,null,null,null,2,{"$f":"Translations!$B$1132","v":"± 10,0%"},{"$f":"Translations!$B$966","v":"± 7,5%"},null,null,{"$f":"Translations!$B$967","v":"± 5,0%"},null,null,{"$f":"Translations!$B$968","v":"± 2,5%"},{"$f":"IF(G778=EUconst_NA,EUconst_NA,IF(ISBLANK(J778),COUNTA(H778:O778),COUNTA(H778,J778,L778)))","v":4}]
[null,{"$f":"C51","v":"N2O"},null,null,null,null,2,{"$f":"Translations!$B$1132","v":"± 10,0%"},{"$f":"Translations!$B$966","v":"± 7,5%"},null,null,{"$f":"Translations!$B$967","v":"± 5,0%"},null,null,{"$f":"EUconst_NA","v":"s.o."},3]
[null,{"$f":"D51","v":"Transfert de CO2"},null,null,null,null,2,{"$f":"Translations!$B$1132","v":"± 10,0%"},{"$f":"Translations!$B$966","v":"± 7,5%"},null,null,{"$f":"Translations!$B$967","v":"± 5,0%"},null,null,{"$f":"Translations!$B$968","v":"± 2,5%"},{"$f":"IF(G780=EUconst_NA,EUconst_NA,IF(ISBLANK(J780),COUNTA(H780:O780),COUNTA(H780,J780,L780)))","v":4}]
[null,{"$f":"Translations!$B$1241","v":"Transfert de N2O"},null,null,null,null,2,{"$f":"Translations!$B$1132","v":"± 10,0%"},{"$f":"Translations!$B$966","v":"± 7,5%"},null,null,{"$f":"Translations!$B$967","v":"± 5,0%"},null,null,{"$f":"EUconst_NA","v":"s.o."},3]
[]
[]
[]
[]
[]
[]
[]
[]
[]
[]
[null,{"$f":"Translations!$B$1267","v":"Conversion des niveaux"},null,{"$f":"Translations!$B$1133","v":"Niveaux"}]
[null,null,1,1]
[null,null,2,2]
[null,null,3,"2a"]
[null,null,4,{"$f":"Translations!$B$928","v":"2b"}]
[null,null,5,3]
[null,null,6,"3a"]
[null,null,7,"3b"]
[null,null,8,4]
[{"$f":"Translations!$B$1134","v":"Calcul – niveaux applicables"}]
[null,{"$f":"Translations!$B$1135","v":"Petit émetteur"},{"$f":"Translations!$B$1136","v":"Catégorie"},{"$f":"Translations!$B$1137","v":"Cat. de flux"},null,{"$f":"Translations!$B$1138","v":"Message"}]
[null,{"$f":"EUconst_CNTR_SmallEmitter","v":"SmallEmitter_"},"A",1,{"$f":"B803 & C803 & \"_\" & D803","v":"SmallEmitter_A_1"},{"$f":"Translations!$B$1139","v":"Article 47,paragraphe 6, Installation à faible niveau d’émission (petit émetteur): pour tous les flux, l’exploitant peut appliquer au minimum le niveau 1 pour déterminer le niveau d’activité et les facteurs de calcul, à moins qu’un niveau de précision plus élevé puisse être obtenu sans effort supplémentaire de sa part, sans avoir à démontrer que l’application de niveaux plus élevés n'est pas techniquement possible ou risque d'entraîner des coûts excessifs."}]
[null,{"$f":"EUconst_CNTR_SmallEmitter","v":"SmallEmitter_"},"A",2,{"$f":"B804 & C804 & \"_\" & D804","v":"SmallEmitter_A_2"},{"$f":"Translations!$B$1139","v":"Article 47,paragraphe 6, Installation à faible niveau d’émission (petit émetteur): pour tous les flux, l’exploitant peut appliquer au minimum le niveau 1 pour déterminer le niveau d’activité et les facteurs de calcul, à moins qu’un niveau de précision plus élevé puisse être obtenu sans effort supplémentaire de sa part, sans avoir à démontrer que l’application de niveaux plus élevés n'est pas techniquement possible ou risque d'entraîner des coûts excessifs."}]
[null,{"$f":"EUconst_CNTR_SmallEmitter","v":"SmallEmitter_"},"A",3,"SmallEmitter_A_3",{"$f":"Translations!$B$1142","v":"Article 26, paragraphe 3: Flux de minimis Les données d’activité et chaque facteur de calcul peuvent être déterminés au moyen d’estimations prudentes plutôt que par une méthode fondée sur des niveaux, à moins qu’il soit possible d’appliquer un niveau donné sans effort supplémentaire."}]
[null,{"$f":"EUconst_CNTR_NoSmallEmitter","v":"NoSmallEmitter_"},"A",1,"NoSmallEmitter_A_1",{"$f":"Translations!$B$1140","v":"Article 26, paragraphe 1: Les niveaux minimaux affichés ci-dessous sont applicables au minimum. \nVous pouvez toutefois descendre jusqu'à deux niveaux en dessous (le niveau 1 étant un minimum) si vous parvenez à démontrer de manière concluante à l’autorité compétente que le niveau prescrit conformément au premier alinéa n’est pas techniquement réalisable ou risque d’entraîner des coûts excessifs. "}]
[null,"NoSmallEmitter_","A",2,"NoSmallEmitter_A_2",{"$f":"Translations!$B$1141","v":"Article 26, paragraphe 2: Flux mineurs Pour les données d'activité et pour chaque facteur de calcul, le niveau applicable est le niveau le plus élevé techniquement réalisable et n'entraînant pas de coût excessif, et au minimum le niveau 1."}]
[null,"NoSmallEmitter_","A",3,"NoSmallEmitter_A_3",{"$f":"Translations!$B$1142","v":"Article 26, paragraphe 3: Flux de minimis Les données d’activité et chaque facteur de calcul peuvent être déterminés au moyen d’estimations prudentes plutôt que par une méthode fondée sur des niveaux, à moins qu’il soit possible d’appliquer un niveau donné sans effort supplémentaire."}]
[null,"NoSmallEmitter_","B",1,"NoSmallEmitter_B_1",{"$f":"Translations!$B$453","v":"Article 26, paragraphe 1: Les niveaux minimaux affichés ci-dessous sont applicables au minimum.\nVous pouvez toutefois descendre jusqu'à deux niveaux en dessous (le niveau 1 étant un minimum) si vous parvenez à démontrer de manière concluante à l’autorité compétente que le niveau prescrit conformément au premier alinéa n’est pas techniquement réalisable ou risque d’entraîner des coûts excessifs. "}]
[null,"NoSmallEmitter_","B",2,"NoSmallEmitter_B_2",{"$f":"Translations!$B$1141","v":"Article 26, paragraphe 2: Flux mineurs Pour les données d'activité et pour chaque facteur de calcul, le niveau applicable est le niveau le plus élevé techniquement réalisable et n'entraînant pas de coût excessif, et au minimum le niveau 1."}]
[null,"NoSmallEmitter_","B",3,"NoSmallEmitter_B_3",{"$f":"Translations!$B$1142","v":"Article 26, paragraphe 3: Flux de minimis Les données d’activité et chaque facteur de calcul peuvent être déterminés au moyen d’estimations prudentes plutôt que par une méthode fondée sur des niveaux, à moins qu’il soit possible d’appliquer un niveau donné sans effort supplémentaire."}]
[null,"NoSmallEmitter_","C",1,"NoSmallEmitter_C_1",{"$f":"Translations!$B$1143","v":"Article 26, paragraphe 1: Les niveaux minimaux affichés ci-dessous sont applicables au minimum.\nVous pouvez toutefois appliquer un niveau immédiatement inférieur (le niveau 1 étant un minimum) si vous parvenez à démontrer de manière concluante à l’autorité compétente que le niveau prescrit conformément au premier alinéa n’est pas techniquement réalisable ou risque d’entraîner des coûts excessifs. "}]
[null,"NoSmallEmitter_","C",2,"NoSmallEmitter_C_2",{"$f":"Translations!$B$1141","v":"Article 26, paragraphe 2: Flux mineurs Pour les données d'activité et pour chaque facteur de calcul, le niveau applicable est le niveau le plus élevé techniquement réalisable et n'entraînant pas de coût excessif, et au minimum le niveau 1."}]
[null,"NoSmallEmitter_","C",3,"NoSmallEmitter_C_3",{"$f":"Translations!$B$1142","v":"Article 26, paragraphe 3: Flux de minimis Les données d’activité et chaque facteur de calcul peuvent être déterminés au moyen d’estimations prudentes plutôt que par une méthode fondée sur des niveaux, à moins qu’il soit possible d’appliquer un niveau donné sans effort supplémentaire."}]
[{"$f":"Translations!$B$1144","v":"Mesure – niveaux applicables"}]
[null,null,null,{"$f":"Translations!$B$1145","v":"Cat. de source d’émission"},null,{"$f":"Translations!$B$1138","v":"Message"}]
[null,{"$f":"EUconst_CNTR_SmallEmitter","v":"SmallEmitter_"},null,1,{"$f":"B817 & \"_\" & D817","v":"SmallEmitter__1"},{"$f":"Translations!$B$1268","v":"Installation à faible niveau d’émission/source d’émission majeure: vous pouvez appliquer le niveau 1, à moins qu’un niveau de précision plus élevé puisse être obtenu sans effort supplémentaire de la part de l’exploitant."}]
[null,{"$f":"EUconst_CNTR_SmallEmitter","v":"SmallEmitter_"},null,2,{"$f":"B818 & \"_\" & D818","v":"SmallEmitter__2"},{"$f":"Translations!$B$1269","v":"Installation à faible niveau d’émission/source d’émission mineure: vous pouvez appliquer le niveau 1, à moins qu’un niveau de précision plus élevé puisse être obtenu sans effort supplémentaire de la part de l’exploitant."}]
[null,{"$f":"EUconst_CNTR_NoSmallEmitter","v":"NoSmallEmitter_"},null,1,{"$f":"B819 & \"_\" & D819","v":"NoSmallEmitter__1"},{"$f":"Translations!$B$1270","v":"Source d’émission majeure: le niveau minimal affiché ci-dessous s’applique. Vous pouvez toutefois appliquer un niveau immédiatement inférieur (le niveau 1 étant un minimum) si vous parvenez à démontrer de manière concluante à l’autorité compétente que le niveau prescrit conformément au premier alinéa n’est pas techniquement réalisable ou risque d’entraîner des coûts excessifs."}]
[null,{"$f":"EUconst_CNTR_NoSmallEmitter","v":"NoSmallEmitter_"},null,2,{"$f":"B820 & \"_\" & D820","v":"NoSmallEmitter__2"},{"$f":"Translations!$B$1271","v":"Source d’émission mineure: vous pouvez appliquer un niveau inférieur à celui indiqué ci-dessous, comme stipulé, le niveau 1 constituant un minimum, si vous pouvez démontrer que l’application de ce niveau n’est pas techniquement réalisable ou entraîne des coûts excessifs."}]
[]
[]
["<END of list>"]

{"sheet":"Translations","index":19,"n_rows":1381,"n_cols":4,"rows_kept":1381,"cut":false,"hidden":true,"merged":[]}
["Number","English Version (Original)","English Version (Original)","TEXT (Language Version)"]
[1,"PLAN DE SURVEILLANCE DES ÉMISSIONS ANNUELLES","ANNUAL EMISSIONS MONITORING PLAN"]
[2,"SOMMAIRE","CONTENTS"]
[3,"Les noms des feuilles sont indiqués en caractères gras et les noms des rubriques en caractères normaux","Sheet names are given in bold font and section names in normal font."]
[4,"a_Sommaire","a_Contents"]
[5,"b­_Lignes directrices et conditions","b_Guidelines and conditions"]
[6,"A. Monitoring Plan versions (Versions du plan de surveillance)","A. Monitoring Plan versions"]
[7,"Liste des versions du plan de surveillance","List of monitoring plan versions"]
[8,"B. Operator & Installation Identification (Identification de l’exploitant et de l’installation)","B. Operator & Installation Identification"]
[9,"Exploitant:","About the operator"]
[10,"Installation","About your installation"]
[11,"Coordonnées ","Contact details "]
[12,"C. Installation Description (Description de l’installation)","C. Installation Description"]
[13,"Activités menées dans l’installation","About the Installation Activities"]
[14,"Émissions","About your emissions"]
[15,"D. Calculation Based Approaches (Méthodes fondées sur le calcul)","D. Calculation Based Approaches"]
[16,"Calcul: Informations nécessaires pour les données à saisir dans la feuille suivante","Calculation: Details which are needed for further input in the next sheet"]
[17,"E. SourceStreams (Flux)","E. SourceStreams"]
[18,"Niveaux appliqués pour les données d’activité et les facteurs de calcul","Details on the applied tiers for activity data and calculation factors"]
[19,"F. Measurement Based Approaches (Méthodes fondées sur la mesure)","F. Measurement Based Approaches"]
[20,"Mesure des émissions de CO2 et de N2O ","Measurement of CO2 and N2O emissions "]
[21,"Points de mesure","Details for measurement points"]
[22,"Organisation et procédures relatives aux méthodes fondées sur la mesure","Management and procedures for measurement based approaches"]
[23,"G. Fall-back Approaches (Méthodes alternatives)","G. Fall-back Approaches"]
[24,"Description de la méthode alternative","Description of the Fall-back approach"]
[25,"H. N2O emissions (Émissions de N2O)","H. N2O emissions"]
[26,"Organisation et procédures de surveillance des émissions de N2O","Management and procedures for monitoring N2O emissions"]
[27,"I. Determination of PFC emissions from production of primary aluminium (Détermination des émissions de PFC dues à la production d’aluminium primaire)","I. Determination of PFC emissions from production of primary aluminium"]
[28,"Détermination des émissions de PFC","Determination of PFC emissions"]
[29,"Informations concernant la surveillance des flux d’émissions de PFC","Monitoring details for source streams of PFC emissions"]
[30,"Gestion et procédures écrites applicables à la surveillance des PFC","Management and written procedures for PFC monitoring"]
[31,"J. Determination of transferred or inherent CO2 (Détermination du CO2 intrinsèque ou du CO2 transféré)","J. Determination of transferred or inherent CO2"]
[32,"Détermination du CO2 intrinsèque et du CO2 transféré","Determination of inherent and transferred CO2"]
[33,"Informations concernant les pipelines utilisés pour le transport du CO2","Information relevant for pipeline systems used for transport of CO2"]
[34,"Informations concernant les installations de stockage géologique du CO2","Information relevant for installations for the geological storage of CO2"]
[35,"K. Management & Control (Gestion et contrôle)","K. Management & Control"]
[36,"Gestion ","Management "]
[37,"Activités de gestion du flux de données","Data flow activities"]
[38,"Activités de contrôle","Control activities"]
[39,"Liste des définitions et des abréviations employées","List of definitions and abbreviations used"]
[40,"Informations supplémentaires","Additional information"]
[41,"Changements concernant l’exploitation","Changes in operation"]
[42,"L. Member State specific further information (Informations complémentaires propres à l’État membre)","L. Member State specific further information"]
[43,"Remarques","Comments"]
[44,"Informations concernant le présent fichier:","Information about this file:"]
[45,"Plan de surveillance présenté par:","This monitoring plan was submitted by:"]
[46,"Dénomination de l'installation:","Installation name:"]
[47,"Identificateur unique de l'installation:","Unique installation identifier:"]
[48,"Numéro de version du plan de surveillance:","Version Number of this monitoring plan:"]
[49,"Si votre autorité compétente exige que vous remettiez un exemplaire papier signé du plan de surveillance, veuillez signer dans l'espace ci-dessous:","If your competent authority requires you to hand in a signed paper copy of the monitoring plan, please use the space below for signature:"]
[50,"Date","Date"]
[51,"Nom et signature du \nresponsable légal","Name and Signature of \nlegally responsible person"]
[52,"Informations relatives à la version du modèle:","Template version information:"]
[53,"Modèle fourni par:","Template provided by:"]
[54,"Date de publication:","Publication date:"]
[55,"Version linguistique:","Language version:"]
[56,"Nom du fichier de référence:","Reference filename:"]
[57,"b.\nGuide-lines","b.\nGuide-lines"]
[58,"Zone de navigation:","Navigation area:"]
[59,"Sommaire","Table of contents"]
[60,"Feuille précédente","Previous sheet"]
[61,"Feuille suivante","Next sheet"]
[62,"Début de feuille","Top of sheet"]
[63,"Fin de feuille","End of sheet"]
[64,"GUIDELINES AND CONDITIONS (LIGNES DIRECTRICES ET CONDITIONS)","GUIDELINES AND CONDITIONS"]
[65,"En vertu de la directive 2003/87/CE (ci-après «la directive SEQE UE»), les exploitants des installations faisant partie du système d’échange de quotas d’émission de gaz à effet de serre de l’Union européenne (SEQE de l’UE) sont tenus de détenir une autorisation d’émettre des gaz à effet de serre en cours de validité, délivrée par l’autorité compétente, de surveiller et de déclarer leurs émissions et de faire contrôler ces déclarations par un vérificateur indépendant accrédité. ","Directive 2003/87/EC (the \"ETS Directive\") requires operators of installations which are included in the Union Emission Trading Scheme (the EU ETS) to hold a valid GHG emission permit issued by the relevant Competent Authority and to monitor and report their emissions, and have the reports verified by an independent and accredited verifier."]
[66,"Cette directive peut être téléchargée à partir de l'adresse suivante:","The Directive can be downloaded from:"]
[67,"http://eur-lex.europa.eu/LexUriServ/LexUriServ.do?uri=CONSLEG:2003L0087:20090625:FR:PDF","http://eur-lex.europa.eu/LexUriServ/LexUriServ.do?uri=CONSLEG:2003L0087:20090625:EN:PDF"]
[68,"Le règlement relatif à la surveillance et à la déclaration [Règlement (UE) n° 601/2012 de la Commission du 21 juin 2012, ci-après «MRR» (Monitoring and Reporting Regulation)] définit d’autres exigences applicables à la surveillance et à la déclaration. Le MRR peut être téléchargé à partir de l'adresse suivante:","The Monitoring and Reporting Regulation (Commission Regulation (EU) No 601/2012 of 21 June 2012, hereinafter the \"MRR\"), defines further requirements for monitoring and reporting. The MRR can be downloaded from:"]
[69,"http://eur-lex.europa.eu/LexUriServ/LexUriServ.do?uri=OJ:L:2012:181:0030:0104:FR:PDF.","http://eur-lex.europa.eu/LexUriServ/LexUriServ.do?uri=OJ:L:2012:181:0030:0104:EN:PDF"]
[70,"L’article 12 du MRR définit des exigences spécifiques concernant le contenu et la soumission du plan de surveillance et de ses mises à jour. L’article 12 insiste sur l'importance du plan de surveillance:","Article 12 of the MRR sets out specific requirements for the content and submission of the monitoring plan and its updates. Article 12 outlines the importance of the Monitoring plan as follows:"]
[71,"Le plan de surveillance décrit de façon détaillée, exhaustive et transparente la méthode de surveillance appliquée par une installation spécifique ou par un exploitant d'aéronef donné, et contient au moins les éléments indiqués à l'annexe I.","The monitoring plan shall consist of a detailed, complete and transparent documentation of the monitoring methodology of a specific installation [or aircraft operator] and shall contain at least the elements laid down in Annex I."]
[72,"Par ailleurs, l’article 74, paragraphe 1, énonce ce qui suit:","Furthermore, Article 74(1) states:"]
[73,"Les États membres peuvent exiger que les exploitants ou les exploitants d'aéronefs utilisent des modèles électroniques ou des formats de fichiers spécifiques pour soumettre leurs plans de surveillance et les corrections apportées à ces plans, ainsi que pour remettre leurs déclarations annuelles d'émissions et de données relatives aux tonnes-kilomètres, leurs rapports de vérification et leurs rapports relatifs aux améliorations apportées. \nCes modèles ou spécifications de formats de fichiers établis par les États membres contiennent au minimum les informations contenues dans les modèles électroniques et les spécifications de formats de fichiers publiés par la Commission.","Member States may require the operator and aircraft operator to use electronic templates or specific file formats for submission of monitoring plans and changes to the monitoring plan, as well as for submission of annual emissions reports, tonne-kilometre data reports, verification reports and improvement reports. \nThose templates or file format specifications established by the Member States shall, at least, contain the information contained in electronic templates or file format specifications published by the Commission."]
[74,"Le présent fichier constitue ledit modèle, élaboré par les services de la Commission, pour la soumission des plans de surveillance des installations, et il contient les exigences définies à l’annexe I ainsi que les autres données requises pour aider l'exploitant à prouver qu’il respecte le MRR.  Dans certaines conditions définies ci-après, les autorités compétentes des États membres peuvent y apporter de légères modifications. ","This file constitutes the said template for monitoring plans of installations developed by the Commission services and includes the requirements defined in Annex I as well as further requirements to assist the operator in demonstrating compliance with the MRR. Under certain conditions as described below, it may have been amended to a limited extent by a Member State's competent authority. "]
[75,"En outre, le MRR (article 13) autorise les États membres à établir des plans de surveillance normalisés et simplifiés pour les installations «simples». ","Furthermore the MRR (Article 13) allows the Member States to develop simplified and standardised monitoring plans for \"simple\" installations. "]
[76,"Sans préjudice des dispositions de l'article 12, paragraphe 3, les États membres peuvent autoriser les exploitants et les exploitants d'aéronefs à utiliser des plans de surveillance normalisés ou simplifiés. \nÀ cet effet, les États membres peuvent publier des modèles de ces plans de surveillance, y compris la description des procédures de gestion du flux de données et de contrôle visées respectivement à l'article 57 et à l'article 58, basés sur les modèles et les lignes directrices publiés par la Commission.","Member States may allow operators and aircraft operators to use standardised or simplified monitoring plans, without prejudice to Article 12(3). \nFor that purpose, Member States may publish templates for those monitoring plans, including the description of data flow and control procedures referred to in Article 57 and Article 58, based on the templates and guidelines published by the Commission."]
[77,"D’après le document d'orientation n°1 de la Commission («Indications générales pour les installations»), ces modèles normalisés sont obtenus en ajoutant des textes standard au présent modèle, selon qu’il convient. ","According to the Commission's guidance document No. 1 (\"General guidance for installations\"), such standardised templates should be provided by adding standard texts where appropriate in this template here."]
[78,"Si votre installation remplit les critères requis pour l'utilisation d'un plan de surveillance simplifié ou normalisé conformément aux indications figurant dans le document d'orientation n°1, veuillez vous adresser à votre autorité compétente ou consulter son site internet pour savoir si votre État membre propose des modèles simplifiés.","If your installation is eligible for such simplified and/or standardised monitoring plan in accordance with the requirements laid down in guidance document 1, please check with your competent authority or its website whether your Member State provides such simplified templates."]
[79,"Tous les documents d’orientation de la Commission concernant le règlement relatif à la surveillance et à la déclaration peuvent être consultés à l’adresse suivante:","All Commission guidance documents on the Monitoring and Reporting Regulation can be found at:"]
[80,"http://ec.europa.eu/clima/policies/ets/monitoring/index_en.htm","http://ec.europa.eu/clima/policies/ets/monitoring/index_en.htm"]
[81,"Avant d'utiliser ce fichier, veuillez respecter les consignes suivantes:","Before you use this file, please carry out the following steps:"]
[82,"Lisez attentivement les instructions ci-après avant de remplir ce formulaire. ","Read carefully the instructions below for filling this template."]
[83,"Déterminez l'autorité compétente (AC) dont vous dépendez dans l’État membre où l’installation est située (il peut y avoir plusieurs autorités compétentes par État membre). Veuillez noter que «État membre» désigne ici tous les États qui participent au SEQE de l’UE et pas uniquement les États membres de l’UE.","Identify the Competent Authority (CA) responsible for your installation in the Member State where the installation is situated (there may be more than one CA per Member State). Note that \"Member State\" here means all States which are participating in the EU ETS, not only EU Member States."]
[84,"Consultez la page internet de l’AC ou prenez directement contact avec elle pour vérifier que vous êtes en possession de la bonne version du modèle. La version du modèle (en particulier le nom du fichier de référence) est indiquée clairement sur la page de couverture du présent fichier.","Check the CA's webpage or directly contact the CA in order to find out if you have the correct version of the template. The template version (in particular the reference file name) is clearly indicated on the cover page of this file."]
[85,"Certains États membres peuvent vous demander d'utiliser un autre système, par exemple des formulaires en ligne au lieu d’un tableur. Vérifiez auprès de votre État membre. Dans ce cas, l'AC vous fournira de plus amples informations.","Some Member States may require you to use an alternative system, such as internet-based form instead of a spreadsheet. Check your Member State requirements. In this case the CA will provide further information to you."]
[86,"Le présent plan de surveillance doit être remis à votre autorité compétente, à l'adresse suivante:","This monitoring plan must be submitted to your competent authority at the following address:"]
[87,"Adresse précise à fournir par l'État membre","Detail address to be provided by the Member State"]
[88,"L'autorité compétente prendra éventuellement contact avec vous pour suggérer des modifications de votre plan de surveillance afin de faire en sorte que la surveillance et la déclaration des émissions annuelles soient précises et vérifiables, conformément aux exigences générales et spécifiques du MRR. Nonobstant les dispositions de l’article 16, paragraphe 1, du MRR, lorsque l'autorité compétente aura notifié son approbation, vous devrez appliquer la méthode indiquée dans la dernière version approuvée du plan de surveillance pour déterminer les émissions annuelles et pour mettre en œuvre vos activités d'acquisition et de traitement de données et vos activités de contrôle.  Cette version servira également de référence pour la vérification de votre déclaration d'émissions annuelle.","The CA may contact you to discuss modifications to your monitoring plan to ensure the accurate and verifiable monitoring and reporting of annual emissions, according to the general and specific requirements of the MRR. Notwithstanding Article 16(1) of the MRR, upon notification of approval from the CA you will use the latest approved version of the monitoring plan as the methodology to determine annual emissions and implement your data acquisition and handling activities and control activities. It will serve also as a reference for verification of your annual emissions report."]
[89,"Vous devez notifier toute proposition de modification importante du plan de surveillance à l’autorité compétente dans les meilleurs délais. Toute modification importante de la méthode de surveillance est soumise à l’approbation de l’autorité compétente, conformément aux dispositions des articles 14 et 15 du MRR. Lorsque vous pouvez raisonnablement considérer (conformément à l’article 15) que les nécessaires mises à jour du plan de surveillance ne revêtent pas un caractère important, vous pouvez notifier conjointement ces mises à jour à l’autorité compétente une fois par an en respectant les délais précisés dans cet article (sous réserve de l’accord de l’autorité compétente).","You must notify any proposals for significant modifications to the monitoring plan to the CA without undue delay. Any significant change in your monitoring methodology shall be subject to approval by the CA, as set in Article 14 and 15 of the MRR. Where you can assume reasonably (in accordance with Article 15) that necessary updates of the monitoring plan are not significant, you may notify the CA of those updates jointly once per year in accordance with the deadline specified in that Article (subject to competent authority agreement)."]
[90,"Vous devez mettre en œuvre et consigner toutes les modifications du plan de surveillance conformément à l’article 16 du MRR.","You must implement and keep records of all modifications to the monitoring plan in accordance with Article 16 of the MRR."]
[91,"Adressez-vous à votre autorité compétente si vous avez besoin d'aide pour établir votre plan de surveillance. Certains États membres ont publié des guides qui pourraient vous être utiles.","Contact your CA if you need assistance to complete your Monitoring Plan. Some Member States have produced guidance documents which you may find useful."]
[92,"Déclaration de confidentialité - Les informations communiquées dans le cadre de la présente demande peuvent être soumises à certaines exigences concernant l'accès du public à l'information, notamment celles de la directive 2003/4/CE concernant l'accès du public à l'information en matière d'environnement. Si vous estimez que des renseignements que vous fournissez dans le cadre de votre demande doivent être traités comme des informations commerciales confidentielles, veuillez en informer votre autorité compétente. Nous vous rappelons qu'en vertu des dispositions de la directive 2003/4/CE, l'autorité compétente peut être tenue de divulguer des informations même si le demandeur souhaite qu'elles restent confidentielles.","Confidentiality statement- The information submitted in respect of this application may be subject to public access to information requirements, including Directive 2003/4/EC on public access to environmental information. If you consider that any information you provide in connection with your application should be treated as commercially confidential, please let your CA know. You should be aware that under the provisions Directive 2003/4/EC, the CA may be obliged to disclose information even where the applicant requests that it is kept confidential."]
[93,"Sources d'information:","Information sources:"]
[94,"Sites internet de l'UE:","EU Websites:"]
[95,"Législation de l'UE:","EU-Legislation:"]
[96,"http://eur-lex.europa.eu/fr/index.htm ","http://eur-lex.europa.eu/en/index.htm "]
[97,"Généralités sur le SEQE de l'UE:","EU ETS general:"]
[98,"http://ec.europa.eu/clima/policies/ets/index_en.htm","http://ec.europa.eu/clima/policies/ets/index_en.htm"]
[99,"Surveillance et déclaration dans le SEQE de l’UE: ","Monitoring and Reporting in the EU ETS: "]
[100,"Autres sites internet:","Other Websites:"]
[101,"<à fournir par l’État membre>","<to be provided by Member State>"]
[102,"Service d'assistance:","Helpdesk:"]
[103,"<à fournir par l’État membre, le cas échéant>","<to be provided by Member State, if relevant>"]
[104,"Comment utiliser ce fichier:","How to use this file:"]
[105,"Le présent modèle a été élaboré pour contenir les informations minimales requises dans un plan de surveillance conformément au MRR.  Les exploitants sont donc invités à se reporter au MRR et aux exigences supplémentaires des États membres (le cas échéant) pour remplir le formulaire.","This template has been developed to accommodate the minimum content of a monitoring plan required by the MRR. Operators should therefore refer to the MRR and additional Member State requirements (if any) when completing."]
[106,"Il est recommandé de progresser dans le fichier en commençant par le début. Vous serez guidé tout au long du formulaire par certaines fonctions qui dépendent de l'information saisie précédemment, telles que le changement de couleur des cellules lorsqu'une entrée n'est pas nécessaire (voir codes de couleur ci-après).","It is recommended that you go through the file from start to end. There are a few functions which will guide you through the form which depend on previous input, such as cells changing colour if an input is not needed (see colour codes below)."]
[107,"Dans plusieurs champs, vous pouvez choisir parmi des entrées prédéfinies. Pour effectuer votre choix à partir d'une telle «liste déroulante, cliquez avec la souris sur la petite flèche apparaissant sur le côté droit de la cellule ou appuyez simultanément sur les touches «Alt+Flèche vers le bas» après avoir sélectionné la cellule. Certains champs vous permettent de saisir votre propre texte, même s'il existe une liste déroulante. C'est le cas lorsque la liste déroulante contient des entrées vides.","In several fields you can choose from predefined inputs. For selecting from such a \"drop-down list\" either click with the mouse on the small arrow appearing at the right border of the cell, or press \"Alt-CursorDown\" when you have selected the cell. Some fields allow you to input your own text even if such drop-down list exists. This is the case when drop-down lists contain empty list entries."]
[108,"Codes de couleur et polices de caractères:","Colour codes and fonts:"]
[109,"Texte noir en caractères gras:","Black bold text:"]
[110,"Il s'agit du texte figurant dans le modèle de la Commission. Il ne doit pas être modifié.","This is text provided by the Commission template. It should be kept as it is."]
[111,"Texte en italique en caractères plus petits:","Smaller italic text:"]
[112,"Ce texte fournit des explications complémentaires. Les États membres peuvent ajouter des explications supplémentaires dans les versions nationales du modèle.","This text gives further explanations. Member States may add further explanations in MS specific versions of the template."]
[113,"Les champs en jaune doivent être obligatoirement remplis. Cependant, si cela n'est pas pertinent pour l'installation, aucune donnée n'est requise.","Yellow fields indicate mandatory inputs. However, if the topic is not relevant for the installation, no input is required."]
[114,"Les champs en jaune clair sont facultatifs.","Light yellow fields indicate that an input is optional."]
[115,"Dans les champs en vert figurent les résultats calculés automatiquement. Le texte en rouge est réservé aux messages d'erreur (données manquantes, etc.).","Green fields show automatically calculated results. Red text indicates error messages (missing data etc)."]
[116,"Un champ hachuré indique qu'il n'y a plus lieu de remplir ce champ en raison de l'information saisie dans un autre champ.","Shaded fields indicate that an input in another field makes the input here irrelevant."]
[117,"Les zones grisées doivent être remplies par les États membres avant la publication de la version adaptée du modèle.","Grey shaded areas should be filled by Member States before publishing customized version of the template."]
[118,"Les zones en gris clair sont réservées à la navigation et aux hyperliens.","Light grey areas are dedicated for navigation and hyperlinks."]
[119,"Les panneaux de navigation au début de chaque feuille contiennent des hyperliens permettant d'accéder rapidement aux différentes rubriques du document. La première ligne («Sommaire», «Feuille précédente», «Feuille suivante») et les points «Début de feuille» et «Fin de feuille» sont identiques sur toutes les feuilles. Selon la feuille, le menu comporte plus ou moins d'éléments.","Navigation panels on top of each sheet provide hyperlinks for quick jumps to individual input sections. The first line (\"Table of contents\", \"Previous sheet\", \"next sheet\") and the points \"Top of sheet\" and \"End of sheet\" are the same for all sheets. Depending on the sheet, further menu items are added."]
[120,"Ce modèle a été verrouillé pour empêcher la saisie de données en dehors des champs en jaune. Toutefois, pour des raisons de transparence, aucun mot de passe n'a été établi. Cela permet de voir toutes les formules. Lors de l'utilisation de ce fichier pour l'introduction des données, il est recommandé de maintenir la protection activée. La protection des feuilles ne devrait être désactivée que pour vérifier la validité des formules. Il est recommandé de procéder à cette opération dans un fichier à part.","This template has been locked against data entry except for yellow fields. However, for transparency reasons, no password has been set. This allows for complete viewing of all formulae. When using this file for data entry, it is recommended to keep the protection in force. The sheets should only be unprotected for checking the validity of formulae. It is recommended to do this in a separate file."]
[121,"Afin de protéger les formules contre toute modification involontaire aboutissant généralement à des résultats erronés et trompeurs, \nil est extrêmement important de NE PAS UTILISER la fonction COUPER & COLLER.\nSi vous souhaitez déplacer des données, COPIEZ les et COLLEZ les d’abord, puis effacez les données non désirées de l'emplacement initial (erroné).","In order to protect formulae against unintended modifications, which usually lead to wrong and misleading results, \nit is of utmost importance NOT TO USE the CUT & PASTE function.\nIf you want to move data, first COPY and PASTE them, and thereafter delete the unwanted data in the old (wrong) place."]
[122,"Les champs de données n'ont pas été optimisés pour certains formats numériques et autres. Cependant, la protection des feuilles a été limitée de manière à vous permettre d'utiliser vos propres formats. Vous pouvez notamment décider du nombre de décimales affichées. En principe, le nombre de décimales est indépendant du degré de précision du calcul. En principe, l'option «Precision as displayed» dans MS Excel devrait être désactivée. Pour de plus amples renseignements, consulter la fonction «Help» de MS Excel à ce sujet.","Data fields have not been optimized for specific numerical and other formats. However, sheet protection has been limited so as to allow you to use your own formats. In particular, you may decide about the number of decimal places displayed. The number of places is in principle independent from the precision of the calculation. In principle the option \"Precision as displayed\" of MS Excel should be deactivated. For more details, consult MS Excel's \"Help\" function on this topic."]
[123,"AVERTISSEMENT: Toutes les formules ont été soigneusement élaborées. Néanmoins, la possibilité qu'elles contiennent des erreurs ne peut être totalement exclue.\nComme indiqué précédemment, la transparence totale est assurée aux fins du contrôle de la validité des calculs. Ni les auteurs de ce fichier ni la Commission européenne ne peuvent être tenus pour responsables des éventuels dommages découlant de résultats erronés ou trompeurs obtenus à partir des calculs fournis. \nLa vérification de l'exactitude des données notifiées à l'autorité compétente relève entièrement de la responsabilité de l'utilisateur de ce fichier (c'est-à-dire l'exploitant de l'installation relevant du SEQE de l’UE).","DISCLAIMER: All formulae have been developed carefully and thoroughly. However, mistakes cannot be fully excluded.\nAs described above, full transparency for checking the validity of calculations is ensured. Neither the authors of this file nor the European Commission can be held liable for eventual damages resulting from wrong or misleading results of the provided calculations. \nIt is the full responsibility of the user of this file (i.e. the operator of an EU ETS installation) to ensure that correct data is reported to the competent authority."]
[124,"À de nombreuses occasions, le présent modèle vous invite à décrire l’installation, son fonctionnement et les méthodes spécifiques que vous appliquez pour la surveillance.  Des champs sont alors prévus pour la saisie des informations demandées, mais leur taille n’est parfois pas suffisante. ","In many cases in this template you are required to fill in descriptions of the installation, its functioning, and specific methods which you apply for monitoring. In such situations text fields are provided for your input, which may be sometimes insufficient for the information you want to enter."]
[125," En pareil cas, veuillez joindre les informations (texte, formules, données de référence, diagrammes et schémas) sous la forme de fichiers séparés lors de l’envoi à l’autorité compétente.  Vous êtes alors invités à indiquer la référence de ces fichiers. Dans ce cas, veuillez indiquer le nom de fichier de la pièce jointe. Il est en outre recommandé d’ajouter à la référence la date de la dernière modification du document  et d’inclure un indicateur aisément lisible de cette date directement dans le fichier (imprimable)."," In such cases please attach your information (text, formulae, reference data, diagrams and drawings) as separate files when sending them to the competent authority. You are then requested to provide a reference to that file. Please indicate in such situations the filename of the attachment. It is furthermore advisable to add the date of the last change of the document to the reference, and to include a clearly readable indicator for that date directly in the (printable) file."]
[126,"L’autorité compétente peut limiter les formats de fichiers acceptables. Veuillez vous assurer que vous n’utilisez que des types de fichiers standard tels que .doc, .xls, .pdf. Pour connaître les autres types de fichiers acceptables, veuillez consulter votre autorité compétente ou son site internet.","The competent authority may restrict the acceptable file formats. Please ensure that you use only standard office file types such as .doc, .xls, .pdf. For further acceptable file types contact your competent authority or its website."]
[127,"Le présent fichier contient des macros de certaines fonctions (ajout d’articles sur des listes, et afficher/masquer les exemples). Si les macros sont désactivées sur votre ordinateur, vous pourrez toujours utiliser le modèle, mais sans ces fonctions. \nPour vérifier que ces macros ne contiennent pas de virus, elles ont fait l’objet d’une signature électronique. Veuillez consulter les instructions concernant la vérification de l’authenticité du fichier modèle figurant sur la page internet de la Commission ou de l’autorité compétente.","This file contains macros for a few functions (adding items to lists, and showing/hiding examples). If macros are disabled on your computer, you will still be able to use the template, but without those functions. \nFor ensuring that the macros don't contain a virus, they have been electronically signed. Please check on the Commission's or the competent authority's website for instructions on checking the authenticity of the template file."]
[128,"Des indications propres à l’État membre figurent ci-dessous: ","Member State-specific guidance is listed here:"]
[129,"A.\nMP Versions","A.\nMP Versions"]
[130,"Cette feuille sert à déterminer la version du plan de surveillance. À chaque version du plan de surveillance doit correspondre un numéro de version unique et une date de référence.","This sheet is used for tracking the actual version of the monitoring plan. Each version of the monitoring plan should have a unique version number, and a reference date."]
[131,"En fonction des exigences de l’État membre, il se peut que l’autorité compétente et l'exploitant échangent différentes mises à jour du document, ou que l’exploitant seul conserve la trace des différentes versions. En tout état de cause, l’exploitant doit conserver dans ses archives un exemplaire de chaque version du plan de surveillance.","Depending on the requirements of the Member State, it is possible that the document is exchanged between competent authority and operator with various updates, or that the operator alone keeps track of the versions. In any case, the operator should keep in his files a copy of each version of the monitoring plan."]
[132,"L’état du plan de surveillance à la date de référence doit être décrit dans la colonne «État». Les types d'états possibles sont «soumis à l’autorité compétente (AC)», «approuvé par l’AC», «projet de travail», etc.","The status of the monitoring plan at the reference date should be described in the \"status\" column. Possible status types include \"submitted to the competent authority (CA)\", \"approved by the CA\", \"working draft\" etc."]
[133,"Veuillez noter que la surveillance des émissions de votre installation doit toujours être effectuée conformément à la dernière version approuvée du plan de surveillance, sauf dans les cas où une mise à jour du plan de surveillance a déjà été soumise à l’AC et/ou est en cours d’approbation. Conformément à l’article 16, paragraphe 1, la surveillance doit dans ce cas être effectuée en parallèle suivant la dernière version approuvée du plan de surveillance et suivant la dernière version de ce plan soumise pour approbation.","Please note that monitoring of the emissions of your installation must always be carried out in accordance with the latest approved version of the monitoring plan, except in cases where an update of the MP has already been submitted to the CA and/or is pending approval. In accordance with Article 16(1), in such situations the monitoring must be carried out in parallel using the latest approved as well as the latest MP submitted for approval."]
[134,"Pour afficher/masquer les exemples, cliquez sur le bouton «Exemples» dans la zone de navigation.","For showing/hiding examples, press the \"Examples\" button in the navigation area.","; 'I_PFC'!$D$68"]
[135,"N° de version","Version No"]
[136,"Date de référence","Reference date"]
[137,"État à la date de référence","Status at reference date"]
[138,"Chapitres modifiés \nExplication succincte des modifications","Chapters where modifications have been made. \nBrief explanation of changes"]
[139,"soumis à l’autorité compétente","submitted to competent authority"]
[140,"Nouveau plan de surveillance pour répondre aux exigences du MRR.","New monitoring plan for meeting the requirements of the M&R Regulation."]
[141,"retourné avec remarques","returned with remarks"]
[142,"L’AC a introduit des corrections pour les flux 1 et 2. Il convient d’améliorer les procédures relatives aux flux avant le nouvel envoi.","CA has entered some corrections for source streams 1 and 2. Procedures on data flows should be improved before re-submission."]
[143,"Plan de surveillance mis à jour conformément aux recommandations de l’AC.  En outre, ajout d’un nouveau flux n°4 (déchets de panneaux de bois, contaminés par environ 5 %  de fraction fossile).","MP updated according to CA's suggestions. Furthermore added a new source stream No. 4 (wood panel wastes, contaminated with ca. 5% fossil fraction)."]
[144,"approuvé par l 'autorité compétente","approved by competent authority"]
[145,"Approuvé sans autre modification. L’exploitant a reçu un exemplaire papier en même temps que l’autorisation mise à jour afin de garantir l’authenticité du contenu du fichier Plan de surveillance renvoyé par voie électronique.","Approved without further changes. Operator has received paper copy together with the updated permit for ensuring authentic content of the MP file returned electronically."]
[146,"Cliquez sur « + » pour ajouter d’autres versions du plan de surveillance.","Click \"+\" to add more monitoring plan versions"]
[147,"B.\nOperatorInst ID ","B.\nOperatorInst ID"]
[148,"Exploitant","Operator"]
[149,"Installation","Installation"]
[150,"Coordonnées","Contacts"]
[151,"Autorité compétente","Competent Authority"]
[152,"État membre","Member State"]
[153,"Numéro de l’autorisation d’émettre des gaz à effet de serre ","Emissions trading permit number"]
[154,"Préfixe de l’EM/AC","member state/CA prefix"]
[155,"Nom de l’exploitant","Operator Name"]
[156,"Numéro de version du plan de surveillance","Actual version number of the monitoring plan"]
[157,"Remarque: Ce numéro apparaîtra également sur la page de couverture du présent fichier.","Note: This number will also be displayed on the cover page of this file."]
[158,"Nom de l’installation et du site sur lequel elle est située:","Name of the installation and the site on which it is located:"]
[159,"Nom du site:","Site name:"]
[160,"Identificateur unique de l’installation (comme dans les NIM):","Unique ID of the installation (as in NIMs):"]
[161,"EPRTR (facultatif):","EPRTR (optional):"]
[162,"Ajouter toute indication propre à l'État membre concernant la dénomination des installations.","Include any Member State specific guidance on naming of installations."]
[163,"Adresse/localisation du site de l’installation:","Address / location of the site of the installation:"]
[164,"Adresse ligne 1:","Address Line 1:"]
[165,"Adresse ligne 2:","Address Line 2:"]
[166,"Ville:","City:"]
[167,"État/Province/Région:","State/Province/Region:"]
[168,"Code postal/ZIP:","Postcode/ZIP:"]
[169,"Pays:","Country:"]
[170,"Coordonnées de quadrillage (cartographiques) de l’entrée principale du site (facultatif):","Grid reference (map co-ordinates) of site main entrance (optional):"]
[171,"Ajouter toute indication propre à l'État membre concernant les coordonnées de quadrillage.","Include any Member State specific guidance regarding grid references."]
[172,"Qui pouvons-nous contacter au sujet de votre plan de surveillance?","Who can we contact about your monitoring plan?"]
[173,"Il serait utile que vous nous indiquiez une personne à qui nous pourrions poser directement nos questions éventuelles concernant votre plan de surveillance. Cette personne devra être habilitée à agir au nom de l’exploitant. ","It will help us to have someone who we can contact directly with any questions about your monitoring plan. The person you name should have the authority to act on behalf of the operator. "]
[174,"Contact principal:","Primary contact:"]
[175,"Titre:","Title:"]
[176,"Prénom:","First Name:"]
[177,"Nom:","Surname:"]
[178,"Fonction:","Job title:"]
[179,"Nom de l'organisme (si différent de l’exploitant):","Organisation name (if different from the operator):"]
[180,"Numéro de téléphone:","Telephone number:"]
[181,"Courrier électronique:","Email address:"]
[182,"Autre contact:","Alternative contact:"]
[183,"C.\nInstallation Description","C.\nInstallation Description"]
[184,"Activités menées dans l’installation","Installation Activities"]
[185,"Méthodes de surveillance","Monitoring approaches"]
[186,"Sources et points d’émission","Emission sources&points"]
[187,"Point de mesure","Measurement points"]
[188,"Flux","Source streams"]
[189,"Activités exclues","Activities excluded"]
[190,"Veuillez utiliser cette feuille pour décrire votre installation. Les renseignements fournis ici préparent la saisie des informations détaillées qui seront nécessaires dans les feuilles suivantes.","Please use this sheet for describing your installation. The information entered here prepares the necessary detailed inputs in the following sheets."]
[191,"En particulier, les flux seront décrits plus en détail dans la feuille E-SourceStreams, et les points de mesure dans la feuille F_MeasurementBasedApproaches","In particular, source streams will be described in more detail in sheet E_SourceStreams, and measurement points in sheet F_MeasurementBasedApproaches."]
[192,"Description de l’installation et des activités qui y sont menées:","Description of the installation and its activities:"]
[193,"Veuillez fournir ici une brève description du site et de l'installation, et décrire la localisation de l'installation sur le site.  Cette description doit également inclure un résumé non technique des activités menées dans l'installation, décrivant brièvement chaque activité réalisée et les unités techniques utilisées pour chacune.  Il convient en particulier de décrire également toute partie de l’installation qui n’est pas exploitée par le demandeur, ou les parties qui ne sont pas censées relever du SEQE de l’UE.","Please provide here a brief outline description of the site and the installation, and describe the location of the installation on the site.  The description should also include a non-technical summary of the activities carried out at the installation, briefly describing each activity performed and the technical units used within each activity.  In particular, the description should also identify and explain any part(s) of the installation which are not operated by the applicant, or parts which are not deemed to fall under the scope of the EU ETS."]
[194,"La description doit contenir les liens qui sont nécessaires pour comprendre la manière dont les informations fournies dans les autres parties du présent modèle sont utilisées pour calculer les émissions. Ces données peuvent être aussi synthétiques que dans l’exemple donné dans la feuille D­_CalculationBasedApproaches, rubrique 7 a).","This description should provide the linking information which is needed to understand, how the information given in other parts of this template are used together for calculating the emissions. It may be as short as the given example in sheet D_CalculationBasedApproaches, section 7(a).","; 'J2_PermCCU'!$E$18"]
[195,"Titre et référence du document constituant le diagramme des flux: ","Source Stream Diagram document title and reference:"]
[196,"Pour faciliter la description des activités, il peut s’avérer utile de fournir un diagramme simple indiquant les sources d'émission, les flux, les points d'échantillonnage et les équipements de mesure.  Le cas échéant, veuillez indiquer ici la référence du diagramme (nom de fichier, date) et joindre une copie de celui-ci lorsque vous soumettrez le présent plan de surveillance à votre autorité compétente.","It may aid the description of activities to provide a simple diagram showing emissions sources, source streams, sampling points and metering/measurement equipment.  If such a diagram is available please provide here a reference (filename, date) and attach a copy when submitting this monitoring plan to your competent authority."]
[197,"Dans certains cas, la fourniture du diagramme peut être exigée par l’autorité compétente.","Note in some cases this may be specifically requested by the competent authority as mandatory."]
[198,"Liste des activités visées à l’annexe I de la directive SEQE UE menées dans l’installation:","List of activities pursuant to Annex I of the EU ETS Directive carried out at the installation:"]
[199,"Veuillez fournir les informations techniques ci-après pour chacune des activités visées à l’annexe I de la directive SEQE UE menée dans votre installation.","Please provide the following technical details for each activity pursuant to Annex I of the EU ETS Directive carried out at your installation."]
[200,"Veuillez également préciser la capacité de chacune des activités visées à l’annexe I menée dans votre installation.","Please also provide the capacity of each Annex I activity relevant at your installation."]
[201,"Veuillez noter que, dans ce contexte, on entend par «capacité»:","Please note that ‘capacity’ in this context means:"]
[202,"la puissance calorifique de combustion (pour les activités incluses dans le SEQE de l’UE à partir du seuil de 20 MW), c'est-à-dire la vitesse à laquelle le combustible peut être brûlé en régime maximal continu, multipliée par la valeur calorifique du combustible, et exprimée en mégawatts thermiques; ","Rated thermal input (for activities whose inclusion in the EU ETS depends on the 20MW threshold), which is the rate at which fuel can be burned at the maximum continuous rating of the installation multiplied by the calorific value of the fuel and expressed as megawatts thermal. "]
[203,"la capacité de production dans le cas des activités visées à l’annexe I dont l’inclusion dans le SEQE de l’UE est déterminée par la capacité de production. ","Production capacity for those specified Annex I activities for which production capacity determines the inclusion in the EU ETS. "]
[204,"Veuillez vous assurer que les limites de l’installation sont correctes et conformes à l’annexe I de la directive SEQE UE. Pour de plus amples informations, veuillez consulter les sections pertinentes des orientations de la Commission sur l’interprétation de l’annexe I. Ce document se trouve sur la page suivante:","Please make sure that the installation boundaries are correct and in line with Annex I of the EU ETS Directive. For further information please consult the relevant sections of the Commission's Guidance on Interpretation of Annex I. This document can be found under the following link:"]
[205,"http://ec.europa.eu/clima/policies/ets/docs/guidance_interpretation_en.pdf ","http://ec.europa.eu/clima/policies/ets/docs/guidance_interpretation_en.pdf "]
[206,"La liste fournie ici sera proposée sous la forme d’une liste déroulante dans les tableaux ci-après lorsque la référence de l’activité sera demandée pour la description de l’installation. ","The list entered here will be available as a drop-down list in the tables below where a reference to the activity is required for the installation description."]
[207,"Réf. de l’activité (A1, A2…)","Activity Ref. (A1, A2…)"]
[208,"Activité de l'annexe I","Annex I Activity"]
[209,"Capacité totale de l’activité ","Total Activity Capacity "]
[210,"Unités de capacité","Capacity units"]
[211,"GES émis","GHG emitted"]
[212,"Production de clinker","Production of cement clinker"]
[213,"tonnes par jour","tonnes per day"]
[214,"Combustion de combustibles","Combustion of fuels"]
[215,"MW(th)","MW(th)"]
[216,"Estimation des émissions annuelles:","Estimated annual emissions:"]
[217,"Veuillez indiquer ici les émissions annuelles moyennes de votre installation. Cette information est nécessaire pour la catégorisation de l’installation conformément à l’article 19 du MRR.  Veuillez utiliser les émissions annuelles moyennes vérifiées de la période d’échanges précédente OU, si ces données ne sont pas disponibles ou ne sont pas pertinentes,  une estimation prudente des émissions annuelles moyennes tenant compte du CO2 transféré, mais pas du CO2 issu de la biomasse.","Please enter here the average annual emissions of your installation. This information is required for categorisation of the installation in accordance with Article 19 of the MRR. Use the average verified annual emissions of the previous trading period data OR if this data is not available, or is inappropriate, a conservative estimate of annual average emissions, including transferred CO2, but excluding CO2 from biomass."]
[218,"La catégorie ainsi déterminée sert à définir les niveaux minimaux requis à la rubrique 8 (Flux). ","The resulting category is used for identifying minimum tier requirements in section 8 (Source streams)."]
[219,"Estimation des émissions annuelles:","Estimated annual emissions"]
[220,"Catégorie de l’installation conformément à l’article 19","Installation category in accordance with Article 19"]
[221,"Installation à faible niveau d'émission?","Installation with low emissions?"]
[222,"Si vous indiquez «VRAI» ici, cela signifie que l’installation remplit les critères correspondant à une installation à faible niveau d’émission qui sont définis à l’article 47.","Entering \"TRUE\" here means that the installation satisfies the criteria for installations with low emissions as defined by Article 47."]
[223,"En vertu de cet article, l’exploitant peut présenter un plan de surveillance simplifié pour une installation dans laquelle aucune activité émettant du protoxyde d’azote n’est menée, lorsqu’il peut être établi que:  ","According to that Article, the operator may submit a simplified monitoring plan for an installation where no nitrous oxide emitting activities are carried out and it can be demonstrated that: "]
[224,"les émissions annuelles moyennes vérifiées de l’installation au cours de la période d’échanges précédente étaient inférieures à 25 000 tonnes CO2(e) par an, ou","the average verified annual emissions of the installation during the previous trading period were less than 25 000 tonnes CO2(e) per year, or"]
[225,"dans le cas où les émissions vérifiées ne sont pas disponibles ou ne sont pas pertinentes, sur la base d’une estimation prudente, les émissions au cours  des cinq prochaines années seront inférieures à 25 000 tonnes CO2(e) par an.","a conservative estimate shows that emissions for the next 5 years will be less than 25 000 tonnes CO2(e) per year, where the verified emissions are not available or inappropriate."]
[226,"Remarque: Les quantités ci-dessus tiennent compte du CO2 transféré, mais pas du CO2 issu de la biomasse.","Note: the above data shall include transferred CO2, but exclude CO2 stemming from biomass."]
[227,"Si le choix que vous avez fait ici est en contradiction avec la valeur que vous avez  indiquée au point d) ci-dessus pour l'estimation des émissions, vous serez averti par un message. Veuillez fournir une justification appropriée ci-après.","If your selection here contradicts the number for estimated emissions under point (d) above, a message will highlight this fact. Please give an appropriate justification below."]
[228,"Si votre installation est une installation à faible niveau d’émission au sens de l’article 47, plusieurs simplifications s'appliquent pour le plan de surveillance.","If your installation is an installation with low emissions as defined by Article 47, several simplifications for the monitoring plan apply."]
[229,"Justification de la valeur d’estimation","Justification for estimation value"]
[230,"Si la réponse que vous avez donnée quant au statut d'installation à faible niveau d'émission est en contradiction avec la valeur que vous avez indiquée au point d) ou si cette valeur n'est pas fondée sur les émissions vérifiées, mais est une estimation prudente, veuillez fournir une brève justification ci-dessous. ","If your input regarding being an installation with low emissions contradicts your entry in point (d), or if that figure is not based on verified emissions, but on a conservative estimate, please give a short justification below."]
[231,"Méthodes de surveillance proposées:","Monitoring approaches proposed to apply:"]
[232,"Veuillez préciser lesquelles des méthodes de surveillance ci-après vous envisagez d'appliquer: ","Please confirm which of the following monitoring approaches you propose to apply:"]
[233,"Conformément à l’article 21, les émissions peuvent être déterminées soit par une méthode fondée sur le calcul («calcul») soit par une méthode fondée sur la mesure («mesure»), sauf lorsque les dispositions du MRR exigent l'application d'une méthode spécifique.","In accordance with Article 21, emissions may be determined using either a calculation based methodology (\"calculation\") or measurement based methodology (\"measurement\") except where the use of a specific methodology is mandatory according to the provisions of the MRR."]
[234,"Remarque: L’exploitant peut, sous réserve de l'approbation de l'autorité compétente, l’exploitant peut combiner la méthode de mesure et la méthode de calcul pour différentes sources.   L’exploitant est tenu de s’assurer et de démontrer que toutes les émissions à déclarer sont prises en compte et qu’aucune n’est comptée deux fois.  ","Note: the operator may, subject to competent authority approval, combine measurement and calculation for different sources.  The operator is required to ensure and demonstrate that neither gaps nor double counting of reportable emissions occurs. "]
[235,"Veuillez vous assurer de ne pas laisser ces champs vides, car les informations saisies à ce niveau conditionnent le formatage qui vous guidera dans tout le document.","Please make sure that you don't leave these fields empty, because inputs here will trigger conditional formatting, which guides you through the document."]
[236,"Méthode fondée sur le calcul pour le CO2 :","Calculation approach for CO2:"]
[237,"Méthode fondée sur la mesure pour le CO2 :","Measurement approach for CO2:"]
[238,"Méthode alternative (article 22) :","Fall-back approach (Article 22):"]
[239,"Surveillance des émissions de N2O :","Monitoring of N2O emissions:"]
[240,"Surveillance des émissions de PFC :","Monitoring of PFC emissions:"]
[241,"Surveillance du CO2, du N2O transféré/intrinsèque et CCS :","Monitoring of transferred/inherent CO2 and CCS:"]
[242,"Veuillez vous assurer de remplir le reste de cette feuille, les rubriques pertinentes pour chaque méthode sélectionnée ci-dessus, avant de passer à la feuille «K­­_ManagementControl» (rubriques 20 à 25), obligatoire pour toutes les installations.","Please ensure you have completed the rest of this sheet, the relevant sections for each approach selected above, before you continue to sheet \"K_ManagementControl\" (sections 20 to 25), which is mandatory for all installations."]
[243,"Sources d'émission:","Emissions sources:"]
[244,"En vertu de l’annexe I, les plans de surveillance doivent contenir une description de l’installation et des activités devant faire l’objet d’une surveillance qui sont réalisées dans cette installation, y compris une liste des sources d'émission et des flux.  Les informations que vous fournissez dans ce modèle doivent se rapporter aux activités visées à l’annexe I qui sont menées dans l’installation en question, et doivent concerner une seule installation à la fois. Incluez dans cette rubrique toutes les activités menées dans votre installation et excluez les activités connexes réalisées par d’autres exploitants.","Annex I requires that monitoring plans include a description of the installation and activities to be carried out and monitored, including a list of emission sources and source streams.  The information you provide in this template should relate to the Annex I activity(ies) comprised in the installation in question, and should relate to a single installation. Include in this section any activities carried out at your installation and exclude related activities carried out by other operators."]
[245,"La référence de l’activité dans la dernière colonne renvoie à la référence de l’activité indiquée à la rubrique 5 c) ci-dessus. Lorsqu’une source d’émission correspond à plusieurs activités, veuillez indiquer «A1, A2» ou «A1 – A3» ou une indication similaire, suivant le cas.","The activity reference in the last column relates to the activity reference in section 5(c) above. Where an emission source belongs to more than one activity, please enter \"A1, A2\" or \"A1 - A3\" or similar, as appropriate."]
[246,"La liste ci-dessous sera proposée sous la forme d’une liste déroulante aux points c), d) et e) ci-dessous lorsque la référence de la source d’émission considérée sera demandée.","The list here will be available as a drop-down list at the following points below (c, d and e) where a reference to the relevant emission sources is needed."]
[247,"Réf. de la source d’émission\nS1, S2,...","Emission source ref.\nS1, S2,..."]
[248,"Source d’émission (nom, description)","Emission source (name, description)"]
[249,"Réf. de l’activité","Activity Ref."]
[250,"Four à ciment (décarbonatation de la farine crue, combustion de combustibles)","Cement clinker kiln (decarbonatisation of raw meal, combustion of fuels)"]
[251,"Chaudière à charbon (combustion de combustibles)","Coal fired boiler (combustion of fuels)"]
[252,"Chaudière à charbon (décomposition du calcaire pour l’épuration des effluents gazeux)","Coal fired boiler (decomposition of limestone for flue gas scrubbing)"]
[253,"Cliquez sur « + » pour ajouter d’autres sources d’émission","Click \"+\" to add more emissions sources"]
[254,"Points d’émission et GES émis:","Emission points and emitted GHGs:"]
[255,"Veuillez énumérer et décrire brièvement tous les points d’émission pertinents (y compris les sources d’émission diffuse).","Please list and briefly describe all relevant emission points (including diffuse emission sources)."]
[256,"Veuillez également sélectionner  les activités relevant de l’annexe I, les sources d’émission et les GES émis dans les listes déroulantes (en fonction des données saisies à la rubrique 5 c) ci-dessus). Si plusieurs activités ou sources d’émissions sont concernées, veuillez saisir, par exemple, «A1, A2».","Please also select the Annex I activities, the emission sources and the GHGs emitted from the drop-down lists (relating to data entered in section 5(c) above). If more than one activity or emission source in concerned, please enter e.g. \"A1, A2\"."]
[257,"La liste ci-dessous sera proposée sous la forme d’une liste déroulante aux points d) et e) ci-dessous lorsque la référence du point d’émission considéré sera demandée.","The list here will be available as a drop-down list at the following points below (d and e) where a reference to the relevant emission point is needed."]
[258,"Réf. du point d’émission:\nEP1, EP2, ….","Emission point ref\nEP1, EP2,..."]
[259,"Description du point d’émission","Emission point description"]
[260,"Réf. de la source d’émission","Emission source ref."]
[261,"Cheminée 1 (chaudière à charbon)","Stack 1 (coal fired boiler)"]
[262,"Cheminée 2 (four à ciment)","Stack 2 (cement kiln)"]
[263,"Cliquez sur « + » pour ajouter d’autres points d’émission","Click \"+\" to add more emission points"]
[264,"Points de mesure, lorsque des systèmes de mesure continue sont installés:","Measurement points, where continuous measurement systems are installed:"]
[265,"Pour que ce modèle propose automatiquement des catégories de sources d’émission, il est nécessaire de définir au préalable les sources d’émission pour lesquelles des méthodes fondées sur la mesure sont appliquées.","In order to allow this template to automatically propose emission source categories, it is necessary to define first any emission sources for which measurement based methods are applied."]
[266,"Veuillez énumérer et décrire ici tous les points de mesure au niveau desquels les GES sont mesurés au moyen de systèmes de mesure continue des émissions (SMCE). Incluez les points de mesure dans les systèmes de pipeline qui sont utilisés pour le transfert du CO2 aux fins de son stockage géologique.","Please list and describe here all measurements points at which GHGs are measured by continuous emission measuring systems (CEMS). This includes measurement points in pipeline systems used for the transfer of CO2 with the aim of geological storage of CO2."]
[267,"Aucune donnée n’est requise si vous avez indiqué qu’aucune méthode fondée sur la mesure n’est appliquée à la rubrique 6 a) ci-dessus. ","No entries are required if you have defined that no measurement based methods are used in section 6(a) above."]
[268,"Pour chaque point de mesure, veuillez également donner une estimation des émissions annuelles correspondantes. Cette information est nécessaire pour déterminer le niveau applicable.","For each measurement point, please also enter an estimate for the respective annual emissions. This information is required for determining the applicable tier."]
[269,"Conformément à l’article 41, paragraphe 1, l’application d’un niveau inférieur peut être autorisée pour chaque source d’émission émettant moins de 5 000 tonnes de CO2(e) par an ou représentant moins de 10 % des émissions annuelles totales de l’installation, la valeur la plus élevée en valeur absolue étant retenue (source d’émission «mineure»).","Pursuant to Article 41(1) a lower tier requirement may be allowed for each emission source which emits less than 5 000 tonnes of CO2(e) per year, or which contributes less than 10% of the total annual emissions of the installation, whichever is higher in terms of absolute emissions (\"minor\" emission source)."]
[270,"Toutes les autres sources d'émissions seront catégorisées en tant que sources d'émission «majeures».","All other emission sources will be categorised as \"major\" emission source."]
[271,"Ces estimations des émissions permettent également de catégoriser les flux faisant l’objet de la méthode fondée sur le calcul au point f), lorsqu’une telle méthode est appliquée.  ","Those estimated emissions are also relevant to categorise the calculated-based source streams under point (f) below, if calculation based approaches are applied. "]
[272,"Réf. du point de mesure M1, M2, …","measurement point ref. M1, M2,..."]
[273,"Description","Description"]
[274,"Réf. du point d’émission","Emission point ref."]
[275,"Estimation des émissions [t CO2e/an]","Estimated emissions [t CO2e / year]"]
[276,"Catégorie possible","Possible category"]
[277,"GES mesuré","GHG measured"]
[278,"Cheminée de chaudière à charbon, plateforme de mesure A","Stack of coal fired boiler, measurement platform A"]
[279,"Cliquez sur « + » pour ajouter d’autres points de mesure","Click \"+\" to add more measurement points"]
[280,"Flux à prendre en considération:","Relevant source streams:"]
[281,"Veuillez énumérer ici tous les flux (combustibles, matières, produits,…) qui doivent faire l'objet d’une surveillance dans votre installation au moyen d’une méthode fondée sur le calcul (à savoir méthode standard ou bilan massique) Pour la définition du terme «flux», veuillez consulter le document d’orientation n°1 («General guidance for installations»).  Pour la définition des flux de PFC, veuillez vous reporter au point 14 c) de la feuille «I­_PFC».","Please list here all source streams (fuels, materials, products,…) which are to be monitored at your installation using calculation based approaches (i.e. standard methodology or mass balance). For definition of the term \"source stream\" please see guidance document No. 1 (\"General guidance for installations\"). For definition of source streams for PFC, please see point 14(c) in sheet \"I_PFC\"."]
[282,"Les flux peuvent être désignés comme suit «gaz naturel», «fioul lourd», «farine crue à ciment»,…","The source streams may be named like e.g. \"natural gas\", \"heavy fuel oil\", \"cement raw meal\",.."]
[283,"Le type de flux définit un ensemble de règles à appliquer conformément au MRR. Cette classification détermine d’autres obligations, par exemple les niveaux à appliquer.","The source stream type is to be understood as a set of rules to be used according to the MRR. This classification is the basis for further obligations, e.g. tiers to be applied."]
[284,"La liste déroulante permettant de sélectionner le type de flux est basée sur les activités sélectionnées à la rubrique 5 c) ci-dessus. La réponse donnée ici est nécessaire pour déterminer le niveau minimal applicable dans la feuille «E_SourceStreams». ","The drop-down list for selection of the Source stream type is based upon the activities selected in section 5(c) above. The entry there is required for determining the applicable minimum tier in sheet \"E_SourceStreams\"."]
[285,"Pour permettre à l’autorité compétente de bien comprendre le fonctionnement de votre installation, veuillez sélectionner dans chaque liste déroulante les activités relevant de l’annexe I, les sources d’émission et les points d’émission qui correspondent à chaque flux.  Si plusieurs activités ou sources d’émissions sont concernées, veuillez saisir, par exemple, «A1, A2».","For allowing the competent authority to fully understand the functioning of your installation, please select from the respective drop-down lists the Annex I activities, the emission sources and the emission points, which correspond which each source stream. If more than one activity or emission source in concerned, please enter e.g. \"A1, A2\"."]
[286,"Réf . du flux  F1, F2,…","Source Stream ref. F1, F2,..."]
[287,"Nom du flux","Source stream Name"]
[288,"Type de flux","Source stream type"]
[289,"Farine crue","Raw meal"]
[290,"Clinker: D'après la charge du four (méthode A)","Cement clinker: Kiln input based (Method A)"]
[291,"A1: Production de clinker","A1: Production of cement clinker"]
[292,"S1: Four à ciment (décarbonatation de la farine crue, combustion de combustibles)","S1: Cement clinker kiln (decarbonatisation of raw meal, combustion of fuels)"]
[293,"EP2: Cheminée 2 (four à ciment)","EP2: Stack 2 (cement kiln)"]
[294,"Fioul lourd","Heavy fuel oil"]
[295,"Combustion: Autres combustibles gazeux & liquides","Combustion: Other gaseous & liquid fuels"]
[296,"Cliquez sur « + » pour ajouter d’autres flux","Click \"+\" to add more source streams"]
[297,"Estimation des émissions et catégories de flux:","Estimated emissions and source stream categories:"]
[298,"Veuillez indiquer l’estimation des émissions pour chaque flux (méthode fondée sur le calcul, y compris PFC), et sélectionner une catégorie appropriée de flux.","Please enter for each source stream (calculation-based method, including PFC)  the estimated emissions, and select an appropriate source stream category."]
[299,"Les données correspondant aux références des flux et au nom complet des flux (nom du flux et type de flux) seront automatiquement reprises du point d) ci-dessus.","Data for the source stream references and the source stream full name (source stream name and source stream type) will be taken from point (d) above automatically."]
[300,"Lorsque des flux sortent d’un bilan massique, les émissions doivent être saisies sous la forme de valeurs négatives.","In case of source streams going out of a mass balance, the emissions must be entered as negative values."]
[301,"Contexte: En application de l’article 19, paragraphe 3, vous pouvez catégoriser chaque flux dans en tant que flux «majeur», «mineur» ou «de minimis».","Background: Pursuant to Article 19(3) you can categorise each source stream as \"major\", \"minor\" or \"de-minimis\"."]
[302,"Les flux «mineurs» sont des flux qui représentent au total moins de 5 000 tonnes de CO2 fossile par an ou moins de 10 %, à concurrence de 100 000 tonnes de CO2 fossile par an, la quantité la plus élevée en valeur absolue étant retenue;","\"minor\" source streams jointly correspond to less than 5 000 tonnes of fossil CO2 per year or to less than 10%, up to a total maximum contribution of 100 000 tonnes of fossil CO2 per year, whichever is the highest in terms of absolute value"]
[303,"Les flux «de minimis» sont des flux qui représentent au total moins de 1 000 tonnes de CO2 fossile par an ou moins de 2 %, à concurrence de 20 000 tonnes de CO2 fossile par an, la quantité la plus élevée en valeur absolue étant retenue;","\"de-minimis\" source streams jointly correspond to less than 1 000 tonnes of fossil CO2 per year or to less than 2%, up to a total maximum contribution of 20 000 tonnes of fossil CO2 per year, whichever is the highest in terms of absolute value"]
[304,"Les flux «majeurs» sont les flux qui n’entrent ni dans la catégorie des flux «mineurs» ni dans celles des flux «de minimis».","\"major\" source streams are all source streams not classified as \"minor\" or \"de-minimis\""]
[305,"Dans le cas des flux qui entrent dans un bilan massique,  ce sont les valeurs absolues qui sont prises en compte pour la classification. ","For mass balance source streams the absolute values will be taken into account for the classification."]
[306,"Pour vous aider à sélectionner la catégorie appropriée, la catégorie possible s’affiche automatiquement, pour chaque flux, dans le champ vert.","To help you selecting an appropriate category, the possible category will be displayed automatically for each source stream in the green field."]
[307,"Veuillez noter que cet affichage automatique n’indique que la catégorie possible pour chaque flux pris séparément. En cas de dépassement d'un des seuils définis ci-dessus, les catégories possibles ne changeront pas, mais un message d'erreur s'affichera. Si tel est le cas, veuillez sélectionner au moins une catégorie d’un niveau supérieur.","Please note that this automatic display only provides information about the possible category for each source stream as a stand-alone. If any of the thresholds explained above are exceeded, the possible categories will not change but an error message will occur. In that case please select at least a category one level higher."]
[308,"Lorsque vous aurez saisi les émissions estimées pour tous les flux, la somme sera comparée aux émissions annuelles totales indiquées au point 5 d) ci-dessus. Si la somme des émissions estimées s’écarte de plus de 5 % des émissions annuelles totales, un message d’erreur s’affichera automatiquement. ","After you have completed entering the estimated emissions for all source streams the sum will be compared to the total annual emissions entered under 5.d. above. If the sum of estimated emissions differs by more than 5% of total annual emissions an automatic error message will be displayed. "]
[309,"Nom complet du flux (nom + type)","Source stream full name (name + type)"]
[310,"Catégorie sélectionnée","Selected category"]
[311,"Farine crue; Clinker: D'après la charge du four (méthode A)","Raw meal; Cement clinker: Kiln input based (Method A)"]
[312,"Flux majeur","Major"]
[313,"Fioul lourd; Combustion: Autres combustibles gazeux & liquides","Heavy fuel oil; Combustion: Other gaseous & liquid fuels"]
[314,"Message d’erreur (somme des flux mineurs):","Error message (sum of minor source streams):"]
[315,"Message d’erreur (somme des flux de minimis):","Error message (sum of de-minimis source streams):"]
[316,"Message d’erreur (Émissions totales, différence par rapport au point 5 d)):","Error message (Total Emissions, difference to 5(d) ):"]
[317,"Parties d’installations et activités ne relevant pas du SEQE de l’UE, le cas échéant:","Installation parts and activities not included in the EU ETS, if relevant:"]
[318,"Veuillez fournir des précisions sur les parties d’installations ou les activités qui ne sont pas incluses dans le SEQE de l’UE lorsque des combustibles ou des matières utilisées par ces activités sont pris en compte par des dispositifs de mesure qui servent également à des activités visées à l’annexe I.","Please provide details for any installation parts or activities not included in the EU ETS where fuel or materials used by these activities are accounted for by measurement devices that also supply Annex I activities."]
[319,"Pour plus de précisions, veuillez consulter les points b), c) et c) ci-dessus. ","For further guidance please consult points (b), (c) and (e) above. "]
[320,"Réf. de la source d’émission","Emission source ref"]
[321,"Flux (combustibles/matières)","Source streams (fuels/materials)"]
[322,"Sources d'émission","Emission sources"]
[323,"Points d’émission","Emission points"]
[324,"Gaz naturel (passant de l’installation au consommateur externe)","Natural gas (passed through the installation to external consumer)"]
[325,"Plusieurs chaudières (< 3MWth chacune)","several boilers (< 3MWth each)"]
[326,"Cheminée d’installation raccordée (chauffage d'un hôpital adjacent)","Stack of connected installation (Heating of adjacent hospital)"]
[327,"Cliquez sur «+» pour ajouter d’autres activités exclues du SEQE de l’UE","Click \"+\" to add more activities excluded from EU ETS"]
[328,"D.\nCalculation Approach","D.\nCalculation Approach"]
[329,"Instruments de mesure","Measuring Instruments"]
[330,"Sources d'information","Information Sources"]
[331,"Laboratoires","Laboratories"]
[332,"Procédures","Procedures"]
[333,"Veuillez utiliser cette feuille pour fournir les informations nécessaires aux méthodes fondées sur le calcul. Les renseignements fournis ici servent de référence pour les informations détaillées qui seront demandées dans la feuille suivante (E_SourceStreams). ","Please use this sheet for providing information necessary for calculation based approaches. The information entered here is used as reference for the detailed inputs in the following sheet (E_SourceStreams)."]
[334,"En particulier, la liste des instruments de mesure est nécessaire pour la surveillance des données d’activité, et la liste des sources d'informations pour les valeurs par défaut des facteurs de calcul conformément à l'article 31; les méthodes d’analyse seront citées dans des études de cas et sont nécessaires pour les facteurs de calcul.","In particular, the list of measuring instruments is required for the monitoring of activity data, the list of information sources is required for default values for calculation factors in accordance with Article 31, and the analytical methods will be referenced in case analyses are required for calculation factors."]
[335,"Description de la méthode fondée sur le calcul utilisée pour la surveillance des émissions de CO2 dans votre installation, le cas échéant:","Description of the calculation based approach for monitoring CO2 emissions at your installation, if applicable:"]
[336,"Veuillez décrire de façon concise dans la zone de texte ci-dessous la méthode de calcul, formules comprises, utilisée pour déterminer les émissions annuelles de CO2 de votre installation.","Please provide a concise description of the calculation approach, including formulae, used to determine your annual CO2 emissions in the text box below."]
[337,"Si la description est trop complexe (utilisation de formules complexes, par exemple), vous pouvez fournir cette description dans un document séparé, dans un format de fichier acceptable par l’AC.    Veuillez dans ce cas fournir la référence de ce fichier en indiquant le nom de fichier et la date.","If the description is too complex, e.g. complex formulas are applied, you may provide the description in a separate document using a file format acceptable for the CA. In this case please reference this file here, by using the file name and date."]
[338,"La description doit contenir les liens qui sont nécessaires pour comprendre la manière dont les informations fournies dans les autres parties du présent modèle sont utilisées pour calculer les émissions. Elle peut être aussi synthétique que l'exemple donné.","This description should provide the linking information which is needed to understand, how the information given in other parts of this template are used together for calculating the emissions. It may be as short as the given example."]
[339,"En principe, la méthode de calcul utilisée dans cette installation est appliquée conformément à la séquence suivante:","In principle, the calculation approach used at this installation is done according to the following sequence:"]
[340,"a) pour chaque flux, lorsque des valeurs par défaut sont utilisées pour les facteurs de calcul (gaz naturel, fioul lourd et tous les flux mineurs), les données d’activité sont dans un premier temps additionnées, puis la formule de calcul indiquée à l’article 24, paragraphe 1, est appliquée. ","a) for each source stream, where default values for calculation factors are used (natural gas, heavy fuel oil, and all minor source streams), the activity data is first summed up, then the calculation formula according to Article 24(1) is used."]
[341,"b) pour chaque flux, lorsque des résultats d'analyse sont utilisés pour les facteurs de calcul (charbon, farine crue), les données d'activité et les facteurs de calcul de chaque lot auquel les analyses se rapportent sont utilisés en premier lieu dans la formule de calcul indiquée à l’article 24, paragraphe 1. Les émissions qui en résultent pour chaque lot sont ensuite ajoutées au chiffre des émissions annuelles du flux. ","b) for each source stream, where analyses results are used for calculation factors (coal, raw meal), the activity data and calculation factors of each batch, to which the analyses relate, are first used for the calculation formula according to Article 24(1). The resulting emissions for each batch are then summed up to the annual emissions value of the source stream."]
[342,"c) Dans la situation b), des facteurs de calcul en moyenne pondérée sont déterminés aux fins de la déclaration.","c) In cases b), weighted average calculation factors are determined for reporting."]
[343,"d) les émissions de tous les flux sont additionnées pour obtenir les émissions annuelles de l’installation.","d) the emissions of all source streams are added up to give the annual emissions of the installation."]
[344,"Dans le cas des combustibles solides, le mesurage par lot est appliqué conformément à l’article 27, paragraphe 2.  Pour tous les autres flux, la surveillance est effectuée par mesure continue.","For solid fuels, batch metering in accordance with Article 27(2) is used. All other source streams are monitored using continual metering."]
[345,"Tous les détails relatifs aux flux (détermination des données d’activité, détermination des facteurs de calcul) figurent dans d’autres rubriques du présent plan de surveillance.","All details on source streams (determination of activity data, determination of calculation factors) are outlined in other sections of this monitoring plan."]
[346,"Caractéristiques et localisation des systèmes de mesure utilisés pour déterminer les données d’activité relatives aux flux:","Specification and location of measurement systems for determining the activity data for source streams:"]
[347,"Veuillez décrire les caractéristiques et la localisation des systèmes de mesure à utiliser pour chaque flux lorsque les émissions sont déterminées par calcul.","Please describe the specification and location of the measurement systems to be used for each source stream where emissions are determined by calculation."]
[348,"Dans la colonne «Localisation», vous devez indiquer l’endroit où se trouve l’appareil de mesure dans l’installation, ainsi que la manière dont il est représenté sur le schéma de procédé. ","Under \"Location\" you should specify where the meter is found in the installation, and how it is identified in the process flow chart."]
[349,"Pour chaque instrument de mesure, veuillez indiquer l’incertitude spécifiée, ainsi que la plage de mesure à laquelle se rapporte cette incertitude, telle que communiquée par le fabricant. Dans certains cas, l’incertitude peut être spécifiée pour deux plages différentes.  Dans ce cas, veuillez indiquer les deux.","For each measuring instrument please enter the specified uncertainty, including the range this uncertainty is related to, as given in the manufacturer's specification. In some cases an uncertainty may be specified for two different ranges. In that case please enter both of them."]
[350,"La plage d’utilisation usuelle désigne la plage pour laquelle l’instrument de mesure est habituellement utilisé dans votre installation.","The typical use range refers to the range the relevant measuring instrument is usually used in your installation."]
[351,"Il convient de fournir une description pour tous les dispositifs de mesure servant à la surveillance des émissions, y compris les compteurs et les sous-compteurs utilisés pour déduire les quantités qui sont utilisées en dehors des limites de l’installation. Les instruments de mesure utilisés pour la mesure continue des émissions (SMCE) doivent être précisés dans la feuille F­_MeasurementBasedApproaches, rubrique 9.c.","A description should be provided for all measurement devices which are relevant for emissions monitoring, including sub-meters and meters used to deduct quantities which are used outside the installation boundaries. Measurement devices used for continuous emissions measurement (CEMS) are to be specified in sheet F_MeasurementBasedApproaches, section 9.c."]
[352,"«Type d’instrument de mesure». Veuillez choisir le type correspondant dans la liste déroulante, ou saisir un type plus approprié.","\"Type of measuring instrument\": Please select the appropriate type from the drop-down list, or enter a more appropriate type."]
[353,"La liste des instruments fournie ici sera proposée sous la forme d’une liste déroulante pour chacun des flux dans la feuille E_SourceStreams (point b), lorsque les références des instruments de mesure utilisés sont demandées.","The list of instruments entered here will be available as a drop-down list for each source stream in sheet E_SourceStreams (point b), where the relevant measuring instruments used are to be referenced."]
[354,"Dans le cas des débitmètres de gaz, veuillez indiquer Nm3/h si la compensation p/T est intégrée dans l’instrument et m3 en mode de fonctionnement si la compensation p/T est réalisée par un instrument distinct.  Dans ce dernier cas, veuillez également énumérer ces instruments.","In case of gas flow meters please refer to Nm³/h if the p/T compensation is implemented into the instrument and relate to m³ in operating state if the p/T compensation is done by a separate instrument. In the latter case please also list those separate instruments."]
[355,"Tous les instruments utilisés doivent être clairement répertoriés à l’aide d’un identificateur unique (tel que le numéro de série de l’instrument). Cependant, le remplacement d’un instrument (rendu nécessaire, par exemple, en cas d’avarie) ne constitue pas une modification importante du plan de surveillance au sens de l’article 15, paragraphe 3. L’identification unique doit donc être consignée ailleurs que dans le plan de surveillance. Veuillez vous assurer d’établir une procédure écrite appropriée à cet effet. ","All instruments used must be clearly identifiable using a unique ID (such as the serial number of the instrument). However, exchange of instruments (e.g. necessary as consequence of a damage) will not constitute a significant change of the monitoring plan within the meaning of Article 15(3). The unique identification should therefore be documented separately from the monitoring plan. Please make sure that you establish an appropriate written procedure for this purpose."]
[356,"Réf.","Ref"]
[357,"Type d’instrument de mesure","Type of measuring instrument"]
[358,"Localisation (ID interne)","location (internal ID)"]
[359,"Plage de mesure","Measurement range"]
[360,"Incertitude spécifiée\n(+/-%)","Specified\nuncertainty\n(+/-%)"]
[361,"Plage d’utilisation usuelle","Typical use range"]
[362,"unité","unit"]
[363,"extrémité inférieure","lower end"]
[364,"extrémité supérieure","upper end"]
[365,"Compteur à pistons rotatifs","Rotary meter"]
[366,"Pont de pesage","Weigh bridge"]
[367,"Cliquez sur « + » pour ajouter d’autres instruments de mesure","Click \"+\" to add more measurement instruments"]
[368,"Titre et références du document d’évaluation des calculs d’incertitude","Uncertainty calculations assessment document title and reference:"]
[369,"Vous devez présenter des éléments démontrant la conformité des niveaux appliqués, conformément à l’article 12.  Veuillez énumérer les références des calculs d’incertitude et/ou des schémas s'y rapportant dans l'encadré ci-dessus. ","You must provide evidence to demonstrate compliance with the applied tiers, in accordance with Article 12. Please list references to uncertainty calculations and/or schematics in the box above. "]
[370,"Veuillez noter que conformément à l’article 47, paragraphe 3, les installations à faible niveau d’émission ne sont pas tenues de remettre ce document à l’AC.","Note that in accordance with Article 47(3), installation with low emissions do not have to submit this document to the CA."]
[371,"Liste des sources d’information pour les valeurs par défaut des facteurs de calcul:","List of information sources for default values of calculation factors:"]
[372,"Veuillez énumérer toutes les sources d’information pertinentes pour la détermination des valeurs par défaut des facteurs de calcul conformément à l’article 31. ","Please list all relevant information sources, from which you derive default values for calculation factors according to Article 31. "]
[373,"Il s’agit généralement de sources statiques telles que l’inventaire national, le GIEC, l’annexe IV du MRR, manuel de chimie et physique….).","These are usually static sources such as e.g. National Inventory, IPCC, MRR Annex VI, Handbook of Chemistry & Physics...)."]
[374,"Ce n’est qu’en cas de changement des valeurs par défaut d'une année sur l'autre que l'exploitant doit préciser la source autorisée applicable pour la valeur en question, à savoir une source dynamique telle que le site internet de l’AC.","Only where the default values change on an annual basis, the operator shall specify the authoritative applicable source of that value by means of a dynamic source, such as the CA's Website."]
[375,"Cette liste sera proposée sous la forme d’une liste déroulante dans la feuille E_SourceStreams [tableau g)] pour indiquer les sources d'information correspondant aux facteurs de calcul pour chaque flux.","This list will be available as a drop-down in sheet E_SourceStreams (table (g) to reference the information sources to the relevant calculation factors of each source stream."]
[376,"Réf . de la source d’information","Information Source Ref."]
[377,"Description de la source d’information ","Description of Information source "]
[378,"Inventaire national des GES, mis à jour annuellement (voir http:/Dummy.address.test).  La valeur la plus récente publiée en 2011 est utilisée.","National GHG Inventory, annually updated (see http:/Dummy.address.test). Most recent value published in 2011 is used."]
[379,"Manuel de chimie et Physique, 92e édition, http://www.hbcpnetbase.com/ ","Handbook of Chemistry and Physics, 92nd ed., http://www.hbcpnetbase.com/"]
[380,"Analyse du PCI et du FE du flux «fioul lourd» réalisée en août 2011.","NCV and EF analysis of source stream \"heavy fuel oil\" from August 2011"]
[381,"Cliquez sur « + » pour ajouter d’autres sources d’information","Click \"+\" to add more information sources"]
[382,"Méthodes et laboratoires utilisés pour les analyses relatives aux facteurs de calcul:","Laboratories and methods used for analyses for calculation factors:"]
[383,"Veuillez énumérer les méthodes utilisées pour analyser les combustibles et les matières en vue de la détermination de tous les facteurs de calcul, en fonction du niveau sélectionné. Si le laboratoire n’est pas accrédité conformément à la norme EN ISO/IEC 17025, vous devez prouver que le laboratoire est techniquement compétent, conformément à l’article 34. À cet effet, veuillez indiquer la référence d’un document joint.","Please list the methods to be used for analysing fuels and materials for the determination of all calculation factors where applicable due to the selected tier. Where the laboratory is not accredited according to EN ISO/IEC 17025, you have to provide evidence that the laboratory is technically competent in accordance with Article 34. For this purpose please provide reference to an attached document."]
[384,"En cas d’utilisation d’appareils de chromatographie en phase gazeuse en ligne ou d’analyseurs de gaz avec ou sans extraction, il y a lieu de respecter les dispositions de l’article 32.","Where online gas chromatographs or extractive or non-extractive gas analysers are used, the requirements of Article 32 shall be met."]
[385,"Cette liste sera proposée sous la forme d’une liste déroulante dans la feuille E_SourceStreams (tableau g) pour indiquer la référence des méthodes d’analyse utilisées pour les facteurs de calcul de chaque flux.","This list will be available as a drop-down in sheet E_SourceStreams (table (g)) to reference the analytical methods to the relevant calculation factors of each source stream."]
[386,"Réf. du laboratoire","Lab Ref"]
[387,"Nom du laboratoire","Name of laboratory"]
[388,"Paramètre","Parameter"]
[389,"Méthode d’analyse\n(indiquez la référence de la procédure et fournir une brève description de la méthode)","Method of analysis\n(include procedure reference and brief description of method)"]
[390,"Le laboratoire est-il accrédité EN ISO/IEC 17025 pour cette analyse ?","Is lab EN ISO/IEC 17025 accredited for this analysis?"]
[391,"Si la réponse est non, fournir la référence des justificatifs à produire ","If no, reference the evidence to be submitted"]
[392,"Exemple de laboratoroire","Example lab"]
[393,"Teneur en C","C-Content"]
[394,"EN 15104:2011. Voir procédure ANA-1233/UBA","EN 15104:2011. See procedure ANA-1233/UBA"]
[395,"Exemple laboratoroire 2","Example lab 2"]
[396,"Teneur en biomasse ","Biomass content"]
[397,"EN 15440:2011 – des différences en ce qui concerne la taille et le traitement des échantillons. Voir procédure ANA-1234/UBA","EN 15440:2011 - some deviations regarding sample size and treatment. See procedure ANA-1234/UBA"]
[398,"Compétence_labo.pdf, 2/3/2012","Lab_competence.pdf, 2/3/2012"]
[399,"Cliquez sur « + » pour ajouter d’autres méthodes et laboratoires","Click \"+\" to add more methods & laboratories"]
[400,"Description des procédures écrites d’analyse:","Description of the written procedures for analyses:"]
[401,"Veuillez fournir des précisions sur les procédures écrites correspondant aux analyses énumérées dans le tableau 7 e).  La description doit couvrir les principaux paramètres et les principales opérations effectuées.","Please provide details about the written procedures for the analyses listed above in table 7(e). The description should cover the essential parameters and operations performed."]
[402,"Lorsque plusieurs procédures sont utilisées aux mêmes fins mais pour différents flux ou paramètres, veuillez préciser la procédure globale qui couvre les éléments communs et l’assurance qualité des méthodes appliquées.","Where a number of procedures are used for a similar purpose but for different source streams or parameters, please provide details of an overarching procedure which covers the common elements and quality assurance of the applied methods."]
[403,"Vous pouvez donc soit indiquer les références des différentes «sous-procédures», soit fournir des détails sur chaque procédure séparément.  Dans ce dernier cas, veuillez utiliser le bouton «ajouter des procédures» à la fin de cette feuille. Veuillez toutefois vous assurer de pouvoir indiquer clairement la référence de la (sous-)procédure appropriée dans le tableau g de la rubrique 8. ","You may then either give here references to individual \"sub-procedures\", or you may provide details of each relevant procedure separately. For the latter, please use the \"add procedure\" button at the end of this sheet. However, please ensure that clear reference to the appropriate (sub-)procedure can be given in section 8, table g."]
[404,"Intitulé de la procédure","Title of procedure"]
[405,"Analyse du PCI des combustibles solides et liquides","Analysis of NCV of solid and liquid fuels."]
[406,"Référence de la procédure","Reference for procedure"]
[407,"Combustibles solides: ANA 1-1/UBA; Combustibles liquides: ANA 1-2/UBA;  Comparaison par laboratoire externe (accrédité): ANA 1-3/ext","Solid fuels: ANA 1-1/UBA; Liquid fuels: ANA 1-2/UBA;  Comparison by external (accredited) laboratory: ANA 1-3/ext"]
[408,"Références du schéma (le cas échéant):","Diagram reference (where applicable)"]
[409,"S.O.","N.A."]
[410,"Description succincte de la procédure    ","Brief description of procedure    "]
[411,"La méthode de la bombe calorimétrique est utilisée. La quantité appropriée d'échantillon est déterminée d'après l’expérience acquise par la réalisation de mesures antérieures sur des matières similaires.\nLes échantillons sont utilisés à l’état sec (dessiccation à 120 °C pendant au moins 6h). Le PCI est corrigé de la teneur en humidité au moyen d’un calcul.","Bomb calorimeter method is used. Appropriate amount of sample is based on experience from earlier measurements of similar materials.\nSamples are used in dry state (dried at 120°C for at least 6h). NCV is corrected for moisture content by calculation."]
[412,"Combustibles solides: comme dans la norme. Combustibles liquides: légère adaptation de la norme;  Les échantillons ne sont pas déshydratés.","Solid fuels: as in standard. Liquid fuels: Only slightly adapted from standard; samples are not dried."]
[413,"Poste ou service responsable de la procédure et de toute donnée générée.","Post or department responsible for the procedure and for any data generated"]
[414,"Raison sociale du laboratoire - Chef de service Adjoint: Directeur HSEQ","Company's Laboratory - Head of department. Deputy: HSEQ manager."]
[415,"Lieu d'archivage","Location where records are kept"]
[416,"Copie papier: Salle du laboratoire, rayonnage 27/9, Classeur «ETS 01-ANA-yyyy» (où yyyy est l’année en cours)\nPar voie électronique: «P:\\ETS_MRV\\labs\\ETS_01-ANA-yyyy.xls»","Hardcopy: Laboratory Office, shelf 27/9, Folder identified “ETS 01-ANA-yyyy” (where yyyy is the current year).\nElectronically: “P:\\ETS_MRV\\labs\\ETS_01-ANA-yyyy.xls”\n"]
[417,"Nom du système informatique utilisé (le cas échéant).","Name of IT system used (where applicable)."]
[418,"Journal interne du laboratoire (Base de données accessibles aux EM): Le numéro des échantillons ainsi que leur origine et leur nom restent associés aux résultats. ","Internal log of the lab (MS Access database): sample numbers and origin/name of sample are tracked together with the results."]
[419,"Liste des normes EN ou autres appliquées (le cas échéant)","List of EN or other standards applied (where relevant)"]
[420,"EN 14918:2009 avec modifications pour pouvoir utiliser également des combustibles non issus de la biomasse et des combustibles liquides.","EN 14918:2009 with modifications for using also for non-biomass and liquid fuels."]
[421,"Description de la procédure d’établissement des plans d’échantillonnage en vue des analyses:","Description of the procedure for the sampling plans for the analyses:"]
[422,"Les procédures ci-dessous doivent couvrir les éléments d’un plan d’échantillonnage, conformément aux dispositions de l’article 33.  Une copie de la procédure doit être remise à l’autorité compétente en même temps que le plan d’échantillonnage.","The procedures below should cover the elements of a sampling plan as required by Article 33.  A copy of the procedure should be submitted to the competent authority with the monitoring plan."]
[423,"Description de la procédure à utiliser pour évaluer la pertinence du plan d’échantillonnage","Description of the procedure to be used to revise the appropriateness of the sampling plan:"]
[424,"Description de la procédure à utiliser pour estimer les stocks au début et à la fin de l'année de déclaration (le cas échéant):","Description of the procedure to be used to estimate stocks at the beginning/end of the reporting year (if applicable):"]
[425,"Veuillez décrire la procédure à utiliser pour estimer les variations des stocks de tout flux faisant l’objet d’une surveillance au moyen d’un mesurage par lots, par exemple sur la base de factures. ","Please describe the procedure to be used to estimate stock changes of any source streams which are monitored using batch metering, e.g. where invoices are used."]
[426,"Description de la procédure à utiliser pour surveiller les instruments placés dans l’installation servant à déterminer les données d’activité.","Description of the procedure used to keep track of instruments installed in the installation used for determining activity data."]
[427,"Cette procédure n’est applicable que lorsque l’exploitant utilise des instruments de mesure placés sous son propre contrôle.","This procedure is only relevant where the operator uses measuring instruments under his own control."]
[428,"Cliquez sur « + » pour ajouter d’autres procédures","Click \"+\" to add more procedures"]
[429,"E.\nSource streams","E.\nSource streams"]
[430,"6 à 10","6 to 10"]
[431,"E. Source Streams (Flux)","E. Source Streams"]
[432,"Veuillez noter que le texte explicatif ne s’affiche que pour le premier flux. ","Please note that the guiding text is only displayed for the first source stream."]
[433,"Si vous souhaitez afficher les données pour d’autres flux, veuillez cliquer sur les signes «+» à gauche (fonction de groupement de données).","If you want to display data for further source streams, please click on the \"+\" signs at the left (data grouping function)."]
[434,"Pour ajouter d’autres flux, veuillez passer à la rubrique 6 e) sur la feuille C­­_InstallationDescription, et utiliser la macro qui s'y trouve.","For adding further source streams, please go to section 6.e in sheet C_InstallationDescription, and use the macro there."]
[435,"L’exemple est intégré dans le premier flux.","The example is integrated in the first source stream.","; 'I_PFC'!$D$69"]
[436,"Type de flux:","Source stream type:"]
[437,"Méthode applicable en vertu du MRR:","Method applicable according to MRR:"]
[438,"Paramètre auquel s’applique l’incertitude:","Parameter to which uncertainty applies:"]
[439,"Exemple de flux:","Example Source Stream:"]
[440,"Méthode standard: Combustible, article 24, paragraphe 1","Standard method: Fuel, Article 24(1)"]
[441,"Quantité de combustible [t] ou [Nm3]","Amount of fuel [t] or [Nm3]"]
[442,"Le nom du flux, le type de flux et la catégorie s’afficheront automatiquement en fonction des données que vous avez saisies à la rubrique 6 e) de la feuille C_InstallationDescription","The source stream name, the source stream type, and the category will be displayed automatically based on your entries in section 6.e in sheet C_InstallationDescription."]
[443,"Si vous n’avez pas classé le flux dans une catégorie (majeur, mineur, de minimis) à ce moment-là, veuillez utiliser la catégorie qui s'affiche automatiquement dans la présente rubrique.  En pareil cas, le modèle ne peut pas indiquer correctement ci-dessous quels sont les niveaux à appliquer. Par conséquent, veuillez vous assurer de bien choisir une catégorie dans la rubrique susmentionnée. ","If you have not attributed the source stream to an applicable category (major, minor, de-minimis) there, the category which is automatically displayed in that section will be used. If this is the case, the template cannot correctly indicate below which tiers are to be applied. Therefore please make sure to select an applicable category correctly in the section mentioned above."]
[444,"Étant donné que le type de flux peut être clairement attribué à une méthode de surveillance applicable conformément au MRR (article 24 et 25) et aux paramètres auxquels s’applique  l’incertitude des données d’activité (Annexe II), cette information est fournie automatiquement, sur la base du MRR. ","As the source stream type can be clearly assigned to a monitoring method applicable according to the MRR (Articles 24 and 25) and the parameters to which the uncertainty of the activity data applies (Annex II), this information is provided automatically based on the MRR."]
[445,"Assistance automatique pour les niveaux applicables:","Automatic guidance on applicable tiers:"]
[446,"Dans les rubriques c) et f), ci-après, les niveaux requis pour les données d'activité et les facteurs de calcul s'affichent dans les champs verts en fonction des données que vous avez saisies aux rubriques 5 d), 5 e), 6 e) et 6 f). Il s’agit des niveaux minimaux pour des flux majeurs dans des installations de catégorie C. Toutefois, des niveaux plus bas peuvent être admis.  Des conseils appropriés s’affichent dans l’encadré vert ci-dessous, en fonction des points suivants:","Below in sections (c) and (f) the required tiers for activity data and calculation factors are displayed in the green fields based on your inputs in section 5(d) and (e), and 6(e) and 6(f). Those are the minimum tiers for major source streams in category C installations. However, lower requirements may be allowed. An appropriate guidance is displayed in the green text box below, depending on the following points:"]
[447,"des exigences allégées s’appliquent aux installations à faible niveau d’émission, conformément à l’article 47, paragraphe 2;","Reduced requirements apply to installations with low emissions in accordance with Article 47(2);"]
[448,"catégorie de l’installation (A, B ou C) conformément à l’article 19;","The installation category (A, B or C) in accordance with Article 19;"]
[449,"des exigences allégées s'appliquent aux flux mineurs et aux flux de minimis, conformément à la classification établie à l'article 19, paragraphe 3.","Reduced requirements apply to minor source streams and de-minimimis source streams as classified pursuant to Article 19(3)."]
[450,"Le présent message concernant les niveaux applicables vaut pour les données d'activité et pour tous les facteurs de calcul.","This message on applicable tiers is relevant for the activity data and for all calculation factors."]
[451,"Exemple de données:","Example data:"]
[452,"Article 26, paragraphe 1: Les niveaux minimaux affichés ci-dessous sont applicables au minimum.\nVous pouvez toutefois descendre jusqu'à deux niveaux en dessous (le niveau 1 étant un minimum) si vous parvenez à démontrer de manière concluante à l’autorité compétente que le niveau prescrit conformément au premier alinéa n’est pas techniquement réalisable ou risque d’entraîner des coûts excessifs. ","Art. 26(1): The minimum tiers displayed below shall at least apply.\nHowever, you may apply a tier up to two levels lower, with a minimum of tier 1, where you can show to the satisfaction of the competent authority that the tier required in accordance with the first subparagraph is technically not feasible or incurs unreasonable costs."]
[453,"Données d'activité:","Activity Data:"]
[454,"Méthode de détermination des données d’activité:","Activity data determination method:"]
[455,"Méthode de détermination:","Determination method:"]
[456,"continue","Continual"]
[457,"Conformément à l’article 27, paragraphe 1, les données d’activité d’un flux peuvent être déterminées a) par mesurage en continu au niveau du procédé responsable des émissions, ou b) par cumul des quantités livrées séparément, compte tenu des variations des stocks (mesurage par lot).","Pursuant to Article 27(1) the activity data of a source stream can be determined (a) by continual metering at the process which causes the emissions, or (b) based on aggregation of metering of the amount separately delivered taking into account relevant stock changes (batch metering)."]
[458,"Référence de la procédure utilisée pour déterminer les stocks à la fin de l'année:","Reference to procedure used for determining stock piles at end of year:"]
[459,"Cette rubrique n’est pertinente que si vous avez choisi «Lot» comme méthode de détermination  Veuillez indiquer la référence de la procédure décrite à la rubrique 7 i) ","This is only relevant if you selected \"Batch\" as determination method. Please refer to the procedure described under section 7(i). "]
[460,"Les exploitants d’installations à faible niveau d’émission [rubrique 5 e)] ne sont pas tenus d'inclure la détermination des stocks dans leur évaluation de l'incertitude (article 47, paragraphe 5).","Installations with low emissions (section 5(e)) are not required to include the stocks determination in their uncertainty assessment (Article 47(5))."]
[461,"Instrument contrôlé par:","Instrument under control of:"]
[462,"Veuillez choisir «Exploitant» si l’instrument de mesure se trouve sous votre propre contrôle et «Partenaire commercial» s’il n’est pas sous votre contrôle.. ","Please choose \"operator\" if the measurement instrument is under your own control and \"Trade partner\" if it is outside your own control."]
[463,"Si plusieurs instruments sont concernés, veuillez choisir «Partenaire commercial» si tel est le cas pour au moins un des instruments utilisés pour ce flux. Dans ce cas, utiliser la zone de texte au point b) ci-dessous pour indiquer quels instruments sont sous le contrôle de l’exploitant et lesquels sont sous le contrôle du partenaire commercial.","If more than one instrument is relevant, please choose \"trade partner\" if this is the case for at least one of the instruments used for this source streams. In this case use the comment box under point (b) below to identify which instruments are under the operator's control and which ones are under the trading partner's control."]
[464,"Veuillez confirmer que les conditions énoncées à l’article 29, paragraphe 1 sont satisfaites:","Please confirm that the conditions of Article 29(1) are satisfied:"]
[465,"Ce point n’est pertinent que si vous n'êtes pas le propriétaire de l'instrument de mesure.","This point is only relevant if you are not the owner of the measurement instrument."]
[466,"Conformément à l’article 29, paragraphe 1, vous n’êtes autorisés à recourir à des instruments qui ne sont pas placés sous votre contrôle que si ces instruments permettent d’appliquer un niveau au moins aussi élevé que vos propres instruments, qu'ils donnent des résultats plus fiables et qu’ils présentent un moindre risque de carence de contrôle.","Pursuant to Article 29(1) you are only allowed to rely on instruments that are not under your own control if the instruments comply at least with as high a tier as own instruments, give more reliable results, and are less prone to control risks."]
[467,"Utilisez-vous des factures pour déterminer la quantité de ce combustible ou de cette matière ?","Do you use invoices for determining the amount of this fuel or material?"]
[468,"Veuillez confirmer que le partenaire commercial et l’exploitant sont indépendants:","Please confirm that the trade partner and the operator are independent:"]
[469,"Ce point n’est pertinent que si vous n'êtes pas le propriétaire de l'instrument de mesure. ","This point is only relevant if you are not the owner of the measurement instrument "]
[470,"Conformément à l’article 29, paragraphe 1, point a), vous ne pouvez recourir aux factures que si les partenaires commerciaux sont indépendants.","Pursuant to Article 29(1) point (a) you may only rely on invoices if the trade partners are independent."]
[471,"Instruments de mesure utilisés:","Measurement instruments used:"]
[472,"Veuillez sélectionner ici un ou plusieurs des instruments que vous avez définis à la rubrique 7 b). ","Please select here one or more from the instruments which you have defined in section 7(b). "]
[473,"Si plus de 5 instruments de mesure sont utilisés pour ce flux, par exemple si la compensation p/T est réalisée à l’aide d’un instrument distinct, veuillez utiliser la zone de texte ci-dessous pour compléter la description.","If more than 5 measurement instruments are used for this source stream, e.g. if the p/T compensation is done using separate instruments, please use the comment box below for further description."]
[474,"Commentaire/Description de la méthode, lorsque plusieurs instruments sont utilisés:","Comment / Description of approach, if several instruments used:"]
[475,"Veuillez expliquer pourquoi et comment plusieurs instruments sont nécessaires, le cas échéant. Par exemple, il se peut qu’un instrument soit nécessaire pour soustraire une partie du combustible qui ne relève pas du SEQE. Des instruments de pesage peuvent être utilisés en remplacement, ou à des fins de corroboration, etc.","Please explain why and how more than one instrument are relevant, if applicable. E.g it may be the case that one instrument is needed for subtracting a non-ETS part of the fuel. Weighing instruments might be used alternatively, or for corroboration purposes, etc."]
[476,"Niveaux requis pour les données d’activité:","Activity data tier level required:"]
[477,"Niveau utilisé pour les données d’activité:","Activity data tier used:"]
[478,"Incertitude constatée:  ","Uncertainty achieved:"]
[479,"Remarque:","Comment:"]
[480,"L’incertitude ne doit pas dépasser + 5,0% ","Uncertainty shall not be more than ± 5.0%"]
[481,"L’incertitude ne doit pas dépasser + 2,5% ","Uncertainty shall not be more than ± 2.5%"]
[482,"Couvert par le contrôle métrologique légal national --> MPE (erreur maximale tolérée) en service","Covered by national legal metrological control --> MPE in service"]
[483,"En ce qui concerne le niveau requis et le niveau utilisé, veuillez indiquer ici l’incertitude constatée en service sur l’ensemble de la période de déclaration.","With regard to the tier level required and the tier level used, please provide here the uncertainty achieved in service over the whole reporting period."]
[484,"En général, cette valeur doit résulter d’une évaluation de l’incertitude [voir rubrique 7 c)]. Toutefois, l’article 28, paragraphes 2 et 3, et l’article 29, paragraphe 2, autorisent plusieurs simplifications:","In general, this value should be the result of an uncertainty assessment (see section 7(c)). However, Articles 28(2), (3) and 29(2) allow to apply several simplifications:"]
[485,"vous pouvez utiliser l’erreur maximale tolérée spécifiée pour l’instrument de mesure en service ou, si elle est inférieure, l'incertitude associée à l'étalonnage multipliée par un facteur de correction prudent pour tenir compte de l'effet de l'incertitude en service, pour autant que les instruments de mesure soient installés dans un environnement adapté à leurs caractéristiques de fonctionnement, ou ","You may use the maximum permissible errors specified for the measuring instrument in service, or where lower, the uncertainty obtained by calibration, multiplied by a conservative adjustment factor for taking into account the effect of uncertainty in service, provided that measuring instruments are installed in an environment appropriate for their use specifications, or"]
[486,"vous pouvez utiliser l’erreur maximale tolérée en service en tant qu’incertitude constatée pour autant que l’instrument de mesure soit soumis au contrôle métrologique légal national. ","You may use the maximum permissible error in service as the uncertainty achieved provided that the measuring instrument is subject to national legal metrological control."]
[487,"Veuillez utiliser la zone de texte [point h) ci-dessous] pour décrire la manière dont est déterminée l’incertitude sur l’ensemble de la période.","Please use the comment box (point (h) below) to describe how the uncertainty achieved over the whole period is determined."]
[488,"Pour de plus amples indications, veuillez consulter les articles 28 et 29 du MRR et la rubrique 5.3 du document d’orientation n°1.","For further guidance please consult Articles 28 and 29 of the MRR and section 5.3 of Guidance Document 1."]
[489,"Facteurs de calcul:","Calculation factors:"]
[490,"Conformément à l’article 30, paragraphe 1, les facteurs de calcul peuvent être déterminés soit sous la forme de valeurs par défaut soit sur la base d'analyse de laboratoire. Ce choix est déterminé par le niveau applicable.","According to Article 30(1) calculation factors can be determined either as default values or by laboratory analyses. Which of these options is used is determined by the applicable tier.\n"]
[491,"Les catégories de niveaux suivantes sont utilisées à titre indicatif (conformément au document d’orientation n°1):","The following categories of tiers are used for your guidance (in accordance with guidance document 1):"]
[492,"Valeurs par défaut de type I","Type I default values"]
[493,"Valeurs par défaut de type I : Il s’agit soit des facteurs standard énumérés à l’annexe VI (c.-à-d. en principe les valeurs du GIEC) soit d'autres constantes conformément à l’article 31, paragraphe 1, points d) ou e), c.-à-d. des valeurs garanties par le fournisseur ou résultant d’analyses réalisées antérieurement mais toujours valables.","Type I default values: Either standard factors listed in Annex VI (i.e. in principle IPCC values) or other constant values in accordance with points (d) or (e) of Article 31(1), i.e. values guaranteed by the supplier or analyses carried out in the past but still valid."]
[494,"Valeurs par défaut de type II :","Type II default values:"]
[495,"Valeurs par défaut de type II : Il s’agit des facteurs d’émission spécifiques par pays conformément à l’article 31, paragraphe 1, points b) et c), c.-à-d. des valeurs utilisées pour l’inventaire national de GES, d’autres valeurs publiées par l’AC pour les types de flux plus spécifiques, ou d'autres valeurs de la littérature approuvées par l'autorité compétente.","Type II default values: Country specific emission factors in accordance with points (b) and (c) of Article 31(1), i.e. values used for the national GHG inventory , more values published by the CA for more disaggregated fuel types, or other literature values which are agreed by the competent authority .\n"]
[496,"Variables représentatives: ","Established proxies: "]
[497,"Il s’agit de méthodes basées sur des corrélations empiriques établies au moins une fois par an conformément aux exigences applicables pour les analyses de laboratoire. Toutefois, ces analyses n’étant effectuées qu’une fois par an, ce niveau correspond donc à un niveau inférieur aux analyses complètes. Les corrélations avec variables représentatives peuvent reposer sur:","These are methods based on empirical correlations as determined at least once per year in accordance with the requirements applicable for laboratory analyses. However, these analyses are only carried out once per year, therefore this tier is considered a lower level than full analyses. The proxy correlations may be based on:"]
[498,"la mesure de la densité de certaines huiles ou de certains gaz, notamment ceux couramment utilisés dans l'industrie du raffinage ou la sidérurgie, ou ","density measurement of specific oils or gases, including those common to the refinery or steel industry, or"]
[499,"le pouvoir calorifique inférieur de certains types de charbons.","net calorific value for specific coal types."]
[500,"Données d’achat : ","Purchasing records: "]
[501,"Le pouvoir calorifique inférieur peut être déterminé d'après les données d'achat communiquées par le fournisseur de combustible, à condition que cette détermination ait été réalisée conformément  aux normes nationales ou internationales reconnues  (applicable uniquement dans le cas des combustibles marchands).","The net calorific value may be derived from the purchasing records provided by the fuel supplier, provided it has been derived based on accepted national or international standards. (Applicable only in case of commercially traded fuels)."]
[502,"Analyses de laboratoire : ","Laboratory analyses: "]
[503,"Dans ce cas, les dispositions des articles 32 à 35 relatives aux analyses sont intégralement applicables.","In this case the requirements of Article 32 to 35 on analyses are fully applicable."]
[504,"Fraction issue de la biomasse de type I","Type I biomass fraction"]
[505,"Une des méthodes suivantes, considérées comme équivalentes, est appliquée :","One of the following methods is applied, which are considered equivalent:"]
[506,"utilisation d’une valeur par défaut ou d’une méthode d’estimation publiée par la Commission conformément à l’article 39, paragraphe 2;","Use of a default value or an estimation method published by the Commission in accordance with Article 39(2);"]
[507,"utilisation d’une valeur déterminée conformément à l’article 39, paragraphe 2, deuxième alinéa, c.-à-d. en considérant que la matière est totalement fossile (BF=0), ou utilisation d’une méthode d’estimation approuvée par l’autorité compétente.","Use of a value determined in accordance with the second subparagraph of Article 39(2), i.e. assume the material fully fossil (BF=0), or use an estimation method approved by the competent authority;"]
[508,"Application de l’article 39, paragraphe 3, dans le cas des réseaux de gaz naturel dans lesquels du biogaz est injecté, c.-à-d. utilisation d’un système de garantie d’origine établi conformément à l’article 2, point j) et à l’article 15 de la directive 2009/28/CE [directive sur les sources d’énergie renouvelables]. ","Application of Article 39(3) in case of natural gas grids, into which biogas is injected, i.e. use a guarantee of origin scheme established in accordance with Articles 2(j) and 15 of Directive 2009/28/EC [Renewable Energy Sources Directive], where such scheme has been set up. "]
[509,"Fraction issue de la biomasse de type II","Type II biomass fraction"]
[510,"La fraction issue de la biomasse est déterminée conformément à l’article 39, paragraphe 1, c.-à-d. par des analyses de laboratoire. Dans ce cas, la norme applicable et les méthodes d’analyse qu’elle préconise doivent être expressément approuvées par l’autorité compétente. ","The biomass fraction is determined in accordance with Article 39(1), i.e. by laboratory analyses. In that case the relevant standard and the analytical methods therein to be used require the explicit approval by the competent authority."]
[511,"Remarque:","Note:"]
[512,"Les niveaux requis dans le tableau ci-dessous correspondent toujours à des flux majeurs. Veuillez vous reporter aux informations figurant dans la zone de texte de l’en-tête de ce flux si des niveaux inférieurs sont autorisés.","The required tiers in the table below always refer to major source streams. Please refer to the information in the message box in the header area of this source stream whether lower requirements are allowed."]
[513,"Conformément à l’article 26, paragraphe 4, pour le facteur d'oxydation et le facteur de conversion, l'exploitant applique, au minimum, les niveaux les plus bas indiqués à l'annexe II.","In accordance with Article 26(4), for the oxidation factor and conversion factor, the operator shall, as a minimum, apply the lowest tiers listed in Annex II."]
[514,"Niveaux appliqués pour les facteurs de calcul:","Applied tiers for calculation factors:"]
[515,"Facteur de calcul","calculation factor"]
[516,"niveau requis","required tier"]
[517,"niveau appliqué","applied tier"]
[518,"texte intégral pour le niveau appliqué","full text for applied tier"]
[519,"Pouvoir calorifique inférieur (PCI)","Net calorific value (NCV)"]
[520,"Facteur d’émission (préliminaire)","Emission factor (preliminary)"]
[521,"Facteur d'oxydation","Oxidation factor"]
[522,"Facteur de conversion","Conversion factor"]
[523,"Teneur en carbone","Carbon content"]
[524,"Fraction issue de la biomasse (le cas échéant)","Biomass fraction (if applicable)"]
[525,"texte intégral pour le niveau appliqué","full text for applied tier"]
[526,"Analyses de laboratoire","Laboratory analyses"]
[527,"Valeurs par défaut de type II :","Type II default values"]
[528,"Valeur par défaut OF=1 ","Default value OF=1 "]
[529,"s.o.","n.a."]
[530,"En fonction du niveau choisi (valeurs par défaut ou analyse de laboratoire), vous êtes invités à fournir les informations suivantes pour chaque facteur de calcul, suivant le cas: ","Depending on the tier selected (default values or laboratory analysis), you are required to enter the following information for each calculation factor as applicable:"]
[531,"Dans le cas d’une valeur par défaut, veuillez indiquer la valeur, l’unité et la source de la littérature au moyen d’une référence au tableau 7 d) de la feuille précédente.  Cette valeur doit rendre compte de la valeur constante au moment de la notification du plan de surveillance.","Where a default value is used, please enter the value, the unit and the literature source by reference to table 7(d) on the previous sheet. The value should reflect the constant value at the time of notification of the monitoring plan."]
[532,"Dans le cas d’une analyse de laboratoire, veuillez indiquer la méthode/le laboratoire d’analyse au moyen d’une référence au tableau 7 e) de la feuille précédente, la référence de votre plan d’échantillonnage et la fréquence d’analyse à appliquer. ","Where a laboratory analysis is required, please enter analytical method/laboratory by reference to table 7(e) on the previous sheet, a reference to your sampling plan, and the analysis frequency to be applied."]
[533,"Précisions sur les facteurs de calcul:","Details for calculation factors:"]
[534,"valeur par défaut","default value"]
[535,"Unité","Unit"]
[536,"Réf. la source","source ref"]
[537,"Réf. de l’analyse","analysis ref"]
[538,"Réf. de l’échantillonnage","sampling ref"]
[539,"Fréquence d’analyse","Analysis frequency"]
[540,"NCV_Sample","NCV_Sample"]
[541,"Toutes les semaines","Weekly"]
[542,"IS5: IPCC","IS5: IPCC"]
[543,"IS1: MRR","IS1: MRR"]
[544,"Remarques et explications:","Comments and explanations:"]
[545,"Remarques:","Comments:"]
[546,"Veuillez faire part de vos remarques éventuelles ci-dessous. Des explications peuvent s’avérer nécessaires, par exemple pour la méthode d’estimation de la biomasse, la méthode des variables représentatives (corrélation), etc.","Please provide any relevant comments below. Explanations may in particular be required for e.g. the biomass estimation method, the proxy method (correlation), etc."]
[547,"Justification lorsque les niveaux requis ne sont pas appliqués:","Justification if required tiers are not applied:"]
[548,"Si un des niveaux requis conformément à l’article 26 n'est pas appliqué pour les données d’activité ou pour un des facteurs de calcul, veuillez fournir une justification ci-dessous.","If any of the tiers required pursuant to Article 26 is not applied for activity data or any of the applicable calculation factors, please give a justification here."]
[549,"Lorsqu’un plan d’amélioration est requis conformément à l’article 26, il doit être soumis avec le présent plan de surveillance et sa référence communiquée ci-dessous. Lorsque la justification s’appuie sur des coûts excessifs conformément à l'article 18, le calcul doit être communiqué avec le présent plan de surveillance et ses références doivent figurer dans la justification ci-dessous.","Where an improvement plan is required in accordance with Article 26, this should be submitted with this monitoring plan and referenced below. Where justification is based upon unreasonable costs, in accordance with Article 18, this calculation should be submitted with this monitoring plan and referenced within the justification below."]
[550,"F.\nMeasurement Approach","F.\nMeasurement Approach"]
[551,"Mesure des émissions","Measurement of emissions"]
[552,"Gestion et Procédures ","Management & Procedures"]
[553,"Remarque: Cette rubrique doit être remplie pour la mesure continue des émissions de CO2 et de N2O.","Note: This section is to be completed for continuous measurement of CO2 emissions as well as N2O emissions."]
[554,"Il convient en outre de fournir ici les informations requises pour la surveillance du CO2 transféré et du CO2 intrinsèque.","Furthermore some of the information required for the monitoring of transferred CO2 and inherent CO2 is to be reported here."]
[555,"Description de la méthode fondée sur la mesure","Description of the measurement based approach"]
[556,"Veuillez décrire de façon concise dans la zone de texte ci-dessous la méthode de mesure utilisée pour déterminer les émissions annuelles de CO2 ou de N2O de votre installation. Si les émissions de N2O sont mesurées, veuillez préciser la méthode utilisée pour convertir ces émissions sous forme de CO2(e).","Please provide a concise description of the measurement approach used to determine your annual CO2 or N2O emissions in the text box below. If N2O is measured, include the approach for converting these emissions into CO2(e) data."]
[557,"Votre description doit mentionner le type d’instrument(s) utilisé(s) et préciser si les mesures sont effectuées en conditions humides ou à sec. Il convient également de fournir les formules pour l’application des facteurs de corrections (p, T, O2 et H2O).  Si la norme EN 14181 est appliquée, il y a lieu d'indiquer les facteurs d'étalonnage requis pour les procédures QAL2.  Si le volume des effluents gazeux est calculé, veuillez décrire brièvement la méthode utiliser pour déterminer ce volume. ","Your description should include the type of instrument(s) used, whether measurements are carried out under wet or dry conditions; the formulae for applying correction factors (p, T, O2 and H2O). Where EN 14181 is applied, the calibration factors required for QAL2 procedures should be given. If flue gas volume is calculated, please describe briefly the method for determination of the flue gas volume. "]
[558,"Veuillez décrire la manière dont les émissions annuelles sont déterminées à partir des données relatives à la concentration et au débit des effluents gazeux, compte tenu de la fréquence de détermination de la concentration et du débit des effluents gazeux.  Veuillez également préciser comment les données sont substituées lorsqu’il n’est pas possible de déterminer des heures de données valides.","Please describe how annual emissions are determined based on concentration and flue gas flow data, taking into account the frequency of determination of concentration and flue gas flow. Include also how data is substituted where no valid hour of data can be determined."]
[559,"Le cas échéant, veuillez décrire également la méthode appliquée pour déterminer les émissions à partir de la biomasse (par le calcul), qui sont déduites des émissions totales.","If applicable, please describe also the methodology by which emissions from biomass are determined (using a calculation approach) for subtraction from the total emissions."]
[560,"Schéma de procédé si l’autorité compétente le demande: ","Process diagram where requested by the Competent Authority:"]
[561,"Veuillez fournir un schéma de procédé contenant tous les points d'émission à prendre en considération pendant le fonctionnement normal et lors d'activités « non classiques », c.-à-d. pendant les phases de fonctionnement restreint et de transition, ainsi que lors des pannes ou des phases de mise en service.","Please provide a process diagram containing all relevant emission points during typical operation and during 'non-typical' operations, i.e. restrictive and transition phases, including breakdown periods or commissioning phases."]
[562,"Spécification et localisation des systèmes de mesure au niveau des points de mesure:","Specification and location of measurement systems for measurement points:"]
[563,"Veuillez décrire les caractéristiques et la localisation des systèmes de mesure à utiliser pour chaque source d’émission lorsque les émissions sont déterminées par mesure et pour les points d’émission dans le cas du transfert de CO2.","Please describe the specification and location of the measurement systems to be used for each emission source where emissions are determined by measurement, and for measurement points for transfer of CO2."]
[564,"Indiquez également les instruments utilisés pour les paramètres auxiliaires tels que la teneur en O2 et le taux d’humidité et, en cas de mesures indirectes, également les instruments de mesure de la concentration des constituants gazeux autres que le CO2. ","Include also instruments for auxiliary parameters, such as e.g. O2 content and moisture, and in case of indirect measurements, also concentration measurement instruments for other constituents of the gas than CO2."]
[565,"La liste des instruments fournie ici sera proposée sous la forme d’une liste déroulante pour chaque source d’émission à la rubrique 10 ci-dessous où les références des instruments de mesure utilisés sont demandées.","The list of instruments entered here will be available as a drop-down list for each emission source in section 10 below, where the relevant measuring instruments used are to be referenced."]
[566,"La fréquence de mesure doit indiquer la fréquence des relevés réalisés à l’aide de l’instrument avant que les données soient agrégées pour obtenir des moyennes horaires ou des moyennes sur des périodes plus courtes. ","The measurement frequency should indicate the frequency of data points produced by the instrument before the data is aggregated to give hourly averages or averages of shorter periods."]
[567,"Fréquence de mesure","Measurement frequency"]
[568,"Concentration de CO2 (NDIR) ","CO2 concentration (NDIR)"]
[569,"Cheminée 1 plateforme A (diagramme: St. 1-A)","Stack 1 platform A (chart: St.1-A)"]
[570,"1 par seconde","1 per second"]
[571,"Mesure du débit (tube de Pitot moyenné)","Flow measurement (averaging pitot tube)"]
[572,"Méthodes et laboratoires utilisés pour l’application de méthodes de mesure continue: ","Laboratories and methods used for application of continuous measurement methods:"]
[573,"Cette liste sera proposée sous la forme d’une liste déroulante à la rubrique 10 ci-dessous afin d’indiquer les méthodes d’analyse correspondant aux points de mesure.","This list will be available as a drop-down below in section 10 for referencing the analytical methods to the relevant measurement points."]
[574,"Procédures QAL","QAL procedures"]
[575,"EN 14181","EN 14181"]
[576,"Concentration de CO2","CO2 concentration"]
[577,"ISO 12039","ISO 12039"]
[578,"Veuillez noter que le texte explicatif ne s’affiche que pour le premier point de mesure. ","Please note that the guiding text is only displayed for the first measurement point."]
[579,"Si vous souhaitez afficher les données pour d’autres points de mesure, veuillez cliquer sur les signes «+» à gauche (fonction de groupement de données).","If you want to display data for further measurement points, please click on the \"+\" signs at the left (data grouping function)."]
[580,"Pour ajouter d’autres points de mesure, veuillez passer à la rubrique 6 d) sur la feuille C_InstallationDescription, et utiliser la macro qui s'y trouve.","For adding further measurement points, please go to section 6.d in sheet C_InstallationDescription, and use the macro there."]
[581,"L’exemple est intégré dans le premier point de mesure.","The example is integrated in the first measurement point."]
[582,"Type de fonctionnement:","Operation type:"]
[583,"Exploitation normale et fonctionnement non classique","Typical and non-typical operation"]
[584,"Veuillez préciser ici si ce point de mesure est un point d’émission/de mesure lors de l’exploitation normale ou pendant un fonctionnement non classique (phases de fonctionnement restreint et de transition, y compris pannes ou phases de mise en service). ","Please select here if this measurement point is an emission/measurement point during typical operation or non-typical operation (during restrictive and transition phases, including breakdown periods or commissioning phases)."]
[585,"Les informations qui apparaissant dans les champs verts sont automatiquement reprises du point 6 d) de la feuille C_InstallationDescription.","The information in the green fields is taken automatically from point 6(d) in sheet C_InstallationDescription."]
[586,"Dans les champs verts ci-dessous s’affichent les niveaux requis pour les méthodes fondées sur la mesure, en fonction des données que vous avez saisies aux rubriques 5 d) et 6 d). Il s’agit des niveaux minimaux pour des sources d’émission majeures. Toutefois, des niveaux plus bas peuvent être admis.  Des conseils appropriés s’affichent dans l’encadré vert ci-dessous, en fonction des points suivants:","Below in the green fields the required tiers for measurement based approaches are displayed based on your inputs in sections 5(d), and 6(d). Those are the minimum tiers for major emission sources. However, lower requirements may be allowed. An appropriate guidance will be displayed in the green text box below, depending on the following points:"]
[587,"Des exigences allégées s’appliquent aux sources d’émission émettant moins de 5 000 tonnes de CO2(e) par an ou qui représentent moins de 10 % des émissions annuelles totales de l’installation, la quantité la plus élevée étant retenue, conformément à l’article 41, paragraphe 1.","Reduced requirements apply to emission sources which emit less than 5 000 tonnes of CO2(e) per year, or which contributes less than 10% of the total annual emissions of the installation, whichever is higher pursuant to Article 41(1)."]
[588,"Article 41: Le niveau minimal affiché ci-dessous s’applique.\nVous ne pouvez appliquer un niveau encore plus bas (le niveau 1 étant un minimum) que si vous parvenez à démontrer de manière concluante à l'autorité compétente que l'application du niveau requis, de même que l'application d'une méthode de calcul avec les niveaux requis à l'article 26, n'est pas techniquement réalisable ou risque d'entraîner des coûts excessifs.","Article 41: The minimum tier displayed below shall apply.\nOnly where you can demonstrate to the satisfaction of the competent authority that application of the tier required is technically not feasible or incurs unreasonable costs, and application of a calculation methodology using the tier levels required by Article 26 is technically not feasible or incurs unreasonable costs, a next lower tier may be used, with a minimum of tier 1."]
[589,"Instruments et niveaux:","Instruments and tier levels:"]
[590,"MM1: CO2","MM1: CO2"]
[591,"MM2: Débit","MM2: Flow"]
[592,"Veuillez sélectionner ici un ou plusieurs des instruments que vous avez définis à la rubrique 9 c).","Please select here one or more from the instruments which you have defined in section 9(c) above."]
[593,"Si plus de 5 instruments de mesure sont utilisés pour ce point de mesure, veuillez utiliser la zone de texte ci-dessous pour compléter la description.","If more than 5 measurement instruments are used for this measurement point, please use the comment box below for further explanation."]
[594,"Niveau requis:","Tier level required:"]
[595,"Niveau utilisé:","Tier used:"]
[596,"En ce qui concerne le niveau requis et le niveau utilisé, veuillez indiquer ici l’incertitude globale sur l’ensemble de la période de déclaration.","With regard to the tier level required and the tier level used, please provide here the overall uncertainty achieved for over the whole reporting period."]
[597,"En général, cette valeur doit résulter d’une évaluation de l’incertitude [voir rubrique 7 c)]. ","In general, this value should be the result of an uncertainty assessment (see section 7(c)). "]
[598,"Normes et procédures:","Standards and procedures:"]
[599,"Normes appliquées et divergences éventuelles par rapport à ces normes","Applied standards and of any deviations from those standards"]
[600,"Veuillez utiliser les références figurant dans le tableau 9 e) ci-dessus, suivant le cas.","Please use references to table 9(e) above as appropriate."]
[601,"Références des procédures","References to procedures"]
[602,"Afin de décrire de manière exhaustive les méthodes appliquées, il convient de fournir les informations suivantes. Veuillez indiquer les références des procédures écrites appropriées. Ces procédures seront décrites à la rubrique 11 de la présente feuille, ci-après.","In order to describe the applied approaches in full, the following information has to be provided. Please provide references to the appropriate written procedures. The procedures are to be outlined in section 11 below in this sheet."]
[603,"Formules de calcul utilisées pour l'agrégation de données et pour déterminer les émissions annuelles","Any calculation formulae used for data aggregation and used to determine the annual emissions"]
[604,"Méthode utilisée pour déterminer s'il est possible de calculer des heures de données valides ou des périodes de référence plus courtes pour chaque paramètre (à l’aide du seuil indiqué à l’article 44, paragraphe 2), ainsi que pour la substitution des données manquantes conformément à l'article 45","Method for determining whether valid hours or shorter reference periods for each parameter can be calculated (using the threshold given in Article 44(2)), and for substitution of missing data in accordance with Article 45"]
[605,"Calcul du débit des effluents gazeux, le cas échéant","Calculation of the flue gas flow, if applicable"]
[606,"Détermination du CO2 issu de la biomasse et déduit des émissions de CO2 mesurées, le cas échéant","Determination of CO2 stemming from biomass and subtracted from the measured CO2 emissions, if applicable"]
[607,"Calculs de corroboration effectués, le cas échéant, conformément à l’article 46","Corroborating calculations in accordance with Article 46 that are carried out, if applicable"]
[608,"Veuillez faire part de vos remarques éventuelles ci-dessous. Des explications peuvent s’avérer nécessaires, par exemple pour la méthode d’estimation de la biomasse, pour d’autres mesures QA/QC, etc.","Please provide any relevant comments below. Explanations may in particular be required for e.g. the biomass estimation method, further QA/QC measures, etc."]
[609,"Si le niveau requis conformément à l’article 41 n’est pas appliqué pour ce point de mesure, veuillez fournir une justification ici.","If the tier required pursuant to Article 41 is not applied for this measurement point, please give a justification here."]
[610,"Veuillez détailler les procédures écrites et notamment les méthodes et les formules de calcul utilisées pour l’agrégation des données et pour la détermination des émissions annuelles de CO2 lorsque des méthodes fondées sur la mesure sont appliquées.","Please provide details about the written procedures detailing the method and any calculation formulae used for data aggregation and to determine the annual CO2e emissions where measurement based methodologies are applied."]
[611,"Veuillez fournir des précisions sur les procédures écrites conformément à l’article 44 du MRR.","Please provide details about the written procedures in accordance with Article 44 of the MRR."]
[612,"Lorsque plusieurs procédures sont utilisées aux mêmes fins mais pour des sources d’émission ou des points de mesure différents,  veuillez préciser la procédure globale qui couvre les éléments communs et l’assurance qualité des méthodes appliquées.","Where a number of procedures are used for a similar purpose but for different emission sources or measurement points, please provide details of an overarching procedure which covers the common elements and quality assurance of the applied methods."]
[613,"Vous pouvez donc soit indiquer les références des différentes «sous-procédures», soit fournir des détails sur chaque procédure séparément.  Dans ce dernier cas, veuillez utiliser le bouton «ajouter des procédures» à la fin de cette feuille. Veuillez toutefois vous assurer de pouvoir indiquer clairement la référence de la (sous-)procédure appropriée. ","You may then either give here references to individual \"sub-procedures\", or you may provide details of each relevant procedure separately. For the latter, please use the \"add procedure\" button at the end of this sheet. However, please ensure that clear reference to the appropriate (sub-)procedure can be given."]
[614,"Brève description de la procédure. La description doit couvrir les principaux paramètres et les principales opérations effectuées.","Brief description of procedure    (Description should cover the essential parameters and operations performed)"]
[615,"Veuillez fournir des précisions sur les procédures écrites qui décrivent les méthodes utilisées pour déterminer les heures valides (ou les périodes de référence plus courtes) pour chaque paramètre et pour la substitution des données manquantes.","Please provide details about the written procedures which describe the methods used for determining the valid hours (or shorter reference periods) for each parameter and for substitution of missing data."]
[616,"Veuillez fournir des précisions sur les procédures écrites qui décrivent les méthodes utilisées pour déterminer s’il est possible de calculer des heures de données valides ou des périodes de référence plus courtes pour chaque paramètre,  ainsi que pour la substitution des données manquantes conformément à l'article 45.","Please provide details about the written procedures which describe the methods for determining if valid hours or shorter reference periods for each parameter can be provided, and for substitution of missing data in accordance with Article 45 of the MRR."]
[617,"Si le débit des effluents gazeux est déterminé par calcul, veuillez fournir des précisions sur la procédure écrite correspondant à ce calcul, pour chaque source d’émission concernée, conformément à l’article 43, paragraphe 5, point a), du MRR.","Where flue gas flow is determined by calculation, please provide details about the written procedure for this calculation for each relevant emission source in accordance with Article 43(5)(a) of the MRR."]
[618,"Si le CO2 issu de la biomasse est inclus dans la mesure des émissions, veuillez fournir des précisions sur la procédure écrite détaillant la méthode à appliquer pour déterminer ce CO2 et le déduire des émissions mesurées de CO2, le cas échéant, conformément à l’article 43, paragraphe 4, du MRR.","Where CO2 stemming from biomass is included in the emissions measurement, please provide details about the written procedure detailing how the biomass CO2 is to be determined and subtracted from the measured CO2 emissions, where applicable, in accordance with Article 43(4) of the MRR."]
[619,"Veuillez fournir des précisions sur la procédure écrite relative à l’exécution des calculs de corroboration, le cas échéant, conformément à l'article 46 du MRR.","Please provide details about the written procedure for carrying out the corroborating calculations, where applicable, in accordance with Article 46 of the MRR."]
[620,"G. Fall-back approaches","G. Fall-back approaches"]
[621,"L’article 22 du MRR dispose qu’un exploitant peut recourir à une méthode qui ne repose par sur des niveaux pour certains flux ou sources d'émission, pour autant que certains critères définis dans ledit article soient respectés.Veuillez remplir cette rubrique si vous envisagez d’appliquer une telle méthode alternative pour des flux ou des sources d’émission. Votre autorité compétente pourra vous demander de plus amples informations pour justifier cette méthode.","Article 22 of the MRR provides that an operator may use a methodology that is not based on tiers for selected source streams or emission sources, where certain criteria set out in that article are met.  Please complete this section if you propose to apply such a fall-back approach to any source streams or emission sources.  Your competent authority may ask for further information to justify this approach."]
[622,"En cas d’application d’une méthode alternative de surveillance conformément à l’article 22 du MRR, veuillez fournir une description détaillée de la méthode de surveillance employée pour tous les flux ou sources d’émissions pour lesquels il n’est pas appliqué de méthode par niveaux.","Where a fall-back monitoring methodology is applied in accordance with Article 22 of the MRR, please provide a detailed description of the monitoring methodology applied for all source streams or emission sources, for which no tier approach is used."]
[623,"Veuillez décrire de façon concise dans la zone de texte ci-dessous la méthode de surveillance utilisée, formules comprises, pour déterminer les émissions annuelles de CO2 ou de CO2(e) de votre installation.","Please provide a concise description of the monitoring approach, including formulae, used to determine your annual CO2 or CO2(e) emissions in the text box below."]
[624,"Veuillez justifier brièvement l'application d’une méthode alternative pour les sources d’émission susmentionnées, conformément aux dispositions de l’article 22.","Please provide a concise justification for the application of a fall-back approach to the above emission sources, in line with the provisions set out in Article 22."]
[625,"Vous devez être en mesure de démontrer que l’incertitude globale associée au niveau annuel des émissions de gaz à effet de serre de l’ensemble de l’installation ne dépasse pas 7,5 % dans le cas d’une installation de catégorie A, 5,0 % dans le cas d’une installation de catégorie B et 2,5 % dans le cas d’une installation de catégorie C. Remarque: L’autorité compétente pourra vous demander une justification détaillée démontrant que l’application d’une méthode par niveaux fondée sur le calcul ou sur la mesure n’est pas techniquement réalisable ou risque d’entraîner des coûts excessifs.","You must be able to demonstrate that the overall uncertainty for the annual level of greenhouse gas emissions for the whole installation does not exceed 7.5% for category A, 5.0% for category B and 2.5 % for category C installations. Note: Your competent authority may request full details of your justification to demonstrate that application of a tiered calculation based method or measurement approach is technically not feasible or would lead to unreasonable costs."]
[626,"Veuillez fournir des précisions sur les procédures écrites utilisées pour effectuer l'analyse annuelle de l’incertitude requise par l’article 22 du MRR.","Please provide details about the written procedures used for carrying out the annual uncertainty analysis required under Article 22 of the MRR."]
[627,"Remarque: Cette rubrique doit être remplie pour la détermination des émissions de N2O résultant de certaines activités de production dans une installation. Les émissions de N2O résultant de la combustion de combustibles ne sont pas prises en compte.  Veuillez vous assurer d’avoir bien indiqué les informations relatives à votre système de mesure dans la feuille F­_MeasurementBasedApproaches.","Note: this section is to be completed for determination of N2O emissions from specified production activities at an installation. N2O emissions from combustion of fuels are not covered.  Please make sure that the information on your measurement system is entered in sheet F_MeasurementBasedApproaches as appropriate."]
[628,"Les informations à fournir dans la présente feuille ne concernant pas la surveillance du CO2. ","In this sheet only requirements are to be laid down which are not relevant to CO2 monitoring."]
[629,"Veuillez fournir des précisions sur la procédure écrite décrivant la méthode et les paramètres utilisés pour déterminer la quantité de matières utilisées dans le procédé de production et la quantité maximale de matières utilisée à pleine capacité.","Please provide details about the written procedure which describes the method and parameters used to determine the quantity of materials used in the production process and the maximum quantity of material used at full capacity."]
[630,"Veuillez fournir des précisions sur la procédure écrite décrivant la méthode et les paramètres utilisés pour déterminer la quantité de produit fabriquée, en tant que production horaire, exprimée en acide nitrique (100 %), en acide adipique (100 %), caprolactame, glyoxal et acide glyoxylique par heure;","Please provide details about the written procedure which describes the method and parameters used to determine the quantity of product produced as an hourly load expressed as nitric acid (100%), adipic acid (100%), glyoxal and glyoxylic acid and caprolactam per hour."]
[631,"Veuillez fournir des précisions sur la procédure écrite décrivant la méthode et les paramètres utilisés pour déterminer la concentration de N2O dans les effluents gazeux de chaque source d’émission, la plage de fonctionnement et l’incertitude associée, ainsi que toute méthode alternative à appliquer si les concentrations se situent en dehors de la plage de fonctionnement et précisant les situations dans lesquelles cela peut se produire.","Please provide details about the written procedure describing the method and parameters used to determine the N2O concentration in the flue gas from each emission source, its operating range, and its uncertainty, and details of any alternative methods to be applied if concentrations fall outside the operating range and the situations when this may occur."]
[632,"Veuillez fournir des précisions sur la procédure écrite détaillant la méthode de calcul utilisée pour déterminer les émissions de N2O provenant de sources périodiques non soumises à dispositif antipollution lors de la production d’acide nitrique, d'acide adipique, de caprolactame, de glyoxal et d’acide glyoxylique.","Please provide details about the written procedure detailing the calculation method used to determine N2O emissions from periodic, unabated sources in nitric acid, adipic acid, caprolactam, glyoxal and glyoxylic acid production."]
[633,"Veuillez fournir des précisions sur la procédure écrite décrivant la mesure dans laquelle ou les modalités suivant lesquelles l’installation fonctionne avec des charges variables, ainsi que les modalités de gestion opérationnelle.","Please provide details about the written procedure describing the way in which or the extent to which the installation operates with variable loads and the manner in which the operational management is carried out."]
[634,"Veuillez fournir des informations sur les conditions de déroulement d’un procédé qui s'écartent des conditions normales. ","Please provide information on process conditions that deviate from normal operations. "]
[635,"Il convient notamment d’indiquer ici la fréquence potentielle et la durée de ces conditions, ainsi que le volume approximatif des émissions de N2O dans de telles conditions (dysfonctionnement du dispositif antipollution, par exemple).","This information should include an indication of the potential frequency and the duration of such process conditions, as well as an indication of the volume of the N2O emissions during the deviating process conditions such as abatement equipment malfunction."]
[636,"I. PFC emissions ","I. PFC emissions"]
[637,"Remarque: cette rubrique doit être remplie pour la détermination des émissions d’hydrocarbures perfluorés résultant de la production ou la transformation d’aluminium primaire dans une installation.  Étant donné qu’une «méthode fondée sur le calcul» est utilisée ici, veuillez vous assurer d’avoir bien saisi toutes les données demandées à la rubrique 7 (feuille D­_CalculationBasedApproaches), à l’exception des précisions sur le flux et des procédures, qui doivent être indiquées ici. ","Note: this section is to be completed for determination of emissions of perfluorocarbons from production or processing of primary aluminium at an installation.  As a \"calculation based approach\" is used here, make sure you have entered all appropriate data (except the source stream details and procedures to be provided in this sheet) in section 7 (sheet D_CalculationBasedApproaches)."]
[638,"Veuillez décrire de façon concise dans la zone de texte ci-dessous la méthode utilisée pour déterminer les émissions PFC de votre installation et pour convertir ces émissions en émissions annuelles de CO2(e).","Please provide a concise description of the approach used to determine your PFC emissions and to convert these to annual CO2(e) emissions in the text box below."]
[639,"Veuillez décrire de façon concise dans la zone de texte ci-dessous la méthode de surveillance, formules comprises, utilisée pour déterminer les émissions annuelles de CO2(e) de votre installation.","Please provide a concise description of the monitoring approach, including formulae, used to determine your annual CO2(e) emissions in the text box below."]
[640,"Veuillez indiquer la référence d’un schéma de procédé contenant tous les points et sources d'émission à prendre en considération pendant le fonctionnement normal et lors d'activités « non classiques », c.-à-d. pendant les phases de fonctionnement restreint et de transition, ainsi que lors des pannes ou des phases de mise en service.","Please provide the reference to a process diagram containing all relevant emission sources and emission points during typical operation and during 'non-typical' operations, i.e. restrictive and transition phases, including breakdown periods or commissioning phases."]
[641,"Liste des flux à surveiller en ce qui concerne les PFC:","List of source streams to be monitored regarding PFCs:"]
[642,"Dans le cas des émissions de PFC, deux méthodes peuvent être utilisées (A : méthode des pentes, B: méthode de la surtension).Plusieurs types de cuves peuvent coexister dans une installation (par exemple, parce que la technique employée ou l’année de construction diffère) et leurs caractéristiques d’émission peuvent être différentes.","In the case of PFC emissions, two methodologies (A: Slope method, B: Overvoltage Method) may be used. Several cell types may exist in an installation (e.g. different technologies or years of construction) which may exhibit different emission characteristics."]
[643,"Les groupes de cuves qui sont surveillés par la même méthode et qui présentent les mêmes caractéristiques d’émission (mêmes facteurs d’émission) sont à considérer comme des «flux» (c.-à-d. des entités à surveiller) par analogie avec d’autres méthodes de surveillance fondées sur le calcul.  ","Groups of cells which are monitored using the same method and which exhibit the same emission characteristics (same emission factors) should be considered as \"source streams\" (i.e. entities to be monitored) in analogy to other calculation based monitoring approaches. "]
[644,"Veuillez indiquer ici, dans  la liste des «flux» de votre installation, la méthode de surveillance et le type de cuve/anode correspondant. Cette liste est automatiquement reprise de la rubrique 6 e) de la feuille C_InstallationDescription.","Please indicate here in the list of the \"source streams\" of your installation the monitoring methodology and cell/anode type as appropriate. The list is automatically taken from section 6.e in sheet C_InstallationDescription."]
[645,"Elle sera ensuite utilisée dans la rubrique suivante pour fournir d’autres précisions pour chaque flux. ","This list will then be used in the following section for defining further details for each source stream."]
[646,"Type de cuve","Cell type"]
[647,"Méthode de surveillance","Monitoring method","; 'I_PFC'!$U$49"]
[648,"Dans les champs verts ci-dessous s’affichent les niveaux requis pour les données d'activité et les facteurs de calcul, en fonction des données que vous avez saisies aux rubriques 5 d), 5 e), 6 e) et 6 f). Il s’agit des niveaux minimaux pour des flux majeurs dans des installations de catégorie C. Toutefois, des niveaux plus bas peuvent être admis.  Des conseils appropriés s’affichent dans l’encadré vert ci-dessous, en fonction des points suivants:","Below in the green fields the required tiers for activity data and calculation factors are displayed based on your inputs in section 5(d) and (e), and 6(e) and 6(f). Those are the minimum tiers for major source streams in category C installations. However, lower requirements may be allowed. An appropriate guidance will be displayed in the green text box below, depending on the following points:"]
[649,"des exigences allégées s’appliquent aux installations à faible niveau d’émission, conformément à l’article 47, paragraphe 2;","Reduced requirements apply to installations with low emissions in accordance to Article 47(2);"]
[650,"catégorie de l’installation (A, B ou C) conformément à l’article 19;","The installation category (A, B or C) in accordance to Article 19;"]
[651,"Données d'activité","Activity Data"]
[652,"Production d'aluminium primaire:","Primary aluminium production:"]
[653,"Méthode A: Nombre d’effets d’anode par cuve-jour","Method A: number of Anode effects per cell-day"]
[654,"Méthode A: durée moyenne des effets d’anode en minutes par événement","Method A: average anode effect minutes per occurrence"]
[655,"Méthode B : surtension de l’effet d’anode par cuve","Method B: anode effect overvoltage per cell"]
[656,"Méthode B : rendement de courant","Method B: Current efficiency"]
[657,"Facteurs de calcul","Calculation factors"]
[658,"Niveau appliqué","Tiers applied"]
[659,"SEF(CF4) Facteur d'émission de pente","SEF(CF4) Slope emission factor"]
[660,"OVC (Coefficient de surtension)","OVC (Overvoltage coefficient)"]
[661,"F(C2F6) Fraction massique de C2F6 ","F(C2F6) Weight fraction of C2F6"]
[662,"Précisions sur les niveaux","Tier details"]
[663,"Valeur par défaut ou valeur la plus récente","default or latest value"]
[664,"date de la dernière analyse","date of latest analysis"]
[665,"Efficacité de collecte pour la prise en compte des émissions fugitives","Collection efficiency for accounting for fugitive emissions"]
[666,"Détermination de l'efficacité de la collecte","Determination of the collection efficiency"]
[667,"Efficacité de la collecte","Collection efficiency"]
[668,"Veuillez faire part de vos remarques éventuelles ci-dessous. Des explications peuvent s’avérer nécessaires en particulier pour préciser comment les facteurs de calcul sont déterminés, quels instruments de mesure et équipements de contrôle de procédé sont utilisés pour déterminer les données d’activité, etc.","Please provide any relevant comments below. Explanations may in particular be required for how the calculation factors are determined, which measuring instruments and process control equipment are used for determining the activity data, etc."]
[669,"Lorsqu’un facteur d'émission de niveau 2 est appliqué, veuillez fournir des précisions sur la procédure écrite établissant le calendrier des futurs relevés des mesures qui doivent être effectués conformément à la section 8 de l’annexe IV du MRR (facteurs d’émission et efficacité de la collecte). ","Where a tier 2 emission factor is applied, please provide details about the written procedure setting out the schedule for repetitions of the measurements to be carried out in accordance with Section 8 of Annex IV of the MRR (emission factors and collection efficiency)."]
[670,"Lorsqu’un facteur d’émission de niveau 2 est appliqué, veuillez fournir des détails sur le protocole décrivant la procédure écrite utilisée pour déterminer les facteurs d'émission spécifiques de l'installation pour le CF4 et le C2F6. ","Where a tier 2 emission factor is applied, please provide details about the protocol describing the written procedure used to determine the installation specific emission factors for CF4 and C2F6. "]
[671,"Remarque: Les procédures doivent également montrer que les mesures ont été et seront réalisées pendant une période suffisamment longue pour que les valeurs mesurées convergent, et au moins pendant 72 heures.","Note: the procedure should also show that the measurements have been and will be carried out for a sufficiently long time for measured values to converge, but at least for 72 hours."]
[672,"Veuillez fournir des précisions sur la procédure écrite détaillant la méthode utilisée pour déterminer l’efficacité de la collecte pour les émissions fugitives, le cas échéant.","Please provide details about the written procedure detailing the methodology for determining the collection efficiency for fugitive emissions, where applicable."]
[673,"J. Transferred CO2 & CCS ","J. Transferred CO2 & CCS"]
[674,"Remarque: Cette rubrique doit être remplie en cas de transfert de CO2 intrinsèque en tant que composant d’un combustible conformément à l’article 48 du MRR ou de transfert de CO2 conformément à l’article 49 du MRR.","Note: this section is to be completed where transfer of inherent CO2 as part of a fuel in accordance with Article 48 of the MRR or transfer of CO2 in accordance with Article 49 of the MRR are carried out."]
[675,"En outre, cette feuille permet de fournir les informations requises lorsque des activités de captage, de transport en pipeline et de stockage géologique du CO2 visées à l'annexe I de la directive SEQE UE sont menées. ","Furthermore this sheet is relevant for information to be provided where activities of CO2 capture, transport in pipelines or geological storage of CO2 as covered by Annex I of the EU ETS Directive are carried out."]
[676,"Les informations concernant les points de mesure et les instruments de mesure doivent être fournies sur la feuille F_MeasurementBasedApproaches. ","Information regarding the measurement points and measuring instruments are to be provided in sheet F_MeasurementBasedApproaches."]
[677,"Veuillez fournir une description détaillée de la méthode de surveillance utilisée pour déterminer le CO2 intrinsèque ou transféré.","Please provide a detailed description of the monitoring methodology used to determine inherent or transferred CO2. "]
[678,"La description doit couvrir en particulier les quantités de CO2 à ajouter du fait de la réception de CO2 transférer ou à déduire du fait du transfert en dehors de l’installation, suivant le cas. Veuillez vous assurer que ce calcul est conforme aux dispositions de l’article 48 et 49 du MRR.","This should cover in particular the amounts of CO2 to be added due to receiving transferred CO2, or for subtracting CO2 due to transfer out of the installation, as appropriate. Please make sure that this calculation is in line with Articles 48 and 49 of the MRR."]
[679,"Si la description est trop complexe (utilisation de formules complexes, par exemple) ou si elle nécessite un schéma, vous pouvez fournir cette description dans un document séparé, dans un format de fichier acceptable par l’AC.    Veuillez dans ce cas fournir la référence de ce fichier en indiquant le nom de fichier et la date.","If the description is too complex, e.g. complex formulas are applied or a diagram is needed for facilitating the description, you may provide the description in a separate document using a file format acceptable for the CA. In this case please reference this file here, by using the file name and date.","; 'J2_PermCCU'!$E$17"]
[680,"Veuillez fournir des précisions sur l’installation réceptrice et l'installation qui transfère.","Please provide details of the receiving and transferring installations"]
[681,"Veuillez indiquer ici, pour chaque installation (ou autre entité) qui vous transfère ou à laquelle vous transférez du CO2 intrinsèque ou transféré, les informations suivantes:","Please give here for each installation (or other entity) from which you receive or to which you transfer inherent or transferred CO2 the following information:"]
[682,"Dénomination de l'installation","Installation name"]
[683,"Indiquez ici le nom de l’installation ou de l’entité hors SEQE à partir de laquelle ou vers laquelle le CO2 est transféré. Dans la mesure du possible, utilisez le nom utilisé par l’autorité compétente et dans le registre.","Give here the name of the installation or non-ETS entity, from which or to which CO2 is transferred. To the extent feasible use the same name as the competent authority and the Registry use."]
[684,"Nom de l’exploitant de cette installation ou entité hors SEQE","Name of the operator of that installation or non-ETS entity."]
[685,"Identificateur unique","Unique ID"]
[686,"Pour les installations relevant du SEQE de l’UE, donnez l’identificateur unique de l’installation qui est utilisé par le système de registres. En cas de doute, prenez contact avec l’autorité compétente pour connaître le format correct de l’identificateur unique.","For EU ETS installations, give the unique ID of the installation as used by the Registry system. In case of doubt contact the competent authority for the correct format of the ID."]
[687,"Type de transfert","Type of transfer"]
[688,"Choisissez dans la liste déroulante ci-dessous un transfert en provenance ou à destination d’une installation ou d’une entité hors SEQE et indiquez s'il s'agit de CO2 intrinsèque (article 48) ou de CO2 transféré (article 49) au sens du MRR.","Select here from the drop-down list whether it is a transfer from or to an installation or non-ETS entity, and whether this deals with inherent CO2 (Article 48) or transferred CO2 (Article 49) as defined by the MRR."]
[689,"Méthode de mesure","Measurement approach"]
[690,"En vertu de l’article 48, paragraphe 3, vous pouvez déterminer le CO2 transféré ou le CO2 intrinsèque soit à l’aide de vos propres instruments, soit en recourant aux mesures de l’autre installation, ou bien vous pouvez utiliser les deux méthodes et faire la moyenne des résultats obtenus.  Veuillez préciser ici la méthode utilisée. ","According to Article 48(3), you can determine transferred or inherent CO2 either by your own instruments, or using the measurement by the other installation, or you can use both and determine the result as the average of the measurements. Please indicate here, which of these approaches are used."]
[691,"Remarque: Les données détaillées concernant la méthode de mesure continue, les points de mesure et les instruments de mesure doivent être saisies dans la feuille F_MeasurementBasedApproaches.","Note: Details about the continuous measurement approach, the measurement points and measuring instruments have to be entered in sheet F_MeasurementBasedApproaches."]
[692,"Réf. du transfert","Transfer Ref."]
[693,"Dénomination de l'installation:","Installation Name"]
[694,"Identificateur unique de l’installation","Unique ID of Installation"]
[695,"Cliquez sur « + » pour ajouter d’autres installations","Click \"+\" to add more installations"]
[696,"Lorsqu’une partie du CO2 transféré est issu de la biomasse, ou lorsqu'une installation ne relève que partiellement de la directive SEQE UE, veuillez détailler la procédure écrite utilisée pour déduire la quantité de CO2 transféré qui ne provient pas de carbone fossile utilisé dans le cadre d’activités relevant de la directive SEQE UE. ","Where part of the transferred CO2 is generated from biomass, or where an installation is only partially covered by the EU ETS Directive, please provide details of the written procedure used for deducting the amount of transferred CO2 which does not originate from fossil carbon activities covered by the EU ETS Directive."]
[697,"Veuillez indiquer la méthode de surveillance choisie pour votre réseau de transport:","Please indicate the monitoring approach selected for your transport network:"]
[698,"Conformément à l’annexe IV, rubrique 22.B du MRR, vous pouvez choisir une des deux méthodes suivantes: la méthode A consiste en un bilan massique (fondé sur la mesure) de tout le CO2 émis, entrant ou sortant du réseau, tandis que la méthode B consiste à déterminer les émissions fugitives et les émissions de purge, ainsi que les fuites et les émissions propres aux installations","In accordance with section 22.B of Annex IV of the MRR, you may choose either of two methods. Method A involves a measurement based mass balance of all CO2 emitted, entering and leaving the network, while Method B is based on determining fugitive and vented emissions, as well as leakages and installation based emissions."]
[699,"Le cas échéant, veuillez donner la référence de l’analyse d’incertitude:","Where applicable, please give a reference to the uncertainty analysis:"]
[700,"Si vous avez choisi la méthode B, vous devez fournir des éléments démontrant que l’incertitude globale associée aux ’émissions de l’ensemble du réseau de transport ne dépasse pas 7,5 % et que la méthode B donne des résultats plus fiables.  Veuillez indiquer ici la référence du document joint.","If you have chosen method B, you must provide evidence to demonstrate compliance with an overall uncertainty of not more than 7.5% for the emissions of the whole transport network, and that method B will give more reliable results. Please give here a reference to the attached document as appropriate."]
[701,"Le cas échéant, veuillez décrire les équipements de mesure de la température et de la pression utilisés au sein du réseau de transport;","Where applicable, please describe the equipment used for temperature and pressure measurement in the transport network."]
[702,"Veuillez énumérer tous les équipements utilisés pour mesurer la température et la pression dans le réseau de transport lors de la détermination des émissions dues à des fuites conformément à l'annexe IV, section 22 du MRR.","Please list all equipment used for measurement of temperature and pressure in the transport network in the determination of emissions from leakage events in accordance with section 22 of Annex IV of the MRR."]
[703,"Référence:","Reference"]
[704,"Localisation","Location"]
[705,"Type d’instrument de mesure","Type of measurement device"]
[706,"Référence de l’instrument","Reference to the device"]
[707,"Cliquez sur « + » pour ajouter d’autres instruments de mesure","Click \"+\" to add more measurement devices"]
[708,"Référence d’une description plus détaillée, le cas échéant:","Reference to more detailed description, if relevant:"]
[709,"Si nécessaire, vous pouvez fournir la liste du point c) et une description plus détaillée dans un document à part, dans un format de fichier acceptable pour l’AC. Dans ce cas, veuillez donner la référence du fichier ici, sous la forme du nom de fichier et de la date. ","If necessary, you may provide the list of point (c) and a more detailed description in a separate document using a file format acceptable for the CA. In this case please reference this file here, by using the file name and date."]
[710,"Le cas échéant, veuillez détailler la procédure écrite utilisée pour la prévention, la détection et la quantification des fuites dans les réseaux de transport.","Where applicable, please provide details of the written procedure for preventing, detecting and quantification of leakage events from transport networks."]
[711,"Dans le cas des réseaux de transport, veuillez détailler la procédure écrite garantissant que le CO2 n’est transféré que vers des installations disposant d’une autorisation valable d’émettre des gaz à effet de serre ou dans lesquelles toute émission de CO2 est effectivement surveillée et prise en compte conformément à l'article 49.","For transport networks, please provide details of the written procedure for ensuring that CO2 is transferred only to installations which have a valid greenhouse gas emission permit, or where any emitted CO2 is effectively monitored and accounted for in accordance with Article 49."]
[712,"Si la méthode B est appliquée pour les systèmes de pipeline, veuillez décrire ici la procédure utilisée pour valider le résultat de la méthode B par la méthode A au moins une fois par an:","If Method B is applied for pipeline systems, please provide here the description of the procedure used for validating the result of method B with method A at least annually:"]
[713,"Si la méthode B est appliquée, décrivez ici la procédure utilisée pour déterminer les émissions fugitives:","If method B is applied, provide here a description of the procedure used for determining fugitive emissions:"]
[714,"Si la méthode B est appliquée, décrivez ici la procédure utilisée pour déterminer les émissions de purge:","If method B is applied, provide here a description of the procedure used for determining vented emissions:"]
[715,"Remarque: Dans le cas du stockage géologique du C02, les émissions à partir du complexe de stockage ainsi que le dégagement de CO2 dans la colonne d'eau ne doivent faire l’objet d’une surveillance que lorsqu’une fuite est détectée. Si aucune fuite n’est détectée, le plan de surveillance peut ne pas prévoir de dispositions particulières de surveillance.  ","Note: In case of the geological storage of CO2, emissions from the storage complex as well as release of CO2 to the water column have to be monitored only where a leakage is detected. Where no leakage is detected, the monitoring plan may have no particular provisions for monitoring. "]
[716,"Il est par conséquent essentiel qu’une procédure soit en place pour permettre une réaction immédiate lorsqu’une fuite est détectée. En pareil cas, le plan de surveillance doit être mis à jour dans les meilleurs délais.","Therefore it is of utmost importance that a procedure is in place for immediate reaction if a leakage is detected. In such case the monitoring plan must be updated without undue delay."]
[717,"Veuillez détailler la procédure utilisée pour l’évaluation régulière du plan de surveillance en vue d’apprécier sa pertinence.  À cet effet, veuillez utiliser le point 19 c) de la feuille K_ManagementControl.","Please provide details about the procedure used for regular evaluation of the monitoring plan's appropriateness. For this purpose, please use point 19(c) in sheet K_ManagementControl."]
[718,"Le cas échéant, veuillez détailler la procédure écrite décrivant les méthodes de quantification des émissions ou des dégagements de CO2 dans la colonne d’eau susceptibles de résulter de fuites, ainsi que les méthodes de quantification appliquées et éventuellement adaptées pour les émissions réelles ou les dégagements réels de CO2 dans la colonne d’eau dus à des fuites, conformément aux prescriptions de la section 23 de l'annexe IV.","Where applicable, please provide details of the written procedure which describe the quantification methodologies for emissions or CO2 released to the water column from potential leakages as well as the applied and possibly adapted quantification methodologies for actual emissions or CO2 released to the water column from leakages, as specified in section 23 of Annex IV."]
[719,"Veuillez décrire ici la méthode et la procédure utilisée pour déterminer toute émission fugitive ou émission de purge provenant notamment de sites où se déroulent des opérations de récupération assistée des hydrocarbures. Si des méthodes fondées sur la mesure conformément aux articles 41 à 46 ne sont pas appliquées, il y a lieu de fournir une justification concernant les coûts excessifs.","Please provide here a description of the methodology and procedure used to determine any fugitive or vented emissions, including from sites where enhanced hydrocarbon recovery is carried out. If measurement based methods in Accordance with Articles 41 to 46 are not applied, a justification regarding unreasonable costs must be enclosed."]
[720,"Décrivez ici la procédure utilisée pour déterminer l’incertitude associée aux émissions résultant de fuites, le cas échéant, en vue de corriger le chiffre des émissions conformément à la section 23, point B.3. de l’annexe IV du MRR.","Provide here a description of the procedure used to determine the uncertainty of emissions from leakages, if applicable, for the purpose of correcting the emissions figure in accordance with subsection B.3 of section 23 of Annex IV of the MRR."]
[721,"K.\nManagement Control","K.\nManagement Control"]
[722,"Définitions et abréviations","Definitions and abbreviations"]
[723,"Cette feuille concerne tous les types d’installations","This sheet is relevant for all types of installations"]
[724,"Veuillez décrire les responsabilités en matière de surveillance et de déclaration des émissions de l’installation, conformément à l’article 61 du MRR.","Please identify the responsibilities for monitoring and reporting emissions from the installation, in accordance with Article 61 of the MRR."]
[725,"Veuillez indiquer les intitulés de poste/emplois et résumer brièvement le rôle du titulaire en ce qui concerne la surveillance et la déclaration. Seuls les postes à responsabilités générales et les autres fonctions clés doivent être énumérés (n'indiquez pas les responsabilités déléguées).","Please identify the relevant job titles/posts and provide a succinct summary of their role relevant to monitoring and reporting. Only those with overall responsibility and other key roles should be listed below (i.e. do not include delegated responsibilities)."]
[726,"Vous pouvez joindre à cet effet un diagramme arborescent ou un organigramme.","These could be outlined in a tree diagram or organisational chart attached to your submission"]
[727,"Si le flux de données (et le journal des modifications) est complet, toutes les responsabilités devraient être décrites dans les procédures, et il ne devrait pas être nécessaire d'ajouter d'autres personnes. ","If the data flow (and audit trail) is complete, all responsibilities should be found in descriptions of procedures and no further persons need to be added."]
[728,"Intitulé du poste/Fonction:","Job title/post"]
[729,"Responsabilités","Responsibilities"]
[730,"Veuillez détailler la procédure utilisée pour gérer l’attribution des responsabilités en matière de surveillance et de déclaration dans l’installation, et pour gérer les compétences du personnel responsable, conformément à l’article 58, paragraphe 3, point c) du MRR.","Please provide details about the procedure used for managing the assignment of responsibilities for monitoring and reporting within the installation and for managing the competencies of responsible personnel, in accordance with Article 58(3)(c) of the MRR."]
[731,"Cette procédure doit décrire la façon dont sont attribuées aux personnes désignées ci-dessus les responsabilités en matière de surveillance et de déclaration, la façon dont la formation et l'évaluation des performances sont assurées et la façon dont les tâches sont séparées de sorte que toutes les données utiles soient confirmées par une personne qui ne prend pas part au relevé et à la collecte de ces données. ","This procedure should identify how the monitoring and reporting responsibilities for the roles identified above are assigned and how training and reviews are undertaken and how duties are segregated such that all relevant data is confirmed by a person not involved with the recording and collection of the data."]
[732,"Gestion du personnel chargé du SEQE","ETS personnel management"]
[733,"• La personne responsable tient une liste du personnel chargé de la gestion des données SEQE.","• Responsible person maintains a list of personnel involved in ETS data management\n\n"]
[734,"• La personne responsable organise au moins une réunion par an avec chaque personne concernée, au moins 4 réunions avec le personnel clé tel que défini dans l’annexe de la procédure. Objectif:  définir les besoins de formation ","• Responsible person holds at least one meeting per year with each involved person, at least 4 meetings with key staff as defined in the annex of the procedure; Aim: Identification of training needs "]
[735,"• La personne responsable gère la formation interne et externe en fonction des besoins définis.","• Responsible person manages internal and external training according to identified needs."]
[736,"Chef adjoint de l’unité HSEQ (santé, sécurité, environnement et qualité)","HSEQ deputy head of unit"]
[737,"Copie papier: Bureau HSEQ, rayonnage 27/9, Classeur «ETS 01-P». Par voie électronique: “P:\\ETS_MRV\\manag\\ETS_01-P.xls”","Hardcopy: HSEQ Office, shelf 27/9, Folder identified “ETS 01-P”. Electronically: “P:\\ETS_MRV\\manag\\ETS_01-P.xls”\n"]
[738,"S.O. (disques réseau normaux)","N.A. (Normal network drives)"]
[739,"Veuillez détailler la procédure utilisée pour l’évaluation régulière de la pertinence du plan de surveillance, y compris les éventuelles mesures d'amélioration de la méthode de surveillance. ","Please provide details about the procedure used for regular evaluation of the monitoring plan's appropriateness, covering in particular any potential measures for the improvement of the monitoring methodology."]
[740,"La procédure décrite ci-dessous doit couvrir les aspects suivants:","The procedure specified below should cover the following:"]
[741,"i- la vérification de la liste des sources d'émission et des flux afin d'en garantir l'exhaustivité et de veiller à ce que tous les changements survenus concernant la nature ou le fonctionnement de l'installation soient consignés dans le plan de surveillance;","i - checking the list of emissions sources and source streams, ensuring completeness of the emissions and source streams and that all relevant changes in the nature and functioning of the installation will be included in the monitoring plan;"]
[742,"ii - l'évaluation du respect des seuils d’incertitude définis pour les données d’activité et les autres paramètres (le cas échéant) pour les niveaux de méthode appliqués pour chaque flux et source d’émission; et","ii - assessing compliance with the uncertainty thresholds for activity data and other parameters (where applicable) for the applied tiers for each source stream and emission source; and"]
[743,"iii – l’évaluation des éventuelles mesures d'amélioration de la méthode de surveillance appliquée.","iii - assessment of potential measures for improvement of the monitoring methodology applied."]
[744,"Veuillez fournir des précisions sur les procédures utilisées pour les activités de gestion du flux de données conformément à l’article 57 du MRR.","Please provide details about the procedures used to manage data flow activities in accordance with Article 57 of the MRR."]
[745,"Lorsque plusieurs procédures sont utilisées, veuillez préciser la procédure globale qui couvre les principales étapes des activités de gestion du flux de données et fournir un schéma montrant comment sont reliées les procédures de gestion des données (veuillez fournir la référence du schéma ci-dessous et le joindre à votre plan de surveillance).  Vous avez également la possibilité de détailler des procédures supplémentaires appropriées sur une feuille séparée. ","Where a number of procedures are used, please provide details of an overarching procedure which covers the main steps of data flow activities along with a diagram showing how the data management procedures link together (please reference this diagram below and include when submitting your monitoring plan).  Alternatively please provide details of additional relevant procedures on a separate sheet."]
[746,"À la rubrique «Description des étapes de traitement», veuillez indiquer chaque étape du flux de données, depuis les données primaires jusqu'aux émissions annuelles, afin de rendre compte de la succession des activités de gestion du flux de données et de leur interaction; veuillez préciser les formules et données utilisées pour déterminer les émissions à partir des données primaires.   Donnez des précisions sur les systèmes électroniques de traitement et de stockage de données, ainsi que sur les autres saisies de données (y compris manuelles) et indiquez comment les résultats des activités de gestion du flux de données sont enregistrés.","Under \"Description of the relevant processing steps\", please identify each step in the data flow from primary data to annual emissions which reflect the sequence and interaction between data flow activities and include the formulas and data used to determine emissions from the primary data.  Include details of any relevant electronic data processing and storage systems and other inputs (including manual inputs) and confirm how outputs of data flow activities are recorded."]
[747,"Liste des sources de données primaires","List of primary data sources"]
[748,"Description des étapes de traitement pertinentes pour chaque activité spécifique de gestion du flux de données ","Description of the relevant processing steps for each specific data flow activity "]
[749,"Veuillez fournir des précisions sur les procédures utilisées pour évaluer les risques inhérents et les risques de carence de contrôle conformément à l’article 58 du MRR.","Please provide details about the procedures used to assess inherent risks and control risks in accordance with Article 58 of the MRR."]
[750,"La brève description doit préciser comment est prévue l’évaluation des risques inhérents et des risques de carence de contrôle lors de la mise en place d’un système de contrôle efficace. ","The brief description should identify how the assessments of inherent risks and control risks are undertaken when establishing an effective control system."]
[751,"Veuillez fournir des précisions sur les procédures utilisées pour l’assurance qualité de l’équipement de mesure, conformément aux articles 58 et 59 du MRR.","Please provide details about the procedures used to ensure quality assurance of measuring equipment in accordance with Article 58 and 59 of the MRR."]
[752,"La brève description doit indiquer comment tous les instruments de mesure sont étalonnés et vérifiés à intervalles réguliers, le cas échéant, et quelles sont les dispositions prises en cas de non-conformité. non","The brief description should identify how all relevant measurement equipment is calibrated and checked at regular intervals, if applicable, and how non-compliance with the required performance is dealt with."]
[753,"Veuillez fournir des précisions sur les procédures utilisées pour l’assurance qualité des systèmes informatiques utilisés pour les activités de gestion du flux de données, conformément aux articles 58 et 60 du MRR.","Please provide details about the procedures used to ensure quality assurance of information technology used for data flow activities in accordance with Article 58 and 60 of the MRR."]
[754,"La brève description doit indiquer comment les systèmes informatiques sont testés et contrôlés, y compris en ce qui concerne le contrôle d'accès, la sauvegarde, la restauration et la sécurité.","The brief description should identify how information technology is tested and controlled, including access control, back-up, recovery and security."]
[755,"Veuillez fournir des précisions sur les procédures utilisées pour les analyses et la validation internes des données conformément aux articles 58 et 62 du MRR.","Please provide details about the procedures used to ensure regular internal reviews and validation of data in accordance with Articles 58 and 62 of the MRR."]
[756,"La brève description doit indiquer que le processus d’analyse et de validation consiste à vérifier si les données sont complètes, à comparer ces données à celles des années précédentes, à comparer la consommation de carburant déclarée aux données d’achat de ce carburant, et les facteurs indiqués par les fournisseurs de carburant aux facteurs de référence internationaux, le cas échéant; la description doit également préciser les critères de rejet des données.","The brief description should identify that the review and validation process includes a check on whether data is complete, comparisons with data over previous years, comparison of fuel consumption reported with purchase records and factor obtained for fuel suppliers with international reference factors, if applicable, and criteria for rejecting data."]
[757,"Veuillez fournir des précisions sur les procédures utilisées pour effectuer les corrections et prendre les mesures correctives conformément aux articles 58 et 63 du MRR.","Please provide details about the procedures used to handle corrections and corrective actions in accordance with Articles 58 and 63 of the MRR."]
[758,"La brève description doit indiquer quelles mesures appropriées sont prises s’il apparaît que les activités de gestion du flux de données et les activités de contrôle ne se déroulent pas de manière efficace. La procédure doit indiquer comment la validité des résultats est évaluée, comment sont déterminées les causes d’erreur et comment il est remédié aux erreurs.","The brief description should outline what appropriate actions are undertaken if data flow activities and control activities are found not to function effectively. The procedure should outline how the validity of the outputs is assessed, the process of determining the cause of the error and of correcting it."]
[759,"Veuillez fournir des précisions sur les procédures utilisées pour contrôler les activités externalisées conformément aux articles 59 et 64 du MRR.","Please provide details about the procedures used to control outsourced processes in accordance with Articles 59 and 64 of the MRR."]
[760,"La brève description doit indiquer comment sont contrôlées les activités de gestion du flux de données et les activités de contrôle des activités externalisées et préciser quels contrôles sont effectués sur la qualité des données obtenues. ","The brief description should identify how data flow activities and control activities of outsourced processes are checked and what checks are undertaken on the quality of the resulting data."]
[761,"Veuillez fournir des précisions sur les procédures utilisées pour gérer l’archivage et la documentation conformément aux articles 58 et 66 du MRR.","Please provide details about the procedures used to manage record keeping and documentation in accordance with Articles 58 and 66 of the MRR."]
[762,"La brève description doit préciser le processus de conservation des documents, plus particulièrement en ce qui concerne les données et informations spécifiées à l’annexe IX du MRR, et indiquer comment les donnés sont conservées de sorte que les informations soient immédiatement mises à la disposition de l’autorité compétente ou du vérificateur qui en fait la demande. ","The brief description should identify the process of document retention, specifically in relation to the data and information stipulated in Annex IX of the MRR and to how the data is stored such that information is made readily available upon request of the competent authority or verifier."]
[763,"Veuillez fournir la référence des résultats consignés d'une évaluation des risques qui établit que les activités et procédures de contrôle sont proportionnées aux risques mis en évidence conformément à l'article 12, paragraphe 1, point b) du MRR.  (Remarque: L’obligation de soumettre l’évaluation des risques à l’AC ne s’applique pas aux installations à faible niveau d’émission, conformément à l’article 47, paragraphe 3, du MRR.","Please provide the reference to the documented results of a risk assessment that demonstrates that the control activities and procedures are commensurate with the risks identified in accordance with Article 12(1)(b) of the MRR.  (Note: The requirement to submit the risk assessment to the CA does not apply to installations with low emissions, in accordance with Article 47(3) of the MRR)"]
[764,"Veuillez indiquer dans l'encadré ci-dessous la référence du fichier/document joint à votre plan de surveillance.","Please reference the file/document attached to your monitoring plan in the box below."]
[765,"Votre organisation dispose-t-elle d'un système de management environnemental attesté par des documents?","Does your organisation have a documented environmental management system?"]
[766,"Si le système de management environnemental est certifié par un organisme accrédité, veuillez préciser la norme de référence (ISO14001, EMAS, etc.).","If the Environmental Management System is certified by an accredited organisation, please specify to which standard e.g. ISO14001, EMAS, etc."]
[767,"Veuillez énumérer les abréviations, les acronymes ou les définitions que vous avez utilisés lors de l'établissement du présent plan de surveillance.","Please list any abbreviations, acronyms or definitions that you have used in completing this monitoring plan."]
[768,"Abréviation","Abbreviation"]
[769,"Définition","Definition"]
[770,"Veuillez indiquer ici toute autre information que vous souhaitez voir prendre en considération. Dans la mesure du possible, veuillez transmettre ces informations sous forme électronique. Vous pouvez utiliser les formats suivants: Microsoft Word, Excel, ou Adobe Acrobat.","If you are providing any other information that you wish us to take into account in considering your plan, tell us here. Please provide this information in an electronic format wherever possible. You can provide information as Microsoft Word, Excel, or Adobe Acrobat formats."]
[771,"Il est recommandé d'éviter de fournir des informations non pertinentes car cela peut ralentir l'approbation du plan de surveillance. Les documents supplémentaires fournis doivent être clairement référencés, et les noms de fichiers ou numéros de référence doivent être indiqués ci-après. Au besoin, vérifiez auprès de votre autorité compétente.","You are advised to avoid supplying non-relevant information as it can slow down the approval. Additional documentation provided should be clearly referenced, and the file name / reference number provided below. If needed, check with your competent authority"]
[772,"Veuillez indiquer ci-dessous le(s) nom(s) de fichier(s) (s'il s'agit de documents électroniques) ou le(s) numéro(s) de référence du/des document(s) (s'il s'agit de documents sur support papier):","Please provide file name(s) (if in an electronic format) or document reference number(s) (if hard copy) below:"]
[773,"Nom de fichier/Référence","File name/Reference"]
[774,"Description du document","Document description"]
[775,"Cette rubrique est facultative pour les États membres","This section is optional for Member States"]
[776,"En vertu de l’article 24, paragraphe 1, de la décision 2011/278/CE de la Commission, les États membres doivent veiller à ce que les informations concernant toute modification prévue ou effective de la capacité, du niveau d’activité ou de l'exploitation d'une installation soient soumises à l'autorité compétente chaque année, au plus tard le 31 décembre.  L’article 12, paragraphe 3, du MRR dispose en outre que les États membres peuvent exiger que d'autres éléments figurent dans le plan de surveillance d’une installation pour répondre à ces exigences.","Article 24(1) of Commission Decision 2011/278/EC requires that Member States must ensure that all relevant information about any planned or effective changes to the capacity, activity level and operation of an installation is submitted by the operator to the competent authority by 31 December each year.  Article 12(3) of the MRR further provides that Member States may require information to be included in the monitoring plan of an installation for the purposes of meeting these requirements."]
[777,"Veuillez fournir des précisions sur la procédure utilisée pour faire en sorte que des analyses soient régulièrement menées pour repérer toute modification effective ou prévue de la capacité, du niveau d’activité ou de l’exploitation de l’installation ayant une incidence sur l’allocation de l’installation. ","Please provide details about the procedure used to ensure regular reviews are carried out to identify any planned or effective changes to the capacity, activity level and operation of the installation that have an impact on the installation's allocation."]
[778,"- planification et exécution de contrôles réguliers pour déterminer si les modifications prévues ou effectives de la capacité, du niveau d’activité ou du fonctionnement d’une installation sont à prendre en considération au titre de la décision 2011/278/CE de la Commission,  et","- planning and carrying out regular checks to determine whether any planned or effective changes to the capacity, activity level and operation of an installation are relevant under Commission Decision 2011/278/EC; and"]
[779,"- procédures pour faire en sorte que ces informations soient soumises à l'autorité compétente chaque année, au plus tard le 31 décembre.","- procedures to ensure such information is submitted to the competent authority by 31 December of each year."]
[780,"L. Member State specific content ","L. Member State specific content"]
[781,"Cadre réservé aux autres observations:","Space for further Comments:"]
[782,"Méthode standard: Procédé, article 24, paragraphe 2","Standard method: Process, Article 24(2)"]
[783,"Méthode du bilan massique, article 25","Mass balance method, Article 25"]
[784,"<<< Cliquer ici pour passer à la feuille suivante >>> ","<<< Click here to proceed to next sheet >>> "]
[785,"Flux","Source Stream"]
[786,"Point de mesure","Measurement Point"]
[787,"Partenaire commercial","Trade partner"]
[788,"Lot","Batch"]
[789,"Des instructions détaillées concernant la saisie des données dans ce module figurent dans la première partie de ce module. ","Detailed instructions for data entries in this tool can be found at  the first  occurrence of this entry section. "]
[790,"pertinent","relevant"]
[791,"non pertinent","not relevant"]
[792,"sans objet !","not applicable!"]
[793,"L’incertitude ne doit pas dépasser  ","Uncertainty shall not be more than"]
[794,"s.o.; utilisez une estimation basée sur les meilleures pratiques)","(n.a.; use estimation based on best practice)"]
[795,"Veuillez saisir des données dans cette rubrique","Please enter data in this section"]
[796,"Passez aux points ci-dessous","Please go to the next points below"]
[797,"Veuillez justifier la raison pour laquelle les données historiques ne sont pas disponibles ou ne conviennent pas.","Please justify why historic data is not available or inappropriate"]
[798,"Aucun niveau","No tier"]
[799,"Cette règle ne s’applique pas pour les installations dans lesquelles sont menées des activités émettant du N2O.","This rule does not apply for installations with N2O activities!"]
[800,"Dépassement du seuil de minimis !","De-minimis threshold exceeded!"]
[801,"Dépassement du seuil mineur !","Minor threshold exceeded!"]
[802,"Somme excédant 5 % des émissions annuelles (rubrique 6.c) !","Sum not within 5% of annual emissions (section 6.c)!"]
[803,"Réservé à l'autorité compétente","Use by Competent Authority only"]
[804,"À remplir par l’exploitant","To be filled in by operator"]
[805,"Autriche","Austria"]
[806,"Belgique","Belgium"]
[807,"Bulgarie","Bulgaria"]
[808,"Croatie","Croatia"]
[809,"Chypre","Cyprus"]
[810,"République tchèque","Czech Republic"]
[811,"Danemark","Denmark"]
[812,"Estonie","Estonia"]
[813,"Finlande","Finland"]
[814,"France","France"]
[815,"Allemagne","Germany"]
[816,"Grèce","Greece"]
[817,"Hongrie","Hungary"]
[818,"Islande","Iceland"]
[819,"Irlande","Ireland"]
[820,"Italie","Italy"]
[821,"Lettonie","Latvia"]
[822,"Liechtenstein","Liechtenstein"]
[823,"Lituanie","Lithuania"]
[824,"Luxembourg","Luxembourg"]
[825,"Malte","Malta"]
[826,"Pays-Bas","Netherlands"]
[827,"Norvège","Norway"]
[828,"Pologne","Poland"]
[829,"Portugal","Portugal"]
[830,"Roumanie","Romania"]
[831,"Slovaquie","Slovakia"]
[832,"Slovénie","Slovenia"]
[833,"Espagne","Spain"]
[834,"Suède","Sweden"]
[835,"Royaume-Uni","United Kingdom"]
[836,"rejeté par l’autorité compétente","rejected by competent authority"]
[837,"Projet de document de travail","working draft"]
[838,"Rubriques pertinentes: 6 (sauf d), 7, 8","Relevant sections: 6 (except d), 7, 8"]
[839,"Rubriques pertinentes: 6 (sauf e), 9, 10 , 11","Relevant sections: 6 (except e), 9, 10, 11"]
[840,"Rubriques pertinentes: 12","Relevant sections: 12"]
[841,"Rubriques pertinentes: 6 (sauf e), 9, 10 , 11, 13","Relevant sections: 6 (except e), 9, 10, 11, 13"]
[842,"Rubriques pertinentes: 6 (sauf d), 7, 14 , 15, 16","Relevant sections: 6 (except d), 7, 14, 15, 16"]
[843,"Rubriques pertinentes: 6 (sauf e), 9, 10 , 11, 17, 18, 19","Relevant sections: 6 (except e), 9, 10, 11, 17, 18, 19"]
[844,"Transfert de CO2","CO2 transfer"]
[845,"Calcul avec dispositions spéciales pour les PFC (annexe IV section 8)","Calculation with special provisions for PFC (Annex IV section 8)"]
[846,"Réception de CO2 intrinsèque","Receiving inherent CO2"]
[847,"Exportation de CO2 intrinsèque vers une installation SEQE","Exporting inherent CO2 to ETS installation"]
[848,"Exportation de CO2 intrinsèque vers un client hors SEQE","Exporting inherent CO2 to non-ETS consumer"]
[849,"Réception de CO2 transféré","Receiving transferred CO2"]
[850,"Exportation de CO2 transféré","Exporting transferred CO2"]
[851,"Recours aux instruments propres;","Use of own instruments"]
[852,"Recours aux instruments d’autres installations","use of other installation's instruments"]
[853,"Recours aux instruments des deux partenaires","Use both partners' instruments"]
[854,"Méthode A","Method A"]
[855,"Méthode B","Method B"]
[856,"AnnexIActivities (Activités visées à l’annexe I)","AnnexIActivities"]
[857,"Raffinage de pétrole ","Refining of mineral oil "]
[858,"Production de coke","Production of coke"]
[859,"Grillage & frittage de minerai métallique","Metal ore roasting or sintering"]
[860,"Production de fonte ou d'acier","Production of pig iron or steel"]
[861,"Production ou transformation des métaux ferreux","Production or processing of ferrous metals"]
[862,"Production d’aluminium primaire","Production of primary aluminium"]
[863,"Production d’aluminium secondaire","Production of secondary aluminium"]
[864,"Production ou transformation des métaux non ferreux","Production or processing of non-ferrous metals"]
[865,"Production de chaux ou calcination de dolomite et de magnésite","Production of lime, or calcination of dolomite/magnesite"]
[866,"Fabrication du verre","Manufacture of glass"]
[867,"Fabrication de produits céramiques","Manufacture of ceramics"]
[868,"Fabrication de laine minérale","Manufacture of mineral wool"]
[869,"Production ou transformation de plaques de plâtre","Production or processing of gypsum or plasterboard"]
[870,"Fabrication de pâte à papier","Production of pulp"]
[871,"Production de papier ou de carton","Production of paper or cardboard"]
[872,"Production de noir de carbone","Production of carbon black"]
[873,"Production d’acide nitrique","Production of nitric acid"]
[874,"Production d’acide adipique","Production of adipic acid"]
[875,"Production de glyoxal et d’acide glyoxylique","Production of glyoxal and glyoxylic acid"]
[876,"Production d'ammoniac","Production of ammonia"]
[877,"Fabrication de produits chimiques de base","Production of bulk chemicals"]
[878,"Production d'hydrogène et de gaz de synthèse","Production of hydrogen and synthesis gas"]
[879,"Production de soude et de bicarbonate de sodium","Production of soda ash and sodium bicarbonate"]
[880,"Captage de gaz à effet de serre au titre de la directive 2009/31/CE","Capture of greenhouse gases under Directive 2009/31/EC"]
[881,"Transport de gaz à effet de serre au titre de la directive 2009/31/CE","Transport of greenhouse gases under Directive 2009/31/EC"]
[882,"Stockage de gaz à effet de serre au titre de la directive 2009/31/CE","Storage of greenhouse gases under Directive 2009/31/EC"]
[883,"SpecifiedEmissions2 (Émissions spécifiques)","SpecifiedEmissions2"]
[884,"PFCs","PFCs"]
[885,"CO2 & N2O","CO2 & N2O"]
[886,"CO2 & PFCs","CO2 & PFCs"]
[887,"SourceCategory (Catégorie de source)","SourceCategory"]
[888,"Mineure","Minor"]
[889,"De minimis","De-minimis"]
[890,"SourceCategoryCEMS (SMCE pour catégorie de source)","SourceCategoryCEMS"]
[891,"AnalysisFrequency (Fréquence d’analyse)","AnalysisFrequency"]
[892,"continue","Continuous"]
[893,"quotidienne","Daily"]
[894,"mensuelle","Monthly"]
[895,"trimestrielle","Quarterly"]
[896,"semestrielle","Biannual"]
[897,"annuelle","Annual"]
[898,"OperationType (Type de fonctionnement) ","OperationType"]
[899,"Exploitation normale","Typical operation"]
[900,"Fonctionnement non classique","Non-typical operation"]
[901,"PFCMethods (Méthodes pour PFC)","PFCMethods"]
[902,"Méthode A - méthode des pentes","Method A - Slope Method"]
[903,"Méthode B - méthode de la surtension","Method B - Overvoltage Method"]
[904,"PFCCellTypes (Types de cellules PFC)","PFCCellTypes"]
[905,"Anode précuite du centre de la cuve (CWPB)","Centre Worked Pre-Bake (CWPB)"]
[906,"Søderberg – goujon vertical (VSS)","Vertical Stud Søderberg (VSS)"]
[907,"Anode précuite latérale (SWPB)","Side-Worked Pre-Bake (SWPB)"]
[908,"Søderberg – goujon horizontal (HSS)","Horizontal Stud Søderberg (HSS)"]
[909,"MeteringDevices (Dispositifs de mesurage)","MeteringDevices"]
[910,"Compteur à turbine","Turbine meter"]
[911,"Compteur à soufflet","Bellows meter"]
[912,"Compteur à orifice","Orifice meter"]
[913,"Débitmètre Venturi","Venturi meter"]
[914,"Débitmètre ultrasonique","Ultrasonic meter"]
[915,"Compteur à tourbillon","Vortex meter"]
[916,"Débitmètre de Coriolis","Coriolis meter"]
[917,"Débitmètre à roue ovale ","Ovalrad meter"]
[918,"Instrument électronique de conversion des volumes","Electronic volume conversion instrument (EVCI)"]
[919,"Chromatographe à gaz","Gas Chromatograph"]
[920,"Tapis roulant de pesage","Weighing conveyor belt"]
[921,"MeasurementTiers (Niveaux de mesure)","MeasurementTiers"]
[922,"PFCTiers (Niveaux PFC)","PFCTiers"]
[923,"BiomassTiers (Niveaux biomasse)","BiomassTiers"]
[924,"ConversionFactorTiers (Niveaux facteurs de conversion)","ConversionFactorTiers"]
[925,"ActivityDataTiers (Niveaux données d’activité)","ActivityDataTiers"]
[926,"NCVTiers (Niveaux PCI)","NCVTiers"]
[927,"2b","2b"]
[928,"EFTiers (Niveaux FE)","EFTiers"]
[929,"CarbonContentTiers (Niveaux teneur en carbone)","CarbonContentTiers"]
[930,"Annexe I de la directive","Directive Annex I"]
[931,"Activités spéciales","Special activities"]
[932,"Combustion de combustibles dans des installations dont la puissance calorifique totale de combustion est supérieure à 20 MW (à l’exception des installations d’incinération de déchets dangereux ou municipaux)","Combustion of fuels in installations with a total rated thermal input exceeding 20 MW (except in installations for the incineration of hazardous or municipal waste)"]
[933,"Grillage ou frittage, y compris pelletisation, de minerai métallique (y compris de minerai sulfuré) ","Metal ore (including sulphide ore) roasting or sintering, including pelletisation "]
[934,"Production de fonte ou d'acier (fusion primaire ou secondaire), y compris les équipements pour coulée continue d'une capacité de plus de 2,5 tonnes par heure ","Production of pig iron or steel (primary or secondary fusion) including continuous casting, with a capacity exceeding 2,5 tonnes per hour "]
[935,"Production ou transformation de métaux ferreux (y compris les ferro-alliages) lorsque des unités de combustion dont la puissance calorifique totale de combustion est supérieure à 20 MW sont exploitées. La transformation comprend, notamment, les laminoirs, les réchauffeurs, les fours de recuit, les forges, les fonderies, les unités de revêtement et les unités de décapage","Production or processing of ferrous metals (including ferro-alloys) where combustion units with a total rated thermal input exceeding 20 MW are operated. Processing includes, inter alia, rolling mills, re-heaters, annealing furnaces, smitheries, foundries, coating and pickling"]
[936,"Production d’aluminium secondaire, lorsque des unités de combustion dont la puissance calorifique totale de combustion est supérieure à 20 MW sont exploitées","Production of secondary aluminium where combustion units with a total rated thermal input exceeding 20 MW are operated"]
[937,"Production ou transformation de métaux non ferreux, y compris la production d’alliages, l’affinage, le moulage en fonderie, etc., lorsque des unités de combustion dont la puissance calorifique totale de combustion (y compris les combustibles utilisés comme agents réducteurs) est supérieure à 20 MW sont exploitées.","Production or processing of non-ferrous metals, including production of alloys, refining, foundry casting, etc., where combustion units with a total rated thermal input (including fuels used as reducing agents) exceeding 20 MW are operated"]
[938,"Production de clinker (ciment) dans des fours rotatifs avec une capacité de production supérieure à 500 tonnes par jour, ou dans d’autres types de fours, avec une capacité de production supérieure à 50 tonnes par jour ","Production of cement clinker in rotary kilns with a production capacity exceeding 500 tonnes per day or in other furnaces with a production capacity exceeding 50 tonnes per day "]
[939,"Production de chaux, y compris la calcination de dolomite et de magnésite, dans des fours rotatifs ou dans d’autres types de fours, avec une capacité de production supérieure à 50 tonnes par jour ","Production of lime or calcination of dolomite or magnesite in rotary kilns or in other furnaces with a production capacity exceeding 50 tonnes per day "]
[940,"Fabrication du verre, y compris de fibres de verre, avec une capacité de fusion supérieure à 20 tonnes par jour ","Manufacture of glass including glass fibre with a melting capacity exceeding 20 tonnes per day "]
[941,"Fabrication de produits céramiques par cuisson, notamment de tuiles, de briques, de pierres réfractaires, de carrelages, de grès ou de porcelaines, avec une capacité de production supérieure à 75 tonnes par jour ","Manufacture of ceramic products by firing, in particular roofing tiles, bricks, refractory bricks, tiles, stoneware or porcelain, with a production capacity exceeding 75 tonnes per day "]
[942,"Fabrication de matériau isolant en laine minérale à partir de roches, de verre ou de laitier, avec une capacité de fusion supérieure à 20 tonnes par jour ","Manufacture of mineral wool insulation material using glass, rock or slag with a melting capacity exceeding 20 tonnes per day "]
[943,"Séchage ou calcination du plâtre ou production de planches de plâtre et autres compositions à base de plâtre, lorsque des unités de combustion dont la puissance calorifique de combustion est supérieure à 20 MW sont exploitées ","Drying or calcination of gypsum or production of plaster boards and other gypsum products, where combustion units with a total rated thermal input exceeding 20 MW are operated "]
[944,"Production de pâte à papier à partir du bois ou d’autres matières fibreuses ","Production of pulp from timber or other fibrous materials "]
[945,"Production de papier ou de carton, avec une capacité de production supérieure à 20 tonnes par jour. ","Production of paper or cardboard with a production capacity exceeding 20 tonnes per day "]
[946,"Production de noir de carbone, y compris la carbonisation de substances organiques telles que les huiles, les goudrons, les résidus de craquage et de distillation, lorsque des unités de combustion dont la puissance calorifique totale de combustion est supérieure à 20 MW sont exploitées ","Production of carbon black involving the carbonisation of organic substances such as oils, tars, cracker and distillation residues, where combustion units with a total rated thermal input exceeding 20 MW are operated "]
[947,"Production de produits chimiques organiques de base par craquage, reformage, oxydation partielle ou totale, ou par d’autres procédés similaires, avec une capacité de production supérieure à 100 tonnes par jour ","Production of bulk organic chemicals by cracking, reforming, partial or full oxidation or by similar processes, with a production capacity exceeding 100 tonnes per day "]
[948,"Production d’hydrogène (H2) et de gaz de synthèse par reformage ou oxydation partielle avec une capacité de production supérieure à 25 tonnes par jour ","Production of hydrogen (H2) and synthesis gas by reforming or partial oxidation with a production capacity exceeding 25 tonnes per day "]
[949,"Production de soude (Na2CO3) et de bicarbonate de sodium (NaHCO3) ","Production of soda ash (Na2CO3) and sodium bicarbonate (NaHCO3) "]
[950,"Captage des gaz à effet de serre produits par les installations couvertes par la directive SEQE en vue de leur transport et de leur stockage géologique dans un site de stockage agréé au titre de la directive 2009/31/CE","Capture of greenhouse gases from installations covered by this Directive for the purpose of transport and geological storage in a storage site permitted under Directive 2009/31/EC"]
[951,"Transport par pipelines des gaz à effet de serre en vue de leur stockage dans un site de stockage agréé au titre de la directive 2009/31/CE","Transport of greenhouse gases by pipelines for geological storage in a storage site permitted under Directive 2009/31/EC"]
[952,"Stockage géologique des gaz à effet de serre dans un site de stockage agréé au titre de la directive 2009/31/CE","Geological storage of greenhouse gases in a storage site permitted under Directive 2009/31/EC"]
[953,"Données d'activité","Activity data"]
[954,"Niveau","Tier"]
[955,"Activité","Activity","; 'C_InstallationDescription'!$F$271"]
[956,"Intitulé abrégé","Short name"]
[957,"Sous-activité","Sub-activity"]
[958,"Type de source","Source type"]
[959,"Minimum","Minimum"]
[960,"Maximum","Highest"]
[961,"Griser ?","make grey?"]
[962,"Combustion de combustibles et combustibles utilisés comme matières entrantes","Combustion of fuels and fuels used as process input"]
[963,"Combustion","Combustion"]
[964,"Combustibles marchands ordinaires","Commercial standard fuels"]
[965,"± 7,5%","± 7,5%"]
[966,"± 5,0%","± 5,0%"]
[967,"± 2,5%","± 2,5%"]
[968,"± 1,5%","± 1,5%"]
[969,"Autres combustibles gazeux & liquides","Other gaseous & liquid fuels"]
[970,"Combustibles solides","Solid fuels"]
[971,"Quantité de combustibles [t]","Amount of fuel [t]"]
[972,"Terminaux de traitement du gaz","Gas Processing Terminals"]
[973,"Chaque matière entrante et sortante [t]","Each input and output material [t]"]
[974,"Torchères","Flares"]
[975,"Quantité de gaz brûlée [Nm3]","Amount of flare gas [Nm3]"]
[976,"± 17,5%","± 17,5%"]
[977,"± 12,5%","± 12,5%"]
[978,"Épuration (carbonate)","Scrubbing (carbonate)"]
[979,"Quantité de carbonates consommée [t]","Amount carbonate consumed [t]"]
[980,"Épuration (gypse)","Scrubbing (gypsum)"]
[981,"Quantité de gypse produite [t]","Amount gypsum produced [t]"]
[982,"Raffineries","Refineries"]
[983,"Bilan massique","Mass balance"]
[984,"Régénération des catalyseurs de craquage catalytique","Catalytic cracker regeneration"]
[985,"Les exigences en matière d'incertitude s'appliquent séparément pour chaque source d'émission","Uncertainty requirements apply separately for each emission source"]
[986,"± 10,0% (as t CO2)","± 10,0% (as t CO2)"]
[987,"± 7,5% (as t CO2)","± 7,5% (as t CO2)"]
[988,"± 5,0% (as t CO2)","± 5,0% (as t CO2)"]
[989,"± 2,5% (as t CO2)","± 2,5% (as t CO2)"]
[990,"Production d'hydrogène","Hydrogen production"]
[991,"Charge d'hydrocarbures [t]","Hydrocarbon feed [t]"]
[992,"Coke","Coke"]
[993,"Combustible employé pour alimenter le procédé","Fuel as process input"]
[994,"Apport de carbonate (méthode A)","Carbonate input (Method A)"]
[995,"Matière d’apport de carbonate [t]","Carbonate input material [t]"]
[996,"Production d’oxydes (méthode B)","Oxide output (Method B)"]
[997,"Production d’oxydes [t]","Oxide output [t]"]
[998,"Grillage & frittage de minerai métallique","Metal ore roasting & sintering"]
[999,"Minerai de métaux","Metal ore"]
[1000,"Apport de carbonates","Carbonate input"]
[1001,"Matière entrante et résidus de procédés contenant des carbonates [t]","Carbonate input material and process residues [t]"]
[1002,"Production de fonte et d'acier","Production of iron & steel"]
[1003,"Sidérurgie","Iron & steel"]
[1004,"Chaque flux massique entrant et sortant de l'installation [t]","Each mass flow into and from the installation [t]"]
[1005,"Clinker","Cement clinker"]
[1006,"D'après la charge du four (méthode A)","Kiln input based (Method A)"]
[1007,"Chaque charge du four [t]","Each relevant kiln input [t]"]
[1008,"Quantité de clinker produite (méthode B)","Clinker output (Method B)"]
[1009,"Clinker produit [t]","Clinker produced [t]"]
[1010,"Poussières des fours à ciment","CKD"]
[1011,"Poussières des fours à ciment ou de bypass [t]","CKD or bypass dust [t]"]
[1012,"Carbone non issu de carbonates","Non-carbonate carbon"]
[1013,"Chaque matière première [t]","Each raw material [t]"]
[1014,"± 15,0%","± 15,0%"]
[1015,"Production de chaux et calcination de dolomite et de magnésite","Production of lime and calcination of dolomite and magnesite"]
[1016,"Chaux / dolomite / magnésite","Lime / dolomite / magnesite"]
[1017,"Carbonates (méthode A)","Carbonates (Method A)"]
[1018,"Oxydes alcalinoterreux (méthode B)","Alkali earth oxide (Method B)"]
[1019,"Chaux produite [t]","Lime produced [t]"]
[1020,"Poussières de four (méthode B)","Kiln dust (Method B)"]
[1021,"Poussières de four [t]","Kiln dust [t]"]
[1022,"Fabrication de verre et de laine minérale","Manufacture of glass and mineral wool"]
[1023,"Verre et laine minérale","Glass and mineral wool"]
[1024,"Carbonates (apport)","Carbonates (input)"]
[1025,"Chaque matière première ou additif contenant des carbonates et associé à des émissions de CO2 [t]","Each carbonate raw material or additive associated with CO2 emissions [t]"]
[1026,"Fabrication de produits céramiques","Manufacture of ceramic products"]
[1027,"Céramique","Ceramics"]
[1028,"Apports de carbone (méthode A)","Carbon inputs (Method A)"]
[1029,"Chaque matière première ou additif contenant des carbonates et associé à des émissions de CO2 [t]","Each carbonate raw material or additive associated with CO2 emissions [t]"]
[1030,"Oxydes alcalinoterreux (méthode B)","Alkali oxide (Method B)"]
[1031,"Production brute, y compris produits rejetés et calcin des fours, et expéditions [t]","Gross production including rejected products and cullet from the kilns and shipment [t]"]
[1032,"Épuration","Scrubbing"]
[1033,"Quantité de CaCO3 sec consommée [t]","Dry CaCO3 consumed [t]"]
[1034,"Production de pâte à papier et de papier","Production of pulp & paper"]
[1035,"Papier et pâte à papier","Pulp & paper"]
[1036,"Produits chimiques d'appoint","Make up chemicals"]
[1037,"Quantité de CaCO3 et de Na2CO3 [t]","Amount of CaCO3 and Na2CO3 [t]"]
[1038,"Noir de carbone","Carbon black"]
[1039,"Méthode du bilan massique","Mass balance methodology"]
[1040,"Ammoniac","Ammonia"]
[1041,"Quantité de combustible utilisée pour alimenter le procédé [t] ou [Nm3]","Amount fuel used as process input [t] or [Nm3]"]
[1042,"Hydrogène et gaz de synthèse","Hydrogen and synthesis gas"]
[1043,"Quantité de combustible utilisée comme matière entrante pour la production d'hydrogène [t] ou [Nm3]","Amount fuel used as process input for hydrogen production [t] or [Nm3]"]
[1044,"Fabrication de produits chimiques organiques de base","Production of bulk organic chemicals"]
[1045,"Produits chimiques organiques de base","Bulk organic chemicals"]
[1046,"Production ou transformation de métaux ferreux et non ferreux, y compris d'aluminium secondaire","Production or processing of ferrous and non-ferrous metals, including secondary aluminium"]
[1047,"Aluminium secondaire, (non) ferreux","(Non) ferrous, sec. aluminium"]
[1048,"Émissions de procédé","Process emissions"]
[1049,"Chaque matière entrante ou résidu de procédé utilisé comme matière entrante dans le procédé [t]","Each input material or process residue used as input material in the process [t]"]
[1050,"Soude / bicarbonate de sodium","Soda ash / sodium bicarbonate"]
[1051,"Production d'aluminium primaire","Primary aluminium production"]
[1052,"Aluminium primaire","Primary aluminium"]
[1053,"Émissions de PFC (méthode des pentes)","PFC emissions (slope method)"]
[1054,"Production d'aluminium primaire en [t], durée des effets d'anode en minutes en [nombre d'effets d'anode/cuve-jour] et en [durée de l'effet d'anode en minute/événement]","primary aluminium production in [t], anode effect minutes in [number anode effects/cell day] and [anode effect minutes/ occurrence]"]
[1055,"Émissions de PFC (méthode de la surtension)","PFC emissions (overvoltage method)"]
[1056,"Production d'aluminium primaire en [t], surtension de l'effet d'anode [mV] et rendement de courant [-]","primary aluminium production in [t], anode effect overvoltage [mV] and current efficiency [-]"]
[1057,"Bilan massique","mass balance"]
[1058,"Facteur d’émission","Emission factor"]
[1059,"valeur par défaut ?","default value?"]
[1060,"Variables représentatives (le cas échéant)","Established proxies (if applicable)"]
[1061,"L'exploitant applique une des options suivantes:\na) les facteurs standard indiqués à la section 1 de l'annexe VI;\nb) d’autres constantes conformément à l’article 31, paragraphe 1, point d) ou e),\nsi aucune valeur applicable ne figure à l'annexe VI, section 1.","The operator shall apply one of the following:\n(a) the standard factors listed in section 1 of Annex VI;\n(b) other constant values in accordance with points (d) or (e) of Article 31(1),\nwhere no applicable value is contained in section 1 of Annex VI."]
[1062,"Niveau 2a: L'exploitant applique les facteurs d'émission spécifiques par pays pour chaque combustible ou matière, conformément à l'article 31, paragraphe 1, points b) et c).","Tier 2a: The operator shall apply country specific emission factors for the respective fuel or\nmaterial in accordance with points (b) and (c) of Article 31(1)"]
[1063,"Niveau 2b: L'exploitant détermine les facteurs d'émission du combustible à partir de l'une des variables représentatives ci-après, en association avec une corrélation empirique, au moins une fois par an conformément aux articles 32 à 35 et à l'article 39:","Tier 2b: The operator shall derive emission factors for the fuel based on one of the following\nestablished proxies, in combination with an empirical correlation as determined at least once\nper year in accordance with Articles 32 to 35 and 39:"]
[1064,"L'exploitant détermine le facteur d'émission conformément aux dispositions pertinentes des articles 32 à 35.","The operator shall determine the emission factor in accordance with the relevant\nprovisions of Articles 32 to 35."]
[1065,"0,00393 t CO2/Nm3","0.00393 t CO2/Nm3"]
[1066,"Facteurs spécifiques des installations","Installation-specific factors"]
[1067,"L'exploitant utilise un facteur d'émission de référence égal à 0,00393 t CO2/Nm3 correspondant à la combustion d'éthane pur, qui est utilisé comme variable représentative des gaz de torchère, en tant qu'estimation prudente.","The operator shall use a reference emission factor of 0.00393 t CO2/Nm3 derived from the combustion of pure ethane used as a conservative proxy for flare gases."]
[1068,"Niveau 2b: Les facteurs d'émission spécifiques des installations sont déterminés à partir d'une estimation du poids moléculaire du flux brûlé à la torchère, à l'aide d'une modélisation du procédé reposant sur des modèles industriels standard. L'examen des proportions relatives et des poids moléculaires de chacun des flux concourants permet d'établir une moyenne annuelle pondérée pour le poids moléculaire du gaz brûlé.","Tier 2b: Installation-specific emission factors shall be derived from an estimate of the\nmolecular weight of the flare stream, using process modelling based on industry standard\nmodels. By considering the relative proportions and the molecular weights of each of the\ncontributing streams, a weighted annual average figure shall be derived for the molecular\nweight of the flare gas."]
[1069,"Valeur par défaut de type I et meilleure pratique","Type I default value & best practice"]
[1070,"Le facteur d'émission est déterminé à partir des rapports stœchiométriques indiqués à la section 2 de l'annexe VI. La quantité de CaCO3 et de MgCO3 contenue dans les matières entrantes est déterminée selon les meilleures pratiques publiées par l'industrie.","The emission factor shall be determined from stoichiometric ratios as laid down in\nsection 2 of Annex VI. The determination of the amount of CaCO3 and MgCO3 in the relevant\ninput material shall be carried out using best industry practice guidelines."]
[1071,"0,2558 t CO2/ t gypse.","0.2558 t CO2/ t gypsum."]
[1072,"Le facteur d'émission est le rapport stœchiométrique entre le gypse sec (CaSO4.2H2O) et le CO2 émis: 0,2558 t CO2/ t gypse.","The emission factor shall be the stoichiometric ratio of dry gypsum (CaSO4.2H2O) to CO2 emitted: 0.2558 t CO2/ t gypsum."]
[1073,"2,9 t CO2 par tonne de charge traitée","2.9 t CO2 per tonne feed processed\n"]
[1074,"L'exploitant utilise une valeur de référence égale à 2,9 t de CO2 par tonne de charge traitée. Cette valeur est une estimation prudente, basée sur l'éthane.","The operator shall use a reference value of 2.9 t CO2 per tonne feed processed,\nconservatively based on ethane."]
[1075,"L'exploitant utilise un facteur d'émission spécifique par activité, calculé à partir de la teneur en carbone du gaz d'alimentation, déterminée conformément aux dispositions des articles 32 à 35.","The operator shall use an activity-specific emission factor calculated from the carbon\ncontent of the feed gas determined in accordance with Articles 32 to 35."]
[1076," "," "]
[1077,"0,525 t CO2/ t clinker.","0.525 t CO2/t clinker."]
[1078,"L'exploitant applique un facteur d'émission de 0,525 t CO2/t clinker","The operator shall apply an emission factor of 0.525 t CO2/t clinker."]
[1079,"La quantité d'oxydes métalliques résultant de la décomposition des carbonates contenus dans le produit est déterminée conformément aux dispositions des articles 32 à 35. Les rapports stœchiométriques indiqués dans le tableau 3 de l'annexe VI, section 2, sont utilisés pour convertir les données relatives à la composition en facteurs d'émission, étant entendu que la totalité des oxydes métalliques concernés provient des carbonates correspondants.","The determination of the amount of relevant metal oxides stemming from the\ndecomposition of carbonates in the product shall be carried out in accordance with Articles 32\nto 35. Stoichiometric ratios referred to in Annex VI section 2 Table 3 shall be used to convert\ncomposition data into emission factors assuming that all of the relevant metal oxides have\nbeen derived from respective carbonates."]
[1080,"Annexe VI, section 2 et Analyses","Annex VI, section 2 & Analyses"]
[1081,"0,525 t CO2/ t poussière.","0.525 t CO2/t dust."]
[1082,"L'exploitant applique un facteur d'émission de 0,525 t CO2/t poussière.","The operator shall apply an emission factor of 0.525 t CO2/t dust."]
[1083,"L'exploitant détermine le facteur d'émission (FE) au moins une fois par an conformément aux dispositions des articles 32 à 35 en appliquant la formule suivante:","The operator shall determine the emission factor (EF) at least once annually following\nArticles 32 to 35 and using the following formula:"]
[1084,"Meilleures pratiques","Best practice"]
[1085,"La teneur en carbone non issu de carbonates de la matière première considérée est déterminée sur la base des lignes directrices sur les meilleures pratiques publiées par l'industrie.","The content of non-carbonate carbon in the relevant raw material shall be estimated\nusing industry best practice guidelines."]
[1086,"La teneur en carbone non issu de carbonates de la matière première considérée est déterminée au moins une fois par an conformément aux dispositions des articles 32 à 35.","The content of non-carbonate carbon in the relevant raw material shall be determined\nat least annually following the provisions of Article 32 to 35."]
[1087,"La quantité de carbonates à prendre en considération contenue dans chaque matière entrante est déterminée conformément aux dispositions des articles 32 à 35. Les rapports stœchiométriques indiqués à la section 2 de l'annexe VI sont utilisés pour convertir les données relatives à la composition en facteurs d'émission. ","The determination of the amount of relevant carbonates in each relevant input material shall be carried out according Articles 32 to 35. Stoichiometric ratios as listed in section 2 of Annex VI shall be used to convert composition data into emission factors. "]
[1088,"L'exploitant applique les facteurs standard indiqués dans le tableau 3, à la section 2 de l'annexe VI.","The operator shall apply the standard factors listed in Annex VI section 2 Table 3."]
[1089,"L'exploitant applique un facteur d'émission spécifique par pays conformément à l'article 31, paragraphe 1, point b) ou c).","The operator shall apply a country specific emission factor in accordance with points\n(b) or (c) of Article 31(1)."]
[1090,"Les rapports stœchiométriques indiqués à la section 2 de l'annexe VI sont utilisés. La pureté des matières entrantes concernées est déterminée sur la base des meilleures pratiques publiées par l'industrie.","Stoichiometric ratios as listed in section 2 of Annex VI shall be used. The purity of\nrelevant input materials shall be determined by means of industry best practice."]
[1091,"La quantité de carbonates à prendre en considération contenue dans chaque matière entrante est déterminée conformément aux dispositions des articles 32 à 35.","The determination of the amount of relevant carbonates in each relevant input material\nshall be carried out in accordance with Articles 32 to 35."]
[1092,"0,08794 tonne of CO2 par tonne d’argile sèche","0.08794 tonnes of CO2 per tonne of dry clay"]
[1093,"Au lieu de se fonder sur les résultats d'analyse, on utilise, pour le calcul du facteur d'émission, une valeur estimative prudente de 0,2 tonne de CaCO3 (correspondant à 0,08794 tonne de CO2) par tonne d'argile sèche.","A conservative value of 0.2 tonnes CaCO3 (corresponding to 0.08794 tonnes of CO2)\nper tonne of dry clay shall be applied for the calculation of the emission factor instead of\nresults of analyses."]
[1094,"Pour chaque flux, un facteur d'émission est déterminé et actualisé au moins une fois par an, sur la base des meilleures pratiques publiées par l'industrie, en tenant compte des conditions spécifiques du site et de la gamme de produits de l'installation.","An emission factor for each source stream shall be derived and updated at least once\nper year using best industry practice reflecting site-specific conditions and the product mix of\nthe installation."]
[1095,"0,09642 tonne of CO2 par tonne de produit","0.09642 tonnes of CO2 per tonne of product"]
[1096,"Valeur par défaut de type I","Type I default value"]
[1097,"L'exploitant applique le rapport stœchiométrique du CaCO3 indiqué à la section 2 de l'annexe VI.","The operator shall apply the stoichiometric ratio of CaCO3 as shown in section 2 of\nAnnex VI."]
[1098,"Valeur par défaut de type I et meilleure pratique","Type I default value & best practice"]
[1099,"Les rapports stœchiométriques indiqués à la section 2 de l'annexe VI sont utilisés. La pureté des matières entrantes concernées est déterminée sur la base des meilleures pratiques publiées par l'industrie. Les valeurs obtenues sont corrigées en fonction de la teneur en humidité et en gangue des matières carbonatées employées.","Stoichiometric ratios as listed in section 2 of Annex VI shall be used. The purity of\nrelevant input materials shall be determined by means of best industry practice. The derived\nvalues shall be adjusted in accordance with the moisture and gangue content of the applied\ncarbonate materials."]
[1100,"Facteurs d’émission spécifiques des installations","Installation-specific emission factors"]
[1101,"L'exploitant utilise les facteurs d'émission par technique figurant dans le tableau 1 de la section 8 de l'annexe IV.","The operator shall use technology-specific emission factors from Table 1 of section 8 of Annex IV."]
[1102,"L'exploitant utilise les facteurs d'émission spécifiques par installation établis pour le CF4 et le C2F6 au moyen de mesures in situ continues ou intermittentes. L'exploitant détermine ces facteurs d'émission sur la base de la version la plus récente des indications concernant le niveau 3 figurant à la section 4.4.2.4 des lignes directrices 2006 du GIEC. L'exploitant détermine chaque facteur d'émission avec une incertitude maximale de + 15 %.","The operator shall use installation-specific emission factors for CF4 and C2F6\nestablished through continuous or intermittent field measurements. For the determination of\nthose emission factors the operator shall use the most recent version of the guidance\nmentioned under Tier 3 of section 4.4.2.4 of the 2006 IPCC Guidelines. The operator shall\ndetermine each emission factor with a maximum uncertainty of ±15%."]
[1103,"L'exploitant applique les facteurs d'émission par technique figurant dans le tableau 2 de la section 8 de l'annexe IV.","The operator shall apply technology-specific emission factors from Table 2 of section 8 of Annex IV\n"]
[1104,"L'exploitant utilise les facteurs d'émission spécifiques par installation établis pour le CF4 [(kg CF4 / t Al) / (mV)] et le C2F6 [t C2F6/ t CF4] au moyen de mesures in situ continues ou intermittentes. L'exploitant détermine ces facteurs d'émission sur la base de la version la plus récente des indications concernant le niveau 3 figurant à la section 4.4.2.4 des lignes directrices 2006 du GIEC. L'exploitant détermine chaque facteur d'émission avec une incertitude maximale de + 15 %.","The operator shall use installation-specific emission factors for CF4 [(kg CF4 / t Al ) /\n(mV)] and C2F6 [t C2F6/ t CF4] established through continuous or intermittent field\nmeasurements. For the determination of those emission factors, the operator shall use the\nmost recent version of the guidance mentioned under Tier 3 of section 4.4.2.4 of the 2006\nIPCC Guidelines. The operator shall determine the emission factors with a maximum\nuncertainty of ±15% each."]
[1105,"Analyses de laboratoire et valeurs stœchiométriques","Laboratory analyses & stoichiometric values"]
[1106,"La quantité de carbonates à prendre en considération contenue dans chaque matière entrante est déterminée conformément aux dispositions des articles 32 à 35. Les rapports stœchiométriques indiqués à la section 2 de l'annexe VI sont utilisés pour convertir les données relatives à la composition en facteurs d'émission.","The determination of the amount of relevant carbonates in each relevant input\nmaterial shall be carried out according Articles 32 to 35. Stoichiometric ratios as listed in\nsection 2 of Annex VI shall be used to convert composition data into emission factors."]
[1107,"PCI","NCV"]
[1108,"Données d’achat (le cas échéant)","Purchasing records (if applicable)"]
[1109,"Niveau 2a: L'exploitant applique les facteurs d'émission spécifiques par pays pour chaque combustible, conformément à l'article 31, paragraphe 1, point b) ou c).","Tier 2a: The operator shall apply country specific factors for the respective fuel in\naccordance with points (b) or (c) of Article 31(1)."]
[1110,"Niveau 2b: Pour les combustibles marchands, on utilise le pouvoir calorifique inférieur déterminé d'après les données d'achat communiquées par le fournisseur, à condition que cette détermination ait été réalisée conformément aux normes nationales ou internationales reconnues.","Tier 2b: For commercially traded fuels the net calorific value as derived from the purchasing\nrecords for the respective fuel provided by the fuel supplier shall be used provided it has been\nderived based on accepted national or international standards."]
[1111,"L'exploitant détermine le pouvoir calorifique inférieur conformément aux dispositions des articles 32 à 35.","The operator shall determine the net calorific value in accordance with Article 32 to\n35."]
[1112,"Teneur en carbone","Carbon Content"]
[1113,"L'exploitant applique une des options suivantes:\na) la teneur en carbone découlant des facteurs standard figurant à la section 1 et à la section 2 de l'annexe VI;\nb) d’autres constantes conformément à l’article 31, paragraphe 1, point d) ou e),\nsi aucune valeur applicable ne figure à l'annexe VI, section 1 et 2.","The operator shall apply one of the following:\n(a) the carbon content derived from standard factors listed in Annex VI sections 1\nand 2;\n(b) other constant values in accordance with points (d) or (e) of Article 31(1),\nwhere no applicable value is contained in Annex VI sections 1 and 2."]
[1114,"Niveau 2a: L'exploitant détermine la teneur en carbone à partir des facteurs d'émission spécifiques par pays pour le combustible ou la matière correspondants, conformément à l'article 31, paragraphe 1, point b) ou c).","Tier 2a: The operator shall derive the carbon content from country specific emission factors\nfor the respective fuel or material in accordance with points (b) or (c) of Article 31(1)."]
[1115,"Niveau 2b: L'exploitant détermine la teneur en carbone à partir du facteur d'émission du combustible en utilisant une des variables représentatives ci-après, en association avec une corrélation empirique établie au moins une fois par an conformément aux articles 32 à 35:\na) mesure de la densité de certaines huiles ou de certains gaz, notamment ceux couramment utilisés dans l'industrie du raffinage ou la sidérurgie;\nb) pouvoir calorifique inférieur de certains types de charbons.","Tier 2b: The operator shall derive the carbon content from emission factors for the fuel based\non one of the following established proxies in combination with an empirical correlation as\ndetermined at least once per year in accordance with Articles 32 to 35:\n(a) density measurement of specific oils or gases common, for example, to the\nrefinery or steel industry;\n(b) net calorific value for specific coals types."]
[1116,"L'exploitant détermine la teneur en carbone conformément aux dispositions pertinentes des articles 32 à 35.","The operator shall determine the carbon content in accordance with the relevant\nprovisions of Articles 32 to 35."]
[1117,"Teneur en biomasse ","Biomass Content"]
[1118,"L'exploitant applique une des valeurs publiées conformément à l'article 39, paragraphe 2, premier alinéa, ou une valeur déterminée conformément à l'article 39, paragraphe 2, deuxième alinéa, ou à l'article 39, paragraphe 3. ","The operator shall apply a value from those published in accordance with the first\nsubparagraph of Article 39(2) or a value determined in accordance with the second\nsubparagraph of Article 39(2) or Article 39(3)."]
[1119,"L'exploitant détermine les facteurs spécifiques conformément aux dispositions de l'article 39, paragraphe 1.","The operator shall determine specific factors in accordance with Article 39(1)."]
[1120,"L'exploitant applique un facteur d'oxydation égal à 1.","The operator shall apply an oxidation factor of 1."]
[1121,"L'exploitant applique des facteurs d'oxydation pour chaque combustible conformément à l'article 31, paragraphe 1, point b) ou c).","The operator shall apply oxidation factors for the respective fuel in accordance with\npoints (b) or (c) of Article 31(1)."]
[1122,"Pour les combustibles, l'exploitant calcule des facteurs spécifiques des différentes activités en se fondant sur la teneur en carbone des cendres, des effluents, des autres rejets et sous-produits, ainsi que sur les autres formes gazeuses incomplètement oxydées de carbone émises, à l'exception du monoxyde de carbone. La composition est déterminée conformément aux dispositions des articles 32 à 35.","For fuels, the operator shall derive activity-specific factors based on the relevant carbon contents of ashes, effluents and other wastes and by-products, and other relevant incompletely oxidised gaseous forms of carbon emitted except CO. Composition data shall be\ndetermined in accordance with Article 32 to 35."]
[1123," Remarque: renvoie à la section 4 de l’annexe II mais aucun carbonate n’est mentionné nulle part !","Anm.: refers to section 4 of Annex II but no carbonates mentioned anywhere!"]
[1124,"Le facteur de conversion est calculé conformément aux meilleures pratiques publiées par l'industrie.","The conversion factor shall be calculated applying best industry practice."]
[1125,"Remarque: niveau minimum sans objet mais niveau 1 applicable ??","Anm.: mimimum tier n.a. but tier 1 applicable??"]
[1126,"Valeur par défaut du facteur de conversion =1","Default value CF=1"]
[1127,"Un facteur de conversion égal à 1 est utilisé.","A conversion factor of 1 shall be used."]
[1128,"Les carbonates et les autres substances carbonées quittant le procédé sont pris en compte au moyen d'un facteur de conversion dont la valeur est comprise entre 0 et 1. L'exploitant peut considérer que la conversion est complète pour une ou plusieurs matières entrantes, et imputer les matières et autres substances carbonées non converties aux matières entrantes restantes. Les autres paramètres chimiques pertinents des produits sont déterminés conformément aux dispositions des articles 32 à 35.","Carbonates and other carbon leaving the process shall be considered by means of a conversion factor with a value between 0 and 1. The operator may assume complete\nconversion for one or several inputs and attribute unconverted materials or other carbon to the\nremaining inputs. The additional determination of relevant chemical parameters of the\nproducts shall be carried out in accordance with Articles 32 to 35."]
[1129,"La quantité de composés métalliques autres que des carbonates contenue dans les matières premières, y compris la poussière de retour d'air ou les cendres volantes ou d'autres matières déjà calcinées, est prise en compte au moyen de facteurs de conversion dont la valeur est comprise entre 0 et 1, la valeur 1 correspondant à une conversion totale des carbonates contenus dans les matières premières en oxydes. Les autres paramètres chimiques pertinents des matières entrantes sont déterminés conformément aux dispositions des articles 32 à 35.","The amount of non-carbonate compounds of the relevant metals in the raw materials,\nincluding return dust or fly ash or other already calcined materials, shall be reflected by\nmeans of conversion factors with a value between 0 and 1 with a value of 1 corresponding to\na full conversion of raw material carbonates into oxides. The additional determination of\nrelevant chemical parameters of the process inputs shall be carried out in accordance with\nArticles 32 to 35."]
[1130,"Mesure","Measurement"]
[1131,"± 10,0%","± 10,0%"]
[1132,"Niveaux","Tiers"]
[1133,"Calcul – niveaux applicables","Calculation - applicable tiers"]
[1134,"Petit émetteur","Small emitter"]
[1135,"Catégorie","Category"]
[1136,"Cat. de flux","source stream cat."]
[1137,"Message","Message"]
[1138,"Article 47,paragraphe 6, Installation à faible niveau d’émission (petit émetteur): pour tous les flux, l’exploitant peut appliquer au minimum le niveau 1 pour déterminer le niveau d’activité et les facteurs de calcul, à moins qu’un niveau de précision plus élevé puisse être obtenu sans effort supplémentaire de sa part, sans avoir à démontrer que l’application de niveaux plus élevés n'est pas techniquement possible ou risque d'entraîner des coûts excessifs.","Art. 47(6) Installation with low emissions (small emitter): for all source streams tier 1 may be used as a minimum for activity data and calculation factors, unless higher accuracy is achievable without additional effort for the operator, without providing evidence that applying higher tiers is technically not feasible or would incur unreasonable costs."]
[1139,"Article 26, paragraphe 1: Les niveaux minimaux affichés ci-dessous sont applicables au minimum. \nVous pouvez toutefois descendre jusqu'à deux niveaux en dessous (le niveau 1 étant un minimum) si vous parvenez à démontrer de manière concluante à l’autorité compétente que le niveau prescrit conformément au premier alinéa n’est pas techniquement réalisable ou risque d’entraîner des coûts excessifs. ","Art. 26(1): The minimum tiers displayed below shall at least apply. \nHowever, you may apply a tier up to two levels lower, with a minimum of tier 1, where you can show to the satisfaction of the competent authority that the tier required in accordance with the first subparagraph is technically not feasible or incurs unreasonable costs."]
[1140,"Article 26, paragraphe 2: Flux mineurs Pour les données d'activité et pour chaque facteur de calcul, le niveau applicable est le niveau le plus élevé techniquement réalisable et n'entraînant pas de coût excessif, et au minimum le niveau 1.","Art. 26(2) Minor source stream: For activity data and each calculation factor, the highest tier which is technically feasible and does not incur unreasonable costs, with a minimum of tier 1, shall apply."]
[1141,"Article 26, paragraphe 3: Flux de minimis Les données d’activité et chaque facteur de calcul peuvent être déterminés au moyen d’estimations prudentes plutôt que par une méthode fondée sur des niveaux, à moins qu’il soit possible d’appliquer un niveau donné sans effort supplémentaire.","Art. 26(3) De-minimis source stream: Activity data and each calculation factor may be determined by using conservative estimations instead of using tiers, unless a defined tier is achievable without additional effort."]
[1142,"Article 26, paragraphe 1: Les niveaux minimaux affichés ci-dessous sont applicables au minimum.\nVous pouvez toutefois appliquer un niveau immédiatement inférieur (le niveau 1 étant un minimum) si vous parvenez à démontrer de manière concluante à l’autorité compétente que le niveau prescrit conformément au premier alinéa n’est pas techniquement réalisable ou risque d’entraîner des coûts excessifs. ","Art. 26(1): The minimum tiers displayed below shall at least apply.\nHowever, you may apply a tier one level lower, with a minimum of tier 1, where you can show to the satisfaction of the competent authority that the tier required in accordance with the first subparagraph is technically not feasible or incurs unreasonable costs."]
[1143,"Mesure – niveaux applicables","Measurement - applicable tiers"]
[1144,"Cat. de source d’émission","Emission source cat."]
[1145,"Article 41: Le niveau à appliquer est au minimum un niveau immédiatement inférieur au niveau affiché ci-dessous.\nVous ne pouvez appliquer un niveau encore plus bas (le niveau 1 étant un minimum) que si vous parvenez à démontrer de manière concluante à l'autorité compétente que l'application du niveau requis, de même que l'application d'une méthode de calcul avec les niveaux requis à l'article 26, n'est pas techniquement réalisable ou risque d'entraîner des coûts excessifs.","Article 41: One tier lower than the tier displayed below shall apply as a minimum.\nOnly where you can demonstrate to the satisfaction of the competent authority that application of the tier required is technically not feasible or incurs unreasonable costs, and application of a calculation methodology using the tier levels required by Article 26 is technically not feasible or incurs unreasonable costs, a next lower tier may be used, with a minimum of tier 1."]
[1146,"Le présent modèle de plan de surveillance reflète le point de vue des services de la Commission au moment de sa publication. ","This monitoring plan template represents the views of the Commission services at the time of publication. "]
[1147,"Il s’agit de la version finale du modèle de plan de surveillance destiné aux installations, telle qu’elle a été approuvée par le comité des changements climatiques lors de sa réunion du 7 juin 2012.","This is the final version of the monitoring plan template for installations, as endorsed by the Climate Change Committee in its meeting 7 June 2012."]
[1148,"Justification si le niveau requis n’est pas appliqué:","Justification if required tier is not applied:"]
[1149,"Further procedure added by the operator","Further procedure added by the operator"]
[1500,"NEW for Phase 4 (Update 2020)","NEW for Phase 4 (Update 2020)"]
[1501,"Autres procédures","Further procedures"]
[1502,"M. Accounting (Comptabilité)","M. Accounting"]
[1503,"https://eur-lex.europa.eu/eli/dir/2003/87/2018-04-08","https://eur-lex.europa.eu/eli/dir/2003/87/2018-04-08"]
[1504,"Le règlement relatif à la surveillance et à la déclaration [Règlement (UE) nº 2018/2066 de la Commission, tel que modifié, ci-après «MRR» (Monitoring and Reporting Regulation)] définit d’autres exigences applicables à la surveillance et à la déclaration. Le MRR peut être téléchargé à partir de l’adresse suivante:","The Monitoring and Reporting Regulation (Commission Regulation (EU) No 2018/2066, as amended, hereinafter the \"MRR\"), defines further requirements for monitoring and reporting. The MRR can be downloaded from:"]
[1505,"https://eur-lex.europa.eu/eli/reg_impl/2018/2066/oj","https://eur-lex.europa.eu/eli/reg_impl/2018/2066/oj"]
[1506,"Il s’agit de la version finale du modèle de plan de surveillance destiné aux installations pour la phase 4 du SEQE de l’UE, telle qu’elle a été approuvée par le comité des changements climatiques par procédure écrite en novembre 2020.","This is the final version of the monitoring plan template for installations for phase 4 of the EU ETS, as ensorsed by the Climate Change Committee by written procedure in November 2020."]
[1507,"https://ec.europa.eu/clima/policies/ets/monitoring_en#tab-0-1","https://ec.europa.eu/clima/policies/ets/monitoring_en#tab-0-1"]
[1508,"Il est recommandé de consulter le document «Quick guide for operators of stationary installations» et le document d’orientation «Guidance Document 1» avant de commencer.","It is recommended to start with the \"Quick guide for operators of stationary installations\" and \"Guidance Document 1\""]
[1509,"Cette feuille sert à déterminer la version du plan de surveillance. Chaque version du plan de surveillance doit disposer d’une date de référence et d’un numéro de version unique, qui ne doit pas correspondre à un numéro déjà attribué pour des plans de phases précédentes.","This sheet is used to identify the current version of the monitoring plan. Each version of the monitoring plan must have a unique version number that does not coincide with previous phase plans, and a reference date."]
[1510,"Dans la colonne «date d'application», la date à partir de laquelle la méthode de surveillance décrite dans le plan s’applique, le cas échéant.","In the \"date of application\" column, the date as of which the monitoring methodology as described in the plan applies, if applicable."]
[1511,"Date d'application","Date of application"]
[1512,"Puissance calorifique de combustion en MW(th) (si capacité exprimée en tonnes)","Rated thermal input in MW(th) (if capacity expressed in tonnes)"]
[1513,"Émissions estimées au point d) ou e) fondées sur des estimations prudentes?","Estimated emissions under d) or e) based on conservative estimates?"]
[1514,"Si la réponse que vous avez donnée quant au statut d’installation à faible niveau d’émission est en contradiction avec la valeur que vous avez indiquée au point d) ou si la valeur indiquée au point d) n’est pas fondée sur les émissions vérifiées, mais est une estimation prudente, veuillez sélectionner «VRAI» et fournir une brève justification ci-dessous.","If your input regarding being an installation with low emissions contradicts your entry in point (d), or if the figure under point (d) is not based on verified emissions, but on a conservative estimate, please select \"TRUE\" and provide a short justification below."]
[1515,"En ce qui concerne les émissions de procédés, veuillez indiquer précisément, le cas échéant, si le calcul inclut le carbone inorganique (carbonates), le carbone organique, ou les deux, conformément à la section 4 de l’annexe II du MRR.","Where process emissions are relevant, please clearly describe whether the calculation includes inorganic carbon (carbonates), organic carbon, or both, pursuant to section of 4 of Annex II of the MRR."]
[1516,"Description de la procédure utilisée pour évaluer la conformité des flux de biomasse aux dispositions de l’article 38, paragraphe 5, le cas échéant.","Description of the procedure used to assess if biomass source streams comply with Article 38(5), if applicable."]
[1517,"Cette procédure n'est pertinente que si la biomasse est soumise aux critères de durabilité et de réduction des GES définis dans la directive relative à la promotion de l’utilisation de l’énergie produite à partir de sources renouvelables (2018/2001).","This procedure is only relevant for biomass which is subject to the applicable sustainability and GHG savings criteria in the Renewable Energy Directive (2018/2001)."]
[1518,"Description de la procédure utilisée pour déterminer les quantités de biogaz sur la base des données d’achat conformément à l’article 39, paragraphe 4, le cas échéant.","Description of the procedure used to determine biogas quantities based on purchase records in accordance with Article 39(4), if applicable."]
[1519,"Cette procédure n'est pertinente que si l’exploitant souhaite déclarer l’utilisation de biogaz fourni par un réseau de gaz (naturel).","This procedure is only relevant where the operator wants to claim the use of biogas received from a (natural) gas grid."]
[1520,"Pour de plus amples indications, veuillez consulter les articles 28 et 29 du MRR et le document d’orientation «Guidance Document 4» et utiliser l’outil «Tool for uncertainty assessment», destiné à l’évaluation de l’incertitude.","For further guidance please consult Articles 28 and 29 of the MRR and Guidance Document 4 and use the \"Tool for uncertainty assessment\"."]
[1521,"Valeurs par défaut de type I (niveau 1):","Type I default values (tier 1):"]
[1522,"Les valeurs par défaut de type I sont fondées sur l’une des méthodes suivantes:","Type I default values include either of the following methods:"]
[1523,"utilisation des facteurs standard énumérés à l’annexe VI (en principe les valeurs du GIEC); ou ","Use standard factors listed in Annex VI (i.e. in principle IPCC values), or "]
[1524,"en l'absence de facteurs standard, utilisation d’autres constantes conformément à l’article 31, paragraphe 1, point e), par exemple des résultats d’analyses effectuées antérieurement mais toujours valables.","Use other constant values in accordance with point (e) of Article 31(1) where such standard factors are not available, i.e. analyses carried out in the past but still valid."]
[1525,"Valeurs par défaut de type II (niveau 2):","Type II default values (tier 2):"]
[1526,"Les valeurs par défaut de type II sont fondées sur l’une des méthodes suivantes, considérées comme équivalentes:","Type II default values include either of the following methods, which are considered equivalent:"]
[1527,"utilisation des facteurs d’émission spécifiques par pays conformément à l’article 31, paragraphe 1, point b), à savoir des valeurs utilisées pour l’inventaire national de GES; ou ","Use country specific emission factors in accordance with point (b) of Article 31(1), i.e. values used for the national GHG inventory, or "]
[1528,"utilisation d’autres valeurs publiées par l’AC pour les types de combustibles plus spécifiques conformément à l’article 31, paragraphe 1, point c), ou d’autres valeurs de la littérature approuvées par l’AC; ou ","Use other values published by the CA for more disaggregated fuel types in accordance with point (c) of Article 31(1), or other literature values which are agreed with the CA, or "]
[1529,"utilisation d’autres constantes conformément à l’article 31, paragraphe 1, point d), à savoir des valeurs garanties par le fournisseur d’un combustible ou d’une matière ayant une teneur en carbone qui n’excède pas 1 %.","Use other constant values in accordance with point (d) of Article 31(1), i.e. values guaranteed by the supplier with a carbon content within 1%."]
[1530,"Variables représentatives (niveau 2b): ","Established proxies (tier 2b): "]
[1531,"Données d’achat (niveau 2b): ","Purchasing records (tier 2b): "]
[1532,"Analyses de laboratoire (niveau le plus élevé): ","Laboratory analyses (highest tier): "]
[1533,"Dans ce cas, les dispositions des articles 32 à 35 relatives aux analyses sont intégralement applicables, y compris l’utilisation de «variables représentatives», le cas échéant et lorsque l’incertitude de la corrélation empirique n’excède pas un tiers de la valeur d’incertitude associée au niveau applicable pour les données d’activité. ","In this case the requirements of Article 32 to 35 on analyses are fully applicable, including the use of the 'established proxies', if applicable and where the uncertainty of the empirical correlation does not exceed 1/3 of the uncertainty value associated with the applicable tier for activity data. "]
[1534,"Pour les substances chimiques pures, l’autorité compétente peut accepter que la teneur stœchiométrique en carbone soit considérée comme respectant un niveau qui nécessiterait normalement des analyses de laboratoire, si l’exploitant démontre que de telles analyses risqueraient d’entraîner des coûts excessifs et que la valeur stœchiométrique ne conduirait pas à une sous-estimation des émissions.","For pure chemical substances, the competent authority can accept the use of the stoichiometric carbon content as meeting the tier that requires laboratory analysis, provided that the operator demonstrates that such analyses would lead to unreasonable costs and the stoichiometric value will not lead to under-estimation of the emissions."]
[1535,"Fraction issue de la biomasse de type I (niveau 1):","Type I biomass fraction (tier 1):"]
[1536,"Une des méthodes suivantes, considérées comme équivalentes, doit être appliquée:","One of the following methods has to be applied, which are considered equivalent:"]
[1537,"utilisation de valeurs parmi celles publiées par l’autorité compétente ou par la Commission pour ce type de combustible ou de matière; ou","Use values from those published by the competent authority or the Commission for this type of fuel or material, or"]
[1538,"utilisation de valeurs conformément à l’article 31, paragraphe 1, à savoir une «valeur par défaut de type I»;","Use values in accordance with Article 31(1), i.e. a \"Type I default value\"."]
[1539,"l’exploitant peut aussi partir du principe que la fraction fossile représente 100 %. On considère alors qu’il ne s'agit pas d'une méthode par niveaux, et une valeur par défaut de 0 % est appliquée pour la fraction issue de la biomasse; ","Alternatively, the operator can always assume a fossil fraction of 100%. This is considered a \"No tier\" methodology and a default value of 0% biomass fraction is applied. "]
[1540,"application de l’article 39, paragraphes 3 et 4 dans le cas de réseaux de gaz naturel dans lesquels est injecté du biogaz, c'est-à-dire lorsque l’autorité compétente permet la détermination de la fraction issue de la biomasse à l’aide des données d’achat de biogaz d’une valeur énergétique équivalente.","Application of Articles 39(3) and 39(4) in case of natural gas grids, into which biogas is injected, i.e. where the competent authority allows the biomass fraction to be determined using purchase records of biogas of equivalent energy content."]
[1541,"Fraction issue de la biomasse de type II (niveau 2):","Type II biomass fraction (tier 2):"]
[1542,"La fraction issue de la biomasse est déterminée selon une méthode d’estimation conformément à l’article 39, paragraphe 2, deuxième alinéa, soumise à l’autorité compétente pour approbation, en tenant compte des éléments suivants:","The biomass fraction is determined based on an estimation method in accordance with the second subparagraph of Article 39(2), submitted to the competent authority for approval, taking into account the following:"]
[1543,"pour les combustibles ou les matières issus d’un procédé de production dont les flux entrants sont connus et traçables, l’exploitant peut fonder cette estimation sur un bilan massique du carbone d’origine fossile et du carbone issu de la biomasse à l’entrée et à la sortie du procédé;","for fuels or materials originating from a production process with defined and traceable input streams, the operator may base the estimation on a mass balance of fossil and biomass carbon entering and leaving the process."]
[1544,"toute ligne directrice sur d’autres méthodes d’estimation applicables publiées par la Commission <point développé dans le document d’orientation «Guidance document 3»>.","any guidelines on further applicable estimation methods published by the Commission <to be developed in Guidance Document 3>."]
[1545,"Analyse de la fraction issue de la biomasse (niveau 3):","Analyse biomass fraction (tier 3):"]
[1546,"Dans ce cas, des analyses de laboratoire doivent être effectuées, conformément à l’article 39, paragraphe 2, premier alinéa; et aux articles 32 à 35.","In this case laboratory analyses are to be carried out, in accordance with the first sub-paragraph of Article 39 (2) and Articles 32 to 35."]
[1547,"Remarques et justification lorsque les niveaux requis ne sont pas appliqués:","Comments and justification if required tiers are not applied:"]
[1548,"Veuillez faire part de vos remarques éventuelles ci-dessous. Des explications peuvent s’avérer nécessaires, par exemple pour la méthode d’estimation de la biomasse, la méthode des variables représentatives (corrélation), l’application de l’article 31, paragraphe 4, de l’article 37, paragraphe 2, etc.","Please provide any relevant comments below. Explanations may in particular be required for e.g. the biomass estimation method, the proxy method (correlation), application of Article 31(4), Article 37(2), etc."]
[1549,"Il convient en outre de fournir ici les informations requises pour la surveillance du CO2 et du N2O transférés ainsi que du CO2 intrinsèque.","Furthermore some of the information required for the monitoring of transferred CO2 and N2O, as well as inherent CO2 is to be reported here."]
[1550,"g CO2/Nm³","g CO2/Nm³"]
[1551,"Remarques et justification lorsque le niveau requis n’est pas appliqué:","Comments and justification if required tier is not applied:"]
[1552,"Si le CO2 issu de la biomasse est inclus dans la mesure des émissions, veuillez fournir des précisions sur la procédure écrite détaillant la méthode à appliquer pour déterminer ce CO2 et le déduire des émissions mesurées de CO2, le cas échéant, conformément à l’article 43, paragraphe 4 et paragraphe 4, point a), du MRR.","Where CO2 stemming from biomass is included in the emissions measurement, please provide details about the written procedure detailing how the biomass CO2 is to be determined and subtracted from the measured CO2 emissions, where applicable, in accordance with Article 43(4) and 43(4a) of the MRR."]
[1553,"J. Determination of transferred or inherent CO2 and transferred N2 (Détermination du CO2 transféré ou intrinsèque et du N2O transféré)","J. Determination of transferred or inherent CO2 and transferred N2O"]
[1554,"Détermination du CO2 transféré ou intrinsèque et du N2O transféré","Determination of inherent and transferred CO2 and N2O"]
[1555,"Remarque: cette rubrique doit être remplie en cas de transfert de CO2 intrinsèque en tant que composant d’un flux conformément à l’article 48 du MRR, ou de transfert de CO2 ou de N2O conformément aux articles 49 et 50 respectivement du MRR.","Note: this section is to be completed where transfer of inherent CO2 as part of a source stream in accordance with Article 48 of the MRR or transfer of CO2 or N2O in accordance with Article 49 and 50, respectively, of the MRR are carried out."]
[1556,"Veuillez fournir une description détaillée de la méthode de surveillance utilisée pour déterminer le CO2 intrinsèque ou transféré, ou le N2O transféré. ","Please provide a detailed description of the monitoring methodology used to determine inherent or transferred CO2 or N2O. "]
[1557,"Veuillez décrire de façon concise dans la zone de texte ci-dessous la méthode de surveillance utilisée, formules comprises, pour déterminer les émissions annuelles de CO2, de N2O ou de CO2(e) de votre installation.","Please provide a concise description of the monitoring approach, including formulae, used to determine your annual CO2, N2O or CO2(e) emissions in the text box below."]
[1558,"La description doit couvrir en particulier les quantités de CO2 et de N2O à ajouter du fait de la réception de CO2 et de N2O transférés, ou les quantités de CO2(e) à déduire du fait du transfert en dehors de l’installation, suivant le cas. Veuillez vous assurer que ce calcul est conforme aux dispositions des articles 48, 49 et 50 du MRR.","This should cover in particular the amounts of CO2 and N2O to be added due to receiving transferred CO2 and N2O, or for subtracting CO2(e) due to transfer out of the installation, as appropriate. Please make sure that this calculation is in line with Articles 48, 49 and 50 of the MRR."]
[1559,"Veuillez indiquer ici, pour chaque installation (ou autre entité) qui vous transfère ou à laquelle vous transférez du CO2(e) intrinsèque ou transféré, les informations suivantes:","Please give here for each installation (or other entity) from which you receive or to which you transfer inherent or transferred CO2(e) the following information:"]
[1560,"Indiquez ici le nom de l’installation ou de l’entité hors SEQE à partir de laquelle ou vers laquelle le CO2(e) est transféré. Dans la mesure du possible, utilisez le nom utilisé par l’autorité compétente et dans le registre.","Give here the name of the installation or non-ETS entity, from which or to which CO2(e) is transferred. To the extent feasible use the same name as the competent authority and the Registry use."]
[1561,"Choisissez dans la liste déroulante ci-dessous un transfert en provenance ou à destination d’une installation ou d’une entité hors SEQE et indiquez s’il s’agit de CO2 intrinsèque (article 48), de CO2 transféré (article 49) ou de N2O transféré (article 50) au sens du MRR.","Select here from the drop-down list whether it is a transfer from or to an installation or non-ETS entity, and whether this deals with inherent CO2 (Article 48) or transferred CO2 (Article 49) or N2O (Article 50) as defined by the MRR."]
[1562,"Informations concernant les pipelines utilisés pour le transport du CO2 et du N2O","Information relevant for pipeline systems used for transport of CO2 and N2O"]
[1563,"Conformément à l’annexe IV, rubrique 22.B du MRR, vous pouvez choisir une des deux méthodes suivantes: la méthode A consiste en un bilan massique (fondé sur la mesure) de tout le CO2 et le N2O émis, entrant ou sortant du réseau, tandis que la méthode B consiste à déterminer les émissions fugitives et les émissions de purge, ainsi que les fuites et les émissions propres aux installations.","In accordance with section 22.B of Annex IV of the MRR, you may choose either of two methods. Method A involves a measurement based mass balance of all CO2 and N2O emitted, entering and leaving the network, while Method B is based on determining fugitive and vented emissions, as well as leakages and installation based emissions."]
[1564,"Dans le cas des réseaux de transport, veuillez détailler la procédure écrite garantissant que le CO2 n’est transféré que vers des installations disposant d’une autorisation valable d’émettre des gaz à effet de serre ou dans lesquelles toute émission de CO2 ou de N2O est effectivement surveillée et prise en compte conformément aux articles 49 et 50.","For transport networks, please provide details of the written procedure for ensuring that CO2(e) is transferred only to installations which have a valid greenhouse gas emission permit, or where any emitted CO2 or N2O is effectively monitored and accounted for in accordance with Articles 49 and 50."]
[1565,"Veuillez décrire les responsabilités en matière de surveillance et de déclaration des émissions de l’installation, conformément à l’article 62 du MRR.","Please identify the responsibilities for monitoring and reporting emissions from the installation, in accordance with Article 62 of the MRR."]
[1566,"Veuillez détailler la procédure utilisée pour gérer l’attribution des responsabilités en matière de surveillance et de déclaration dans l’installation, et pour gérer les compétences du personnel responsable, conformément à l’article 59, paragraphe 3, point c), du MRR.","Please provide details about the procedure used for managing the assignment of responsibilities for monitoring and reporting within the installation and for managing the competencies of responsible personnel, in accordance with Article 59(3)(c) of the MRR."]
[1567,"Rapports relatifs aux améliorations apportées conformément à l’article 69, paragraphe 1, du MRR.","Improvement reports pursuant to Article 69(1) of the MRR"]
[1568,"Niveau requis non respecté ou application d’une méthode alternative?","Any required tier not met or fall-back applied?"]
[1569,"Sélectionnez «VRAI» s’il existe un paramètre de flux ou de sources d’émission, majeurs ou mineurs, pour lequel les niveaux requis ne sont pas respectés ou une méthode alternative est appliquée (article 22). Le cas échéant, l’exploitant doit régulièrement soumettre des rapports relatifs aux améliorations apportées, conformément à l’article 69, paragraphe 1.","Select \"TRUE\" if for any parameter of a major or minor source stream or emission sources, either the required tiers are not met or a fall-back (Article 22) is applied. If this is the case, the operator has to submit improvement reports regularly, pursuant to Article 69(1)."]
[1570,"Veuillez noter que cette section n’exempte pas les exploitants de leur obligation de soumettre un rapport relatif aux améliorations apportées, conformément à l’article 69, paragraphe 4. ","Please note that this section does not exempt operators from the obligation to submit an improvement report pursuant to Article 69(4). "]
[1571,"Date limite prévue pour la remise du prochain rapport relatif aux améliorations apportées, conformément à l’article 69, paragraphe 1, le cas échéant","Deadline for the next improvement report pursuant to Article 69(1), if relevant"]
[1572,"Cette section n'est pertinente que si l’exploitant a sélectionné «VRAI» au point i. ci-dessus.","This section is only relevant if the operator selected \"TRUE\" under point i. above."]
[1573,"Les rapports relatifs aux améliorations apportées doivent être transmis chaque année pour les installations de la catégorie C, tous les deux ans pour celles de la catégorie B et tous les quatre ans pour celles de la catégorie A. ","The deadline for the improvement reports is every year for category C, every two years for category B and four years for category A installations. "]
[1574,"Toutefois, l’AC peut prolonger le délai et le porter à trois, quatre ou cinq ans, respectivement, si l’exploitant peut démontrer à l’AC que les motifs expliquant le caractère excessif des coûts ou justifiant que des améliorations ne sont pas techniquement réalisables resteront valables plus longtemps.","However, the CA can extend that period to three, four, five years, respectively, if the operator can demonstrate to the CA that the reasons for unreasonable costs or for improvement measures being technically not feasible remain valid for a longer period of time.","; 'K_ManagementControl'!$E$78"]
[1575,"Veuillez fournir des précisions sur les procédures utilisées pour les activités de gestion du flux de données conformément à l’article 58 du MRR.","Please provide details about the procedures used to manage data flow activities in accordance with Article 58 of the MRR."]
[1576,"Veuillez fournir des précisions sur les procédures utilisées pour évaluer les risques inhérents et les risques de carence de contrôle conformément à l’article 59 du MRR.","Please provide details about the procedures used to assess inherent risks and control risks in accordance with Article 59 of the MRR."]
[1577,"Veuillez fournir des précisions sur les procédures utilisées pour l’assurance qualité de l’équipement de mesure, conformément aux articles 59 et 60 du MRR.","Please provide details about the procedures used to ensure quality assurance of measuring equipment in accordance with Article 59 and 60 of the MRR."]
[1578,"Veuillez fournir des précisions sur les procédures utilisées pour l’assurance qualité des systèmes informatiques utilisés pour les activités de gestion du flux de données, conformément aux articles 59 et 61 du MRR.","Please provide details about the procedures used to ensure quality assurance of information technology used for data flow activities in accordance with Article 59 and 61 of the MRR."]
[1579,"Veuillez fournir des précisions sur les procédures utilisées pour les analyses et la validation internes des données conformément aux articles 59 et 63 du MRR.","Please provide details about the procedures used to ensure regular internal reviews and validation of data in accordance with Articles 59 and 63 of the MRR."]
[1580,"Veuillez fournir des précisions sur les procédures utilisées pour effectuer les corrections et prendre les mesures correctives conformément aux articles 59 et 64 du MRR.","Please provide details about the procedures used to handle corrections and corrective actions in accordance with Articles 59 and 64 of the MRR."]
[1581,"Veuillez fournir des précisions sur les procédures utilisées pour contrôler les activités externalisées conformément aux articles 59 et 65 du MRR.","Please provide details about the procedures used to control outsourced processes in accordance with Articles 59 and 65 of the MRR."]
[1582,"Veuillez fournir des précisions sur les procédures utilisées pour combler les lacunes dans les données conformément à l’article 66 du MRR.","Please provide details about the procedures used to close any data gaps in accordance with Article 66 of the MRR."]
[1583,"La brève description doit indiquer comment les lacunes dans les données seront comblées au moyen d’une méthode appropriée d’estimation prudente permettant de déterminer des données de remplacement pour la période et le paramètre manquant correspondants.","The brief description should identify how data gaps will be closed by the use of an appropriate estimation method for determining conservative surrogate data for the respective time period and missing parameter."]
[1584,"Cette procédure n'est obligatoire que lorsque les données concernées sont manquantes, mais il est recommandé d’établir systématiquement une telle procédure afin d’assurer la conformité même en cas de lacunes dans les données.","This procedure is only mandatory where relevant data is missing, but it is recommended to establish such a procedure in any case to ensure compliance even when data gaps occur."]
[1585,"Veuillez indiquer dans l’encadré ci-dessous la référence du fichier/document contenant l’évaluation des risques.","Please reference the file/document containing the risk assessment in the box below."]
[1586,"Informations générales","General information"]
[1587,"Flux (sauf émissions de PFC)","Source streams (excl. PFC)"]
[1588,"Émissions de PFC","PFC Emissions"]
[1589,"CO2 et N2O transférés","Tranferred CO2 & N2O"]
[1590,"Transfert de N2O","N2O transfer"]
[1591,"Exportation de CO2 transféré (PCC)","Exporting transferred CO2 (PCC)"]
[1592,"Réception de N2O transféré","Receiving transferred N2O"]
[1593,"Exportation de N2O transféré","Exporting transferred N2O"]
[1594,"Juin","June"]
[1595,"Juillet","July"]
[1596,"Août","August"]
[1597,"Septembre","September"]
[1598,"Règlement relatif à la surveillance et à la déclaration des émissions, annexe VI","Monitoring and Reporting Regulation, Annex VI"]
[1599,"Inventaire national","National Inventory"]
[1600,"GJ/t","GJ/t"]
[1601,"GJ/1 000 Nm³","GJ/1000Nm³"]
[1602,"tCO2/TJ","tCO2/TJ"]
[1603,"tCO2/t","tCO2/t"]
[1604,"tCO2/1 000 Nm³","tCO2/1000Nm³"]
[1605,"Épuration (urée)","Scrubbing (urea)"]
[1606,"Quantité d’urée consommée [t]","Amount urea consumed [t]"]
[1607,"Procédé (méthode A): uniquement carbonates","Process (method A): carbonate only"]
[1608,"Matière entrante [t]","Process input [t]"]
[1609,"Procédé (méthode A): mélange (carbonates + autres que carbonates)","Process (method A): mixed (carbonate + non-carbonate)"]
[1610,"Procédé (méthode A): non issu de carbonate","Process (method A): non-carbonate"]
[1611,"Procédé (méthode B): production d’oxydes","Process (method B): oxide output"]
[1612,"0,2558 t CO2/t gypse","0.2558 t CO2/t gypsum"]
[1613,"0,7328 t CO2/t urée","0,7328 t CO2/t urea"]
[1614,"Fraction issue de la biomasse","Biomass fraction","; 'EUwideConstants'!$B$552"]
[1615,"Analyse de la fraction issue de la biomasse","Analyse biomass fraction"]
[1616,"Conversion des niveaux","Tier conversion","; 'EUwideConstants'!$B$792"]
[1617,"Installation à faible niveau d’émission/source d’émission majeure: vous pouvez appliquer le niveau 1, à moins qu’un niveau de précision plus élevé puisse être obtenu sans effort supplémentaire de la part de l’exploitant.","Installation with low emissions / major emission source: you may apply tier 1, unless higher accuracy is achievable without additional effort for the operator."]
[1618,"Installation à faible niveau d’émission/source d’émission mineure: vous pouvez appliquer le niveau 1, à moins qu’un niveau de précision plus élevé puisse être obtenu sans effort supplémentaire de la part de l’exploitant.","Installation with low emissions / minor emission source: you may apply tier 1, unless higher accuracy is achievable without additional effort for the operator."]
[1619,"Source d’émission majeure: le niveau minimal affiché ci-dessous s’applique. Vous pouvez toutefois appliquer un niveau immédiatement inférieur (le niveau 1 étant un minimum) si vous parvenez à démontrer de manière concluante à l’autorité compétente que le niveau prescrit conformément au premier alinéa n’est pas techniquement réalisable ou risque d’entraîner des coûts excessifs.","Major emission source: The minimum tier displayed below shall apply.\nHowever, you may apply a tier one level lower, with a minimum of tier 1, where you can show to the satisfaction of the competent authority that the tier required in accordance with the first subparagraph is technically not feasible or incurs unreasonable costs."]
[1620,"Source d’émission mineure: vous pouvez appliquer un niveau inférieur à celui indiqué ci-dessous, comme stipulé, le niveau 1 constituant un minimum, si vous pouvez démontrer que l’application de ce niveau n’est pas techniquement réalisable ou entraîne des coûts excessifs.","Minor emission source: You may apply a low apply a lower tier than the one shown below as required, with a minimum of tier 1, where you can demonstrate that applying that tier is technically not feasible or incurs unreasonable costs."]
[1621,"Veuillez fournir des précisions sur les procédures utilisées pour gérer l’archivage et la documentation conformément aux articles 59 et 67 du MRR.","Please provide details about the procedures used to manage record keeping and documentation in accordance with Articles 59 and 67 of the MRR."]
[1622,"Conformément à l’article 19, paragraphe 4, l’application d’un niveau inférieur peut être autorisée pour chaque source d’émission émettant moins de 5 000 tonnes de CO2(e) par an ou représentant moins de 10 % des émissions annuelles totales de l’installation, avec un maximum de 100 000 tonnes de CO2(e) par an, la valeur la plus élevée en valeur absolue étant retenue (source d’émission «mineure»).","Pursuant to Article 19(4) a lower tier requirement may be allowed for each emission source which emits less than 5 000 tonnes of CO2(e) per year, or which contributes less than 10% of the total annual emissions of the installation, up to a maximum of 100 000 to CO2(e) per year, whichever is higher in terms of absolute emissions (\"minor\" emission source)."]
[1623,"Incinération des déchets municipaux","Municipal waste incineration"]
[1624,"Déchets","Waste"]
[1625,"Identifiant unique de l'installation (comme dans les NIM)","Unique ID of the installation (e.g. as in NIMs):"]
[1626,"Il s'agit de la version finale du modèle de plan de surveillance des installations pour la phase 4 du SCEQE, tel qu'approuvé par le comité des changements climatiques par procédure écrite en novembre 2020, mis à jour le 30 novembre 2023 pour inclure les éléments pertinents pour inclure les incinérateurs de déchets municipaux.","This is the final version of the monitoring plan template for installations for phase 4 of the EU ETS, as ensorsed by the Climate Change Committee by written procedure in November 2020, updated on 30 November 2023 to include relevant elements to include municipal waste incinerators."]
[1627,"Combustibles solides, hors déchets","Solid fuels, excluding waste"]
[1628,"Combustion de combustibles dans des installations dont la puissance thermique nominale totale dépasse 20 MW (à l'exception des installations d'incinération de déchets dangereux ou municipaux)","Combustion of fuels in installations with a total rated thermal input exceeding 20 MW (except in installations for the incineration of hazardous or municipal waste)"]
[1629,"Raffinage d'huile minérale ou non minérale, lorsque des unités de combustion dont la puissance calorifique totale de combustion est supérieure à 20 MW sont exploitées.","Refining of mineral oil "]
[1630,"Production de coke","Production of coke"]
[1631,"Grillage ou frittage, y compris la pelletisation, de minerai métallique (y compris le minerai sulfuré)","Metal ore (including sulphide ore) roasting or sintering, including pelletisation"]
[1632,"Production de fer ou d'acier (fusion primaire ou secondaire) y compris la coulée continue, d'une capacité supérieure à 2,5 tonnes par heure","Production of iron or steel (primary or secondary fusion) including continuous casting, with a capacity exceeding 2,5 tonnes per hour"]
[1633,"Production ou transformation de métaux ferreux (y compris les ferroalliages) lorsque des unités de combustion dont la puissance thermique totale est supérieure à 20 MW sont exploitées. La transformation comprend, notamment, les laminoirs, les réchauffeurs, les fours de recuit, les forges, les fonderies, les unités de revêtement et les unités de décapage.","Production or processing of ferrous metals (including ferro-alloys) where combustion units with a total rated thermal input exceeding 20 MW are operated. Processing includes, inter alia, rolling mills, re-heaters, annealing furnaces, smitheries, foun"]
[1634,"Production d'aluminium primaire ou d'alumine","Production of primary aluminium"]
[1635,"Production d'aluminium secondaire lorsque des unités de combustion dont la puissance thermique totale de combustion est supérieure à 20 MW sont exploitées.","Production of secondary aluminium where combustion units with a total rated thermal input exceeding 20 MW are operated"]
[1636,"Production ou transformation de métaux non ferreux, y compris la production d'alliages, l'affinage, le moulage en fonderie, etc.,  lorsque des unités de combustion dont la puissance thermique totale de combustion (y compris les combustibles utilisés comme agents réducteurs) est supérieure à 20 MW sont exploitées","Production or processing of non-ferrous metals, including production of alloys, refining, foundry casting, etc., where combustion units with a total rated thermal input (including fuels used as reducing agents) exceeding 20 MW are operated"]
[1637,"Production de clinker (ciment) dans des fours rotatifs d'une capacité de production supérieure à 500 tonnes par jour ou dans d'autres fours d'une capacité de production supérieure à 50 tonnes par jour","Production of cement clinker in rotary kilns with a production capacity exceeding 500 tonnes per day or in other furnaces with a production capacity exceeding 50 tonnes per day "]
[1638,"Production de chaux, y compris la calcination de dolomite et de magnésite, dans des fours rotatifs ou dans d'autres fours d'une capacité de production supérieure à 50 tonnes par jour","Production of lime or calcination of dolomite or magnesite in rotary kilns or in other furnaces with a production capacity exceeding 50 tonnes per day "]
[1639,"Fabrication de verre, y compris de fibres de verre, avec une capacité de fusion supérieure à 20 tonnes par jour","Manufacture of glass including glass fibre with a melting capacity exceeding 20 tonnes per day "]
[1640,"Fabrication de produits céramiques par cuisson, notamment de tuiles, de briques, de briques réfractaires, de carrelages, de grès ou de porcelaines, avec une capacité de production supérieure à 75 tonnes par jour","Manufacture of ceramic products by firing, in particular roofing tiles, bricks, refractory bricks, tiles, stoneware or porcelain, with a production capacity exceeding 75 tonnes per day "]
[1641,"Fabrication de matériau isolant en laine minérale à partir de roche, de verre ou de laitier avec une capacité de fusion supérieure à 20 tonnes par jour","Manufacture of mineral wool insulation material using glass, rock or slag with a melting capacity exceeding 20 tonnes per day "]
[1642,"Séchage ou calcination de gypse ou production de plaques de plâtre et autres produits à base de gypse, avec une capacité de production de gypse calciné ou de gypse secondaire sec supérieure à 20 tonnes par jour","Drying or calcination of gypsum or production of plaster boards and other gypsum products, with a production capacity of calcined gypsum or dried secondary gypsum exceeding a total of 20 tonnes per day"]
[1643,"Production de pâte à papier à partir de bois ou d'autres matières fibreuses","Production of pulp from timber or other fibrous materials "]
[1644,"Production de papier ou de carton avec une capacité de production supérieure à 20 tonnes par jour","Production of paper or cardboard with a production capacity exceeding 20 tonnes per day "]
[1645,"Production de noir de carbone par carbonisation de substances organiques telles que les huiles, les goudrons, les craqueurs et résidus de distillation, avec une capacité de production supérieure à 50 tonnes par jour","Production of carbon black involving the carbonisation of organic substances such as oils, tars, cracker and distillation residues with a production capacity exceeding 50 tonnes per day"]
[1646,"Production d'acide nitrique","Production of nitric acid"]
[1647,"Production d'acide adipique","Production of adipic acid"]
[1648,"Production de glyoxal et d'acide glyoxylique","Production of glyoxal and glyoxylic acid"]
[1649,"Production d'ammoniac","Production of ammonia"]
[1650,"Production de produits chimiques organiques en vrac par craquage, reformage, oxydation partielle ou totale ou par d'autres procédés similaires, avec une capacité de production supérieure à 100 tonnes par jour","Production of bulk organic chemicals by cracking, reforming, partial or full oxidation or by similar processes, with a production capacity exceeding 100 tonnes per day "]
[1651,"Production d'hydrogène (H2) et de gaz de synthèse avec une capacité de production supérieure à 5 tonnes par jour","Production of hydrogen (H2) and synthesis gas with a production capacity exceeding 5 tonnes per day"]
[1652,"Production de carbonate de sodium (Na2CO3) et de bicarbonate de sodium (NaHCO3)","Production of soda ash (Na2CO3) and sodium bicarbonate (NaHCO3) "]
[1653,"Captage des gaz à effet de serre produits par les installations couvertes par la présente directive en vue de leur transport et de leur stockage géologique dans un site de stockage autorisé par la directive 2009/31/CE","Capture of greenhouse gases from installations covered by this Directive for the purpose of transport and geological storage in a storage site permitted under Directive 2009/31/EC"]
[1654,"Transport de gaz à effet de serre en vue de leur stockage géologique dans un site de stockage autorisé par la directive 2009/31/CE, à l'exclusion des émissions relevant d'une autre activité régie par la présente directive","Transport of greenhouse gases for geological storage in a storage site permitted under Directive 2009/31/EC, with the exclusion of those emissions covered by another activity under this Directive"]
[1655,"Stockage géologique des gaz à effet de serre dans un site de stockage autorisé par la directive 2009/31/CE","Geological storage of greenhouse gases in a storage site permitted under Directive 2009/31/EC"]
[1656,"Combustion de combustibles","Combustion of fuels"]
[1657,"Raffinage d'huile","Refining of oil "]
[1658,"Production de coke","Production of coke"]
[1659,"Grillage ou frittage de minerai métallique","Metal ore roasting or sintering"]
[1660,"Production de fer ou d'acier","Production of iron or steel"]
[1661,"Production ou transformation de métaux ferreux","Production or processing of ferrous metals"]
[1662,"Production d'aluminium primaire ou d'alumine","Production of primary aluminium"]
[1663,"Production d'aluminium secondaire","Production of secondary aluminium"]
[1664,"Production ou transformation de métaux non ferreux","Production or processing of non-ferrous metals"]
[1665,"Production de clinker","Production of cement clinker"]
[1666,"Production de chaux ou calcination de dolomite/magnésite","Production of lime, or calcination of dolomite/magnesite"]
[1667,"Fabrication de verre","Manufacture of glass"]
[1668,"Fabrication de produits céramiques","Manufacture of ceramics"]
[1669,"Fabrication de laine minérale","Manufacture of mineral wool"]
[1670,"Production ou transformation de plâtre ou de plaques de plâtre","Production or processing of gypsum or plasterboard"]
[1671,"Production de pâte à papier","Production of pulp"]
[1672,"Production de papier ou de carton","Production of paper or cardboard"]
[1673,"Production de noir de carbone","Production of carbon black"]
[1674,"Production d'acide nitrique","Production of nitric acid"]
[1675,"Production d'acide adipique","Production of adipic acid"]
[1676,"Production de glyoxal et d'acide glyoxylique","Production of glyoxal and glyoxylic acid"]
[1677,"Production d'ammoniac","Production of ammonia"]
[1678,"Production de produits chimiques en vrac","Production of bulk chemicals"]
[1679,"Production d'hydrogène et de gaz de synthèse","Production of hydrogen and synthesis gas"]
[1680,"Production de carbonate de sodium et de bicarbonate de sodium","Production of soda ash and sodium bicarbonate"]
[1681,"Captage des gaz à effet de serre au titre de la directive 2009/31/CE","Capture of greenhouse gases under Directive 2009/31/EC"]
[1682,"Transport de gaz à effet de serre au titre de la directive 2009/31/CE","Transport of greenhouse gases under Directive 2009/31/EC"]
[1683,"Stockage des gaz à effet de serre dans le cadre de la directive 2009/31/CE","Storage of greenhouse gases under Directive 2009/31/EC"]
[1684,"Il s'agit de la version mise à jour du modèle de plan de surveillance des installations, en date du 17 décembre 2024.","This is the updated version of the monitoring plan template for installations, as of 17 December 2024.","b_Guidelines and conditions'!$B$19"]
[1685,"Les États membres peuvent autoriser les exploitants et les exploitants d'aéronefs à utiliser des plans de surveillance standardisés ou simplifiés, sans préjudice de l'article 12, paragraphe 3. À cette fin, les États membres peuvent publier des modèles pour ces plans de surveillance, y compris la description des procédures de flux de données et de contrôle visées aux articles 58 et 59, sur la base des modèles et des lignes directrices publiés par la Commission.","Member States may allow operators and aircraft operators to use standardised or simplified monitoring plans, without prejudice to Article 12(3). \nFor that purpose, Member States may publish templates for those monitoring plans, including the description of data flow and control procedures referred to in Article 58 and Article 59, based on the templates and guidelines published by the Commission.","b_Guidelines and conditions'!$B$22"]
[1686,"Veuillez saisir ici les émissions annuelles moyennes de votre installation. Ces informations sont nécessaires à la catégorisation de l'installation conformément à l'article 19 du MRR. Utilisez les émissions annuelles moyennes vérifiées de la période d'échange précédente OU, si ces données ne sont pas disponibles ou inappropriées, une estimation prudente des émissions annuelles moyennes, avant déduction du CO2 transféré hors de l'installation, mais à l'exclusion du CO2 dont le facteur d'émission est considéré comme égal à zéro (biomasse, RFNBO/RCF, SLCF).","Please enter here the average annual emissions of your installation. This information is required for categorisation of the installation in accordance with Article 19 of the MRR. Use the average verified annual emissions of the previous trading period data OR if this data is not available, or is inappropriate, a conservative estimate of annual average emissions, all before substraction of any CO2 transferred out of the installation, but excluding CO2 from zero-rated carbon (biomass, RFNBO/RCF, SLCF).","C_InstallationDescription'!$E$66"]
[1687,"Remarque : il peut arriver que l'installation n'émette aucune émission (même pas d'unité d'alimentation de secours, de chaudières pour le chauffage des bureaux, etc.), et qu'elle ne produise aucune émission de biomasse, de combustibles non chauffés (FCR), de combustibles fossiles (FSC). Dans ce cas, les émissions estimées sont nulles et seules la section et la feuille « K_Management » du plan de surveillance doivent être complétées.","Note: there can be cases where zero emissions arise from the installation (i.e. not even from a emergency power unit, boilers for heating offices, etc. and also no emissions from biomass, RFNBO/RCF, SCLF). In such cases, the estimated emissions would be zero and only this section and sheet \"K_Management\" of this monitoring plan have to completed.","C_InstallationDescription'!$E$68"]
[1688,"Remarque : les données ci-dessus incluent le CO2 transféré, mais excluent le CO2 provenant du carbone dont le facteur d'émission est considéré comme égal à zéro (biomasse, RFNBO/RCF, SLCF).","Note: the above data shall include transferred CO2, but exclude CO2 stemming from zero-rated carbon (biomass, RFNBO/RCF, SLCF).","C_InstallationDescription'!$E$78"]
[1689,"Surveillance du \"CCU permanent\"","Monitoring of 'permanent CCU'","C_InstallationDescription'!$E$102"]
[1690,"Dans le cas de flux sortant d'un bilan massique, les émissions doivent être saisies comme des valeurs négatives. Dans le cas de carbone dont le facteur d'émission est considéré comme égal à zéro impliqué dans le bilan massique, l'article 25, paragraphe 3 s'applique.","In case of source streams going out of a mass balance, the emissions must be entered as negative values. In the case of zero-rated carbon being involved in the mass balance, Article 25(3) applies.","C_InstallationDescription'!$E$213"]
[1691,"Description de la procédure utilisée pour évaluer si la biomasse ou tout autre flux dont le facteur d'émission est considéré comme égal à zéro est conforme à l’article 38, pragraphe 5, l'article 39 bis, paragraphe 3 ou l'article 39 bis paragraphe 4, le cas échéant.","Description of the procedure used to assess if biomass or any other zero-rated source streams comply with Article 38(5), 39a(3) or 39a(4), if applicable.","D_CalculationBasedApproaches'!$E$244"]
[1692,"Cette procédure ne concerne que la biomasse, les RFNBO (carburants renouvelables d'origine non biologique), les RCF (carburants à base de carbone recyclé) et les SLCF (carburants synthétiques à faible teneur en carbone) qui sont soumis aux critères de durabilité et de réduction des émissions de GES applicables dans la directive sur les énergies renouvelables (2018/2001).","This procedure is only relevant for biomass, RFNBOs (renewable fuels of non-biological origin), RCFs (recycled carbon fuels) and SLCF (synthetic low carbon fuels) which are subject to the applicable sustainability and GHG savings criteria in the Renewable Energy Directive (2018/2001).","D_CalculationBasedApproaches'!$E$245"]
[1693,"Description de la procédure utilisée pour déterminer les quantités de biogaz dont le facteur d'émission est considéré comme égal à zéro sur la base des données d'achat conformément à l'article 39, paragraphe 4, ou les quantités RFNBO ou RCF dont le facteur d'émission est considéré comme égal à zéro conformément à l'article 39 bis, paragraphe 5, le cas échéant.","Description of the procedure used to determine biogas quantities based on purchase records in accordance with Article 39(4), or zero-rated RFNBO or RCF quantities in accordance with Article 39a(5), if applicable.","D_CalculationBasedApproaches'!$E$258"]
[1694,"Cette procédure n'est pertinente que lorsque l'opérateur souhaite revendiquer l'utilisation de biogaz ou de RFNBO/RCF reçus d'un réseau de gaz (naturel).","This procedure is only relevant where the operator wants to claim the use of biogas or RFNBOs/RCFs received from a (natural) gas grid.","D_CalculationBasedApproaches'!$E$259"]
[1695,"Description de la procédure utilisée pour déterminer les informations relatives à chaque achat, comme l'exigent l'article 75 tervicies, paragraphe 2 et l'annexe X bis.","Description of the procedure used to determine the information for each purchase as required by Article 75v(2) and Annex Xa.","D_CalculationBasedApproaches'!$E$272"]
[1696,"Cette procédure doit décrire comment suivre chaque achat de carburant auprès de chaque fournisseur de carburant, les quantités consommées annuellement pour les activités couvertes par l'annexe I de la directive, les quantités prélevées/mises en stock et les quantités exportées.","This procedure should describe how to keep track of each purchase of fuel from each fuel supplier, the amounts annually consumed for activities covered by Annex I of the Directive, amounts taken from / put on stock and amounts exported.","D_CalculationBasedApproaches'!$E$273"]
[1697,"Le cas échéant, une description de la procédure utilisée pour déterminer si les émissions de procédé d'une matière peuvent être considérées comme nulles, lorsque le CO2 correspondant a été déclaré par l'installation produisant cette matière.","If appplicable, a description of the procedure used to determine whether process emissions from a material can be rated as zero, where corresponding CO2 has been reported by the installation producing the material.","D_CalculationBasedApproaches'!$E$286"]
[1698,"Lorsque cela est pertinent (par exemple, le carbonate de sodium utilisé dans les industries du verre, l'urée utilisée pour DeNOx), cette procédure doit décrire comment vous garantissez que cette matière répond aux conditions énumérées au dernier alinéa de l'annexe II, section 4.","Where this is relevant (e.g. soda ash used in glass industries, urea used for DeNOx), this procedure should describe how you ensure such materials meet the conditions listed in the last sub-paragraph of Annex II, section 4.","D_CalculationBasedApproaches'!$E$287"]
[1699,"Application des articles 39, paragraphes 3 et 4 et 39 bis, paragraphe 5, dans le cas des réseaux de gaz naturel dans lesquels du biogaz ou du RFNBO/RCF est injecté, c'est-à-dire lorsque l'autorité compétente autorise la détermination de la fraction à taux zéro à l'aide des registres d'achat de contenu énergétique équivalent.","Application of Articles 39(3), 39(4) and 39a(5) in case of natural gas grids, into which biogas or RFNBO/RCF is injected, i.e. where the competent authority allows the zero-rated fraction to be determined using purchase records of equivalent energy content.","E_SourceStreams'!$G$126"]
[1700,"La fraction de biomasse est déterminée sur la base d'une méthode d'estimation conformément au deuxième alinéa de l'article 39, paragraphe 2, soumise à l'autorité compétente pour approbation, en tenant compte de toute ligne directrice relative à d'autres méthodes d'estimation applicables publiées par la Commission (voir le document d'orientation 3).","The biomass fraction is determined based on an estimation method in accordance with the second subparagraph of Article 39(2), submitted to the competent authority for approval, taking into account any guidelines on further applicable estimation methods published by the Commission (see Guidance Document 3).","E_SourceStreams'!$F$127"]
[1701,"Analyse de la fraction issue de la biomasse (niveau 3a) :","Analyse biomass fraction (tier 3a):","E_SourceStreams'!$E$128"]
[1702,"Bilan massique de la fraction issue de la biomasse (niveau 3b) :","Mass balance biomass fraction (tier 3b):","E_SourceStreams'!$E$129"]
[1703,"Biomasse : Pour les combustibles provenant d'un processus de production avec des flux d'entrée définis et traçables, l'exploitant peut fonder l'estimation sur un bilan matière du carbone fossile et de la biomasse entrant et sortant du processus, tel que le système de bilan massique conformément à l'article 30, paragraphe 1 de la directive (UE) 2018/2001.","Biomass: For fuels originating from a production process with defined and traceable input streams, the operator may base the estimation on a material balance of fossil and biomass carbon entering and leaving the process, such as the mass balance system in accordance with Article 30(1) of Directive (EU) 2018/2001.","E_SourceStreams'!$F$129"]
[1704,"Le cas échéant, veuillez également décrire la méthodologie pour la détermination des émissions provenant de la biomasse ou d'un carburant dont le facteur d'émission est considéré comme égal à zéro (article 43 paragraphes 4 à 4 quater) pour être soustraites des émissions totales.","If applicable, please describe also the methodology by which emissions are zero-rated (Article 43(4) to (4c)) for subtraction from the total emissions.","F_MeasurementBasedApproaches'!$E$19"]
[1705,"Détermination du CO2 issu de la biomasse ou de toute autre fraction dont le facteur d'émission est considéré comme égal à zéro, le cas échéant","Determination of CO2 stemming from biomass or from any other zero-rated fraction, if applicable","F_MeasurementBasedApproaches'!$F$201; 'F_MeasurementBasedApproaches'!$F$261; 'F_MeasurementBasedApproaches'!$F$319; 'F_MeasurementBasedApproaches'!$F$377; 'F_MeasurementBasedApproaches'!$F$435"]
[1706,"En outre, cette fiche est pertinente pour les informations à fournir lorsque des activités de captage, de transport ou de stockage géologique du CO2, telles que couvertes par l'annexe I de la directive SEQE-UE, sont réalisées.","Furthermore this sheet is relevant for information to be provided where activities of CO2 capture, transport or geological storage of CO2 as covered by Annex I of the EU ETS Directive are carried out.","J_Transferred GHG'!$D$13"]
[1707,"En fonction de l'approche de surveillance choisie, les informations concernant les flux doivent être fournies dans la feuille E_SourceStreams et toutes les informations concernant les points de mesure et les instruments de mesure doivent être fournies dans la feuille F_MeasurementBasedApproaches.","Subject to the monitoring approach chosen, information regarding any source streams are to be provided in sheet E_SourceStreams and any information regarding the measurement points and measuring instruments are to be provided in sheet F_MeasurementBasedApproaches.","J_Transferred GHG'!$D$14"]
[1708,"Lorsqu'une partie du CO2 transféré est générée à partir de carbone dont le facteur d'émission est considéré comme égal à zéro (par exemple, la biomasse), ou lorsqu'une installation n'est que partiellement couverte par la directive SEQE-UE, veuillez fournir des détails sur la procédure écrite utilisée pour déduire la quantité de CO2 transférée qui ne provient pas d'activités de carbone fossile couvertes par la directive SEQE-UE.","Where part of the transferred CO2 is generated from any zero-rated carbon (e.g. biomass), or where an installation is only partially covered by the EU ETS Directive, please provide details of the written procedure used for deducting the amount of transferred CO2 which does not originate from fossil carbon activities covered by the EU ETS Directive.","J_Transferred GHG'!$E$66"]
[1709,"Informations pertinentes pour les infrastructures de transport de CO2 utilisées pour le transport de CO2 et de N2O","Information relevant for CO2 transport infrastructure used for transport of CO2 and N2O","J_Transferred GHG'!$D$80"]
[1710,"L'infrastructure de transport du CO2 comprend tous les modes de transport du CO2 (pipelines, navires, camions, trains, etc.) à des fins de stockage géologique. Veuillez donc décrire en détail, à la section C.5.a, la structure organisationnelle, le nombre et le type de véhicules concernés, les limites du système, y compris toutes les installations auxiliaires fonctionnellement connectées à l'infrastructure de transport, telles que le stockage intermédiaire du CO2, les boosters, la liquéfaction, la gazéification, les stations d'épuration ou les réchauffeurs, etc.","The CO2 transport infrastructure comprises all modes of CO2 transport (pipelines, ships, trucks, train, etc.) for the purpose of geological storage. Please therefore describe in detail in section C.5.a on the organisational structure, the number and type of vehicles involved, the system boundaries, including all ancillary facilities functionally connected to the transport infrastructure, such as CO2 intermediate storage, booster, liquefaction, gasification, purification stations or heaters, etc.","J_Transferred GHG'!$D$82"]
[1711,"Veuillez indiquer l'approche de surveillance choisie pour votre infrastructure de transport :","Please indicate the monitoring approach selected for your transport infrastructure:","J_Transferred GHG'!$E$84"]
[1712,"Conformément à la section 22, paragraphe B de l'annexe IV du MRR, vous pouvez choisir l'une des deux méthodes pour le CO2 transporté. La méthode A consiste à établir un bilan massique de l'ensemble du CO2 et du N2O émis, entrant et sortant de l'infrastructure de transport, tandis que la méthode B repose sur la détermination des émissions fugitives et ventilées, ainsi que des fuites, de chaque source d'émission.","In accordance with section 22.B of Annex IV of the MRR, you may choose either of two methods for the CO2 transported. Method A involves a mass balance of all CO2 and N2O emitted, entering and leaving the transport infrastructure, while Method B is based on determining fugitive and vented emissions, as well as leakages, from all individual emission sources.","J_Transferred GHG'!$E$85"]
[1713,"La préférence est donnée à la méthode B, à moins que vous puissiez démontrer que la méthode A conduira à des résultats plus fiables avec une incertitude plus faible, sans entraîner de coûts déraisonnables.","Preference is given to Method B, unless you can demonstrate that Method A will lead to more reliable results with lower uncertainty, without incurring unreasonable costs.","J_Transferred GHG'!$E$86"]
[1714,"Si vous avez choisi la méthode B, vous devez fournir des preuves démontrant la conformité avec une incertitude globale ne dépassant pas 7,5 % pour les émissions de l'ensemble de l'infrastructure de transport. Si vous avez choisi la méthode A, vous devez justifier les raisons mentionnées au point a) ci-dessus. Veuillez indiquer ici une référence au document ci-joint, le cas échéant.","If you have chosen Method B, you must provide evidence to demonstrate compliance with an overall uncertainty of not more than 7.5% for the emissions of the whole transport infrastructure. If you have chosen Method A, you have to demonstrate the reasons as mentioned under a) above. Please give here a reference to the attached document as appropriate.","J_Transferred GHG'!$E$89"]
[1715,"Le cas échéant, veuillez décrire l’équipement utilisé pour la mesure de la température et de la pression dans l’infrastructure de transport.","Where applicable, please describe the equipment used for temperature and pressure measurement in the transport infrastructure.","J_Transferred GHG'!$E$91"]
[1716,"Veuillez énumérer tous les équipements utilisés pour mesurer la température et la pression dans l’infrastructure de transport afin de déterminer les émissions dues aux fuites, conformément à la section 22 de l’annexe IV du MRR.","Please list all equipment used for measurement of temperature and pressure in the transport infrastructure in the determination of emissions from leakage events in accordance with section 22 of Annex IV of the MRR.","J_Transferred GHG'!$E$92"]
[1717,"Le cas échéant, veuillez fournir des détails sur la procédure écrite de prévention, de détection et de quantification des fuites de l’infrastructure de transport.","Where applicable, please provide details of the written procedure for preventing, detecting and quantification of leakage events from the transport infrastructure.","J_Transferred GHG'!$E$114"]
[1718,"Pour les infrastructures de transport, veuillez fournir des détails sur la procédure écrite visant à garantir que le CO2(e) est transféré uniquement vers des installations disposant d'un permis d'émission de gaz à effet de serre valide, ou dans lesquelles tout CO2 ou N2O émis est efficacement surveillé et comptabilisé conformément aux articles 49 et 50 du MRR.","For transport infrastructures, please provide details of the written procedure for ensuring that CO2(e) is transferred only to installations which have a valid greenhouse gas emission permit, or where any emitted CO2 or N2O is effectively monitored and accounted for in accordance with Articles 49 and 50.","J_Transferred GHG'!$E$127"]
[1719,"Si la méthode B est appliquée aux infrastructures de transport, veuillez fournir ici la description de la procédure utilisée pour valider le résultat de la méthode B avec la méthode A au moins une fois par an :","If Method B is applied for transport infrastructure, please provide here the description of the procedure used for validating the result of method B with method A at least annually:","J_Transferred GHG'!$E$140"]
[1720,"Si la méthode A est appliquée, veuillez fournir ici une description de la procédure utilisée pour établir l’inventaire du CO2 entrant et sortant annuellement de l’infrastructure de transport de CO2 et pour surveiller tout CO2 en transit, conformément à l’article 49 paragraphe 6.","If method A is applied, provide here a description of the procedure used for compiling inventory of CO2 annually entering and leaving the CO2 transport infrastructure and for monitoring any CO2 in transit, in accordance with Article 49(6).","J_Transferred GHG'!$E$179"]
[1721,"J2. CCU permanent","J2. Permanent CCU","J2_PermCCU'!$B$2"]
[1722,"J2. CO2 lié chimiquement de manière permanente à un produit","J2. CO2 permanently chemically bound in a product","J2_PermCCU'!$C$6"]
[1723,"Détermination des quantités de CO2 liées chimiquement de manière permanente à un produit","Determination of amounts of CO2 permanently chemically bound","J2_PermCCU'!$D$10"]
[1724,"Remarque : cette section doit être complétée lorsque le CO2 est capté et utilisé (CCU) dans un produit où le CO2 est lié chimiquement de manière permanente, conformément à l'article 49 bis du MRR. Le CO2 lié à tout produit ne répondant pas aux spécifications énoncées à l'article 49 bis n'est pas couvert ici.","Note: this section is to be completed where CO2 is captured and used (CCU) in a product where the CO2 is permanently chemically bound, in accordance with Article 49a. CO2 bound in any products not meeting the specifications set out in Article 49a is not covered here.","J2_PermCCU'!$D$12"]
[1725," Veuillez fournir une description détaillée du processus par lequel le CO2 est lié chimiquement de manière permanente à un produit.","Please provide a detailed description of the process in which the CO2 is permanently chemically bound. ","J2_PermCCU'!$E$14"]
[1726,"Veuillez fournir une description concise de l’approche de surveillance, y compris les formules, utilisée pour déterminer la quantité annuelle de CO2 chimiquement lié de manière permanente à un produit.","Please provide a concise description of the monitoring approach, including formulae, used to determine the annual amount of CO2 being permanently chemically bound in a product.","J2_PermCCU'!$E$15"]
[1727,"Cela doit notamment couvrir le procédé de liaison chimique du CO₂, les limites du système, le lieu d'implantation (sur site ou dans une autre installation ou entité), ainsi que les matières entrantes et sortantes concernées et leur composition chimique, notamment leur teneur en carbone. Veuillez vous assurer que ce calcul est conforme à l'article 49 bis du MRR.","This should cover in particular the process in which the CO2 is chemically bound, the system boundaries of the process, the location (either onsite or in another installation or entity), and the relevant input and output material and their chemical composition, in particular the carbon contents. Please make sure that this calculation is in line with Article 49a of the MRR.","J2_PermCCU'!$E$16"]
[1728,"Veuillez fournir ici une description de la procédure utilisée pour déterminer si un produit auquel du CO2 est lié chimiquement de manière permanente conformément à l'article 49 bis, paragraphe 1, du présent règlement, satisfait ou non aux exigences énoncées dans le règlement délégué conformément à l'article 12, paragraphe 3 ter, de la directive 2003/87/CE et aux types d'utilisations de ces produits.","Provide here a description of the procedure used to determine whether or not a product in which the CO2 is permanently chemically bound in accordance with Article 49a(1) of this Regulation, meets the requirements set out in the delegated Regulation pursuant to Article 12(3b) of Directive 2003/87/EC and the types of uses of those products.","J2_PermCCU'!$E$41"]
[1729," Fournir ici une description de la procédure utilisée pour la méthodologie de calcul permettant de déterminer les quantités de CO2 liées chimiquement de manière permanente à un produit conformément à l'article 49 bis, paragraphe 2.","Provide here a description of the procedure used for the calculation methodology for determining the CO2 amounts permanently chemically bound in accordance with Article 49a(2). ","J2_PermCCU'!$E$54"]
[1730," Le délai de remise des rapports d'amélioration est de deux ans pour les installations de catégorie C, de trois ans pour les installations de catégorie B et de cinq ans pour les installations de catégorie A.","The deadline for the improvement reports is every two years for category C, every three years for category B and five years for category A installations. ","K_ManagementControl'!$E$77"]

{"sheet":"VersionDocumentation","index":20,"n_rows":91,"n_cols":3,"rows_kept":91,"cut":false,"hidden":true,"merged":[]}
["Info for automatic Version detection"]
["Template type:","Phase 4 Installation Monitoring Plan"]
["Version:","2024-12-17",{"$f":"IF(ISNUMBER(MATCH(B3,A18:A29,0)),VLOOKUP(B3,A18:B29,2,FALSE),\"---\")","v":"MP P4 Inst_COM_en_171224.xls"}]
["Issued by:","European Commission"]
["Language:","English"]
[]
["Type list:"]
["Monitoring plan tonne-kilometre data",null,"MP TKM"]
["Monitoring plan annual emissions",null,"MP AEm"]
["Report tonne-kilometre data",null,"Report TKM"]
["Report annual emissions",null,"Report AEm"]
["Phase 3 Installation Monitoring Plan",null,"MP P3 Inst"]
["Phase 4 Installation Monitoring Plan",null,"MP P4 Inst"]
["Phase 4 Monitoring Plan Aircraft operators",null,"MP P3 Aircraft"]
["Phase 4 Monitoring Plan Aircraft t-km",null,"MP P3 TKM"]
[]
["Version list","Reference File Name","Version comments"]
["2020-08-06",{"$f":"IF(ISBLANK($A18),\"---\", VLOOKUP($B$2,$A$8:$C$15,3,0) & \"_\" & VLOOKUP($B$4,$A$32:$B$64,2,0)&\"_\"&VLOOKUP($B$5,$A$67:$B$91,2,0)&\"_\"& TEXT(DAY($A18),\"0#\")& TEXT(MONTH($A18),\"0#\")& TEXT(YEAR($A18)-2000,\"0#\")&\".xls\")","v":"MP P4 Inst_COM_en_060820.xls"},"First draft Amendments UBA based on 3rd phase template"]
["2020-11-02","MP P4 Inst_COM_en_021120.xls","2nd draft to CCC"]
["2020-11-03","MP P4 Inst_COM_en_031120.xls","updated for translations"]
["2020-12-04",{"$f":"IF(ISBLANK($A21),\"---\", VLOOKUP($B$2,$A$8:$C$15,3,0) & \"_\" & VLOOKUP($B$4,$A$32:$B$64,2,0)&\"_\"&VLOOKUP($B$5,$A$67:$B$91,2,0)&\"_\"& TEXT(DAY($A21),\"0#\")& TEXT(MONTH($A21),\"0#\")& TEXT(YEAR($A21)-2000,\"0#\")&\".xls\")","v":"MP P4 Inst_COM_en_041220.xls"},"endorsed by CCC"]
["2023-02-08","MP P4 Inst_COM_en_080223.xls","Cement EF tier fix"]
["2023-11-30","MP P4 Inst_COM_en_301123.xls","update for inclusion of muncipal waste incinerators (new Annex I activity and source stream name \"waste\")"]
["2024-12-17","MP P4 Inst_COM_en_171224.xls","update for MRR as amended incl. 2024"]
[null,"---"]
[null,"---"]
[null,"---"]
[null,"---"]
[null,"---"]
[]
["Issued by:"]
["European Commission","COM"]
["Umweltbundesamt","UBA"]
["Austria","AT"]
["Belgium","BE"]
["Bulgaria","BG"]
["Croatia","HR"]
["Cyprus","CY"]
["Czech Republic","CZ"]
["Denmark","DK"]
["Estonia","EE"]
["Finland","FI"]
["France","FR"]
["Germany","DE"]
["Greece","EL"]
["Hungary","HU"]
["Iceland","IC"]
["Ireland","IE"]
["Italy","IT"]
["Latvia","LV"]
["Liechtenstein","LI"]
["Lithuania","LT"]
["Luxembourg","LU"]
["Malta","MT"]
["Netherlands","NL"]
["Norway","NO"]
["Poland","PL"]
["Portugal","PT"]
["Romania","RO"]
["Slovakia","SK"]
["Slovenia","SI"]
["Spain","ES"]
["Sweden","SE"]
["United Kingdom","UK"]
[]
["Languages list"]
["Bulgarian","bg"]
["Spanish","es"]
["Croatian","hr"]
["Czech","cs"]
["Danish","da"]
["German","de"]
["Estonian","et"]
["Greek","el"]
["English","en"]
["French","fr"]
["Icelandic","ic"]
["Italian","it"]
["Latvian","lv"]
["Lithuanian","lt"]
["Hungarian","hu"]
["Maltese","mt"]
["Norwegian","no"]
["Dutch","nl"]
["Polish","pl"]
["Portuguese","pt"]
["Romanian","ro"]
["Slovak","sk"]
["Slovenian","sl"]
["Finnish","fi"]
["Swedish","sv"]

{"sheet":"empty","index":21,"n_rows":0,"n_cols":0,"rows_kept":0,"cut":false,"hidden":true,"merged":[]}